Workbook
Name IQ_CH: 110000
Name IQ_CQ: 5000
Name IQ_CY: 10000
Name IQ_DAILY: 500000
Name IQ_FH: 100000
Name IQ_FQ: 500
Name IQ_FY: 1000
Name IQ_LTM: 2000
Name IQ_MONTH: 15000
Name IQ_NTM: 6000
Name IQ_WEEK: 50000
Name IQ_YTD: 3000

Sheet Planning à imprimer
F1: Date début | G1: 44409 | H1: Date de fin | I1: =EOMONTH(G1,0) -> 44439
H3: Mois : | I3: =PROPER(TEXT(G1,"Mmmm")) -> Août
H4: Année : | I4: =TEXT(G1,"aaaa") -> 2021
B6: Num Semaine | E6: Employé 1 | F6: Employé 2 | G6: Employé 3 | H6: Employé 4 | I6: Employé 5
A7: =G1 -> 44409 | B7: =_xlfn.ISOWEEKNUM(A7) -> 30 | C7: =CHOOSE(WEEKDAY(A7),"Dimanche","Lundi","Mardi","Mercredi","Jeudi","Vendredi","Samedi") -> Dimanche | D7: =DAY(A7) -> 1 | E7: {=(_xlfn.IFS($C7='Horaires à saisir'!$C$4,'Horaires à saisir'!$A$4, $C7='Horaires à saisir'!$C$5,'Horaires à saisir'!$A$5, $C7='Horaires à saisir'!$C$6,'Horaires à saisir'!$A$6, $C7='Horaires à saisir'!$C$7,'Horaires à saisir'!$A$7, $C7='Horaires à saisir'!$C$8,'Horaires à saisir'!$A$8, $C7='Horaires à saisir'!$C$9,'Horaires à saisir'!$A$9, $C7='Horaires à saisir'!$C$10,'Horaires à saisir'!$A$10, $B7='Horaires à saisir'!$A$11,'Horaires à saisir'!$C$11, $B7='Horaires à saisir'!$A$12,'Horaires à saisir'!$C$12, $B7='Horaires à saisir'!$A$13,'Horaires à saisir'!$C$13, $B7='Horaires à saisir'!$A$14,'Horaires à saisir'!$C$14, $B7='Horaires à saisir'!$A$15,'Horaires à saisir'!$C$15, $B7='Horaires à saisir'!$A$16,'Horaires à saisir'!$C$16))} -> 8h - 17h00 | F7: {=(_xlfn.IFS($C7='Horaires à saisir'!$D$4,'Horaires à saisir'!$A$4, $C7='Horaires à saisir'!$A$10,'Horaires à saisir'!$D$10, $B7='Horaires à saisir'!$A$11,'Horaires à saisir'!$D$11, $B7='Horaires à saisir'!$A$12,'Horaires à saisir'!$D$12, $B7='Horaires à saisir'!$A$13,'Horaires à saisir'!$D$13, $B7='Horaires à saisir'!$A$14,'Horaires à saisir'!$D$14, $B7='Horaires à saisir'!$A$15,'Horaires à saisir'!$D$15))} -> 8h - 18h30 | G7: {=(_xlfn.IFS($C7='Horaires à saisir'!$E$4,'Horaires à saisir'!$A$4, $C7='Horaires à saisir'!$A$10,'Horaires à saisir'!$E$10, $B7='Horaires à saisir'!$A$11,'Horaires à saisir'!$E$11, $B7='Horaires à saisir'!$A$12,'Horaires à saisir'!$E$12, $B7='Horaires à saisir'!$A$13,'Horaires à saisir'!$E$13, $B7='Horaires à saisir'!$A$14,'Horaires à saisir'!$E$14, $B7='Horaires à saisir'!$A$15,'Horaires à saisir'!$E$15))} -> 9h - 18h30 | H7: {=(_xlfn.IFS($C7='Horaires à saisir'!$F$4,'Horaires à saisir'!$A$4, $C7='Horaires à saisir'!$A$10,'Horaires à saisir'!$F$10, $B7='Horaires à saisir'!$A$11,'Horaires à saisir'!$F$11, $B7='Horaires à saisir'!$A$12,'Horaires à saisir'!$F$12, $B7='Horaires à saisir'!$A$13,'Horaires à saisir'!$F$13, $B7='Horaires à saisir'!$A$14,'Horaires à saisir'!$F$14, $B7='Horaires à saisir'!$A$15,'Horaires à saisir'!$F$15))} -> 9h - 17h00 | I7: {=(_xlfn.IFS($C7='Horaires à saisir'!$G$4,'Horaires à saisir'!$A$4, $C7='Horaires à saisir'!$A$10,'Horaires à saisir'!$G$10, $B7='Horaires à saisir'!$A$11,'Horaires à saisir'!$G$11, $B7='Horaires à saisir'!$A$12,'Horaires à saisir'!$G$12, $B7='Horaires à saisir'!$A$13,'Horaires à saisir'!$G$13, $B7='Horaires à saisir'!$A$14,'Horaires à saisir'!$G$14, $B7='Horaires à saisir'!$A$15,'Horaires à saisir'!$G$15))} -> ECOLE
A8: =A7+1 -> 44410 | B8: =_xlfn.ISOWEEKNUM(A8) -> 31 | C8: =CHOOSE(WEEKDAY(A8),"Dimanche","Lundi","Mardi","Mercredi","Jeudi","Vendredi","Samedi") -> Lundi | D8: =DAY(A8) -> 2 | E8: {=(_xlfn.IFS($C8='Horaires à saisir'!$C$4,'Horaires à saisir'!$A$4, $C8='Horaires à saisir'!$C$5,'Horaires à saisir'!$A$5, $C8='Horaires à saisir'!$C$6,'Horaires à saisir'!$A$6, $C8='Horaires à saisir'!$C$7,'Horaires à saisir'!$A$7, $C8='Horaires à saisir'!$C$8,'Horaires à saisir'!$A$8, $C8='Horaires à saisir'!$C$9,'Horaires à saisir'!$A$9, $C8='Horaires à saisir'!$C$10,'Horaires à saisir'!$A$10, $B8='Horaires à saisir'!$A$11,'Horaires à saisir'!$C$11, $B8='Horaires à saisir'!$A$12,'Horaires à saisir'!$C$12, $B8='Horaires à saisir'!$A$13,'Horaires à saisir'!$C$13, $B8='Horaires à saisir'!$A$14,'Horaires à saisir'!$C$14, $B8='Horaires à saisir'!$A$15,'Horaires à saisir'!$C$15, $B8='Horaires à saisir'!$A$16,'Horaires à saisir'!$C$16))} -> REPOS | F8: {=(_xlfn.IFS($C8='Horaires à saisir'!$D$4,'Horaires à saisir'!$A$4, $C8='Horaires à saisir'!$A$10,'Horaires à saisir'!$D$10, $B8='Horaires à saisir'!$A$11,'Horaires à saisir'!$D$11, $B8='Horaires à saisir'!$A$12,'Horaires à saisir'!$D$12, $B8='Horaires à saisir'!$A$13,'Horaires à saisir'!$D$13, $B8='Horaires à saisir'!$A$14,'Horaires à saisir'!$D$14, $B8='Horaires à saisir'!$A$15,'Horaires à saisir'!$D$15))} -> REPOS | G8: {=(_xlfn.IFS($C8='Horaires à saisir'!$E$4,'Horaires à saisir'!$A$4, $C8='Horaires à saisir'!$A$10,'Horaires à saisir'!$E$10, $B8='Horaires à saisir'!$A$11,'Horaires à saisir'!$E$11, $B8='Horaires à saisir'!$A$12,'Horaires à saisir'!$E$12, $B8='Horaires à saisir'!$A$13,'Horaires à saisir'!$E$13, $B8='Horaires à saisir'!$A$14,'Horaires à saisir'!$E$14, $B8='Horaires à saisir'!$A$15,'Horaires à saisir'!$E$15))} -> 8h - 17h00 | H8: {=(_xlfn.IFS($C8='Horaires à saisir'!$F$4,'Horaires à saisir'!$A$4, $C8='Horaires à saisir'!$A$10,'Horaires à saisir'!$F$10, $B8='Horaires à saisir'!$A$11,'Horaires à saisir'!$F$11, $B8='Horaires à saisir'!$A$12,'Horaires à saisir'!$F$12, $B8='Horaires à saisir'!$A$13,'Horaires à saisir'!$F$13, $B8='Horaires à saisir'!$A$14,'Horaires à saisir'!$F$14, $B8='Horaires à saisir'!$A$15,'Horaires à saisir'!$F$15))} -> ECOLE | I8: {=(_xlfn.IFS($C8='Horaires à saisir'!$G$4,'Horaires à saisir'!$A$4, $C8='Horaires à saisir'!$A$10,'Horaires à saisir'!$G$10, $B8='Horaires à saisir'!$A$11,'Horaires à saisir'!$G$11, $B8='Horaires à saisir'!$A$12,'Horaires à saisir'!$G$12, $B8='Horaires à saisir'!$A$13,'Horaires à saisir'!$G$13, $B8='Horaires à saisir'!$A$14,'Horaires à saisir'!$G$14, $B8='Horaires à saisir'!$A$15,'Horaires à saisir'!$G$15))} -> 9h - 17h00
A9: =A8+1 -> 44411 | B9: =_xlfn.ISOWEEKNUM(A9) -> 31 | C9: =CHOOSE(WEEKDAY(A9),"Dimanche","Lundi","Mardi","Mercredi","Jeudi","Vendredi","Samedi") -> Mardi | D9: =DAY(A9) -> 3 | E9: {=(_xlfn.IFS($C9='Horaires à saisir'!$C$4,'Horaires à saisir'!$A$4, $C9='Horaires à saisir'!$C$5,'Horaires à saisir'!$A$5, $C9='Horaires à saisir'!$C$6,'Horaires à saisir'!$A$6, $C9='Horaires à saisir'!$C$7,'Horaires à saisir'!$A$7, $C9='Horaires à saisir'!$C$8,'Horaires à saisir'!$A$8, $C9='Horaires à saisir'!$C$9,'Horaires à saisir'!$A$9, $C9='Horaires à saisir'!$C$10,'Horaires à saisir'!$A$10, $B9='Horaires à saisir'!$A$11,'Horaires à saisir'!$C$11, $B9='Horaires à saisir'!$A$12,'Horaires à saisir'!$C$12, $B9='Horaires à saisir'!$A$13,'Horaires à saisir'!$C$13, $B9='Horaires à saisir'!$A$14,'Horaires à saisir'!$C$14, $B9='Horaires à saisir'!$A$15,'Horaires à saisir'!$C$15, $B9='Horaires à saisir'!$A$16,'Horaires à saisir'!$C$16))} -> 9h - 18h30 | F9: {=(_xlfn.IFS($C9='Horaires à saisir'!$D$4,'Horaires à saisir'!$A$4, $C9='Horaires à saisir'!$A$10,'Horaires à saisir'!$D$10, $B9='Horaires à saisir'!$A$11,'Horaires à saisir'!$D$11, $B9='Horaires à saisir'!$A$12,'Horaires à saisir'!$D$12, $B9='Horaires à saisir'!$A$13,'Horaires à saisir'!$D$13, $B9='Horaires à saisir'!$A$14,'Horaires à saisir'!$D$14, $B9='Horaires à saisir'!$A$15,'Horaires à saisir'!$D$15))} -> 8h - 17h00 | G9: {=(_xlfn.IFS($C9='Horaires à saisir'!$E$4,'Horaires à saisir'!$A$4, $C9='Horaires à saisir'!$A$10,'Horaires à saisir'!$E$10, $B9='Horaires à saisir'!$A$11,'Horaires à saisir'!$E$11, $B9='Horaires à saisir'!$A$12,'Horaires à saisir'!$E$12, $B9='Horaires à saisir'!$A$13,'Horaires à saisir'!$E$13, $B9='Horaires à saisir'!$A$14,'Horaires à saisir'!$E$14, $B9='Horaires à saisir'!$A$15,'Horaires à saisir'!$E$15))} -> 8h - 17h00 | H9: {=(_xlfn.IFS($C9='Horaires à saisir'!$F$4,'Horaires à saisir'!$A$4, $C9='Horaires à saisir'!$A$10,'Horaires à saisir'!$F$10, $B9='Horaires à saisir'!$A$11,'Horaires à saisir'!$F$11, $B9='Horaires à saisir'!$A$12,'Horaires à saisir'!$F$12, $B9='Horaires à saisir'!$A$13,'Horaires à saisir'!$F$13, $B9='Horaires à saisir'!$A$14,'Horaires à saisir'!$F$14, $B9='Horaires à saisir'!$A$15,'Horaires à saisir'!$F$15))} -> ECOLE | I9: {=(_xlfn.IFS($C9='Horaires à saisir'!$G$4,'Horaires à saisir'!$A$4, $C9='Horaires à saisir'!$A$10,'Horaires à saisir'!$G$10, $B9='Horaires à saisir'!$A$11,'Horaires à saisir'!$G$11, $B9='Horaires à saisir'!$A$12,'Horaires à saisir'!$G$12, $B9='Horaires à saisir'!$A$13,'Horaires à saisir'!$G$13, $B9='Horaires à saisir'!$A$14,'Horaires à saisir'!$G$14, $B9='Horaires à saisir'!$A$15,'Horaires à saisir'!$G$15))} -> 9h - 17h00
A10: =A9+1 -> 44412 | B10: =_xlfn.ISOWEEKNUM(A10) -> 31 | C10: =CHOOSE(WEEKDAY(A10),"Dimanche","Lundi","Mardi","Mercredi","Jeudi","Vendredi","Samedi") -> Mercredi | D10: =DAY(A10) -> 4 | E10: {=(_xlfn.IFS($C10='Horaires à saisir'!$C$4,'Horaires à saisir'!$A$4, $C10='Horaires à saisir'!$C$5,'Horaires à saisir'!$A$5, $C10='Horaires à saisir'!$C$6,'Horaires à saisir'!$A$6, $C10='Horaires à saisir'!$C$7,'Horaires à saisir'!$A$7, $C10='Horaires à saisir'!$C$8,'Horaires à saisir'!$A$8, $C10='Horaires à saisir'!$C$9,'Horaires à saisir'!$A$9, $C10='Horaires à saisir'!$C$10,'Horaires à saisir'!$A$10, $B10='Horaires à saisir'!$A$11,'Horaires à saisir'!$C$11, $B10='Horaires à saisir'!$A$12,'Horaires à saisir'!$C$12, $B10='Horaires à saisir'!$A$13,'Horaires à saisir'!$C$13, $B10='Horaires à saisir'!$A$14,'Horaires à saisir'!$C$14, $B10='Horaires à saisir'!$A$15,'Horaires à saisir'!$C$15, $B10='Horaires à saisir'!$A$16,'Horaires à saisir'!$C$16))} -> REPOS | F10: {=(_xlfn.IFS($C10='Horaires à saisir'!$D$4,'Horaires à saisir'!$A$4, $C10='Horaires à saisir'!$A$10,'Horaires à saisir'!$D$10, $B10='Horaires à saisir'!$A$11,'Horaires à saisir'!$D$11, $B10='Horaires à saisir'!$A$12,'Horaires à saisir'!$D$12, $B10='Horaires à saisir'!$A$13,'Horaires à saisir'!$D$13, $B10='Horaires à saisir'!$A$14,'Horaires à saisir'!$D$14, $B10='Horaires à saisir'!$A$15,'Horaires à saisir'!$D$15))} -> 8h - 17h00 | G10: {=(_xlfn.IFS($C10='Horaires à saisir'!$E$4,'Horaires à saisir'!$A$4, $C10='Horaires à saisir'!$A$10,'Horaires à saisir'!$E$10, $B10='Horaires à saisir'!$A$11,'Horaires à saisir'!$E$11, $B10='Horaires à saisir'!$A$12,'Horaires à saisir'!$E$12, $B10='Horaires à saisir'!$A$13,'Horaires à saisir'!$E$13, $B10='Horaires à saisir'!$A$14,'Horaires à saisir'!$E$14, $B10='Horaires à saisir'!$A$15,'Horaires à saisir'!$E$15))} -> 8h - 17h00 | H10: {=(_xlfn.IFS($C10='Horaires à saisir'!$F$4,'Horaires à saisir'!$A$4, $C10='Horaires à saisir'!$A$10,'Horaires à saisir'!$F$10, $B10='Horaires à saisir'!$A$11,'Horaires à saisir'!$F$11, $B10='Horaires à saisir'!$A$12,'Horaires à saisir'!$F$12, $B10='Horaires à saisir'!$A$13,'Horaires à saisir'!$F$13, $B10='Horaires à saisir'!$A$14,'Horaires à saisir'!$F$14, $B10='Horaires à saisir'!$A$15,'Horaires à saisir'!$F$15))} -> ECOLE | I10: {=(_xlfn.IFS($C10='Horaires à saisir'!$G$4,'Horaires à saisir'!$A$4, $C10='Horaires à saisir'!$A$10,'Horaires à saisir'!$G$10, $B10='Horaires à saisir'!$A$11,'Horaires à saisir'!$G$11, $B10='Horaires à saisir'!$A$12,'Horaires à saisir'!$G$12, $B10='Horaires à saisir'!$A$13,'Horaires à saisir'!$G$13, $B10='Horaires à saisir'!$A$14,'Horaires à saisir'!$G$14, $B10='Horaires à saisir'!$A$15,'Horaires à saisir'!$G$15))} -> 9h - 17h00
A11: =A10+1 -> 44413 | B11: =_xlfn.ISOWEEKNUM(A11) -> 31 | C11: =CHOOSE(WEEKDAY(A11),"Dimanche","Lundi","Mardi","Mercredi","Jeudi","Vendredi","Samedi") -> Jeudi | D11: =DAY(A11) -> 5 | E11: {=(_xlfn.IFS($C11='Horaires à saisir'!$C$4,'Horaires à saisir'!$A$4, $C11='Horaires à saisir'!$C$5,'Horaires à saisir'!$A$5, $C11='Horaires à saisir'!$C$6,'Horaires à saisir'!$A$6, $C11='Horaires à saisir'!$C$7,'Horaires à saisir'!$A$7, $C11='Horaires à saisir'!$C$8,'Horaires à saisir'!$A$8, $C11='Horaires à saisir'!$C$9,'Horaires à saisir'!$A$9, $C11='Horaires à saisir'!$C$10,'Horaires à saisir'!$A$10, $B11='Horaires à saisir'!$A$11,'Horaires à saisir'!$C$11, $B11='Horaires à saisir'!$A$12,'Horaires à saisir'!$C$12, $B11='Horaires à saisir'!$A$13,'Horaires à saisir'!$C$13, $B11='Horaires à saisir'!$A$14,'Horaires à saisir'!$C$14, $B11='Horaires à saisir'!$A$15,'Horaires à saisir'!$C$15, $B11='Horaires à saisir'!$A$16,'Horaires à saisir'!$C$16))} -> REPOS | F11: {=(_xlfn.IFS($C11='Horaires à saisir'!$D$4,'Horaires à saisir'!$A$4, $C11='Horaires à saisir'!$A$10,'Horaires à saisir'!$D$10, $B11='Horaires à saisir'!$A$11,'Horaires à saisir'!$D$11, $B11='Horaires à saisir'!$A$12,'Horaires à saisir'!$D$12, $B11='Horaires à saisir'!$A$13,'Horaires à saisir'!$D$13, $B11='Horaires à saisir'!$A$14,'Horaires à saisir'!$D$14, $B11='Horaires à saisir'!$A$15,'Horaires à saisir'!$D$15))} -> 8h - 17h00 | G11: {=(_xlfn.IFS($C11='Horaires à saisir'!$E$4,'Horaires à saisir'!$A$4, $C11='Horaires à saisir'!$A$10,'Horaires à saisir'!$E$10, $B11='Horaires à saisir'!$A$11,'Horaires à saisir'!$E$11, $B11='Horaires à saisir'!$A$12,'Horaires à saisir'!$E$12, $B11='Horaires à saisir'!$A$13,'Horaires à saisir'!$E$13, $B11='Horaires à saisir'!$A$14,'Horaires à saisir'!$E$14, $B11='Horaires à saisir'!$A$15,'Horaires à saisir'!$E$15))} -> 8h - 17h00 | H11: {=(_xlfn.IFS($C11='Horaires à saisir'!$F$4,'Horaires à saisir'!$A$4, $C11='Horaires à saisir'!$A$10,'Horaires à saisir'!$F$10, $B11='Horaires à saisir'!$A$11,'Horaires à saisir'!$F$11, $B11='Horaires à saisir'!$A$12,'Horaires à saisir'!$F$12, $B11='Horaires à saisir'!$A$13,'Horaires à saisir'!$F$13, $B11='Horaires à saisir'!$A$14,'Horaires à saisir'!$F$14, $B11='Horaires à saisir'!$A$15,'Horaires à saisir'!$F$15))} -> ECOLE | I11: {=(_xlfn.IFS($C11='Horaires à saisir'!$G$4,'Horaires à saisir'!$A$4, $C11='Horaires à saisir'!$A$10,'Horaires à saisir'!$G$10, $B11='Horaires à saisir'!$A$11,'Horaires à saisir'!$G$11, $B11='Horaires à saisir'!$A$12,'Horaires à saisir'!$G$12, $B11='Horaires à saisir'!$A$13,'Horaires à saisir'!$G$13, $B11='Horaires à saisir'!$A$14,'Horaires à saisir'!$G$14, $B11='Horaires à saisir'!$A$15,'Horaires à saisir'!$G$15))} -> 9h - 17h00
A12: =A11+1 -> 44414 | B12: =_xlfn.ISOWEEKNUM(A12) -> 31 | C12: =CHOOSE(WEEKDAY(A12),"Dimanche","Lundi","Mardi","Mercredi","Jeudi","Vendredi","Samedi") -> Vendredi | D12: =DAY(A12) -> 6 | E12: {=(_xlfn.IFS($C12='Horaires à saisir'!$C$4,'Horaires à saisir'!$A$4, $C12='Horaires à saisir'!$C$5,'Horaires à saisir'!$A$5, $C12='Horaires à saisir'!$C$6,'Horaires à saisir'!$A$6, $C12='Horaires à saisir'!$C$7,'Horaires à saisir'!$A$7, $C12='Horaires à saisir'!$C$8,'Horaires à saisir'!$A$8, $C12='Horaires à saisir'!$C$9,'Horaires à saisir'!$A$9, $C12='Horaires à saisir'!$C$10,'Horaires à saisir'!$A$10, $B12='Horaires à saisir'!$A$11,'Horaires à saisir'!$C$11, $B12='Horaires à saisir'!$A$12,'Horaires à saisir'!$C$12, $B12='Horaires à saisir'!$A$13,'Horaires à saisir'!$C$13, $B12='Horaires à saisir'!$A$14,'Horaires à saisir'!$C$14, $B12='Horaires à saisir'!$A$15,'Horaires à saisir'!$C$15, $B12='Horaires à saisir'!$A$16,'Horaires à saisir'!$C$16))} -> REPOS | F12: {=(_xlfn.IFS($C12='Horaires à saisir'!$D$4,'Horaires à saisir'!$A$4, $C12='Horaires à saisir'!$A$10,'Horaires à saisir'!$D$10, $B12='Horaires à saisir'!$A$11,'Horaires à saisir'!$D$11, $B12='Horaires à saisir'!$A$12,'Horaires à saisir'!$D$12, $B12='Horaires à saisir'!$A$13,'Horaires à saisir'!$D$13, $B12='Horaires à saisir'!$A$14,'Horaires à saisir'!$D$14, $B12='Horaires à saisir'!$A$15,'Horaires à saisir'!$D$15))} -> 8h - 17h00 | G12: {=(_xlfn.IFS($C12='Horaires à saisir'!$E$4,'Horaires à saisir'!$A$4, $C12='Horaires à saisir'!$A$10,'Horaires à saisir'!$E$10, $B12='Horaires à saisir'!$A$11,'Horaires à saisir'!$E$11, $B12='Horaires à saisir'!$A$12,'Horaires à saisir'!$E$12, $B12='Horaires à saisir'!$A$13,'Horaires à saisir'!$E$13, $B12='Horaires à saisir'!$A$14,'Horaires à saisir'!$E$14, $B12='Horaires à saisir'!$A$15,'Horaires à saisir'!$E$15))} -> REPOS | H12: {=(_xlfn.IFS($C12='Horaires à saisir'!$F$4,'Horaires à saisir'!$A$4, $C12='Horaires à saisir'!$A$10,'Horaires à saisir'!$F$10, $B12='Horaires à saisir'!$A$11,'Horaires à saisir'!$F$11, $B12='Horaires à saisir'!$A$12,'Horaires à saisir'!$F$12, $B12='Horaires à saisir'!$A$13,'Horaires à saisir'!$F$13, $B12='Horaires à saisir'!$A$14,'Horaires à saisir'!$F$14, $B12='Horaires à saisir'!$A$15,'Horaires à saisir'!$F$15))} -> ECOLE | I12: {=(_xlfn.IFS($C12='Horaires à saisir'!$G$4,'Horaires à saisir'!$A$4, $C12='Horaires à saisir'!$A$10,'Horaires à saisir'!$G$10, $B12='Horaires à saisir'!$A$11,'Horaires à saisir'!$G$11, $B12='Horaires à saisir'!$A$12,'Horaires à saisir'!$G$12, $B12='Horaires à saisir'!$A$13,'Horaires à saisir'!$G$13, $B12='Horaires à saisir'!$A$14,'Horaires à saisir'!$G$14, $B12='Horaires à saisir'!$A$15,'Horaires à saisir'!$G$15))} -> 9h - 17h00
A13: =A12+1 -> 44415 | B13: =_xlfn.ISOWEEKNUM(A13) -> 31 | C13: =CHOOSE(WEEKDAY(A13),"Dimanche","Lundi","Mardi","Mercredi","Jeudi","Vendredi","Samedi") -> Samedi | D13: =DAY(A13) -> 7 | E13: {=(_xlfn.IFS($C13='Horaires à saisir'!$C$4,'Horaires à saisir'!$A$4, $C13='Horaires à saisir'!$C$5,'Horaires à saisir'!$A$5, $C13='Horaires à saisir'!$C$6,'Horaires à saisir'!$A$6, $C13='Horaires à saisir'!$C$7,'Horaires à saisir'!$A$7, $C13='Horaires à saisir'!$C$8,'Horaires à saisir'!$A$8, $C13='Horaires à saisir'!$C$9,'Horaires à saisir'!$A$9, $C13='Horaires à saisir'!$C$10,'Horaires à saisir'!$A$10, $B13='Horaires à saisir'!$A$11,'Horaires à saisir'!$C$11, $B13='Horaires à saisir'!$A$12,'Horaires à saisir'!$C$12, $B13='Horaires à saisir'!$A$13,'Horaires à saisir'!$C$13, $B13='Horaires à saisir'!$A$14,'Horaires à saisir'!$C$14, $B13='Horaires à saisir'!$A$15,'Horaires à saisir'!$C$15, $B13='Horaires à saisir'!$A$16,'Horaires à saisir'!$C$16))} -> REPOS | F13: {=(_xlfn.IFS($C13='Horaires à saisir'!$D$4,'Horaires à saisir'!$A$4, $C13='Horaires à saisir'!$A$10,'Horaires à saisir'!$D$10, $B13='Horaires à saisir'!$A$11,'Horaires à saisir'!$D$11, $B13='Horaires à saisir'!$A$12,'Horaires à saisir'!$D$12, $B13='Horaires à saisir'!$A$13,'Horaires à saisir'!$D$13, $B13='Horaires à saisir'!$A$14,'Horaires à saisir'!$D$14, $B13='Horaires à saisir'!$A$15,'Horaires à saisir'!$D$15))} -> 8h - 17h00 | G13: {=(_xlfn.IFS($C13='Horaires à saisir'!$E$4,'Horaires à saisir'!$A$4, $C13='Horaires à saisir'!$A$10,'Horaires à saisir'!$E$10, $B13='Horaires à saisir'!$A$11,'Horaires à saisir'!$E$11, $B13='Horaires à saisir'!$A$12,'Horaires à saisir'!$E$12, $B13='Horaires à saisir'!$A$13,'Horaires à saisir'!$E$13, $B13='Horaires à saisir'!$A$14,'Horaires à saisir'!$E$14, $B13='Horaires à saisir'!$A$15,'Horaires à saisir'!$E$15))} -> 8h - 17h00 | H13: {=(_xlfn.IFS($C13='Horaires à saisir'!$F$4,'Horaires à saisir'!$A$4, $C13='Horaires à saisir'!$A$10,'Horaires à saisir'!$F$10, $B13='Horaires à saisir'!$A$11,'Horaires à saisir'!$F$11, $B13='Horaires à saisir'!$A$12,'Horaires à saisir'!$F$12, $B13='Horaires à saisir'!$A$13,'Horaires à saisir'!$F$13, $B13='Horaires à saisir'!$A$14,'Horaires à saisir'!$F$14, $B13='Horaires à saisir'!$A$15,'Horaires à saisir'!$F$15))} -> REPOS | I13: {=(_xlfn.IFS($C13='Horaires à saisir'!$G$4,'Horaires à saisir'!$A$4, $C13='Horaires à saisir'!$A$10,'Horaires à saisir'!$G$10, $B13='Horaires à saisir'!$A$11,'Horaires à saisir'!$G$11, $B13='Horaires à saisir'!$A$12,'Horaires à saisir'!$G$12, $B13='Horaires à saisir'!$A$13,'Horaires à saisir'!$G$13, $B13='Horaires à saisir'!$A$14,'Horaires à saisir'!$G$14, $B13='Horaires à saisir'!$A$15,'Horaires à saisir'!$G$15))} -> REPOS
A14: =A13+1 -> 44416 | B14: =_xlfn.ISOWEEKNUM(A14) -> 31 | C14: =CHOOSE(WEEKDAY(A14),"Dimanche","Lundi","Mardi","Mercredi","Jeudi","Vendredi","Samedi") -> Dimanche | D14: =DAY(A14) -> 8 | E14: {=(_xlfn.IFS($C14='Horaires à saisir'!$C$4,'Horaires à saisir'!$A$4, $C14='Horaires à saisir'!$C$5,'Horaires à saisir'!$A$5, $C14='Horaires à saisir'!$C$6,'Horaires à saisir'!$A$6, $C14='Horaires à saisir'!$C$7,'Horaires à saisir'!$A$7, $C14='Horaires à saisir'!$C$8,'Horaires à saisir'!$A$8, $C14='Horaires à saisir'!$C$9,'Horaires à saisir'!$A$9, $C14='Horaires à saisir'!$C$10,'Horaires à saisir'!$A$10, $B14='Horaires à saisir'!$A$11,'Horaires à saisir'!$C$11, $B14='Horaires à saisir'!$A$12,'Horaires à saisir'!$C$12, $B14='Horaires à saisir'!$A$13,'Horaires à saisir'!$C$13, $B14='Horaires à saisir'!$A$14,'Horaires à saisir'!$C$14, $B14='Horaires à saisir'!$A$15,'Horaires à saisir'!$C$15, $B14='Horaires à saisir'!$A$16,'Horaires à saisir'!$C$16))} -> 9h - 18h30 | F14: {=(_xlfn.IFS($C14='Horaires à saisir'!$D$4,'Horaires à saisir'!$A$4, $C14='Horaires à saisir'!$A$10,'Horaires à saisir'!$D$10, $B14='Horaires à saisir'!$A$11,'Horaires à saisir'!$D$11, $B14='Horaires à saisir'!$A$12,'Horaires à saisir'!$D$12, $B14='Horaires à saisir'!$A$13,'Horaires à saisir'!$D$13, $B14='Horaires à saisir'!$A$14,'Horaires à saisir'!$D$14, $B14='Horaires à saisir'!$A$15,'Horaires à saisir'!$D$15))} -> 8h - 17h00 | G14: {=(_xlfn.IFS($C14='Horaires à saisir'!$E$4,'Horaires à saisir'!$A$4, $C14='Horaires à saisir'!$A$10,'Horaires à saisir'!$E$10, $B14='Horaires à saisir'!$A$11,'Horaires à saisir'!$E$11, $B14='Horaires à saisir'!$A$12,'Horaires à saisir'!$E$12, $B14='Horaires à saisir'!$A$13,'Horaires à saisir'!$E$13, $B14='Horaires à saisir'!$A$14,'Horaires à saisir'!$E$14, $B14='Horaires à saisir'!$A$15,'Horaires à saisir'!$E$15))} -> 8h - 17h00 | H14: {=(_xlfn.IFS($C14='Horaires à saisir'!$F$4,'Horaires à saisir'!$A$4, $C14='Horaires à saisir'!$A$10,'Horaires à saisir'!$F$10, $B14='Horaires à saisir'!$A$11,'Horaires à saisir'!$F$11, $B14='Horaires à saisir'!$A$12,'Horaires à saisir'!$F$12, $B14='Horaires à saisir'!$A$13,'Horaires à saisir'!$F$13, $B14='Horaires à saisir'!$A$14,'Horaires à saisir'!$F$14, $B14='Horaires à saisir'!$A$15,'Horaires à saisir'!$F$15))} -> ECOLE | I14: {=(_xlfn.IFS($C14='Horaires à saisir'!$G$4,'Horaires à saisir'!$A$4, $C14='Horaires à saisir'!$A$10,'Horaires à saisir'!$G$10, $B14='Horaires à saisir'!$A$11,'Horaires à saisir'!$G$11, $B14='Horaires à saisir'!$A$12,'Horaires à saisir'!$G$12, $B14='Horaires à saisir'!$A$13,'Horaires à saisir'!$G$13, $B14='Horaires à saisir'!$A$14,'Horaires à saisir'!$G$14, $B14='Horaires à saisir'!$A$15,'Horaires à saisir'!$G$15))} -> 9h - 17h00
A15: =A14+1 -> 44417 | B15: =_xlfn.ISOWEEKNUM(A15) -> 32 | C15: =CHOOSE(WEEKDAY(A15),"Dimanche","Lundi","Mardi","Mercredi","Jeudi","Vendredi","Samedi") -> Lundi | D15: =DAY(A15) -> 9 | E15: {=(_xlfn.IFS($C15='Horaires à saisir'!$C$4,'Horaires à saisir'!$A$4, $C15='Horaires à saisir'!$C$5,'Horaires à saisir'!$A$5, $C15='Horaires à saisir'!$C$6,'Horaires à saisir'!$A$6, $C15='Horaires à saisir'!$C$7,'Horaires à saisir'!$A$7, $C15='Horaires à saisir'!$C$8,'Horaires à saisir'!$A$8, $C15='Horaires à saisir'!$C$9,'Horaires à saisir'!$A$9, $C15='Horaires à saisir'!$C$10,'Horaires à saisir'!$A$10, $B15='Horaires à saisir'!$A$11,'Horaires à saisir'!$C$11, $B15='Horaires à saisir'!$A$12,'Horaires à saisir'!$C$12, $B15='Horaires à saisir'!$A$13,'Horaires à saisir'!$C$13, $B15='Horaires à saisir'!$A$14,'Horaires à saisir'!$C$14, $B15='Horaires à saisir'!$A$15,'Horaires à saisir'!$C$15, $B15='Horaires à saisir'!$A$16,'Horaires à saisir'!$C$16))} -> REPOS | F15: {=(_xlfn.IFS($C15='Horaires à saisir'!$D$4,'Horaires à saisir'!$A$4, $C15='Horaires à saisir'!$A$10,'Horaires à saisir'!$D$10, $B15='Horaires à saisir'!$A$11,'Horaires à saisir'!$D$11, $B15='Horaires à saisir'!$A$12,'Horaires à saisir'!$D$12, $B15='Horaires à saisir'!$A$13,'Horaires à saisir'!$D$13, $B15='Horaires à saisir'!$A$14,'Horaires à saisir'!$D$14, $B15='Horaires à saisir'!$A$15,'Horaires à saisir'!$D$15))} -> REPOS | G15: {=(_xlfn.IFS($C15='Horaires à saisir'!$E$4,'Horaires à saisir'!$A$4, $C15='Horaires à saisir'!$A$10,'Horaires à saisir'!$E$10, $B15='Horaires à saisir'!$A$11,'Horaires à saisir'!$E$11, $B15='Horaires à saisir'!$A$12,'Horaires à saisir'!$E$12, $B15='Horaires à saisir'!$A$13,'Horaires à saisir'!$E$13, $B15='Horaires à saisir'!$A$14,'Horaires à saisir'!$E$14, $B15='Horaires à saisir'!$A$15,'Horaires à saisir'!$E$15))} -> 9h - 18h30 | H15: {=(_xlfn.IFS($C15='Horaires à saisir'!$F$4,'Horaires à saisir'!$A$4, $C15='Horaires à saisir'!$A$10,'Horaires à saisir'!$F$10, $B15='Horaires à saisir'!$A$11,'Horaires à saisir'!$F$11, $B15='Horaires à saisir'!$A$12,'Horaires à saisir'!$F$12, $B15='Horaires à saisir'!$A$13,'Horaires à saisir'!$F$13, $B15='Horaires à saisir'!$A$14,'Horaires à saisir'!$F$14, $B15='Horaires à saisir'!$A$15,'Horaires à saisir'!$F$15))} -> 9h - 17h00 | I15: {=(_xlfn.IFS($C15='Horaires à saisir'!$G$4,'Horaires à saisir'!$A$4, $C15='Horaires à saisir'!$A$10,'Horaires à saisir'!$G$10, $B15='Horaires à saisir'!$A$11,'Horaires à saisir'!$G$11, $B15='Horaires à saisir'!$A$12,'Horaires à saisir'!$G$12, $B15='Horaires à saisir'!$A$13,'Horaires à saisir'!$G$13, $B15='Horaires à saisir'!$A$14,'Horaires à saisir'!$G$14, $B15='Horaires à saisir'!$A$15,'Horaires à saisir'!$G$15))} -> ECOLE
A16: =A15+1 -> 44418 | B16: =_xlfn.ISOWEEKNUM(A16) -> 32 | C16: =CHOOSE(WEEKDAY(A16),"Dimanche","Lundi","Mardi","Mercredi","Jeudi","Vendredi","Samedi") -> Mardi | D16: =DAY(A16) -> 10 | E16: {=(_xlfn.IFS($C16='Horaires à saisir'!$C$4,'Horaires à saisir'!$A$4, $C16='Horaires à saisir'!$C$5,'Horaires à saisir'!$A$5, $C16='Horaires à saisir'!$C$6,'Horaires à saisir'!$A$6, $C16='Horaires à saisir'!$C$7,'Horaires à saisir'!$A$7, $C16='Horaires à saisir'!$C$8,'Horaires à saisir'!$A$8, $C16='Horaires à saisir'!$C$9,'Horaires à saisir'!$A$9, $C16='Horaires à saisir'!$C$10,'Horaires à saisir'!$A$10, $B16='Horaires à saisir'!$A$11,'Horaires à saisir'!$C$11, $B16='Horaires à saisir'!$A$12,'Horaires à saisir'!$C$12, $B16='Horaires à saisir'!$A$13,'Horaires à saisir'!$C$13, $B16='Horaires à saisir'!$A$14,'Horaires à saisir'!$C$14, $B16='Horaires à saisir'!$A$15,'Horaires à saisir'!$C$15, $B16='Horaires à saisir'!$A$16,'Horaires à saisir'!$C$16))} -> VACANCES | F16: {=(_xlfn.IFS($C16='Horaires à saisir'!$D$4,'Horaires à saisir'!$A$4, $C16='Horaires à saisir'!$A$10,'Horaires à saisir'!$D$10, $B16='Horaires à saisir'!$A$11,'Horaires à saisir'!$D$11, $B16='Horaires à saisir'!$A$12,'Horaires à saisir'!$D$12, $B16='Horaires à saisir'!$A$13,'Horaires à saisir'!$D$13, $B16='Horaires à saisir'!$A$14,'Horaires à saisir'!$D$14, $B16='Horaires à saisir'!$A$15,'Horaires à saisir'!$D$15))} -> 8h - 18h30 | G16: {=(_xlfn.IFS($C16='Horaires à saisir'!$E$4,'Horaires à saisir'!$A$4, $C16='Horaires à saisir'!$A$10,'Horaires à saisir'!$E$10, $B16='Horaires à saisir'!$A$11,'Horaires à saisir'!$E$11, $B16='Horaires à saisir'!$A$12,'Horaires à saisir'!$E$12, $B16='Horaires à saisir'!$A$13,'Horaires à saisir'!$E$13, $B16='Horaires à saisir'!$A$14,'Horaires à saisir'!$E$14, $B16='Horaires à saisir'!$A$15,'Horaires à saisir'!$E$15))} -> 9h - 18h30 | H16: {=(_xlfn.IFS($C16='Horaires à saisir'!$F$4,'Horaires à saisir'!$A$4, $C16='Horaires à saisir'!$A$10,'Horaires à saisir'!$F$10, $B16='Horaires à saisir'!$A$11,'Horaires à saisir'!$F$11, $B16='Horaires à saisir'!$A$12,'Horaires à saisir'!$F$12, $B16='Horaires à saisir'!$A$13,'Horaires à saisir'!$F$13, $B16='Horaires à saisir'!$A$14,'Horaires à saisir'!$F$14, $B16='Horaires à saisir'!$A$15,'Horaires à saisir'!$F$15))} -> 9h - 17h00 | I16: {=(_xlfn.IFS($C16='Horaires à saisir'!$G$4,'Horaires à saisir'!$A$4, $C16='Horaires à saisir'!$A$10,'Horaires à saisir'!$G$10, $B16='Horaires à saisir'!$A$11,'Horaires à saisir'!$G$11, $B16='Horaires à saisir'!$A$12,'Horaires à saisir'!$G$12, $B16='Horaires à saisir'!$A$13,'Horaires à saisir'!$G$13, $B16='Horaires à saisir'!$A$14,'Horaires à saisir'!$G$14, $B16='Horaires à saisir'!$A$15,'Horaires à saisir'!$G$15))} -> ECOLE
A17: =A16+1 -> 44419 | B17: =_xlfn.ISOWEEKNUM(A17) -> 32 | C17: =CHOOSE(WEEKDAY(A17),"Dimanche","Lundi","Mardi","Mercredi","Jeudi","Vendredi","Samedi") -> Mercredi | D17: =DAY(A17) -> 11 | E17: {=(_xlfn.IFS($C17='Horaires à saisir'!$C$4,'Horaires à saisir'!$A$4, $C17='Horaires à saisir'!$C$5,'Horaires à saisir'!$A$5, $C17='Horaires à saisir'!$C$6,'Horaires à saisir'!$A$6, $C17='Horaires à saisir'!$C$7,'Horaires à saisir'!$A$7, $C17='Horaires à saisir'!$C$8,'Horaires à saisir'!$A$8, $C17='Horaires à saisir'!$C$9,'Horaires à saisir'!$A$9, $C17='Horaires à saisir'!$C$10,'Horaires à saisir'!$A$10, $B17='Horaires à saisir'!$A$11,'Horaires à saisir'!$C$11, $B17='Horaires à saisir'!$A$12,'Horaires à saisir'!$C$12, $B17='Horaires à saisir'!$A$13,'Horaires à saisir'!$C$13, $B17='Horaires à saisir'!$A$14,'Horaires à saisir'!$C$14, $B17='Horaires à saisir'!$A$15,'Horaires à saisir'!$C$15, $B17='Horaires à saisir'!$A$16,'Horaires à saisir'!$C$16))} -> REPOS | F17: {=(_xlfn.IFS($C17='Horaires à saisir'!$D$4,'Horaires à saisir'!$A$4, $C17='Horaires à saisir'!$A$10,'Horaires à saisir'!$D$10, $B17='Horaires à saisir'!$A$11,'Horaires à saisir'!$D$11, $B17='Horaires à saisir'!$A$12,'Horaires à saisir'!$D$12, $B17='Horaires à saisir'!$A$13,'Horaires à saisir'!$D$13, $B17='Horaires à saisir'!$A$14,'Horaires à saisir'!$D$14, $B17='Horaires à saisir'!$A$15,'Horaires à saisir'!$D$15))} -> 8h - 18h30 | G17: {=(_xlfn.IFS($C17='Horaires à saisir'!$E$4,'Horaires à saisir'!$A$4, $C17='Horaires à saisir'!$A$10,'Horaires à saisir'!$E$10, $B17='Horaires à saisir'!$A$11,'Horaires à saisir'!$E$11, $B17='Horaires à saisir'!$A$12,'Horaires à saisir'!$E$12, $B17='Horaires à saisir'!$A$13,'Horaires à saisir'!$E$13, $B17='Horaires à saisir'!$A$14,'Horaires à saisir'!$E$14, $B17='Horaires à saisir'!$A$15,'Horaires à saisir'!$E$15))} -> 9h - 18h30 | H17: {=(_xlfn.IFS($C17='Horaires à saisir'!$F$4,'Horaires à saisir'!$A$4, $C17='Horaires à saisir'!$A$10,'Horaires à saisir'!$F$10, $B17='Horaires à saisir'!$A$11,'Horaires à saisir'!$F$11, $B17='Horaires à saisir'!$A$12,'Horaires à saisir'!$F$12, $B17='Horaires à saisir'!$A$13,'Horaires à saisir'!$F$13, $B17='Horaires à saisir'!$A$14,'Horaires à saisir'!$F$14, $B17='Horaires à saisir'!$A$15,'Horaires à saisir'!$F$15))} -> 9h - 17h00 | I17: {=(_xlfn.IFS($C17='Horaires à saisir'!$G$4,'Horaires à saisir'!$A$4, $C17='Horaires à saisir'!$A$10,'Horaires à saisir'!$G$10, $B17='Horaires à saisir'!$A$11,'Horaires à saisir'!$G$11, $B17='Horaires à saisir'!$A$12,'Horaires à saisir'!$G$12, $B17='Horaires à saisir'!$A$13,'Horaires à saisir'!$G$13, $B17='Horaires à saisir'!$A$14,'Horaires à saisir'!$G$14, $B17='Horaires à saisir'!$A$15,'Horaires à saisir'!$G$15))} -> ECOLE
A18: =A17+1 -> 44420 | B18: =_xlfn.ISOWEEKNUM(A18) -> 32 | C18: =CHOOSE(WEEKDAY(A18),"Dimanche","Lundi","Mardi","Mercredi","Jeudi","Vendredi","Samedi") -> Jeudi | D18: =DAY(A18) -> 12 | E18: {=(_xlfn.IFS($C18='Horaires à saisir'!$C$4,'Horaires à saisir'!$A$4, $C18='Horaires à saisir'!$C$5,'Horaires à saisir'!$A$5, $C18='Horaires à saisir'!$C$6,'Horaires à saisir'!$A$6, $C18='Horaires à saisir'!$C$7,'Horaires à saisir'!$A$7, $C18='Horaires à saisir'!$C$8,'Horaires à saisir'!$A$8, $C18='Horaires à saisir'!$C$9,'Horaires à saisir'!$A$9, $C18='Horaires à saisir'!$C$10,'Horaires à saisir'!$A$10, $B18='Horaires à saisir'!$A$11,'Horaires à saisir'!$C$11, $B18='Horaires à saisir'!$A$12,'Horaires à saisir'!$C$12, $B18='Horaires à saisir'!$A$13,'Horaires à saisir'!$C$13, $B18='Horaires à saisir'!$A$14,'Horaires à saisir'!$C$14, $B18='Horaires à saisir'!$A$15,'Horaires à saisir'!$C$15, $B18='Horaires à saisir'!$A$16,'Horaires à saisir'!$C$16))} -> REPOS | F18: {=(_xlfn.IFS($C18='Horaires à saisir'!$D$4,'Horaires à saisir'!$A$4, $C18='Horaires à saisir'!$A$10,'Horaires à saisir'!$D$10, $B18='Horaires à saisir'!$A$11,'Horaires à saisir'!$D$11, $B18='Horaires à saisir'!$A$12,'Horaires à saisir'!$D$12, $B18='Horaires à saisir'!$A$13,'Horaires à saisir'!$D$13, $B18='Horaires à saisir'!$A$14,'Horaires à saisir'!$D$14, $B18='Horaires à saisir'!$A$15,'Horaires à saisir'!$D$15))} -> 8h - 18h30 | G18: {=(_xlfn.IFS($C18='Horaires à saisir'!$E$4,'Horaires à saisir'!$A$4, $C18='Horaires à saisir'!$A$10,'Horaires à saisir'!$E$10, $B18='Horaires à saisir'!$A$11,'Horaires à saisir'!$E$11, $B18='Horaires à saisir'!$A$12,'Horaires à saisir'!$E$12, $B18='Horaires à saisir'!$A$13,'Horaires à saisir'!$E$13, $B18='Horaires à saisir'!$A$14,'Horaires à saisir'!$E$14, $B18='Horaires à saisir'!$A$15,'Horaires à saisir'!$E$15))} -> 9h - 18h30 | H18: {=(_xlfn.IFS($C18='Horaires à saisir'!$F$4,'Horaires à saisir'!$A$4, $C18='Horaires à saisir'!$A$10,'Horaires à saisir'!$F$10, $B18='Horaires à saisir'!$A$11,'Horaires à saisir'!$F$11, $B18='Horaires à saisir'!$A$12,'Horaires à saisir'!$F$12, $B18='Horaires à saisir'!$A$13,'Horaires à saisir'!$F$13, $B18='Horaires à saisir'!$A$14,'Horaires à saisir'!$F$14, $B18='Horaires à saisir'!$A$15,'Horaires à saisir'!$F$15))} -> 9h - 17h00 | I18: {=(_xlfn.IFS($C18='Horaires à saisir'!$G$4,'Horaires à saisir'!$A$4, $C18='Horaires à saisir'!$A$10,'Horaires à saisir'!$G$10, $B18='Horaires à saisir'!$A$11,'Horaires à saisir'!$G$11, $B18='Horaires à saisir'!$A$12,'Horaires à saisir'!$G$12, $B18='Horaires à saisir'!$A$13,'Horaires à saisir'!$G$13, $B18='Horaires à saisir'!$A$14,'Horaires à saisir'!$G$14, $B18='Horaires à saisir'!$A$15,'Horaires à saisir'!$G$15))} -> ECOLE
A19: =A18+1 -> 44421 | B19: =_xlfn.ISOWEEKNUM(A19) -> 32 | C19: =CHOOSE(WEEKDAY(A19),"Dimanche","Lundi","Mardi","Mercredi","Jeudi","Vendredi","Samedi") -> Vendredi | D19: =DAY(A19) -> 13 | E19: {=(_xlfn.IFS($C19='Horaires à saisir'!$C$4,'Horaires à saisir'!$A$4, $C19='Horaires à saisir'!$C$5,'Horaires à saisir'!$A$5, $C19='Horaires à saisir'!$C$6,'Horaires à saisir'!$A$6, $C19='Horaires à saisir'!$C$7,'Horaires à saisir'!$A$7, $C19='Horaires à saisir'!$C$8,'Horaires à saisir'!$A$8, $C19='Horaires à saisir'!$C$9,'Horaires à saisir'!$A$9, $C19='Horaires à saisir'!$C$10,'Horaires à saisir'!$A$10, $B19='Horaires à saisir'!$A$11,'Horaires à saisir'!$C$11, $B19='Horaires à saisir'!$A$12,'Horaires à saisir'!$C$12, $B19='Horaires à saisir'!$A$13,'Horaires à saisir'!$C$13, $B19='Horaires à saisir'!$A$14,'Horaires à saisir'!$C$14, $B19='Horaires à saisir'!$A$15,'Horaires à saisir'!$C$15, $B19='Horaires à saisir'!$A$16,'Horaires à saisir'!$C$16))} -> REPOS | F19: {=(_xlfn.IFS($C19='Horaires à saisir'!$D$4,'Horaires à saisir'!$A$4, $C19='Horaires à saisir'!$A$10,'Horaires à saisir'!$D$10, $B19='Horaires à saisir'!$A$11,'Horaires à saisir'!$D$11, $B19='Horaires à saisir'!$A$12,'Horaires à saisir'!$D$12, $B19='Horaires à saisir'!$A$13,'Horaires à saisir'!$D$13, $B19='Horaires à saisir'!$A$14,'Horaires à saisir'!$D$14, $B19='Horaires à saisir'!$A$15,'Horaires à saisir'!$D$15))} -> 8h - 18h30 | G19: {=(_xlfn.IFS($C19='Horaires à saisir'!$E$4,'Horaires à saisir'!$A$4, $C19='Horaires à saisir'!$A$10,'Horaires à saisir'!$E$10, $B19='Horaires à saisir'!$A$11,'Horaires à saisir'!$E$11, $B19='Horaires à saisir'!$A$12,'Horaires à saisir'!$E$12, $B19='Horaires à saisir'!$A$13,'Horaires à saisir'!$E$13, $B19='Horaires à saisir'!$A$14,'Horaires à saisir'!$E$14, $B19='Horaires à saisir'!$A$15,'Horaires à saisir'!$E$15))} -> REPOS | H19: {=(_xlfn.IFS($C19='Horaires à saisir'!$F$4,'Horaires à saisir'!$A$4, $C19='Horaires à saisir'!$A$10,'Horaires à saisir'!$F$10, $B19='Horaires à saisir'!$A$11,'Horaires à saisir'!$F$11, $B19='Horaires à saisir'!$A$12,'Horaires à saisir'!$F$12, $B19='Horaires à saisir'!$A$13,'Horaires à saisir'!$F$13, $B19='Horaires à saisir'!$A$14,'Horaires à saisir'!$F$14, $B19='Horaires à saisir'!$A$15,'Horaires à saisir'!$F$15))} -> 9h - 17h00 | I19: {=(_xlfn.IFS($C19='Horaires à saisir'!$G$4,'Horaires à saisir'!$A$4, $C19='Horaires à saisir'!$A$10,'Horaires à saisir'!$G$10, $B19='Horaires à saisir'!$A$11,'Horaires à saisir'!$G$11, $B19='Horaires à saisir'!$A$12,'Horaires à saisir'!$G$12, $B19='Horaires à saisir'!$A$13,'Horaires à saisir'!$G$13, $B19='Horaires à saisir'!$A$14,'Horaires à saisir'!$G$14, $B19='Horaires à saisir'!$A$15,'Horaires à saisir'!$G$15))} -> ECOLE
... A33: =A32+1 -> 44435 | B33: =_xlfn.ISOWEEKNUM(A33) -> 34 | C33: =CHOOSE(WEEKDAY(A33),"Dimanche","Lundi","Mardi","Mercredi","Jeudi","Vendredi","Samedi") -> Vendredi | D33: =DAY(A33) -> 27 | E33: {=(_xlfn.IFS($C33='Horaires à saisir'!$C$4,'Horaires à saisir'!$A$4, $C33='Horaires à saisir'!$C$5,'Horaires à saisir'!$A$5, $C33='Horaires à saisir'!$C$6,'Horaires à saisir'!$A$6, $C33='Horaires à saisir'!$C$7,'Horaires à saisir'!$A$7, $C33='Horaires à saisir'!$C$8,'Horaires à saisir'!$A$8, $C33='Horaires à saisir'!$C$9,'Horaires à saisir'!$A$9, $C33='Horaires à saisir'!$C$10,'Horaires à saisir'!$A$10, $B33='Horaires à saisir'!$A$11,'Horaires à saisir'!$C$11, $B33='Horaires à saisir'!$A$12,'Horaires à saisir'!$C$12, $B33='Horaires à saisir'!$A$13,'Horaires à saisir'!$C$13, $B33='Horaires à saisir'!$A$14,'Horaires à saisir'!$C$14, $B33='Horaires à saisir'!$A$15,'Horaires à saisir'!$C$15, $B33='Horaires à saisir'!$A$16,'Horaires à saisir'!$C$16))} -> REPOS | F33: {=(_xlfn.IFS($C33='Horaires à saisir'!$D$4,'Horaires à saisir'!$A$4, $C33='Horaires à saisir'!$A$10,'Horaires à saisir'!$D$10, $B33='Horaires à saisir'!$A$11,'Horaires à saisir'!$D$11, $B33='Horaires à saisir'!$A$12,'Horaires à saisir'!$D$12, $B33='Horaires à saisir'!$A$13,'Horaires à saisir'!$D$13, $B33='Horaires à saisir'!$A$14,'Horaires à saisir'!$D$14, $B33='Horaires à saisir'!$A$15,'Horaires à saisir'!$D$15))} -> 9h - 18h30 | G33: {=(_xlfn.IFS($C33='Horaires à saisir'!$E$4,'Horaires à saisir'!$A$4, $C33='Horaires à saisir'!$A$10,'Horaires à saisir'!$E$10, $B33='Horaires à saisir'!$A$11,'Horaires à saisir'!$E$11, $B33='Horaires à saisir'!$A$12,'Horaires à saisir'!$E$12, $B33='Horaires à saisir'!$A$13,'Horaires à saisir'!$E$13, $B33='Horaires à saisir'!$A$14,'Horaires à saisir'!$E$14, $B33='Horaires à saisir'!$A$15,'Horaires à saisir'!$E$15))} -> REPOS | H33: {=(_xlfn.IFS($C33='Horaires à saisir'!$F$4,'Horaires à saisir'!$A$4, $C33='Horaires à saisir'!$A$10,'Horaires à saisir'!$F$10, $B33='Horaires à saisir'!$A$11,'Horaires à saisir'!$F$11, $B33='Horaires à saisir'!$A$12,'Horaires à saisir'!$F$12, $B33='Horaires à saisir'!$A$13,'Horaires à saisir'!$F$13, $B33='Horaires à saisir'!$A$14,'Horaires à saisir'!$F$14, $B33='Horaires à saisir'!$A$15,'Horaires à saisir'!$F$15))} -> 9h - 17h00 | I33: {=(_xlfn.IFS($C33='Horaires à saisir'!$G$4,'Horaires à saisir'!$A$4, $C33='Horaires à saisir'!$A$10,'Horaires à saisir'!$G$10, $B33='Horaires à saisir'!$A$11,'Horaires à saisir'!$G$11, $B33='Horaires à saisir'!$A$12,'Horaires à saisir'!$G$12, $B33='Horaires à saisir'!$A$13,'Horaires à saisir'!$G$13, $B33='Horaires à saisir'!$A$14,'Horaires à saisir'!$G$14, $B33='Horaires à saisir'!$A$15,'Horaires à saisir'!$G$15))} -> ECOLE
A34: =IFERROR(IF(A33+1>I1,"",A33+1),"") -> 44436 | B34: =_xlfn.ISOWEEKNUM(A34) -> 34 | C34: =IFERROR(CHOOSE(WEEKDAY(A34),"Dimanche","Lundi","Mardi","Mercredi","Jeudi","Vendredi","Samedi"),"") -> Samedi | D34: =DAY(A34) -> 28 | E34: {=(_xlfn.IFS($C34='Horaires à saisir'!$C$4,'Horaires à saisir'!$A$4, $C34='Horaires à saisir'!$C$5,'Horaires à saisir'!$A$5, $C34='Horaires à saisir'!$C$6,'Horaires à saisir'!$A$6, $C34='Horaires à saisir'!$C$7,'Horaires à saisir'!$A$7, $C34='Horaires à saisir'!$C$8,'Horaires à saisir'!$A$8, $C34='Horaires à saisir'!$C$9,'Horaires à saisir'!$A$9, $C34='Horaires à saisir'!$C$10,'Horaires à saisir'!$A$10, $B34='Horaires à saisir'!$A$11,'Horaires à saisir'!$C$11, $B34='Horaires à saisir'!$A$12,'Horaires à saisir'!$C$12, $B34='Horaires à saisir'!$A$13,'Horaires à saisir'!$C$13, $B34='Horaires à saisir'!$A$14,'Horaires à saisir'!$C$14, $B34='Horaires à saisir'!$A$15,'Horaires à saisir'!$C$15, $B34='Horaires à saisir'!$A$16,'Horaires à saisir'!$C$16))} -> REPOS | F34: {=(_xlfn.IFS($C34='Horaires à saisir'!$D$4,'Horaires à saisir'!$A$4, $C34='Horaires à saisir'!$A$10,'Horaires à saisir'!$D$10, $B34='Horaires à saisir'!$A$11,'Horaires à saisir'!$D$11, $B34='Horaires à saisir'!$A$12,'Horaires à saisir'!$D$12, $B34='Horaires à saisir'!$A$13,'Horaires à saisir'!$D$13, $B34='Horaires à saisir'!$A$14,'Horaires à saisir'!$D$14, $B34='Horaires à saisir'!$A$15,'Horaires à saisir'!$D$15))} -> 8h - 17h00 | G34: {=(_xlfn.IFS($C34='Horaires à saisir'!$E$4,'Horaires à saisir'!$A$4, $C34='Horaires à saisir'!$A$10,'Horaires à saisir'!$E$10, $B34='Horaires à saisir'!$A$11,'Horaires à saisir'!$E$11, $B34='Horaires à saisir'!$A$12,'Horaires à saisir'!$E$12, $B34='Horaires à saisir'!$A$13,'Horaires à saisir'!$E$13, $B34='Horaires à saisir'!$A$14,'Horaires à saisir'!$E$14, $B34='Horaires à saisir'!$A$15,'Horaires à saisir'!$E$15))} -> 8h - 17h00 | H34: {=(_xlfn.IFS($C34='Horaires à saisir'!$F$4,'Horaires à saisir'!$A$4, $C34='Horaires à saisir'!$A$10,'Horaires à saisir'!$F$10, $B34='Horaires à saisir'!$A$11,'Horaires à saisir'!$F$11, $B34='Horaires à saisir'!$A$12,'Horaires à saisir'!$F$12, $B34='Horaires à saisir'!$A$13,'Horaires à saisir'!$F$13, $B34='Horaires à saisir'!$A$14,'Horaires à saisir'!$F$14, $B34='Horaires à saisir'!$A$15,'Horaires à saisir'!$F$15))} -> REPOS | I34: {=(_xlfn.IFS($C34='Horaires à saisir'!$G$4,'Horaires à saisir'!$A$4, $C34='Horaires à saisir'!$A$10,'Horaires à saisir'!$G$10, $B34='Horaires à saisir'!$A$11,'Horaires à saisir'!$G$11, $B34='Horaires à saisir'!$A$12,'Horaires à saisir'!$G$12, $B34='Horaires à saisir'!$A$13,'Horaires à saisir'!$G$13, $B34='Horaires à saisir'!$A$14,'Horaires à saisir'!$G$14, $B34='Horaires à saisir'!$A$15,'Horaires à saisir'!$G$15))} -> REPOS
A35: =IFERROR(IF(A34+1>I1,"",A34+1),"") -> 44437 | B35: =IFERROR(_xlfn.ISOWEEKNUM(A35),"") -> 34 | C35: =IFERROR(CHOOSE(WEEKDAY(A35),"Dimanche","Lundi","Mardi","Mercredi","Jeudi","Vendredi","Samedi"),"") -> Dimanche | D35: =IFERROR(DAY(A35),"") -> 29 | E35: {=(_xlfn.IFS($C35='Horaires à saisir'!$C$4,'Horaires à saisir'!$A$4, $C35='Horaires à saisir'!$C$5,'Horaires à saisir'!$A$5, $C35='Horaires à saisir'!$C$6,'Horaires à saisir'!$A$6, $C35='Horaires à saisir'!$C$7,'Horaires à saisir'!$A$7, $C35='Horaires à saisir'!$C$8,'Horaires à saisir'!$A$8, $C35='Horaires à saisir'!$C$9,'Horaires à saisir'!$A$9, $C35='Horaires à saisir'!$C$10,'Horaires à saisir'!$A$10, $B35='Horaires à saisir'!$A$11,'Horaires à saisir'!$C$11, $B35='Horaires à saisir'!$A$12,'Horaires à saisir'!$C$12, $B35='Horaires à saisir'!$A$13,'Horaires à saisir'!$C$13, $B35='Horaires à saisir'!$A$14,'Horaires à saisir'!$C$14, $B35='Horaires à saisir'!$A$15,'Horaires à saisir'!$C$15, $B35='Horaires à saisir'!$A$16,'Horaires à saisir'!$C$16))} -> 9h - 18h30 | F35: {=(_xlfn.IFS($C35='Horaires à saisir'!$D$4,'Horaires à saisir'!$A$4, $C35='Horaires à saisir'!$A$10,'Horaires à saisir'!$D$10, $B35='Horaires à saisir'!$A$11,'Horaires à saisir'!$D$11, $B35='Horaires à saisir'!$A$12,'Horaires à saisir'!$D$12, $B35='Horaires à saisir'!$A$13,'Horaires à saisir'!$D$13, $B35='Horaires à saisir'!$A$14,'Horaires à saisir'!$D$14, $B35='Horaires à saisir'!$A$15,'Horaires à saisir'!$D$15))} -> 9h - 18h30 | G35: {=(_xlfn.IFS($C35='Horaires à saisir'!$E$4,'Horaires à saisir'!$A$4, $C35='Horaires à saisir'!$A$10,'Horaires à saisir'!$E$10, $B35='Horaires à saisir'!$A$11,'Horaires à saisir'!$E$11, $B35='Horaires à saisir'!$A$12,'Horaires à saisir'!$E$12, $B35='Horaires à saisir'!$A$13,'Horaires à saisir'!$E$13, $B35='Horaires à saisir'!$A$14,'Horaires à saisir'!$E$14, $B35='Horaires à saisir'!$A$15,'Horaires à saisir'!$E$15))} -> 9h - 18h30 | H35: {=(_xlfn.IFS($C35='Horaires à saisir'!$F$4,'Horaires à saisir'!$A$4, $C35='Horaires à saisir'!$A$10,'Horaires à saisir'!$F$10, $B35='Horaires à saisir'!$A$11,'Horaires à saisir'!$F$11, $B35='Horaires à saisir'!$A$12,'Horaires à saisir'!$F$12, $B35='Horaires à saisir'!$A$13,'Horaires à saisir'!$F$13, $B35='Horaires à saisir'!$A$14,'Horaires à saisir'!$F$14, $B35='Horaires à saisir'!$A$15,'Horaires à saisir'!$F$15))} -> 9h - 17h00 | I35: {=(_xlfn.IFS($C35='Horaires à saisir'!$G$4,'Horaires à saisir'!$A$4, $C35='Horaires à saisir'!$A$10,'Horaires à saisir'!$G$10, $B35='Horaires à saisir'!$A$11,'Horaires à saisir'!$G$11, $B35='Horaires à saisir'!$A$12,'Horaires à saisir'!$G$12, $B35='Horaires à saisir'!$A$13,'Horaires à saisir'!$G$13, $B35='Horaires à saisir'!$A$14,'Horaires à saisir'!$G$14, $B35='Horaires à saisir'!$A$15,'Horaires à saisir'!$G$15))} -> ECOLE
A36: =IFERROR(IF(A35+1>I1,"",A35+1),"") -> 44438 | B36: =IFERROR(_xlfn.ISOWEEKNUM(A36),"") -> 35 | C36: =IFERROR(CHOOSE(WEEKDAY(A36),"Dimanche","Lundi","Mardi","Mercredi","Jeudi","Vendredi","Samedi"),"") -> Lundi | D36: =IFERROR(DAY(A36),"") -> 30 | E36: {=(_xlfn.IFS($C36='Horaires à saisir'!$C$4,'Horaires à saisir'!$A$4, $C36='Horaires à saisir'!$C$5,'Horaires à saisir'!$A$5, $C36='Horaires à saisir'!$C$6,'Horaires à saisir'!$A$6, $C36='Horaires à saisir'!$C$7,'Horaires à saisir'!$A$7, $C36='Horaires à saisir'!$C$8,'Horaires à saisir'!$A$8, $C36='Horaires à saisir'!$C$9,'Horaires à saisir'!$A$9, $C36='Horaires à saisir'!$C$10,'Horaires à saisir'!$A$10, $B36='Horaires à saisir'!$A$11,'Horaires à saisir'!$C$11, $B36='Horaires à saisir'!$A$12,'Horaires à saisir'!$C$12, $B36='Horaires à saisir'!$A$13,'Horaires à saisir'!$C$13, $B36='Horaires à saisir'!$A$14,'Horaires à saisir'!$C$14, $B36='Horaires à saisir'!$A$15,'Horaires à saisir'!$C$15, $B36='Horaires à saisir'!$A$16,'Horaires à saisir'!$C$16))} -> REPOS | F36: {=(_xlfn.IFS($C36='Horaires à saisir'!$D$4,'Horaires à saisir'!$A$4, $C36='Horaires à saisir'!$A$10,'Horaires à saisir'!$D$10, $B36='Horaires à saisir'!$A$11,'Horaires à saisir'!$D$11, $B36='Horaires à saisir'!$A$12,'Horaires à saisir'!$D$12, $B36='Horaires à saisir'!$A$13,'Horaires à saisir'!$D$13, $B36='Horaires à saisir'!$A$14,'Horaires à saisir'!$D$14, $B36='Horaires à saisir'!$A$15,'Horaires à saisir'!$D$15))} -> REPOS | G36: {=(_xlfn.IFS($C36='Horaires à saisir'!$E$4,'Horaires à saisir'!$A$4, $C36='Horaires à saisir'!$A$10,'Horaires à saisir'!$E$10, $B36='Horaires à saisir'!$A$11,'Horaires à saisir'!$E$11, $B36='Horaires à saisir'!$A$12,'Horaires à saisir'!$E$12, $B36='Horaires à saisir'!$A$13,'Horaires à saisir'!$E$13, $B36='Horaires à saisir'!$A$14,'Horaires à saisir'!$E$14, $B36='Horaires à saisir'!$A$15,'Horaires à saisir'!$E$15))} -> #N/A | H36: {=(_xlfn.IFS($C36='Horaires à saisir'!$F$4,'Horaires à saisir'!$A$4, $C36='Horaires à saisir'!$A$10,'Horaires à saisir'!$F$10, $B36='Horaires à saisir'!$A$11,'Horaires à saisir'!$F$11, $B36='Horaires à saisir'!$A$12,'Horaires à saisir'!$F$12, $B36='Horaires à saisir'!$A$13,'Horaires à saisir'!$F$13, $B36='Horaires à saisir'!$A$14,'Horaires à saisir'!$F$14, $B36='Horaires à saisir'!$A$15,'Horaires à saisir'!$F$15))} -> #N/A | I36: {=(_xlfn.IFS($C36='Horaires à saisir'!$G$4,'Horaires à saisir'!$A$4, $C36='Horaires à saisir'!$A$10,'Horaires à saisir'!$G$10, $B36='Horaires à saisir'!$A$11,'Horaires à saisir'!$G$11, $B36='Horaires à saisir'!$A$12,'Horaires à saisir'!$G$12, $B36='Horaires à saisir'!$A$13,'Horaires à saisir'!$G$13, $B36='Horaires à saisir'!$A$14,'Horaires à saisir'!$G$14, $B36='Horaires à saisir'!$A$15,'Horaires à saisir'!$G$15))} -> #N/A
A37: =IFERROR(IF(A36+1>I1,"",A36+1),"") -> 44439 | B37: =IFERROR(_xlfn.ISOWEEKNUM(A37),"") -> 35 | C37: =IFERROR(CHOOSE(WEEKDAY(A37),"Dimanche","Lundi","Mardi","Mercredi","Jeudi","Vendredi","Samedi"),"") -> Mardi | D37: =IFERROR(DAY(A37),"") -> 31 | E37: {=(_xlfn.IFS($C37='Horaires à saisir'!$C$4,'Horaires à saisir'!$A$4, $C37='Horaires à saisir'!$C$5,'Horaires à saisir'!$A$5, $C37='Horaires à saisir'!$C$6,'Horaires à saisir'!$A$6, $C37='Horaires à saisir'!$C$7,'Horaires à saisir'!$A$7, $C37='Horaires à saisir'!$C$8,'Horaires à saisir'!$A$8, $C37='Horaires à saisir'!$C$9,'Horaires à saisir'!$A$9, $C37='Horaires à saisir'!$C$10,'Horaires à saisir'!$A$10, $B37='Horaires à saisir'!$A$11,'Horaires à saisir'!$C$11, $B37='Horaires à saisir'!$A$12,'Horaires à saisir'!$C$12, $B37='Horaires à saisir'!$A$13,'Horaires à saisir'!$C$13, $B37='Horaires à saisir'!$A$14,'Horaires à saisir'!$C$14, $B37='Horaires à saisir'!$A$15,'Horaires à saisir'!$C$15, $B37='Horaires à saisir'!$A$16,'Horaires à saisir'!$C$16))} -> 9h - 18h30 | F37: {=(_xlfn.IFS($C37='Horaires à saisir'!$D$4,'Horaires à saisir'!$A$4, $C37='Horaires à saisir'!$A$10,'Horaires à saisir'!$D$10, $B37='Horaires à saisir'!$A$11,'Horaires à saisir'!$D$11, $B37='Horaires à saisir'!$A$12,'Horaires à saisir'!$D$12, $B37='Horaires à saisir'!$A$13,'Horaires à saisir'!$D$13, $B37='Horaires à saisir'!$A$14,'Horaires à saisir'!$D$14, $B37='Horaires à saisir'!$A$15,'Horaires à saisir'!$D$15))} -> #N/A | G37: {=(_xlfn.IFS($C37='Horaires à saisir'!$E$4,'Horaires à saisir'!$A$4, $C37='Horaires à saisir'!$A$10,'Horaires à saisir'!$E$10, $B37='Horaires à saisir'!$A$11,'Horaires à saisir'!$E$11, $B37='Horaires à saisir'!$A$12,'Horaires à saisir'!$E$12, $B37='Horaires à saisir'!$A$13,'Horaires à saisir'!$E$13, $B37='Horaires à saisir'!$A$14,'Horaires à saisir'!$E$14, $B37='Horaires à saisir'!$A$15,'Horaires à saisir'!$E$15))} -> #N/A | H37: {=(_xlfn.IFS($C37='Horaires à saisir'!$F$4,'Horaires à saisir'!$A$4, $C37='Horaires à saisir'!$A$10,'Horaires à saisir'!$F$10, $B37='Horaires à saisir'!$A$11,'Horaires à saisir'!$F$11, $B37='Horaires à saisir'!$A$12,'Horaires à saisir'!$F$12, $B37='Horaires à saisir'!$A$13,'Horaires à saisir'!$F$13, $B37='Horaires à saisir'!$A$14,'Horaires à saisir'!$F$14, $B37='Horaires à saisir'!$A$15,'Horaires à saisir'!$F$15))} -> #N/A | I37: {=(_xlfn.IFS($C37='Horaires à saisir'!$G$4,'Horaires à saisir'!$A$4, $C37='Horaires à saisir'!$A$10,'Horaires à saisir'!$G$10, $B37='Horaires à saisir'!$A$11,'Horaires à saisir'!$G$11, $B37='Horaires à saisir'!$A$12,'Horaires à saisir'!$G$12, $B37='Horaires à saisir'!$A$13,'Horaires à saisir'!$G$13, $B37='Horaires à saisir'!$A$14,'Horaires à saisir'!$G$14, $B37='Horaires à saisir'!$A$15,'Horaires à saisir'!$G$15))} -> #N/A
E39: Jours de repos | F39: Jours feriés | G39: Vacances

Sheet Horaires à saisir
A1: Date début | D1: ='Planning à imprimer'!G1 -> 44409 | F1: Date de fin | G1: =EOMONTH(D1,0) -> 44439 | N1: Jours feriés
K2: Lundi | N2: Année | P2: =YEAR('Planning à imprimer'!G1) -> 2021
A3: N° semaines | C3: Employé 1 | D3: Employé 2 | E3: Employé 3 | F3: Employé 4 | G3: Employé 5 | K3: Mardi | N3: Jour de l'An | P3: =DATE($P$2,1,1) -> 44197 | Q3: Jours feriés fixes
A4: REPOS | B4: =A11 -> 30 | D4: Lundi | E4: Vendredi | F4: Samedi | G4: Samedi | K4: Mercredi | N4: Fête du travail | P4: =DATE($P$2,5,1) -> 44317
A5: REPOS | B5: =A12 -> 31 | C5: Mercredi | D5: Lundi | E5: Vendredi | F5: Samedi | G5: Samedi | K5: Jeudi | N5: Libération 1945 | P5: =DATE($P$2,5,8) -> 44324
A6: REPOS | B6: =A13 -> 32 | C6: Jeudi | D6: Lundi | E6: Vendredi | F6: Samedi | G6: Samedi | K6: Vendredi | N6: Fête Nationale | P6: =DATE($P$2,7,14) -> 44391
A7: REPOS | B7: =A14 -> 33 | C7: Vendredi | D7: Lundi | E7: Vendredi | F7: Samedi | G7: Samedi | K7: Samedi | N7: Assomption | P7: =DATE($P$2,8,15) -> 44423
A8: REPOS | B8: =A15 -> 34 | C8: Samedi | D8: Lundi | E8: Vendredi | F8: Samedi | G8: Samedi | N8: La Toussaint | P8: =DATE($P$2,11,1) -> 44501
A9: REPOS | B9: =A16 -> 35 | C9: Lundi | D9: Lundi | E9: Vendredi | F9: Samedi | G9: Samedi
A10: Samedi | C10: 8h - 17h00 | D10: 8h - 17h00 | E10: 8h - 17h00 | F10: 8h - 17h00 | G10: 8h - 17h00 | N10: Armistice 1918 | P10: =DATE($P$2,11,11) -> 44511
A11: {=_xlfn.UNIQUE(K17:K47,FALSE)} -> 30 | C11: 8h - 17h00 | D11: 8h - 18h30 | E11: 9h - 18h30 | F11: 9h - 17h00 | G11: ECOLE | N11: Noël | P11: =DATE($P$2,12,25) -> 44555
A12: 31 | C12: 9h - 18h30 | D12: 8h - 17h00 | E12: 8h - 17h00 | F12: ECOLE | G12: 9h - 17h00 | N12: Lundi de Pâques | P12: =R13+1 -> 44291 | Q12: Jours feriés variables
A13: 32 | C13: VACANCES | D13: 8h - 18h30 | E13: 9h - 18h30 | F13: 9h - 17h00 | G13: ECOLE | N13: Jeudi de l'Ascension | P13: =R13+39 -> 44329 | Q13: Pâques | R13: =ROUND(DATE(P2,4,MOD(234-11*MOD(P2,19),30))/7,0)*7-6 -> 44290
A14: 33 | C14: 9h - 18h30 | D14: 8h - 17h00 | E14: 8h - 17h00 | F14: ECOLE | G14: 9h - 17h00 | N14: Lundi de Pentecôte | P14: =R13+50 -> 44340
A15: 34 | C15: 9h - 18h30 | D15: 9h - 18h30 | E15: 9h - 18h30 | F15: 9h - 17h00 | G15: ECOLE
A16: 35 | C16: 9h - 18h30 | D16: 9h - 18h30 | E16: 9h - 18h30 | F16: 9h - 17h00 | G16: ECOLE | K16: Num Semaine | L16: Dates
K17: =_xlfn.ISOWEEKNUM(L17) -> 30 | L17: =D1 -> 44409
K18: =_xlfn.ISOWEEKNUM(L18) -> 31 | L18: =L17+1 -> 44410
A19: A compléter/supprimer en fonction du nombre de semaines | K19: =_xlfn.ISOWEEKNUM(L19) -> 31 | L19: =L18+1 -> 44411
K20: =_xlfn.ISOWEEKNUM(L20) -> 31 | L20: =L19+1 -> 44412
K21: =_xlfn.ISOWEEKNUM(L21) -> 31 | L21: =L20+1 -> 44413
K22: =_xlfn.ISOWEEKNUM(L22) -> 31 | L22: =L21+1 -> 44414
K23: =_xlfn.ISOWEEKNUM(L23) -> 31 | L23: =L22+1 -> 44415
K24: =_xlfn.ISOWEEKNUM(L24) -> 31 | L24: =L23+1 -> 44416
K25: =_xlfn.ISOWEEKNUM(L25) -> 32 | L25: =L24+1 -> 44417
K26: =_xlfn.ISOWEEKNUM(L26) -> 32 | L26: =L25+1 -> 44418
K27: =_xlfn.ISOWEEKNUM(L27) -> 32 | L27: =L26+1 -> 44419
K28: =_xlfn.ISOWEEKNUM(L28) -> 32 | L28: =L27+1 -> 44420
K29: =_xlfn.ISOWEEKNUM(L29) -> 32 | L29: =L28+1 -> 44421
K30: =_xlfn.ISOWEEKNUM(L30) -> 32 | L30: =L29+1 -> 44422
K31: =_xlfn.ISOWEEKNUM(L31) -> 32 | L31: =L30+1 -> 44423
... K43: =_xlfn.ISOWEEKNUM(L43) -> 34 | L43: =L42+1 -> 44435
K44: =_xlfn.ISOWEEKNUM(L44) -> 34 | L44: =IFERROR(IF(L43+1>$G$1,"",L43+1),"") -> 44436
K45: =IFERROR(_xlfn.ISOWEEKNUM(L45),"") -> 34 | L45: =IFERROR(IF(L44+1>$G$1,"",L44+1),"") -> 44437
K46: =IFERROR(_xlfn.ISOWEEKNUM(L46),"") -> 35 | L46: =IFERROR(IF(L45+1>$G$1,"",L45+1),"") -> 44438
K47: =IFERROR(_xlfn.ISOWEEKNUM(L47),"") -> 35 | L47: =IFERROR(IF(L46+1>$G$1,"",L46+1),"") -> 44439
