Workbook

Sheet relevé2023
B1: Projet | C1: 45019 | D1: 45020 | E1: 45021 | F1: 45022 | G1: 45023
A2: 475 | B2: a | C2: 8 | F2: 1
A3: 1770 | B3: b | D3: 4 | E3: 4 | F3: 4
A4: 2194 | B4: c | D4: 4 | E4: 4 | F4: 3

Sheet Semaine
A1: Date | B1: Nombre d heures | C1: Prévu | D1: Projets | E1: ligne | F1: ColonneStart | G1: ColonneEnd
A2: =#REF!+7 -> #REF! | B2: 1 | D2: 2763-Stabilisation CRM Data
A3: =#REF!+7 -> #REF! | B3: 0.3 | D3: 2260-Cubes Industriels
A4: =#REF!+7 -> #REF! | B4: 0.2 | D4: 2897-STOCKEUR ARC
A5: =#REF!+7 -> #REF! | B5: 0.1 | D5: 475-DERT P4 : Modèles Supply chain
A6: =A5+7 -> #REF! | B6: 1.3 | C6: =#REF!/4 -> #REF! | D6: =#REF!&"-"&#REF! -> #REF!
A7: =A6 -> #REF! | C7: =#REF!/4 -> #REF! | D7: =#REF!&"-"&#REF! -> #REF!
A8: =A7 -> #REF! | C8: =#REF!/4 -> #REF! | D8: =#REF!&"-"&#REF! -> #REF!
A9: =A8 -> #REF! | B9: 0.5 | C9: =#REF!/4 -> #REF! | D9: =#REF!&"-"&#REF! -> #REF!
A10: =A9 -> #REF! | B10: 3 | C10: =#REF!/4 -> #REF! | D10: =#REF!&"-"&#REF! -> #REF!
A11: =A10 -> #REF! | C11: =#REF!/4 -> #REF! | D11: =#REF!&"-"&#REF! -> #REF!
A12: =A11 -> #REF! | B12: 0.2 | C12: =#REF!/4 -> #REF! | D12: =#REF!&"-"&#REF! -> #REF!
A13: =A12 -> #REF! | C13: =#REF!/4 -> #REF! | D13: =#REF!&"-"&#REF! -> #REF!
A14: =A13 -> #REF! | C14: =#REF!/4 -> #REF! | D14: =#REF!&"-"&#REF! -> #REF!
A15: =A14 -> #REF! | C15: =#REF!/4 -> #REF! | D15: =#REF!&"-"&#REF! -> #REF!
A16: =A15+7 -> #REF! | B16: 2.5 | C16: =#REF!/4 -> #REF! | D16: =#REF!&"-"&#REF! -> #REF!
A17: =A16 -> #REF! | C17: =#REF!/4 -> #REF! | D17: =#REF!&"-"&#REF! -> #REF!
A18: =A17 -> #REF! | C18: =#REF!/4 -> #REF! | D18: =#REF!&"-"&#REF! -> #REF!
A19: =A18 -> #REF! | B19: 1 | C19: =#REF!/4 -> #REF! | D19: =#REF!&"-"&#REF! -> #REF!
A20: =A19 -> #REF! | B20: 1 | C20: =#REF!/4 -> #REF! | D20: =#REF!&"-"&#REF! -> #REF!
A21: =A20 -> #REF! | C21: =#REF!/4 -> #REF! | D21: =#REF!&"-"&#REF! -> #REF!
A22: =A21 -> #REF! | B22: 0.5 | C22: =#REF!/4 -> #REF! | D22: =#REF!&"-"&#REF! -> #REF!
A23: =A22 -> #REF! | C23: =#REF!/4 -> #REF! | D23: =#REF!&"-"&#REF! -> #REF!
A24: =A23 -> #REF! | C24: =#REF!/4 -> #REF! | D24: =#REF!&"-"&#REF! -> #REF!
A25: =A24 -> #REF! | C25: =#REF!/4 -> #REF! | D25: =#REF!&"-"&#REF! -> #REF!
A26: =A25+7 -> #REF! | B26: 3.4 | C26: =#REF!/4 -> #REF! | D26: =#REF!&"-"&#REF! -> #REF!
A27: =A26 -> #REF! | C27: =#REF!/4 -> #REF! | D27: =#REF!&"-"&#REF! -> #REF!
A28: =A27 -> #REF! | C28: =#REF!/4 -> #REF! | D28: =#REF!&"-"&#REF! -> #REF!
A29: =A28 -> #REF! | B29: 0.5 | C29: =#REF!/4 -> #REF! | D29: =#REF!&"-"&#REF! -> #REF!
A30: =A29 -> #REF! | B30: 0.5 | C30: =#REF!/4 -> #REF! | D30: =#REF!&"-"&#REF! -> #REF!
A31: =A30 -> #REF! | C31: =#REF!/4 -> #REF! | D31: =#REF!&"-"&#REF! -> #REF!
A32: =A31 -> #REF! | B32: 0.3 | C32: =#REF!/4 -> #REF! | D32: =#REF!&"-"&#REF! -> #REF!
A33: =A32 -> #REF! | C33: =#REF!/4 -> #REF! | D33: =#REF!&"-"&#REF! -> #REF!
A34: =A33 -> #REF! | C34: =#REF!/4 -> #REF! | D34: =#REF!&"-"&#REF! -> #REF!
A35: =A34 -> #REF! | B35: 0.3 | C35: =#REF!/4 -> #REF! | D35: =#REF!&"-"&#REF! -> #REF!
A36: =A35+7 -> #REF! | B36: 1.5 | C36: =#REF!/4 -> #REF! | D36: =#REF!&"-"&#REF! -> #REF!
B37: =#REF!/4 -> #REF! | C37: =#REF!/4 -> #REF! | D37: =#REF!&"-"&#REF! -> #REF!
B38: =#REF!/4 -> #REF! | C38: =#REF!/4 -> #REF! | D38: =#REF!&"-"&#REF! -> #REF!
B39: 1 | C39: =#REF!/4 -> #REF! | D39: =#REF!&"-"&#REF! -> #REF!
B40: 1 | C40: =#REF!/4 -> #REF! | D40: =#REF!&"-"&#REF! -> #REF!
B41: =#REF!/4 -> #REF! | C41: =#REF!/4 -> #REF! | D41: =#REF!&"-"&#REF! -> #REF!
B42: 0.5 | C42: =#REF!/4 -> #REF! | D42: =#REF!&"-"&#REF! -> #REF!
B43: =#REF!/4 -> #REF! | C43: =#REF!/4 -> #REF! | D43: =#REF!&"-"&#REF! -> #REF!
B44: =#REF!/4 -> #REF! | C44: =#REF!/4 -> #REF! | D44: =#REF!&"-"&#REF! -> #REF!
B45: 1 | C45: =#REF!/4 -> #REF! | D45: =#REF!&"-"&#REF! -> #REF!
A46: =A36+7 -> #REF! | B46: =SUM(relevé2023!#REF!)/8 -> #REF! | D46: =#REF!&"-"&#REF! -> #REF! | E46: =MATCH(J46,relevé2023!A:A,0) -> #REF! | F46: =SUBSTITUTE(ADDRESS(1,MATCH(A46,relevé2023!$1:$1,0),4),1,"") -> #REF! | G46: =SUBSTITUTE(ADDRESS(1,MATCH(A46+4,relevé2023!$1:$1,0),4),1,"") -> #REF! | H46: ="'relevé 2023'!" &F46 & "6:BW6" -> #REF! | J46: =#REF! -> #REF! | L46: {=INDIRECT(F46&E46 & "!" & G46&E46,FALSE)} -> #REF! | M46: =F46&E46 -> #REF! | N46: =G46&E46 -> #REF! | O46: =F46&E46 & "!" & G46&E46 -> #REF! | P46: BS6!BW6
B47: =SUM(relevé2023!#REF!)/8 -> #REF! | D47: =#REF!&"-"&#REF! -> #REF! | E47: =MATCH(J47,relevé2023!A:A,0) -> #REF! | J47: =#REF! -> #REF! | L47: =SUM("relevé2023!"&O47) -> #REF! | M47: =F46&E$47 -> #REF! | N47: =G46&E$47 -> #REF! | O47: =M47 & "!" & N47 -> #REF! | P47: BS6!BW6
B48: =SUM(relevé2023!#REF!)/8 -> #REF! | D48: =#REF!&"-"&#REF! -> #REF! | E48: =MATCH(J48,relevé2023!A:A,0) -> #REF! | J48: =#REF! -> #REF!
B49: =SUM(relevé2023!#REF!)/8 -> #REF! | D49: =#REF!&"-"&#REF! -> #REF! | E49: =MATCH(J49,relevé2023!A:A,0) -> #REF! | J49: =#REF! -> #REF!
B50: =SUM(relevé2023!#REF!)/8 -> #REF! | D50: =#REF!&"-"&#REF! -> #REF! | E50: =MATCH(J50,relevé2023!A:A,0) -> #REF! | J50: =#REF! -> #REF!
D51: =#REF!&"-"&#REF! -> #REF! | E51: =MATCH(J51,relevé2023!A:A,0) -> #REF! | J51: =#REF! -> #REF!
B52: =SUM(relevé2023!#REF!)/8 -> #REF! | D52: =#REF!&"-"&#REF! -> #REF! | E52: =MATCH(J52,relevé2023!A:A,0) -> #REF! | J52: =#REF! -> #REF!
B53: =SUM(relevé2023!#REF!)/8 -> #REF! | D53: =#REF!&"-"&#REF! -> #REF! | E53: =MATCH(J53,relevé2023!A:A,0) -> #REF! | J53: =#REF! -> #REF!
B54: =SUM(relevé2023!#REF!)/8 -> #REF! | D54: =#REF!&"-"&#REF! -> #REF! | E54: =MATCH(J54,relevé2023!A:A,0) -> #REF! | J54: =#REF! -> #REF!
B55: =SUM(relevé2023!#REF!)/8 -> #REF! | D55: =#REF!&"-"&#REF! -> #REF! | E55: =MATCH(J55,relevé2023!A:A,0) -> #REF! | J55: =#REF! -> #REF!
B56: =SUM(relevé2023!#REF!)/8 -> #REF! | D56: =relevé2023!#REF!&"-"&relevé2023!#REF! -> #REF! | E56: =MATCH(J56,relevé2023!A:A,0) -> #REF! | J56: =relevé2023!#REF! -> #REF!
A57: =relevé2023!C1 -> 45019 | B57: =SUM(relevé2023!C2:G2) -> 9 | D57: =J57&"-"&K57 -> 475-a | E57: =MATCH(J57,relevé2023!A:A,0) -> 2 | F57: =SUBSTITUTE(ADDRESS(1,MATCH(A57,relevé2023!$1:$1,0),4),1,"") -> C | G57: =SUBSTITUTE(ADDRESS(1,MATCH(A57+4,relevé2023!$1:$1,0),4),1,"") -> G | J57: =relevé2023!A2 -> 475 | K57: =relevé2023!B2 -> a
B58: =SUM("relevé2023!BZ"&E58&":CD"&E58) -> #VALUE! | D58: =J58&"-"&K58 -> 1770-b | E58: =MATCH(J58,relevé2023!A:A,0) -> 3 | H58: ="relevé2023!BZ"&E58&":CD"&E58 -> relevé2023!BZ3:CD3 | J58: =relevé2023!A3 -> 1770 | K58: =relevé2023!B3 -> b
D59: =J59&"-"&K59 -> 2194-c | E59: =MATCH(J59,relevé2023!A:A,0) -> 4 | J59: =relevé2023!A4 -> 2194 | K59: =relevé2023!B4 -> c

Sheet Férié2022
A1: Nouvel An | B1: 44562
A2: Vendredi Saint | B2: 44666
A3: Lundi de Pâques | B3: 44669
A4: Jeudi de l'Ascension | B4: 44707
A5: Lundi de Pentecôte | B5: 44718
A6: Fête nationale | B6: 44774
A7: Lundi du Jeûne | B7: 44823
A8: Noël | B8: 44920
A9: Abscences | B9: 44775
A10: Congé | B10: =B9+1 -> 44776
A11: Congé | B11: =B10+1 -> 44777
A12: Congé | B12: =B11+1 -> 44778
A13: Congé | B13: 44781
A14: Congé | B14: =B13+1 -> 44782
A15: Congé | B15: =B14+1 -> 44783
A16: Congé | B16: =B15+1 -> 44784
A17: Congé | B17: =B16+1 -> 44785
