Workbook

Sheet BASE
A1: Pour calcul | B1: ETAT | C1: Série | D1: Type | E1: 44277 | F1: =E1+7 -> 44284 | G1: =F1+7 -> 44291 | H1: =G1+7 -> 44298 | I1: =H1+7 -> 44305 | J1: =I1+7 -> 44312 | K1: =J1+7 -> 44319 | L1: =K1+7 -> 44326 | M1: =L1+7 -> 44333 | ... AU1: =AT1+7 -> 44571
A2: =B2&C2&D2 -> planifiéCLIOcDISTRI | B2: planifié | C2: CLIOc | D2: DISTRI | E2: 2 | F2: 6 | G2: 3 | H2: 3 | I2: 4 | J2: 5 | K2: 4 | L2: 3 | M2: 3 | N2: 5 | O2: 4 | P2: 4 | Q2: 3 | R2: 3 | S2: 5 | T2: 4 | U2: 4 | V2: 4 | W2: 2 | X2: 5 | Y2: 4 | Z2: 4 | AA2: 4 | AB2: 2 | AC2: 5 | AD2: 4 | AE2: 6 | AF2: 3 | AG2: 4 | AH2: 4 | AI2: 4 | AJ2: 5 | AK2: 2 | AL2: 5 | AM2: 3 | AN2: 6 | AO2: 3 | AP2: 2 | AQ2: 5 | AR2: 3 | AS2: 6
A3: =B3&C3&D3 -> planifiéCLIObVIDANGE | B3: planifié | C3: CLIOb | D3: VIDANGE | E3: 6 | F3: 1 | G3: 1 | I3: 4 | M3: 4 | O3: 2 | Q3: 1 | R3: 3 | S3: 2 | T3: 2 | U3: 2 | X3: 1 | Y3: 1 | AA3: 1 | AE3: 3 | AF3: 1 | AG3: 2 | AI3: 1 | AJ3: 3 | AK3: 1 | AL3: 3 | AM3: 2 | AP3: 1 | AQ3: 1
A4: =B4&C4&D4 -> planifiéMEGANEVIDANGE | B4: planifié | C4: MEGANE | D4: VIDANGE | E4: 3 | F4: 10 | G4: 1 | H4: 11 | I4: 5 | J4: 3 | K4: 10 | L4: 2 | M4: 2 | N4: 5 | O4: 3 | P4: 5 | Q4: 11 | R4: 9 | S4: 0 | T4: 10 | U4: 5 | V4: 0 | W4: 2 | X4: 3 | Y4: 6 | Z4: 7 | AA4: 10 | AB4: 5 | AC4: 6 | AD4: 3 | AE4: 11 | AF4: 0 | AG4: 3 | AH4: 1 | AI4: 11 | AJ4: 10 | AK4: 10 | AL4: 5 | AM4: 6 | AN4: 3 | AO4: 3 | AP4: 8 | AQ4: 1 | AR4: 1 | AS4: 7
A5: =B5&C5&D5 -> planifiéCLIOhPNEU | B5: planifié | C5: CLIOh | D5: PNEU | E5: 8 | G5: 1 | H5: 3 | I5: 4 | J5: 4 | K5: 3 | L5: 2 | M5: 2 | P5: 1 | Q5: 3 | R5: 3 | S5: 4 | T5: 4 | U5: 2 | V5: 2 | Y5: 1 | Z5: 3 | AA5: 3 | AB5: 4 | AC5: 4 | AD5: 2 | AE5: 2 | AH5: 1 | AI5: 3 | AJ5: 3 | AK5: 4 | AL5: 4 | AM5: 2 | AN5: 2 | AQ5: 1 | AR5: 3 | AS5: 2
A6: =B6&C6&D6 -> planifiéCLIOPLAQUETTE | B6: planifié | C6: CLIO | D6: PLAQUETTE | E6: 3 | F6: 6 | G6: 3 | H6: 3 | I6: 2 | J6: 5 | K6: 4 | L6: 3 | M6: 3 | N6: 5 | O6: 4 | P6: 4 | Q6: 3 | R6: 3 | S6: 5 | T6: 4 | U6: 4 | V6: 4 | W6: 2 | X6: 5 | Y6: 4 | Z6: 4 | AA6: 4 | AB6: 2 | AC6: 5 | AD6: 4 | AE6: 6 | AF6: 3 | AG6: 4 | AH6: 4 | AI6: 4 | AJ6: 5 | AK6: 2 | AL6: 5 | AM6: 3 | AN6: 6 | AO6: 3 | AP6: 2 | AQ6: 5 | AR6: 3 | AS6: 6
A7: =B7&C7&D7 -> planifiéMEGANEPNEU | B7: planifié | C7: MEGANE | D7: PNEU | E7: 1 | F7: 3 | G7: 7 | H7: 3 | I7: 7 | J7: 4 | K7: 3 | L7: 3 | M7: 4 | N7: 6 | O7: 4 | P7: 4 | Q7: 2 | R7: 2 | S7: 3 | T7: 2 | U7: 2 | V7: 7 | W7: 2 | X7: 7 | Y7: 4 | Z7: 4 | AA7: 1 | AB7: 3 | AC7: 5 | AD7: 4 | AE7: 0 | AF7: 6 | AG7: 7 | AH7: 2 | AI7: 2 | AJ7: 1 | AK7: 4 | AL7: 2 | AM7: 2 | AN7: 6 | AO7: 2 | AP7: 7 | AQ7: 0 | AR7: 1 | AS7: 0
A8: =B8&C8&D8 -> planifiéCLIOECHAPPEMENT | B8: planifié | C8: CLIO | D8: ECHAPPEMENT | E8: 3 | F8: 6 | G8: 3 | H8: 3 | I8: 4 | J8: 5 | K8: 4 | L8: 3 | M8: 3 | N8: 5 | O8: 4 | P8: 4 | Q8: 3 | R8: 3 | S8: 5 | T8: 4 | U8: 4 | V8: 4 | W8: 2 | X8: 5 | Y8: 4 | Z8: 4 | AA8: 4 | AB8: 2 | AC8: 5 | AD8: 4 | AE8: 6 | AF8: 3 | AG8: 4 | AH8: 4 | AI8: 4 | AJ8: 5 | AK8: 2 | AL8: 5 | AM8: 3 | AN8: 6 | AO8: 3 | AP8: 2 | AQ8: 5 | AR8: 3 | AS8: 6
A9: =B9&C9&D9 -> planifiéalphaPOMME | B9: planifié | C9: alpha | D9: POMME | E9: 4 | F9: 7 | G9: 2 | H9: 7 | I9: 5 | J9: 5 | K9: 6 | L9: 5 | M9: 2 | N9: 1 | O9: 7 | P9: 5 | Q9: 2 | R9: 0 | S9: 1 | T9: 2 | U9: 6 | V9: 6 | W9: 2 | X9: 6 | Y9: 0 | Z9: 2 | AA9: 1 | AB9: 3 | AC9: 0 | AD9: 6 | AE9: 2 | AF9: 1 | AG9: 5 | AH9: 1 | AI9: 4 | AJ9: 1 | AK9: 1 | AL9: 2 | AM9: 0 | AN9: 2 | AO9: 6 | AP9: 3 | AQ9: 7 | AR9: 2 | AS9: 1
A10: =B10&C10&D10 -> planifiétwingoBARBECUE | B10: planifié | C10: twingo | D10: BARBECUE | E10: 4 | F10: 4 | G10: 6 | H10: 4 | I10: 6 | J10: 1 | K10: 4 | L10: 0 | M10: 3 | N10: 6 | O10: 6 | P10: 5 | Q10: 7 | R10: 6 | S10: 6 | T10: 1 | U10: 2 | V10: 6 | W10: 7 | X10: 5 | Y10: 1 | Z10: 7 | AA10: 2 | AB10: 6 | AC10: 4 | AD10: 7 | AE10: 4 | AF10: 0 | AG10: 7 | AH10: 3 | AI10: 7 | AJ10: 5 | AK10: 4 | AL10: 4 | AM10: 1 | AN10: 7 | AO10: 3 | AP10: 5 | AQ10: 0 | AR10: 3 | AS10: 0
A11: =B11&C11&D11 -> planifiémerguez :DBARBECUE | B11: planifié | C11: merguez :D | D11: BARBECUE | E11: 6 | F11: 0 | G11: 7 | H11: 1 | I11: 5 | J11: 1 | K11: 1 | L11: 2 | M11: 7 | N11: 6 | O11: 4 | P11: 2 | Q11: 1 | R11: 5 | S11: 2 | T11: 7 | U11: 7 | V11: 7 | W11: 5 | X11: 2 | Y11: 1 | Z11: 0 | AA11: 7 | AB11: 4 | AC11: 5 | AD11: 5 | AE11: 7 | AF11: 0 | AG11: 5 | AH11: 5 | AI11: 2 | AJ11: 3 | AK11: 7 | AL11: 0 | AM11: 1 | AN11: 1 | AO11: 1 | AP11: 5 | AQ11: 0 | AR11: 4 | AS11: 0
A12: =B12&C12&D12 -> planifiéBASKETNETTOYAGE | B12: planifié | C12: BASKET | D12: NETTOYAGE | E12: 7 | F12: 0 | G12: 6 | H12: 4 | I12: 2 | J12: 5 | K12: 2 | L12: 7 | M12: 0 | N12: 1 | O12: 5 | P12: 0 | Q12: 1 | R12: 7 | S12: 1 | T12: 7 | U12: 6 | V12: 1 | W12: 7 | X12: 1 | Y12: 3 | Z12: 6 | AA12: 5 | AB12: 1 | AC12: 0 | AD12: 0 | AE12: 3 | AF12: 1 | AG12: 4 | AH12: 3 | AI12: 0 | AJ12: 6 | AK12: 2 | AL12: 7 | AM12: 6 | AN12: 3 | AO12: 4 | AP12: 2 | AQ12: 2 | AR12: 0 | AS12: 7
A13: =B13&C13&D13 -> planifiéCHAUSSUREBANANE | B13: planifié | C13: CHAUSSURE | D13: BANANE | E13: 3 | F13: 6 | G13: 2 | H13: 0 | I13: 7 | J13: 3 | K13: 1 | L13: 7 | M13: 7 | N13: 7 | O13: 6 | P13: 4 | Q13: 4 | R13: 2 | S13: 2 | T13: 2 | U13: 1 | V13: 1 | W13: 5 | X13: 1 | Y13: 1 | Z13: 7 | AA13: 7 | AB13: 0 | AC13: 6 | AD13: 4 | AE13: 3 | AF13: 5 | AG13: 2 | AH13: 3 | AI13: 0 | AJ13: 2 | AK13: 2 | AL13: 2 | AM13: 1 | AN13: 3 | AO13: 1 | AP13: 6 | AQ13: 2 | AR13: 6 | AS13: 4

Sheet RESULTAT
A1: ETAT | B1: Série | C1: Type | D1: 44277 | E1: =D1+7 -> 44284 | F1: =E1+7 -> 44291 | G1: =F1+7 -> 44298 | H1: =G1+7 -> 44305 | I1: =H1+7 -> 44312 | J1: =I1+7 -> 44319 | K1: =J1+7 -> 44326 | L1: =K1+7 -> 44333 | ... AT1: =AS1+7 -> 44571
A2: planifié | B2: CLIOc | C2: DISTRI | D2: =VLOOKUP($A2&$B2&$C2,BASE!$A:$AU,COLUMN(BASE!E2),0) -> 2 | E2: =VLOOKUP($A2&$B2&$C2,BASE!$A:$AU,COLUMN(BASE!F2),0) -> 6 | F2: =VLOOKUP($A2&$B2&$C2,BASE!$A:$AU,COLUMN(BASE!G2),0) -> 3 | G2: =VLOOKUP($A2&$B2&$C2,BASE!$A:$AU,COLUMN(BASE!H2),0) -> 3 | H2: =VLOOKUP($A2&$B2&$C2,BASE!$A:$AU,COLUMN(BASE!I2),0) -> 4 | I2: =VLOOKUP($A2&$B2&$C2,BASE!$A:$AU,COLUMN(BASE!J2),0) -> 5 | J2: =VLOOKUP($A2&$B2&$C2,BASE!$A:$AU,COLUMN(BASE!K2),0) -> 4 | K2: =VLOOKUP($A2&$B2&$C2,BASE!$A:$AU,COLUMN(BASE!L2),0) -> 3 | ... AT2: =VLOOKUP($A2&$B2&$C2,BASE!$A:$AU,COLUMN(BASE!AU2),0) -> 0
A3: Non planifié | B3: MEGANE | C3: VIDANGE | D3: 3 | E3: 10 | F3: 1 | G3: 11 | H3: 5 | I3: 3 | J3: 10 | K3: 2 | L3: 2 | M3: 5 | N3: 3 | O3: 5 | P3: 11 | Q3: 9 | R3: 0 | S3: 10 | T3: 5 | U3: 0 | V3: 2 | W3: 3 | X3: 6 | Y3: 7 | Z3: 10 | AA3: 5 | AB3: 6 | AC3: 3 | AD3: 11 | AE3: 0 | AF3: 3 | AG3: 1 | AH3: 11 | AI3: 10 | AJ3: 10 | AK3: 5 | AL3: 6 | AM3: 3 | AN3: 3 | AO3: 8 | AP3: 1 | AQ3: 1 | AR3: 7
A4: planifié | B4: CLIOh | C4: PNEU | D4: =VLOOKUP($A4&$B4&$C4,BASE!$A:$AU,COLUMN(BASE!E4),0) -> 8 | E4: =VLOOKUP($A4&$B4&$C4,BASE!$A:$AU,COLUMN(BASE!F4),0) -> 0 | F4: =VLOOKUP($A4&$B4&$C4,BASE!$A:$AU,COLUMN(BASE!G4),0) -> 1 | G4: =VLOOKUP($A4&$B4&$C4,BASE!$A:$AU,COLUMN(BASE!H4),0) -> 3 | H4: =VLOOKUP($A4&$B4&$C4,BASE!$A:$AU,COLUMN(BASE!I4),0) -> 4 | I4: =VLOOKUP($A4&$B4&$C4,BASE!$A:$AU,COLUMN(BASE!J4),0) -> 4 | J4: =VLOOKUP($A4&$B4&$C4,BASE!$A:$AU,COLUMN(BASE!K4),0) -> 3 | K4: =VLOOKUP($A4&$B4&$C4,BASE!$A:$AU,COLUMN(BASE!L4),0) -> 2 | ... AT4: =VLOOKUP($A4&$B4&$C4,BASE!$A:$AU,COLUMN(BASE!AU4),0) -> 0
A5: planifié | B5: alpha | C5: POMME | D5: =VLOOKUP($A5&$B5&$C5,BASE!$A:$AU,COLUMN(BASE!E5),0) -> 4 | E5: =VLOOKUP($A5&$B5&$C5,BASE!$A:$AU,COLUMN(BASE!F5),0) -> 7 | F5: =VLOOKUP($A5&$B5&$C5,BASE!$A:$AU,COLUMN(BASE!G5),0) -> 2 | G5: =VLOOKUP($A5&$B5&$C5,BASE!$A:$AU,COLUMN(BASE!H5),0) -> 7 | H5: =VLOOKUP($A5&$B5&$C5,BASE!$A:$AU,COLUMN(BASE!I5),0) -> 5 | I5: =VLOOKUP($A5&$B5&$C5,BASE!$A:$AU,COLUMN(BASE!J5),0) -> 5 | J5: =VLOOKUP($A5&$B5&$C5,BASE!$A:$AU,COLUMN(BASE!K5),0) -> 6 | K5: =VLOOKUP($A5&$B5&$C5,BASE!$A:$AU,COLUMN(BASE!L5),0) -> 5 | ... AT5: =VLOOKUP($A5&$B5&$C5,BASE!$A:$AU,COLUMN(BASE!AU5),0) -> 0
A6: planifié | B6: twingo | C6: BARBECUE | D6: =VLOOKUP($A6&$B6&$C6,BASE!$A:$AU,COLUMN(BASE!E6),0) -> 4 | E6: =VLOOKUP($A6&$B6&$C6,BASE!$A:$AU,COLUMN(BASE!F6),0) -> 4 | F6: =VLOOKUP($A6&$B6&$C6,BASE!$A:$AU,COLUMN(BASE!G6),0) -> 6 | G6: =VLOOKUP($A6&$B6&$C6,BASE!$A:$AU,COLUMN(BASE!H6),0) -> 4 | H6: =VLOOKUP($A6&$B6&$C6,BASE!$A:$AU,COLUMN(BASE!I6),0) -> 6 | I6: =VLOOKUP($A6&$B6&$C6,BASE!$A:$AU,COLUMN(BASE!J6),0) -> 1 | J6: =VLOOKUP($A6&$B6&$C6,BASE!$A:$AU,COLUMN(BASE!K6),0) -> 4 | K6: =VLOOKUP($A6&$B6&$C6,BASE!$A:$AU,COLUMN(BASE!L6),0) -> 0 | ... AT6: =VLOOKUP($A6&$B6&$C6,BASE!$A:$AU,COLUMN(BASE!AU6),0) -> 0
A7: planifié | B7: merguez :D | C7: BARBECUE | D7: =VLOOKUP($A7&$B7&$C7,BASE!$A:$AU,COLUMN(BASE!E7),0) -> 6 | E7: =VLOOKUP($A7&$B7&$C7,BASE!$A:$AU,COLUMN(BASE!F7),0) -> 0 | F7: =VLOOKUP($A7&$B7&$C7,BASE!$A:$AU,COLUMN(BASE!G7),0) -> 7 | G7: =VLOOKUP($A7&$B7&$C7,BASE!$A:$AU,COLUMN(BASE!H7),0) -> 1 | H7: =VLOOKUP($A7&$B7&$C7,BASE!$A:$AU,COLUMN(BASE!I7),0) -> 5 | I7: =VLOOKUP($A7&$B7&$C7,BASE!$A:$AU,COLUMN(BASE!J7),0) -> 1 | J7: =VLOOKUP($A7&$B7&$C7,BASE!$A:$AU,COLUMN(BASE!K7),0) -> 1 | K7: =VLOOKUP($A7&$B7&$C7,BASE!$A:$AU,COLUMN(BASE!L7),0) -> 2 | ... AT7: =VLOOKUP($A7&$B7&$C7,BASE!$A:$AU,COLUMN(BASE!AU7),0) -> 0
A8: planifié | B8: CHAUSSURE | C8: BANANE | D8: =VLOOKUP($A8&$B8&$C8,BASE!$A:$AU,COLUMN(BASE!E8),0) -> 3 | E8: =VLOOKUP($A8&$B8&$C8,BASE!$A:$AU,COLUMN(BASE!F8),0) -> 6 | F8: =VLOOKUP($A8&$B8&$C8,BASE!$A:$AU,COLUMN(BASE!G8),0) -> 2 | G8: =VLOOKUP($A8&$B8&$C8,BASE!$A:$AU,COLUMN(BASE!H8),0) -> 0 | H8: =VLOOKUP($A8&$B8&$C8,BASE!$A:$AU,COLUMN(BASE!I8),0) -> 7 | I8: =VLOOKUP($A8&$B8&$C8,BASE!$A:$AU,COLUMN(BASE!J8),0) -> 3 | J8: =VLOOKUP($A8&$B8&$C8,BASE!$A:$AU,COLUMN(BASE!K8),0) -> 1 | K8: =VLOOKUP($A8&$B8&$C8,BASE!$A:$AU,COLUMN(BASE!L8),0) -> 7 | ... AT8: =VLOOKUP($A8&$B8&$C8,BASE!$A:$AU,COLUMN(BASE!AU8),0) -> 0
