Workbook
Name Articles: OFFSET(Fournisseurs,,-2,)
Name Fournisseurs: OFFSET(Articles!$D$2,,,COUNTIF(Articles!$D:$D,"><")-1)

Sheet Liste commande
A1: N° CDE | B1: Date | C1: Fournisseur | D1: Matériels | E1: Par | J1: =YEAR(TODAY()) -> 2022
A2: CFZW22045 | B2: 1 | C2: x | D2: x | E2: x | I2: CFZW
A3: =IF(B3<>"","CFZW"&22&TEXT(MID(A2,7,3)+1,"000"),0) -> CFZW22046 | B3: 44703 | C3: ART WORK STUDIO | K3: =TEXT(MID(J2,5,3),"000")
A4: =IF(B4<>"","CFZW"&22&TEXT(MID(A3,7,3)+1,"000"),0) -> 0 | K4: =TEXT(MID(I3,45,2),"000")
A5: =IF(B5<>"","CFZW"&22&TEXT(MID(A4,7,3)+1,"000"),0) -> 0 | K5: =TEXT(MID(I4,45,2),"000")
A6: =IF(B6<>"","CFZW"&22&TEXT(MID(A5,7,3)+1,"000"),0) -> 0 | K6: =TEXT(MID(I5,45,2),"000")
A7: =IF(B7<>"","CFZW"&22&TEXT(MID(A6,7,3)+1,"000"),0) -> 0 | K7: =TEXT(MID(I6,45,2),"000")
A8: =IF(B8<>"","CFZW"&22&TEXT(MID(A7,7,3)+1,"000"),0) -> 0 | K8: =TEXT(MID(I7,45,2),"000")
A9: =IF(B9<>"","CFZW"&22&TEXT(MID(A8,7,3)+1,"000"),0) -> 0
A10: =IF(B10<>"","CFZW"&22&TEXT(MID(A9,7,3)+1,"000"),0) -> 0
A11: =IF(B11<>"","CFZW"&22&TEXT(MID(A10,7,3)+1,"000"),0) -> 0
A12: =IF(B12<>"","CFZW"&22&TEXT(MID(A11,7,3)+1,"000"),0) -> 0
A13: =IF(B13<>"","CFZW"&22&TEXT(MID(A12,7,3)+1,"000"),0) -> 0
A14: =IF(B14<>"","CFZW"&22&TEXT(MID(A13,7,3)+1,"000"),0) -> 0
A15: =IF(B15<>"","CFZW"&22&TEXT(MID(A14,7,3)+1,"000"),0) -> 0
A16: =IF(B16<>"","CFZW"&22&TEXT(MID(A15,7,3)+1,"000"),0) -> 0
A17: =IF(B17<>"","CFZW"&22&TEXT(MID(A16,7,3)+1,"000"),0) -> 0
A18: =IF(B18<>"","CFZW"&22&TEXT(MID(A17,7,3)+1,"000"),0) -> 0
A19: =IF(B19<>"","CFZW"&22&TEXT(MID(A18,7,3)+1,"000"),0) -> 0
A20: =IF(B20<>"","CFZW"&22&TEXT(MID(A19,7,3)+1,"000"),0) -> 0
... A504: =IF(B504<>"","CFZW"&22&TEXT(MID(A503,7,3)+1,"000"),0) -> 0

Sheet Bon de commande
E2: COMMANDE N° : | G2: =LOOKUP("zz",'Liste commande'!A:A) -> CFZW22046
A4: 12, rue du vélo
A5: 31100 TOULOUSE | E5: Date : | F5: =VLOOKUP(G2,'Liste commande'!A1:E617,2) -> 44703
A6: SAS au capital de 150 0000 €
A7: Siret : xxxxx | E7: Société | F7: ='Liste commande'!C3 -> ART WORK STUDIO
A8: RCS : Toulouse | E8: Adresse | F8: =IF(VLOOKUP(F7,Fournisseurs!A2:N60,2)=0,"",VLOOKUP(F7,Fournisseurs!A2:N60,2)) -> 22 bis rue Vestrepain
A9: TVA : FRxxxxxx
A10: Mail : moi | E10: CP | F10: =IF(VLOOKUP(F7,Fournisseurs!A2:N60,3)=0,"",VLOOKUP(F7,Fournisseurs!A2:N60,3)) -> 31100
A11: Tél : 01 01 01 01 01 | E11: Ville | F11: =IF(VLOOKUP(F7,Fournisseurs!A2:N60,4)=0,"",VLOOKUP(F7,Fournisseurs!A2:N60,4)) -> TOULOUSE
A12: Fax : 02 02 02 02 02 | E12: Contact | F12: =IF(VLOOKUP(F7,Fournisseurs!A2:N60,7)=0,"",VLOOKUP(F7,Fournisseurs!A2:N60,7))
E13: Mail | F13: =IF(VLOOKUP(F7,Fournisseurs!A2:N60,9)=0,"",VLOOKUP(F7,Fournisseurs!A2:N60,9))
A14: Contact: | B14: DG | C14: =VLOOKUP(B14,Listes!A3:E7,5) -> 03 03 03 03 03 | E14: Téléphone | F14: =IF(VLOOKUP(F7,Fournisseurs!A2:N60,10)=0,"",VLOOKUP(F7,Fournisseurs!A2:N60,10))
A17: Ref ZW | B17: Ref fourn | C17: Désignation | F17: Quantité | G17: PU HT € | H17: PT HT €
H18: =F18*G18 -> 0
H19: =IF(G19*F19=0,"",F19*G19)
H20: =IF(G20*F20=0,"",F20*G20)
H21: =IF(G21*F21=0,"",F21*G21)
H22: =IF(G22*F22=0,"",F22*G22)
H23: =IF(G23*F23=0,"",F23*G23)
H24: =IF(G24*F24=0,"",F24*G24)
H25: =IF(G25*F25=0,"",F25*G25)
H26: =IF(G26*F26=0,"",F26*G26)
H27: =IF(G27*F27=0,"",F27*G27)
H28: =IF(G28*F28=0,"",F28*G28)
H29: =IF(G29*F29=0,"",F29*G29)
H30: =IF(G30*F30=0,"",F30*G30)
... H41: =IF(G41*F41=0,"",F41*G41)
G43: HT | H43: =SUM(H19:H42) -> 0
G44: TVA | H44: =0.2*H43 -> 0
G45: TTC | H45: =SUM(H43:H44) -> 0
A47: Notes :

Sheet Articles
A1: Type | B1: Référence ZW | C1: Intitulé | D1: Fournisseur | E1: Référence fournisseur | F1: Cat | G1: Référence ZW | I1: Rack | J1: Etage | K1: PU
A2: ACCESSOIRE | B2: =F2&"-"&TEXT(COUNTIF(A$2:A2,A2),"0000") -> ACCE-0001 | C2: Pile CR1225 | D2: RUTRONIK | E2: CR1225.IB | F2: =VLOOKUP(A2,$M$6:$N$17,2) -> ACCE | G2: =F2&"-"&TEXT(COUNTIF(F$2:F2,F2),"0000") -> ACCE-0001
A3: ACCESSOIRE | B3: =F3&"-"&TEXT(COUNTIF(A$2:A3,A3),"0000") -> ACCE-0002 | C3: Arceau Inox 304L | D3: TSM 31 | E3: Arceau inox 304L | F3: =VLOOKUP(A3,$M$6:$N$17,2) -> ACCE | G3: =F3&"-"&TEXT(COUNTIF(F$2:F3,F3),"0000") -> ACCE-0002 | I3: Sol
A4: ELECTRICITE | B4: =F4&"-"&TEXT(COUNTIF(A$2:A4,A4),"0000") -> ELEC-0001 | C4: Bornier vis PHOENIX 3044199 - UT 16 phase | D4: AUTOMATION 24 | E4: 100799 | F4: =VLOOKUP(A4,$M$6:$N$17,2) -> ELEC | G4: =F4&"-"&TEXT(COUNTIF(F$2:F4,F4),"0000") -> ELEC-0001
A5: ELECTRICITE | B5: =F5&"-"&TEXT(COUNTIF(A$2:A5,A5),"0000") -> ELEC-0002 | C5: Bornier vis PHOENIX 3044209 - UT16 neutre | D5: AUTOMATION 24 | E5: 100800 | F5: =VLOOKUP(A5,$M$6:$N$17,2) -> ELEC | G5: =F5&"-"&TEXT(COUNTIF(F$2:F5,F5),"0000") -> ELEC-0002
A6: ELECTRICITE | B6: =F6&"-"&TEXT(COUNTIF(A$2:A6,A6),"0000") -> ELEC-0003 | C6: Bornier vis PHOENIX 3044212 - UT16 terre | D6: AUTOMATION 24 | E6: 100801 | F6: =VLOOKUP(A6,$M$6:$N$17,2) -> ELEC | G6: =F6&"-"&TEXT(COUNTIF(F$2:F6,F6),"0000") -> ELEC-0003 | M6: ACCESSOIRE | N6: ACCE
A7: ELECTRICITE | B7: =F7&"-"&TEXT(COUNTIF(A$2:A7,A7),"0000") -> ELEC-0004 | C7: Bornier vis PHOENIX 3044225 - UT35 phase | D7: AUTOMATION 24 | E7: 100802 | F7: =VLOOKUP(A7,$M$6:$N$17,2) -> ELEC | G7: =F7&"-"&TEXT(COUNTIF(F$2:F7,F7),"0000") -> ELEC-0004 | M7: ELECTRICITE | N7: ELEC
A8: ELECTRICITE | B8: =F8&"-"&TEXT(COUNTIF(A$2:A8,A8),"0000") -> ELEC-0005 | C8: Bornier vis PHOENIX 3044238 - UT35 neutre | D8: AUTOMATION 24 | E8: 100803 | F8: =VLOOKUP(A8,$M$6:$N$17,2) -> ELEC | G8: =F8&"-"&TEXT(COUNTIF(F$2:F8,F8),"0000") -> ELEC-0005 | M8: ELECTRONIQUE | N8: TRON
A9: ELECTRICITE | B9: =F9&"-"&TEXT(COUNTIF(A$2:A9,A9),"0000") -> ELEC-0006 | C9: Bornier vis PHOENIX 3044241 - UT35 terre | D9: AUTOMATION 24 | E9: 100804 | F9: =VLOOKUP(A9,$M$6:$N$17,2) -> ELEC | G9: =F9&"-"&TEXT(COUNTIF(F$2:F9,F9),"0000") -> ELEC-0006 | M9: FLOCAGE | N9: FLOC
A10: ELECTRICITE | B10: =F10&"-"&TEXT(COUNTIF(A$2:A10,A10),"0000") -> ELEC-0007 | C10: Couvercle PHOENIX 3047206 | D10: AUTOMATION 24 | E10: 100846 | F10: =VLOOKUP(A10,$M$6:$N$17,2) -> ELEC | G10: =F10&"-"&TEXT(COUNTIF(F$2:F10,F10),"0000") -> ELEC-0007 | M10: FOURNITURE | N10: FOUR
A11: ELECTRICITE | B11: =F11&"-"&TEXT(COUNTIF(A$2:A11,A11),"0000") -> ELEC-0008 | C11: Ecrou presse étoupe M16 | D11: AUTOMATION 24 | E11: 102460 | F11: =VLOOKUP(A11,$M$6:$N$17,2) -> ELEC | G11: =F11&"-"&TEXT(COUNTIF(F$2:F11,F11),"0000") -> ELEC-0008 | M11: INFORMATIQUE | N11: INFO
A12: ELECTRICITE | B12: =F12&"-"&TEXT(COUNTIF(A$2:A12,A12),"0000") -> ELEC-0009 | C12: Ecrou presse étoupe M25 | D12: AUTOMATION 24 | E12: 102462 | F12: =VLOOKUP(A12,$M$6:$N$17,2) -> ELEC | G12: =F12&"-"&TEXT(COUNTIF(F$2:F12,F12),"0000") -> ELEC-0009 | M12: MECANIQUE | N12: MECA
A13: ELECTRICITE | B13: =F13&"-"&TEXT(COUNTIF(A$2:A13,A13),"0000") -> ELEC-0010 | C13: Presse étoupe M16 | D13: AUTOMATION 24 | E13: 102444 | F13: =VLOOKUP(A13,$M$6:$N$17,2) -> ELEC | G13: =F13&"-"&TEXT(COUNTIF(F$2:F13,F13),"0000") -> ELEC-0010 | M13: OUTILLAGE | N13: OUTI
A14: ELECTRICITE | B14: =F14&"-"&TEXT(COUNTIF(A$2:A14,A14),"0000") -> ELEC-0011 | C14: Presse étoupe M25 | D14: AUTOMATION 24 | E14: 102446 | F14: =VLOOKUP(A14,$M$6:$N$17,2) -> ELEC | G14: =F14&"-"&TEXT(COUNTIF(F$2:F14,F14),"0000") -> ELEC-0011 | M14: PLASTURGIE | N14: PLAST
A15: ELECTRICITE | B15: =F15&"-"&TEXT(COUNTIF(A$2:A15,A15),"0000") -> ELEC-0012 | C15: Presse étoupe M32 | D15: AUTOMATION 24 | E15: 102447 | F15: =VLOOKUP(A15,$M$6:$N$17,2) -> ELEC | G15: =F15&"-"&TEXT(COUNTIF(F$2:F15,F15),"0000") -> ELEC-0012 | M15: QUINCAILLERIE | N15: QUIN
A16: ELECTRICITE | B16: =F16&"-"&TEXT(COUNTIF(A$2:A16,A16),"0000") -> ELEC-0013 | C16: Câble 0,75mm² blanc | D16: CAE DATA | E16: VK075BL | F16: =VLOOKUP(A16,$M$6:$N$17,2) -> ELEC | G16: =F16&"-"&TEXT(COUNTIF(F$2:F16,F16),"0000") -> ELEC-0013 | M16: SOUS-ENSEMBLE | N16: SENS
A17: ELECTRICITE | B17: =F17&"-"&TEXT(COUNTIF(A$2:A17,A17),"0000") -> ELEC-0014 | C17: Câble 0,75mm² bleu | D17: CAE DATA | E17: VK075BC | F17: =VLOOKUP(A17,$M$6:$N$17,2) -> ELEC | G17: =F17&"-"&TEXT(COUNTIF(F$2:F17,F17),"0000") -> ELEC-0014 | M17: SOUS-TRAITANCE | N17: STRA
A18: ELECTRICITE | B18: =F18&"-"&TEXT(COUNTIF(A$2:A18,A18),"0000") -> ELEC-0015 | C18: Câble 0,75mm² gris | D18: CAE DATA | E18: VK075G | F18: =VLOOKUP(A18,$M$6:$N$17,2) -> ELEC | G18: =F18&"-"&TEXT(COUNTIF(F$2:F18,F18),"0000") -> ELEC-0015
A19: ELECTRICITE | B19: =F19&"-"&TEXT(COUNTIF(A$2:A19,A19),"0000") -> ELEC-0016 | C19: Câble 0,75mm² marron | D19: CAE DATA | E19: VK075MA | F19: =VLOOKUP(A19,$M$6:$N$17,2) -> ELEC | G19: =F19&"-"&TEXT(COUNTIF(F$2:F19,F19),"0000") -> ELEC-0016 | M19: Sol
A20: ELECTRICITE | B20: =F20&"-"&TEXT(COUNTIF(A$2:A20,A20),"0000") -> ELEC-0017 | C20: Câble 0,75mm² noir | D20: CAE DATA | E20: VK075N | F20: =VLOOKUP(A20,$M$6:$N$17,2) -> ELEC | G20: =F20&"-"&TEXT(COUNTIF(F$2:F20,F20),"0000") -> ELEC-0017 | M20: Découpe | N20: 1 | O20: {=OFFSET(Fournisseurs,,-2,)} -> ACCE-0001
A21: ELECTRICITE | B21: =F21&"-"&TEXT(COUNTIF(A$2:A21,A21),"0000") -> ELEC-0018 | C21: Câble 0,75mm² rouge | D21: CAE DATA | E21: VK075R | F21: =VLOOKUP(A21,$M$6:$N$17,2) -> ELEC | G21: =F21&"-"&TEXT(COUNTIF(F$2:F21,F21),"0000") -> ELEC-0018 | M21: A | N21: 2 | O21: ACCE-0002
A22: ELECTRICITE | B22: =F22&"-"&TEXT(COUNTIF(A$2:A22,A22),"0000") -> ELEC-0019 | C22: Câble 0,75mm² vert/jaune | D22: CAE DATA | E22: VK075VJ | F22: =VLOOKUP(A22,$M$6:$N$17,2) -> ELEC | G22: =F22&"-"&TEXT(COUNTIF(F$2:F22,F22),"0000") -> ELEC-0019 | M22: B | N22: 3 | O22: ELEC-0001
A23: ELECTRICITE | B23: =F23&"-"&TEXT(COUNTIF(A$2:A23,A23),"0000") -> ELEC-0020 | C23: Câble 0,75mm² violet | D23: CAE DATA | E23: VK075VI | F23: =VLOOKUP(A23,$M$6:$N$17,2) -> ELEC | G23: =F23&"-"&TEXT(COUNTIF(F$2:F23,F23),"0000") -> ELEC-0020 | M23: C | N23: 4 | O23: ELEC-0002
A24: ELECTRICITE | B24: =F24&"-"&TEXT(COUNTIF(A$2:A24,A24),"0000") -> ELEC-0021 | C24: Câble 2,5mm² bleu | D24: CAE DATA | E24: VK25BC | F24: =VLOOKUP(A24,$M$6:$N$17,2) -> ELEC | G24: =F24&"-"&TEXT(COUNTIF(F$2:F24,F24),"0000") -> ELEC-0021 | M24: D | N24: 5 | O24: ELEC-0003
A25: ELECTRICITE | B25: =F25&"-"&TEXT(COUNTIF(A$2:A25,A25),"0000") -> ELEC-0022 | C25: Câble 2,5mm² noir | D25: CAE DATA | E25: VK25N | F25: =VLOOKUP(A25,$M$6:$N$17,2) -> ELEC | G25: =F25&"-"&TEXT(COUNTIF(F$2:F25,F25),"0000") -> ELEC-0022 | M25: E | N25: 6 | O25: ELEC-0004
A26: ELECTRICITE | B26: =F26&"-"&TEXT(COUNTIF(A$2:A26,A26),"0000") -> ELEC-0023 | C26: Câble 2,5mm² vert/jaune | D26: CAE DATA | E26: VK25VJ | F26: =VLOOKUP(A26,$M$6:$N$17,2) -> ELEC | G26: =F26&"-"&TEXT(COUNTIF(F$2:F26,F26),"0000") -> ELEC-0023 | M26: F | O26: ELEC-0005
A27: ELECTRICITE | B27: =F27&"-"&TEXT(COUNTIF(A$2:A27,A27),"0000") -> ELEC-0024 | C27: Câble 4mm² bleu | D27: CAE DATA | E27: VK4BC | F27: =VLOOKUP(A27,$M$6:$N$17,2) -> ELEC | G27: =F27&"-"&TEXT(COUNTIF(F$2:F27,F27),"0000") -> ELEC-0024 | M27: G | O27: ELEC-0006
A28: ELECTRICITE | B28: =F28&"-"&TEXT(COUNTIF(A$2:A28,A28),"0000") -> ELEC-0025 | C28: Câble 4mm² noir | D28: CAE DATA | E28: VK4N | F28: =VLOOKUP(A28,$M$6:$N$17,2) -> ELEC | G28: =F28&"-"&TEXT(COUNTIF(F$2:F28,F28),"0000") -> ELEC-0025 | M28: H | O28: ELEC-0007
A29: ELECTRICITE | B29: =F29&"-"&TEXT(COUNTIF(A$2:A29,A29),"0000") -> ELEC-0026 | C29: Câble 4mm² vert/jaune | D29: CAE DATA | E29: VK4VJ | F29: =VLOOKUP(A29,$M$6:$N$17,2) -> ELEC | G29: =F29&"-"&TEXT(COUNTIF(F$2:F29,F29),"0000") -> ELEC-0026 | M29: I | O29: ELEC-0008
A30: ELECTRICITE | B30: =F30&"-"&TEXT(COUNTIF(A$2:A30,A30),"0000") -> ELEC-0027 | C30: Câble 6mm² bleu | D30: CAE DATA | E30: VK6BC | F30: =VLOOKUP(A30,$M$6:$N$17,2) -> ELEC | G30: =F30&"-"&TEXT(COUNTIF(F$2:F30,F30),"0000") -> ELEC-0027 | M30: J | O30: ELEC-0009
A31: ELECTRICITE | B31: =F31&"-"&TEXT(COUNTIF(A$2:A31,A31),"0000") -> ELEC-0028 | C31: Câble 6mm² noir | D31: CAE DATA | E31: VK6N | F31: =VLOOKUP(A31,$M$6:$N$17,2) -> ELEC | G31: =F31&"-"&TEXT(COUNTIF(F$2:F31,F31),"0000") -> ELEC-0028 | M31: K | O31: ELEC-0010
A32: ELECTRICITE | B32: =F32&"-"&TEXT(COUNTIF(A$2:A32,A32),"0000") -> ELEC-0029 | C32: Câble 6mm² vert/jaune | D32: CAE DATA | E32: VK6VJ | F32: =VLOOKUP(A32,$M$6:$N$17,2) -> ELEC | G32: =F32&"-"&TEXT(COUNTIF(F$2:F32,F32),"0000") -> ELEC-0029 | M32: L | O32: ELEC-0011
A33: ELECTRICITE | B33: =F33&"-"&TEXT(COUNTIF(A$2:A33,A33),"0000") -> ELEC-0030 | C33: Boitier collaborateur | D33: ELEC SUD OUEST | E33: FIB8120006N-FIBOX-ARCA 403015N | F33: =VLOOKUP(A33,$M$6:$N$17,2) -> ELEC | G33: =F33&"-"&TEXT(COUNTIF(F$2:F33,F33),"0000") -> ELEC-0030 | M33: M | O33: ELEC-0012
A34: ELECTRICITE | B34: =F34&"-"&TEXT(COUNTIF(A$2:A34,A34),"0000") -> ELEC-0031 | C34: Platine boitier collaborateur | D34: ELEC SUD OUEST | E34: FIB8120733-FIBOX-MPS ARCA 4030 | F34: =VLOOKUP(A34,$M$6:$N$17,2) -> ELEC | G34: =F34&"-"&TEXT(COUNTIF(F$2:F34,F34),"0000") -> ELEC-0031 | M34: N | O34: ELEC-0013
A35: ELECTRICITE | B35: =F35&"-"&TEXT(COUNTIF(A$2:A35,A35),"0000") -> ELEC-0032 | C35: Profil DIN symétrique H7,5 | D35: ELEC SUD OUEST | E35: TEKDIN1065 | F35: =VLOOKUP(A35,$M$6:$N$17,2) -> ELEC | G35: =F35&"-"&TEXT(COUNTIF(F$2:F35,F35),"0000") -> ELEC-0032 | M35: O | O35: ELEC-0014
A36: ELECTRICITE | B36: =F36&"-"&TEXT(COUNTIF(A$2:A36,A36),"0000") -> ELEC-0033 | C36: Passe cable M20 | D36: LANDEFELD | E36: KDF20 | F36: =VLOOKUP(A36,$M$6:$N$17,2) -> ELEC | G36: =F36&"-"&TEXT(COUNTIF(F$2:F36,F36),"0000") -> ELEC-0033 | M36: P | O36: ELEC-0015
A37: ELECTRICITE | B37: =F37&"-"&TEXT(COUNTIF(A$2:A37,A37),"0000") -> ELEC-0034 | C37: Compteur CONTAX D TRI 80A MODBUS | D37: MCI | E37: 031 333 | F37: =VLOOKUP(A37,$M$6:$N$17,2) -> ELEC | G37: =F37&"-"&TEXT(COUNTIF(F$2:F37,F37),"0000") -> ELEC-0034 | M37: Q | O37: ELEC-0016
A38: ELECTRICITE | B38: =F38&"-"&TEXT(COUNTIF(A$2:A38,A38),"0000") -> ELEC-0035 | C38: Compteur MONO CONTAX 1M MID 100A | D38: MCI | E38: 031 331 | F38: =VLOOKUP(A38,$M$6:$N$17,2) -> ELEC | G38: =F38&"-"&TEXT(COUNTIF(F$2:F38,F38),"0000") -> ELEC-0035 | M38: R | O38: ELEC-0017
A39: ELECTRICITE | B39: =F39&"-"&TEXT(COUNTIF(A$2:A39,A39),"0000") -> ELEC-0036 | C39: Bonchon noir d20 | D39: RS | E39: 124-4448 | F39: =VLOOKUP(A39,$M$6:$N$17,2) -> ELEC | G39: =F39&"-"&TEXT(COUNTIF(F$2:F39,F39),"0000") -> ELEC-0036 | O39: ELEC-0018
A40: ELECTRICITE | B40: =F40&"-"&TEXT(COUNTIF(A$2:A40,A40),"0000") -> ELEC-0037 | C40: Bloc de prise supérieur T2S-T2C (moteur) | D40: SCAME | E40: 200.23261BS | F40: =VLOOKUP(A40,$M$6:$N$17,2) -> ELEC | G40: =F40&"-"&TEXT(COUNTIF(F$2:F40,F40),"0000") -> ELEC-0037 | O40: ELEC-0019
...

Sheet Fournisseurs
A1: Nom | B1: Adresse | C1: CP | D1: Ville | E1: N° client | F1: Remise | G1: Nom contact 1 | H1: Prénom contact 1 | I1: Contact 1 mail | J1: Contact 1 téléphone | K1: Nom contact 2 | L1: Prénom contact 2 | M1: Contact 2 mail | N1: Contact 2 téléphone
A2: AFDN | B2: 1, chemin de Novital | C2: 31150 | D2: LESPINASSE
A3: ART WORK STUDIO | B3: 22 bis rue Vestrepain | C3: 31100 | D3: TOULOUSE
A4: AUTOMATION 24 | B4: Hinsbecker Loh 10 - GERMANY | C4: 45257 | D4: ESSEN | E4: 1029022
A5: AZUR CAOUTCHOUC | B5: ZI secteur A6, Allée des arts graphiques | C5: 6700 | D5: SAINT LAURENT DU VAR | E5: 3993
A6: BEAUCHAMP SA | B6: 47, Rue Pasteur | C6: 38180 | D6: SEYSSINS | E6: 125028
A7: CAE DATA | B7: Air Park de Paris, Batiment le Caromoran, 3, rue Jeanne Garnerin | C7: 91320 | D7: WISSOUS | E7: 1ZEWATT31
A8: CONRAD | E8: 512501498
A9: DIGI KEY | B9: 701, Broocks Ave South PO BOX677 Thief River Falls MN 56701-0677
A10: DP INOX | B10: 12, rue Clément ADER | C10: 31140 | D10: AUCAMVILLE
A11: ELEC SUD OUEST | B11: 13, Avenue de Larrieu | C11: 31100 | D11: TOULOUSE
A12: EUROLOCKS | B12: 1, Rue du stade | C12: 57730 | D12: FOLSCHVILLER
A13: FILM POUR VITRE | B13: 587, Rue Pierre Poivre ZAC La Tuilerie | C13: 1330 | D13: VILLARS LES DOMBES
A14: FOUSSIER | B14: 343 AV DES ETATS UNIS | C14: 31200 | D14: TOULOUSE
A15: GUYENNE PLASTIQUE | B15: Rebequet | C15: 47800 | D15: SAINT PARDOUX ISAAC
A16: LANDEFELD
A17: LES CINTREURS REUNIS | B17: 15, Chemin des mésanges | C17: 31120 | D17: PORTET SUR GARONNE
A18: MCI | B18: Parc des Carrouges, Chemin de Montreuil à Claye | C18: 93140 | D18: BONDY
A19: MECALASER | B19: ZI de la Pomme | C19: 31250 | D19: REVEL
A20: MOUSER ELECTRONIQUE | B20: 1000 North Main Street TX - USA | C20: 76063 | D20: MAINSFIELD | E20: 5869934
A21: OMEGA | B21: 220 Rue Ferdinand Perrier | C21: 69800 | D21: SAINT PRIEST | E21: 3063
A22: ORANGE
A23: PACK DISCOUNT | B23: 2, Rue Camille Decauville | C23: 91250 | D23: TIGERY | E23: 1008839
A24: PLASTI-D | B24: 4 av des Violettes | C24: 94380 | D24: BONNEUIL SUR MARNE
A25: PSP | B25: 10, Rue JF Romieu | C25: 31600 | D25: MURET
A26: RACTEM | B26: 6, Avenue Neil Amstrong | C26: 33692 | D26: MERIGNAC CEDEX
A27: RS
A28: RUTRONIK | B28: Industriestraße 2 - GERMANY | C28: 75228 | D28: Ispringen
A29: SCAME
A30: SIGNALETIQUE BIZ
A31: SONEPAR | B31: 3 rue de l’égalité | C31: 31200 | D31: TOULOUSE
A32: STOPP COMPOSITE | B32: 5 rue Pavlov - ZAI des Bruyères Bureaux: Entrée N°2 - Entrepôt: Accès F | C32: 78190 | D32: TRAPPES EN YVELINES
A33: SUPERMAGNET.FR
A34: TEAM 31
A35: TELTONIKA
A36: TME | B36: 93-350 Lodz, ul.Ustronna 41 | D36: POLAND | E36: 5445326
A37: TONER PARTNER
A38: TRANSATEL
A39: TSM 31 | B39: 17 Imp. Didier Daurat | C39: 31400 | D39: TOULOUSE
A40: WAGO | B40: 83, rue des Chardonnerets PARIS NORD 2 – BP 55065 | C40: 95947 | D40: ROISSY CDG CEDEX
...

Sheet Listes
A1: PAR
A2: INITIALS | B2: NOM | C2: PRENOM | D2: MAIL | E2: TEL
A3: DG | B3: G | C3: D | E3: 03 03 03 03 03
A4: HD | B4: D | C4: H | E4: 04 04 04 04 04
A5: JA | B5: A | C5: J | E5: 05 05 05 05 05

Sheet Base
B1: {=TRANSPOSE(Fournisseurs!A2:A100)} -> AFDN | C1: ART WORK STUDIO | D1: AUTOMATION 24 | E1: AZUR CAOUTCHOUC | F1: BEAUCHAMP SA | G1: CAE DATA | H1: CONRAD | I1: DIGI KEY | J1: DP INOX | K1: ELEC SUD OUEST | L1: EUROLOCKS | M1: FILM POUR VITRE | N1: FOUSSIER | O1: GUYENNE PLASTIQUE | P1: LANDEFELD | Q1: LES CINTREURS REUNIS | R1: MCI | S1: MECALASER | T1: MOUSER ELECTRONIQUE | U1: OMEGA | V1: ORANGE | W1: PACK DISCOUNT | X1: PLASTI-D | Y1: PSP | Z1: RACTEM | AA1: RS | AB1: RUTRONIK | AC1: SCAME | AD1: SIGNALETIQUE BIZ | AE1: SONEPAR | AF1: STOPP COMPOSITE | AG1: SUPERMAGNET.FR | AH1: TEAM 31 | AI1: TELTONIKA | AJ1: TME | AK1: TONER PARTNER | AL1: TRANSATEL | AM1: TSM 31 | AN1: WAGO | AO1: YESSS ELECTRIQUE | AP1: ZW | AQ1: 0 | AR1: 0 | AS1: 0 | AT1: 0 | AU1: 0 | AV1: 0 | AW1: 0 | AX1: 0 | AY1: 0 | AZ1: 0 | BA1: 0 | BB1: 0 | BC1: 0 | BD1: 0 | BE1: 0 | BF1: 0 | BG1: 0 | BH1: 0 | BI1: 0 | BJ1: 0 | BK1: 0 | BL1: 0 | BM1: 0 | BN1: 0 | BO1: 0 | BP1: 0 | BQ1: 0 | BR1: 0 | BS1: 0 | BT1: 0 | BU1: 0 | BV1: 0 | BW1: 0 | BX1: 0 | BY1: 0 | BZ1: 0 | CA1: 0 | CB1: 0 | CC1: 0 | CD1: 0 | CE1: 0 | CF1: 0 | CG1: 0 | CH1: 0 | CI1: 0 | CJ1: 0 | CK1: 0 | CL1: 0 | CM1: 0 | CN1: 0 | CO1: 0 | CP1: 0 | CQ1: 0 | CR1: 0 | CS1: 0 | CT1: 0 | CU1: 0 | CV1: 0
B2: {=IFERROR(INDEX(reference,SMALL(IF(Fournisseurs=B$1,ROW(Fournisseurs)-1,""), ROW(A1))),"")} | C2: {=IFERROR(INDEX(reference,SMALL(IF(Fournisseurs=C$1,ROW(Fournisseurs)-1,""), ROW(B1))),"")} | D2: {=IFERROR(INDEX(reference,SMALL(IF(Fournisseurs=D$1,ROW(Fournisseurs)-1,""), ROW(C1))),"")} | E2: {=IFERROR(INDEX(reference,SMALL(IF(Fournisseurs=E$1,ROW(Fournisseurs)-1,""), ROW(D1))),"")} | F2: {=IFERROR(INDEX(reference,SMALL(IF(Fournisseurs=F$1,ROW(Fournisseurs)-1,""), ROW(E1))),"")} | G2: {=IFERROR(INDEX(reference,SMALL(IF(Fournisseurs=G$1,ROW(Fournisseurs)-1,""), ROW(F1))),"")} | H2: {=IFERROR(INDEX(reference,SMALL(IF(Fournisseurs=H$1,ROW(Fournisseurs)-1,""), ROW(G1))),"")} | I2: {=IFERROR(INDEX(reference,SMALL(IF(Fournisseurs=I$1,ROW(Fournisseurs)-1,""), ROW(H1))),"")} | ... L2: {=IFERROR(INDEX(reference,SMALL(IF(Fournisseurs=L$1,ROW(Fournisseurs)-1,""), ROW(K1))),"")}
B393: =IF(Articles!$D394=Base!$B$1,Articles!$G394,"") | C393: =IF(Articles!$D394=Base!$C$1,Articles!$G394,"") | D393: =IF(Articles!$D394=Base!$D$1,Articles!$G394,"")
B394: =IF(Articles!$D395=Base!$B$1,Articles!$G395,"") | C394: =IF(Articles!$D395=Base!$C$1,Articles!$G395,"") | D394: =IF(Articles!$D395=Base!$D$1,Articles!$G395,"")
B395: =IF(Articles!$D396=Base!$B$1,Articles!$G396,"") | C395: =IF(Articles!$D396=Base!$C$1,Articles!$G396,"") | D395: =IF(Articles!$D396=Base!$D$1,Articles!$G396,"")
B396: =IF(Articles!$D397=Base!$B$1,Articles!$G397,"") | C396: =IF(Articles!$D397=Base!$C$1,Articles!$G397,"") | D396: =IF(Articles!$D397=Base!$D$1,Articles!$G397,"")
B397: =IF(Articles!$D398=Base!$B$1,Articles!$G398,"") | C397: =IF(Articles!$D398=Base!$C$1,Articles!$G398,"") | D397: =IF(Articles!$D398=Base!$D$1,Articles!$G398,"")
B398: =IF(Articles!$D399=Base!$B$1,Articles!$G399,"") | C398: =IF(Articles!$D399=Base!$C$1,Articles!$G399,"") | D398: =IF(Articles!$D399=Base!$D$1,Articles!$G399,"")
