Workbook
Name Articles: OFFSET(Fournisseurs,,-2,)
Name Fournisseurs: OFFSET(Articles!$D$2,,,COUNTIF(Articles!$D:$D,"><")-1)

Sheet Liste commande
A1: N° CDE | B1: Date | C1: Fournisseur | D1: Matériels | E1: Par | J1: =YEAR(TODAY()) -> 2022
A2: CFZW22045 | B2: 1 | C2: x | D2: x | E2: x | I2: CFZW
A3: =IF(B3<>"","CFZW"&22&TEXT(MID(A2,7,3)+1,"000"),0) -> CFZW22046 | B3: 44703 | C3: ART WORK STUDIO | K3: =TEXT(MID(J2,5,3),"000")
A4: =IF(B4<>"","CFZW"&22&TEXT(MID(A3,7,3)+1,"000"),0) -> 0 | K4: =TEXT(MID(I3,45,2),"000")
A5: =IF(B5<>"","CFZW"&22&TEXT(MID(A4,7,3)+1,"000"),0) -> 0 | K5: =TEXT(MID(I4,45,2),"000")
A6: =IF(B6<>"","CFZW"&22&TEXT(MID(A5,7,3)+1,"000"),0) -> 0 | K6: =TEXT(MID(I5,45,2),"000")
A7: =IF(B7<>"","CFZW"&22&TEXT(MID(A6,7,3)+1,"000"),0) -> 0 | K7: =TEXT(MID(I6,45,2),"000")
A8: =IF(B8<>"","CFZW"&22&TEXT(MID(A7,7,3)+1,"000"),0) -> 0 | K8: =TEXT(MID(I7,45,2),"000")
A9: =IF(B9<>"","CFZW"&22&TEXT(MID(A8,7,3)+1,"000"),0) -> 0
A10: =IF(B10<>"","CFZW"&22&TEXT(MID(A9,7,3)+1,"000"),0) -> 0
A11: =IF(B11<>"","CFZW"&22&TEXT(MID(A10,7,3)+1,"000"),0) -> 0
A12: =IF(B12<>"","CFZW"&22&TEXT(MID(A11,7,3)+1,"000"),0) -> 0
A13: =IF(B13<>"","CFZW"&22&TEXT(MID(A12,7,3)+1,"000"),0) -> 0
A14: =IF(B14<>"","CFZW"&22&TEXT(MID(A13,7,3)+1,"000"),0) -> 0
A15: =IF(B15<>"","CFZW"&22&TEXT(MID(A14,7,3)+1,"000"),0) -> 0
A16: =IF(B16<>"","CFZW"&22&TEXT(MID(A15,7,3)+1,"000"),0) -> 0
A17: =IF(B17<>"","CFZW"&22&TEXT(MID(A16,7,3)+1,"000"),0) -> 0
A18: =IF(B18<>"","CFZW"&22&TEXT(MID(A17,7,3)+1,"000"),0) -> 0
A19: =IF(B19<>"","CFZW"&22&TEXT(MID(A18,7,3)+1,"000"),0) -> 0
A20: =IF(B20<>"","CFZW"&22&TEXT(MID(A19,7,3)+1,"000"),0) -> 0
... A504: =IF(B504<>"","CFZW"&22&TEXT(MID(A503,7,3)+1,"000"),0) -> 0

Sheet Bon de commande
E2: COMMANDE N° : | G2: =LOOKUP("zz",'Liste commande'!A:A) -> CFZW22046
A4: 12, rue du vélo
A5: 31100 TOULOUSE | E5: Date : | F5: =VLOOKUP(G2,'Liste commande'!A1:E617,2) -> 44703
A6: SAS au capital de 150 0000 €
A7: Siret : xxxxx | E7: Société | F7: ='Liste commande'!C3 -> ART WORK STUDIO
A8: RCS : Toulouse | E8: Adresse | F8: =IF(VLOOKUP(F7,Fournisseurs!A2:N60,2)=0,"",VLOOKUP(F7,Fournisseurs!A2:N60,2)) -> 22 bis rue Vestrepain
A9: TVA : FRxxxxxx
A10: Mail : moi | E10: CP | F10: =IF(VLOOKUP(F7,Fournisseurs!A2:N60,3)=0,"",VLOOKUP(F7,Fournisseurs!A2:N60,3)) -> 31100
A11: Tél : 01 01 01 01 01 | E11: Ville | F11: =IF(VLOOKUP(F7,Fournisseurs!A2:N60,4)=0,"",VLOOKUP(F7,Fournisseurs!A2:N60,4)) -> TOULOUSE
A12: Fax : 02 02 02 02 02 | E12: Contact | F12: =IF(VLOOKUP(F7,Fournisseurs!A2:N60,7)=0,"",VLOOKUP(F7,Fournisseurs!A2:N60,7))
E13: Mail | F13: =IF(VLOOKUP(F7,Fournisseurs!A2:N60,9)=0,"",VLOOKUP(F7,Fournisseurs!A2:N60,9))
A14: Contact: | B14: DG | C14: =VLOOKUP(B14,Listes!A3:E7,5) -> 03 03 03 03 03 | E14: Téléphone | F14: =IF(VLOOKUP(F7,Fournisseurs!A2:N60,10)=0,"",VLOOKUP(F7,Fournisseurs!A2:N60,10))
A17: Ref ZW | B17: Ref fourn | C17: Désignation | F17: Quantité | G17: PU HT € | H17: PT HT €
H18: =F18*G18 -> 0
H19: =IF(G19*F19=0,"",F19*G19)
H20: =IF(G20*F20=0,"",F20*G20)
H21: =IF(G21*F21=0,"",F21*G21)
H22: =IF(G22*F22=0,"",F22*G22)
H23: =IF(G23*F23=0,"",F23*G23)
H24: =IF(G24*F24=0,"",F24*G24)
H25: =IF(G25*F25=0,"",F25*G25)
H26: =IF(G26*F26=0,"",F26*G26)
H27: =IF(G27*F27=0,"",F27*G27)
H28: =IF(G28*F28=0,"",F28*G28)
H29: =IF(G29*F29=0,"",F29*G29)
H30: =IF(G30*F30=0,"",F30*G30)
... H41: =IF(G41*F41=0,"",F41*G41)
G43: HT | H43: =SUM(H19:H42) -> 0
G44: TVA | H44: =0.2*H43 -> 0
G45: TTC | H45: =SUM(H43:H44) -> 0
A47: Notes :

Sheet Articles
A1: Type | B1: Référence ZW | C1: Intitulé | D1: Fournisseur | E1: Référence fournisseur | F1: Cat | G1: Référence ZW | I1: Rack | J1: Etage | K1: PU
A2: ACCESSOIRE | B2: =F2&"-"&TEXT(COUNTIF(A$2:A2,A2),"0000") -> ACCE-0001 | C2: Pile CR1225 | D2: RUTRONIK | E2: CR1225.IB | F2: =VLOOKUP(A2,$M$6:$N$17,2) -> ACCE | G2: =F2&"-"&TEXT(COUNTIF(F$2:F2,F2),"0000") -> ACCE-0001
A3: ACCESSOIRE | B3: =F3&"-"&TEXT(COUNTIF(A$2:A3,A3),"0000") -> ACCE-0002 | C3: Arceau Inox 304L | D3: TSM 31 | E3: Arceau inox 304L | F3: =VLOOKUP(A3,$M$6:$N$17,2) -> ACCE | G3: =F3&"-"&TEXT(COUNTIF(F$2:F3,F3),"0000") -> ACCE-0002 | I3: Sol
A4: ELECTRICITE | B4: =F4&"-"&TEXT(COUNTIF(A$2:A4,A4),"0000") -> ELEC-0001 | C4: Bornier vis PHOENIX 3044199 - UT 16 phase | D4: AUTOMATION 24 | E4: 100799 | F4: =VLOOKUP(A4,$M$6:$N$17,2) -> ELEC | G4: =F4&"-"&TEXT(COUNTIF(F$2:F4,F4),"0000") -> ELEC-0001
A5: ELECTRICITE | B5: =F5&"-"&TEXT(COUNTIF(A$2:A5,A5),"0000") -> ELEC-0002 | C5: Bornier vis PHOENIX 3044209 - UT16 neutre | D5: AUTOMATION 24 | E5: 100800 | F5: =VLOOKUP(A5,$M$6:$N$17,2) -> ELEC | G5: =F5&"-"&TEXT(COUNTIF(F$2:F5,F5),"0000") -> ELEC-0002
A6: ELECTRICITE | B6: =F6&"-"&TEXT(COUNTIF(A$2:A6,A6),"0000") -> ELEC-0003 | C6: Bornier vis PHOENIX 3044212 - UT16 terre | D6: AUTOMATION 24 | E6: 100801 | F6: =VLOOKUP(A6,$M$6:$N$17,2) -> ELEC | G6: =F6&"-"&TEXT(COUNTIF(F$2:F6,F6),"0000") -> ELEC-0003 | M6: ACCESSOIRE | N6: ACCE
A7: ELECTRICITE | B7: =F7&"-"&TEXT(COUNTIF(A$2:A7,A7),"0000") -> ELEC-0004 | C7: Bornier vis PHOENIX 3044225 - UT35 phase | D7: AUTOMATION 24 | E7: 100802 | F7: =VLOOKUP(A7,$M$6:$N$17,2) -> ELEC | G7: =F7&"-"&TEXT(COUNTIF(F$2:F7,F7),"0000") -> ELEC-0004 | M7: ELECTRICITE | N7: ELEC
A8: ELECTRICITE | B8: =F8&"-"&TEXT(COUNTIF(A$2:A8,A8),"0000") -> ELEC-0005 | C8: Bornier vis PHOENIX 3044238 - UT35 neutre | D8: AUTOMATION 24 | E8: 100803 | F8: =VLOOKUP(A8,$M$6:$N$17,2) -> ELEC | G8: =F8&"-"&TEXT(COUNTIF(F$2:F8,F8),"0000") -> ELEC-0005 | M8: ELECTRONIQUE | N8: TRON
A9: ELECTRICITE | B9: =F9&"-"&TEXT(COUNTIF(A$2:A9,A9),"0000") -> ELEC-0006 | C9: Bornier vis PHOENIX 3044241 - UT35 terre | D9: AUTOMATION 24 | E9: 100804 | F9: =VLOOKUP(A9,$M$6:$N$17,2) -> ELEC | G9: =F9&"-"&TEXT(COUNTIF(F$2:F9,F9),"0000") -> ELEC-0006 | M9: FLOCAGE | N9: FLOC
A10: ELECTRICITE | B10: =F10&"-"&TEXT(COUNTIF(A$2:A10,A10),"0000") -> ELEC-0007 | C10: Couvercle PHOENIX 3047206 | D10: AUTOMATION 24 | E10: 100846 | F10: =VLOOKUP(A10,$M$6:$N$17,2) -> ELEC | G10: =F10&"-"&TEXT(COUNTIF(F$2:F10,F10),"0000") -> ELEC-0007 | M10: FOURNITURE | N10: FOUR
A11: ELECTRICITE | B11: =F11&"-"&TEXT(COUNTIF(A$2:A11,A11),"0000") -> ELEC-0008 | C11: Ecrou presse étoupe M16 | D11: AUTOMATION 24 | E11: 102460 | F11: =VLOOKUP(A11,$M$6:$N$17,2) -> ELEC | G11: =F11&"-"&TEXT(COUNTIF(F$2:F11,F11),"0000") -> ELEC-0008 | M11: INFORMATIQUE | N11: INFO
A12: ELECTRICITE | B12: =F12&"-"&TEXT(COUNTIF(A$2:A12,A12),"0000") -> ELEC-0009 | C12: Ecrou presse étoupe M25 | D12: AUTOMATION 24 | E12: 102462 | F12: =VLOOKUP(A12,$M$6:$N$17,2) -> ELEC | G12: =F12&"-"&TEXT(COUNTIF(F$2:F12,F12),"0000") -> ELEC-0009 | M12: MECANIQUE | N12: MECA
A13: ELECTRICITE | B13: =F13&"-"&TEXT(COUNTIF(A$2:A13,A13),"0000") -> ELEC-0010 | C13: Presse étoupe M16 | D13: AUTOMATION 24 | E13: 102444 | F13: =VLOOKUP(A13,$M$6:$N$17,2) -> ELEC | G13: =F13&"-"&TEXT(COUNTIF(F$2:F13,F13),"0000") -> ELEC-0010 | M13: OUTILLAGE | N13: OUTI
A14: ELECTRICITE | B14: =F14&"-"&TEXT(COUNTIF(A$2:A14,A14),"0000") -> ELEC-0011 | C14: Presse étoupe M25 | D14: AUTOMATION 24 | E14: 102446 | F14: =VLOOKUP(A14,$M$6:$N$17,2) -> ELEC | G14: =F14&"-"&TEXT(COUNTIF(F$2:F14,F14),"0000") -> ELEC-0011 | M14: PLASTURGIE | N14: PLAST
A15: ELECTRICITE | B15: =F15&"-"&TEXT(COUNTIF(A$2:A15,A15),"0000") -> ELEC-0012 | C15: Presse étoupe M32 | D15: AUTOMATION 24 | E15: 102447 | F15: =VLOOKUP(A15,$M$6:$N$17,2) -> ELEC | G15: =F15&"-"&TEXT(COUNTIF(F$2:F15,F15),"0000") -> ELEC-0012 | M15: QUINCAILLERIE | N15: QUIN
A16: ELECTRICITE | B16: =F16&"-"&TEXT(COUNTIF(A$2:A16,A16),"0000") -> ELEC-0013 | C16: Câble 0,75mm² blanc | D16: CAE DATA | E16: VK075BL | F16: =VLOOKUP(A16,$M$6:$N$17,2) -> ELEC | G16: =F16&"-"&TEXT(COUNTIF(F$2:F16,F16),"0000") -> ELEC-0013 | M16: SOUS-ENSEMBLE | N16: SENS
A17: ELECTRICITE | B17: =F17&"-"&TEXT(COUNTIF(A$2:A17,A17),"0000") -> ELEC-0014 | C17: Câble 0,75mm² bleu | D17: CAE DATA | E17: VK075BC | F17: =VLOOKUP(A17,$M$6:$N$17,2) -> ELEC | G17: =F17&"-"&TEXT(COUNTIF(F$2:F17,F17),"0000") -> ELEC-0014 | M17: SOUS-TRAITANCE | N17: STRA
A18: ELECTRICITE | B18: =F18&"-"&TEXT(COUNTIF(A$2:A18,A18),"0000") -> ELEC-0015 | C18: Câble 0,75mm² gris | D18: CAE DATA | E18: VK075G | F18: =VLOOKUP(A18,$M$6:$N$17,2) -> ELEC | G18: =F18&"-"&TEXT(COUNTIF(F$2:F18,F18),"0000") -> ELEC-0015
A19: ELECTRICITE | B19: =F19&"-"&TEXT(COUNTIF(A$2:A19,A19),"0000") -> ELEC-0016 | C19: Câble 0,75mm² marron | D19: CAE DATA | E19: VK075MA | F19: =VLOOKUP(A19,$M$6:$N$17,2) -> ELEC | G19: =F19&"-"&TEXT(COUNTIF(F$2:F19,F19),"0000") -> ELEC-0016 | M19: Sol
A20: ELECTRICITE | B20: =F20&"-"&TEXT(COUNTIF(A$2:A20,A20),"0000") -> ELEC-0017 | C20: Câble 0,75mm² noir | D20: CAE DATA | E20: VK075N | F20: =VLOOKUP(A20,$M$6:$N$17,2) -> ELEC | G20: =F20&"-"&TEXT(COUNTIF(F$2:F20,F20),"0000") -> ELEC-0017 | M20: Découpe | N20: 1 | O20: {=OFFSET(Fournisseurs,,-2,)} -> ACCE-0001
A21: ELECTRICITE | B21: =F21&"-"&TEXT(COUNTIF(A$2:A21,A21),"0000") -> ELEC-0018 | C21: Câble 0,75mm² rouge | D21: CAE DATA | E21: VK075R | F21: =VLOOKUP(A21,$M$6:$N$17,2) -> ELEC | G21: =F21&"-"&TEXT(COUNTIF(F$2:F21,F21),"0000") -> ELEC-0018 | M21: A | N21: 2 | O21: ACCE-0002
A22: ELECTRICITE | B22: =F22&"-"&TEXT(COUNTIF(A$2:A22,A22),"0000") -> ELEC-0019 | C22: Câble 0,75mm² vert/jaune | D22: CAE DATA | E22: VK075VJ | F22: =VLOOKUP(A22,$M$6:$N$17,2) -> ELEC | G22: =F22&"-"&TEXT(COUNTIF(F$2:F22,F22),"0000") -> ELEC-0019 | M22: B | N22: 3 | O22: ELEC-0001
A23: ELECTRICITE | B23: =F23&"-"&TEXT(COUNTIF(A$2:A23,A23),"0000") -> ELEC-0020 | C23: Câble 0,75mm² violet | D23: CAE DATA | E23: VK075VI | F23: =VLOOKUP(A23,$M$6:$N$17,2) -> ELEC | G23: =F23&"-"&TEXT(COUNTIF(F$2:F23,F23),"0000") -> ELEC-0020 | M23: C | N23: 4 | O23: ELEC-0002
A24: ELECTRICITE | B24: =F24&"-"&TEXT(COUNTIF(A$2:A24,A24),"0000") -> ELEC-0021 | C24: Câble 2,5mm² bleu | D24: CAE DATA | E24: VK25BC | F24: =VLOOKUP(A24,$M$6:$N$17,2) -> ELEC | G24: =F24&"-"&TEXT(COUNTIF(F$2:F24,F24),"0000") -> ELEC-0021 | M24: D | N24: 5 | O24: ELEC-0003
A25: ELECTRICITE | B25: =F25&"-"&TEXT(COUNTIF(A$2:A25,A25),"0000") -> ELEC-0022 | C25: Câble 2,5mm² noir | D25: CAE DATA | E25: VK25N | F25: =VLOOKUP(A25,$M$6:$N$17,2) -> ELEC | G25: =F25&"-"&TEXT(COUNTIF(F$2:F25,F25),"0000") -> ELEC-0022 | M25: E | N25: 6 | O25: ELEC-0004
A26: ELECTRICITE | B26: =F26&"-"&TEXT(COUNTIF(A$2:A26,A26),"0000") -> ELEC-0023 | C26: Câble 2,5mm² vert/jaune | D26: CAE DATA | E26: VK25VJ | F26: =VLOOKUP(A26,$M$6:$N$17,2) -> ELEC | G26: =F26&"-"&TEXT(COUNTIF(F$2:F26,F26),"0000") -> ELEC-0023 | M26: F | O26: ELEC-0005
A27: ELECTRICITE | B27: =F27&"-"&TEXT(COUNTIF(A$2:A27,A27),"0000") -> ELEC-0024 | C27: Câble 4mm² bleu | D27: CAE DATA | E27: VK4BC | F27: =VLOOKUP(A27,$M$6:$N$17,2) -> ELEC | G27: =F27&"-"&TEXT(COUNTIF(F$2:F27,F27),"0000") -> ELEC-0024 | M27: G | O27: ELEC-0006
A28: ELECTRICITE | B28: =F28&"-"&TEXT(COUNTIF(A$2:A28,A28),"0000") -> ELEC-0025 | C28: Câble 4mm² noir | D28: CAE DATA | E28: VK4N | F28: =VLOOKUP(A28,$M$6:$N$17,2) -> ELEC | G28: =F28&"-"&TEXT(COUNTIF(F$2:F28,F28),"0000") -> ELEC-0025 | M28: H | O28: ELEC-0007
A29: ELECTRICITE | B29: =F29&"-"&TEXT(COUNTIF(A$2:A29,A29),"0000") -> ELEC-0026 | C29: Câble 4mm² vert/jaune | D29: CAE DATA | E29: VK4VJ | F29: =VLOOKUP(A29,$M$6:$N$17,2) -> ELEC | G29: =F29&"-"&TEXT(COUNTIF(F$2:F29,F29),"0000") -> ELEC-0026 | M29: I | O29: ELEC-0008
A30: ELECTRICITE | B30: =F30&"-"&TEXT(COUNTIF(A$2:A30,A30),"0000") -> ELEC-0027 | C30: Câble 6mm² bleu | D30: CAE DATA | E30: VK6BC | F30: =VLOOKUP(A30,$M$6:$N$17,2) -> ELEC | G30: =F30&"-"&TEXT(COUNTIF(F$2:F30,F30),"0000") -> ELEC-0027 | M30: J | O30: ELEC-0009
A31: ELECTRICITE | B31: =F31&"-"&TEXT(COUNTIF(A$2:A31,A31),"0000") -> ELEC-0028 | C31: Câble 6mm² noir | D31: CAE DATA | E31: VK6N | F31: =VLOOKUP(A31,$M$6:$N$17,2) -> ELEC | G31: =F31&"-"&TEXT(COUNTIF(F$2:F31,F31),"0000") -> ELEC-0028 | M31: K | O31: ELEC-0010
A32: ELECTRICITE | B32: =F32&"-"&TEXT(COUNTIF(A$2:A32,A32),"0000") -> ELEC-0029 | C32: Câble 6mm² vert/jaune | D32: CAE DATA | E32: VK6VJ | F32: =VLOOKUP(A32,$M$6:$N$17,2) -> ELEC | G32: =F32&"-"&TEXT(COUNTIF(F$2:F32,F32),"0000") -> ELEC-0029 | M32: L | O32: ELEC-0011
A33: ELECTRICITE | B33: =F33&"-"&TEXT(COUNTIF(A$2:A33,A33),"0000") -> ELEC-0030 | C33: Boitier collaborateur | D33: ELEC SUD OUEST | E33: FIB8120006N-FIBOX-ARCA 403015N | F33: =VLOOKUP(A33,$M$6:$N$17,2) -> ELEC | G33: =F33&"-"&TEXT(COUNTIF(F$2:F33,F33),"0000") -> ELEC-0030 | M33: M | O33: ELEC-0012
A34: ELECTRICITE | B34: =F34&"-"&TEXT(COUNTIF(A$2:A34,A34),"0000") -> ELEC-0031 | C34: Platine boitier collaborateur | D34: ELEC SUD OUEST | E34: FIB8120733-FIBOX-MPS ARCA 4030 | F34: =VLOOKUP(A34,$M$6:$N$17,2) -> ELEC | G34: =F34&"-"&TEXT(COUNTIF(F$2:F34,F34),"0000") -> ELEC-0031 | M34: N | O34: ELEC-0013
A35: ELECTRICITE | B35: =F35&"-"&TEXT(COUNTIF(A$2:A35,A35),"0000") -> ELEC-0032 | C35: Profil DIN symétrique H7,5 | D35: ELEC SUD OUEST | E35: TEKDIN1065 | F35: =VLOOKUP(A35,$M$6:$N$17,2) -> ELEC | G35: =F35&"-"&TEXT(COUNTIF(F$2:F35,F35),"0000") -> ELEC-0032 | M35: O | O35: ELEC-0014
A36: ELECTRICITE | B36: =F36&"-"&TEXT(COUNTIF(A$2:A36,A36),"0000") -> ELEC-0033 | C36: Passe cable M20 | D36: LANDEFELD | E36: KDF20 | F36: =VLOOKUP(A36,$M$6:$N$17,2) -> ELEC | G36: =F36&"-"&TEXT(COUNTIF(F$2:F36,F36),"0000") -> ELEC-0033 | M36: P | O36: ELEC-0015
A37: ELECTRICITE | B37: =F37&"-"&TEXT(COUNTIF(A$2:A37,A37),"0000") -> ELEC-0034 | C37: Compteur CONTAX D TRI 80A MODBUS | D37: MCI | E37: 031 333 | F37: =VLOOKUP(A37,$M$6:$N$17,2) -> ELEC | G37: =F37&"-"&TEXT(COUNTIF(F$2:F37,F37),"0000") -> ELEC-0034 | M37: Q | O37: ELEC-0016
A38: ELECTRICITE | B38: =F38&"-"&TEXT(COUNTIF(A$2:A38,A38),"0000") -> ELEC-0035 | C38: Compteur MONO CONTAX 1M MID 100A | D38: MCI | E38: 031 331 | F38: =VLOOKUP(A38,$M$6:$N$17,2) -> ELEC | G38: =F38&"-"&TEXT(COUNTIF(F$2:F38,F38),"0000") -> ELEC-0035 | M38: R | O38: ELEC-0017
A39: ELECTRICITE | B39: =F39&"-"&TEXT(COUNTIF(A$2:A39,A39),"0000") -> ELEC-0036 | C39: Bonchon noir d20 | D39: RS | E39: 124-4448 | F39: =VLOOKUP(A39,$M$6:$N$17,2) -> ELEC | G39: =F39&"-"&TEXT(COUNTIF(F$2:F39,F39),"0000") -> ELEC-0036 | O39: ELEC-0018
A40: ELECTRICITE | B40: =F40&"-"&TEXT(COUNTIF(A$2:A40,A40),"0000") -> ELEC-0037 | C40: Bloc de prise supérieur T2S-T2C (moteur) | D40: SCAME | E40: 200.23261BS | F40: =VLOOKUP(A40,$M$6:$N$17,2) -> ELEC | G40: =F40&"-"&TEXT(COUNTIF(F$2:F40,F40),"0000") -> ELEC-0037 | O40: ELEC-0019
A41: ELECTRICITE | B41: =F41&"-"&TEXT(COUNTIF(A$2:A41,A41),"0000") -> ELEC-0038 | C41: Couvercle T2 | D41: SCAME | E41: 200.23260CS | F41: =VLOOKUP(A41,$M$6:$N$17,2) -> ELEC | G41: =F41&"-"&TEXT(COUNTIF(F$2:F41,F41),"0000") -> ELEC-0038 | O41: ELEC-0020
A42: ELECTRICITE | B42: =F42&"-"&TEXT(COUNTIF(A$2:A42,A42),"0000") -> ELEC-0039 | C42: Prise 2P+T type E 16A | D42: SCAME | E42: 570.2091N-SW | F42: =VLOOKUP(A42,$M$6:$N$17,2) -> ELEC | G42: =F42&"-"&TEXT(COUNTIF(F$2:F42,F42),"0000") -> ELEC-0039 | O42: ELEC-0021
A43: ELECTRICITE | B43: =F43&"-"&TEXT(COUNTIF(A$2:A43,A43),"0000") -> ELEC-0040 | C43: Socle T2 Compact avec obturateur | D43: SCAME | E43: 200.23266S | F43: =VLOOKUP(A43,$M$6:$N$17,2) -> ELEC | G43: =F43&"-"&TEXT(COUNTIF(F$2:F43,F43),"0000") -> ELEC-0040 | O43: ELEC-0022
A44: ELECTRICITE | B44: =F44&"-"&TEXT(COUNTIF(A$2:A44,A44),"0000") -> ELEC-0041 | C44: Bobine Hager | D44: SONEPAR | E44: MZ203 | F44: =VLOOKUP(A44,$M$6:$N$17,2) -> ELEC | G44: =F44&"-"&TEXT(COUNTIF(F$2:F44,F44),"0000") -> ELEC-0041 | O44: ELEC-0023
A45: ELECTRICITE | B45: =F45&"-"&TEXT(COUNTIF(A$2:A45,A45),"0000") -> ELEC-0042 | C45: Bobine Schneider | D45: SONEPAR | E45: A9A26946 | F45: =VLOOKUP(A45,$M$6:$N$17,2) -> ELEC | G45: =F45&"-"&TEXT(COUNTIF(F$2:F45,F45),"0000") -> ELEC-0042 | O45: ELEC-0024
A46: ELECTRICITE | B46: =F46&"-"&TEXT(COUNTIF(A$2:A46,A46),"0000") -> ELEC-0043 | C46: Contacteur 25A mono Hager | D46: SONEPAR | E46: ESC225 | F46: =VLOOKUP(A46,$M$6:$N$17,2) -> ELEC | G46: =F46&"-"&TEXT(COUNTIF(F$2:F46,F46),"0000") -> ELEC-0043 | O46: ELEC-0025
A47: ELECTRICITE | B47: =F47&"-"&TEXT(COUNTIF(A$2:A47,A47),"0000") -> ELEC-0044 | C47: Contacteur 25A mono Schneider | D47: SONEPAR | E47: A9C24732 | F47: =VLOOKUP(A47,$M$6:$N$17,2) -> ELEC | G47: =F47&"-"&TEXT(COUNTIF(F$2:F47,F47),"0000") -> ELEC-0044 | O47: ELEC-0026
A48: ELECTRICITE | B48: =F48&"-"&TEXT(COUNTIF(A$2:A48,A48),"0000") -> ELEC-0045 | C48: Contacteur 25A tri Hager | D48: SONEPAR | E48: ESC425 | F48: =VLOOKUP(A48,$M$6:$N$17,2) -> ELEC | G48: =F48&"-"&TEXT(COUNTIF(F$2:F48,F48),"0000") -> ELEC-0045 | O48: ELEC-0027
A49: ELECTRICITE | B49: =F49&"-"&TEXT(COUNTIF(A$2:A49,A49),"0000") -> ELEC-0046 | C49: Contacteur 25A tri Schneider | D49: SONEPAR | E49: A9C24834 | F49: =VLOOKUP(A49,$M$6:$N$17,2) -> ELEC | G49: =F49&"-"&TEXT(COUNTIF(F$2:F49,F49),"0000") -> ELEC-0046 | O49: ELEC-0028
A50: ELECTRICITE | B50: =F50&"-"&TEXT(COUNTIF(A$2:A50,A50),"0000") -> ELEC-0047 | C50: Contacteur 40A mono Hager | D50: SONEPAR | E50: ESC240 | F50: =VLOOKUP(A50,$M$6:$N$17,2) -> ELEC | G50: =F50&"-"&TEXT(COUNTIF(F$2:F50,F50),"0000") -> ELEC-0047 | O50: ELEC-0029
... A85: ELECTRICITE | B85: =F85&"-"&TEXT(COUNTIF(A$2:A85,A85),"0000") -> ELEC-0082 | C85: Embout câblage 6 mm² simple 12mm | D85: TME | E85: BM00510 | F85: =VLOOKUP(A85,$M$6:$N$17,2) -> ELEC | G85: =F85&"-"&TEXT(COUNTIF(F$2:F85,F85),"0000") -> ELEC-0082 | O85: ELEC-0064
A86: ELECTRICITE | B86: =F86&"-"&TEXT(COUNTIF(A$2:A86,A86),"0000") -> ELEC-0083 | C86: Plaque extrémité bornier 10 polyc | D86: WAGO | E86: 284-301 | F86: =VLOOKUP(A86,$M$6:$N$17,2) -> ELEC | G86: =F86&"-"&TEXT(COUNTIF(F$2:F86,F86),"0000") -> ELEC-0083 | K86: 0.228 | O86: ELEC-0065
A87: ELECTRICITE | B87: =F87&"-"&TEXT(COUNTIF(A$2:A87,A87),"0000") -> ELEC-0084 | C87: Contact de pontage bornier 10 polyc | D87: WAGO | E87: 284-409 | F87: =VLOOKUP(A87,$M$6:$N$17,2) -> ELEC | G87: =F87&"-"&TEXT(COUNTIF(F$2:F87,F87),"0000") -> ELEC-0084 | K87: 0.412 | O87: ELEC-0066
A88: ELECTRICITE | B88: =F88&"-"&TEXT(COUNTIF(A$2:A88,A88),"0000") -> ELEC-0085 | C88: Bornier phase 2c 10 polyc | D88: WAGO | E88: 284-101 | F88: =VLOOKUP(A88,$M$6:$N$17,2) -> ELEC | G88: =F88&"-"&TEXT(COUNTIF(F$2:F88,F88),"0000") -> ELEC-0085 | K88: 0.924 | O88: ELEC-0067
A89: ELECTRICITE | B89: =F89&"-"&TEXT(COUNTIF(A$2:A89,A89),"0000") -> ELEC-0086 | C89: Bornier neutre 2c 10 polyc | D89: WAGO | E89: 284-104 | F89: =VLOOKUP(A89,$M$6:$N$17,2) -> ELEC | G89: =F89&"-"&TEXT(COUNTIF(F$2:F89,F89),"0000") -> ELEC-0086 | K89: 0.952 | O89: ELEC-0068
A90: ELECTRICITE | B90: =F90&"-"&TEXT(COUNTIF(A$2:A90,A90),"0000") -> ELEC-0087 | C90: Bornier terre 2c 10 polyc | D90: WAGO | E90: 284-107 | F90: =VLOOKUP(A90,$M$6:$N$17,2) -> ELEC | G90: =F90&"-"&TEXT(COUNTIF(F$2:F90,F90),"0000") -> ELEC-0087 | K90: 2.248 | O90: ELEC-0069
A91: ELECTRICITE | B91: =F91&"-"&TEXT(COUNTIF(A$2:A91,A91),"0000") -> ELEC-0088 | C91: Bornier neutre 2c 10 | D91: WAGO | E91: 2010-1204 | F91: =VLOOKUP(A91,$M$6:$N$17,2) -> ELEC | G91: =F91&"-"&TEXT(COUNTIF(F$2:F91,F91),"0000") -> ELEC-0088 | O91: ELEC-0070
A92: ELECTRICITE | B92: =F92&"-"&TEXT(COUNTIF(A$2:A92,A92),"0000") -> ELEC-0089 | C92: Bornier phase 2c 10 | D92: WAGO | E92: 2010-1201 | F92: =VLOOKUP(A92,$M$6:$N$17,2) -> ELEC | G92: =F92&"-"&TEXT(COUNTIF(F$2:F92,F92),"0000") -> ELEC-0089 | O92: ELEC-0071
A93: ELECTRICITE | B93: =F93&"-"&TEXT(COUNTIF(A$2:A93,A93),"0000") -> ELEC-0090 | C93: Bornier terre 2c 10 | D93: WAGO | E93: 2010-1207 | F93: =VLOOKUP(A93,$M$6:$N$17,2) -> ELEC | G93: =F93&"-"&TEXT(COUNTIF(F$2:F93,F93),"0000") -> ELEC-0090 | O93: ELEC-0072
A94: ELECTRICITE | B94: =F94&"-"&TEXT(COUNTIF(A$2:A94,A94),"0000") -> ELEC-0091 | C94: Bornier terre 2c 2,5 | D94: WAGO | E94: 2002-1207 | F94: =VLOOKUP(A94,$M$6:$N$17,2) -> ELEC | G94: =F94&"-"&TEXT(COUNTIF(F$2:F94,F94),"0000") -> ELEC-0091 | O94: ELEC-0073
A95: ELECTRICITE | B95: =F95&"-"&TEXT(COUNTIF(A$2:A95,A95),"0000") -> ELEC-0092 | C95: Bornier terre 3c 1,5 | D95: WAGO | E95: 2001-1307 | F95: =VLOOKUP(A95,$M$6:$N$17,2) -> ELEC | G95: =F95&"-"&TEXT(COUNTIF(F$2:F95,F95),"0000") -> ELEC-0092 | O95: ELEC-0074
A96: ELECTRICITE | B96: =F96&"-"&TEXT(COUNTIF(A$2:A96,A96),"0000") -> ELEC-0093 | C96: Contact de pontage bornier 10 | D96: WAGO | E96: 2010-402 | F96: =VLOOKUP(A96,$M$6:$N$17,2) -> ELEC | G96: =F96&"-"&TEXT(COUNTIF(F$2:F96,F96),"0000") -> ELEC-0093 | O96: ELEC-0075
A97: ELECTRICITE | B97: =F97&"-"&TEXT(COUNTIF(A$2:A97,A97),"0000") -> ELEC-0094 | C97: Plaque extrémité bornier 10 | D97: WAGO | E97: 2010-1292 | F97: =VLOOKUP(A97,$M$6:$N$17,2) -> ELEC | G97: =F97&"-"&TEXT(COUNTIF(F$2:F97,F97),"0000") -> ELEC-0094 | O97: ELEC-0076
A98: ELECTRICITE | B98: =F98&"-"&TEXT(COUNTIF(A$2:A98,A98),"0000") -> ELEC-0095 | C98: Alimentation 15-12V Mean Well | D98: YESSS ELECTRIQUE | E98: HDR-15-12 | F98: =VLOOKUP(A98,$M$6:$N$17,2) -> ELEC | G98: =F98&"-"&TEXT(COUNTIF(F$2:F98,F98),"0000") -> ELEC-0095 | O98: ELEC-0077
A99: ELECTRICITE | B99: =F99&"-"&TEXT(COUNTIF(A$2:A99,A99),"0000") -> ELEC-0096 | C99: Alimentation 30-12V Mean Well | D99: YESSS ELECTRIQUE | E99: HDR-30-12 | F99: =VLOOKUP(A99,$M$6:$N$17,2) -> ELEC | G99: =F99&"-"&TEXT(COUNTIF(F$2:F99,F99),"0000") -> ELEC-0096 | O99: ELEC-0078
A100: ELECTRICITE | B100: =F100&"-"&TEXT(COUNTIF(A$2:A100,A100),"0000") -> ELEC-0097 | C100: Alimentation 30-15V Mean Well | D100: YESSS ELECTRIQUE | E100: HDR-30-15 | F100: =VLOOKUP(A100,$M$6:$N$17,2) -> ELEC | G100: =F100&"-"&TEXT(COUNTIF(F$2:F100,F100),"0000") -> ELEC-0097 | O100: ELEC-0079
A101: ELECTRICITE | B101: =F101&"-"&TEXT(COUNTIF(A$2:A101,A101),"0000") -> ELEC-0098 | C101: Alimentation 60-15V Mean Well | D101: YESSS ELECTRIQUE | E101: HDR-60-15 | F101: =VLOOKUP(A101,$M$6:$N$17,2) -> ELEC | G101: =F101&"-"&TEXT(COUNTIF(F$2:F101,F101),"0000") -> ELEC-0098 | O101: ELEC-0080
A102: ELECTRONIQUE | B102: =F102&"-"&TEXT(COUNTIF(A$2:A102,A102),"0000") -> TRON-0001 | C102: Connecteur | E102: T821106A1S100CEU | F102: =VLOOKUP(A102,$M$6:$N$17,2) -> TRON | G102: =F102&"-"&TEXT(COUNTIF(F$2:F102,F102),"0000") -> TRON-0001 | O102: ELEC-0081
A103: ELECTRONIQUE | B103: =F103&"-"&TEXT(COUNTIF(A$2:A103,A103),"0000") -> TRON-0002 | C103: LED 0805 SUPER BRIGHT BLUE | E103: OVS-0803 / 171-6765 | F103: =VLOOKUP(A103,$M$6:$N$17,2) -> TRON | G103: =F103&"-"&TEXT(COUNTIF(F$2:F103,F103),"0000") -> TRON-0002 | O103: ELEC-0082
A104: ELECTRONIQUE | B104: =F104&"-"&TEXT(COUNTIF(A$2:A104,A104),"0000") -> TRON-0003 | C104: Condensateur | E104: C-EUC0603:1nF | F104: =VLOOKUP(A104,$M$6:$N$17,2) -> TRON | G104: =F104&"-"&TEXT(COUNTIF(F$2:F104,F104),"0000") -> TRON-0003 | O104: ELEC-0083
A105: ELECTRONIQUE | B105: =F105&"-"&TEXT(COUNTIF(A$2:A105,A105),"0000") -> TRON-0004 | C105: Condensateur | E105: C-EUC0603:1uF | F105: =VLOOKUP(A105,$M$6:$N$17,2) -> TRON | G105: =F105&"-"&TEXT(COUNTIF(F$2:F105,F105),"0000") -> TRON-0004 | O105: ELEC-0084
A106: ELECTRONIQUE | B106: =F106&"-"&TEXT(COUNTIF(A$2:A106,A106),"0000") -> TRON-0005 | C106: Condensateur | E106: C-EUC0603:10nF | F106: =VLOOKUP(A106,$M$6:$N$17,2) -> TRON | G106: =F106&"-"&TEXT(COUNTIF(F$2:F106,F106),"0000") -> TRON-0005 | O106: ELEC-0085
A107: ELECTRONIQUE | B107: =F107&"-"&TEXT(COUNTIF(A$2:A107,A107),"0000") -> TRON-0006 | C107: Condensateur | E107: C-EUC0805:10uF | F107: =VLOOKUP(A107,$M$6:$N$17,2) -> TRON | G107: =F107&"-"&TEXT(COUNTIF(F$2:F107,F107),"0000") -> TRON-0006 | O107: ELEC-0086
A108: ELECTRONIQUE | B108: =F108&"-"&TEXT(COUNTIF(A$2:A108,A108),"0000") -> TRON-0007 | C108: Condensateur | E108: C-EUC0603:12pF | F108: =VLOOKUP(A108,$M$6:$N$17,2) -> TRON | G108: =F108&"-"&TEXT(COUNTIF(F$2:F108,F108),"0000") -> TRON-0007 | O108: ELEC-0087
A109: ELECTRONIQUE | B109: =F109&"-"&TEXT(COUNTIF(A$2:A109,A109),"0000") -> TRON-0008 | C109: Condensateur | E109: C-EUC0603:22nF | F109: =VLOOKUP(A109,$M$6:$N$17,2) -> TRON | G109: =F109&"-"&TEXT(COUNTIF(F$2:F109,F109),"0000") -> TRON-0008 | O109: ELEC-0088
A110: ELECTRONIQUE | B110: =F110&"-"&TEXT(COUNTIF(A$2:A110,A110),"0000") -> TRON-0009 | C110: Condensateur | E110: C-EUC0603:100nF | F110: =VLOOKUP(A110,$M$6:$N$17,2) -> TRON | G110: =F110&"-"&TEXT(COUNTIF(F$2:F110,F110),"0000") -> TRON-0009 | O110: ELEC-0089
A111: ELECTRONIQUE | B111: =F111&"-"&TEXT(COUNTIF(A$2:A111,A111),"0000") -> TRON-0010 | C111: Condensateur | E111: C-EUC0603:100pF | F111: =VLOOKUP(A111,$M$6:$N$17,2) -> TRON | G111: =F111&"-"&TEXT(COUNTIF(F$2:F111,F111),"0000") -> TRON-0010 | O111: ELEC-0090
A112: ELECTRONIQUE | B112: =F112&"-"&TEXT(COUNTIF(A$2:A112,A112),"0000") -> TRON-0011 | C112: Condensateur | E112: C-EUC0603:470pF | F112: =VLOOKUP(A112,$M$6:$N$17,2) -> TRON | G112: =F112&"-"&TEXT(COUNTIF(F$2:F112,F112),"0000") -> TRON-0011 | O112: ELEC-0091
A113: ELECTRONIQUE | B113: =F113&"-"&TEXT(COUNTIF(A$2:A113,A113),"0000") -> TRON-0012 | C113: Résistance | E113: R-EU_R0603:1k | F113: =VLOOKUP(A113,$M$6:$N$17,2) -> TRON | G113: =F113&"-"&TEXT(COUNTIF(F$2:F113,F113),"0000") -> TRON-0012 | O113: ELEC-0092
... A173: ELECTRONIQUE | B173: =F173&"-"&TEXT(COUNTIF(A$2:A173,A173),"0000") -> TRON-0072 | C173: Led | E173: 720-LOR976-PS-1 | F173: =VLOOKUP(A173,$M$6:$N$17,2) -> TRON | G173: =F173&"-"&TEXT(COUNTIF(F$2:F173,F173),"0000") -> TRON-0072 | O173: TRON-0054
A174: ELECTRONIQUE | B174: =F174&"-"&TEXT(COUNTIF(A$2:A174,A174),"0000") -> TRON-0073 | C174: Contact Dubox femmelle sertissage 22AWG plaqué étain 76357-401LF | D174: RS | E174: 170-8707 | F174: =VLOOKUP(A174,$M$6:$N$17,2) -> TRON | G174: =F174&"-"&TEXT(COUNTIF(F$2:F174,F174),"0000") -> TRON-0073 | O174: TRON-0055
A175: ELECTRONIQUE | B175: =F175&"-"&TEXT(COUNTIF(A$2:A175,A175),"0000") -> TRON-0074 | C175: Mod bus contact | D175: RS | E175: 252428 | F175: =VLOOKUP(A175,$M$6:$N$17,2) -> TRON | G175: =F175&"-"&TEXT(COUNTIF(F$2:F175,F175),"0000") -> TRON-0074 | O175: TRON-0056
A176: ELECTRONIQUE | B176: =F176&"-"&TEXT(COUNTIF(A$2:A176,A176),"0000") -> TRON-0075 | C176: Boitier carte controleur | D176: TME | E176: D9MG | F176: =VLOOKUP(A176,$M$6:$N$17,2) -> TRON | G176: =F176&"-"&TEXT(COUNTIF(F$2:F176,F176),"0000") -> TRON-0075 | O176: TRON-0057
A177: ELECTRONIQUE | B177: =F177&"-"&TEXT(COUNTIF(A$2:A177,A177),"0000") -> TRON-0076 | C177: Câble RJ45 RFID | D177: TME | F177: =VLOOKUP(A177,$M$6:$N$17,2) -> TRON | G177: =F177&"-"&TEXT(COUNTIF(F$2:F177,F177),"0000") -> TRON-0076 | O177: TRON-0058
A178: ELECTRONIQUE | B178: =F178&"-"&TEXT(COUNTIF(A$2:A178,A178),"0000") -> TRON-0077 | C178: Câble USB afficheur | D178: TME | F178: =VLOOKUP(A178,$M$6:$N$17,2) -> TRON | G178: =F178&"-"&TEXT(COUNTIF(F$2:F178,F178),"0000") -> TRON-0077 | O178: TRON-0059
A179: ELECTRONIQUE | B179: =F179&"-"&TEXT(COUNTIF(A$2:A179,A179),"0000") -> TRON-0078 | C179: collier de serrage blanc | D179: TME | E179: BMB1025 | F179: =VLOOKUP(A179,$M$6:$N$17,2) -> TRON | G179: =F179&"-"&TEXT(COUNTIF(F$2:F179,F179),"0000") -> TRON-0078 | O179: TRON-0060
A180: ELECTRONIQUE | B180: =F180&"-"&TEXT(COUNTIF(A$2:A180,A180),"0000") -> TRON-0079 | C180: collier de serrage noir | D180: TME | E180: FIX-S-4.8X200S/BK | F180: =VLOOKUP(A180,$M$6:$N$17,2) -> TRON | G180: =F180&"-"&TEXT(COUNTIF(F$2:F180,F180),"0000") -> TRON-0079 | O180: TRON-0061
A181: ELECTRONIQUE | B181: =F181&"-"&TEXT(COUNTIF(A$2:A181,A181),"0000") -> TRON-0080 | C181: Connecteur | D181: TME | E181: 15EDGVC3.81-04P | F181: =VLOOKUP(A181,$M$6:$N$17,2) -> TRON | G181: =F181&"-"&TEXT(COUNTIF(F$2:F181,F181),"0000") -> TRON-0080 | O181: TRON-0062
A182: ELECTRONIQUE | B182: =F182&"-"&TEXT(COUNTIF(A$2:A182,A182),"0000") -> TRON-0081 | C182: Connecteur | D182: TME | E182: 15EDGVC3.81-05P | F182: =VLOOKUP(A182,$M$6:$N$17,2) -> TRON | G182: =F182&"-"&TEXT(COUNTIF(F$2:F182,F182),"0000") -> TRON-0081 | O182: TRON-0063
A183: ELECTRONIQUE | B183: =F183&"-"&TEXT(COUNTIF(A$2:A183,A183),"0000") -> TRON-0082 | C183: Connecteur | D183: TME | E183: FCI-76385-303LF | F183: =VLOOKUP(A183,$M$6:$N$17,2) -> TRON | G183: =F183&"-"&TEXT(COUNTIF(F$2:F183,F183),"0000") -> TRON-0082 | O183: TRON-0064
A184: ELECTRONIQUE | B184: =F184&"-"&TEXT(COUNTIF(A$2:A184,A184),"0000") -> TRON-0083 | C184: Connecteur | D184: TME | E184: 15EDGVC3.81-02P | F184: =VLOOKUP(A184,$M$6:$N$17,2) -> TRON | G184: =F184&"-"&TEXT(COUNTIF(F$2:F184,F184),"0000") -> TRON-0083 | O184: TRON-0065
A185: ELECTRONIQUE | B185: =F185&"-"&TEXT(COUNTIF(A$2:A185,A185),"0000") -> TRON-0084 | C185: Connecteur | D185: TME | E185: TBG-5-PB-8P-GN | F185: =VLOOKUP(A185,$M$6:$N$17,2) -> TRON | G185: =F185&"-"&TEXT(COUNTIF(F$2:F185,F185),"0000") -> TRON-0084 | O185: TRON-0066
A186: ELECTRONIQUE | B186: =F186&"-"&TEXT(COUNTIF(A$2:A186,A186),"0000") -> TRON-0085 | C186: Connecteur | D186: TME | E186: TBG-5-PB-9P-GN | F186: =VLOOKUP(A186,$M$6:$N$17,2) -> TRON | G186: =F186&"-"&TEXT(COUNTIF(F$2:F186,F186),"0000") -> TRON-0085 | O186: TRON-0067
A187: ELECTRONIQUE | B187: =F187&"-"&TEXT(COUNTIF(A$2:A187,A187),"0000") -> TRON-0086 | C187: Connecteur | D187: TME | E187: RJ45PU | F187: =VLOOKUP(A187,$M$6:$N$17,2) -> TRON | G187: =F187&"-"&TEXT(COUNTIF(F$2:F187,F187),"0000") -> TRON-0086 | O187: TRON-0068
A188: ELECTRONIQUE | B188: =F188&"-"&TEXT(COUNTIF(A$2:A188,A188),"0000") -> TRON-0087 | C188: Connecteur 4 | D188: TME | E188: 15EDGK-3.81-04P-14-00A(H) | F188: =VLOOKUP(A188,$M$6:$N$17,2) -> TRON | G188: =F188&"-"&TEXT(COUNTIF(F$2:F188,F188),"0000") -> TRON-0087 | O188: TRON-0069
A189: ELECTRONIQUE | B189: =F189&"-"&TEXT(COUNTIF(A$2:A189,A189),"0000") -> TRON-0088 | C189: Connecteur HE10-6 | D189: TME | E189: T821-1-06-S1 | F189: =VLOOKUP(A189,$M$6:$N$17,2) -> TRON | G189: =F189&"-"&TEXT(COUNTIF(F$2:F189,F189),"0000") -> TRON-0088 | O189: TRON-0070
A190: ELECTRONIQUE | B190: =F190&"-"&TEXT(COUNTIF(A$2:A190,A190),"0000") -> TRON-0089 | C190: connecteur male vert 2 points | D190: TME | E190: TBW-5.08-K-2P | F190: =VLOOKUP(A190,$M$6:$N$17,2) -> TRON | G190: =F190&"-"&TEXT(COUNTIF(F$2:F190,F190),"0000") -> TRON-0089 | O190: TRON-0071
... A197: ELECTRONIQUE | B197: =F197&"-"&TEXT(COUNTIF(A$2:A197,A197),"0000") -> TRON-0096 | C197: Nappe connexion Led | D197: TME | E197: FC06600-S | F197: =VLOOKUP(A197,$M$6:$N$17,2) -> TRON | G197: =F197&"-"&TEXT(COUNTIF(F$2:F197,F197),"0000") -> TRON-0096 | O197: TRON-0078
A198: ELECTRONIQUE | B198: =F198&"-"&TEXT(COUNTIF(A$2:A198,A198),"0000") -> TRON-0097 | C198: Afficheur | F198: =VLOOKUP(A198,$M$6:$N$17,2) -> TRON | G198: =F198&"-"&TEXT(COUNTIF(F$2:F198,F198),"0000") -> TRON-0097 | O198: TRON-0079
A199: ELECTRONIQUE | B199: =F199&"-"&TEXT(COUNTIF(A$2:A199,A199),"0000") -> TRON-0098 | C199: Bandeau Led | F199: =VLOOKUP(A199,$M$6:$N$17,2) -> TRON | G199: =F199&"-"&TEXT(COUNTIF(F$2:F199,F199),"0000") -> TRON-0098 | O199: TRON-0080
...

Sheet Fournisseurs
A1: Nom | B1: Adresse | C1: CP | D1: Ville | E1: N° client | F1: Remise | G1: Nom contact 1 | H1: Prénom contact 1 | I1: Contact 1 mail | J1: Contact 1 téléphone | K1: Nom contact 2 | L1: Prénom contact 2 | M1: Contact 2 mail | N1: Contact 2 téléphone
A2: AFDN | B2: 1, chemin de Novital | C2: 31150 | D2: LESPINASSE
A3: ART WORK STUDIO | B3: 22 bis rue Vestrepain | C3: 31100 | D3: TOULOUSE
A4: AUTOMATION 24 | B4: Hinsbecker Loh 10 - GERMANY | C4: 45257 | D4: ESSEN | E4: 1029022
A5: AZUR CAOUTCHOUC | B5: ZI secteur A6, Allée des arts graphiques | C5: 6700 | D5: SAINT LAURENT DU VAR | E5: 3993
A6: BEAUCHAMP SA | B6: 47, Rue Pasteur | C6: 38180 | D6: SEYSSINS | E6: 125028
A7: CAE DATA | B7: Air Park de Paris, Batiment le Caromoran, 3, rue Jeanne Garnerin | C7: 91320 | D7: WISSOUS | E7: 1ZEWATT31
A8: CONRAD | E8: 512501498
A9: DIGI KEY | B9: 701, Broocks Ave South PO BOX677 Thief River Falls MN 56701-0677
A10: DP INOX | B10: 12, rue Clément ADER | C10: 31140 | D10: AUCAMVILLE
A11: ELEC SUD OUEST | B11: 13, Avenue de Larrieu | C11: 31100 | D11: TOULOUSE
A12: EUROLOCKS | B12: 1, Rue du stade | C12: 57730 | D12: FOLSCHVILLER
A13: FILM POUR VITRE | B13: 587, Rue Pierre Poivre ZAC La Tuilerie | C13: 1330 | D13: VILLARS LES DOMBES
A14: FOUSSIER | B14: 343 AV DES ETATS UNIS | C14: 31200 | D14: TOULOUSE
A15: GUYENNE PLASTIQUE | B15: Rebequet | C15: 47800 | D15: SAINT PARDOUX ISAAC
A16: LANDEFELD
A17: LES CINTREURS REUNIS | B17: 15, Chemin des mésanges | C17: 31120 | D17: PORTET SUR GARONNE
A18: MCI | B18: Parc des Carrouges, Chemin de Montreuil à Claye | C18: 93140 | D18: BONDY
A19: MECALASER | B19: ZI de la Pomme | C19: 31250 | D19: REVEL
A20: MOUSER ELECTRONIQUE | B20: 1000 North Main Street TX - USA | C20: 76063 | D20: MAINSFIELD | E20: 5869934
A21: OMEGA | B21: 220 Rue Ferdinand Perrier | C21: 69800 | D21: SAINT PRIEST | E21: 3063
A22: ORANGE
A23: PACK DISCOUNT | B23: 2, Rue Camille Decauville | C23: 91250 | D23: TIGERY | E23: 1008839
A24: PLASTI-D | B24: 4 av des Violettes | C24: 94380 | D24: BONNEUIL SUR MARNE
A25: PSP | B25: 10, Rue JF Romieu | C25: 31600 | D25: MURET
A26: RACTEM | B26: 6, Avenue Neil Amstrong | C26: 33692 | D26: MERIGNAC CEDEX
A27: RS
A28: RUTRONIK | B28: Industriestraße 2 - GERMANY | C28: 75228 | D28: Ispringen
A29: SCAME
A30: SIGNALETIQUE BIZ
A31: SONEPAR | B31: 3 rue de l’égalité | C31: 31200 | D31: TOULOUSE
A32: STOPP COMPOSITE | B32: 5 rue Pavlov - ZAI des Bruyères Bureaux: Entrée N°2 - Entrepôt: Accès F | C32: 78190 | D32: TRAPPES EN YVELINES
A33: SUPERMAGNET.FR
A34: TEAM 31
A35: TELTONIKA
A36: TME | B36: 93-350 Lodz, ul.Ustronna 41 | D36: POLAND | E36: 5445326
A37: TONER PARTNER
A38: TRANSATEL
A39: TSM 31 | B39: 17 Imp. Didier Daurat | C39: 31400 | D39: TOULOUSE
A40: WAGO | B40: 83, rue des Chardonnerets PARIS NORD 2 – BP 55065 | C40: 95947 | D40: ROISSY CDG CEDEX
A41: YESSS ELECTRIQUE | B41: 9 Av. de la Marcaissonne | C41: 31400 | D41: TOULOUSE
A42: ZW

Sheet Listes
A1: PAR
A2: INITIALS | B2: NOM | C2: PRENOM | D2: MAIL | E2: TEL
A3: DG | B3: G | C3: D | E3: 03 03 03 03 03
A4: HD | B4: D | C4: H | E4: 04 04 04 04 04
A5: JA | B5: A | C5: J | E5: 05 05 05 05 05

Sheet Base
B1: {=TRANSPOSE(Fournisseurs!A2:A100)} -> AFDN | C1: ART WORK STUDIO | D1: AUTOMATION 24 | E1: AZUR CAOUTCHOUC | F1: BEAUCHAMP SA | G1: CAE DATA | H1: CONRAD | I1: DIGI KEY | J1: DP INOX | K1: ELEC SUD OUEST | L1: EUROLOCKS | M1: FILM POUR VITRE | N1: FOUSSIER | O1: GUYENNE PLASTIQUE | P1: LANDEFELD | Q1: LES CINTREURS REUNIS | R1: MCI | S1: MECALASER | T1: MOUSER ELECTRONIQUE | U1: OMEGA | V1: ORANGE | W1: PACK DISCOUNT | X1: PLASTI-D | Y1: PSP | Z1: RACTEM | AA1: RS | AB1: RUTRONIK | AC1: SCAME | AD1: SIGNALETIQUE BIZ | AE1: SONEPAR | AF1: STOPP COMPOSITE | AG1: SUPERMAGNET.FR | AH1: TEAM 31 | AI1: TELTONIKA | AJ1: TME | AK1: TONER PARTNER | AL1: TRANSATEL | AM1: TSM 31 | AN1: WAGO | AO1: YESSS ELECTRIQUE | AP1: ZW | AQ1: 0 | AR1: 0 | AS1: 0 | AT1: 0 | AU1: 0 | AV1: 0 | AW1: 0 | AX1: 0 | AY1: 0 | AZ1: 0 | BA1: 0 | BB1: 0 | BC1: 0 | BD1: 0 | BE1: 0 | BF1: 0 | BG1: 0 | BH1: 0 | BI1: 0 | BJ1: 0 | BK1: 0 | BL1: 0 | BM1: 0 | BN1: 0 | BO1: 0 | BP1: 0 | BQ1: 0 | BR1: 0 | BS1: 0 | BT1: 0 | BU1: 0 | BV1: 0 | BW1: 0 | BX1: 0 | BY1: 0 | BZ1: 0 | CA1: 0 | CB1: 0 | CC1: 0 | CD1: 0 | CE1: 0 | CF1: 0 | CG1: 0 | CH1: 0 | CI1: 0 | CJ1: 0 | CK1: 0 | CL1: 0 | CM1: 0 | CN1: 0 | CO1: 0 | CP1: 0 | CQ1: 0 | CR1: 0 | CS1: 0 | CT1: 0 | CU1: 0 | CV1: 0
B2: {=IFERROR(INDEX(reference,SMALL(IF(Fournisseurs=B$1,ROW(Fournisseurs)-1,""), ROW(A1))),"")} | C2: {=IFERROR(INDEX(reference,SMALL(IF(Fournisseurs=C$1,ROW(Fournisseurs)-1,""), ROW(B1))),"")} | D2: {=IFERROR(INDEX(reference,SMALL(IF(Fournisseurs=D$1,ROW(Fournisseurs)-1,""), ROW(C1))),"")} | E2: {=IFERROR(INDEX(reference,SMALL(IF(Fournisseurs=E$1,ROW(Fournisseurs)-1,""), ROW(D1))),"")} | F2: {=IFERROR(INDEX(reference,SMALL(IF(Fournisseurs=F$1,ROW(Fournisseurs)-1,""), ROW(E1))),"")} | G2: {=IFERROR(INDEX(reference,SMALL(IF(Fournisseurs=G$1,ROW(Fournisseurs)-1,""), ROW(F1))),"")} | H2: {=IFERROR(INDEX(reference,SMALL(IF(Fournisseurs=H$1,ROW(Fournisseurs)-1,""), ROW(G1))),"")} | I2: {=IFERROR(INDEX(reference,SMALL(IF(Fournisseurs=I$1,ROW(Fournisseurs)-1,""), ROW(H1))),"")} | ... L2: {=IFERROR(INDEX(reference,SMALL(IF(Fournisseurs=L$1,ROW(Fournisseurs)-1,""), ROW(K1))),"")}
B393: =IF(Articles!$D394=Base!$B$1,Articles!$G394,"") | C393: =IF(Articles!$D394=Base!$C$1,Articles!$G394,"") | D393: =IF(Articles!$D394=Base!$D$1,Articles!$G394,"")
B394: =IF(Articles!$D395=Base!$B$1,Articles!$G395,"") | C394: =IF(Articles!$D395=Base!$C$1,Articles!$G395,"") | D394: =IF(Articles!$D395=Base!$D$1,Articles!$G395,"")
B395: =IF(Articles!$D396=Base!$B$1,Articles!$G396,"") | C395: =IF(Articles!$D396=Base!$C$1,Articles!$G396,"") | D395: =IF(Articles!$D396=Base!$D$1,Articles!$G396,"")
B396: =IF(Articles!$D397=Base!$B$1,Articles!$G397,"") | C396: =IF(Articles!$D397=Base!$C$1,Articles!$G397,"") | D396: =IF(Articles!$D397=Base!$D$1,Articles!$G397,"")
B397: =IF(Articles!$D398=Base!$B$1,Articles!$G398,"") | C397: =IF(Articles!$D398=Base!$C$1,Articles!$G398,"") | D397: =IF(Articles!$D398=Base!$D$1,Articles!$G398,"")
B398: =IF(Articles!$D399=Base!$B$1,Articles!$G399,"") | C398: =IF(Articles!$D399=Base!$C$1,Articles!$G399,"") | D398: =IF(Articles!$D399=Base!$D$1,Articles!$G399,"")
