Workbook
Name Liste_Affaires: Projets!$C$2:$C$51
Name Liste_Projets: Projets!$B$2:$B$51

Sheet Feuil1
B1: Affaire | C1: Désignation
B2: =IFERROR(VLOOKUP(C2,Projets!B2:D51,2,FALSE),"") -> Affaire15 | C2: Projet15
B3: =IFERROR(VLOOKUP(C3,Projets!B3:D52,2,FALSE),"") -> Affaire04 | C3: Projet04
B4: =IFERROR(VLOOKUP(C4,Projets!B4:D53,2,FALSE),"") -> Affaire06 | C4: Projet06
B5: =IFERROR(VLOOKUP(C5,Projets!B5:D54,2,FALSE),"") -> Affaire06 | C5: Projet06
B6: =IFERROR(VLOOKUP(C6,Projets!B6:D55,2,FALSE),"")
B7: =IFERROR(VLOOKUP(C7,Projets!B7:D56,2,FALSE),"")
B8: =IFERROR(VLOOKUP(C8,Projets!B8:D57,2,FALSE),"")
B9: =IFERROR(VLOOKUP(C9,Projets!B9:D58,2,FALSE),"")
B10: =IFERROR(VLOOKUP(C10,Projets!B10:D59,2,FALSE),"")
B11: =IFERROR(VLOOKUP(C11,Projets!B11:D60,2,FALSE),"")
B12: =IFERROR(VLOOKUP(C12,Projets!B12:D61,2,FALSE),"")
B13: =IFERROR(VLOOKUP(C13,Projets!B13:D62,2,FALSE),"")
B14: =IFERROR(VLOOKUP(C14,Projets!B14:D63,2,FALSE),"")
B15: =IFERROR(VLOOKUP(C15,Projets!B15:D64,2,FALSE),"")
B16: =IFERROR(VLOOKUP(C16,Projets!B16:D65,2,FALSE),"")
B17: =IFERROR(VLOOKUP(C17,Projets!B17:D66,2,FALSE),"")
... B51: =IFERROR(VLOOKUP(C51,Projets!B51:D100,2,FALSE),"")

Sheet Projets
A1: Ordre | B1: Désignation | C1: Affaire | D1: Statut
A2: 1 | B2: Projet01 | C2: Affaire01 | D2: Actif
A3: 2 | B3: Projet02 | C3: Affaire02 | D3: Actif
A4: 3 | B4: Projet03 | C4: Affaire03 | D4: Actif
A5: 4 | B5: Projet04 | C5: Affaire04 | D5: Inactif
A6: 5 | B6: Projet05 | C6: Affaire05 | D6: Actif
A7: 6 | B7: Projet06 | C7: Affaire06 | D7: Actif
A8: 7 | B8: Projet07 | C8: Affaire07 | D8: Actif
A9: 8 | B9: Projet08 | C9: Affaire08 | D9: Actif
A10: 9 | B10: Projet09 | C10: Affaire09 | D10: Inactif
A11: 10 | B11: Projet10 | C11: Affaire10 | D11: Actif
A12: 11 | B12: Projet11 | C12: Affaire11 | D12: Actif
A13: 12 | B13: Projet12 | C13: Affaire12 | D13: Inactif
... A17: 16 | B17: Projet16 | C17: Affaire16 | D17: Actif
A18: 17
A19: 18
A20: 19
A21: 20
