Workbook

Sheet Fériés
A1: Année | B1: 2021
A2: 1 er Janvier | B2: =DATE($B$1,1,1) -> 44197 | C2: 1
A3: Pâques | B3: =ROUND(DATE($B$1,4,MOD(234-11*MOD($B$1,19),30))/7,0)*7-6 -> 44290 | C3: 1
A4: Lundi de paques | B4: =B3+1 -> 44291 | C4: 1
A5: 1 er mai | B5: =DATE($B$1,5,1) -> 44317 | C5: 1
A6: 43959 | B6: =DATE($B$1,5,8) -> 44324 | C6: 1
A7: Ascension | B7: =B3+39 -> 44329 | C7: 1
A8: Lundi de pentecote | B8: =B3+50 -> 44340 | C8: 1
A9: 44026 | B9: =DATE($B$1,7,14) -> 44391 | C9: 1
A10: 15 aout | B10: =DATE($B$1,8,15) -> 44423 | C10: 1
A11: 44136 | B11: =DATE($B$1,11,1) -> 44501 | C11: 1
A12: 44146 | B12: =DATE($B$1,11,11) -> 44511 | C12: 1
A13: 44190 | B13: =DATE($B$1,12,25) -> 44555 | C13: 1

Sheet Feuil2
A1: Date de début | B1: Date de fin | C1: Nombre de lundi | D1: Nombre de mardi | E1: Nombre de mercredi | F1: Nombre de jeudi | G1: Nombre de vendredi | H1: Nombre de samedi | I1: Nombre de dimanche | J1: Jours fériés | K1: Côut par personne
A2: 44289 | B2: 44293 | C2: =NETWORKDAYS.INTL($A2,$B2,"0111111",) -> 1 | D2: =NETWORKDAYS.INTL($A2,$B2,"1011111",) -> 1 | E2: =NETWORKDAYS.INTL($A2,$B2,"1101111",) -> 1 | F2: =NETWORKDAYS.INTL($A2,$B2,"1110111",) -> 0 | G2: =NETWORKDAYS.INTL($A2,$B2,"1111011",) -> 0 | H2: =NETWORKDAYS.INTL($A2,$B2,"1111101",H3:H4) -> 1 | I2: =NETWORKDAYS.INTL($A2,$B2,"1111110",) -> 1 | J2: =LOOKUP(B2,Fériés!B2:B13,Fériés!B2:B13) -> 44291 | K2: =(C2*100)+(D2*100)+(E2*100)+(F2*100)+(G2*100)+(H2*200)+(I2*200) -> 700 | L2: {=_xlfn.IFS(J2<A2,0,J2>A2,2)} -> 2
A3: 44197 | B3: 44561 | C3: =NETWORKDAYS.INTL($A3,$B3,"0111111",Fériés!$B$2:$B$13) -> 49 | D3: =NETWORKDAYS.INTL($A3,$B3,"1011111",Fériés!$B$2:$B$13) -> 52 | E3: =NETWORKDAYS.INTL($A3,$B3,"1101111",Fériés!$B$2:$B$13) -> 51 | F3: =NETWORKDAYS.INTL($A3,$B3,"1110111",Fériés!$B$2:$B$13) -> 50 | G3: =NETWORKDAYS.INTL($A3,$B3,"1111011",Fériés!$B$2:$B$13) -> 52 | H3: =NETWORKDAYS.INTL($A3,$B3,"1111101",Fériés!$B$2:$B$13) -> 49 | I3: =NETWORKDAYS.INTL($A3,$B3,"1111110",Fériés!$B$2:$B$13) -> 50
A4: 44197 | B4: 44561 | C4: =NETWORKDAYS.INTL($A4,$B4,"0111111",Fériés!$B$2:$B$13) -> 49 | D4: =NETWORKDAYS.INTL($A4,$B4,"1011111",Fériés!$B$2:$B$13) -> 52 | E4: =NETWORKDAYS.INTL($A4,$B4,"1101111",Fériés!$B$2:$B$13) -> 51 | F4: =NETWORKDAYS.INTL($A4,$B4,"1110111",Fériés!$B$2:$B$13) -> 50 | G4: =NETWORKDAYS.INTL($A4,$B4,"1111011",Fériés!$B$2:$B$13) -> 52 | H4: =NETWORKDAYS.INTL($A4,$B4,"1111101",Fériés!$B$2:$B$13) -> 49 | I4: =NETWORKDAYS.INTL($A4,$B4,"1111110",Fériés!$B$2:$B$13) -> 50
A5: 44197 | B5: 44561 | C5: =NETWORKDAYS.INTL($A5,$B5,"0111111",Fériés!$B$2:$B$13) -> 49 | D5: =NETWORKDAYS.INTL($A5,$B5,"1011111",Fériés!$B$2:$B$13) -> 52 | E5: =NETWORKDAYS.INTL($A5,$B5,"1101111",Fériés!$B$2:$B$13) -> 51 | F5: =NETWORKDAYS.INTL($A5,$B5,"1110111",Fériés!$B$2:$B$13) -> 50 | G5: =NETWORKDAYS.INTL($A5,$B5,"1111011",Fériés!$B$2:$B$13) -> 52 | H5: =NETWORKDAYS.INTL($A5,$B5,"1111101",Fériés!$B$2:$B$13) -> 49 | I5: =NETWORKDAYS.INTL($A5,$B5,"1111110",Fériés!$B$2:$B$13) -> 50
A6: 44197 | B6: 44561 | C6: =NETWORKDAYS.INTL($A6,$B6,"0111111",Fériés!$B$2:$B$13) -> 49 | D6: =NETWORKDAYS.INTL($A6,$B6,"1011111",Fériés!$B$2:$B$13) -> 52 | E6: =NETWORKDAYS.INTL($A6,$B6,"1101111",Fériés!$B$2:$B$13) -> 51 | F6: =NETWORKDAYS.INTL($A6,$B6,"1110111",Fériés!$B$2:$B$13) -> 50 | G6: =NETWORKDAYS.INTL($A6,$B6,"1111011",Fériés!$B$2:$B$13) -> 52 | H6: =NETWORKDAYS.INTL($A6,$B6,"1111101",Fériés!$B$2:$B$13) -> 49 | I6: =NETWORKDAYS.INTL($A6,$B6,"1111110",Fériés!$B$2:$B$13) -> 50
A7: 44197 | B7: 44561 | C7: =NETWORKDAYS.INTL($A7,$B7,"0111111",Fériés!$B$2:$B$13) -> 49 | D7: =NETWORKDAYS.INTL($A7,$B7,"1011111",Fériés!$B$2:$B$13) -> 52 | E7: =NETWORKDAYS.INTL($A7,$B7,"1101111",Fériés!$B$2:$B$13) -> 51 | F7: =NETWORKDAYS.INTL($A7,$B7,"1110111",Fériés!$B$2:$B$13) -> 50 | G7: =NETWORKDAYS.INTL($A7,$B7,"1111011",Fériés!$B$2:$B$13) -> 52 | H7: =NETWORKDAYS.INTL($A7,$B7,"1111101",Fériés!$B$2:$B$13) -> 49 | I7: =NETWORKDAYS.INTL($A7,$B7,"1111110",Fériés!$B$2:$B$13) -> 50
A8: 44197 | B8: 44561 | C8: =NETWORKDAYS.INTL($A8,$B8,"0111111",Fériés!$B$2:$B$13) -> 49 | D8: =NETWORKDAYS.INTL($A8,$B8,"1011111",Fériés!$B$2:$B$13) -> 52 | E8: =NETWORKDAYS.INTL($A8,$B8,"1101111",Fériés!$B$2:$B$13) -> 51 | F8: =NETWORKDAYS.INTL($A8,$B8,"1110111",Fériés!$B$2:$B$13) -> 50 | G8: =NETWORKDAYS.INTL($A8,$B8,"1111011",Fériés!$B$2:$B$13) -> 52 | H8: =NETWORKDAYS.INTL($A8,$B8,"1111101",Fériés!$B$2:$B$13) -> 49 | I8: =NETWORKDAYS.INTL($A8,$B8,"1111110",Fériés!$B$2:$B$13) -> 50
A9: 44197 | B9: 44561 | C9: =NETWORKDAYS.INTL($A9,$B9,"0111111",Fériés!$B$2:$B$13) -> 49 | D9: =NETWORKDAYS.INTL($A9,$B9,"1011111",Fériés!$B$2:$B$13) -> 52 | E9: =NETWORKDAYS.INTL($A9,$B9,"1101111",Fériés!$B$2:$B$13) -> 51 | F9: =NETWORKDAYS.INTL($A9,$B9,"1110111",Fériés!$B$2:$B$13) -> 50 | G9: =NETWORKDAYS.INTL($A9,$B9,"1111011",Fériés!$B$2:$B$13) -> 52 | H9: =NETWORKDAYS.INTL($A9,$B9,"1111101",Fériés!$B$2:$B$13) -> 49 | I9: =NETWORKDAYS.INTL($A9,$B9,"1111110",Fériés!$B$2:$B$13) -> 50
K13: RECHERCHE(B2;Fériés!B2:B13;Fériés!B2:B13)
