Workbook
Name AnneeCalendrier: 'Mois en cours'!$C$3
Name AnneeCalendrier: 'Mois suivant'!$C$3
Name AnneeCalendrier: Juillet!$C$3
Name NumMOIS: 'Mois en cours'!$F$1
Name NumMOIS: 'Mois suivant'!$E$1
Name NumMOIS: Juillet!$E$1
Name p: #REF!

Sheet HR DATABASE
A1: Employee ID | B1: Full Name | C1: Preferred Name / Known As | D1: First Name | E1: Last Name | F1: Gender | G1: Sub Area / Dept | H1: Position | I1: Départment | J1: Floor | K1: Team Leader | L1: PSM | M1: AGM | N1: Brand | O1: Nb H/sem
A2: 10011273 | B2: Aimee Guyon | C2: Aimee | D2: Aimee | E2: Guyon | F2: F | G2: Sales (La Samaritaine) | H2: Sales associate | I2: Beauty | J2: -1 | K2: Audrey Detoul | L2: François DHALLUIN | M2: Sylvain COURAULT | N2: ACQUA DI PARMA | O2: 35
A3: 10011485 | B3: Valerie Lebaindre | C3: Valerie | D3: Valerie | E3: Lebaindre | F3: F | G3: Sales (La Samaritaine) | H3: Sales associate | I3: Beauty | J3: -1 | K3: Audrey Detoul | L3: François DHALLUIN | M3: Sylvain COURAULT | N3: ACQUA DI PARMA | O3: 35
A4: 10011445 | B4: Amandine Vialle | C4: Amandine | D4: Amandine | E4: Vialle | F4: F | G4: Sales (La Samaritaine) | H4: Sales associate | I4: Beauty | J4: -1 | K4: Annabelle LAFER | L4: François DHALLUIN | M4: Sylvain COURAULT | N4: ANNICK GOUTAL | O4: 35
A5: 10011583 | B5: Fedoua Bouacha | C5: Fedoua | D5: Fedoua | E5: Bouacha | F5: F | G5: Sales (La Samaritaine) | H5: Sales associate | I5: Beauty | J5: -1 | K5: Audrey DETOUL | L5: François DHALLUIN | M5: Sylvain COURAULT | N5: ATELIER COLOGNE / MUGLER / PRADA | O5: 35
A6: 10011259 | B6: Muriel Foury | C6: Muriel | D6: Muriel | E6: Foury | F6: F | G6: Sales (La Samaritaine) | H6: Sales associate | I6: Beauty | J6: -1 | K6: Sabah Rizki | L6: Krystel NEHME | M6: Sylvain COURAULT | N6: BIOTHERM | O6: 35
A7: 10011200 | B7: Rani Grove | C7: Rani | D7: Rani | E7: Grove | F7: F | G7: Sales (La Samaritaine) | H7: Sales associate | I7: Beauty | J7: -1 | K7: Laure Geens | L7: Diane CERDOR | M7: Sylvain COURAULT | N7: BOBBI BROWN | O7: 35
A8: 10011121 | B8: Safa Abderrahmane Habib | C8: Safa | D8: Safa | E8: Abderrahmane Habib | F8: F | G8: Sales (La Samaritaine) | H8: Sales associate | I8: Beauty | J8: -1 | K8: Annabelle LAFER | L8: François DHALLUIN | M8: Sylvain COURAULT | N8: BULGARI | O8: 35
A9: 10011467 | B9: Laura Keng-Weng | C9: Laura | D9: Laura | E9: Keng-Weng | F9: F | G9: Sales (La Samaritaine) | H9: Sales associate | I9: Beauty | J9: -1 | K9: Laetitia Chen | L9: Diane CERDOR | M9: Sylvain COURAULT | N9: BURBERRY / CHLOE | O9: 35
A10: 10011271 | B10: Alice Deligeard | C10: Alice | D10: Alice | E10: Deligeard | F10: F | G10: Sales (La Samaritaine) | H10: Sales associate | I10: Beauty | J10: -1 | K10: Laure Geens | L10: Diane CERDOR | M10: Sylvain COURAULT | N10: BY TERRY | O10: 35
A11: 10011501 | B11: Yann Lacroix Larose | C11: Yann | D11: Yann | E11: Lacroix Larose | F11: M | G11: Sales (La Samaritaine) | H11: Sales associate | I11: Beauty | J11: -1 | K11: Laure Geens | L11: Diane CERDOR | M11: Sylvain COURAULT | N11: BY TERRY | O11: 35
A12: 10011515 | B12: Magdalena Gorczynska | C12: Gorczynska | D12: Magdalena | E12: Gorczynska | F12: F | G12: Sales (La Samaritaine) | H12: Sales associate | I12: Beauty | J12: -1 | K12: Audrey Detoul | L12: François DHALLUIN | M12: Sylvain COURAULT | N12: BYREDO | O12: 35
A13: 10011366 | B13: Henny Sinardi Lavagne Dortigue | C13: Henny | D13: Henny | E13: Sinardi Lavagne Dortigue | F13: F | G13: Sales (La Samaritaine) | H13: Sales associate | I13: Beauty | J13: -1 | K13: Audrey Detoul | L13: François DHALLUIN | M13: Sylvain COURAULT | N13: BYREDO | O13: 35
... A138: 10011243 | B138: Jessica Pera | C138: Jessica | D138: Jessica | E138: Pera | F138: F | G138: Sales (La Samaritaine) | H138: Sales associate | I138: Beauty | J138: -1 | K138: Laetitia Chen | L138: Krystel NEHME | M138: Sylvain COURAULT | N138: YSL / GIORGIO ARMANI | O138: 35
A139: 10010853 | B139: Louis Ancel | C139: Louis | D139: Louis | E139: Ancel | F139: M | G139: Paris La Samaritaine | H139: Team Lead | I139: Beauty | J139: -1 | L139: Krystel NEHME | M139: Sylvain COURAULT | O139: 35
A140: 10010803 | B140: Diane Cerdor | C140: Diane | D140: Diane | E140: Cerdor | F140: F | G140: Paris La Samaritaine | H140: Product Sales Manager | I140: Beauty | M140: Sylvain COURAULT | O140: 35
A141: 10011113 | B141: Laetitia Chen | C141: Laetitia | D141: Laetitia | E141: Chen | F141: F | G141: Sales (La Samaritaine) | H141: Team Lead | I141: Beauty | J141: -1 | L141: Diane CERDOR | M141: Sylvain COURAULT | O141: 35
A142: 2220095 | B142: Sylvain Courault | C142: Sylvain | D142: Sylvain | E142: Courault | F142: M | G142: Paris La Samaritaine | H142: Assistant General Manager Sales | I142: Beauty | O142: 35
A143: 10010972 | B143: Audrey Detoul | C143: Audrey | D143: Audrey | E143: Detoul | F143: F | G143: Sales (La Samaritaine) | H143: Team Lead | I143: Beauty | J143: -1 | L143: François DHALLUIN | M143: Sylvain COURAULT | O143: 35
A144: 10010831 | B144: Francois Dhalluin | C144: Francois | D144: Francois | E144: Dhalluin | F144: M | G144: Paris La Samaritaine | H144: Product Sales Manager | I144: Beauty | M144: Sylvain COURAULT | O144: 35
A145: 10011131 | B145: Laure-Nirina Geens | C145: Laure | D145: Laure-Nirina | E145: Geens | F145: F | G145: Sales (La Samaritaine) | H145: Team Lead | I145: Beauty | J145: -1 | L145: Diane CERDOR | M145: Sylvain COURAULT | O145: 35
A146: 10011017 | B146: Annabelle Lafer | C146: Annabelle | D146: Annabelle | E146: Lafer | F146: F | G146: Sales (La Samaritaine) | H146: Team Lead | I146: Beauty | J146: -1 | L146: François DHALLUIN | M146: Sylvain COURAULT | O146: 35
A147: 10011020 | B147: Krystel Nehme | C147: Krystel | D147: Krystel | E147: Nehme | F147: F | G147: Paris La Samaritaine | H147: Product Sales Manager | I147: Beauty | M147: Sylvain COURAULT | O147: 35
A148: 10011063 | B148: Angelique Ragueneau | C148: Angelique | D148: Angelique | E148: Ragueneau | F148: F | G148: Sales (La Samaritaine) | H148: Team Lead | I148: Beauty | J148: -1 | L148: Diane CERDOR | M148: Sylvain COURAULT | O148: 35
A149: 10012176 | B149: Cedric Pinero | C149: Cedric | D149: Cedric | E149: Pinero | G149: Sales (La Samaritaine) | H149: Team Lead | I149: Beauty | J149: -1 | L149: Diane CERDOR | M149: Sylvain COURAULT
A150: 10011006 | B150: Sabah Rizki | C150: Sabah | D150: Sabah | E150: Rizki | F150: F | G150: Sales (La Samaritaine) | H150: Team Lead | I150: Beauty | J150: -1 | L150: Krystel NEHME | M150: Sylvain COURAULT | O150: 35
A151: 10011930 | B151: Tania GOYO | C151: Tania | D151: Tania | E151: Goyo | G151: Operations (La Samaritaine) | H151: Opératrice de caisse | I151: Cash Management | J151: 1 | K151: Ewan Jordan Peltereau | L151: Mourad KHATI | M151: Laurence DAVID | O151: 35
A152: 10011911 | B152: Eugénie Jougleux | C152: Eugénie | D152: Eugénie | E152: Jougleux | G152: Operations (La Samaritaine) | H152: Opératrice de caisse | I152: Cash Management | J152: 1 | K152: Ewan Jordan Peltereau | L152: Mourad KHATI | M152: Laurence DAVID | O152: 35
A153: 10010870 | B153: Mourad Khati | C153: Mourad | D153: Mourad | E153: Khati | F153: M | G153: Operations (La Samaritaine) | H153: Cash Manager | I153: Cash Management | J153: 1 | O153: 35
A154: 10012184 | B154: Julienne Huynh | C154: Julienne | D154: Julienne | E154: Huynh | F154: F | G154: Operations (La Samaritaine) | H154: Opératrice de caisse | I154: Cash Management | J154: 1 | K154: Ewan Jordan Peltereau | L154: Mourad KHATI | M154: Laurence DAVID | O154: 35
A155: 10011045 | B155: Ewan, Jordan Peltereau | C155: Ewan | D155: Ewan | E155: Peltereau | F155: M | G155: Operations (La Samaritaine) | H155: Team Lead | I155: Cash Management | J155: 1 | L155: Mourad KHATI | M155: Laurence DAVID | O155: 35
A156: 10011556 | B156: Olga Brion | C156: Olga | D156: Olga | E156: Brion | F156: F | G156: Sales (La Samaritaine) | H156: Sales associate | I156: Champagne | J156: 1 | K156: Samia TISSIER | L156: Samia TISSIER | M156: Carla PINTO | N156: DOM PERIGNON | O156: 35
A157: 10011274 | B157: Carlos Perez | C157: Carlos | D157: Carlos | E157: Perez | F157: M | G157: Sales (La Samaritaine) | H157: Sales associate | I157: Champagne | J157: 2 | K157: Samia TISSIER | L157: Samia TISSIER | M157: Carla PINTO | N157: HENNESSY | O157: 35
A158: 10011491 | B158: Pharanie Biret | C158: Pharanie | D158: Pharanie | E158: Biret | F158: F | G158: Sales (La Samaritaine) | H158: Sales associate | I158: Champagne | J158: 0 | K158: Samia TISSIER | L158: Samia TISSIER | M158: Carla PINTO | N158: MOET & CHANDON | O158: 35
A159: 10011304 | B159: Manuel Borel | C159: Manuel | D159: Manuel | E159: Borel | F159: M | G159: Sales (La Samaritaine) | H159: Sales associate | I159: Champagne | J159: 4 | K159: Samia TISSIER | L159: Samia TISSIER | M159: Carla PINTO | N159: RUINART | O159: 35
A160: 10011326 | B160: Sofienne Djenna | C160: Sofienne | D160: Sofienne | E160: Djenna | F160: M | G160: Sales (La Samaritaine) | H160: Sales associate | I160: Champagne | J160: 0 | K160: Samia TISSIER | L160: Samia TISSIER | M160: Carla PINTO | N160: VEUVE CLICQUOT | O160: 35
A161: 10012045 | B161: Claire Szekely | C161: Claire | D161: Claire | E161: Szekely | F161: F | G161: Sales (La Samaritaine) | H161: Sales associate | I161: Champagne | J161: 0 | K161: Samia TISSIER | L161: Samia TISSIER | M161: Carla PINTO | N161: VEUVE CLICQUOT | O161: 35
A162: 10012063 | B162: Victor Gastaldi | C162: Victor | D162: Victor | E162: Gastaldi | F162: M | G162: Sales (La Samaritaine) | H162: Sales associate | I162: Champagne | J162: 4 | K162: Samia TISSIER | L162: Samia TISSIER | M162: Carla PINTO | N162: RUINART | O162: 35
A163: 10012095 | B163: Leo Szymanski | C163: Leo | D163: Leo | E163: Szymanski | F163: M | G163: Sales (La Samaritaine) | H163: Sales associate | I163: Champagne | J163: 0 | K163: Samia TISSIER | L163: Samia TISSIER | M163: Carla PINTO | N163: MOET & CHANDON | O163: 35
A164: 10010685 | B164: Samia Tissier | C164: Samia | D164: Samia | E164: Tissier | F164: F | G164: Paris La Samaritaine | H164: Product Sales Manager | I164: Champagne & WS | M164: Carla PINTO | O164: 35
...

Sheet Juillet
A1: Mois | E1: 7 | I1: SA | J1: kl | K1: =VLOOKUP($J$1,DATA!$I:$K,3,0) -> 10011411
A3: Année | C3: 2021 | I3: Total CA | J3: =G38+K38+O38+S38+W38+AA38+AE38+AI38+AM38+AQ38+AU38+AY38+AY38+BC38+BG38+BK38+BO38+BS38+BW38+CA38+CE38+CI38+CM38 -> 18548.8 | M3: Commission | N3: =G39+K39+O39+S39+W39+AA39+AE39+AI39+AM39+AQ39+AU39+AY39+BC39+BC39+BG39+BK39+BO39+BS39+BW39+CA39+CE39+CI39+CM39+CQ30 -> 256.3955
E5: Acne | I5: Alfred Dunhill | M5: Anderson's | Q5: Balenciaga | U5: Bally | Y5: Balmain | AC5: Bleu de Chauffe | AG5: Bottega Veneta | AK5: Burberry | AO5: Givenchy | AS5: Kenzo | AW5: Lacoste | BA5: Maison Margiela | BE5: Moncler | BI5: Off-White | BM5: Polo Ralph Lauren | BQ5: Salvatore Ferragamo | BU5: Smythson | BY5: Stone Island | CC5: Thom Browne | CG5: Versace | CK5: YSL
A6: JOUR | C6: JOURNEE | E6: Units | F6: T | G6: Sales HT | I6: Units | J6: T | K6: Sales HT | M6: Units | N6: T | O6: Sales HT | Q6: Units | R6: T | S6: Sales HT | U6: Units | V6: T | W6: Sales HT | Y6: Units | Z6: T | AA6: Sales HT | AC6: Units | AD6: T | AE6: Sales HT | AG6: Units | AH6: T | AI6: Sales HT | AK6: Units | AL6: T | AM6: Sales HT | AO6: Units | AP6: T | AQ6: Sales HT | AS6: Units | AT6: T | AU6: Sales HT | AW6: Units | AX6: T | AY6: Sales HT | BA6: Units | BB6: T | BC6: Sales HT | BE6: Units | BF6: T | BG6: Sales HT | BI6: Units | BJ6: T | BK6: Sales HT | BM6: Units | BN6: T | BO6: Sales HT | BQ6: Units | BR6: T | BS6: Sales HT | BU6: Units | BV6: T | BW6: Sales HT | BY6: Units | BZ6: T | CA6: Sales HT | CC6: Units | CD6: T | CE6: Sales HT | CG6: Units | CH6: T | CI6: Sales HT | CK6: Units | CL6: T | CM6: Sales HT
A7: 1 | B7: =DATE(AnneeCalendrier,NumMOIS,A7) -> 44378 | C7: =DATE($C$3,$E$1,A7) -> 44378 | D7: =$E$5&$K$1&TEXT($B7,"jj/mm/aaaa") -> Acne1001141101/07/2021 | E7: =_xlfn.XLOOKUP($D7,DATA_BRAND!$G:$G,DATA_BRAND!$D:$D,"") | F7: =_xlfn.XLOOKUP($D7,DATA_BRAND!$G:$G,DATA_BRAND!$E:$E,"") | G7: =_xlfn.XLOOKUP($D7,DATA_BRAND!$G:$G,DATA_BRAND!$F:$F,"") | H7: =$I$5&$K$1&TEXT($B7,"jj/mm/aaaa") -> Alfred Dunhill1001141101/07/2021 | I7: =_xlfn.XLOOKUP($H7,DATA_BRAND!$G:$G,DATA_BRAND!$D:$D,"") | J7: =_xlfn.XLOOKUP($H7,DATA_BRAND!$G:$G,DATA_BRAND!$E:$E,"") | K7: =_xlfn.XLOOKUP($H7,DATA_BRAND!$G:$G,DATA_BRAND!$F:$F,"") | L7: =$M$5&$K$1&TEXT($B7,"jj/mm/aaaa") -> Anderson's1001141101/07/2021 | M7: =_xlfn.XLOOKUP($L7,DATA_BRAND!$G:$G,DATA_BRAND!$D:$D,"") | N7: =_xlfn.XLOOKUP($L7,DATA_BRAND!$G:$G,DATA_BRAND!$E:$E,"") | O7: =_xlfn.XLOOKUP($L7,DATA_BRAND!$G:$G,DATA_BRAND!$F:$F,"") | P7: =$Q$5&$K$1&TEXT($B7,"jj/mm/aaaa") -> Balenciaga1001141101/07/2021 | Q7: =_xlfn.XLOOKUP($P7,DATA_BRAND!$G:$G,DATA_BRAND!$D:$D,"") | R7: =_xlfn.XLOOKUP($P7,DATA_BRAND!$G:$G,DATA_BRAND!$E:$E,"") | S7: =_xlfn.XLOOKUP($P7,DATA_BRAND!$G:$G,DATA_BRAND!$F:$F,"") | T7: =$U$5&$K$1&TEXT($B7,"jj/mm/aaaa") -> Bally1001141101/07/2021 | U7: =_xlfn.XLOOKUP($T7,DATA_BRAND!$G:$G,DATA_BRAND!$D:$D,"") | V7: =_xlfn.XLOOKUP($T7,DATA_BRAND!$G:$G,DATA_BRAND!$E:$E,"") | W7: =_xlfn.XLOOKUP($T7,DATA_BRAND!$G:$G,DATA_BRAND!$F:$F,"") | X7: =$Y$5&$K$1&TEXT($B7,"jj/mm/aaaa") -> Balmain1001141101/07/2021 | Y7: =_xlfn.XLOOKUP($X7,DATA_BRAND!$G:$G,DATA_BRAND!$D:$D,"") | Z7: =_xlfn.XLOOKUP($X7,DATA_BRAND!$G:$G,DATA_BRAND!$E:$E,"") | AA7: =_xlfn.XLOOKUP($X7,DATA_BRAND!$G:$G,DATA_BRAND!$F:$F,"") | AB7: =$AC$5&$K$1&TEXT($B7,"jj/mm/aaaa") -> Bleu de Chauffe1001141101/07/2021 | AC7: =_xlfn.XLOOKUP($AB7,DATA_BRAND!$G:$G,DATA_BRAND!$D:$D,"") | AD7: =_xlfn.XLOOKUP($AB7,DATA_BRAND!$G:$G,DATA_BRAND!$E:$E,"") | AE7: =_xlfn.XLOOKUP($AB7,DATA_BRAND!$G:$G,DATA_BRAND!$F:$F,"") | AF7: =$AG$5&$K$1&TEXT($B7,"jj/mm/aaaa") -> Bottega Veneta1001141101/07/2021 | AG7: =_xlfn.XLOOKUP($AF7,DATA_BRAND!$G:$G,DATA_BRAND!$D:$D,"") | AH7: =_xlfn.XLOOKUP($AF7,DATA_BRAND!$G:$G,DATA_BRAND!$E:$E,"") | AI7: =_xlfn.XLOOKUP($AF7,DATA_BRAND!$G:$G,DATA_BRAND!$F:$F,"") | AJ7: =$AK$5&$K$1&TEXT($B7,"jj/mm/aaaa") -> Burberry1001141101/07/2021 | AK7: =_xlfn.XLOOKUP($AJ7,DATA_BRAND!$G:$G,DATA_BRAND!$D:$D,"") | AL7: =_xlfn.XLOOKUP($AJ7,DATA_BRAND!$G:$G,DATA_BRAND!$E:$E,"") | AM7: =_xlfn.XLOOKUP($AJ7,DATA_BRAND!$G:$G,DATA_BRAND!$F:$F,"") | AN7: =$AO$5&$K$1&TEXT($B7,"jj/mm/aaaa") -> Givenchy1001141101/07/2021 | AO7: =_xlfn.XLOOKUP($AN7,DATA_BRAND!$G:$G,DATA_BRAND!$D:$D,"") | AP7: =_xlfn.XLOOKUP($AN7,DATA_BRAND!$G:$G,DATA_BRAND!$E:$E,"") | AQ7: =_xlfn.XLOOKUP($AN7,DATA_BRAND!$G:$G,DATA_BRAND!$F:$F,"") | AR7: =$AS$5&$K$1&TEXT($B7,"jj/mm/aaaa") -> Kenzo1001141101/07/2021 | AS7: =_xlfn.XLOOKUP($AR7,DATA_BRAND!$G:$G,DATA_BRAND!$D:$D,"") | AT7: =_xlfn.XLOOKUP($AR7,DATA_BRAND!$G:$G,DATA_BRAND!$E:$E,"") | AU7: =_xlfn.XLOOKUP($AR7,DATA_BRAND!$G:$G,DATA_BRAND!$F:$F,"") | AV7: =$AW$5&$K$1&TEXT($B7,"jj/mm/aaaa") -> Lacoste1001141101/07/2021 | AW7: =_xlfn.XLOOKUP($AV7,DATA_BRAND!$G:$G,DATA_BRAND!$D:$D,"") | AX7: =_xlfn.XLOOKUP($AV7,DATA_BRAND!$G:$G,DATA_BRAND!$E:$E,"") | AY7: =_xlfn.XLOOKUP($AV7,DATA_BRAND!$G:$G,DATA_BRAND!$F:$F,"") | AZ7: =$BA$5&$K$1&TEXT($B7,"jj/mm/aaaa") -> Maison Margiela1001141101/07/2021 | BA7: =_xlfn.XLOOKUP($AZ7,DATA_BRAND!$G:$G,DATA_BRAND!$D:$D,"") | BB7: =_xlfn.XLOOKUP($AZ7,DATA_BRAND!$G:$G,DATA_BRAND!$E:$E,"") | BC7: =_xlfn.XLOOKUP($AZ7,DATA_BRAND!$G:$G,DATA_BRAND!$F:$F,"") | BD7: =$BE$5&$K$1&TEXT($B7,"jj/mm/aaaa") -> Moncler1001141101/07/2021 | BE7: =_xlfn.XLOOKUP($BD7,DATA_BRAND!$G:$G,DATA_BRAND!$D:$D,"") | BF7: =_xlfn.XLOOKUP($BD7,DATA_BRAND!$G:$G,DATA_BRAND!$E:$E,"") | BG7: =_xlfn.XLOOKUP($BD7,DATA_BRAND!$G:$G,DATA_BRAND!$F:$F,"") | BH7: =$BI$5&$K$1&TEXT($B7,"jj/mm/aaaa") -> Off-White1001141101/07/2021 | BI7: =_xlfn.XLOOKUP($BH7,DATA_BRAND!$G:$G,DATA_BRAND!$D:$D,"") | BJ7: =_xlfn.XLOOKUP($BH7,DATA_BRAND!$G:$G,DATA_BRAND!$E:$E,"") | BK7: =_xlfn.XLOOKUP($BH7,DATA_BRAND!$G:$G,DATA_BRAND!$F:$F,"") | BL7: =$BM$5&$K$1&TEXT($B7,"jj/mm/aaaa") -> Polo Ralph Lauren1001141101/07/2021 | BM7: =_xlfn.XLOOKUP($BL7,DATA_BRAND!$G:$G,DATA_BRAND!$D:$D,"") | BN7: =_xlfn.XLOOKUP($BL7,DATA_BRAND!$G:$G,DATA_BRAND!$E:$E,"") | BO7: =_xlfn.XLOOKUP($BL7,DATA_BRAND!$G:$G,DATA_BRAND!$F:$F,"") | BP7: =$BQ$5&$K$1&TEXT($B7,"jj/mm/aaaa") -> Salvatore Ferragamo1001141101/07/2021 | BQ7: =_xlfn.XLOOKUP($BP7,DATA_BRAND!$G:$G,DATA_BRAND!$D:$D,"") | BR7: =_xlfn.XLOOKUP($BP7,DATA_BRAND!$G:$G,DATA_BRAND!$E:$E,"") | BS7: =_xlfn.XLOOKUP($BP7,DATA_BRAND!$G:$G,DATA_BRAND!$F:$F,"") | BT7: =$BU$5&$K$1&TEXT($B7,"jj/mm/aaaa") -> Smythson1001141101/07/2021 | BU7: =_xlfn.XLOOKUP($BT7,DATA_BRAND!$G:$G,DATA_BRAND!$D:$D,"") | BV7: =_xlfn.XLOOKUP($BT7,DATA_BRAND!$G:$G,DATA_BRAND!$E:$E,"") | BW7: =_xlfn.XLOOKUP($BT7,DATA_BRAND!$G:$G,DATA_BRAND!$F:$F,"") | BX7: =$BY$5&$K$1&TEXT($B7,"jj/mm/aaaa") -> Stone Island1001141101/07/2021 | BY7: =_xlfn.XLOOKUP($BX7,DATA_BRAND!$G:$G,DATA_BRAND!$D:$D,"") | BZ7: =_xlfn.XLOOKUP($BX7,DATA_BRAND!$G:$G,DATA_BRAND!$E:$E,"") | CA7: =_xlfn.XLOOKUP($BX7,DATA_BRAND!$G:$G,DATA_BRAND!$F:$F,"") | CB7: =$CC$5&$K$1&TEXT($B7,"jj/mm/aaaa") -> Thom Browne1001141101/07/2021 | CC7: =_xlfn.XLOOKUP($CB7,DATA_BRAND!$G:$G,DATA_BRAND!$D:$D,"") | CD7: =_xlfn.XLOOKUP($CB7,DATA_BRAND!$G:$G,DATA_BRAND!$E:$E,"") | CE7: =_xlfn.XLOOKUP($CB7,DATA_BRAND!$G:$G,DATA_BRAND!$F:$F,"") | CF7: =$CG$5&$K$1&TEXT($B7,"jj/mm/aaaa") -> Versace1001141101/07/2021 | CG7: =_xlfn.XLOOKUP($CF7,DATA_BRAND!$G:$G,DATA_BRAND!$D:$D,"") | CH7: =_xlfn.XLOOKUP($CF7,DATA_BRAND!$G:$G,DATA_BRAND!$E:$E,"") | CI7: =_xlfn.XLOOKUP($CF7,DATA_BRAND!$G:$G,DATA_BRAND!$F:$F,"") | CJ7: =$CK$5&$K$1&TEXT($B7,"jj/mm/aaaa") -> YSL1001141101/07/2021 | CK7: =_xlfn.XLOOKUP($CJ7,DATA_BRAND!$G:$G,DATA_BRAND!$D:$D,"") | CL7: =_xlfn.XLOOKUP($CJ7,DATA_BRAND!$G:$G,DATA_BRAND!$E:$E,"") | CM7: =_xlfn.XLOOKUP($CJ7,DATA_BRAND!$G:$G,DATA_BRAND!$F:$F,"")
A8: 2 | B8: =DATE(AnneeCalendrier,NumMOIS,A8) -> 44379 | C8: =DATE($C$3,$E$1,A8) -> 44379 | D8: =$E$5&$K$1&TEXT($B8,"jj/mm/aaaa") -> Acne1001141102/07/2021 | E8: =_xlfn.XLOOKUP($D8,DATA_BRAND!$G:$G,DATA_BRAND!$D:$D,"") | F8: =_xlfn.XLOOKUP($D8,DATA_BRAND!$G:$G,DATA_BRAND!$E:$E,"") | G8: =_xlfn.XLOOKUP($D8,DATA_BRAND!$G:$G,DATA_BRAND!$F:$F,"") | H8: =$I$5&$K$1&TEXT($B8,"jj/mm/aaaa") -> Alfred Dunhill1001141102/07/2021 | I8: =_xlfn.XLOOKUP($H8,DATA_BRAND!$G:$G,DATA_BRAND!$D:$D,"") | J8: =_xlfn.XLOOKUP($H8,DATA_BRAND!$G:$G,DATA_BRAND!$E:$E,"") | K8: =_xlfn.XLOOKUP($H8,DATA_BRAND!$G:$G,DATA_BRAND!$F:$F,"") | L8: =$M$5&$K$1&TEXT($B8,"jj/mm/aaaa") -> Anderson's1001141102/07/2021 | M8: =_xlfn.XLOOKUP($L8,DATA_BRAND!$G:$G,DATA_BRAND!$D:$D,"") | N8: =_xlfn.XLOOKUP($L8,DATA_BRAND!$G:$G,DATA_BRAND!$E:$E,"") | O8: =_xlfn.XLOOKUP($L8,DATA_BRAND!$G:$G,DATA_BRAND!$F:$F,"") | P8: =$Q$5&$K$1&TEXT($B8,"jj/mm/aaaa") -> Balenciaga1001141102/07/2021 | Q8: =_xlfn.XLOOKUP($P8,DATA_BRAND!$G:$G,DATA_BRAND!$D:$D,"") | R8: =_xlfn.XLOOKUP($P8,DATA_BRAND!$G:$G,DATA_BRAND!$E:$E,"") | S8: =_xlfn.XLOOKUP($P8,DATA_BRAND!$G:$G,DATA_BRAND!$F:$F,"") | T8: =$U$5&$K$1&TEXT($B8,"jj/mm/aaaa") -> Bally1001141102/07/2021 | U8: =_xlfn.XLOOKUP($T8,DATA_BRAND!$G:$G,DATA_BRAND!$D:$D,"") | V8: =_xlfn.XLOOKUP($T8,DATA_BRAND!$G:$G,DATA_BRAND!$E:$E,"") | W8: =_xlfn.XLOOKUP($T8,DATA_BRAND!$G:$G,DATA_BRAND!$F:$F,"") | X8: =$Y$5&$K$1&TEXT($B8,"jj/mm/aaaa") -> Balmain1001141102/07/2021 | Y8: =_xlfn.XLOOKUP($X8,DATA_BRAND!$G:$G,DATA_BRAND!$D:$D,"") | Z8: =_xlfn.XLOOKUP($X8,DATA_BRAND!$G:$G,DATA_BRAND!$E:$E,"") | AA8: =_xlfn.XLOOKUP($X8,DATA_BRAND!$G:$G,DATA_BRAND!$F:$F,"") | AB8: =$AC$5&$K$1&TEXT($B8,"jj/mm/aaaa") -> Bleu de Chauffe1001141102/07/2021 | AC8: =_xlfn.XLOOKUP($AB8,DATA_BRAND!$G:$G,DATA_BRAND!$D:$D,"") | AD8: =_xlfn.XLOOKUP($AB8,DATA_BRAND!$G:$G,DATA_BRAND!$E:$E,"") | AE8: =_xlfn.XLOOKUP($AB8,DATA_BRAND!$G:$G,DATA_BRAND!$F:$F,"") | AF8: =$AG$5&$K$1&TEXT($B8,"jj/mm/aaaa") -> Bottega Veneta1001141102/07/2021 | AG8: =_xlfn.XLOOKUP($AF8,DATA_BRAND!$G:$G,DATA_BRAND!$D:$D,"") | AH8: =_xlfn.XLOOKUP($AF8,DATA_BRAND!$G:$G,DATA_BRAND!$E:$E,"") | AI8: =_xlfn.XLOOKUP($AF8,DATA_BRAND!$G:$G,DATA_BRAND!$F:$F,"") | AJ8: =$AK$5&$K$1&TEXT($B8,"jj/mm/aaaa") -> Burberry1001141102/07/2021 | AK8: =_xlfn.XLOOKUP($AJ8,DATA_BRAND!$G:$G,DATA_BRAND!$D:$D,"") | AL8: =_xlfn.XLOOKUP($AJ8,DATA_BRAND!$G:$G,DATA_BRAND!$E:$E,"") | AM8: =_xlfn.XLOOKUP($AJ8,DATA_BRAND!$G:$G,DATA_BRAND!$F:$F,"") | AN8: =$AO$5&$K$1&TEXT($B8,"jj/mm/aaaa") -> Givenchy1001141102/07/2021 | AO8: =_xlfn.XLOOKUP($AN8,DATA_BRAND!$G:$G,DATA_BRAND!$D:$D,"") | AP8: =_xlfn.XLOOKUP($AN8,DATA_BRAND!$G:$G,DATA_BRAND!$E:$E,"") | AQ8: =_xlfn.XLOOKUP($AN8,DATA_BRAND!$G:$G,DATA_BRAND!$F:$F,"") | AR8: =$AS$5&$K$1&TEXT($B8,"jj/mm/aaaa") -> Kenzo1001141102/07/2021 | AS8: =_xlfn.XLOOKUP($AR8,DATA_BRAND!$G:$G,DATA_BRAND!$D:$D,"") | AT8: =_xlfn.XLOOKUP($AR8,DATA_BRAND!$G:$G,DATA_BRAND!$E:$E,"") | AU8: =_xlfn.XLOOKUP($AR8,DATA_BRAND!$G:$G,DATA_BRAND!$F:$F,"") | AV8: =$AW$5&$K$1&TEXT($B8,"jj/mm/aaaa") -> Lacoste1001141102/07/2021 | AW8: =_xlfn.XLOOKUP($AV8,DATA_BRAND!$G:$G,DATA_BRAND!$D:$D,"") | AX8: =_xlfn.XLOOKUP($AV8,DATA_BRAND!$G:$G,DATA_BRAND!$E:$E,"") | AY8: =_xlfn.XLOOKUP($AV8,DATA_BRAND!$G:$G,DATA_BRAND!$F:$F,"") | AZ8: =$BA$5&$K$1&TEXT($B8,"jj/mm/aaaa") -> Maison Margiela1001141102/07/2021 | BA8: =_xlfn.XLOOKUP($AZ8,DATA_BRAND!$G:$G,DATA_BRAND!$D:$D,"") | BB8: =_xlfn.XLOOKUP($AZ8,DATA_BRAND!$G:$G,DATA_BRAND!$E:$E,"") | BC8: =_xlfn.XLOOKUP($AZ8,DATA_BRAND!$G:$G,DATA_BRAND!$F:$F,"") | BD8: =$BE$5&$K$1&TEXT($B8,"jj/mm/aaaa") -> Moncler1001141102/07/2021 | BE8: =_xlfn.XLOOKUP($BD8,DATA_BRAND!$G:$G,DATA_BRAND!$D:$D,"") | BF8: =_xlfn.XLOOKUP($BD8,DATA_BRAND!$G:$G,DATA_BRAND!$E:$E,"") | BG8: =_xlfn.XLOOKUP($BD8,DATA_BRAND!$G:$G,DATA_BRAND!$F:$F,"") | BH8: =$BI$5&$K$1&TEXT($B8,"jj/mm/aaaa") -> Off-White1001141102/07/2021 | BI8: =_xlfn.XLOOKUP($BH8,DATA_BRAND!$G:$G,DATA_BRAND!$D:$D,"") | BJ8: =_xlfn.XLOOKUP($BH8,DATA_BRAND!$G:$G,DATA_BRAND!$E:$E,"") | BK8: =_xlfn.XLOOKUP($BH8,DATA_BRAND!$G:$G,DATA_BRAND!$F:$F,"") | BL8: =$BM$5&$K$1&TEXT($B8,"jj/mm/aaaa") -> Polo Ralph Lauren1001141102/07/2021 | BM8: =_xlfn.XLOOKUP($BL8,DATA_BRAND!$G:$G,DATA_BRAND!$D:$D,"") | BN8: =_xlfn.XLOOKUP($BL8,DATA_BRAND!$G:$G,DATA_BRAND!$E:$E,"") | BO8: =_xlfn.XLOOKUP($BL8,DATA_BRAND!$G:$G,DATA_BRAND!$F:$F,"") | BP8: =$BQ$5&$K$1&TEXT($B8,"jj/mm/aaaa") -> Salvatore Ferragamo1001141102/07/2021 | BQ8: =_xlfn.XLOOKUP($BP8,DATA_BRAND!$G:$G,DATA_BRAND!$D:$D,"") | BR8: =_xlfn.XLOOKUP($BP8,DATA_BRAND!$G:$G,DATA_BRAND!$E:$E,"") | BS8: =_xlfn.XLOOKUP($BP8,DATA_BRAND!$G:$G,DATA_BRAND!$F:$F,"") | BT8: =$BU$5&$K$1&TEXT($B8,"jj/mm/aaaa") -> Smythson1001141102/07/2021 | BU8: =_xlfn.XLOOKUP($BT8,DATA_BRAND!$G:$G,DATA_BRAND!$D:$D,"") | BV8: =_xlfn.XLOOKUP($BT8,DATA_BRAND!$G:$G,DATA_BRAND!$E:$E,"") | BW8: =_xlfn.XLOOKUP($BT8,DATA_BRAND!$G:$G,DATA_BRAND!$F:$F,"") | BX8: =$BY$5&$K$1&TEXT($B8,"jj/mm/aaaa") -> Stone Island1001141102/07/2021 | BY8: =_xlfn.XLOOKUP($BX8,DATA_BRAND!$G:$G,DATA_BRAND!$D:$D,"") | BZ8: =_xlfn.XLOOKUP($BX8,DATA_BRAND!$G:$G,DATA_BRAND!$E:$E,"") | CA8: =_xlfn.XLOOKUP($BX8,DATA_BRAND!$G:$G,DATA_BRAND!$F:$F,"") | CB8: =$CC$5&$K$1&TEXT($B8,"jj/mm/aaaa") -> Thom Browne1001141102/07/2021 | CC8: =_xlfn.XLOOKUP($CB8,DATA_BRAND!$G:$G,DATA_BRAND!$D:$D,"") | CD8: =_xlfn.XLOOKUP($CB8,DATA_BRAND!$G:$G,DATA_BRAND!$E:$E,"") | CE8: =_xlfn.XLOOKUP($CB8,DATA_BRAND!$G:$G,DATA_BRAND!$F:$F,"") | CF8: =$CG$5&$K$1&TEXT($B8,"jj/mm/aaaa") -> Versace1001141102/07/2021 | CG8: =_xlfn.XLOOKUP($CF8,DATA_BRAND!$G:$G,DATA_BRAND!$D:$D,"") | CH8: =_xlfn.XLOOKUP($CF8,DATA_BRAND!$G:$G,DATA_BRAND!$E:$E,"") | CI8: =_xlfn.XLOOKUP($CF8,DATA_BRAND!$G:$G,DATA_BRAND!$F:$F,"") | CJ8: =$CK$5&$K$1&TEXT($B8,"jj/mm/aaaa") -> YSL1001141102/07/2021 | CK8: =_xlfn.XLOOKUP($CJ8,DATA_BRAND!$G:$G,DATA_BRAND!$D:$D,"") | CL8: =_xlfn.XLOOKUP($CJ8,DATA_BRAND!$G:$G,DATA_BRAND!$E:$E,"") | CM8: =_xlfn.XLOOKUP($CJ8,DATA_BRAND!$G:$G,DATA_BRAND!$F:$F,"")
A9: 3 | B9: =DATE(AnneeCalendrier,NumMOIS,A9) -> 44380 | C9: =DATE($C$3,$E$1,A9) -> 44380 | D9: =$E$5&$K$1&TEXT($B9,"jj/mm/aaaa") -> Acne1001141103/07/2021 | E9: =_xlfn.XLOOKUP($D9,DATA_BRAND!$G:$G,DATA_BRAND!$D:$D,"") | F9: =_xlfn.XLOOKUP($D9,DATA_BRAND!$G:$G,DATA_BRAND!$E:$E,"") | G9: =_xlfn.XLOOKUP($D9,DATA_BRAND!$G:$G,DATA_BRAND!$F:$F,"") | H9: =$I$5&$K$1&TEXT($B9,"jj/mm/aaaa") -> Alfred Dunhill1001141103/07/2021 | I9: =_xlfn.XLOOKUP($H9,DATA_BRAND!$G:$G,DATA_BRAND!$D:$D,"") | J9: =_xlfn.XLOOKUP($H9,DATA_BRAND!$G:$G,DATA_BRAND!$E:$E,"") | K9: =_xlfn.XLOOKUP($H9,DATA_BRAND!$G:$G,DATA_BRAND!$F:$F,"") | L9: =$M$5&$K$1&TEXT($B9,"jj/mm/aaaa") -> Anderson's1001141103/07/2021 | M9: =_xlfn.XLOOKUP($L9,DATA_BRAND!$G:$G,DATA_BRAND!$D:$D,"") | N9: =_xlfn.XLOOKUP($L9,DATA_BRAND!$G:$G,DATA_BRAND!$E:$E,"") | O9: =_xlfn.XLOOKUP($L9,DATA_BRAND!$G:$G,DATA_BRAND!$F:$F,"") | P9: =$Q$5&$K$1&TEXT($B9,"jj/mm/aaaa") -> Balenciaga1001141103/07/2021 | Q9: =_xlfn.XLOOKUP($P9,DATA_BRAND!$G:$G,DATA_BRAND!$D:$D,"") | R9: =_xlfn.XLOOKUP($P9,DATA_BRAND!$G:$G,DATA_BRAND!$E:$E,"") | S9: =_xlfn.XLOOKUP($P9,DATA_BRAND!$G:$G,DATA_BRAND!$F:$F,"") | T9: =$U$5&$K$1&TEXT($B9,"jj/mm/aaaa") -> Bally1001141103/07/2021 | U9: =_xlfn.XLOOKUP($T9,DATA_BRAND!$G:$G,DATA_BRAND!$D:$D,"") | V9: =_xlfn.XLOOKUP($T9,DATA_BRAND!$G:$G,DATA_BRAND!$E:$E,"") | W9: =_xlfn.XLOOKUP($T9,DATA_BRAND!$G:$G,DATA_BRAND!$F:$F,"") | X9: =$Y$5&$K$1&TEXT($B9,"jj/mm/aaaa") -> Balmain1001141103/07/2021 | Y9: =_xlfn.XLOOKUP($X9,DATA_BRAND!$G:$G,DATA_BRAND!$D:$D,"") | Z9: =_xlfn.XLOOKUP($X9,DATA_BRAND!$G:$G,DATA_BRAND!$E:$E,"") | AA9: =_xlfn.XLOOKUP($X9,DATA_BRAND!$G:$G,DATA_BRAND!$F:$F,"") | AB9: =$AC$5&$K$1&TEXT($B9,"jj/mm/aaaa") -> Bleu de Chauffe1001141103/07/2021 | AC9: =_xlfn.XLOOKUP($AB9,DATA_BRAND!$G:$G,DATA_BRAND!$D:$D,"") | AD9: =_xlfn.XLOOKUP($AB9,DATA_BRAND!$G:$G,DATA_BRAND!$E:$E,"") | AE9: =_xlfn.XLOOKUP($AB9,DATA_BRAND!$G:$G,DATA_BRAND!$F:$F,"") | AF9: =$AG$5&$K$1&TEXT($B9,"jj/mm/aaaa") -> Bottega Veneta1001141103/07/2021 | AG9: =_xlfn.XLOOKUP($AF9,DATA_BRAND!$G:$G,DATA_BRAND!$D:$D,"") | AH9: =_xlfn.XLOOKUP($AF9,DATA_BRAND!$G:$G,DATA_BRAND!$E:$E,"") | AI9: =_xlfn.XLOOKUP($AF9,DATA_BRAND!$G:$G,DATA_BRAND!$F:$F,"") | AJ9: =$AK$5&$K$1&TEXT($B9,"jj/mm/aaaa") -> Burberry1001141103/07/2021 | AK9: =_xlfn.XLOOKUP($AJ9,DATA_BRAND!$G:$G,DATA_BRAND!$D:$D,"") | AL9: =_xlfn.XLOOKUP($AJ9,DATA_BRAND!$G:$G,DATA_BRAND!$E:$E,"") | AM9: =_xlfn.XLOOKUP($AJ9,DATA_BRAND!$G:$G,DATA_BRAND!$F:$F,"") | AN9: =$AO$5&$K$1&TEXT($B9,"jj/mm/aaaa") -> Givenchy1001141103/07/2021 | AO9: =_xlfn.XLOOKUP($AN9,DATA_BRAND!$G:$G,DATA_BRAND!$D:$D,"") | AP9: =_xlfn.XLOOKUP($AN9,DATA_BRAND!$G:$G,DATA_BRAND!$E:$E,"") | AQ9: =_xlfn.XLOOKUP($AN9,DATA_BRAND!$G:$G,DATA_BRAND!$F:$F,"") | AR9: =$AS$5&$K$1&TEXT($B9,"jj/mm/aaaa") -> Kenzo1001141103/07/2021 | AS9: =_xlfn.XLOOKUP($AR9,DATA_BRAND!$G:$G,DATA_BRAND!$D:$D,"") | AT9: =_xlfn.XLOOKUP($AR9,DATA_BRAND!$G:$G,DATA_BRAND!$E:$E,"") | AU9: =_xlfn.XLOOKUP($AR9,DATA_BRAND!$G:$G,DATA_BRAND!$F:$F,"") | AV9: =$AW$5&$K$1&TEXT($B9,"jj/mm/aaaa") -> Lacoste1001141103/07/2021 | AW9: =_xlfn.XLOOKUP($AV9,DATA_BRAND!$G:$G,DATA_BRAND!$D:$D,"") | AX9: =_xlfn.XLOOKUP($AV9,DATA_BRAND!$G:$G,DATA_BRAND!$E:$E,"") | AY9: =_xlfn.XLOOKUP($AV9,DATA_BRAND!$G:$G,DATA_BRAND!$F:$F,"") | AZ9: =$BA$5&$K$1&TEXT($B9,"jj/mm/aaaa") -> Maison Margiela1001141103/07/2021 | BA9: =_xlfn.XLOOKUP($AZ9,DATA_BRAND!$G:$G,DATA_BRAND!$D:$D,"") | BB9: =_xlfn.XLOOKUP($AZ9,DATA_BRAND!$G:$G,DATA_BRAND!$E:$E,"") | BC9: =_xlfn.XLOOKUP($AZ9,DATA_BRAND!$G:$G,DATA_BRAND!$F:$F,"") | BD9: =$BE$5&$K$1&TEXT($B9,"jj/mm/aaaa") -> Moncler1001141103/07/2021 | BE9: =_xlfn.XLOOKUP($BD9,DATA_BRAND!$G:$G,DATA_BRAND!$D:$D,"") | BF9: =_xlfn.XLOOKUP($BD9,DATA_BRAND!$G:$G,DATA_BRAND!$E:$E,"") | BG9: =_xlfn.XLOOKUP($BD9,DATA_BRAND!$G:$G,DATA_BRAND!$F:$F,"") | BH9: =$BI$5&$K$1&TEXT($B9,"jj/mm/aaaa") -> Off-White1001141103/07/2021 | BI9: =_xlfn.XLOOKUP($BH9,DATA_BRAND!$G:$G,DATA_BRAND!$D:$D,"") | BJ9: =_xlfn.XLOOKUP($BH9,DATA_BRAND!$G:$G,DATA_BRAND!$E:$E,"") | BK9: =_xlfn.XLOOKUP($BH9,DATA_BRAND!$G:$G,DATA_BRAND!$F:$F,"") | BL9: =$BM$5&$K$1&TEXT($B9,"jj/mm/aaaa") -> Polo Ralph Lauren1001141103/07/2021 | BM9: =_xlfn.XLOOKUP($BL9,DATA_BRAND!$G:$G,DATA_BRAND!$D:$D,"") | BN9: =_xlfn.XLOOKUP($BL9,DATA_BRAND!$G:$G,DATA_BRAND!$E:$E,"") | BO9: =_xlfn.XLOOKUP($BL9,DATA_BRAND!$G:$G,DATA_BRAND!$F:$F,"") | BP9: =$BQ$5&$K$1&TEXT($B9,"jj/mm/aaaa") -> Salvatore Ferragamo1001141103/07/2021 | BQ9: =_xlfn.XLOOKUP($BP9,DATA_BRAND!$G:$G,DATA_BRAND!$D:$D,"") | BR9: =_xlfn.XLOOKUP($BP9,DATA_BRAND!$G:$G,DATA_BRAND!$E:$E,"") | BS9: =_xlfn.XLOOKUP($BP9,DATA_BRAND!$G:$G,DATA_BRAND!$F:$F,"") | BT9: =$BU$5&$K$1&TEXT($B9,"jj/mm/aaaa") -> Smythson1001141103/07/2021 | BU9: =_xlfn.XLOOKUP($BT9,DATA_BRAND!$G:$G,DATA_BRAND!$D:$D,"") | BV9: =_xlfn.XLOOKUP($BT9,DATA_BRAND!$G:$G,DATA_BRAND!$E:$E,"") | BW9: =_xlfn.XLOOKUP($BT9,DATA_BRAND!$G:$G,DATA_BRAND!$F:$F,"") | BX9: =$BY$5&$K$1&TEXT($B9,"jj/mm/aaaa") -> Stone Island1001141103/07/2021 | BY9: =_xlfn.XLOOKUP($BX9,DATA_BRAND!$G:$G,DATA_BRAND!$D:$D,"") | BZ9: =_xlfn.XLOOKUP($BX9,DATA_BRAND!$G:$G,DATA_BRAND!$E:$E,"") | CA9: =_xlfn.XLOOKUP($BX9,DATA_BRAND!$G:$G,DATA_BRAND!$F:$F,"") | CB9: =$CC$5&$K$1&TEXT($B9,"jj/mm/aaaa") -> Thom Browne1001141103/07/2021 | CC9: =_xlfn.XLOOKUP($CB9,DATA_BRAND!$G:$G,DATA_BRAND!$D:$D,"") | CD9: =_xlfn.XLOOKUP($CB9,DATA_BRAND!$G:$G,DATA_BRAND!$E:$E,"") | CE9: =_xlfn.XLOOKUP($CB9,DATA_BRAND!$G:$G,DATA_BRAND!$F:$F,"") | CF9: =$CG$5&$K$1&TEXT($B9,"jj/mm/aaaa") -> Versace1001141103/07/2021 | CG9: =_xlfn.XLOOKUP($CF9,DATA_BRAND!$G:$G,DATA_BRAND!$D:$D,"") | CH9: =_xlfn.XLOOKUP($CF9,DATA_BRAND!$G:$G,DATA_BRAND!$E:$E,"") | CI9: =_xlfn.XLOOKUP($CF9,DATA_BRAND!$G:$G,DATA_BRAND!$F:$F,"") | CJ9: =$CK$5&$K$1&TEXT($B9,"jj/mm/aaaa") -> YSL1001141103/07/2021 | CK9: =_xlfn.XLOOKUP($CJ9,DATA_BRAND!$G:$G,DATA_BRAND!$D:$D,"") -> 2 | CL9: =_xlfn.XLOOKUP($CJ9,DATA_BRAND!$G:$G,DATA_BRAND!$E:$E,"") -> 2 | CM9: =_xlfn.XLOOKUP($CJ9,DATA_BRAND!$G:$G,DATA_BRAND!$F:$F,"") -> 816.66
A10: 4 | B10: =DATE(AnneeCalendrier,NumMOIS,A10) -> 44381 | C10: =DATE($C$3,$E$1,A10) -> 44381 | D10: =$E$5&$K$1&TEXT($B10,"jj/mm/aaaa") -> Acne1001141104/07/2021 | E10: =_xlfn.XLOOKUP($D10,DATA_BRAND!$G:$G,DATA_BRAND!$D:$D,"") | F10: =_xlfn.XLOOKUP($D10,DATA_BRAND!$G:$G,DATA_BRAND!$E:$E,"") | G10: =_xlfn.XLOOKUP($D10,DATA_BRAND!$G:$G,DATA_BRAND!$F:$F,"") | H10: =$I$5&$K$1&TEXT($B10,"jj/mm/aaaa") -> Alfred Dunhill1001141104/07/2021 | I10: =_xlfn.XLOOKUP($H10,DATA_BRAND!$G:$G,DATA_BRAND!$D:$D,"") | J10: =_xlfn.XLOOKUP($H10,DATA_BRAND!$G:$G,DATA_BRAND!$E:$E,"") | K10: =_xlfn.XLOOKUP($H10,DATA_BRAND!$G:$G,DATA_BRAND!$F:$F,"") | L10: =$M$5&$K$1&TEXT($B10,"jj/mm/aaaa") -> Anderson's1001141104/07/2021 | M10: =_xlfn.XLOOKUP($L10,DATA_BRAND!$G:$G,DATA_BRAND!$D:$D,"") | N10: =_xlfn.XLOOKUP($L10,DATA_BRAND!$G:$G,DATA_BRAND!$E:$E,"") | O10: =_xlfn.XLOOKUP($L10,DATA_BRAND!$G:$G,DATA_BRAND!$F:$F,"") | P10: =$Q$5&$K$1&TEXT($B10,"jj/mm/aaaa") -> Balenciaga1001141104/07/2021 | Q10: =_xlfn.XLOOKUP($P10,DATA_BRAND!$G:$G,DATA_BRAND!$D:$D,"") | R10: =_xlfn.XLOOKUP($P10,DATA_BRAND!$G:$G,DATA_BRAND!$E:$E,"") | S10: =_xlfn.XLOOKUP($P10,DATA_BRAND!$G:$G,DATA_BRAND!$F:$F,"") | T10: =$U$5&$K$1&TEXT($B10,"jj/mm/aaaa") -> Bally1001141104/07/2021 | U10: =_xlfn.XLOOKUP($T10,DATA_BRAND!$G:$G,DATA_BRAND!$D:$D,"") | V10: =_xlfn.XLOOKUP($T10,DATA_BRAND!$G:$G,DATA_BRAND!$E:$E,"") | W10: =_xlfn.XLOOKUP($T10,DATA_BRAND!$G:$G,DATA_BRAND!$F:$F,"") | X10: =$Y$5&$K$1&TEXT($B10,"jj/mm/aaaa") -> Balmain1001141104/07/2021 | Y10: =_xlfn.XLOOKUP($X10,DATA_BRAND!$G:$G,DATA_BRAND!$D:$D,"") | Z10: =_xlfn.XLOOKUP($X10,DATA_BRAND!$G:$G,DATA_BRAND!$E:$E,"") | AA10: =_xlfn.XLOOKUP($X10,DATA_BRAND!$G:$G,DATA_BRAND!$F:$F,"") | AB10: =$AC$5&$K$1&TEXT($B10,"jj/mm/aaaa") -> Bleu de Chauffe1001141104/07/2021 | AC10: =_xlfn.XLOOKUP($AB10,DATA_BRAND!$G:$G,DATA_BRAND!$D:$D,"") | AD10: =_xlfn.XLOOKUP($AB10,DATA_BRAND!$G:$G,DATA_BRAND!$E:$E,"") | AE10: =_xlfn.XLOOKUP($AB10,DATA_BRAND!$G:$G,DATA_BRAND!$F:$F,"") | AF10: =$AG$5&$K$1&TEXT($B10,"jj/mm/aaaa") -> Bottega Veneta1001141104/07/2021 | AG10: =_xlfn.XLOOKUP($AF10,DATA_BRAND!$G:$G,DATA_BRAND!$D:$D,"") | AH10: =_xlfn.XLOOKUP($AF10,DATA_BRAND!$G:$G,DATA_BRAND!$E:$E,"") | AI10: =_xlfn.XLOOKUP($AF10,DATA_BRAND!$G:$G,DATA_BRAND!$F:$F,"") | AJ10: =$AK$5&$K$1&TEXT($B10,"jj/mm/aaaa") -> Burberry1001141104/07/2021 | AK10: =_xlfn.XLOOKUP($AJ10,DATA_BRAND!$G:$G,DATA_BRAND!$D:$D,"") | AL10: =_xlfn.XLOOKUP($AJ10,DATA_BRAND!$G:$G,DATA_BRAND!$E:$E,"") | AM10: =_xlfn.XLOOKUP($AJ10,DATA_BRAND!$G:$G,DATA_BRAND!$F:$F,"") | AN10: =$AO$5&$K$1&TEXT($B10,"jj/mm/aaaa") -> Givenchy1001141104/07/2021 | AO10: =_xlfn.XLOOKUP($AN10,DATA_BRAND!$G:$G,DATA_BRAND!$D:$D,"") -> 1 | AP10: =_xlfn.XLOOKUP($AN10,DATA_BRAND!$G:$G,DATA_BRAND!$E:$E,"") -> 1 | AQ10: =_xlfn.XLOOKUP($AN10,DATA_BRAND!$G:$G,DATA_BRAND!$F:$F,"") -> 408.33 | AR10: =$AS$5&$K$1&TEXT($B10,"jj/mm/aaaa") -> Kenzo1001141104/07/2021 | AS10: =_xlfn.XLOOKUP($AR10,DATA_BRAND!$G:$G,DATA_BRAND!$D:$D,"") | AT10: =_xlfn.XLOOKUP($AR10,DATA_BRAND!$G:$G,DATA_BRAND!$E:$E,"") | AU10: =_xlfn.XLOOKUP($AR10,DATA_BRAND!$G:$G,DATA_BRAND!$F:$F,"") | AV10: =$AW$5&$K$1&TEXT($B10,"jj/mm/aaaa") -> Lacoste1001141104/07/2021 | AW10: =_xlfn.XLOOKUP($AV10,DATA_BRAND!$G:$G,DATA_BRAND!$D:$D,"") | AX10: =_xlfn.XLOOKUP($AV10,DATA_BRAND!$G:$G,DATA_BRAND!$E:$E,"") | AY10: =_xlfn.XLOOKUP($AV10,DATA_BRAND!$G:$G,DATA_BRAND!$F:$F,"") | AZ10: =$BA$5&$K$1&TEXT($B10,"jj/mm/aaaa") -> Maison Margiela1001141104/07/2021 | BA10: =_xlfn.XLOOKUP($AZ10,DATA_BRAND!$G:$G,DATA_BRAND!$D:$D,"") | BB10: =_xlfn.XLOOKUP($AZ10,DATA_BRAND!$G:$G,DATA_BRAND!$E:$E,"") | BC10: =_xlfn.XLOOKUP($AZ10,DATA_BRAND!$G:$G,DATA_BRAND!$F:$F,"") | BD10: =$BE$5&$K$1&TEXT($B10,"jj/mm/aaaa") -> Moncler1001141104/07/2021 | BE10: =_xlfn.XLOOKUP($BD10,DATA_BRAND!$G:$G,DATA_BRAND!$D:$D,"") | BF10: =_xlfn.XLOOKUP($BD10,DATA_BRAND!$G:$G,DATA_BRAND!$E:$E,"") | BG10: =_xlfn.XLOOKUP($BD10,DATA_BRAND!$G:$G,DATA_BRAND!$F:$F,"") | BH10: =$BI$5&$K$1&TEXT($B10,"jj/mm/aaaa") -> Off-White1001141104/07/2021 | BI10: =_xlfn.XLOOKUP($BH10,DATA_BRAND!$G:$G,DATA_BRAND!$D:$D,"") | BJ10: =_xlfn.XLOOKUP($BH10,DATA_BRAND!$G:$G,DATA_BRAND!$E:$E,"") | BK10: =_xlfn.XLOOKUP($BH10,DATA_BRAND!$G:$G,DATA_BRAND!$F:$F,"") | BL10: =$BM$5&$K$1&TEXT($B10,"jj/mm/aaaa") -> Polo Ralph Lauren1001141104/07/2021 | BM10: =_xlfn.XLOOKUP($BL10,DATA_BRAND!$G:$G,DATA_BRAND!$D:$D,"") | BN10: =_xlfn.XLOOKUP($BL10,DATA_BRAND!$G:$G,DATA_BRAND!$E:$E,"") | BO10: =_xlfn.XLOOKUP($BL10,DATA_BRAND!$G:$G,DATA_BRAND!$F:$F,"") | BP10: =$BQ$5&$K$1&TEXT($B10,"jj/mm/aaaa") -> Salvatore Ferragamo1001141104/07/2021 | BQ10: =_xlfn.XLOOKUP($BP10,DATA_BRAND!$G:$G,DATA_BRAND!$D:$D,"") | BR10: =_xlfn.XLOOKUP($BP10,DATA_BRAND!$G:$G,DATA_BRAND!$E:$E,"") | BS10: =_xlfn.XLOOKUP($BP10,DATA_BRAND!$G:$G,DATA_BRAND!$F:$F,"") | BT10: =$BU$5&$K$1&TEXT($B10,"jj/mm/aaaa") -> Smythson1001141104/07/2021 | BU10: =_xlfn.XLOOKUP($BT10,DATA_BRAND!$G:$G,DATA_BRAND!$D:$D,"") | BV10: =_xlfn.XLOOKUP($BT10,DATA_BRAND!$G:$G,DATA_BRAND!$E:$E,"") | BW10: =_xlfn.XLOOKUP($BT10,DATA_BRAND!$G:$G,DATA_BRAND!$F:$F,"") | BX10: =$BY$5&$K$1&TEXT($B10,"jj/mm/aaaa") -> Stone Island1001141104/07/2021 | BY10: =_xlfn.XLOOKUP($BX10,DATA_BRAND!$G:$G,DATA_BRAND!$D:$D,"") | BZ10: =_xlfn.XLOOKUP($BX10,DATA_BRAND!$G:$G,DATA_BRAND!$E:$E,"") | CA10: =_xlfn.XLOOKUP($BX10,DATA_BRAND!$G:$G,DATA_BRAND!$F:$F,"") | CB10: =$CC$5&$K$1&TEXT($B10,"jj/mm/aaaa") -> Thom Browne1001141104/07/2021 | CC10: =_xlfn.XLOOKUP($CB10,DATA_BRAND!$G:$G,DATA_BRAND!$D:$D,"") | CD10: =_xlfn.XLOOKUP($CB10,DATA_BRAND!$G:$G,DATA_BRAND!$E:$E,"") | CE10: =_xlfn.XLOOKUP($CB10,DATA_BRAND!$G:$G,DATA_BRAND!$F:$F,"") | CF10: =$CG$5&$K$1&TEXT($B10,"jj/mm/aaaa") -> Versace1001141104/07/2021 | CG10: =_xlfn.XLOOKUP($CF10,DATA_BRAND!$G:$G,DATA_BRAND!$D:$D,"") | CH10: =_xlfn.XLOOKUP($CF10,DATA_BRAND!$G:$G,DATA_BRAND!$E:$E,"") | CI10: =_xlfn.XLOOKUP($CF10,DATA_BRAND!$G:$G,DATA_BRAND!$F:$F,"") | CJ10: =$CK$5&$K$1&TEXT($B10,"jj/mm/aaaa") -> YSL1001141104/07/2021 | CK10: =_xlfn.XLOOKUP($CJ10,DATA_BRAND!$G:$G,DATA_BRAND!$D:$D,"") -> 2 | CL10: =_xlfn.XLOOKUP($CJ10,DATA_BRAND!$G:$G,DATA_BRAND!$E:$E,"") -> 2 | CM10: =_xlfn.XLOOKUP($CJ10,DATA_BRAND!$G:$G,DATA_BRAND!$F:$F,"") -> 595.83
A11: 5 | B11: =DATE(AnneeCalendrier,NumMOIS,A11) -> 44382 | C11: =DATE($C$3,$E$1,A11) -> 44382 | D11: =$E$5&$K$1&TEXT($B11,"jj/mm/aaaa") -> Acne1001141105/07/2021 | E11: =_xlfn.XLOOKUP($D11,DATA_BRAND!$G:$G,DATA_BRAND!$D:$D,"") | F11: =_xlfn.XLOOKUP($D11,DATA_BRAND!$G:$G,DATA_BRAND!$E:$E,"") | G11: =_xlfn.XLOOKUP($D11,DATA_BRAND!$G:$G,DATA_BRAND!$F:$F,"") | H11: =$I$5&$K$1&TEXT($B11,"jj/mm/aaaa") -> Alfred Dunhill1001141105/07/2021 | I11: =_xlfn.XLOOKUP($H11,DATA_BRAND!$G:$G,DATA_BRAND!$D:$D,"") | J11: =_xlfn.XLOOKUP($H11,DATA_BRAND!$G:$G,DATA_BRAND!$E:$E,"") | K11: =_xlfn.XLOOKUP($H11,DATA_BRAND!$G:$G,DATA_BRAND!$F:$F,"") | L11: =$M$5&$K$1&TEXT($B11,"jj/mm/aaaa") -> Anderson's1001141105/07/2021 | M11: =_xlfn.XLOOKUP($L11,DATA_BRAND!$G:$G,DATA_BRAND!$D:$D,"") | N11: =_xlfn.XLOOKUP($L11,DATA_BRAND!$G:$G,DATA_BRAND!$E:$E,"") | O11: =_xlfn.XLOOKUP($L11,DATA_BRAND!$G:$G,DATA_BRAND!$F:$F,"") | P11: =$Q$5&$K$1&TEXT($B11,"jj/mm/aaaa") -> Balenciaga1001141105/07/2021 | Q11: =_xlfn.XLOOKUP($P11,DATA_BRAND!$G:$G,DATA_BRAND!$D:$D,"") | R11: =_xlfn.XLOOKUP($P11,DATA_BRAND!$G:$G,DATA_BRAND!$E:$E,"") | S11: =_xlfn.XLOOKUP($P11,DATA_BRAND!$G:$G,DATA_BRAND!$F:$F,"") | T11: =$U$5&$K$1&TEXT($B11,"jj/mm/aaaa") -> Bally1001141105/07/2021 | U11: =_xlfn.XLOOKUP($T11,DATA_BRAND!$G:$G,DATA_BRAND!$D:$D,"") | V11: =_xlfn.XLOOKUP($T11,DATA_BRAND!$G:$G,DATA_BRAND!$E:$E,"") | W11: =_xlfn.XLOOKUP($T11,DATA_BRAND!$G:$G,DATA_BRAND!$F:$F,"") | X11: =$Y$5&$K$1&TEXT($B11,"jj/mm/aaaa") -> Balmain1001141105/07/2021 | Y11: =_xlfn.XLOOKUP($X11,DATA_BRAND!$G:$G,DATA_BRAND!$D:$D,"") -> 1 | Z11: =_xlfn.XLOOKUP($X11,DATA_BRAND!$G:$G,DATA_BRAND!$E:$E,"") -> 1 | AA11: =_xlfn.XLOOKUP($X11,DATA_BRAND!$G:$G,DATA_BRAND!$F:$F,"") -> 741.67 | AB11: =$AC$5&$K$1&TEXT($B11,"jj/mm/aaaa") -> Bleu de Chauffe1001141105/07/2021 | AC11: =_xlfn.XLOOKUP($AB11,DATA_BRAND!$G:$G,DATA_BRAND!$D:$D,"") | AD11: =_xlfn.XLOOKUP($AB11,DATA_BRAND!$G:$G,DATA_BRAND!$E:$E,"") | AE11: =_xlfn.XLOOKUP($AB11,DATA_BRAND!$G:$G,DATA_BRAND!$F:$F,"") | AF11: =$AG$5&$K$1&TEXT($B11,"jj/mm/aaaa") -> Bottega Veneta1001141105/07/2021 | AG11: =_xlfn.XLOOKUP($AF11,DATA_BRAND!$G:$G,DATA_BRAND!$D:$D,"") | AH11: =_xlfn.XLOOKUP($AF11,DATA_BRAND!$G:$G,DATA_BRAND!$E:$E,"") | AI11: =_xlfn.XLOOKUP($AF11,DATA_BRAND!$G:$G,DATA_BRAND!$F:$F,"") | AJ11: =$AK$5&$K$1&TEXT($B11,"jj/mm/aaaa") -> Burberry1001141105/07/2021 | AK11: =_xlfn.XLOOKUP($AJ11,DATA_BRAND!$G:$G,DATA_BRAND!$D:$D,"") | AL11: =_xlfn.XLOOKUP($AJ11,DATA_BRAND!$G:$G,DATA_BRAND!$E:$E,"") | AM11: =_xlfn.XLOOKUP($AJ11,DATA_BRAND!$G:$G,DATA_BRAND!$F:$F,"") | AN11: =$AO$5&$K$1&TEXT($B11,"jj/mm/aaaa") -> Givenchy1001141105/07/2021 | AO11: =_xlfn.XLOOKUP($AN11,DATA_BRAND!$G:$G,DATA_BRAND!$D:$D,"") | AP11: =_xlfn.XLOOKUP($AN11,DATA_BRAND!$G:$G,DATA_BRAND!$E:$E,"") | AQ11: =_xlfn.XLOOKUP($AN11,DATA_BRAND!$G:$G,DATA_BRAND!$F:$F,"") | AR11: =$AS$5&$K$1&TEXT($B11,"jj/mm/aaaa") -> Kenzo1001141105/07/2021 | AS11: =_xlfn.XLOOKUP($AR11,DATA_BRAND!$G:$G,DATA_BRAND!$D:$D,"") | AT11: =_xlfn.XLOOKUP($AR11,DATA_BRAND!$G:$G,DATA_BRAND!$E:$E,"") | AU11: =_xlfn.XLOOKUP($AR11,DATA_BRAND!$G:$G,DATA_BRAND!$F:$F,"") | AV11: =$AW$5&$K$1&TEXT($B11,"jj/mm/aaaa") -> Lacoste1001141105/07/2021 | AW11: =_xlfn.XLOOKUP($AV11,DATA_BRAND!$G:$G,DATA_BRAND!$D:$D,"") | AX11: =_xlfn.XLOOKUP($AV11,DATA_BRAND!$G:$G,DATA_BRAND!$E:$E,"") | AY11: =_xlfn.XLOOKUP($AV11,DATA_BRAND!$G:$G,DATA_BRAND!$F:$F,"") | AZ11: =$BA$5&$K$1&TEXT($B11,"jj/mm/aaaa") -> Maison Margiela1001141105/07/2021 | BA11: =_xlfn.XLOOKUP($AZ11,DATA_BRAND!$G:$G,DATA_BRAND!$D:$D,"") | BB11: =_xlfn.XLOOKUP($AZ11,DATA_BRAND!$G:$G,DATA_BRAND!$E:$E,"") | BC11: =_xlfn.XLOOKUP($AZ11,DATA_BRAND!$G:$G,DATA_BRAND!$F:$F,"") | BD11: =$BE$5&$K$1&TEXT($B11,"jj/mm/aaaa") -> Moncler1001141105/07/2021 | BE11: =_xlfn.XLOOKUP($BD11,DATA_BRAND!$G:$G,DATA_BRAND!$D:$D,"") | BF11: =_xlfn.XLOOKUP($BD11,DATA_BRAND!$G:$G,DATA_BRAND!$E:$E,"") | BG11: =_xlfn.XLOOKUP($BD11,DATA_BRAND!$G:$G,DATA_BRAND!$F:$F,"") | BH11: =$BI$5&$K$1&TEXT($B11,"jj/mm/aaaa") -> Off-White1001141105/07/2021 | BI11: =_xlfn.XLOOKUP($BH11,DATA_BRAND!$G:$G,DATA_BRAND!$D:$D,"") | BJ11: =_xlfn.XLOOKUP($BH11,DATA_BRAND!$G:$G,DATA_BRAND!$E:$E,"") | BK11: =_xlfn.XLOOKUP($BH11,DATA_BRAND!$G:$G,DATA_BRAND!$F:$F,"") | BL11: =$BM$5&$K$1&TEXT($B11,"jj/mm/aaaa") -> Polo Ralph Lauren1001141105/07/2021 | BM11: =_xlfn.XLOOKUP($BL11,DATA_BRAND!$G:$G,DATA_BRAND!$D:$D,"") | BN11: =_xlfn.XLOOKUP($BL11,DATA_BRAND!$G:$G,DATA_BRAND!$E:$E,"") | BO11: =_xlfn.XLOOKUP($BL11,DATA_BRAND!$G:$G,DATA_BRAND!$F:$F,"") | BP11: =$BQ$5&$K$1&TEXT($B11,"jj/mm/aaaa") -> Salvatore Ferragamo1001141105/07/2021 | BQ11: =_xlfn.XLOOKUP($BP11,DATA_BRAND!$G:$G,DATA_BRAND!$D:$D,"") | BR11: =_xlfn.XLOOKUP($BP11,DATA_BRAND!$G:$G,DATA_BRAND!$E:$E,"") | BS11: =_xlfn.XLOOKUP($BP11,DATA_BRAND!$G:$G,DATA_BRAND!$F:$F,"") | BT11: =$BU$5&$K$1&TEXT($B11,"jj/mm/aaaa") -> Smythson1001141105/07/2021 | BU11: =_xlfn.XLOOKUP($BT11,DATA_BRAND!$G:$G,DATA_BRAND!$D:$D,"") | BV11: =_xlfn.XLOOKUP($BT11,DATA_BRAND!$G:$G,DATA_BRAND!$E:$E,"") | BW11: =_xlfn.XLOOKUP($BT11,DATA_BRAND!$G:$G,DATA_BRAND!$F:$F,"") | BX11: =$BY$5&$K$1&TEXT($B11,"jj/mm/aaaa") -> Stone Island1001141105/07/2021 | BY11: =_xlfn.XLOOKUP($BX11,DATA_BRAND!$G:$G,DATA_BRAND!$D:$D,"") | BZ11: =_xlfn.XLOOKUP($BX11,DATA_BRAND!$G:$G,DATA_BRAND!$E:$E,"") | CA11: =_xlfn.XLOOKUP($BX11,DATA_BRAND!$G:$G,DATA_BRAND!$F:$F,"") | CB11: =$CC$5&$K$1&TEXT($B11,"jj/mm/aaaa") -> Thom Browne1001141105/07/2021 | CC11: =_xlfn.XLOOKUP($CB11,DATA_BRAND!$G:$G,DATA_BRAND!$D:$D,"") | CD11: =_xlfn.XLOOKUP($CB11,DATA_BRAND!$G:$G,DATA_BRAND!$E:$E,"") | CE11: =_xlfn.XLOOKUP($CB11,DATA_BRAND!$G:$G,DATA_BRAND!$F:$F,"") | CF11: =$CG$5&$K$1&TEXT($B11,"jj/mm/aaaa") -> Versace1001141105/07/2021 | CG11: =_xlfn.XLOOKUP($CF11,DATA_BRAND!$G:$G,DATA_BRAND!$D:$D,"") | CH11: =_xlfn.XLOOKUP($CF11,DATA_BRAND!$G:$G,DATA_BRAND!$E:$E,"") | CI11: =_xlfn.XLOOKUP($CF11,DATA_BRAND!$G:$G,DATA_BRAND!$F:$F,"") | CJ11: =$CK$5&$K$1&TEXT($B11,"jj/mm/aaaa") -> YSL1001141105/07/2021 | CK11: =_xlfn.XLOOKUP($CJ11,DATA_BRAND!$G:$G,DATA_BRAND!$D:$D,"") | CL11: =_xlfn.XLOOKUP($CJ11,DATA_BRAND!$G:$G,DATA_BRAND!$E:$E,"") | CM11: =_xlfn.XLOOKUP($CJ11,DATA_BRAND!$G:$G,DATA_BRAND!$F:$F,"")
A12: 6 | B12: =DATE(AnneeCalendrier,NumMOIS,A12) -> 44383 | C12: =DATE($C$3,$E$1,A12) -> 44383 | D12: =$E$5&$K$1&TEXT($B12,"jj/mm/aaaa") -> Acne1001141106/07/2021 | E12: =_xlfn.XLOOKUP($D12,DATA_BRAND!$G:$G,DATA_BRAND!$D:$D,"") | F12: =_xlfn.XLOOKUP($D12,DATA_BRAND!$G:$G,DATA_BRAND!$E:$E,"") | G12: =_xlfn.XLOOKUP($D12,DATA_BRAND!$G:$G,DATA_BRAND!$F:$F,"") | H12: =$I$5&$K$1&TEXT($B12,"jj/mm/aaaa") -> Alfred Dunhill1001141106/07/2021 | I12: =_xlfn.XLOOKUP($H12,DATA_BRAND!$G:$G,DATA_BRAND!$D:$D,"") | J12: =_xlfn.XLOOKUP($H12,DATA_BRAND!$G:$G,DATA_BRAND!$E:$E,"") | K12: =_xlfn.XLOOKUP($H12,DATA_BRAND!$G:$G,DATA_BRAND!$F:$F,"") | L12: =$M$5&$K$1&TEXT($B12,"jj/mm/aaaa") -> Anderson's1001141106/07/2021 | M12: =_xlfn.XLOOKUP($L12,DATA_BRAND!$G:$G,DATA_BRAND!$D:$D,"") | N12: =_xlfn.XLOOKUP($L12,DATA_BRAND!$G:$G,DATA_BRAND!$E:$E,"") | O12: =_xlfn.XLOOKUP($L12,DATA_BRAND!$G:$G,DATA_BRAND!$F:$F,"") | P12: =$Q$5&$K$1&TEXT($B12,"jj/mm/aaaa") -> Balenciaga1001141106/07/2021 | Q12: =_xlfn.XLOOKUP($P12,DATA_BRAND!$G:$G,DATA_BRAND!$D:$D,"") | R12: =_xlfn.XLOOKUP($P12,DATA_BRAND!$G:$G,DATA_BRAND!$E:$E,"") | S12: =_xlfn.XLOOKUP($P12,DATA_BRAND!$G:$G,DATA_BRAND!$F:$F,"") | T12: =$U$5&$K$1&TEXT($B12,"jj/mm/aaaa") -> Bally1001141106/07/2021 | U12: =_xlfn.XLOOKUP($T12,DATA_BRAND!$G:$G,DATA_BRAND!$D:$D,"") | V12: =_xlfn.XLOOKUP($T12,DATA_BRAND!$G:$G,DATA_BRAND!$E:$E,"") | W12: =_xlfn.XLOOKUP($T12,DATA_BRAND!$G:$G,DATA_BRAND!$F:$F,"") | X12: =$Y$5&$K$1&TEXT($B12,"jj/mm/aaaa") -> Balmain1001141106/07/2021 | Y12: =_xlfn.XLOOKUP($X12,DATA_BRAND!$G:$G,DATA_BRAND!$D:$D,"") | Z12: =_xlfn.XLOOKUP($X12,DATA_BRAND!$G:$G,DATA_BRAND!$E:$E,"") | AA12: =_xlfn.XLOOKUP($X12,DATA_BRAND!$G:$G,DATA_BRAND!$F:$F,"") | AB12: =$AC$5&$K$1&TEXT($B12,"jj/mm/aaaa") -> Bleu de Chauffe1001141106/07/2021 | AC12: =_xlfn.XLOOKUP($AB12,DATA_BRAND!$G:$G,DATA_BRAND!$D:$D,"") | AD12: =_xlfn.XLOOKUP($AB12,DATA_BRAND!$G:$G,DATA_BRAND!$E:$E,"") | AE12: =_xlfn.XLOOKUP($AB12,DATA_BRAND!$G:$G,DATA_BRAND!$F:$F,"") | AF12: =$AG$5&$K$1&TEXT($B12,"jj/mm/aaaa") -> Bottega Veneta1001141106/07/2021 | AG12: =_xlfn.XLOOKUP($AF12,DATA_BRAND!$G:$G,DATA_BRAND!$D:$D,"") | AH12: =_xlfn.XLOOKUP($AF12,DATA_BRAND!$G:$G,DATA_BRAND!$E:$E,"") | AI12: =_xlfn.XLOOKUP($AF12,DATA_BRAND!$G:$G,DATA_BRAND!$F:$F,"") | AJ12: =$AK$5&$K$1&TEXT($B12,"jj/mm/aaaa") -> Burberry1001141106/07/2021 | AK12: =_xlfn.XLOOKUP($AJ12,DATA_BRAND!$G:$G,DATA_BRAND!$D:$D,"") | AL12: =_xlfn.XLOOKUP($AJ12,DATA_BRAND!$G:$G,DATA_BRAND!$E:$E,"") | AM12: =_xlfn.XLOOKUP($AJ12,DATA_BRAND!$G:$G,DATA_BRAND!$F:$F,"") | AN12: =$AO$5&$K$1&TEXT($B12,"jj/mm/aaaa") -> Givenchy1001141106/07/2021 | AO12: =_xlfn.XLOOKUP($AN12,DATA_BRAND!$G:$G,DATA_BRAND!$D:$D,"") | AP12: =_xlfn.XLOOKUP($AN12,DATA_BRAND!$G:$G,DATA_BRAND!$E:$E,"") | AQ12: =_xlfn.XLOOKUP($AN12,DATA_BRAND!$G:$G,DATA_BRAND!$F:$F,"") | AR12: =$AS$5&$K$1&TEXT($B12,"jj/mm/aaaa") -> Kenzo1001141106/07/2021 | AS12: =_xlfn.XLOOKUP($AR12,DATA_BRAND!$G:$G,DATA_BRAND!$D:$D,"") | AT12: =_xlfn.XLOOKUP($AR12,DATA_BRAND!$G:$G,DATA_BRAND!$E:$E,"") | AU12: =_xlfn.XLOOKUP($AR12,DATA_BRAND!$G:$G,DATA_BRAND!$F:$F,"") | AV12: =$AW$5&$K$1&TEXT($B12,"jj/mm/aaaa") -> Lacoste1001141106/07/2021 | AW12: =_xlfn.XLOOKUP($AV12,DATA_BRAND!$G:$G,DATA_BRAND!$D:$D,"") | AX12: =_xlfn.XLOOKUP($AV12,DATA_BRAND!$G:$G,DATA_BRAND!$E:$E,"") | AY12: =_xlfn.XLOOKUP($AV12,DATA_BRAND!$G:$G,DATA_BRAND!$F:$F,"") | AZ12: =$BA$5&$K$1&TEXT($B12,"jj/mm/aaaa") -> Maison Margiela1001141106/07/2021 | BA12: =_xlfn.XLOOKUP($AZ12,DATA_BRAND!$G:$G,DATA_BRAND!$D:$D,"") | BB12: =_xlfn.XLOOKUP($AZ12,DATA_BRAND!$G:$G,DATA_BRAND!$E:$E,"") | BC12: =_xlfn.XLOOKUP($AZ12,DATA_BRAND!$G:$G,DATA_BRAND!$F:$F,"") | BD12: =$BE$5&$K$1&TEXT($B12,"jj/mm/aaaa") -> Moncler1001141106/07/2021 | BE12: =_xlfn.XLOOKUP($BD12,DATA_BRAND!$G:$G,DATA_BRAND!$D:$D,"") | BF12: =_xlfn.XLOOKUP($BD12,DATA_BRAND!$G:$G,DATA_BRAND!$E:$E,"") | BG12: =_xlfn.XLOOKUP($BD12,DATA_BRAND!$G:$G,DATA_BRAND!$F:$F,"") | BH12: =$BI$5&$K$1&TEXT($B12,"jj/mm/aaaa") -> Off-White1001141106/07/2021 | BI12: =_xlfn.XLOOKUP($BH12,DATA_BRAND!$G:$G,DATA_BRAND!$D:$D,"") | BJ12: =_xlfn.XLOOKUP($BH12,DATA_BRAND!$G:$G,DATA_BRAND!$E:$E,"") | BK12: =_xlfn.XLOOKUP($BH12,DATA_BRAND!$G:$G,DATA_BRAND!$F:$F,"") | BL12: =$BM$5&$K$1&TEXT($B12,"jj/mm/aaaa") -> Polo Ralph Lauren1001141106/07/2021 | BM12: =_xlfn.XLOOKUP($BL12,DATA_BRAND!$G:$G,DATA_BRAND!$D:$D,"") | BN12: =_xlfn.XLOOKUP($BL12,DATA_BRAND!$G:$G,DATA_BRAND!$E:$E,"") | BO12: =_xlfn.XLOOKUP($BL12,DATA_BRAND!$G:$G,DATA_BRAND!$F:$F,"") | BP12: =$BQ$5&$K$1&TEXT($B12,"jj/mm/aaaa") -> Salvatore Ferragamo1001141106/07/2021 | BQ12: =_xlfn.XLOOKUP($BP12,DATA_BRAND!$G:$G,DATA_BRAND!$D:$D,"") | BR12: =_xlfn.XLOOKUP($BP12,DATA_BRAND!$G:$G,DATA_BRAND!$E:$E,"") | BS12: =_xlfn.XLOOKUP($BP12,DATA_BRAND!$G:$G,DATA_BRAND!$F:$F,"") | BT12: =$BU$5&$K$1&TEXT($B12,"jj/mm/aaaa") -> Smythson1001141106/07/2021 | BU12: =_xlfn.XLOOKUP($BT12,DATA_BRAND!$G:$G,DATA_BRAND!$D:$D,"") | BV12: =_xlfn.XLOOKUP($BT12,DATA_BRAND!$G:$G,DATA_BRAND!$E:$E,"") | BW12: =_xlfn.XLOOKUP($BT12,DATA_BRAND!$G:$G,DATA_BRAND!$F:$F,"") | BX12: =$BY$5&$K$1&TEXT($B12,"jj/mm/aaaa") -> Stone Island1001141106/07/2021 | BY12: =_xlfn.XLOOKUP($BX12,DATA_BRAND!$G:$G,DATA_BRAND!$D:$D,"") | BZ12: =_xlfn.XLOOKUP($BX12,DATA_BRAND!$G:$G,DATA_BRAND!$E:$E,"") | CA12: =_xlfn.XLOOKUP($BX12,DATA_BRAND!$G:$G,DATA_BRAND!$F:$F,"") | CB12: =$CC$5&$K$1&TEXT($B12,"jj/mm/aaaa") -> Thom Browne1001141106/07/2021 | CC12: =_xlfn.XLOOKUP($CB12,DATA_BRAND!$G:$G,DATA_BRAND!$D:$D,"") | CD12: =_xlfn.XLOOKUP($CB12,DATA_BRAND!$G:$G,DATA_BRAND!$E:$E,"") | CE12: =_xlfn.XLOOKUP($CB12,DATA_BRAND!$G:$G,DATA_BRAND!$F:$F,"") | CF12: =$CG$5&$K$1&TEXT($B12,"jj/mm/aaaa") -> Versace1001141106/07/2021 | CG12: =_xlfn.XLOOKUP($CF12,DATA_BRAND!$G:$G,DATA_BRAND!$D:$D,"") | CH12: =_xlfn.XLOOKUP($CF12,DATA_BRAND!$G:$G,DATA_BRAND!$E:$E,"") | CI12: =_xlfn.XLOOKUP($CF12,DATA_BRAND!$G:$G,DATA_BRAND!$F:$F,"") | CJ12: =$CK$5&$K$1&TEXT($B12,"jj/mm/aaaa") -> YSL1001141106/07/2021 | CK12: =_xlfn.XLOOKUP($CJ12,DATA_BRAND!$G:$G,DATA_BRAND!$D:$D,"") -> 2 | CL12: =_xlfn.XLOOKUP($CJ12,DATA_BRAND!$G:$G,DATA_BRAND!$E:$E,"") -> 2 | CM12: =_xlfn.XLOOKUP($CJ12,DATA_BRAND!$G:$G,DATA_BRAND!$F:$F,"") -> 808.33
A13: 7 | B13: =DATE(AnneeCalendrier,NumMOIS,A13) -> 44384 | C13: =DATE($C$3,$E$1,A13) -> 44384 | D13: =$E$5&$K$1&TEXT($B13,"jj/mm/aaaa") -> Acne1001141107/07/2021 | E13: =_xlfn.XLOOKUP($D13,DATA_BRAND!$G:$G,DATA_BRAND!$D:$D,"") | F13: =_xlfn.XLOOKUP($D13,DATA_BRAND!$G:$G,DATA_BRAND!$E:$E,"") | G13: =_xlfn.XLOOKUP($D13,DATA_BRAND!$G:$G,DATA_BRAND!$F:$F,"") | H13: =$I$5&$K$1&TEXT($B13,"jj/mm/aaaa") -> Alfred Dunhill1001141107/07/2021 | I13: =_xlfn.XLOOKUP($H13,DATA_BRAND!$G:$G,DATA_BRAND!$D:$D,"") | J13: =_xlfn.XLOOKUP($H13,DATA_BRAND!$G:$G,DATA_BRAND!$E:$E,"") | K13: =_xlfn.XLOOKUP($H13,DATA_BRAND!$G:$G,DATA_BRAND!$F:$F,"") | L13: =$M$5&$K$1&TEXT($B13,"jj/mm/aaaa") -> Anderson's1001141107/07/2021 | M13: =_xlfn.XLOOKUP($L13,DATA_BRAND!$G:$G,DATA_BRAND!$D:$D,"") | N13: =_xlfn.XLOOKUP($L13,DATA_BRAND!$G:$G,DATA_BRAND!$E:$E,"") | O13: =_xlfn.XLOOKUP($L13,DATA_BRAND!$G:$G,DATA_BRAND!$F:$F,"") | P13: =$Q$5&$K$1&TEXT($B13,"jj/mm/aaaa") -> Balenciaga1001141107/07/2021 | Q13: =_xlfn.XLOOKUP($P13,DATA_BRAND!$G:$G,DATA_BRAND!$D:$D,"") | R13: =_xlfn.XLOOKUP($P13,DATA_BRAND!$G:$G,DATA_BRAND!$E:$E,"") | S13: =_xlfn.XLOOKUP($P13,DATA_BRAND!$G:$G,DATA_BRAND!$F:$F,"") | T13: =$U$5&$K$1&TEXT($B13,"jj/mm/aaaa") -> Bally1001141107/07/2021 | U13: =_xlfn.XLOOKUP($T13,DATA_BRAND!$G:$G,DATA_BRAND!$D:$D,"") | V13: =_xlfn.XLOOKUP($T13,DATA_BRAND!$G:$G,DATA_BRAND!$E:$E,"") | W13: =_xlfn.XLOOKUP($T13,DATA_BRAND!$G:$G,DATA_BRAND!$F:$F,"") | X13: =$Y$5&$K$1&TEXT($B13,"jj/mm/aaaa") -> Balmain1001141107/07/2021 | Y13: =_xlfn.XLOOKUP($X13,DATA_BRAND!$G:$G,DATA_BRAND!$D:$D,"") | Z13: =_xlfn.XLOOKUP($X13,DATA_BRAND!$G:$G,DATA_BRAND!$E:$E,"") | AA13: =_xlfn.XLOOKUP($X13,DATA_BRAND!$G:$G,DATA_BRAND!$F:$F,"") | AB13: =$AC$5&$K$1&TEXT($B13,"jj/mm/aaaa") -> Bleu de Chauffe1001141107/07/2021 | AC13: =_xlfn.XLOOKUP($AB13,DATA_BRAND!$G:$G,DATA_BRAND!$D:$D,"") | AD13: =_xlfn.XLOOKUP($AB13,DATA_BRAND!$G:$G,DATA_BRAND!$E:$E,"") | AE13: =_xlfn.XLOOKUP($AB13,DATA_BRAND!$G:$G,DATA_BRAND!$F:$F,"") | AF13: =$AG$5&$K$1&TEXT($B13,"jj/mm/aaaa") -> Bottega Veneta1001141107/07/2021 | AG13: =_xlfn.XLOOKUP($AF13,DATA_BRAND!$G:$G,DATA_BRAND!$D:$D,"") | AH13: =_xlfn.XLOOKUP($AF13,DATA_BRAND!$G:$G,DATA_BRAND!$E:$E,"") | AI13: =_xlfn.XLOOKUP($AF13,DATA_BRAND!$G:$G,DATA_BRAND!$F:$F,"") | AJ13: =$AK$5&$K$1&TEXT($B13,"jj/mm/aaaa") -> Burberry1001141107/07/2021 | AK13: =_xlfn.XLOOKUP($AJ13,DATA_BRAND!$G:$G,DATA_BRAND!$D:$D,"") | AL13: =_xlfn.XLOOKUP($AJ13,DATA_BRAND!$G:$G,DATA_BRAND!$E:$E,"") | AM13: =_xlfn.XLOOKUP($AJ13,DATA_BRAND!$G:$G,DATA_BRAND!$F:$F,"") | AN13: =$AO$5&$K$1&TEXT($B13,"jj/mm/aaaa") -> Givenchy1001141107/07/2021 | AO13: =_xlfn.XLOOKUP($AN13,DATA_BRAND!$G:$G,DATA_BRAND!$D:$D,"") | AP13: =_xlfn.XLOOKUP($AN13,DATA_BRAND!$G:$G,DATA_BRAND!$E:$E,"") | AQ13: =_xlfn.XLOOKUP($AN13,DATA_BRAND!$G:$G,DATA_BRAND!$F:$F,"") | AR13: =$AS$5&$K$1&TEXT($B13,"jj/mm/aaaa") -> Kenzo1001141107/07/2021 | AS13: =_xlfn.XLOOKUP($AR13,DATA_BRAND!$G:$G,DATA_BRAND!$D:$D,"") | AT13: =_xlfn.XLOOKUP($AR13,DATA_BRAND!$G:$G,DATA_BRAND!$E:$E,"") | AU13: =_xlfn.XLOOKUP($AR13,DATA_BRAND!$G:$G,DATA_BRAND!$F:$F,"") | AV13: =$AW$5&$K$1&TEXT($B13,"jj/mm/aaaa") -> Lacoste1001141107/07/2021 | AW13: =_xlfn.XLOOKUP($AV13,DATA_BRAND!$G:$G,DATA_BRAND!$D:$D,"") | AX13: =_xlfn.XLOOKUP($AV13,DATA_BRAND!$G:$G,DATA_BRAND!$E:$E,"") | AY13: =_xlfn.XLOOKUP($AV13,DATA_BRAND!$G:$G,DATA_BRAND!$F:$F,"") | AZ13: =$BA$5&$K$1&TEXT($B13,"jj/mm/aaaa") -> Maison Margiela1001141107/07/2021 | BA13: =_xlfn.XLOOKUP($AZ13,DATA_BRAND!$G:$G,DATA_BRAND!$D:$D,"") -> 1 | BB13: =_xlfn.XLOOKUP($AZ13,DATA_BRAND!$G:$G,DATA_BRAND!$E:$E,"") -> 1 | BC13: =_xlfn.XLOOKUP($AZ13,DATA_BRAND!$G:$G,DATA_BRAND!$F:$F,"") -> 312.5 | BD13: =$BE$5&$K$1&TEXT($B13,"jj/mm/aaaa") -> Moncler1001141107/07/2021 | BE13: =_xlfn.XLOOKUP($BD13,DATA_BRAND!$G:$G,DATA_BRAND!$D:$D,"") | BF13: =_xlfn.XLOOKUP($BD13,DATA_BRAND!$G:$G,DATA_BRAND!$E:$E,"") | BG13: =_xlfn.XLOOKUP($BD13,DATA_BRAND!$G:$G,DATA_BRAND!$F:$F,"") | BH13: =$BI$5&$K$1&TEXT($B13,"jj/mm/aaaa") -> Off-White1001141107/07/2021 | BI13: =_xlfn.XLOOKUP($BH13,DATA_BRAND!$G:$G,DATA_BRAND!$D:$D,"") | BJ13: =_xlfn.XLOOKUP($BH13,DATA_BRAND!$G:$G,DATA_BRAND!$E:$E,"") | BK13: =_xlfn.XLOOKUP($BH13,DATA_BRAND!$G:$G,DATA_BRAND!$F:$F,"") | BL13: =$BM$5&$K$1&TEXT($B13,"jj/mm/aaaa") -> Polo Ralph Lauren1001141107/07/2021 | BM13: =_xlfn.XLOOKUP($BL13,DATA_BRAND!$G:$G,DATA_BRAND!$D:$D,"") | BN13: =_xlfn.XLOOKUP($BL13,DATA_BRAND!$G:$G,DATA_BRAND!$E:$E,"") | BO13: =_xlfn.XLOOKUP($BL13,DATA_BRAND!$G:$G,DATA_BRAND!$F:$F,"") | BP13: =$BQ$5&$K$1&TEXT($B13,"jj/mm/aaaa") -> Salvatore Ferragamo1001141107/07/2021 | BQ13: =_xlfn.XLOOKUP($BP13,DATA_BRAND!$G:$G,DATA_BRAND!$D:$D,"") | BR13: =_xlfn.XLOOKUP($BP13,DATA_BRAND!$G:$G,DATA_BRAND!$E:$E,"") | BS13: =_xlfn.XLOOKUP($BP13,DATA_BRAND!$G:$G,DATA_BRAND!$F:$F,"") | BT13: =$BU$5&$K$1&TEXT($B13,"jj/mm/aaaa") -> Smythson1001141107/07/2021 | BU13: =_xlfn.XLOOKUP($BT13,DATA_BRAND!$G:$G,DATA_BRAND!$D:$D,"") | BV13: =_xlfn.XLOOKUP($BT13,DATA_BRAND!$G:$G,DATA_BRAND!$E:$E,"") | BW13: =_xlfn.XLOOKUP($BT13,DATA_BRAND!$G:$G,DATA_BRAND!$F:$F,"") | BX13: =$BY$5&$K$1&TEXT($B13,"jj/mm/aaaa") -> Stone Island1001141107/07/2021 | BY13: =_xlfn.XLOOKUP($BX13,DATA_BRAND!$G:$G,DATA_BRAND!$D:$D,"") | BZ13: =_xlfn.XLOOKUP($BX13,DATA_BRAND!$G:$G,DATA_BRAND!$E:$E,"") | CA13: =_xlfn.XLOOKUP($BX13,DATA_BRAND!$G:$G,DATA_BRAND!$F:$F,"") | CB13: =$CC$5&$K$1&TEXT($B13,"jj/mm/aaaa") -> Thom Browne1001141107/07/2021 | CC13: =_xlfn.XLOOKUP($CB13,DATA_BRAND!$G:$G,DATA_BRAND!$D:$D,"") | CD13: =_xlfn.XLOOKUP($CB13,DATA_BRAND!$G:$G,DATA_BRAND!$E:$E,"") | CE13: =_xlfn.XLOOKUP($CB13,DATA_BRAND!$G:$G,DATA_BRAND!$F:$F,"") | CF13: =$CG$5&$K$1&TEXT($B13,"jj/mm/aaaa") -> Versace1001141107/07/2021 | CG13: =_xlfn.XLOOKUP($CF13,DATA_BRAND!$G:$G,DATA_BRAND!$D:$D,"") | CH13: =_xlfn.XLOOKUP($CF13,DATA_BRAND!$G:$G,DATA_BRAND!$E:$E,"") | CI13: =_xlfn.XLOOKUP($CF13,DATA_BRAND!$G:$G,DATA_BRAND!$F:$F,"") | CJ13: =$CK$5&$K$1&TEXT($B13,"jj/mm/aaaa") -> YSL1001141107/07/2021 | CK13: =_xlfn.XLOOKUP($CJ13,DATA_BRAND!$G:$G,DATA_BRAND!$D:$D,"") | CL13: =_xlfn.XLOOKUP($CJ13,DATA_BRAND!$G:$G,DATA_BRAND!$E:$E,"") | CM13: =_xlfn.XLOOKUP($CJ13,DATA_BRAND!$G:$G,DATA_BRAND!$F:$F,"")
