Workbook
Name AnneeCalendrier: 'Mois en cours'!$C$3
Name AnneeCalendrier: 'Mois suivant'!$C$3
Name AnneeCalendrier: Juillet!$C$3
Name NumMOIS: 'Mois en cours'!$F$1
Name NumMOIS: 'Mois suivant'!$E$1
Name NumMOIS: Juillet!$E$1
Name p: #REF!

Sheet HR DATABASE
A1: Employee ID | B1: Full Name | C1: Preferred Name / Known As | D1: First Name | E1: Last Name | F1: Gender | G1: Sub Area / Dept | H1: Position | I1: Départment | J1: Floor | K1: Team Leader | L1: PSM | M1: AGM | N1: Brand | O1: Nb H/sem
A2: 10011273 | B2: Aimee Guyon | C2: Aimee | D2: Aimee | E2: Guyon | F2: F | G2: Sales (La Samaritaine) | H2: Sales associate | I2: Beauty | J2: -1 | K2: Audrey Detoul | L2: François DHALLUIN | M2: Sylvain COURAULT | N2: ACQUA DI PARMA | O2: 35
A3: 10011485 | B3: Valerie Lebaindre | C3: Valerie | D3: Valerie | E3: Lebaindre | F3: F | G3: Sales (La Samaritaine) | H3: Sales associate | I3: Beauty | J3: -1 | K3: Audrey Detoul | L3: François DHALLUIN | M3: Sylvain COURAULT | N3: ACQUA DI PARMA | O3: 35
A4: 10011445 | B4: Amandine Vialle | C4: Amandine | D4: Amandine | E4: Vialle | F4: F | G4: Sales (La Samaritaine) | H4: Sales associate | I4: Beauty | J4: -1 | K4: Annabelle LAFER | L4: François DHALLUIN | M4: Sylvain COURAULT | N4: ANNICK GOUTAL | O4: 35
A5: 10011583 | B5: Fedoua Bouacha | C5: Fedoua | D5: Fedoua | E5: Bouacha | F5: F | G5: Sales (La Samaritaine) | H5: Sales associate | I5: Beauty | J5: -1 | K5: Audrey DETOUL | L5: François DHALLUIN | M5: Sylvain COURAULT | N5: ATELIER COLOGNE / MUGLER / PRADA | O5: 35
A6: 10011259 | B6: Muriel Foury | C6: Muriel | D6: Muriel | E6: Foury | F6: F | G6: Sales (La Samaritaine) | H6: Sales associate | I6: Beauty | J6: -1 | K6: Sabah Rizki | L6: Krystel NEHME | M6: Sylvain COURAULT | N6: BIOTHERM | O6: 35
A7: 10011200 | B7: Rani Grove | C7: Rani | D7: Rani | E7: Grove | F7: F | G7: Sales (La Samaritaine) | H7: Sales associate | I7: Beauty | J7: -1 | K7: Laure Geens | L7: Diane CERDOR | M7: Sylvain COURAULT | N7: BOBBI BROWN | O7: 35
A8: 10011121 | B8: Safa Abderrahmane Habib | C8: Safa | D8: Safa | E8: Abderrahmane Habib | F8: F | G8: Sales (La Samaritaine) | H8: Sales associate | I8: Beauty | J8: -1 | K8: Annabelle LAFER | L8: François DHALLUIN | M8: Sylvain COURAULT | N8: BULGARI | O8: 35
A9: 10011467 | B9: Laura Keng-Weng | C9: Laura | D9: Laura | E9: Keng-Weng | F9: F | G9: Sales (La Samaritaine) | H9: Sales associate | I9: Beauty | J9: -1 | K9: Laetitia Chen | L9: Diane CERDOR | M9: Sylvain COURAULT | N9: BURBERRY / CHLOE | O9: 35
A10: 10011271 | B10: Alice Deligeard | C10: Alice | D10: Alice | E10: Deligeard | F10: F | G10: Sales (La Samaritaine) | H10: Sales associate | I10: Beauty | J10: -1 | K10: Laure Geens | L10: Diane CERDOR | M10: Sylvain COURAULT | N10: BY TERRY | O10: 35
A11: 10011501 | B11: Yann Lacroix Larose | C11: Yann | D11: Yann | E11: Lacroix Larose | F11: M | G11: Sales (La Samaritaine) | H11: Sales associate | I11: Beauty | J11: -1 | K11: Laure Geens | L11: Diane CERDOR | M11: Sylvain COURAULT | N11: BY TERRY | O11: 35
A12: 10011515 | B12: Magdalena Gorczynska | C12: Gorczynska | D12: Magdalena | E12: Gorczynska | F12: F | G12: Sales (La Samaritaine) | H12: Sales associate | I12: Beauty | J12: -1 | K12: Audrey Detoul | L12: François DHALLUIN | M12: Sylvain COURAULT | N12: BYREDO | O12: 35
A13: 10011366 | B13: Henny Sinardi Lavagne Dortigue | C13: Henny | D13: Henny | E13: Sinardi Lavagne Dortigue | F13: F | G13: Sales (La Samaritaine) | H13: Sales associate | I13: Beauty | J13: -1 | K13: Audrey Detoul | L13: François DHALLUIN | M13: Sylvain COURAULT | N13: BYREDO | O13: 35
... A138: 10011243 | B138: Jessica Pera | C138: Jessica | D138: Jessica | E138: Pera | F138: F | G138: Sales (La Samaritaine) | H138: Sales associate | I138: Beauty | J138: -1 | K138: Laetitia Chen | L138: Krystel NEHME | M138: Sylvain COURAULT | N138: YSL / GIORGIO ARMANI | O138: 35
A139: 10010853 | B139: Louis Ancel | C139: Louis | D139: Louis | E139: Ancel | F139: M | G139: Paris La Samaritaine | H139: Team Lead | I139: Beauty | J139: -1 | L139: Krystel NEHME | M139: Sylvain COURAULT | O139: 35
A140: 10010803 | B140: Diane Cerdor | C140: Diane | D140: Diane | E140: Cerdor | F140: F | G140: Paris La Samaritaine | H140: Product Sales Manager | I140: Beauty | M140: Sylvain COURAULT | O140: 35
A141: 10011113 | B141: Laetitia Chen | C141: Laetitia | D141: Laetitia | E141: Chen | F141: F | G141: Sales (La Samaritaine) | H141: Team Lead | I141: Beauty | J141: -1 | L141: Diane CERDOR | M141: Sylvain COURAULT | O141: 35
A142: 2220095 | B142: Sylvain Courault | C142: Sylvain | D142: Sylvain | E142: Courault | F142: M | G142: Paris La Samaritaine | H142: Assistant General Manager Sales | I142: Beauty | O142: 35
A143: 10010972 | B143: Audrey Detoul | C143: Audrey | D143: Audrey | E143: Detoul | F143: F | G143: Sales (La Samaritaine) | H143: Team Lead | I143: Beauty | J143: -1 | L143: François DHALLUIN | M143: Sylvain COURAULT | O143: 35
A144: 10010831 | B144: Francois Dhalluin | C144: Francois | D144: Francois | E144: Dhalluin | F144: M | G144: Paris La Samaritaine | H144: Product Sales Manager | I144: Beauty | M144: Sylvain COURAULT | O144: 35
A145: 10011131 | B145: Laure-Nirina Geens | C145: Laure | D145: Laure-Nirina | E145: Geens | F145: F | G145: Sales (La Samaritaine) | H145: Team Lead | I145: Beauty | J145: -1 | L145: Diane CERDOR | M145: Sylvain COURAULT | O145: 35
A146: 10011017 | B146: Annabelle Lafer | C146: Annabelle | D146: Annabelle | E146: Lafer | F146: F | G146: Sales (La Samaritaine) | H146: Team Lead | I146: Beauty | J146: -1 | L146: François DHALLUIN | M146: Sylvain COURAULT | O146: 35
A147: 10011020 | B147: Krystel Nehme | C147: Krystel | D147: Krystel | E147: Nehme | F147: F | G147: Paris La Samaritaine | H147: Product Sales Manager | I147: Beauty | M147: Sylvain COURAULT | O147: 35
A148: 10011063 | B148: Angelique Ragueneau | C148: Angelique | D148: Angelique | E148: Ragueneau | F148: F | G148: Sales (La Samaritaine) | H148: Team Lead | I148: Beauty | J148: -1 | L148: Diane CERDOR | M148: Sylvain COURAULT | O148: 35
A149: 10012176 | B149: Cedric Pinero | C149: Cedric | D149: Cedric | E149: Pinero | G149: Sales (La Samaritaine) | H149: Team Lead | I149: Beauty | J149: -1 | L149: Diane CERDOR | M149: Sylvain COURAULT
A150: 10011006 | B150: Sabah Rizki | C150: Sabah | D150: Sabah | E150: Rizki | F150: F | G150: Sales (La Samaritaine) | H150: Team Lead | I150: Beauty | J150: -1 | L150: Krystel NEHME | M150: Sylvain COURAULT | O150: 35
A151: 10011930 | B151: Tania GOYO | C151: Tania | D151: Tania | E151: Goyo | G151: Operations (La Samaritaine) | H151: Opératrice de caisse | I151: Cash Management | J151: 1 | K151: Ewan Jordan Peltereau | L151: Mourad KHATI | M151: Laurence DAVID | O151: 35
A152: 10011911 | B152: Eugénie Jougleux | C152: Eugénie | D152: Eugénie | E152: Jougleux | G152: Operations (La Samaritaine) | H152: Opératrice de caisse | I152: Cash Management | J152: 1 | K152: Ewan Jordan Peltereau | L152: Mourad KHATI | M152: Laurence DAVID | O152: 35
A153: 10010870 | B153: Mourad Khati | C153: Mourad | D153: Mourad | E153: Khati | F153: M | G153: Operations (La Samaritaine) | H153: Cash Manager | I153: Cash Management | J153: 1 | O153: 35
A154: 10012184 | B154: Julienne Huynh | C154: Julienne | D154: Julienne | E154: Huynh | F154: F | G154: Operations (La Samaritaine) | H154: Opératrice de caisse | I154: Cash Management | J154: 1 | K154: Ewan Jordan Peltereau | L154: Mourad KHATI | M154: Laurence DAVID | O154: 35
A155: 10011045 | B155: Ewan, Jordan Peltereau | C155: Ewan | D155: Ewan | E155: Peltereau | F155: M | G155: Operations (La Samaritaine) | H155: Team Lead | I155: Cash Management | J155: 1 | L155: Mourad KHATI | M155: Laurence DAVID | O155: 35
A156: 10011556 | B156: Olga Brion | C156: Olga | D156: Olga | E156: Brion | F156: F | G156: Sales (La Samaritaine) | H156: Sales associate | I156: Champagne | J156: 1 | K156: Samia TISSIER | L156: Samia TISSIER | M156: Carla PINTO | N156: DOM PERIGNON | O156: 35
A157: 10011274 | B157: Carlos Perez | C157: Carlos | D157: Carlos | E157: Perez | F157: M | G157: Sales (La Samaritaine) | H157: Sales associate | I157: Champagne | J157: 2 | K157: Samia TISSIER | L157: Samia TISSIER | M157: Carla PINTO | N157: HENNESSY | O157: 35
A158: 10011491 | B158: Pharanie Biret | C158: Pharanie | D158: Pharanie | E158: Biret | F158: F | G158: Sales (La Samaritaine) | H158: Sales associate | I158: Champagne | J158: 0 | K158: Samia TISSIER | L158: Samia TISSIER | M158: Carla PINTO | N158: MOET & CHANDON | O158: 35
A159: 10011304 | B159: Manuel Borel | C159: Manuel | D159: Manuel | E159: Borel | F159: M | G159: Sales (La Samaritaine) | H159: Sales associate | I159: Champagne | J159: 4 | K159: Samia TISSIER | L159: Samia TISSIER | M159: Carla PINTO | N159: RUINART | O159: 35
A160: 10011326 | B160: Sofienne Djenna | C160: Sofienne | D160: Sofienne | E160: Djenna | F160: M | G160: Sales (La Samaritaine) | H160: Sales associate | I160: Champagne | J160: 0 | K160: Samia TISSIER | L160: Samia TISSIER | M160: Carla PINTO | N160: VEUVE CLICQUOT | O160: 35
A161: 10012045 | B161: Claire Szekely | C161: Claire | D161: Claire | E161: Szekely | F161: F | G161: Sales (La Samaritaine) | H161: Sales associate | I161: Champagne | J161: 0 | K161: Samia TISSIER | L161: Samia TISSIER | M161: Carla PINTO | N161: VEUVE CLICQUOT | O161: 35
A162: 10012063 | B162: Victor Gastaldi | C162: Victor | D162: Victor | E162: Gastaldi | F162: M | G162: Sales (La Samaritaine) | H162: Sales associate | I162: Champagne | J162: 4 | K162: Samia TISSIER | L162: Samia TISSIER | M162: Carla PINTO | N162: RUINART | O162: 35
A163: 10012095 | B163: Leo Szymanski | C163: Leo | D163: Leo | E163: Szymanski | F163: M | G163: Sales (La Samaritaine) | H163: Sales associate | I163: Champagne | J163: 0 | K163: Samia TISSIER | L163: Samia TISSIER | M163: Carla PINTO | N163: MOET & CHANDON | O163: 35
A164: 10010685 | B164: Samia Tissier | C164: Samia | D164: Samia | E164: Tissier | F164: F | G164: Paris La Samaritaine | H164: Product Sales Manager | I164: Champagne & WS | M164: Carla PINTO | O164: 35
A165: 10010968 | B165: Gisele Bessac Ozounguet | C165: Nadia | D165: Gisele | E165: Bessac Ozounguet | F165: F | G165: Client Relationship Management (France) | H165: Concierge Rivoli | I165: Customer Service | J165: 0 | K165: Patricia Louis Joseph Dogue | L165: Richard CASTANER | M165: Laurence DAVID | O165: 35
A166: 10011229 | B166: Amine Bounar | C166: Amine | D166: Amine | E166: Bounar | F166: M | G166: Client Relationship Management (France) | H166: Concierge Pont neuf | I166: Customer Service | J166: 0 | K166: Patricia Louis Joseph Dogue | L166: Richard CASTANER | M166: Laurence DAVID | O166: 35
A167: 10011249 | B167: Daria Callet | C167: Daria | D167: Daria | E167: Callet | F167: F | G167: Client Relationship Management (France) | H167: Lounge Attendant | I167: Customer Service | J167: 1 | K167: Patricia Louis Joseph Dogue | L167: Richard CASTANER | M167: Laurence DAVID | O167: 35
A168: 10010544 | B168: Richard Castaner | C168: Richard | D168: Richard | E168: Castaner | F168: M | G168: Paris La Samaritaine | H168: Assistant General Manager Operations | I168: Customer Service | O168: 35
A169: 10011356 | B169: Lindsay Cypria | C169: Lindsay | D169: Lindsay | E169: Cypria | F169: F | G169: Client Relationship Management (France) | H169: Concierge Rivoli | I169: Customer Service | J169: 0 | K169: Patricia Louis Joseph Dogue | L169: Richard CASTANER | M169: Laurence DAVID | O169: 35
A170: 10011587 | B170: Gulshat Gataullina | C170: Gulshat | D170: Gulshat | E170: Gataullina | F170: F | G170: Client Relationship Management (France) | H170: Concierge Customer service | I170: Customer Service | J170: -1 | K170: Patricia Louis Joseph Dogue | L170: Richard CASTANER | M170: Laurence DAVID | O170: 35
A171: 10011591 | B171: Anne Gateau | C171: Anne | D171: Anne | E171: Gateau | F171: F | G171: Client Relationship Management (France) | H171: Concierge Pont neuf | I171: Customer Service | J171: 0 | K171: Patricia Louis Joseph Dogue | L171: Richard CASTANER | M171: Laurence DAVID | O171: 17.5
A172: 10011393 | B172: Alain Imbert | C172: Alain | D172: Alain | E172: Imbert | F172: M | G172: Client Relationship Management (France) | H172: Concierge Pont neuf | I172: Customer Service | J172: -1 | K172: Patricia Louis Joseph Dogue | L172: Richard CASTANER | M172: Laurence DAVID | O172: 35
A173: 10011311 | B173: Dorma Kpekouma | C173: Enzo | D173: Dorma | E173: Kpekouma | F173: M | G173: Client Relationship Management (France) | H173: Concierge Rivoli | I173: Customer Service | J173: 0 | K173: Patricia Louis Joseph Dogue | L173: Richard CASTANER | M173: Laurence DAVID | O173: 35
A174: 10011265 | B174: Pierrick Leroy | C174: Pierrick | D174: Pierrick | E174: Leroy | F174: M | G174: Client Relationship Management (France) | H174: Retoucheur | I174: Customer Service | J174: 1 | K174: Patricia Louis Joseph Dogue | L174: Richard CASTANER | M174: Laurence DAVID | O174: 35
A175: 10011402 | B175: Hung-Ling Lin | C175: Hung-Ling | D175: Hung-Ling | E175: Lin | F175: M | G175: Client Relationship Management (France) | H175: Concierge Pont neuf | I175: Customer Service | J175: 0 | K175: Patricia Louis Joseph Dogue | L175: Richard CASTANER | M175: Laurence DAVID | O175: 35
A176: 10010925 | B176: Patricia Louis Joseph Dogue | C176: Patricia | D176: Patricia | E176: Louis Joseph Dogue | F176: F | G176: Client Relationship Management (France) | H176: Team Lead | I176: Customer Service | J176: 0 | L176: Richard CASTANER | M176: Laurence DAVID | O176: 35
A177: 10011252 | B177: Mile Manojlovic | C177: Mile | D177: Mile | E177: Manojlovic | F177: M | G177: Client Relationship Management (France) | H177: Concierge Customer service | I177: Customer Service | J177: 0 | K177: Patricia Louis Joseph Dogue | L177: Richard CASTANER | M177: Laurence DAVID | O177: 28
A178: 10011240 | B178: Francine Pan | C178: Francine | D178: Francine | E178: Pan | F178: F | G178: Client Relationship Management (France) | H178: Lounge Attendant | I178: Customer Service | J178: 1 | K178: Patricia Louis Joseph Dogue | L178: Richard CASTANER | M178: Laurence DAVID | O178: 35
A179: 10011588 | B179: Qiang Wei Qiao | C179: Qiangwei | D179: Qiang Wei | E179: Qiao | F179: F | G179: Client Relationship Management (France) | H179: Lounge Attendant | I179: Customer Service | J179: 1 | K179: Patricia Louis Joseph Dogue | L179: Richard CASTANER | M179: Laurence DAVID | O179: 35
A180: 10011435 | B180: Bouna Sakho | C180: Bouna | D180: Bouna | E180: Sakho | F180: M | G180: Client Relationship Management (France) | H180: Concierge Customer service | I180: Customer Service | J180: -1 | K180: Patricia Louis Joseph Dogue | L180: Richard CASTANER | M180: Laurence DAVID | O180: 35
A181: 10011380 | B181: Sofiane Kendjouh | C181: Sofiane | D181: Sofiane | E181: Kendjouh | F181: M | G181: Sales (La Samaritaine) | H181: Sales associate | I181: Fashion Men | J181: 3 | K181: Bilal GUYEN | L181: Charlotte CHEVALLIER | M181: Christophe DE VIZCAYA | N181: BALENCIAGA | O181: 35
A182: 10011155 | B182: Cecile Lieu | C182: Cecile | D182: Cecile | E182: Lieu | F182: F | G182: Sales (La Samaritaine) | H182: Sales associate | I182: Fashion Men | J182: 3 | K182: Bilal GUYEN | L182: Charlotte CHEVALLIER | M182: Christophe DE VIZCAYA | N182: BALENCIAGA | O182: 35
A183: 10011305 | B183: Marie Salanoubat | C183: Marie | D183: Marie | E183: Salanoubat | F183: F | G183: Sales (La Samaritaine) | H183: Sales associate | I183: Fashion Men | J183: 3 | K183: Bilal GUYEN | L183: Charlotte CHEVALLIER | M183: Christophe DE VIZCAYA | N183: BALENCIAGA | O183: 35
A184: 10012017 | B184: Hong YI Fan Devalois (Flora) | C184: Flora | D184: Hong YI | E184: Fan Devalois | F184: F | G184: Sales (La Samaritaine) | H184: Sales associate | I184: Fashion Men | J184: 3 | K184: Bilal GUYEN | L184: Charlotte CHEVALLIER | M184: Christophe DE VIZCAYA | N184: BOTTEGA VENETA | O184: 35
A185: 10011370 | B185: Patricia Batki | C185: Patricia | D185: Patricia | E185: Batki | F185: F | G185: Sales (La Samaritaine) | H185: Sales associate | I185: Fashion Men | J185: 3 | K185: Bilal GUYEN | L185: Charlotte CHEVALLIER | M185: Christophe DE VIZCAYA | N185: BURBERRY | O185: 35
A186: 10011446 | B186: Nisrine Benkrii | C186: Nisrine | D186: Nisrine | E186: Benkrii | F186: F | G186: Sales (La Samaritaine) | H186: Sales associate | I186: Fashion Men | J186: 3 | K186: Bilal GUYEN | L186: Charlotte CHEVALLIER | M186: Christophe DE VIZCAYA | N186: BURBERRY | O186: 35
A187: 10011236 | B187: Evgenia Dvoryanchikova | C187: Evgenia | D187: Evgenia | E187: Dvoryanchikova | F187: F | G187: Sales (La Samaritaine) | H187: Sales associate | I187: Fashion Men | J187: 3 | K187: Bilal GUYEN | L187: Charlotte CHEVALLIER | M187: Christophe DE VIZCAYA | N187: BURBERRY | O187: 35
A188: 10012003 | B188: Andréa Capron | C188: Andréa | D188: Andréa | E188: Capron | F188: F | G188: Sales (La Samaritaine) | H188: Sales associate | I188: Fashion Men | J188: 3 | K188: Bilal GUYEN | L188: Charlotte CHEVALLIER | M188: Christophe DE VIZCAYA | N188: CARRE AUXERROIS | O188: 35
A189: 10011490 | B189: Laurent Comtesse | C189: Laurent | D189: Laurent | E189: Comtesse | F189: M | G189: Sales (La Samaritaine) | H189: Sales associate | I189: Fashion Men | J189: 3 | K189: Bilal GUYEN | L189: Charlotte CHEVALLIER | M189: Christophe DE VIZCAYA | N189: CARRE AUXERROIS | O189: 35
A190: 10011270 | B190: Zoe Enault | C190: Zoe | D190: Zoe | E190: Enault | F190: F | G190: Sales (La Samaritaine) | H190: Sales associate | I190: Fashion Men | J190: 3 | K190: Bilal GUYEN | L190: Charlotte CHEVALLIER | M190: Christophe DE VIZCAYA | N190: CARRE AUXERROIS | O190: 35
A191: 10012040 | B191: Nikita Millet | C191: Nikita | D191: Nikita | E191: Millet | F191: M | G191: Sales (La Samaritaine) | H191: Sales associate | I191: Fashion Men | J191: 3 | K191: Bilal GUYEN | L191: Charlotte CHEVALLIER | M191: Christophe DE VIZCAYA | N191: CARRE PONT NEUF | O191: 35
A192: 10011319 | B192: Zhen Zeng | C192: Eva | D192: Zhen | E192: Zeng | F192: F | G192: Sales (La Samaritaine) | H192: Sales associate | I192: Fashion Men | J192: 3 | K192: Bilal GUYEN | L192: Charlotte CHEVALLIER | M192: Christophe DE VIZCAYA | N192: CARRE AUXERROIS | O192: 35
... A216: 10011415 | B216: Zeyi Wong | C216: Zeyi | D216: Zeyi | E216: Wong | F216: F | G216: Sales (La Samaritaine) | H216: Sales associate | I216: Fashion Men | J216: 3 | K216: David YILDIZ | L216: Charlotte CHEVALLIER | M216: Christophe DE VIZCAYA | N216: YSL | O216: 35
A217: 2220093 | B217: Loic Bouguet | C217: Loic | D217: Loic | E217: Bouguet | F217: M | G217: Paris La Samaritaine | H217: Assistant General Manager Sales | I217: Fashion Men | O217: 35
A218: 10010684 | B218: Charlotte Chevallier | C218: Charlotte | D218: Charlotte | E218: Chevallier | F218: F | G218: Paris La Samaritaine | H218: Product Sales Manager | I218: Fashion Men | M218: Christophe DE VIZCAYA | O218: 35
A219: 10010839 | B219: Syed Guyen | C219: Bilal | D219: Syed | E219: Guyen | F219: M | G219: Paris La Samaritaine | H219: Team Lead | I219: Fashion Men | J219: 3 | L219: Charlotte CHEVALLIER | M219: Christophe DE VIZCAYA | O219: 35
A220: 10011128 | B220: David Yildiz | C220: David | D220: David | E220: Yildiz | F220: M | G220: Sales (La Samaritaine) | H220: Team Lead | I220: Fashion Men | J220: 3 | L220: Charlotte CHEVALLIER | M220: Christophe DE VIZCAYA | O220: 35
A221: 10011489 | B221: Alexandra Guichard | C221: Alexandra | D221: Alexandra | E221: Guichard | F221: F | G221: Sales (La Samaritaine) | H221: Sales associate | I221: Fashion Women | J221: 1 | K221: Caroline HIBON | L221: Sophie Clement | M221: Carla PINTO | N221: ASSOULINE | O221: 35
A222: 10011303 | B222: Nadine Schwartz | C222: Aurore | D222: Nadine | E222: Schwartz | F222: F | G222: Sales (La Samaritaine) | H222: Sales associate | I222: Fashion Women | J222: 1 | K222: Caroline HIBON | L222: Sophie Clement | M222: Carla PINTO | N222: ASSOULINE | O222: 35
A223: 10011114 | B223: Dolly Belhomme | C223: Dolly | D223: Dolly | E223: Belhomme | F223: F | G223: Sales (La Samaritaine) | H223: Sales associate | I223: Fashion Women | J223: 1 | K223: Marie Muresianu | L223: Sophie Clement | M223: Carla PINTO | N223: BABV | O223: 35
A224: 10011122 | B224: Ekaterina Buisson | C224: Ekaterina | D224: Ekaterina | E224: Buisson | F224: F | G224: Sales (La Samaritaine) | H224: Sales associate | I224: Fashion Women | J224: 1 | K224: Marie Muresianu | L224: Sophie Clement | M224: Carla PINTO | N224: BABV | O224: 35
A225: 10011540 | B225: Miao Lacarelle | C225: Miao | D225: Miao | E225: Lacarelle | F225: F | G225: Sales (La Samaritaine) | H225: Sales associate | I225: Fashion Women | J225: 1 | K225: Marie Muresianu | L225: Sophie Clement | M225: Carla PINTO | N225: BABV | O225: 35
A226: 10010954 | B226: Tringa Muhaxheri | C226: Tringa | D226: Tringa | E226: Muhaxheri | F226: F | G226: Sales (La Samaritaine) | H226: Sales associate | I226: Fashion Women | J226: 1 | K226: Marie Muresianu | L226: Sophie Clement | M226: Carla PINTO | N226: BABV | O226: 35
A227: 10011546 | B227: Loicka Biampandou | C227: Loicka | D227: Loicka | E227: Biampandou | F227: F | G227: Sales (La Samaritaine) | H227: Sales associate | I227: Fashion Women | J227: 0 | K227: Mathilde Bellenger | L227: Clémence Foutieau | M227: Carla PINTO | N227: BALENCIAGA | O227: 35
A228: 10011537 | B228: Sarah Lackmy | C228: Sarah | D228: Sarah | E228: Lackmy | F228: F | G228: Sales (La Samaritaine) | H228: Sales associate | I228: Fashion Women | J228: 0 | K228: Mathilde Bellenger | L228: Clémence Foutieau | M228: Carla PINTO | N228: BALENCIAGA | O228: 35
A229: 10011051 | B229: Alele Mistoul Adjara | C229: Belica | D229: Alele | E229: Mistoul Adjara | F229: F | G229: Sales (La Samaritaine) | H229: Sales associate | I229: Fashion Women | J229: 0 | K229: Mathilde Bellenger | L229: Clémence Foutieau | M229: Carla PINTO | N229: BALENCIAGA | O229: 35
A230: 10011320 | B230: Konstantin Nikiforov | C230: Konstantin | D230: Konstantin | E230: Nikiforov | F230: M | G230: Sales (La Samaritaine) | H230: Sales associate | I230: Fashion Women | J230: 0 | K230: Mathilde Bellenger | L230: Clémence Foutieau | M230: Carla PINTO | N230: BALENCIAGA | O230: 35
A231: 10011527 | B231: Christian Tsou | C231: Christian | D231: Christian | E231: Tsou | F231: M | G231: Sales (La Samaritaine) | H231: Sales associate | I231: Fashion Women | J231: 0 | K231: Mathilde Bellenger | L231: Clémence Foutieau | M231: Carla PINTO | N231: BALENCIAGA | O231: 35
A232: 10011507 | B232: Julien Abad | C232: Julien | D232: Julien | E232: Abad | F232: M | G232: Sales (La Samaritaine) | H232: Sales associate | I232: Fashion Women | J232: 0 | K232: Morgan Pioger-Rocaboy | L232: David KIM | M232: Carla PINTO | N232: BOTTEGA VENETA | O232: 28
... A310: 10011449 | B310: Huiyuan Wang | C310: Huiyuan | D310: Huiyuan | E310: Wang | F310: F | G310: Sales (La Samaritaine) | H310: Sales associate | I310: Fashion Women | J310: 0 | K310: Morgan Pioger-Rocaboy | L310: David KIM | M310: Carla PINTO | N310: YSL | O310: 35
A311: 10010916 | B311: Min AI | C311: Min | D311: Min | E311: AI | F311: F | G311: Sales (La Samaritaine) | H311: Team Lead | I311: Fashion Women | J311: 1 | L311: Sophie Clement | M311: Carla PINTO | O311: 35
A312: 10011363 | B312: Francesca Attisano | C312: Francesca | D312: Francesca | E312: Attisano | F312: F | G312: Client Relationship Management (France) | H312: Personal Shopper | I312: Fashion Women | J312: 0 | L312: Sophie Clement | M312: Carla PINTO | O312: 35
A313: 10010930 | B313: Mathilde Bellenger | C313: Mathilde | D313: Mathilde | E313: Bellenger | F313: F | G313: Sales (La Samaritaine) | H313: Team Lead | I313: Fashion Women | J313: 0 | L313: Clémence Foutieau | M313: Carla PINTO | O313: 35
A314: 10011049 | B314: Sophie Isabelle Caroline Clement | C314: Sophie | D314: Sophie | E314: Clement | F314: F | G314: Paris La Samaritaine | H314: Product Sales Manager | I314: Fashion Women | M314: Carla PINTO | O314: 35
A315: 10011129 | B315: Maud Estevenon | C315: Maud | D315: Maud | E315: Estevenon | F315: F | G315: Sales (La Samaritaine) | H315: Team Lead | I315: Fashion Women | J315: 0 | L315: Clémence Foutieau | M315: Carla PINTO | O315: 35
A316: 2220084 | B316: Clemence Foutieau | C316: Clemence | D316: Clemence | E316: Foutieau | F316: F | G316: Paris La Samaritaine | H316: Product Sales Manager | I316: Fashion Women | M316: Carla PINTO | O316: 35
A317: 10011180 | B317: Caroline Hibon | C317: Caroline | D317: Caroline | E317: Hibon | F317: F | G317: Sales (La Samaritaine) | H317: Team Lead | I317: Fashion Women | J317: 0 | L317: David KIM | M317: Carla PINTO | O317: 35
A318: 10010920 | B318: Dong Youn Kim | C318: David | D318: Dong Youn | E318: Kim | F318: M | G318: Paris La Samaritaine | H318: Product Sales Manager | I318: Fashion Women | M318: Carla PINTO | O318: 35
A319: 10011044 | B319: Anna Kobylianskaia | C319: Anna | D319: Anna | E319: Kobylianskaia | F319: F | G319: Client Relationship Management (France) | H319: Personal Shopper | I319: Fashion Women | J319: 0 | L319: Sophie Clement | M319: Carla PINTO | O319: 35
A320: 10010686 | B320: Carla Mateus Pinto | C320: Carla | D320: Carla | E320: Mateus Pinto | F320: F | G320: Paris La Samaritaine | H320: Assistant General Manager Sales | I320: Fashion Women | O320: 35
A321: 10011100 | B321: Marie Muresianu | C321: Marie | D321: Marie | E321: Muresianu | F321: F | G321: Sales (La Samaritaine) | H321: Team Lead | I321: Fashion Women | J321: 1 | L321: Sophie Clement | M321: Carla PINTO | O321: 35
A322: 10010810 | B322: Morgan Pioger-Rocaboy | C322: Morgan | D322: Morgan | E322: Pioger-Rocaboy | F322: M | G322: Paris La Samaritaine | H322: Team Lead | I322: Fashion Women | J322: 0 | L322: David KIM | M322: Carla PINTO | O322: 35
A323: 10011061 | B323: Natalie Abecassis | C323: Natalie | D323: Natalie | E323: Abecassis | F323: F | G323: Operations (La Samaritaine) | H323: Product Support Manager | I323: Logistic | J323: -2 | O323: 35
A324: 10011098 | B324: Inass Atmane | C324: Inass | D324: Inass | E324: Atmane | F324: F | G324: Operations (La Samaritaine) | H324: Product Support Stock | I324: Logistic | J324: -2 | L324: Natalie ABECASSIS | M324: Natalie ABECASSIS | O324: 35
...

Sheet Juillet
A1: Mois | E1: 7 | I1: SA | J1: kl | K1: =VLOOKUP($J$1,DATA!$I:$K,3,0) -> 10011411
A3: Année | C3: 2021 | I3: Total CA | J3: =G38+K38+O38+S38+W38+AA38+AE38+AI38+AM38+AQ38+AU38+AY38+AY38+BC38+BG38+BK38+BO38+BS38+BW38+CA38+CE38+CI38+CM38 -> 18548.8 | M3: Commission | N3: =G39+K39+O39+S39+W39+AA39+AE39+AI39+AM39+AQ39+AU39+AY39+BC39+BC39+BG39+BK39+BO39+BS39+BW39+CA39+CE39+CI39+CM39+CQ30 -> 256.3955
E5: Acne | I5: Alfred Dunhill | M5: Anderson's | Q5: Balenciaga | U5: Bally | Y5: Balmain | AC5: Bleu de Chauffe | AG5: Bottega Veneta | AK5: Burberry | AO5: Givenchy | AS5: Kenzo | AW5: Lacoste | BA5: Maison Margiela | BE5: Moncler | BI5: Off-White | BM5: Polo Ralph Lauren | BQ5: Salvatore Ferragamo | BU5: Smythson | BY5: Stone Island | CC5: Thom Browne | CG5: Versace | CK5: YSL
A6: JOUR | C6: JOURNEE | E6: Units | F6: T | G6: Sales HT | I6: Units | J6: T | K6: Sales HT | M6: Units | N6: T | O6: Sales HT | Q6: Units | R6: T | S6: Sales HT | U6: Units | V6: T | W6: Sales HT | Y6: Units | Z6: T | AA6: Sales HT | AC6: Units | AD6: T | AE6: Sales HT | AG6: Units | AH6: T | AI6: Sales HT | AK6: Units | AL6: T | AM6: Sales HT | AO6: Units | AP6: T | AQ6: Sales HT | AS6: Units | AT6: T | AU6: Sales HT | AW6: Units | AX6: T | AY6: Sales HT | BA6: Units | BB6: T | BC6: Sales HT | BE6: Units | BF6: T | BG6: Sales HT | BI6: Units | BJ6: T | BK6: Sales HT | BM6: Units | BN6: T | BO6: Sales HT | BQ6: Units | BR6: T | BS6: Sales HT | BU6: Units | BV6: T | BW6: Sales HT | BY6: Units | BZ6: T | CA6: Sales HT | CC6: Units | CD6: T | CE6: Sales HT | CG6: Units | CH6: T | CI6: Sales HT | CK6: Units | CL6: T | CM6: Sales HT
A7: 1 | B7: =DATE(AnneeCalendrier,NumMOIS,A7) -> 44378 | C7: =DATE($C$3,$E$1,A7) -> 44378 | D7: =$E$5&$K$1&TEXT($B7,"jj/mm/aaaa") -> Acne1001141101/07/2021 | E7: =_xlfn.XLOOKUP($D7,DATA_BRAND!$G:$G,DATA_BRAND!$D:$D,"") | F7: =_xlfn.XLOOKUP($D7,DATA_BRAND!$G:$G,DATA_BRAND!$E:$E,"") | G7: =_xlfn.XLOOKUP($D7,DATA_BRAND!$G:$G,DATA_BRAND!$F:$F,"") | H7: =$I$5&$K$1&TEXT($B7,"jj/mm/aaaa") -> Alfred Dunhill1001141101/07/2021 | I7: =_xlfn.XLOOKUP($H7,DATA_BRAND!$G:$G,DATA_BRAND!$D:$D,"") | J7: =_xlfn.XLOOKUP($H7,DATA_BRAND!$G:$G,DATA_BRAND!$E:$E,"") | K7: =_xlfn.XLOOKUP($H7,DATA_BRAND!$G:$G,DATA_BRAND!$F:$F,"") | L7: =$M$5&$K$1&TEXT($B7,"jj/mm/aaaa") -> Anderson's1001141101/07/2021 | M7: =_xlfn.XLOOKUP($L7,DATA_BRAND!$G:$G,DATA_BRAND!$D:$D,"") | N7: =_xlfn.XLOOKUP($L7,DATA_BRAND!$G:$G,DATA_BRAND!$E:$E,"") | O7: =_xlfn.XLOOKUP($L7,DATA_BRAND!$G:$G,DATA_BRAND!$F:$F,"") | P7: =$Q$5&$K$1&TEXT($B7,"jj/mm/aaaa") -> Balenciaga1001141101/07/2021 | Q7: =_xlfn.XLOOKUP($P7,DATA_BRAND!$G:$G,DATA_BRAND!$D:$D,"") | R7: =_xlfn.XLOOKUP($P7,DATA_BRAND!$G:$G,DATA_BRAND!$E:$E,"") | S7: =_xlfn.XLOOKUP($P7,DATA_BRAND!$G:$G,DATA_BRAND!$F:$F,"") | T7: =$U$5&$K$1&TEXT($B7,"jj/mm/aaaa") -> Bally1001141101/07/2021 | U7: =_xlfn.XLOOKUP($T7,DATA_BRAND!$G:$G,DATA_BRAND!$D:$D,"") | V7: =_xlfn.XLOOKUP($T7,DATA_BRAND!$G:$G,DATA_BRAND!$E:$E,"") | W7: =_xlfn.XLOOKUP($T7,DATA_BRAND!$G:$G,DATA_BRAND!$F:$F,"") | X7: =$Y$5&$K$1&TEXT($B7,"jj/mm/aaaa") -> Balmain1001141101/07/2021 | Y7: =_xlfn.XLOOKUP($X7,DATA_BRAND!$G:$G,DATA_BRAND!$D:$D,"") | Z7: =_xlfn.XLOOKUP($X7,DATA_BRAND!$G:$G,DATA_BRAND!$E:$E,"") | AA7: =_xlfn.XLOOKUP($X7,DATA_BRAND!$G:$G,DATA_BRAND!$F:$F,"") | AB7: =$AC$5&$K$1&TEXT($B7,"jj/mm/aaaa") -> Bleu de Chauffe1001141101/07/2021 | AC7: =_xlfn.XLOOKUP($AB7,DATA_BRAND!$G:$G,DATA_BRAND!$D:$D,"") | AD7: =_xlfn.XLOOKUP($AB7,DATA_BRAND!$G:$G,DATA_BRAND!$E:$E,"") | AE7: =_xlfn.XLOOKUP($AB7,DATA_BRAND!$G:$G,DATA_BRAND!$F:$F,"") | AF7: =$AG$5&$K$1&TEXT($B7,"jj/mm/aaaa") -> Bottega Veneta1001141101/07/2021 | AG7: =_xlfn.XLOOKUP($AF7,DATA_BRAND!$G:$G,DATA_BRAND!$D:$D,"") | AH7: =_xlfn.XLOOKUP($AF7,DATA_BRAND!$G:$G,DATA_BRAND!$E:$E,"") | AI7: =_xlfn.XLOOKUP($AF7,DATA_BRAND!$G:$G,DATA_BRAND!$F:$F,"") | AJ7: =$AK$5&$K$1&TEXT($B7,"jj/mm/aaaa") -> Burberry1001141101/07/2021 | AK7: =_xlfn.XLOOKUP($AJ7,DATA_BRAND!$G:$G,DATA_BRAND!$D:$D,"") | AL7: =_xlfn.XLOOKUP($AJ7,DATA_BRAND!$G:$G,DATA_BRAND!$E:$E,"") | AM7: =_xlfn.XLOOKUP($AJ7,DATA_BRAND!$G:$G,DATA_BRAND!$F:$F,"") | AN7: =$AO$5&$K$1&TEXT($B7,"jj/mm/aaaa") -> Givenchy1001141101/07/2021 | AO7: =_xlfn.XLOOKUP($AN7,DATA_BRAND!$G:$G,DATA_BRAND!$D:$D,"") | AP7: =_xlfn.XLOOKUP($AN7,DATA_BRAND!$G:$G,DATA_BRAND!$E:$E,"") | AQ7: =_xlfn.XLOOKUP($AN7,DATA_BRAND!$G:$G,DATA_BRAND!$F:$F,"") | AR7: =$AS$5&$K$1&TEXT($B7,"jj/mm/aaaa") -> Kenzo1001141101/07/2021 | AS7: =_xlfn.XLOOKUP($AR7,DATA_BRAND!$G:$G,DATA_BRAND!$D:$D,"") | AT7: =_xlfn.XLOOKUP($AR7,DATA_BRAND!$G:$G,DATA_BRAND!$E:$E,"") | AU7: =_xlfn.XLOOKUP($AR7,DATA_BRAND!$G:$G,DATA_BRAND!$F:$F,"") | AV7: =$AW$5&$K$1&TEXT($B7,"jj/mm/aaaa") -> Lacoste1001141101/07/2021 | AW7: =_xlfn.XLOOKUP($AV7,DATA_BRAND!$G:$G,DATA_BRAND!$D:$D,"") | AX7: =_xlfn.XLOOKUP($AV7,DATA_BRAND!$G:$G,DATA_BRAND!$E:$E,"") | AY7: =_xlfn.XLOOKUP($AV7,DATA_BRAND!$G:$G,DATA_BRAND!$F:$F,"") | AZ7: =$BA$5&$K$1&TEXT($B7,"jj/mm/aaaa") -> Maison Margiela1001141101/07/2021 | BA7: =_xlfn.XLOOKUP($AZ7,DATA_BRAND!$G:$G,DATA_BRAND!$D:$D,"") | BB7: =_xlfn.XLOOKUP($AZ7,DATA_BRAND!$G:$G,DATA_BRAND!$E:$E,"") | BC7: =_xlfn.XLOOKUP($AZ7,DATA_BRAND!$G:$G,DATA_BRAND!$F:$F,"") | BD7: =$BE$5&$K$1&TEXT($B7,"jj/mm/aaaa") -> Moncler1001141101/07/2021 | BE7: =_xlfn.XLOOKUP($BD7,DATA_BRAND!$G:$G,DATA_BRAND!$D:$D,"") | BF7: =_xlfn.XLOOKUP($BD7,DATA_BRAND!$G:$G,DATA_BRAND!$E:$E,"") | BG7: =_xlfn.XLOOKUP($BD7,DATA_BRAND!$G:$G,DATA_BRAND!$F:$F,"") | BH7: =$BI$5&$K$1&TEXT($B7,"jj/mm/aaaa") -> Off-White1001141101/07/2021 | BI7: =_xlfn.XLOOKUP($BH7,DATA_BRAND!$G:$G,DATA_BRAND!$D:$D,"") | BJ7: =_xlfn.XLOOKUP($BH7,DATA_BRAND!$G:$G,DATA_BRAND!$E:$E,"") | BK7: =_xlfn.XLOOKUP($BH7,DATA_BRAND!$G:$G,DATA_BRAND!$F:$F,"") | BL7: =$BM$5&$K$1&TEXT($B7,"jj/mm/aaaa") -> Polo Ralph Lauren1001141101/07/2021 | BM7: =_xlfn.XLOOKUP($BL7,DATA_BRAND!$G:$G,DATA_BRAND!$D:$D,"") | BN7: =_xlfn.XLOOKUP($BL7,DATA_BRAND!$G:$G,DATA_BRAND!$E:$E,"") | BO7: =_xlfn.XLOOKUP($BL7,DATA_BRAND!$G:$G,DATA_BRAND!$F:$F,"") | BP7: =$BQ$5&$K$1&TEXT($B7,"jj/mm/aaaa") -> Salvatore Ferragamo1001141101/07/2021 | BQ7: =_xlfn.XLOOKUP($BP7,DATA_BRAND!$G:$G,DATA_BRAND!$D:$D,"") | BR7: =_xlfn.XLOOKUP($BP7,DATA_BRAND!$G:$G,DATA_BRAND!$E:$E,"") | BS7: =_xlfn.XLOOKUP($BP7,DATA_BRAND!$G:$G,DATA_BRAND!$F:$F,"") | BT7: =$BU$5&$K$1&TEXT($B7,"jj/mm/aaaa") -> Smythson1001141101/07/2021 | BU7: =_xlfn.XLOOKUP($BT7,DATA_BRAND!$G:$G,DATA_BRAND!$D:$D,"") | BV7: =_xlfn.XLOOKUP($BT7,DATA_BRAND!$G:$G,DATA_BRAND!$E:$E,"") | BW7: =_xlfn.XLOOKUP($BT7,DATA_BRAND!$G:$G,DATA_BRAND!$F:$F,"") | BX7: =$BY$5&$K$1&TEXT($B7,"jj/mm/aaaa") -> Stone Island1001141101/07/2021 | BY7: =_xlfn.XLOOKUP($BX7,DATA_BRAND!$G:$G,DATA_BRAND!$D:$D,"") | BZ7: =_xlfn.XLOOKUP($BX7,DATA_BRAND!$G:$G,DATA_BRAND!$E:$E,"") | CA7: =_xlfn.XLOOKUP($BX7,DATA_BRAND!$G:$G,DATA_BRAND!$F:$F,"") | CB7: =$CC$5&$K$1&TEXT($B7,"jj/mm/aaaa") -> Thom Browne1001141101/07/2021 | CC7: =_xlfn.XLOOKUP($CB7,DATA_BRAND!$G:$G,DATA_BRAND!$D:$D,"") | CD7: =_xlfn.XLOOKUP($CB7,DATA_BRAND!$G:$G,DATA_BRAND!$E:$E,"") | CE7: =_xlfn.XLOOKUP($CB7,DATA_BRAND!$G:$G,DATA_BRAND!$F:$F,"") | CF7: =$CG$5&$K$1&TEXT($B7,"jj/mm/aaaa") -> Versace1001141101/07/2021 | CG7: =_xlfn.XLOOKUP($CF7,DATA_BRAND!$G:$G,DATA_BRAND!$D:$D,"") | CH7: =_xlfn.XLOOKUP($CF7,DATA_BRAND!$G:$G,DATA_BRAND!$E:$E,"") | CI7: =_xlfn.XLOOKUP($CF7,DATA_BRAND!$G:$G,DATA_BRAND!$F:$F,"") | CJ7: =$CK$5&$K$1&TEXT($B7,"jj/mm/aaaa") -> YSL1001141101/07/2021 | CK7: =_xlfn.XLOOKUP($CJ7,DATA_BRAND!$G:$G,DATA_BRAND!$D:$D,"") | CL7: =_xlfn.XLOOKUP($CJ7,DATA_BRAND!$G:$G,DATA_BRAND!$E:$E,"") | CM7: =_xlfn.XLOOKUP($CJ7,DATA_BRAND!$G:$G,DATA_BRAND!$F:$F,"")
A8: 2 | B8: =DATE(AnneeCalendrier,NumMOIS,A8) -> 44379 | C8: =DATE($C$3,$E$1,A8) -> 44379 | D8: =$E$5&$K$1&TEXT($B8,"jj/mm/aaaa") -> Acne1001141102/07/2021 | E8: =_xlfn.XLOOKUP($D8,DATA_BRAND!$G:$G,DATA_BRAND!$D:$D,"") | F8: =_xlfn.XLOOKUP($D8,DATA_BRAND!$G:$G,DATA_BRAND!$E:$E,"") | G8: =_xlfn.XLOOKUP($D8,DATA_BRAND!$G:$G,DATA_BRAND!$F:$F,"") | H8: =$I$5&$K$1&TEXT($B8,"jj/mm/aaaa") -> Alfred Dunhill1001141102/07/2021 | I8: =_xlfn.XLOOKUP($H8,DATA_BRAND!$G:$G,DATA_BRAND!$D:$D,"") | J8: =_xlfn.XLOOKUP($H8,DATA_BRAND!$G:$G,DATA_BRAND!$E:$E,"") | K8: =_xlfn.XLOOKUP($H8,DATA_BRAND!$G:$G,DATA_BRAND!$F:$F,"") | L8: =$M$5&$K$1&TEXT($B8,"jj/mm/aaaa") -> Anderson's1001141102/07/2021 | M8: =_xlfn.XLOOKUP($L8,DATA_BRAND!$G:$G,DATA_BRAND!$D:$D,"") | N8: =_xlfn.XLOOKUP($L8,DATA_BRAND!$G:$G,DATA_BRAND!$E:$E,"") | O8: =_xlfn.XLOOKUP($L8,DATA_BRAND!$G:$G,DATA_BRAND!$F:$F,"") | P8: =$Q$5&$K$1&TEXT($B8,"jj/mm/aaaa") -> Balenciaga1001141102/07/2021 | Q8: =_xlfn.XLOOKUP($P8,DATA_BRAND!$G:$G,DATA_BRAND!$D:$D,"") | R8: =_xlfn.XLOOKUP($P8,DATA_BRAND!$G:$G,DATA_BRAND!$E:$E,"") | S8: =_xlfn.XLOOKUP($P8,DATA_BRAND!$G:$G,DATA_BRAND!$F:$F,"") | T8: =$U$5&$K$1&TEXT($B8,"jj/mm/aaaa") -> Bally1001141102/07/2021 | U8: =_xlfn.XLOOKUP($T8,DATA_BRAND!$G:$G,DATA_BRAND!$D:$D,"") | V8: =_xlfn.XLOOKUP($T8,DATA_BRAND!$G:$G,DATA_BRAND!$E:$E,"") | W8: =_xlfn.XLOOKUP($T8,DATA_BRAND!$G:$G,DATA_BRAND!$F:$F,"") | X8: =$Y$5&$K$1&TEXT($B8,"jj/mm/aaaa") -> Balmain1001141102/07/2021 | Y8: =_xlfn.XLOOKUP($X8,DATA_BRAND!$G:$G,DATA_BRAND!$D:$D,"") | Z8: =_xlfn.XLOOKUP($X8,DATA_BRAND!$G:$G,DATA_BRAND!$E:$E,"") | AA8: =_xlfn.XLOOKUP($X8,DATA_BRAND!$G:$G,DATA_BRAND!$F:$F,"") | AB8: =$AC$5&$K$1&TEXT($B8,"jj/mm/aaaa") -> Bleu de Chauffe1001141102/07/2021 | AC8: =_xlfn.XLOOKUP($AB8,DATA_BRAND!$G:$G,DATA_BRAND!$D:$D,"") | AD8: =_xlfn.XLOOKUP($AB8,DATA_BRAND!$G:$G,DATA_BRAND!$E:$E,"") | AE8: =_xlfn.XLOOKUP($AB8,DATA_BRAND!$G:$G,DATA_BRAND!$F:$F,"") | AF8: =$AG$5&$K$1&TEXT($B8,"jj/mm/aaaa") -> Bottega Veneta1001141102/07/2021 | AG8: =_xlfn.XLOOKUP($AF8,DATA_BRAND!$G:$G,DATA_BRAND!$D:$D,"") | AH8: =_xlfn.XLOOKUP($AF8,DATA_BRAND!$G:$G,DATA_BRAND!$E:$E,"") | AI8: =_xlfn.XLOOKUP($AF8,DATA_BRAND!$G:$G,DATA_BRAND!$F:$F,"") | AJ8: =$AK$5&$K$1&TEXT($B8,"jj/mm/aaaa") -> Burberry1001141102/07/2021 | AK8: =_xlfn.XLOOKUP($AJ8,DATA_BRAND!$G:$G,DATA_BRAND!$D:$D,"") | AL8: =_xlfn.XLOOKUP($AJ8,DATA_BRAND!$G:$G,DATA_BRAND!$E:$E,"") | AM8: =_xlfn.XLOOKUP($AJ8,DATA_BRAND!$G:$G,DATA_BRAND!$F:$F,"") | AN8: =$AO$5&$K$1&TEXT($B8,"jj/mm/aaaa") -> Givenchy1001141102/07/2021 | AO8: =_xlfn.XLOOKUP($AN8,DATA_BRAND!$G:$G,DATA_BRAND!$D:$D,"") | AP8: =_xlfn.XLOOKUP($AN8,DATA_BRAND!$G:$G,DATA_BRAND!$E:$E,"") | AQ8: =_xlfn.XLOOKUP($AN8,DATA_BRAND!$G:$G,DATA_BRAND!$F:$F,"") | AR8: =$AS$5&$K$1&TEXT($B8,"jj/mm/aaaa") -> Kenzo1001141102/07/2021 | AS8: =_xlfn.XLOOKUP($AR8,DATA_BRAND!$G:$G,DATA_BRAND!$D:$D,"") | AT8: =_xlfn.XLOOKUP($AR8,DATA_BRAND!$G:$G,DATA_BRAND!$E:$E,"") | AU8: =_xlfn.XLOOKUP($AR8,DATA_BRAND!$G:$G,DATA_BRAND!$F:$F,"") | AV8: =$AW$5&$K$1&TEXT($B8,"jj/mm/aaaa") -> Lacoste1001141102/07/2021 | AW8: =_xlfn.XLOOKUP($AV8,DATA_BRAND!$G:$G,DATA_BRAND!$D:$D,"") | AX8: =_xlfn.XLOOKUP($AV8,DATA_BRAND!$G:$G,DATA_BRAND!$E:$E,"") | AY8: =_xlfn.XLOOKUP($AV8,DATA_BRAND!$G:$G,DATA_BRAND!$F:$F,"") | AZ8: =$BA$5&$K$1&TEXT($B8,"jj/mm/aaaa") -> Maison Margiela1001141102/07/2021 | BA8: =_xlfn.XLOOKUP($AZ8,DATA_BRAND!$G:$G,DATA_BRAND!$D:$D,"") | BB8: =_xlfn.XLOOKUP($AZ8,DATA_BRAND!$G:$G,DATA_BRAND!$E:$E,"") | BC8: =_xlfn.XLOOKUP($AZ8,DATA_BRAND!$G:$G,DATA_BRAND!$F:$F,"") | BD8: =$BE$5&$K$1&TEXT($B8,"jj/mm/aaaa") -> Moncler1001141102/07/2021 | BE8: =_xlfn.XLOOKUP($BD8,DATA_BRAND!$G:$G,DATA_BRAND!$D:$D,"") | BF8: =_xlfn.XLOOKUP($BD8,DATA_BRAND!$G:$G,DATA_BRAND!$E:$E,"") | BG8: =_xlfn.XLOOKUP($BD8,DATA_BRAND!$G:$G,DATA_BRAND!$F:$F,"") | BH8: =$BI$5&$K$1&TEXT($B8,"jj/mm/aaaa") -> Off-White1001141102/07/2021 | BI8: =_xlfn.XLOOKUP($BH8,DATA_BRAND!$G:$G,DATA_BRAND!$D:$D,"") | BJ8: =_xlfn.XLOOKUP($BH8,DATA_BRAND!$G:$G,DATA_BRAND!$E:$E,"") | BK8: =_xlfn.XLOOKUP($BH8,DATA_BRAND!$G:$G,DATA_BRAND!$F:$F,"") | BL8: =$BM$5&$K$1&TEXT($B8,"jj/mm/aaaa") -> Polo Ralph Lauren1001141102/07/2021 | BM8: =_xlfn.XLOOKUP($BL8,DATA_BRAND!$G:$G,DATA_BRAND!$D:$D,"") | BN8: =_xlfn.XLOOKUP($BL8,DATA_BRAND!$G:$G,DATA_BRAND!$E:$E,"") | BO8: =_xlfn.XLOOKUP($BL8,DATA_BRAND!$G:$G,DATA_BRAND!$F:$F,"") | BP8: =$BQ$5&$K$1&TEXT($B8,"jj/mm/aaaa") -> Salvatore Ferragamo1001141102/07/2021 | BQ8: =_xlfn.XLOOKUP($BP8,DATA_BRAND!$G:$G,DATA_BRAND!$D:$D,"") | BR8: =_xlfn.XLOOKUP($BP8,DATA_BRAND!$G:$G,DATA_BRAND!$E:$E,"") | BS8: =_xlfn.XLOOKUP($BP8,DATA_BRAND!$G:$G,DATA_BRAND!$F:$F,"") | BT8: =$BU$5&$K$1&TEXT($B8,"jj/mm/aaaa") -> Smythson1001141102/07/2021 | BU8: =_xlfn.XLOOKUP($BT8,DATA_BRAND!$G:$G,DATA_BRAND!$D:$D,"") | BV8: =_xlfn.XLOOKUP($BT8,DATA_BRAND!$G:$G,DATA_BRAND!$E:$E,"") | BW8: =_xlfn.XLOOKUP($BT8,DATA_BRAND!$G:$G,DATA_BRAND!$F:$F,"") | BX8: =$BY$5&$K$1&TEXT($B8,"jj/mm/aaaa") -> Stone Island1001141102/07/2021 | BY8: =_xlfn.XLOOKUP($BX8,DATA_BRAND!$G:$G,DATA_BRAND!$D:$D,"") | BZ8: =_xlfn.XLOOKUP($BX8,DATA_BRAND!$G:$G,DATA_BRAND!$E:$E,"") | CA8: =_xlfn.XLOOKUP($BX8,DATA_BRAND!$G:$G,DATA_BRAND!$F:$F,"") | CB8: =$CC$5&$K$1&TEXT($B8,"jj/mm/aaaa") -> Thom Browne1001141102/07/2021 | CC8: =_xlfn.XLOOKUP($CB8,DATA_BRAND!$G:$G,DATA_BRAND!$D:$D,"") | CD8: =_xlfn.XLOOKUP($CB8,DATA_BRAND!$G:$G,DATA_BRAND!$E:$E,"") | CE8: =_xlfn.XLOOKUP($CB8,DATA_BRAND!$G:$G,DATA_BRAND!$F:$F,"") | CF8: =$CG$5&$K$1&TEXT($B8,"jj/mm/aaaa") -> Versace1001141102/07/2021 | CG8: =_xlfn.XLOOKUP($CF8,DATA_BRAND!$G:$G,DATA_BRAND!$D:$D,"") | CH8: =_xlfn.XLOOKUP($CF8,DATA_BRAND!$G:$G,DATA_BRAND!$E:$E,"") | CI8: =_xlfn.XLOOKUP($CF8,DATA_BRAND!$G:$G,DATA_BRAND!$F:$F,"") | CJ8: =$CK$5&$K$1&TEXT($B8,"jj/mm/aaaa") -> YSL1001141102/07/2021 | CK8: =_xlfn.XLOOKUP($CJ8,DATA_BRAND!$G:$G,DATA_BRAND!$D:$D,"") | CL8: =_xlfn.XLOOKUP($CJ8,DATA_BRAND!$G:$G,DATA_BRAND!$E:$E,"") | CM8: =_xlfn.XLOOKUP($CJ8,DATA_BRAND!$G:$G,DATA_BRAND!$F:$F,"")
A9: 3 | B9: =DATE(AnneeCalendrier,NumMOIS,A9) -> 44380 | C9: =DATE($C$3,$E$1,A9) -> 44380 | D9: =$E$5&$K$1&TEXT($B9,"jj/mm/aaaa") -> Acne1001141103/07/2021 | E9: =_xlfn.XLOOKUP($D9,DATA_BRAND!$G:$G,DATA_BRAND!$D:$D,"") | F9: =_xlfn.XLOOKUP($D9,DATA_BRAND!$G:$G,DATA_BRAND!$E:$E,"") | G9: =_xlfn.XLOOKUP($D9,DATA_BRAND!$G:$G,DATA_BRAND!$F:$F,"") | H9: =$I$5&$K$1&TEXT($B9,"jj/mm/aaaa") -> Alfred Dunhill1001141103/07/2021 | I9: =_xlfn.XLOOKUP($H9,DATA_BRAND!$G:$G,DATA_BRAND!$D:$D,"") | J9: =_xlfn.XLOOKUP($H9,DATA_BRAND!$G:$G,DATA_BRAND!$E:$E,"") | K9: =_xlfn.XLOOKUP($H9,DATA_BRAND!$G:$G,DATA_BRAND!$F:$F,"") | L9: =$M$5&$K$1&TEXT($B9,"jj/mm/aaaa") -> Anderson's1001141103/07/2021 | M9: =_xlfn.XLOOKUP($L9,DATA_BRAND!$G:$G,DATA_BRAND!$D:$D,"") | N9: =_xlfn.XLOOKUP($L9,DATA_BRAND!$G:$G,DATA_BRAND!$E:$E,"") | O9: =_xlfn.XLOOKUP($L9,DATA_BRAND!$G:$G,DATA_BRAND!$F:$F,"") | P9: =$Q$5&$K$1&TEXT($B9,"jj/mm/aaaa") -> Balenciaga1001141103/07/2021 | Q9: =_xlfn.XLOOKUP($P9,DATA_BRAND!$G:$G,DATA_BRAND!$D:$D,"") | R9: =_xlfn.XLOOKUP($P9,DATA_BRAND!$G:$G,DATA_BRAND!$E:$E,"") | S9: =_xlfn.XLOOKUP($P9,DATA_BRAND!$G:$G,DATA_BRAND!$F:$F,"") | T9: =$U$5&$K$1&TEXT($B9,"jj/mm/aaaa") -> Bally1001141103/07/2021 | U9: =_xlfn.XLOOKUP($T9,DATA_BRAND!$G:$G,DATA_BRAND!$D:$D,"") | V9: =_xlfn.XLOOKUP($T9,DATA_BRAND!$G:$G,DATA_BRAND!$E:$E,"") | W9: =_xlfn.XLOOKUP($T9,DATA_BRAND!$G:$G,DATA_BRAND!$F:$F,"") | X9: =$Y$5&$K$1&TEXT($B9,"jj/mm/aaaa") -> Balmain1001141103/07/2021 | Y9: =_xlfn.XLOOKUP($X9,DATA_BRAND!$G:$G,DATA_BRAND!$D:$D,"") | Z9: =_xlfn.XLOOKUP($X9,DATA_BRAND!$G:$G,DATA_BRAND!$E:$E,"") | AA9: =_xlfn.XLOOKUP($X9,DATA_BRAND!$G:$G,DATA_BRAND!$F:$F,"") | AB9: =$AC$5&$K$1&TEXT($B9,"jj/mm/aaaa") -> Bleu de Chauffe1001141103/07/2021 | AC9: =_xlfn.XLOOKUP($AB9,DATA_BRAND!$G:$G,DATA_BRAND!$D:$D,"") | AD9: =_xlfn.XLOOKUP($AB9,DATA_BRAND!$G:$G,DATA_BRAND!$E:$E,"") | AE9: =_xlfn.XLOOKUP($AB9,DATA_BRAND!$G:$G,DATA_BRAND!$F:$F,"") | AF9: =$AG$5&$K$1&TEXT($B9,"jj/mm/aaaa") -> Bottega Veneta1001141103/07/2021 | AG9: =_xlfn.XLOOKUP($AF9,DATA_BRAND!$G:$G,DATA_BRAND!$D:$D,"") | AH9: =_xlfn.XLOOKUP($AF9,DATA_BRAND!$G:$G,DATA_BRAND!$E:$E,"") | AI9: =_xlfn.XLOOKUP($AF9,DATA_BRAND!$G:$G,DATA_BRAND!$F:$F,"") | AJ9: =$AK$5&$K$1&TEXT($B9,"jj/mm/aaaa") -> Burberry1001141103/07/2021 | AK9: =_xlfn.XLOOKUP($AJ9,DATA_BRAND!$G:$G,DATA_BRAND!$D:$D,"") | AL9: =_xlfn.XLOOKUP($AJ9,DATA_BRAND!$G:$G,DATA_BRAND!$E:$E,"") | AM9: =_xlfn.XLOOKUP($AJ9,DATA_BRAND!$G:$G,DATA_BRAND!$F:$F,"") | AN9: =$AO$5&$K$1&TEXT($B9,"jj/mm/aaaa") -> Givenchy1001141103/07/2021 | AO9: =_xlfn.XLOOKUP($AN9,DATA_BRAND!$G:$G,DATA_BRAND!$D:$D,"") | AP9: =_xlfn.XLOOKUP($AN9,DATA_BRAND!$G:$G,DATA_BRAND!$E:$E,"") | AQ9: =_xlfn.XLOOKUP($AN9,DATA_BRAND!$G:$G,DATA_BRAND!$F:$F,"") | AR9: =$AS$5&$K$1&TEXT($B9,"jj/mm/aaaa") -> Kenzo1001141103/07/2021 | AS9: =_xlfn.XLOOKUP($AR9,DATA_BRAND!$G:$G,DATA_BRAND!$D:$D,"") | AT9: =_xlfn.XLOOKUP($AR9,DATA_BRAND!$G:$G,DATA_BRAND!$E:$E,"") | AU9: =_xlfn.XLOOKUP($AR9,DATA_BRAND!$G:$G,DATA_BRAND!$F:$F,"") | AV9: =$AW$5&$K$1&TEXT($B9,"jj/mm/aaaa") -> Lacoste1001141103/07/2021 | AW9: =_xlfn.XLOOKUP($AV9,DATA_BRAND!$G:$G,DATA_BRAND!$D:$D,"") | AX9: =_xlfn.XLOOKUP($AV9,DATA_BRAND!$G:$G,DATA_BRAND!$E:$E,"") | AY9: =_xlfn.XLOOKUP($AV9,DATA_BRAND!$G:$G,DATA_BRAND!$F:$F,"") | AZ9: =$BA$5&$K$1&TEXT($B9,"jj/mm/aaaa") -> Maison Margiela1001141103/07/2021 | BA9: =_xlfn.XLOOKUP($AZ9,DATA_BRAND!$G:$G,DATA_BRAND!$D:$D,"") | BB9: =_xlfn.XLOOKUP($AZ9,DATA_BRAND!$G:$G,DATA_BRAND!$E:$E,"") | BC9: =_xlfn.XLOOKUP($AZ9,DATA_BRAND!$G:$G,DATA_BRAND!$F:$F,"") | BD9: =$BE$5&$K$1&TEXT($B9,"jj/mm/aaaa") -> Moncler1001141103/07/2021 | BE9: =_xlfn.XLOOKUP($BD9,DATA_BRAND!$G:$G,DATA_BRAND!$D:$D,"") | BF9: =_xlfn.XLOOKUP($BD9,DATA_BRAND!$G:$G,DATA_BRAND!$E:$E,"") | BG9: =_xlfn.XLOOKUP($BD9,DATA_BRAND!$G:$G,DATA_BRAND!$F:$F,"") | BH9: =$BI$5&$K$1&TEXT($B9,"jj/mm/aaaa") -> Off-White1001141103/07/2021 | BI9: =_xlfn.XLOOKUP($BH9,DATA_BRAND!$G:$G,DATA_BRAND!$D:$D,"") | BJ9: =_xlfn.XLOOKUP($BH9,DATA_BRAND!$G:$G,DATA_BRAND!$E:$E,"") | BK9: =_xlfn.XLOOKUP($BH9,DATA_BRAND!$G:$G,DATA_BRAND!$F:$F,"") | BL9: =$BM$5&$K$1&TEXT($B9,"jj/mm/aaaa") -> Polo Ralph Lauren1001141103/07/2021 | BM9: =_xlfn.XLOOKUP($BL9,DATA_BRAND!$G:$G,DATA_BRAND!$D:$D,"") | BN9: =_xlfn.XLOOKUP($BL9,DATA_BRAND!$G:$G,DATA_BRAND!$E:$E,"") | BO9: =_xlfn.XLOOKUP($BL9,DATA_BRAND!$G:$G,DATA_BRAND!$F:$F,"") | BP9: =$BQ$5&$K$1&TEXT($B9,"jj/mm/aaaa") -> Salvatore Ferragamo1001141103/07/2021 | BQ9: =_xlfn.XLOOKUP($BP9,DATA_BRAND!$G:$G,DATA_BRAND!$D:$D,"") | BR9: =_xlfn.XLOOKUP($BP9,DATA_BRAND!$G:$G,DATA_BRAND!$E:$E,"") | BS9: =_xlfn.XLOOKUP($BP9,DATA_BRAND!$G:$G,DATA_BRAND!$F:$F,"") | BT9: =$BU$5&$K$1&TEXT($B9,"jj/mm/aaaa") -> Smythson1001141103/07/2021 | BU9: =_xlfn.XLOOKUP($BT9,DATA_BRAND!$G:$G,DATA_BRAND!$D:$D,"") | BV9: =_xlfn.XLOOKUP($BT9,DATA_BRAND!$G:$G,DATA_BRAND!$E:$E,"") | BW9: =_xlfn.XLOOKUP($BT9,DATA_BRAND!$G:$G,DATA_BRAND!$F:$F,"") | BX9: =$BY$5&$K$1&TEXT($B9,"jj/mm/aaaa") -> Stone Island1001141103/07/2021 | BY9: =_xlfn.XLOOKUP($BX9,DATA_BRAND!$G:$G,DATA_BRAND!$D:$D,"") | BZ9: =_xlfn.XLOOKUP($BX9,DATA_BRAND!$G:$G,DATA_BRAND!$E:$E,"") | CA9: =_xlfn.XLOOKUP($BX9,DATA_BRAND!$G:$G,DATA_BRAND!$F:$F,"") | CB9: =$CC$5&$K$1&TEXT($B9,"jj/mm/aaaa") -> Thom Browne1001141103/07/2021 | CC9: =_xlfn.XLOOKUP($CB9,DATA_BRAND!$G:$G,DATA_BRAND!$D:$D,"") | CD9: =_xlfn.XLOOKUP($CB9,DATA_BRAND!$G:$G,DATA_BRAND!$E:$E,"") | CE9: =_xlfn.XLOOKUP($CB9,DATA_BRAND!$G:$G,DATA_BRAND!$F:$F,"") | CF9: =$CG$5&$K$1&TEXT($B9,"jj/mm/aaaa") -> Versace1001141103/07/2021 | CG9: =_xlfn.XLOOKUP($CF9,DATA_BRAND!$G:$G,DATA_BRAND!$D:$D,"") | CH9: =_xlfn.XLOOKUP($CF9,DATA_BRAND!$G:$G,DATA_BRAND!$E:$E,"") | CI9: =_xlfn.XLOOKUP($CF9,DATA_BRAND!$G:$G,DATA_BRAND!$F:$F,"") | CJ9: =$CK$5&$K$1&TEXT($B9,"jj/mm/aaaa") -> YSL1001141103/07/2021 | CK9: =_xlfn.XLOOKUP($CJ9,DATA_BRAND!$G:$G,DATA_BRAND!$D:$D,"") -> 2 | CL9: =_xlfn.XLOOKUP($CJ9,DATA_BRAND!$G:$G,DATA_BRAND!$E:$E,"") -> 2 | CM9: =_xlfn.XLOOKUP($CJ9,DATA_BRAND!$G:$G,DATA_BRAND!$F:$F,"") -> 816.66
A10: 4 | B10: =DATE(AnneeCalendrier,NumMOIS,A10) -> 44381 | C10: =DATE($C$3,$E$1,A10) -> 44381 | D10: =$E$5&$K$1&TEXT($B10,"jj/mm/aaaa") -> Acne1001141104/07/2021 | E10: =_xlfn.XLOOKUP($D10,DATA_BRAND!$G:$G,DATA_BRAND!$D:$D,"") | F10: =_xlfn.XLOOKUP($D10,DATA_BRAND!$G:$G,DATA_BRAND!$E:$E,"") | G10: =_xlfn.XLOOKUP($D10,DATA_BRAND!$G:$G,DATA_BRAND!$F:$F,"") | H10: =$I$5&$K$1&TEXT($B10,"jj/mm/aaaa") -> Alfred Dunhill1001141104/07/2021 | I10: =_xlfn.XLOOKUP($H10,DATA_BRAND!$G:$G,DATA_BRAND!$D:$D,"") | J10: =_xlfn.XLOOKUP($H10,DATA_BRAND!$G:$G,DATA_BRAND!$E:$E,"") | K10: =_xlfn.XLOOKUP($H10,DATA_BRAND!$G:$G,DATA_BRAND!$F:$F,"") | L10: =$M$5&$K$1&TEXT($B10,"jj/mm/aaaa") -> Anderson's1001141104/07/2021 | M10: =_xlfn.XLOOKUP($L10,DATA_BRAND!$G:$G,DATA_BRAND!$D:$D,"") | N10: =_xlfn.XLOOKUP($L10,DATA_BRAND!$G:$G,DATA_BRAND!$E:$E,"") | O10: =_xlfn.XLOOKUP($L10,DATA_BRAND!$G:$G,DATA_BRAND!$F:$F,"") | P10: =$Q$5&$K$1&TEXT($B10,"jj/mm/aaaa") -> Balenciaga1001141104/07/2021 | Q10: =_xlfn.XLOOKUP($P10,DATA_BRAND!$G:$G,DATA_BRAND!$D:$D,"") | R10: =_xlfn.XLOOKUP($P10,DATA_BRAND!$G:$G,DATA_BRAND!$E:$E,"") | S10: =_xlfn.XLOOKUP($P10,DATA_BRAND!$G:$G,DATA_BRAND!$F:$F,"") | T10: =$U$5&$K$1&TEXT($B10,"jj/mm/aaaa") -> Bally1001141104/07/2021 | U10: =_xlfn.XLOOKUP($T10,DATA_BRAND!$G:$G,DATA_BRAND!$D:$D,"") | V10: =_xlfn.XLOOKUP($T10,DATA_BRAND!$G:$G,DATA_BRAND!$E:$E,"") | W10: =_xlfn.XLOOKUP($T10,DATA_BRAND!$G:$G,DATA_BRAND!$F:$F,"") | X10: =$Y$5&$K$1&TEXT($B10,"jj/mm/aaaa") -> Balmain1001141104/07/2021 | Y10: =_xlfn.XLOOKUP($X10,DATA_BRAND!$G:$G,DATA_BRAND!$D:$D,"") | Z10: =_xlfn.XLOOKUP($X10,DATA_BRAND!$G:$G,DATA_BRAND!$E:$E,"") | AA10: =_xlfn.XLOOKUP($X10,DATA_BRAND!$G:$G,DATA_BRAND!$F:$F,"") | AB10: =$AC$5&$K$1&TEXT($B10,"jj/mm/aaaa") -> Bleu de Chauffe1001141104/07/2021 | AC10: =_xlfn.XLOOKUP($AB10,DATA_BRAND!$G:$G,DATA_BRAND!$D:$D,"") | AD10: =_xlfn.XLOOKUP($AB10,DATA_BRAND!$G:$G,DATA_BRAND!$E:$E,"") | AE10: =_xlfn.XLOOKUP($AB10,DATA_BRAND!$G:$G,DATA_BRAND!$F:$F,"") | AF10: =$AG$5&$K$1&TEXT($B10,"jj/mm/aaaa") -> Bottega Veneta1001141104/07/2021 | AG10: =_xlfn.XLOOKUP($AF10,DATA_BRAND!$G:$G,DATA_BRAND!$D:$D,"") | AH10: =_xlfn.XLOOKUP($AF10,DATA_BRAND!$G:$G,DATA_BRAND!$E:$E,"") | AI10: =_xlfn.XLOOKUP($AF10,DATA_BRAND!$G:$G,DATA_BRAND!$F:$F,"") | AJ10: =$AK$5&$K$1&TEXT($B10,"jj/mm/aaaa") -> Burberry1001141104/07/2021 | AK10: =_xlfn.XLOOKUP($AJ10,DATA_BRAND!$G:$G,DATA_BRAND!$D:$D,"") | AL10: =_xlfn.XLOOKUP($AJ10,DATA_BRAND!$G:$G,DATA_BRAND!$E:$E,"") | AM10: =_xlfn.XLOOKUP($AJ10,DATA_BRAND!$G:$G,DATA_BRAND!$F:$F,"") | AN10: =$AO$5&$K$1&TEXT($B10,"jj/mm/aaaa") -> Givenchy1001141104/07/2021 | AO10: =_xlfn.XLOOKUP($AN10,DATA_BRAND!$G:$G,DATA_BRAND!$D:$D,"") -> 1 | AP10: =_xlfn.XLOOKUP($AN10,DATA_BRAND!$G:$G,DATA_BRAND!$E:$E,"") -> 1 | AQ10: =_xlfn.XLOOKUP($AN10,DATA_BRAND!$G:$G,DATA_BRAND!$F:$F,"") -> 408.33 | AR10: =$AS$5&$K$1&TEXT($B10,"jj/mm/aaaa") -> Kenzo1001141104/07/2021 | AS10: =_xlfn.XLOOKUP($AR10,DATA_BRAND!$G:$G,DATA_BRAND!$D:$D,"") | AT10: =_xlfn.XLOOKUP($AR10,DATA_BRAND!$G:$G,DATA_BRAND!$E:$E,"") | AU10: =_xlfn.XLOOKUP($AR10,DATA_BRAND!$G:$G,DATA_BRAND!$F:$F,"") | AV10: =$AW$5&$K$1&TEXT($B10,"jj/mm/aaaa") -> Lacoste1001141104/07/2021 | AW10: =_xlfn.XLOOKUP($AV10,DATA_BRAND!$G:$G,DATA_BRAND!$D:$D,"") | AX10: =_xlfn.XLOOKUP($AV10,DATA_BRAND!$G:$G,DATA_BRAND!$E:$E,"") | AY10: =_xlfn.XLOOKUP($AV10,DATA_BRAND!$G:$G,DATA_BRAND!$F:$F,"") | AZ10: =$BA$5&$K$1&TEXT($B10,"jj/mm/aaaa") -> Maison Margiela1001141104/07/2021 | BA10: =_xlfn.XLOOKUP($AZ10,DATA_BRAND!$G:$G,DATA_BRAND!$D:$D,"") | BB10: =_xlfn.XLOOKUP($AZ10,DATA_BRAND!$G:$G,DATA_BRAND!$E:$E,"") | BC10: =_xlfn.XLOOKUP($AZ10,DATA_BRAND!$G:$G,DATA_BRAND!$F:$F,"") | BD10: =$BE$5&$K$1&TEXT($B10,"jj/mm/aaaa") -> Moncler1001141104/07/2021 | BE10: =_xlfn.XLOOKUP($BD10,DATA_BRAND!$G:$G,DATA_BRAND!$D:$D,"") | BF10: =_xlfn.XLOOKUP($BD10,DATA_BRAND!$G:$G,DATA_BRAND!$E:$E,"") | BG10: =_xlfn.XLOOKUP($BD10,DATA_BRAND!$G:$G,DATA_BRAND!$F:$F,"") | BH10: =$BI$5&$K$1&TEXT($B10,"jj/mm/aaaa") -> Off-White1001141104/07/2021 | BI10: =_xlfn.XLOOKUP($BH10,DATA_BRAND!$G:$G,DATA_BRAND!$D:$D,"") | BJ10: =_xlfn.XLOOKUP($BH10,DATA_BRAND!$G:$G,DATA_BRAND!$E:$E,"") | BK10: =_xlfn.XLOOKUP($BH10,DATA_BRAND!$G:$G,DATA_BRAND!$F:$F,"") | BL10: =$BM$5&$K$1&TEXT($B10,"jj/mm/aaaa") -> Polo Ralph Lauren1001141104/07/2021 | BM10: =_xlfn.XLOOKUP($BL10,DATA_BRAND!$G:$G,DATA_BRAND!$D:$D,"") | BN10: =_xlfn.XLOOKUP($BL10,DATA_BRAND!$G:$G,DATA_BRAND!$E:$E,"") | BO10: =_xlfn.XLOOKUP($BL10,DATA_BRAND!$G:$G,DATA_BRAND!$F:$F,"") | BP10: =$BQ$5&$K$1&TEXT($B10,"jj/mm/aaaa") -> Salvatore Ferragamo1001141104/07/2021 | BQ10: =_xlfn.XLOOKUP($BP10,DATA_BRAND!$G:$G,DATA_BRAND!$D:$D,"") | BR10: =_xlfn.XLOOKUP($BP10,DATA_BRAND!$G:$G,DATA_BRAND!$E:$E,"") | BS10: =_xlfn.XLOOKUP($BP10,DATA_BRAND!$G:$G,DATA_BRAND!$F:$F,"") | BT10: =$BU$5&$K$1&TEXT($B10,"jj/mm/aaaa") -> Smythson1001141104/07/2021 | BU10: =_xlfn.XLOOKUP($BT10,DATA_BRAND!$G:$G,DATA_BRAND!$D:$D,"") | BV10: =_xlfn.XLOOKUP($BT10,DATA_BRAND!$G:$G,DATA_BRAND!$E:$E,"") | BW10: =_xlfn.XLOOKUP($BT10,DATA_BRAND!$G:$G,DATA_BRAND!$F:$F,"") | BX10: =$BY$5&$K$1&TEXT($B10,"jj/mm/aaaa") -> Stone Island1001141104/07/2021 | BY10: =_xlfn.XLOOKUP($BX10,DATA_BRAND!$G:$G,DATA_BRAND!$D:$D,"") | BZ10: =_xlfn.XLOOKUP($BX10,DATA_BRAND!$G:$G,DATA_BRAND!$E:$E,"") | CA10: =_xlfn.XLOOKUP($BX10,DATA_BRAND!$G:$G,DATA_BRAND!$F:$F,"") | CB10: =$CC$5&$K$1&TEXT($B10,"jj/mm/aaaa") -> Thom Browne1001141104/07/2021 | CC10: =_xlfn.XLOOKUP($CB10,DATA_BRAND!$G:$G,DATA_BRAND!$D:$D,"") | CD10: =_xlfn.XLOOKUP($CB10,DATA_BRAND!$G:$G,DATA_BRAND!$E:$E,"") | CE10: =_xlfn.XLOOKUP($CB10,DATA_BRAND!$G:$G,DATA_BRAND!$F:$F,"") | CF10: =$CG$5&$K$1&TEXT($B10,"jj/mm/aaaa") -> Versace1001141104/07/2021 | CG10: =_xlfn.XLOOKUP($CF10,DATA_BRAND!$G:$G,DATA_BRAND!$D:$D,"") | CH10: =_xlfn.XLOOKUP($CF10,DATA_BRAND!$G:$G,DATA_BRAND!$E:$E,"") | CI10: =_xlfn.XLOOKUP($CF10,DATA_BRAND!$G:$G,DATA_BRAND!$F:$F,"") | CJ10: =$CK$5&$K$1&TEXT($B10,"jj/mm/aaaa") -> YSL1001141104/07/2021 | CK10: =_xlfn.XLOOKUP($CJ10,DATA_BRAND!$G:$G,DATA_BRAND!$D:$D,"") -> 2 | CL10: =_xlfn.XLOOKUP($CJ10,DATA_BRAND!$G:$G,DATA_BRAND!$E:$E,"") -> 2 | CM10: =_xlfn.XLOOKUP($CJ10,DATA_BRAND!$G:$G,DATA_BRAND!$F:$F,"") -> 595.83
A11: 5 | B11: =DATE(AnneeCalendrier,NumMOIS,A11) -> 44382 | C11: =DATE($C$3,$E$1,A11) -> 44382 | D11: =$E$5&$K$1&TEXT($B11,"jj/mm/aaaa") -> Acne1001141105/07/2021 | E11: =_xlfn.XLOOKUP($D11,DATA_BRAND!$G:$G,DATA_BRAND!$D:$D,"") | F11: =_xlfn.XLOOKUP($D11,DATA_BRAND!$G:$G,DATA_BRAND!$E:$E,"") | G11: =_xlfn.XLOOKUP($D11,DATA_BRAND!$G:$G,DATA_BRAND!$F:$F,"") | H11: =$I$5&$K$1&TEXT($B11,"jj/mm/aaaa") -> Alfred Dunhill1001141105/07/2021 | I11: =_xlfn.XLOOKUP($H11,DATA_BRAND!$G:$G,DATA_BRAND!$D:$D,"") | J11: =_xlfn.XLOOKUP($H11,DATA_BRAND!$G:$G,DATA_BRAND!$E:$E,"") | K11: =_xlfn.XLOOKUP($H11,DATA_BRAND!$G:$G,DATA_BRAND!$F:$F,"") | L11: =$M$5&$K$1&TEXT($B11,"jj/mm/aaaa") -> Anderson's1001141105/07/2021 | M11: =_xlfn.XLOOKUP($L11,DATA_BRAND!$G:$G,DATA_BRAND!$D:$D,"") | N11: =_xlfn.XLOOKUP($L11,DATA_BRAND!$G:$G,DATA_BRAND!$E:$E,"") | O11: =_xlfn.XLOOKUP($L11,DATA_BRAND!$G:$G,DATA_BRAND!$F:$F,"") | P11: =$Q$5&$K$1&TEXT($B11,"jj/mm/aaaa") -> Balenciaga1001141105/07/2021 | Q11: =_xlfn.XLOOKUP($P11,DATA_BRAND!$G:$G,DATA_BRAND!$D:$D,"") | R11: =_xlfn.XLOOKUP($P11,DATA_BRAND!$G:$G,DATA_BRAND!$E:$E,"") | S11: =_xlfn.XLOOKUP($P11,DATA_BRAND!$G:$G,DATA_BRAND!$F:$F,"") | T11: =$U$5&$K$1&TEXT($B11,"jj/mm/aaaa") -> Bally1001141105/07/2021 | U11: =_xlfn.XLOOKUP($T11,DATA_BRAND!$G:$G,DATA_BRAND!$D:$D,"") | V11: =_xlfn.XLOOKUP($T11,DATA_BRAND!$G:$G,DATA_BRAND!$E:$E,"") | W11: =_xlfn.XLOOKUP($T11,DATA_BRAND!$G:$G,DATA_BRAND!$F:$F,"") | X11: =$Y$5&$K$1&TEXT($B11,"jj/mm/aaaa") -> Balmain1001141105/07/2021 | Y11: =_xlfn.XLOOKUP($X11,DATA_BRAND!$G:$G,DATA_BRAND!$D:$D,"") -> 1 | Z11: =_xlfn.XLOOKUP($X11,DATA_BRAND!$G:$G,DATA_BRAND!$E:$E,"") -> 1 | AA11: =_xlfn.XLOOKUP($X11,DATA_BRAND!$G:$G,DATA_BRAND!$F:$F,"") -> 741.67 | AB11: =$AC$5&$K$1&TEXT($B11,"jj/mm/aaaa") -> Bleu de Chauffe1001141105/07/2021 | AC11: =_xlfn.XLOOKUP($AB11,DATA_BRAND!$G:$G,DATA_BRAND!$D:$D,"") | AD11: =_xlfn.XLOOKUP($AB11,DATA_BRAND!$G:$G,DATA_BRAND!$E:$E,"") | AE11: =_xlfn.XLOOKUP($AB11,DATA_BRAND!$G:$G,DATA_BRAND!$F:$F,"") | AF11: =$AG$5&$K$1&TEXT($B11,"jj/mm/aaaa") -> Bottega Veneta1001141105/07/2021 | AG11: =_xlfn.XLOOKUP($AF11,DATA_BRAND!$G:$G,DATA_BRAND!$D:$D,"") | AH11: =_xlfn.XLOOKUP($AF11,DATA_BRAND!$G:$G,DATA_BRAND!$E:$E,"") | AI11: =_xlfn.XLOOKUP($AF11,DATA_BRAND!$G:$G,DATA_BRAND!$F:$F,"") | AJ11: =$AK$5&$K$1&TEXT($B11,"jj/mm/aaaa") -> Burberry1001141105/07/2021 | AK11: =_xlfn.XLOOKUP($AJ11,DATA_BRAND!$G:$G,DATA_BRAND!$D:$D,"") | AL11: =_xlfn.XLOOKUP($AJ11,DATA_BRAND!$G:$G,DATA_BRAND!$E:$E,"") | AM11: =_xlfn.XLOOKUP($AJ11,DATA_BRAND!$G:$G,DATA_BRAND!$F:$F,"") | AN11: =$AO$5&$K$1&TEXT($B11,"jj/mm/aaaa") -> Givenchy1001141105/07/2021 | AO11: =_xlfn.XLOOKUP($AN11,DATA_BRAND!$G:$G,DATA_BRAND!$D:$D,"") | AP11: =_xlfn.XLOOKUP($AN11,DATA_BRAND!$G:$G,DATA_BRAND!$E:$E,"") | AQ11: =_xlfn.XLOOKUP($AN11,DATA_BRAND!$G:$G,DATA_BRAND!$F:$F,"") | AR11: =$AS$5&$K$1&TEXT($B11,"jj/mm/aaaa") -> Kenzo1001141105/07/2021 | AS11: =_xlfn.XLOOKUP($AR11,DATA_BRAND!$G:$G,DATA_BRAND!$D:$D,"") | AT11: =_xlfn.XLOOKUP($AR11,DATA_BRAND!$G:$G,DATA_BRAND!$E:$E,"") | AU11: =_xlfn.XLOOKUP($AR11,DATA_BRAND!$G:$G,DATA_BRAND!$F:$F,"") | AV11: =$AW$5&$K$1&TEXT($B11,"jj/mm/aaaa") -> Lacoste1001141105/07/2021 | AW11: =_xlfn.XLOOKUP($AV11,DATA_BRAND!$G:$G,DATA_BRAND!$D:$D,"") | AX11: =_xlfn.XLOOKUP($AV11,DATA_BRAND!$G:$G,DATA_BRAND!$E:$E,"") | AY11: =_xlfn.XLOOKUP($AV11,DATA_BRAND!$G:$G,DATA_BRAND!$F:$F,"") | AZ11: =$BA$5&$K$1&TEXT($B11,"jj/mm/aaaa") -> Maison Margiela1001141105/07/2021 | BA11: =_xlfn.XLOOKUP($AZ11,DATA_BRAND!$G:$G,DATA_BRAND!$D:$D,"") | BB11: =_xlfn.XLOOKUP($AZ11,DATA_BRAND!$G:$G,DATA_BRAND!$E:$E,"") | BC11: =_xlfn.XLOOKUP($AZ11,DATA_BRAND!$G:$G,DATA_BRAND!$F:$F,"") | BD11: =$BE$5&$K$1&TEXT($B11,"jj/mm/aaaa") -> Moncler1001141105/07/2021 | BE11: =_xlfn.XLOOKUP($BD11,DATA_BRAND!$G:$G,DATA_BRAND!$D:$D,"") | BF11: =_xlfn.XLOOKUP($BD11,DATA_BRAND!$G:$G,DATA_BRAND!$E:$E,"") | BG11: =_xlfn.XLOOKUP($BD11,DATA_BRAND!$G:$G,DATA_BRAND!$F:$F,"") | BH11: =$BI$5&$K$1&TEXT($B11,"jj/mm/aaaa") -> Off-White1001141105/07/2021 | BI11: =_xlfn.XLOOKUP($BH11,DATA_BRAND!$G:$G,DATA_BRAND!$D:$D,"") | BJ11: =_xlfn.XLOOKUP($BH11,DATA_BRAND!$G:$G,DATA_BRAND!$E:$E,"") | BK11: =_xlfn.XLOOKUP($BH11,DATA_BRAND!$G:$G,DATA_BRAND!$F:$F,"") | BL11: =$BM$5&$K$1&TEXT($B11,"jj/mm/aaaa") -> Polo Ralph Lauren1001141105/07/2021 | BM11: =_xlfn.XLOOKUP($BL11,DATA_BRAND!$G:$G,DATA_BRAND!$D:$D,"") | BN11: =_xlfn.XLOOKUP($BL11,DATA_BRAND!$G:$G,DATA_BRAND!$E:$E,"") | BO11: =_xlfn.XLOOKUP($BL11,DATA_BRAND!$G:$G,DATA_BRAND!$F:$F,"") | BP11: =$BQ$5&$K$1&TEXT($B11,"jj/mm/aaaa") -> Salvatore Ferragamo1001141105/07/2021 | BQ11: =_xlfn.XLOOKUP($BP11,DATA_BRAND!$G:$G,DATA_BRAND!$D:$D,"") | BR11: =_xlfn.XLOOKUP($BP11,DATA_BRAND!$G:$G,DATA_BRAND!$E:$E,"") | BS11: =_xlfn.XLOOKUP($BP11,DATA_BRAND!$G:$G,DATA_BRAND!$F:$F,"") | BT11: =$BU$5&$K$1&TEXT($B11,"jj/mm/aaaa") -> Smythson1001141105/07/2021 | BU11: =_xlfn.XLOOKUP($BT11,DATA_BRAND!$G:$G,DATA_BRAND!$D:$D,"") | BV11: =_xlfn.XLOOKUP($BT11,DATA_BRAND!$G:$G,DATA_BRAND!$E:$E,"") | BW11: =_xlfn.XLOOKUP($BT11,DATA_BRAND!$G:$G,DATA_BRAND!$F:$F,"") | BX11: =$BY$5&$K$1&TEXT($B11,"jj/mm/aaaa") -> Stone Island1001141105/07/2021 | BY11: =_xlfn.XLOOKUP($BX11,DATA_BRAND!$G:$G,DATA_BRAND!$D:$D,"") | BZ11: =_xlfn.XLOOKUP($BX11,DATA_BRAND!$G:$G,DATA_BRAND!$E:$E,"") | CA11: =_xlfn.XLOOKUP($BX11,DATA_BRAND!$G:$G,DATA_BRAND!$F:$F,"") | CB11: =$CC$5&$K$1&TEXT($B11,"jj/mm/aaaa") -> Thom Browne1001141105/07/2021 | CC11: =_xlfn.XLOOKUP($CB11,DATA_BRAND!$G:$G,DATA_BRAND!$D:$D,"") | CD11: =_xlfn.XLOOKUP($CB11,DATA_BRAND!$G:$G,DATA_BRAND!$E:$E,"") | CE11: =_xlfn.XLOOKUP($CB11,DATA_BRAND!$G:$G,DATA_BRAND!$F:$F,"") | CF11: =$CG$5&$K$1&TEXT($B11,"jj/mm/aaaa") -> Versace1001141105/07/2021 | CG11: =_xlfn.XLOOKUP($CF11,DATA_BRAND!$G:$G,DATA_BRAND!$D:$D,"") | CH11: =_xlfn.XLOOKUP($CF11,DATA_BRAND!$G:$G,DATA_BRAND!$E:$E,"") | CI11: =_xlfn.XLOOKUP($CF11,DATA_BRAND!$G:$G,DATA_BRAND!$F:$F,"") | CJ11: =$CK$5&$K$1&TEXT($B11,"jj/mm/aaaa") -> YSL1001141105/07/2021 | CK11: =_xlfn.XLOOKUP($CJ11,DATA_BRAND!$G:$G,DATA_BRAND!$D:$D,"") | CL11: =_xlfn.XLOOKUP($CJ11,DATA_BRAND!$G:$G,DATA_BRAND!$E:$E,"") | CM11: =_xlfn.XLOOKUP($CJ11,DATA_BRAND!$G:$G,DATA_BRAND!$F:$F,"")
A12: 6 | B12: =DATE(AnneeCalendrier,NumMOIS,A12) -> 44383 | C12: =DATE($C$3,$E$1,A12) -> 44383 | D12: =$E$5&$K$1&TEXT($B12,"jj/mm/aaaa") -> Acne1001141106/07/2021 | E12: =_xlfn.XLOOKUP($D12,DATA_BRAND!$G:$G,DATA_BRAND!$D:$D,"") | F12: =_xlfn.XLOOKUP($D12,DATA_BRAND!$G:$G,DATA_BRAND!$E:$E,"") | G12: =_xlfn.XLOOKUP($D12,DATA_BRAND!$G:$G,DATA_BRAND!$F:$F,"") | H12: =$I$5&$K$1&TEXT($B12,"jj/mm/aaaa") -> Alfred Dunhill1001141106/07/2021 | I12: =_xlfn.XLOOKUP($H12,DATA_BRAND!$G:$G,DATA_BRAND!$D:$D,"") | J12: =_xlfn.XLOOKUP($H12,DATA_BRAND!$G:$G,DATA_BRAND!$E:$E,"") | K12: =_xlfn.XLOOKUP($H12,DATA_BRAND!$G:$G,DATA_BRAND!$F:$F,"") | L12: =$M$5&$K$1&TEXT($B12,"jj/mm/aaaa") -> Anderson's1001141106/07/2021 | M12: =_xlfn.XLOOKUP($L12,DATA_BRAND!$G:$G,DATA_BRAND!$D:$D,"") | N12: =_xlfn.XLOOKUP($L12,DATA_BRAND!$G:$G,DATA_BRAND!$E:$E,"") | O12: =_xlfn.XLOOKUP($L12,DATA_BRAND!$G:$G,DATA_BRAND!$F:$F,"") | P12: =$Q$5&$K$1&TEXT($B12,"jj/mm/aaaa") -> Balenciaga1001141106/07/2021 | Q12: =_xlfn.XLOOKUP($P12,DATA_BRAND!$G:$G,DATA_BRAND!$D:$D,"") | R12: =_xlfn.XLOOKUP($P12,DATA_BRAND!$G:$G,DATA_BRAND!$E:$E,"") | S12: =_xlfn.XLOOKUP($P12,DATA_BRAND!$G:$G,DATA_BRAND!$F:$F,"") | T12: =$U$5&$K$1&TEXT($B12,"jj/mm/aaaa") -> Bally1001141106/07/2021 | U12: =_xlfn.XLOOKUP($T12,DATA_BRAND!$G:$G,DATA_BRAND!$D:$D,"") | V12: =_xlfn.XLOOKUP($T12,DATA_BRAND!$G:$G,DATA_BRAND!$E:$E,"") | W12: =_xlfn.XLOOKUP($T12,DATA_BRAND!$G:$G,DATA_BRAND!$F:$F,"") | X12: =$Y$5&$K$1&TEXT($B12,"jj/mm/aaaa") -> Balmain1001141106/07/2021 | Y12: =_xlfn.XLOOKUP($X12,DATA_BRAND!$G:$G,DATA_BRAND!$D:$D,"") | Z12: =_xlfn.XLOOKUP($X12,DATA_BRAND!$G:$G,DATA_BRAND!$E:$E,"") | AA12: =_xlfn.XLOOKUP($X12,DATA_BRAND!$G:$G,DATA_BRAND!$F:$F,"") | AB12: =$AC$5&$K$1&TEXT($B12,"jj/mm/aaaa") -> Bleu de Chauffe1001141106/07/2021 | AC12: =_xlfn.XLOOKUP($AB12,DATA_BRAND!$G:$G,DATA_BRAND!$D:$D,"") | AD12: =_xlfn.XLOOKUP($AB12,DATA_BRAND!$G:$G,DATA_BRAND!$E:$E,"") | AE12: =_xlfn.XLOOKUP($AB12,DATA_BRAND!$G:$G,DATA_BRAND!$F:$F,"") | AF12: =$AG$5&$K$1&TEXT($B12,"jj/mm/aaaa") -> Bottega Veneta1001141106/07/2021 | AG12: =_xlfn.XLOOKUP($AF12,DATA_BRAND!$G:$G,DATA_BRAND!$D:$D,"") | AH12: =_xlfn.XLOOKUP($AF12,DATA_BRAND!$G:$G,DATA_BRAND!$E:$E,"") | AI12: =_xlfn.XLOOKUP($AF12,DATA_BRAND!$G:$G,DATA_BRAND!$F:$F,"") | AJ12: =$AK$5&$K$1&TEXT($B12,"jj/mm/aaaa") -> Burberry1001141106/07/2021 | AK12: =_xlfn.XLOOKUP($AJ12,DATA_BRAND!$G:$G,DATA_BRAND!$D:$D,"") | AL12: =_xlfn.XLOOKUP($AJ12,DATA_BRAND!$G:$G,DATA_BRAND!$E:$E,"") | AM12: =_xlfn.XLOOKUP($AJ12,DATA_BRAND!$G:$G,DATA_BRAND!$F:$F,"") | AN12: =$AO$5&$K$1&TEXT($B12,"jj/mm/aaaa") -> Givenchy1001141106/07/2021 | AO12: =_xlfn.XLOOKUP($AN12,DATA_BRAND!$G:$G,DATA_BRAND!$D:$D,"") | AP12: =_xlfn.XLOOKUP($AN12,DATA_BRAND!$G:$G,DATA_BRAND!$E:$E,"") | AQ12: =_xlfn.XLOOKUP($AN12,DATA_BRAND!$G:$G,DATA_BRAND!$F:$F,"") | AR12: =$AS$5&$K$1&TEXT($B12,"jj/mm/aaaa") -> Kenzo1001141106/07/2021 | AS12: =_xlfn.XLOOKUP($AR12,DATA_BRAND!$G:$G,DATA_BRAND!$D:$D,"") | AT12: =_xlfn.XLOOKUP($AR12,DATA_BRAND!$G:$G,DATA_BRAND!$E:$E,"") | AU12: =_xlfn.XLOOKUP($AR12,DATA_BRAND!$G:$G,DATA_BRAND!$F:$F,"") | AV12: =$AW$5&$K$1&TEXT($B12,"jj/mm/aaaa") -> Lacoste1001141106/07/2021 | AW12: =_xlfn.XLOOKUP($AV12,DATA_BRAND!$G:$G,DATA_BRAND!$D:$D,"") | AX12: =_xlfn.XLOOKUP($AV12,DATA_BRAND!$G:$G,DATA_BRAND!$E:$E,"") | AY12: =_xlfn.XLOOKUP($AV12,DATA_BRAND!$G:$G,DATA_BRAND!$F:$F,"") | AZ12: =$BA$5&$K$1&TEXT($B12,"jj/mm/aaaa") -> Maison Margiela1001141106/07/2021 | BA12: =_xlfn.XLOOKUP($AZ12,DATA_BRAND!$G:$G,DATA_BRAND!$D:$D,"") | BB12: =_xlfn.XLOOKUP($AZ12,DATA_BRAND!$G:$G,DATA_BRAND!$E:$E,"") | BC12: =_xlfn.XLOOKUP($AZ12,DATA_BRAND!$G:$G,DATA_BRAND!$F:$F,"") | BD12: =$BE$5&$K$1&TEXT($B12,"jj/mm/aaaa") -> Moncler1001141106/07/2021 | BE12: =_xlfn.XLOOKUP($BD12,DATA_BRAND!$G:$G,DATA_BRAND!$D:$D,"") | BF12: =_xlfn.XLOOKUP($BD12,DATA_BRAND!$G:$G,DATA_BRAND!$E:$E,"") | BG12: =_xlfn.XLOOKUP($BD12,DATA_BRAND!$G:$G,DATA_BRAND!$F:$F,"") | BH12: =$BI$5&$K$1&TEXT($B12,"jj/mm/aaaa") -> Off-White1001141106/07/2021 | BI12: =_xlfn.XLOOKUP($BH12,DATA_BRAND!$G:$G,DATA_BRAND!$D:$D,"") | BJ12: =_xlfn.XLOOKUP($BH12,DATA_BRAND!$G:$G,DATA_BRAND!$E:$E,"") | BK12: =_xlfn.XLOOKUP($BH12,DATA_BRAND!$G:$G,DATA_BRAND!$F:$F,"") | BL12: =$BM$5&$K$1&TEXT($B12,"jj/mm/aaaa") -> Polo Ralph Lauren1001141106/07/2021 | BM12: =_xlfn.XLOOKUP($BL12,DATA_BRAND!$G:$G,DATA_BRAND!$D:$D,"") | BN12: =_xlfn.XLOOKUP($BL12,DATA_BRAND!$G:$G,DATA_BRAND!$E:$E,"") | BO12: =_xlfn.XLOOKUP($BL12,DATA_BRAND!$G:$G,DATA_BRAND!$F:$F,"") | BP12: =$BQ$5&$K$1&TEXT($B12,"jj/mm/aaaa") -> Salvatore Ferragamo1001141106/07/2021 | BQ12: =_xlfn.XLOOKUP($BP12,DATA_BRAND!$G:$G,DATA_BRAND!$D:$D,"") | BR12: =_xlfn.XLOOKUP($BP12,DATA_BRAND!$G:$G,DATA_BRAND!$E:$E,"") | BS12: =_xlfn.XLOOKUP($BP12,DATA_BRAND!$G:$G,DATA_BRAND!$F:$F,"") | BT12: =$BU$5&$K$1&TEXT($B12,"jj/mm/aaaa") -> Smythson1001141106/07/2021 | BU12: =_xlfn.XLOOKUP($BT12,DATA_BRAND!$G:$G,DATA_BRAND!$D:$D,"") | BV12: =_xlfn.XLOOKUP($BT12,DATA_BRAND!$G:$G,DATA_BRAND!$E:$E,"") | BW12: =_xlfn.XLOOKUP($BT12,DATA_BRAND!$G:$G,DATA_BRAND!$F:$F,"") | BX12: =$BY$5&$K$1&TEXT($B12,"jj/mm/aaaa") -> Stone Island1001141106/07/2021 | BY12: =_xlfn.XLOOKUP($BX12,DATA_BRAND!$G:$G,DATA_BRAND!$D:$D,"") | BZ12: =_xlfn.XLOOKUP($BX12,DATA_BRAND!$G:$G,DATA_BRAND!$E:$E,"") | CA12: =_xlfn.XLOOKUP($BX12,DATA_BRAND!$G:$G,DATA_BRAND!$F:$F,"") | CB12: =$CC$5&$K$1&TEXT($B12,"jj/mm/aaaa") -> Thom Browne1001141106/07/2021 | CC12: =_xlfn.XLOOKUP($CB12,DATA_BRAND!$G:$G,DATA_BRAND!$D:$D,"") | CD12: =_xlfn.XLOOKUP($CB12,DATA_BRAND!$G:$G,DATA_BRAND!$E:$E,"") | CE12: =_xlfn.XLOOKUP($CB12,DATA_BRAND!$G:$G,DATA_BRAND!$F:$F,"") | CF12: =$CG$5&$K$1&TEXT($B12,"jj/mm/aaaa") -> Versace1001141106/07/2021 | CG12: =_xlfn.XLOOKUP($CF12,DATA_BRAND!$G:$G,DATA_BRAND!$D:$D,"") | CH12: =_xlfn.XLOOKUP($CF12,DATA_BRAND!$G:$G,DATA_BRAND!$E:$E,"") | CI12: =_xlfn.XLOOKUP($CF12,DATA_BRAND!$G:$G,DATA_BRAND!$F:$F,"") | CJ12: =$CK$5&$K$1&TEXT($B12,"jj/mm/aaaa") -> YSL1001141106/07/2021 | CK12: =_xlfn.XLOOKUP($CJ12,DATA_BRAND!$G:$G,DATA_BRAND!$D:$D,"") -> 2 | CL12: =_xlfn.XLOOKUP($CJ12,DATA_BRAND!$G:$G,DATA_BRAND!$E:$E,"") -> 2 | CM12: =_xlfn.XLOOKUP($CJ12,DATA_BRAND!$G:$G,DATA_BRAND!$F:$F,"") -> 808.33
A13: 7 | B13: =DATE(AnneeCalendrier,NumMOIS,A13) -> 44384 | C13: =DATE($C$3,$E$1,A13) -> 44384 | D13: =$E$5&$K$1&TEXT($B13,"jj/mm/aaaa") -> Acne1001141107/07/2021 | E13: =_xlfn.XLOOKUP($D13,DATA_BRAND!$G:$G,DATA_BRAND!$D:$D,"") | F13: =_xlfn.XLOOKUP($D13,DATA_BRAND!$G:$G,DATA_BRAND!$E:$E,"") | G13: =_xlfn.XLOOKUP($D13,DATA_BRAND!$G:$G,DATA_BRAND!$F:$F,"") | H13: =$I$5&$K$1&TEXT($B13,"jj/mm/aaaa") -> Alfred Dunhill1001141107/07/2021 | I13: =_xlfn.XLOOKUP($H13,DATA_BRAND!$G:$G,DATA_BRAND!$D:$D,"") | J13: =_xlfn.XLOOKUP($H13,DATA_BRAND!$G:$G,DATA_BRAND!$E:$E,"") | K13: =_xlfn.XLOOKUP($H13,DATA_BRAND!$G:$G,DATA_BRAND!$F:$F,"") | L13: =$M$5&$K$1&TEXT($B13,"jj/mm/aaaa") -> Anderson's1001141107/07/2021 | M13: =_xlfn.XLOOKUP($L13,DATA_BRAND!$G:$G,DATA_BRAND!$D:$D,"") | N13: =_xlfn.XLOOKUP($L13,DATA_BRAND!$G:$G,DATA_BRAND!$E:$E,"") | O13: =_xlfn.XLOOKUP($L13,DATA_BRAND!$G:$G,DATA_BRAND!$F:$F,"") | P13: =$Q$5&$K$1&TEXT($B13,"jj/mm/aaaa") -> Balenciaga1001141107/07/2021 | Q13: =_xlfn.XLOOKUP($P13,DATA_BRAND!$G:$G,DATA_BRAND!$D:$D,"") | R13: =_xlfn.XLOOKUP($P13,DATA_BRAND!$G:$G,DATA_BRAND!$E:$E,"") | S13: =_xlfn.XLOOKUP($P13,DATA_BRAND!$G:$G,DATA_BRAND!$F:$F,"") | T13: =$U$5&$K$1&TEXT($B13,"jj/mm/aaaa") -> Bally1001141107/07/2021 | U13: =_xlfn.XLOOKUP($T13,DATA_BRAND!$G:$G,DATA_BRAND!$D:$D,"") | V13: =_xlfn.XLOOKUP($T13,DATA_BRAND!$G:$G,DATA_BRAND!$E:$E,"") | W13: =_xlfn.XLOOKUP($T13,DATA_BRAND!$G:$G,DATA_BRAND!$F:$F,"") | X13: =$Y$5&$K$1&TEXT($B13,"jj/mm/aaaa") -> Balmain1001141107/07/2021 | Y13: =_xlfn.XLOOKUP($X13,DATA_BRAND!$G:$G,DATA_BRAND!$D:$D,"") | Z13: =_xlfn.XLOOKUP($X13,DATA_BRAND!$G:$G,DATA_BRAND!$E:$E,"") | AA13: =_xlfn.XLOOKUP($X13,DATA_BRAND!$G:$G,DATA_BRAND!$F:$F,"") | AB13: =$AC$5&$K$1&TEXT($B13,"jj/mm/aaaa") -> Bleu de Chauffe1001141107/07/2021 | AC13: =_xlfn.XLOOKUP($AB13,DATA_BRAND!$G:$G,DATA_BRAND!$D:$D,"") | AD13: =_xlfn.XLOOKUP($AB13,DATA_BRAND!$G:$G,DATA_BRAND!$E:$E,"") | AE13: =_xlfn.XLOOKUP($AB13,DATA_BRAND!$G:$G,DATA_BRAND!$F:$F,"") | AF13: =$AG$5&$K$1&TEXT($B13,"jj/mm/aaaa") -> Bottega Veneta1001141107/07/2021 | AG13: =_xlfn.XLOOKUP($AF13,DATA_BRAND!$G:$G,DATA_BRAND!$D:$D,"") | AH13: =_xlfn.XLOOKUP($AF13,DATA_BRAND!$G:$G,DATA_BRAND!$E:$E,"") | AI13: =_xlfn.XLOOKUP($AF13,DATA_BRAND!$G:$G,DATA_BRAND!$F:$F,"") | AJ13: =$AK$5&$K$1&TEXT($B13,"jj/mm/aaaa") -> Burberry1001141107/07/2021 | AK13: =_xlfn.XLOOKUP($AJ13,DATA_BRAND!$G:$G,DATA_BRAND!$D:$D,"") | AL13: =_xlfn.XLOOKUP($AJ13,DATA_BRAND!$G:$G,DATA_BRAND!$E:$E,"") | AM13: =_xlfn.XLOOKUP($AJ13,DATA_BRAND!$G:$G,DATA_BRAND!$F:$F,"") | AN13: =$AO$5&$K$1&TEXT($B13,"jj/mm/aaaa") -> Givenchy1001141107/07/2021 | AO13: =_xlfn.XLOOKUP($AN13,DATA_BRAND!$G:$G,DATA_BRAND!$D:$D,"") | AP13: =_xlfn.XLOOKUP($AN13,DATA_BRAND!$G:$G,DATA_BRAND!$E:$E,"") | AQ13: =_xlfn.XLOOKUP($AN13,DATA_BRAND!$G:$G,DATA_BRAND!$F:$F,"") | AR13: =$AS$5&$K$1&TEXT($B13,"jj/mm/aaaa") -> Kenzo1001141107/07/2021 | AS13: =_xlfn.XLOOKUP($AR13,DATA_BRAND!$G:$G,DATA_BRAND!$D:$D,"") | AT13: =_xlfn.XLOOKUP($AR13,DATA_BRAND!$G:$G,DATA_BRAND!$E:$E,"") | AU13: =_xlfn.XLOOKUP($AR13,DATA_BRAND!$G:$G,DATA_BRAND!$F:$F,"") | AV13: =$AW$5&$K$1&TEXT($B13,"jj/mm/aaaa") -> Lacoste1001141107/07/2021 | AW13: =_xlfn.XLOOKUP($AV13,DATA_BRAND!$G:$G,DATA_BRAND!$D:$D,"") | AX13: =_xlfn.XLOOKUP($AV13,DATA_BRAND!$G:$G,DATA_BRAND!$E:$E,"") | AY13: =_xlfn.XLOOKUP($AV13,DATA_BRAND!$G:$G,DATA_BRAND!$F:$F,"") | AZ13: =$BA$5&$K$1&TEXT($B13,"jj/mm/aaaa") -> Maison Margiela1001141107/07/2021 | BA13: =_xlfn.XLOOKUP($AZ13,DATA_BRAND!$G:$G,DATA_BRAND!$D:$D,"") -> 1 | BB13: =_xlfn.XLOOKUP($AZ13,DATA_BRAND!$G:$G,DATA_BRAND!$E:$E,"") -> 1 | BC13: =_xlfn.XLOOKUP($AZ13,DATA_BRAND!$G:$G,DATA_BRAND!$F:$F,"") -> 312.5 | BD13: =$BE$5&$K$1&TEXT($B13,"jj/mm/aaaa") -> Moncler1001141107/07/2021 | BE13: =_xlfn.XLOOKUP($BD13,DATA_BRAND!$G:$G,DATA_BRAND!$D:$D,"") | BF13: =_xlfn.XLOOKUP($BD13,DATA_BRAND!$G:$G,DATA_BRAND!$E:$E,"") | BG13: =_xlfn.XLOOKUP($BD13,DATA_BRAND!$G:$G,DATA_BRAND!$F:$F,"") | BH13: =$BI$5&$K$1&TEXT($B13,"jj/mm/aaaa") -> Off-White1001141107/07/2021 | BI13: =_xlfn.XLOOKUP($BH13,DATA_BRAND!$G:$G,DATA_BRAND!$D:$D,"") | BJ13: =_xlfn.XLOOKUP($BH13,DATA_BRAND!$G:$G,DATA_BRAND!$E:$E,"") | BK13: =_xlfn.XLOOKUP($BH13,DATA_BRAND!$G:$G,DATA_BRAND!$F:$F,"") | BL13: =$BM$5&$K$1&TEXT($B13,"jj/mm/aaaa") -> Polo Ralph Lauren1001141107/07/2021 | BM13: =_xlfn.XLOOKUP($BL13,DATA_BRAND!$G:$G,DATA_BRAND!$D:$D,"") | BN13: =_xlfn.XLOOKUP($BL13,DATA_BRAND!$G:$G,DATA_BRAND!$E:$E,"") | BO13: =_xlfn.XLOOKUP($BL13,DATA_BRAND!$G:$G,DATA_BRAND!$F:$F,"") | BP13: =$BQ$5&$K$1&TEXT($B13,"jj/mm/aaaa") -> Salvatore Ferragamo1001141107/07/2021 | BQ13: =_xlfn.XLOOKUP($BP13,DATA_BRAND!$G:$G,DATA_BRAND!$D:$D,"") | BR13: =_xlfn.XLOOKUP($BP13,DATA_BRAND!$G:$G,DATA_BRAND!$E:$E,"") | BS13: =_xlfn.XLOOKUP($BP13,DATA_BRAND!$G:$G,DATA_BRAND!$F:$F,"") | BT13: =$BU$5&$K$1&TEXT($B13,"jj/mm/aaaa") -> Smythson1001141107/07/2021 | BU13: =_xlfn.XLOOKUP($BT13,DATA_BRAND!$G:$G,DATA_BRAND!$D:$D,"") | BV13: =_xlfn.XLOOKUP($BT13,DATA_BRAND!$G:$G,DATA_BRAND!$E:$E,"") | BW13: =_xlfn.XLOOKUP($BT13,DATA_BRAND!$G:$G,DATA_BRAND!$F:$F,"") | BX13: =$BY$5&$K$1&TEXT($B13,"jj/mm/aaaa") -> Stone Island1001141107/07/2021 | BY13: =_xlfn.XLOOKUP($BX13,DATA_BRAND!$G:$G,DATA_BRAND!$D:$D,"") | BZ13: =_xlfn.XLOOKUP($BX13,DATA_BRAND!$G:$G,DATA_BRAND!$E:$E,"") | CA13: =_xlfn.XLOOKUP($BX13,DATA_BRAND!$G:$G,DATA_BRAND!$F:$F,"") | CB13: =$CC$5&$K$1&TEXT($B13,"jj/mm/aaaa") -> Thom Browne1001141107/07/2021 | CC13: =_xlfn.XLOOKUP($CB13,DATA_BRAND!$G:$G,DATA_BRAND!$D:$D,"") | CD13: =_xlfn.XLOOKUP($CB13,DATA_BRAND!$G:$G,DATA_BRAND!$E:$E,"") | CE13: =_xlfn.XLOOKUP($CB13,DATA_BRAND!$G:$G,DATA_BRAND!$F:$F,"") | CF13: =$CG$5&$K$1&TEXT($B13,"jj/mm/aaaa") -> Versace1001141107/07/2021 | CG13: =_xlfn.XLOOKUP($CF13,DATA_BRAND!$G:$G,DATA_BRAND!$D:$D,"") | CH13: =_xlfn.XLOOKUP($CF13,DATA_BRAND!$G:$G,DATA_BRAND!$E:$E,"") | CI13: =_xlfn.XLOOKUP($CF13,DATA_BRAND!$G:$G,DATA_BRAND!$F:$F,"") | CJ13: =$CK$5&$K$1&TEXT($B13,"jj/mm/aaaa") -> YSL1001141107/07/2021 | CK13: =_xlfn.XLOOKUP($CJ13,DATA_BRAND!$G:$G,DATA_BRAND!$D:$D,"") | CL13: =_xlfn.XLOOKUP($CJ13,DATA_BRAND!$G:$G,DATA_BRAND!$E:$E,"") | CM13: =_xlfn.XLOOKUP($CJ13,DATA_BRAND!$G:$G,DATA_BRAND!$F:$F,"")
A14: 8 | B14: =DATE(AnneeCalendrier,NumMOIS,A14) -> 44385 | C14: =DATE($C$3,$E$1,A14) -> 44385 | D14: =$E$5&$K$1&TEXT($B14,"jj/mm/aaaa") -> Acne1001141108/07/2021 | E14: =_xlfn.XLOOKUP($D14,DATA_BRAND!$G:$G,DATA_BRAND!$D:$D,"") | F14: =_xlfn.XLOOKUP($D14,DATA_BRAND!$G:$G,DATA_BRAND!$E:$E,"") | G14: =_xlfn.XLOOKUP($D14,DATA_BRAND!$G:$G,DATA_BRAND!$F:$F,"") | H14: =$I$5&$K$1&TEXT($B14,"jj/mm/aaaa") -> Alfred Dunhill1001141108/07/2021 | I14: =_xlfn.XLOOKUP($H14,DATA_BRAND!$G:$G,DATA_BRAND!$D:$D,"") | J14: =_xlfn.XLOOKUP($H14,DATA_BRAND!$G:$G,DATA_BRAND!$E:$E,"") | K14: =_xlfn.XLOOKUP($H14,DATA_BRAND!$G:$G,DATA_BRAND!$F:$F,"") | L14: =$M$5&$K$1&TEXT($B14,"jj/mm/aaaa") -> Anderson's1001141108/07/2021 | M14: =_xlfn.XLOOKUP($L14,DATA_BRAND!$G:$G,DATA_BRAND!$D:$D,"") | N14: =_xlfn.XLOOKUP($L14,DATA_BRAND!$G:$G,DATA_BRAND!$E:$E,"") | O14: =_xlfn.XLOOKUP($L14,DATA_BRAND!$G:$G,DATA_BRAND!$F:$F,"") | P14: =$Q$5&$K$1&TEXT($B14,"jj/mm/aaaa") -> Balenciaga1001141108/07/2021 | Q14: =_xlfn.XLOOKUP($P14,DATA_BRAND!$G:$G,DATA_BRAND!$D:$D,"") | R14: =_xlfn.XLOOKUP($P14,DATA_BRAND!$G:$G,DATA_BRAND!$E:$E,"") | S14: =_xlfn.XLOOKUP($P14,DATA_BRAND!$G:$G,DATA_BRAND!$F:$F,"") | T14: =$U$5&$K$1&TEXT($B14,"jj/mm/aaaa") -> Bally1001141108/07/2021 | U14: =_xlfn.XLOOKUP($T14,DATA_BRAND!$G:$G,DATA_BRAND!$D:$D,"") | V14: =_xlfn.XLOOKUP($T14,DATA_BRAND!$G:$G,DATA_BRAND!$E:$E,"") | W14: =_xlfn.XLOOKUP($T14,DATA_BRAND!$G:$G,DATA_BRAND!$F:$F,"") | X14: =$Y$5&$K$1&TEXT($B14,"jj/mm/aaaa") -> Balmain1001141108/07/2021 | Y14: =_xlfn.XLOOKUP($X14,DATA_BRAND!$G:$G,DATA_BRAND!$D:$D,"") | Z14: =_xlfn.XLOOKUP($X14,DATA_BRAND!$G:$G,DATA_BRAND!$E:$E,"") | AA14: =_xlfn.XLOOKUP($X14,DATA_BRAND!$G:$G,DATA_BRAND!$F:$F,"") | AB14: =$AC$5&$K$1&TEXT($B14,"jj/mm/aaaa") -> Bleu de Chauffe1001141108/07/2021 | AC14: =_xlfn.XLOOKUP($AB14,DATA_BRAND!$G:$G,DATA_BRAND!$D:$D,"") | AD14: =_xlfn.XLOOKUP($AB14,DATA_BRAND!$G:$G,DATA_BRAND!$E:$E,"") | AE14: =_xlfn.XLOOKUP($AB14,DATA_BRAND!$G:$G,DATA_BRAND!$F:$F,"") | AF14: =$AG$5&$K$1&TEXT($B14,"jj/mm/aaaa") -> Bottega Veneta1001141108/07/2021 | AG14: =_xlfn.XLOOKUP($AF14,DATA_BRAND!$G:$G,DATA_BRAND!$D:$D,"") | AH14: =_xlfn.XLOOKUP($AF14,DATA_BRAND!$G:$G,DATA_BRAND!$E:$E,"") | AI14: =_xlfn.XLOOKUP($AF14,DATA_BRAND!$G:$G,DATA_BRAND!$F:$F,"") | AJ14: =$AK$5&$K$1&TEXT($B14,"jj/mm/aaaa") -> Burberry1001141108/07/2021 | AK14: =_xlfn.XLOOKUP($AJ14,DATA_BRAND!$G:$G,DATA_BRAND!$D:$D,"") | AL14: =_xlfn.XLOOKUP($AJ14,DATA_BRAND!$G:$G,DATA_BRAND!$E:$E,"") | AM14: =_xlfn.XLOOKUP($AJ14,DATA_BRAND!$G:$G,DATA_BRAND!$F:$F,"") | AN14: =$AO$5&$K$1&TEXT($B14,"jj/mm/aaaa") -> Givenchy1001141108/07/2021 | AO14: =_xlfn.XLOOKUP($AN14,DATA_BRAND!$G:$G,DATA_BRAND!$D:$D,"") | AP14: =_xlfn.XLOOKUP($AN14,DATA_BRAND!$G:$G,DATA_BRAND!$E:$E,"") | AQ14: =_xlfn.XLOOKUP($AN14,DATA_BRAND!$G:$G,DATA_BRAND!$F:$F,"") | AR14: =$AS$5&$K$1&TEXT($B14,"jj/mm/aaaa") -> Kenzo1001141108/07/2021 | AS14: =_xlfn.XLOOKUP($AR14,DATA_BRAND!$G:$G,DATA_BRAND!$D:$D,"") | AT14: =_xlfn.XLOOKUP($AR14,DATA_BRAND!$G:$G,DATA_BRAND!$E:$E,"") | AU14: =_xlfn.XLOOKUP($AR14,DATA_BRAND!$G:$G,DATA_BRAND!$F:$F,"") | AV14: =$AW$5&$K$1&TEXT($B14,"jj/mm/aaaa") -> Lacoste1001141108/07/2021 | AW14: =_xlfn.XLOOKUP($AV14,DATA_BRAND!$G:$G,DATA_BRAND!$D:$D,"") | AX14: =_xlfn.XLOOKUP($AV14,DATA_BRAND!$G:$G,DATA_BRAND!$E:$E,"") | AY14: =_xlfn.XLOOKUP($AV14,DATA_BRAND!$G:$G,DATA_BRAND!$F:$F,"") | AZ14: =$BA$5&$K$1&TEXT($B14,"jj/mm/aaaa") -> Maison Margiela1001141108/07/2021 | BA14: =_xlfn.XLOOKUP($AZ14,DATA_BRAND!$G:$G,DATA_BRAND!$D:$D,"") | BB14: =_xlfn.XLOOKUP($AZ14,DATA_BRAND!$G:$G,DATA_BRAND!$E:$E,"") | BC14: =_xlfn.XLOOKUP($AZ14,DATA_BRAND!$G:$G,DATA_BRAND!$F:$F,"") | BD14: =$BE$5&$K$1&TEXT($B14,"jj/mm/aaaa") -> Moncler1001141108/07/2021 | BE14: =_xlfn.XLOOKUP($BD14,DATA_BRAND!$G:$G,DATA_BRAND!$D:$D,"") | BF14: =_xlfn.XLOOKUP($BD14,DATA_BRAND!$G:$G,DATA_BRAND!$E:$E,"") | BG14: =_xlfn.XLOOKUP($BD14,DATA_BRAND!$G:$G,DATA_BRAND!$F:$F,"") | BH14: =$BI$5&$K$1&TEXT($B14,"jj/mm/aaaa") -> Off-White1001141108/07/2021 | BI14: =_xlfn.XLOOKUP($BH14,DATA_BRAND!$G:$G,DATA_BRAND!$D:$D,"") | BJ14: =_xlfn.XLOOKUP($BH14,DATA_BRAND!$G:$G,DATA_BRAND!$E:$E,"") | BK14: =_xlfn.XLOOKUP($BH14,DATA_BRAND!$G:$G,DATA_BRAND!$F:$F,"") | BL14: =$BM$5&$K$1&TEXT($B14,"jj/mm/aaaa") -> Polo Ralph Lauren1001141108/07/2021 | BM14: =_xlfn.XLOOKUP($BL14,DATA_BRAND!$G:$G,DATA_BRAND!$D:$D,"") | BN14: =_xlfn.XLOOKUP($BL14,DATA_BRAND!$G:$G,DATA_BRAND!$E:$E,"") | BO14: =_xlfn.XLOOKUP($BL14,DATA_BRAND!$G:$G,DATA_BRAND!$F:$F,"") | BP14: =$BQ$5&$K$1&TEXT($B14,"jj/mm/aaaa") -> Salvatore Ferragamo1001141108/07/2021 | BQ14: =_xlfn.XLOOKUP($BP14,DATA_BRAND!$G:$G,DATA_BRAND!$D:$D,"") | BR14: =_xlfn.XLOOKUP($BP14,DATA_BRAND!$G:$G,DATA_BRAND!$E:$E,"") | BS14: =_xlfn.XLOOKUP($BP14,DATA_BRAND!$G:$G,DATA_BRAND!$F:$F,"") | BT14: =$BU$5&$K$1&TEXT($B14,"jj/mm/aaaa") -> Smythson1001141108/07/2021 | BU14: =_xlfn.XLOOKUP($BT14,DATA_BRAND!$G:$G,DATA_BRAND!$D:$D,"") | BV14: =_xlfn.XLOOKUP($BT14,DATA_BRAND!$G:$G,DATA_BRAND!$E:$E,"") | BW14: =_xlfn.XLOOKUP($BT14,DATA_BRAND!$G:$G,DATA_BRAND!$F:$F,"") | BX14: =$BY$5&$K$1&TEXT($B14,"jj/mm/aaaa") -> Stone Island1001141108/07/2021 | BY14: =_xlfn.XLOOKUP($BX14,DATA_BRAND!$G:$G,DATA_BRAND!$D:$D,"") | BZ14: =_xlfn.XLOOKUP($BX14,DATA_BRAND!$G:$G,DATA_BRAND!$E:$E,"") | CA14: =_xlfn.XLOOKUP($BX14,DATA_BRAND!$G:$G,DATA_BRAND!$F:$F,"") | CB14: =$CC$5&$K$1&TEXT($B14,"jj/mm/aaaa") -> Thom Browne1001141108/07/2021 | CC14: =_xlfn.XLOOKUP($CB14,DATA_BRAND!$G:$G,DATA_BRAND!$D:$D,"") | CD14: =_xlfn.XLOOKUP($CB14,DATA_BRAND!$G:$G,DATA_BRAND!$E:$E,"") | CE14: =_xlfn.XLOOKUP($CB14,DATA_BRAND!$G:$G,DATA_BRAND!$F:$F,"") | CF14: =$CG$5&$K$1&TEXT($B14,"jj/mm/aaaa") -> Versace1001141108/07/2021 | CG14: =_xlfn.XLOOKUP($CF14,DATA_BRAND!$G:$G,DATA_BRAND!$D:$D,"") | CH14: =_xlfn.XLOOKUP($CF14,DATA_BRAND!$G:$G,DATA_BRAND!$E:$E,"") | CI14: =_xlfn.XLOOKUP($CF14,DATA_BRAND!$G:$G,DATA_BRAND!$F:$F,"") | CJ14: =$CK$5&$K$1&TEXT($B14,"jj/mm/aaaa") -> YSL1001141108/07/2021 | CK14: =_xlfn.XLOOKUP($CJ14,DATA_BRAND!$G:$G,DATA_BRAND!$D:$D,"") | CL14: =_xlfn.XLOOKUP($CJ14,DATA_BRAND!$G:$G,DATA_BRAND!$E:$E,"") | CM14: =_xlfn.XLOOKUP($CJ14,DATA_BRAND!$G:$G,DATA_BRAND!$F:$F,"")
A15: 9 | B15: =DATE(AnneeCalendrier,NumMOIS,A15) -> 44386 | C15: =DATE($C$3,$E$1,A15) -> 44386 | D15: =$E$5&$K$1&TEXT($B15,"jj/mm/aaaa") -> Acne1001141109/07/2021 | E15: =_xlfn.XLOOKUP($D15,DATA_BRAND!$G:$G,DATA_BRAND!$D:$D,"") | F15: =_xlfn.XLOOKUP($D15,DATA_BRAND!$G:$G,DATA_BRAND!$E:$E,"") | G15: =_xlfn.XLOOKUP($D15,DATA_BRAND!$G:$G,DATA_BRAND!$F:$F,"") | H15: =$I$5&$K$1&TEXT($B15,"jj/mm/aaaa") -> Alfred Dunhill1001141109/07/2021 | I15: =_xlfn.XLOOKUP($H15,DATA_BRAND!$G:$G,DATA_BRAND!$D:$D,"") | J15: =_xlfn.XLOOKUP($H15,DATA_BRAND!$G:$G,DATA_BRAND!$E:$E,"") | K15: =_xlfn.XLOOKUP($H15,DATA_BRAND!$G:$G,DATA_BRAND!$F:$F,"") | L15: =$M$5&$K$1&TEXT($B15,"jj/mm/aaaa") -> Anderson's1001141109/07/2021 | M15: =_xlfn.XLOOKUP($L15,DATA_BRAND!$G:$G,DATA_BRAND!$D:$D,"") | N15: =_xlfn.XLOOKUP($L15,DATA_BRAND!$G:$G,DATA_BRAND!$E:$E,"") | O15: =_xlfn.XLOOKUP($L15,DATA_BRAND!$G:$G,DATA_BRAND!$F:$F,"") | P15: =$Q$5&$K$1&TEXT($B15,"jj/mm/aaaa") -> Balenciaga1001141109/07/2021 | Q15: =_xlfn.XLOOKUP($P15,DATA_BRAND!$G:$G,DATA_BRAND!$D:$D,"") | R15: =_xlfn.XLOOKUP($P15,DATA_BRAND!$G:$G,DATA_BRAND!$E:$E,"") | S15: =_xlfn.XLOOKUP($P15,DATA_BRAND!$G:$G,DATA_BRAND!$F:$F,"") | T15: =$U$5&$K$1&TEXT($B15,"jj/mm/aaaa") -> Bally1001141109/07/2021 | U15: =_xlfn.XLOOKUP($T15,DATA_BRAND!$G:$G,DATA_BRAND!$D:$D,"") | V15: =_xlfn.XLOOKUP($T15,DATA_BRAND!$G:$G,DATA_BRAND!$E:$E,"") | W15: =_xlfn.XLOOKUP($T15,DATA_BRAND!$G:$G,DATA_BRAND!$F:$F,"") | X15: =$Y$5&$K$1&TEXT($B15,"jj/mm/aaaa") -> Balmain1001141109/07/2021 | Y15: =_xlfn.XLOOKUP($X15,DATA_BRAND!$G:$G,DATA_BRAND!$D:$D,"") | Z15: =_xlfn.XLOOKUP($X15,DATA_BRAND!$G:$G,DATA_BRAND!$E:$E,"") | AA15: =_xlfn.XLOOKUP($X15,DATA_BRAND!$G:$G,DATA_BRAND!$F:$F,"") | AB15: =$AC$5&$K$1&TEXT($B15,"jj/mm/aaaa") -> Bleu de Chauffe1001141109/07/2021 | AC15: =_xlfn.XLOOKUP($AB15,DATA_BRAND!$G:$G,DATA_BRAND!$D:$D,"") | AD15: =_xlfn.XLOOKUP($AB15,DATA_BRAND!$G:$G,DATA_BRAND!$E:$E,"") | AE15: =_xlfn.XLOOKUP($AB15,DATA_BRAND!$G:$G,DATA_BRAND!$F:$F,"") | AF15: =$AG$5&$K$1&TEXT($B15,"jj/mm/aaaa") -> Bottega Veneta1001141109/07/2021 | AG15: =_xlfn.XLOOKUP($AF15,DATA_BRAND!$G:$G,DATA_BRAND!$D:$D,"") | AH15: =_xlfn.XLOOKUP($AF15,DATA_BRAND!$G:$G,DATA_BRAND!$E:$E,"") | AI15: =_xlfn.XLOOKUP($AF15,DATA_BRAND!$G:$G,DATA_BRAND!$F:$F,"") | AJ15: =$AK$5&$K$1&TEXT($B15,"jj/mm/aaaa") -> Burberry1001141109/07/2021 | AK15: =_xlfn.XLOOKUP($AJ15,DATA_BRAND!$G:$G,DATA_BRAND!$D:$D,"") | AL15: =_xlfn.XLOOKUP($AJ15,DATA_BRAND!$G:$G,DATA_BRAND!$E:$E,"") | AM15: =_xlfn.XLOOKUP($AJ15,DATA_BRAND!$G:$G,DATA_BRAND!$F:$F,"") | AN15: =$AO$5&$K$1&TEXT($B15,"jj/mm/aaaa") -> Givenchy1001141109/07/2021 | AO15: =_xlfn.XLOOKUP($AN15,DATA_BRAND!$G:$G,DATA_BRAND!$D:$D,"") | AP15: =_xlfn.XLOOKUP($AN15,DATA_BRAND!$G:$G,DATA_BRAND!$E:$E,"") | AQ15: =_xlfn.XLOOKUP($AN15,DATA_BRAND!$G:$G,DATA_BRAND!$F:$F,"") | AR15: =$AS$5&$K$1&TEXT($B15,"jj/mm/aaaa") -> Kenzo1001141109/07/2021 | AS15: =_xlfn.XLOOKUP($AR15,DATA_BRAND!$G:$G,DATA_BRAND!$D:$D,"") | AT15: =_xlfn.XLOOKUP($AR15,DATA_BRAND!$G:$G,DATA_BRAND!$E:$E,"") | AU15: =_xlfn.XLOOKUP($AR15,DATA_BRAND!$G:$G,DATA_BRAND!$F:$F,"") | AV15: =$AW$5&$K$1&TEXT($B15,"jj/mm/aaaa") -> Lacoste1001141109/07/2021 | AW15: =_xlfn.XLOOKUP($AV15,DATA_BRAND!$G:$G,DATA_BRAND!$D:$D,"") | AX15: =_xlfn.XLOOKUP($AV15,DATA_BRAND!$G:$G,DATA_BRAND!$E:$E,"") | AY15: =_xlfn.XLOOKUP($AV15,DATA_BRAND!$G:$G,DATA_BRAND!$F:$F,"") | AZ15: =$BA$5&$K$1&TEXT($B15,"jj/mm/aaaa") -> Maison Margiela1001141109/07/2021 | BA15: =_xlfn.XLOOKUP($AZ15,DATA_BRAND!$G:$G,DATA_BRAND!$D:$D,"") | BB15: =_xlfn.XLOOKUP($AZ15,DATA_BRAND!$G:$G,DATA_BRAND!$E:$E,"") | BC15: =_xlfn.XLOOKUP($AZ15,DATA_BRAND!$G:$G,DATA_BRAND!$F:$F,"") | BD15: =$BE$5&$K$1&TEXT($B15,"jj/mm/aaaa") -> Moncler1001141109/07/2021 | BE15: =_xlfn.XLOOKUP($BD15,DATA_BRAND!$G:$G,DATA_BRAND!$D:$D,"") | BF15: =_xlfn.XLOOKUP($BD15,DATA_BRAND!$G:$G,DATA_BRAND!$E:$E,"") | BG15: =_xlfn.XLOOKUP($BD15,DATA_BRAND!$G:$G,DATA_BRAND!$F:$F,"") | BH15: =$BI$5&$K$1&TEXT($B15,"jj/mm/aaaa") -> Off-White1001141109/07/2021 | BI15: =_xlfn.XLOOKUP($BH15,DATA_BRAND!$G:$G,DATA_BRAND!$D:$D,"") | BJ15: =_xlfn.XLOOKUP($BH15,DATA_BRAND!$G:$G,DATA_BRAND!$E:$E,"") | BK15: =_xlfn.XLOOKUP($BH15,DATA_BRAND!$G:$G,DATA_BRAND!$F:$F,"") | BL15: =$BM$5&$K$1&TEXT($B15,"jj/mm/aaaa") -> Polo Ralph Lauren1001141109/07/2021 | BM15: =_xlfn.XLOOKUP($BL15,DATA_BRAND!$G:$G,DATA_BRAND!$D:$D,"") | BN15: =_xlfn.XLOOKUP($BL15,DATA_BRAND!$G:$G,DATA_BRAND!$E:$E,"") | BO15: =_xlfn.XLOOKUP($BL15,DATA_BRAND!$G:$G,DATA_BRAND!$F:$F,"") | BP15: =$BQ$5&$K$1&TEXT($B15,"jj/mm/aaaa") -> Salvatore Ferragamo1001141109/07/2021 | BQ15: =_xlfn.XLOOKUP($BP15,DATA_BRAND!$G:$G,DATA_BRAND!$D:$D,"") | BR15: =_xlfn.XLOOKUP($BP15,DATA_BRAND!$G:$G,DATA_BRAND!$E:$E,"") | BS15: =_xlfn.XLOOKUP($BP15,DATA_BRAND!$G:$G,DATA_BRAND!$F:$F,"") | BT15: =$BU$5&$K$1&TEXT($B15,"jj/mm/aaaa") -> Smythson1001141109/07/2021 | BU15: =_xlfn.XLOOKUP($BT15,DATA_BRAND!$G:$G,DATA_BRAND!$D:$D,"") | BV15: =_xlfn.XLOOKUP($BT15,DATA_BRAND!$G:$G,DATA_BRAND!$E:$E,"") | BW15: =_xlfn.XLOOKUP($BT15,DATA_BRAND!$G:$G,DATA_BRAND!$F:$F,"") | BX15: =$BY$5&$K$1&TEXT($B15,"jj/mm/aaaa") -> Stone Island1001141109/07/2021 | BY15: =_xlfn.XLOOKUP($BX15,DATA_BRAND!$G:$G,DATA_BRAND!$D:$D,"") | BZ15: =_xlfn.XLOOKUP($BX15,DATA_BRAND!$G:$G,DATA_BRAND!$E:$E,"") | CA15: =_xlfn.XLOOKUP($BX15,DATA_BRAND!$G:$G,DATA_BRAND!$F:$F,"") | CB15: =$CC$5&$K$1&TEXT($B15,"jj/mm/aaaa") -> Thom Browne1001141109/07/2021 | CC15: =_xlfn.XLOOKUP($CB15,DATA_BRAND!$G:$G,DATA_BRAND!$D:$D,"") | CD15: =_xlfn.XLOOKUP($CB15,DATA_BRAND!$G:$G,DATA_BRAND!$E:$E,"") | CE15: =_xlfn.XLOOKUP($CB15,DATA_BRAND!$G:$G,DATA_BRAND!$F:$F,"") | CF15: =$CG$5&$K$1&TEXT($B15,"jj/mm/aaaa") -> Versace1001141109/07/2021 | CG15: =_xlfn.XLOOKUP($CF15,DATA_BRAND!$G:$G,DATA_BRAND!$D:$D,"") | CH15: =_xlfn.XLOOKUP($CF15,DATA_BRAND!$G:$G,DATA_BRAND!$E:$E,"") | CI15: =_xlfn.XLOOKUP($CF15,DATA_BRAND!$G:$G,DATA_BRAND!$F:$F,"") | CJ15: =$CK$5&$K$1&TEXT($B15,"jj/mm/aaaa") -> YSL1001141109/07/2021 | CK15: =_xlfn.XLOOKUP($CJ15,DATA_BRAND!$G:$G,DATA_BRAND!$D:$D,"") | CL15: =_xlfn.XLOOKUP($CJ15,DATA_BRAND!$G:$G,DATA_BRAND!$E:$E,"") | CM15: =_xlfn.XLOOKUP($CJ15,DATA_BRAND!$G:$G,DATA_BRAND!$F:$F,"")
A16: 10 | B16: =DATE(AnneeCalendrier,NumMOIS,A16) -> 44387 | C16: =DATE($C$3,$E$1,A16) -> 44387 | D16: =$E$5&$K$1&TEXT($B16,"jj/mm/aaaa") -> Acne1001141110/07/2021 | E16: =_xlfn.XLOOKUP($D16,DATA_BRAND!$G:$G,DATA_BRAND!$D:$D,"") | F16: =_xlfn.XLOOKUP($D16,DATA_BRAND!$G:$G,DATA_BRAND!$E:$E,"") | G16: =_xlfn.XLOOKUP($D16,DATA_BRAND!$G:$G,DATA_BRAND!$F:$F,"") | H16: =$I$5&$K$1&TEXT($B16,"jj/mm/aaaa") -> Alfred Dunhill1001141110/07/2021 | I16: =_xlfn.XLOOKUP($H16,DATA_BRAND!$G:$G,DATA_BRAND!$D:$D,"") | J16: =_xlfn.XLOOKUP($H16,DATA_BRAND!$G:$G,DATA_BRAND!$E:$E,"") | K16: =_xlfn.XLOOKUP($H16,DATA_BRAND!$G:$G,DATA_BRAND!$F:$F,"") | L16: =$M$5&$K$1&TEXT($B16,"jj/mm/aaaa") -> Anderson's1001141110/07/2021 | M16: =_xlfn.XLOOKUP($L16,DATA_BRAND!$G:$G,DATA_BRAND!$D:$D,"") | N16: =_xlfn.XLOOKUP($L16,DATA_BRAND!$G:$G,DATA_BRAND!$E:$E,"") | O16: =_xlfn.XLOOKUP($L16,DATA_BRAND!$G:$G,DATA_BRAND!$F:$F,"") | P16: =$Q$5&$K$1&TEXT($B16,"jj/mm/aaaa") -> Balenciaga1001141110/07/2021 | Q16: =_xlfn.XLOOKUP($P16,DATA_BRAND!$G:$G,DATA_BRAND!$D:$D,"") | R16: =_xlfn.XLOOKUP($P16,DATA_BRAND!$G:$G,DATA_BRAND!$E:$E,"") | S16: =_xlfn.XLOOKUP($P16,DATA_BRAND!$G:$G,DATA_BRAND!$F:$F,"") | T16: =$U$5&$K$1&TEXT($B16,"jj/mm/aaaa") -> Bally1001141110/07/2021 | U16: =_xlfn.XLOOKUP($T16,DATA_BRAND!$G:$G,DATA_BRAND!$D:$D,"") | V16: =_xlfn.XLOOKUP($T16,DATA_BRAND!$G:$G,DATA_BRAND!$E:$E,"") | W16: =_xlfn.XLOOKUP($T16,DATA_BRAND!$G:$G,DATA_BRAND!$F:$F,"") | X16: =$Y$5&$K$1&TEXT($B16,"jj/mm/aaaa") -> Balmain1001141110/07/2021 | Y16: =_xlfn.XLOOKUP($X16,DATA_BRAND!$G:$G,DATA_BRAND!$D:$D,"") | Z16: =_xlfn.XLOOKUP($X16,DATA_BRAND!$G:$G,DATA_BRAND!$E:$E,"") | AA16: =_xlfn.XLOOKUP($X16,DATA_BRAND!$G:$G,DATA_BRAND!$F:$F,"") | AB16: =$AC$5&$K$1&TEXT($B16,"jj/mm/aaaa") -> Bleu de Chauffe1001141110/07/2021 | AC16: =_xlfn.XLOOKUP($AB16,DATA_BRAND!$G:$G,DATA_BRAND!$D:$D,"") | AD16: =_xlfn.XLOOKUP($AB16,DATA_BRAND!$G:$G,DATA_BRAND!$E:$E,"") | AE16: =_xlfn.XLOOKUP($AB16,DATA_BRAND!$G:$G,DATA_BRAND!$F:$F,"") | AF16: =$AG$5&$K$1&TEXT($B16,"jj/mm/aaaa") -> Bottega Veneta1001141110/07/2021 | AG16: =_xlfn.XLOOKUP($AF16,DATA_BRAND!$G:$G,DATA_BRAND!$D:$D,"") | AH16: =_xlfn.XLOOKUP($AF16,DATA_BRAND!$G:$G,DATA_BRAND!$E:$E,"") | AI16: =_xlfn.XLOOKUP($AF16,DATA_BRAND!$G:$G,DATA_BRAND!$F:$F,"") | AJ16: =$AK$5&$K$1&TEXT($B16,"jj/mm/aaaa") -> Burberry1001141110/07/2021 | AK16: =_xlfn.XLOOKUP($AJ16,DATA_BRAND!$G:$G,DATA_BRAND!$D:$D,"") | AL16: =_xlfn.XLOOKUP($AJ16,DATA_BRAND!$G:$G,DATA_BRAND!$E:$E,"") | AM16: =_xlfn.XLOOKUP($AJ16,DATA_BRAND!$G:$G,DATA_BRAND!$F:$F,"") | AN16: =$AO$5&$K$1&TEXT($B16,"jj/mm/aaaa") -> Givenchy1001141110/07/2021 | AO16: =_xlfn.XLOOKUP($AN16,DATA_BRAND!$G:$G,DATA_BRAND!$D:$D,"") | AP16: =_xlfn.XLOOKUP($AN16,DATA_BRAND!$G:$G,DATA_BRAND!$E:$E,"") | AQ16: =_xlfn.XLOOKUP($AN16,DATA_BRAND!$G:$G,DATA_BRAND!$F:$F,"") | AR16: =$AS$5&$K$1&TEXT($B16,"jj/mm/aaaa") -> Kenzo1001141110/07/2021 | AS16: =_xlfn.XLOOKUP($AR16,DATA_BRAND!$G:$G,DATA_BRAND!$D:$D,"") | AT16: =_xlfn.XLOOKUP($AR16,DATA_BRAND!$G:$G,DATA_BRAND!$E:$E,"") | AU16: =_xlfn.XLOOKUP($AR16,DATA_BRAND!$G:$G,DATA_BRAND!$F:$F,"") | AV16: =$AW$5&$K$1&TEXT($B16,"jj/mm/aaaa") -> Lacoste1001141110/07/2021 | AW16: =_xlfn.XLOOKUP($AV16,DATA_BRAND!$G:$G,DATA_BRAND!$D:$D,"") | AX16: =_xlfn.XLOOKUP($AV16,DATA_BRAND!$G:$G,DATA_BRAND!$E:$E,"") | AY16: =_xlfn.XLOOKUP($AV16,DATA_BRAND!$G:$G,DATA_BRAND!$F:$F,"") | AZ16: =$BA$5&$K$1&TEXT($B16,"jj/mm/aaaa") -> Maison Margiela1001141110/07/2021 | BA16: =_xlfn.XLOOKUP($AZ16,DATA_BRAND!$G:$G,DATA_BRAND!$D:$D,"") -> 1 | BB16: =_xlfn.XLOOKUP($AZ16,DATA_BRAND!$G:$G,DATA_BRAND!$E:$E,"") -> 1 | BC16: =_xlfn.XLOOKUP($AZ16,DATA_BRAND!$G:$G,DATA_BRAND!$F:$F,"") -> 354.17 | BD16: =$BE$5&$K$1&TEXT($B16,"jj/mm/aaaa") -> Moncler1001141110/07/2021 | BE16: =_xlfn.XLOOKUP($BD16,DATA_BRAND!$G:$G,DATA_BRAND!$D:$D,"") | BF16: =_xlfn.XLOOKUP($BD16,DATA_BRAND!$G:$G,DATA_BRAND!$E:$E,"") | BG16: =_xlfn.XLOOKUP($BD16,DATA_BRAND!$G:$G,DATA_BRAND!$F:$F,"") | BH16: =$BI$5&$K$1&TEXT($B16,"jj/mm/aaaa") -> Off-White1001141110/07/2021 | BI16: =_xlfn.XLOOKUP($BH16,DATA_BRAND!$G:$G,DATA_BRAND!$D:$D,"") | BJ16: =_xlfn.XLOOKUP($BH16,DATA_BRAND!$G:$G,DATA_BRAND!$E:$E,"") | BK16: =_xlfn.XLOOKUP($BH16,DATA_BRAND!$G:$G,DATA_BRAND!$F:$F,"") | BL16: =$BM$5&$K$1&TEXT($B16,"jj/mm/aaaa") -> Polo Ralph Lauren1001141110/07/2021 | BM16: =_xlfn.XLOOKUP($BL16,DATA_BRAND!$G:$G,DATA_BRAND!$D:$D,"") | BN16: =_xlfn.XLOOKUP($BL16,DATA_BRAND!$G:$G,DATA_BRAND!$E:$E,"") | BO16: =_xlfn.XLOOKUP($BL16,DATA_BRAND!$G:$G,DATA_BRAND!$F:$F,"") | BP16: =$BQ$5&$K$1&TEXT($B16,"jj/mm/aaaa") -> Salvatore Ferragamo1001141110/07/2021 | BQ16: =_xlfn.XLOOKUP($BP16,DATA_BRAND!$G:$G,DATA_BRAND!$D:$D,"") | BR16: =_xlfn.XLOOKUP($BP16,DATA_BRAND!$G:$G,DATA_BRAND!$E:$E,"") | BS16: =_xlfn.XLOOKUP($BP16,DATA_BRAND!$G:$G,DATA_BRAND!$F:$F,"") | BT16: =$BU$5&$K$1&TEXT($B16,"jj/mm/aaaa") -> Smythson1001141110/07/2021 | BU16: =_xlfn.XLOOKUP($BT16,DATA_BRAND!$G:$G,DATA_BRAND!$D:$D,"") | BV16: =_xlfn.XLOOKUP($BT16,DATA_BRAND!$G:$G,DATA_BRAND!$E:$E,"") | BW16: =_xlfn.XLOOKUP($BT16,DATA_BRAND!$G:$G,DATA_BRAND!$F:$F,"") | BX16: =$BY$5&$K$1&TEXT($B16,"jj/mm/aaaa") -> Stone Island1001141110/07/2021 | BY16: =_xlfn.XLOOKUP($BX16,DATA_BRAND!$G:$G,DATA_BRAND!$D:$D,"") | BZ16: =_xlfn.XLOOKUP($BX16,DATA_BRAND!$G:$G,DATA_BRAND!$E:$E,"") | CA16: =_xlfn.XLOOKUP($BX16,DATA_BRAND!$G:$G,DATA_BRAND!$F:$F,"") | CB16: =$CC$5&$K$1&TEXT($B16,"jj/mm/aaaa") -> Thom Browne1001141110/07/2021 | CC16: =_xlfn.XLOOKUP($CB16,DATA_BRAND!$G:$G,DATA_BRAND!$D:$D,"") | CD16: =_xlfn.XLOOKUP($CB16,DATA_BRAND!$G:$G,DATA_BRAND!$E:$E,"") | CE16: =_xlfn.XLOOKUP($CB16,DATA_BRAND!$G:$G,DATA_BRAND!$F:$F,"") | CF16: =$CG$5&$K$1&TEXT($B16,"jj/mm/aaaa") -> Versace1001141110/07/2021 | CG16: =_xlfn.XLOOKUP($CF16,DATA_BRAND!$G:$G,DATA_BRAND!$D:$D,"") | CH16: =_xlfn.XLOOKUP($CF16,DATA_BRAND!$G:$G,DATA_BRAND!$E:$E,"") | CI16: =_xlfn.XLOOKUP($CF16,DATA_BRAND!$G:$G,DATA_BRAND!$F:$F,"") | CJ16: =$CK$5&$K$1&TEXT($B16,"jj/mm/aaaa") -> YSL1001141110/07/2021 | CK16: =_xlfn.XLOOKUP($CJ16,DATA_BRAND!$G:$G,DATA_BRAND!$D:$D,"") -> 1 | CL16: =_xlfn.XLOOKUP($CJ16,DATA_BRAND!$G:$G,DATA_BRAND!$E:$E,"") -> 1 | CM16: =_xlfn.XLOOKUP($CJ16,DATA_BRAND!$G:$G,DATA_BRAND!$F:$F,"") -> 287.5
A17: 11 | B17: =DATE(AnneeCalendrier,NumMOIS,A17) -> 44388 | C17: =DATE($C$3,$E$1,A17) -> 44388 | D17: =$E$5&$K$1&TEXT($B17,"jj/mm/aaaa") -> Acne1001141111/07/2021 | E17: =_xlfn.XLOOKUP($D17,DATA_BRAND!$G:$G,DATA_BRAND!$D:$D,"") | F17: =_xlfn.XLOOKUP($D17,DATA_BRAND!$G:$G,DATA_BRAND!$E:$E,"") | G17: =_xlfn.XLOOKUP($D17,DATA_BRAND!$G:$G,DATA_BRAND!$F:$F,"") | H17: =$I$5&$K$1&TEXT($B17,"jj/mm/aaaa") -> Alfred Dunhill1001141111/07/2021 | I17: =_xlfn.XLOOKUP($H17,DATA_BRAND!$G:$G,DATA_BRAND!$D:$D,"") | J17: =_xlfn.XLOOKUP($H17,DATA_BRAND!$G:$G,DATA_BRAND!$E:$E,"") | K17: =_xlfn.XLOOKUP($H17,DATA_BRAND!$G:$G,DATA_BRAND!$F:$F,"") | L17: =$M$5&$K$1&TEXT($B17,"jj/mm/aaaa") -> Anderson's1001141111/07/2021 | M17: =_xlfn.XLOOKUP($L17,DATA_BRAND!$G:$G,DATA_BRAND!$D:$D,"") | N17: =_xlfn.XLOOKUP($L17,DATA_BRAND!$G:$G,DATA_BRAND!$E:$E,"") | O17: =_xlfn.XLOOKUP($L17,DATA_BRAND!$G:$G,DATA_BRAND!$F:$F,"") | P17: =$Q$5&$K$1&TEXT($B17,"jj/mm/aaaa") -> Balenciaga1001141111/07/2021 | Q17: =_xlfn.XLOOKUP($P17,DATA_BRAND!$G:$G,DATA_BRAND!$D:$D,"") | R17: =_xlfn.XLOOKUP($P17,DATA_BRAND!$G:$G,DATA_BRAND!$E:$E,"") | S17: =_xlfn.XLOOKUP($P17,DATA_BRAND!$G:$G,DATA_BRAND!$F:$F,"") | T17: =$U$5&$K$1&TEXT($B17,"jj/mm/aaaa") -> Bally1001141111/07/2021 | U17: =_xlfn.XLOOKUP($T17,DATA_BRAND!$G:$G,DATA_BRAND!$D:$D,"") | V17: =_xlfn.XLOOKUP($T17,DATA_BRAND!$G:$G,DATA_BRAND!$E:$E,"") | W17: =_xlfn.XLOOKUP($T17,DATA_BRAND!$G:$G,DATA_BRAND!$F:$F,"") | X17: =$Y$5&$K$1&TEXT($B17,"jj/mm/aaaa") -> Balmain1001141111/07/2021 | Y17: =_xlfn.XLOOKUP($X17,DATA_BRAND!$G:$G,DATA_BRAND!$D:$D,"") | Z17: =_xlfn.XLOOKUP($X17,DATA_BRAND!$G:$G,DATA_BRAND!$E:$E,"") | AA17: =_xlfn.XLOOKUP($X17,DATA_BRAND!$G:$G,DATA_BRAND!$F:$F,"") | AB17: =$AC$5&$K$1&TEXT($B17,"jj/mm/aaaa") -> Bleu de Chauffe1001141111/07/2021 | AC17: =_xlfn.XLOOKUP($AB17,DATA_BRAND!$G:$G,DATA_BRAND!$D:$D,"") | AD17: =_xlfn.XLOOKUP($AB17,DATA_BRAND!$G:$G,DATA_BRAND!$E:$E,"") | AE17: =_xlfn.XLOOKUP($AB17,DATA_BRAND!$G:$G,DATA_BRAND!$F:$F,"") | AF17: =$AG$5&$K$1&TEXT($B17,"jj/mm/aaaa") -> Bottega Veneta1001141111/07/2021 | AG17: =_xlfn.XLOOKUP($AF17,DATA_BRAND!$G:$G,DATA_BRAND!$D:$D,"") | AH17: =_xlfn.XLOOKUP($AF17,DATA_BRAND!$G:$G,DATA_BRAND!$E:$E,"") | AI17: =_xlfn.XLOOKUP($AF17,DATA_BRAND!$G:$G,DATA_BRAND!$F:$F,"") | AJ17: =$AK$5&$K$1&TEXT($B17,"jj/mm/aaaa") -> Burberry1001141111/07/2021 | AK17: =_xlfn.XLOOKUP($AJ17,DATA_BRAND!$G:$G,DATA_BRAND!$D:$D,"") | AL17: =_xlfn.XLOOKUP($AJ17,DATA_BRAND!$G:$G,DATA_BRAND!$E:$E,"") | AM17: =_xlfn.XLOOKUP($AJ17,DATA_BRAND!$G:$G,DATA_BRAND!$F:$F,"") | AN17: =$AO$5&$K$1&TEXT($B17,"jj/mm/aaaa") -> Givenchy1001141111/07/2021 | AO17: =_xlfn.XLOOKUP($AN17,DATA_BRAND!$G:$G,DATA_BRAND!$D:$D,"") -> 1 | AP17: =_xlfn.XLOOKUP($AN17,DATA_BRAND!$G:$G,DATA_BRAND!$E:$E,"") -> 1 | AQ17: =_xlfn.XLOOKUP($AN17,DATA_BRAND!$G:$G,DATA_BRAND!$F:$F,"") -> 408.33 | AR17: =$AS$5&$K$1&TEXT($B17,"jj/mm/aaaa") -> Kenzo1001141111/07/2021 | AS17: =_xlfn.XLOOKUP($AR17,DATA_BRAND!$G:$G,DATA_BRAND!$D:$D,"") | AT17: =_xlfn.XLOOKUP($AR17,DATA_BRAND!$G:$G,DATA_BRAND!$E:$E,"") | AU17: =_xlfn.XLOOKUP($AR17,DATA_BRAND!$G:$G,DATA_BRAND!$F:$F,"") | AV17: =$AW$5&$K$1&TEXT($B17,"jj/mm/aaaa") -> Lacoste1001141111/07/2021 | AW17: =_xlfn.XLOOKUP($AV17,DATA_BRAND!$G:$G,DATA_BRAND!$D:$D,"") | AX17: =_xlfn.XLOOKUP($AV17,DATA_BRAND!$G:$G,DATA_BRAND!$E:$E,"") | AY17: =_xlfn.XLOOKUP($AV17,DATA_BRAND!$G:$G,DATA_BRAND!$F:$F,"") | AZ17: =$BA$5&$K$1&TEXT($B17,"jj/mm/aaaa") -> Maison Margiela1001141111/07/2021 | BA17: =_xlfn.XLOOKUP($AZ17,DATA_BRAND!$G:$G,DATA_BRAND!$D:$D,"") | BB17: =_xlfn.XLOOKUP($AZ17,DATA_BRAND!$G:$G,DATA_BRAND!$E:$E,"") | BC17: =_xlfn.XLOOKUP($AZ17,DATA_BRAND!$G:$G,DATA_BRAND!$F:$F,"") | BD17: =$BE$5&$K$1&TEXT($B17,"jj/mm/aaaa") -> Moncler1001141111/07/2021 | BE17: =_xlfn.XLOOKUP($BD17,DATA_BRAND!$G:$G,DATA_BRAND!$D:$D,"") | BF17: =_xlfn.XLOOKUP($BD17,DATA_BRAND!$G:$G,DATA_BRAND!$E:$E,"") | BG17: =_xlfn.XLOOKUP($BD17,DATA_BRAND!$G:$G,DATA_BRAND!$F:$F,"") | BH17: =$BI$5&$K$1&TEXT($B17,"jj/mm/aaaa") -> Off-White1001141111/07/2021 | BI17: =_xlfn.XLOOKUP($BH17,DATA_BRAND!$G:$G,DATA_BRAND!$D:$D,"") -> 1 | BJ17: =_xlfn.XLOOKUP($BH17,DATA_BRAND!$G:$G,DATA_BRAND!$E:$E,"") -> 1 | BK17: =_xlfn.XLOOKUP($BH17,DATA_BRAND!$G:$G,DATA_BRAND!$F:$F,"") -> 210 | BL17: =$BM$5&$K$1&TEXT($B17,"jj/mm/aaaa") -> Polo Ralph Lauren1001141111/07/2021 | BM17: =_xlfn.XLOOKUP($BL17,DATA_BRAND!$G:$G,DATA_BRAND!$D:$D,"") | BN17: =_xlfn.XLOOKUP($BL17,DATA_BRAND!$G:$G,DATA_BRAND!$E:$E,"") | BO17: =_xlfn.XLOOKUP($BL17,DATA_BRAND!$G:$G,DATA_BRAND!$F:$F,"") | BP17: =$BQ$5&$K$1&TEXT($B17,"jj/mm/aaaa") -> Salvatore Ferragamo1001141111/07/2021 | BQ17: =_xlfn.XLOOKUP($BP17,DATA_BRAND!$G:$G,DATA_BRAND!$D:$D,"") | BR17: =_xlfn.XLOOKUP($BP17,DATA_BRAND!$G:$G,DATA_BRAND!$E:$E,"") | BS17: =_xlfn.XLOOKUP($BP17,DATA_BRAND!$G:$G,DATA_BRAND!$F:$F,"") | BT17: =$BU$5&$K$1&TEXT($B17,"jj/mm/aaaa") -> Smythson1001141111/07/2021 | BU17: =_xlfn.XLOOKUP($BT17,DATA_BRAND!$G:$G,DATA_BRAND!$D:$D,"") | BV17: =_xlfn.XLOOKUP($BT17,DATA_BRAND!$G:$G,DATA_BRAND!$E:$E,"") | BW17: =_xlfn.XLOOKUP($BT17,DATA_BRAND!$G:$G,DATA_BRAND!$F:$F,"") | BX17: =$BY$5&$K$1&TEXT($B17,"jj/mm/aaaa") -> Stone Island1001141111/07/2021 | BY17: =_xlfn.XLOOKUP($BX17,DATA_BRAND!$G:$G,DATA_BRAND!$D:$D,"") | BZ17: =_xlfn.XLOOKUP($BX17,DATA_BRAND!$G:$G,DATA_BRAND!$E:$E,"") | CA17: =_xlfn.XLOOKUP($BX17,DATA_BRAND!$G:$G,DATA_BRAND!$F:$F,"") | CB17: =$CC$5&$K$1&TEXT($B17,"jj/mm/aaaa") -> Thom Browne1001141111/07/2021 | CC17: =_xlfn.XLOOKUP($CB17,DATA_BRAND!$G:$G,DATA_BRAND!$D:$D,"") | CD17: =_xlfn.XLOOKUP($CB17,DATA_BRAND!$G:$G,DATA_BRAND!$E:$E,"") | CE17: =_xlfn.XLOOKUP($CB17,DATA_BRAND!$G:$G,DATA_BRAND!$F:$F,"") | CF17: =$CG$5&$K$1&TEXT($B17,"jj/mm/aaaa") -> Versace1001141111/07/2021 | CG17: =_xlfn.XLOOKUP($CF17,DATA_BRAND!$G:$G,DATA_BRAND!$D:$D,"") -> 1 | CH17: =_xlfn.XLOOKUP($CF17,DATA_BRAND!$G:$G,DATA_BRAND!$E:$E,"") -> 1 | CI17: =_xlfn.XLOOKUP($CF17,DATA_BRAND!$G:$G,DATA_BRAND!$F:$F,"") -> 122.92 | CJ17: =$CK$5&$K$1&TEXT($B17,"jj/mm/aaaa") -> YSL1001141111/07/2021 | CK17: =_xlfn.XLOOKUP($CJ17,DATA_BRAND!$G:$G,DATA_BRAND!$D:$D,"") | CL17: =_xlfn.XLOOKUP($CJ17,DATA_BRAND!$G:$G,DATA_BRAND!$E:$E,"") | CM17: =_xlfn.XLOOKUP($CJ17,DATA_BRAND!$G:$G,DATA_BRAND!$F:$F,"")
A18: 12 | B18: =DATE(AnneeCalendrier,NumMOIS,A18) -> 44389 | C18: =DATE($C$3,$E$1,A18) -> 44389 | D18: =$E$5&$K$1&TEXT($B18,"jj/mm/aaaa") -> Acne1001141112/07/2021 | E18: =_xlfn.XLOOKUP($D18,DATA_BRAND!$G:$G,DATA_BRAND!$D:$D,"") -> 1 | F18: =_xlfn.XLOOKUP($D18,DATA_BRAND!$G:$G,DATA_BRAND!$E:$E,"") -> 1 | G18: =_xlfn.XLOOKUP($D18,DATA_BRAND!$G:$G,DATA_BRAND!$F:$F,"") -> 90 | H18: =$I$5&$K$1&TEXT($B18,"jj/mm/aaaa") -> Alfred Dunhill1001141112/07/2021 | I18: =_xlfn.XLOOKUP($H18,DATA_BRAND!$G:$G,DATA_BRAND!$D:$D,"") | J18: =_xlfn.XLOOKUP($H18,DATA_BRAND!$G:$G,DATA_BRAND!$E:$E,"") | K18: =_xlfn.XLOOKUP($H18,DATA_BRAND!$G:$G,DATA_BRAND!$F:$F,"") | L18: =$M$5&$K$1&TEXT($B18,"jj/mm/aaaa") -> Anderson's1001141112/07/2021 | M18: =_xlfn.XLOOKUP($L18,DATA_BRAND!$G:$G,DATA_BRAND!$D:$D,"") | N18: =_xlfn.XLOOKUP($L18,DATA_BRAND!$G:$G,DATA_BRAND!$E:$E,"") | O18: =_xlfn.XLOOKUP($L18,DATA_BRAND!$G:$G,DATA_BRAND!$F:$F,"") | P18: =$Q$5&$K$1&TEXT($B18,"jj/mm/aaaa") -> Balenciaga1001141112/07/2021 | Q18: =_xlfn.XLOOKUP($P18,DATA_BRAND!$G:$G,DATA_BRAND!$D:$D,"") | R18: =_xlfn.XLOOKUP($P18,DATA_BRAND!$G:$G,DATA_BRAND!$E:$E,"") | S18: =_xlfn.XLOOKUP($P18,DATA_BRAND!$G:$G,DATA_BRAND!$F:$F,"") | T18: =$U$5&$K$1&TEXT($B18,"jj/mm/aaaa") -> Bally1001141112/07/2021 | U18: =_xlfn.XLOOKUP($T18,DATA_BRAND!$G:$G,DATA_BRAND!$D:$D,"") | V18: =_xlfn.XLOOKUP($T18,DATA_BRAND!$G:$G,DATA_BRAND!$E:$E,"") | W18: =_xlfn.XLOOKUP($T18,DATA_BRAND!$G:$G,DATA_BRAND!$F:$F,"") | X18: =$Y$5&$K$1&TEXT($B18,"jj/mm/aaaa") -> Balmain1001141112/07/2021 | Y18: =_xlfn.XLOOKUP($X18,DATA_BRAND!$G:$G,DATA_BRAND!$D:$D,"") | Z18: =_xlfn.XLOOKUP($X18,DATA_BRAND!$G:$G,DATA_BRAND!$E:$E,"") | AA18: =_xlfn.XLOOKUP($X18,DATA_BRAND!$G:$G,DATA_BRAND!$F:$F,"") | AB18: =$AC$5&$K$1&TEXT($B18,"jj/mm/aaaa") -> Bleu de Chauffe1001141112/07/2021 | AC18: =_xlfn.XLOOKUP($AB18,DATA_BRAND!$G:$G,DATA_BRAND!$D:$D,"") | AD18: =_xlfn.XLOOKUP($AB18,DATA_BRAND!$G:$G,DATA_BRAND!$E:$E,"") | AE18: =_xlfn.XLOOKUP($AB18,DATA_BRAND!$G:$G,DATA_BRAND!$F:$F,"") | AF18: =$AG$5&$K$1&TEXT($B18,"jj/mm/aaaa") -> Bottega Veneta1001141112/07/2021 | AG18: =_xlfn.XLOOKUP($AF18,DATA_BRAND!$G:$G,DATA_BRAND!$D:$D,"") | AH18: =_xlfn.XLOOKUP($AF18,DATA_BRAND!$G:$G,DATA_BRAND!$E:$E,"") | AI18: =_xlfn.XLOOKUP($AF18,DATA_BRAND!$G:$G,DATA_BRAND!$F:$F,"") | AJ18: =$AK$5&$K$1&TEXT($B18,"jj/mm/aaaa") -> Burberry1001141112/07/2021 | AK18: =_xlfn.XLOOKUP($AJ18,DATA_BRAND!$G:$G,DATA_BRAND!$D:$D,"") | AL18: =_xlfn.XLOOKUP($AJ18,DATA_BRAND!$G:$G,DATA_BRAND!$E:$E,"") | AM18: =_xlfn.XLOOKUP($AJ18,DATA_BRAND!$G:$G,DATA_BRAND!$F:$F,"") | AN18: =$AO$5&$K$1&TEXT($B18,"jj/mm/aaaa") -> Givenchy1001141112/07/2021 | AO18: =_xlfn.XLOOKUP($AN18,DATA_BRAND!$G:$G,DATA_BRAND!$D:$D,"") | AP18: =_xlfn.XLOOKUP($AN18,DATA_BRAND!$G:$G,DATA_BRAND!$E:$E,"") | AQ18: =_xlfn.XLOOKUP($AN18,DATA_BRAND!$G:$G,DATA_BRAND!$F:$F,"") | AR18: =$AS$5&$K$1&TEXT($B18,"jj/mm/aaaa") -> Kenzo1001141112/07/2021 | AS18: =_xlfn.XLOOKUP($AR18,DATA_BRAND!$G:$G,DATA_BRAND!$D:$D,"") | AT18: =_xlfn.XLOOKUP($AR18,DATA_BRAND!$G:$G,DATA_BRAND!$E:$E,"") | AU18: =_xlfn.XLOOKUP($AR18,DATA_BRAND!$G:$G,DATA_BRAND!$F:$F,"") | AV18: =$AW$5&$K$1&TEXT($B18,"jj/mm/aaaa") -> Lacoste1001141112/07/2021 | AW18: =_xlfn.XLOOKUP($AV18,DATA_BRAND!$G:$G,DATA_BRAND!$D:$D,"") | AX18: =_xlfn.XLOOKUP($AV18,DATA_BRAND!$G:$G,DATA_BRAND!$E:$E,"") | AY18: =_xlfn.XLOOKUP($AV18,DATA_BRAND!$G:$G,DATA_BRAND!$F:$F,"") | AZ18: =$BA$5&$K$1&TEXT($B18,"jj/mm/aaaa") -> Maison Margiela1001141112/07/2021 | BA18: =_xlfn.XLOOKUP($AZ18,DATA_BRAND!$G:$G,DATA_BRAND!$D:$D,"") | BB18: =_xlfn.XLOOKUP($AZ18,DATA_BRAND!$G:$G,DATA_BRAND!$E:$E,"") | BC18: =_xlfn.XLOOKUP($AZ18,DATA_BRAND!$G:$G,DATA_BRAND!$F:$F,"") | BD18: =$BE$5&$K$1&TEXT($B18,"jj/mm/aaaa") -> Moncler1001141112/07/2021 | BE18: =_xlfn.XLOOKUP($BD18,DATA_BRAND!$G:$G,DATA_BRAND!$D:$D,"") | BF18: =_xlfn.XLOOKUP($BD18,DATA_BRAND!$G:$G,DATA_BRAND!$E:$E,"") | BG18: =_xlfn.XLOOKUP($BD18,DATA_BRAND!$G:$G,DATA_BRAND!$F:$F,"") | BH18: =$BI$5&$K$1&TEXT($B18,"jj/mm/aaaa") -> Off-White1001141112/07/2021 | BI18: =_xlfn.XLOOKUP($BH18,DATA_BRAND!$G:$G,DATA_BRAND!$D:$D,"") | BJ18: =_xlfn.XLOOKUP($BH18,DATA_BRAND!$G:$G,DATA_BRAND!$E:$E,"") | BK18: =_xlfn.XLOOKUP($BH18,DATA_BRAND!$G:$G,DATA_BRAND!$F:$F,"") | BL18: =$BM$5&$K$1&TEXT($B18,"jj/mm/aaaa") -> Polo Ralph Lauren1001141112/07/2021 | BM18: =_xlfn.XLOOKUP($BL18,DATA_BRAND!$G:$G,DATA_BRAND!$D:$D,"") | BN18: =_xlfn.XLOOKUP($BL18,DATA_BRAND!$G:$G,DATA_BRAND!$E:$E,"") | BO18: =_xlfn.XLOOKUP($BL18,DATA_BRAND!$G:$G,DATA_BRAND!$F:$F,"") | BP18: =$BQ$5&$K$1&TEXT($B18,"jj/mm/aaaa") -> Salvatore Ferragamo1001141112/07/2021 | BQ18: =_xlfn.XLOOKUP($BP18,DATA_BRAND!$G:$G,DATA_BRAND!$D:$D,"") | BR18: =_xlfn.XLOOKUP($BP18,DATA_BRAND!$G:$G,DATA_BRAND!$E:$E,"") | BS18: =_xlfn.XLOOKUP($BP18,DATA_BRAND!$G:$G,DATA_BRAND!$F:$F,"") | BT18: =$BU$5&$K$1&TEXT($B18,"jj/mm/aaaa") -> Smythson1001141112/07/2021 | BU18: =_xlfn.XLOOKUP($BT18,DATA_BRAND!$G:$G,DATA_BRAND!$D:$D,"") | BV18: =_xlfn.XLOOKUP($BT18,DATA_BRAND!$G:$G,DATA_BRAND!$E:$E,"") | BW18: =_xlfn.XLOOKUP($BT18,DATA_BRAND!$G:$G,DATA_BRAND!$F:$F,"") | BX18: =$BY$5&$K$1&TEXT($B18,"jj/mm/aaaa") -> Stone Island1001141112/07/2021 | BY18: =_xlfn.XLOOKUP($BX18,DATA_BRAND!$G:$G,DATA_BRAND!$D:$D,"") | BZ18: =_xlfn.XLOOKUP($BX18,DATA_BRAND!$G:$G,DATA_BRAND!$E:$E,"") | CA18: =_xlfn.XLOOKUP($BX18,DATA_BRAND!$G:$G,DATA_BRAND!$F:$F,"") | CB18: =$CC$5&$K$1&TEXT($B18,"jj/mm/aaaa") -> Thom Browne1001141112/07/2021 | CC18: =_xlfn.XLOOKUP($CB18,DATA_BRAND!$G:$G,DATA_BRAND!$D:$D,"") | CD18: =_xlfn.XLOOKUP($CB18,DATA_BRAND!$G:$G,DATA_BRAND!$E:$E,"") | CE18: =_xlfn.XLOOKUP($CB18,DATA_BRAND!$G:$G,DATA_BRAND!$F:$F,"") | CF18: =$CG$5&$K$1&TEXT($B18,"jj/mm/aaaa") -> Versace1001141112/07/2021 | CG18: =_xlfn.XLOOKUP($CF18,DATA_BRAND!$G:$G,DATA_BRAND!$D:$D,"") | CH18: =_xlfn.XLOOKUP($CF18,DATA_BRAND!$G:$G,DATA_BRAND!$E:$E,"") | CI18: =_xlfn.XLOOKUP($CF18,DATA_BRAND!$G:$G,DATA_BRAND!$F:$F,"") | CJ18: =$CK$5&$K$1&TEXT($B18,"jj/mm/aaaa") -> YSL1001141112/07/2021 | CK18: =_xlfn.XLOOKUP($CJ18,DATA_BRAND!$G:$G,DATA_BRAND!$D:$D,"") | CL18: =_xlfn.XLOOKUP($CJ18,DATA_BRAND!$G:$G,DATA_BRAND!$E:$E,"") | CM18: =_xlfn.XLOOKUP($CJ18,DATA_BRAND!$G:$G,DATA_BRAND!$F:$F,"")
... A34: 28 | B34: =DATE(AnneeCalendrier,NumMOIS,A34) -> 44405 | C34: =DATE($C$3,$E$1,A34) -> 44405 | D34: =$E$5&$K$1&TEXT($B34,"jj/mm/aaaa") -> Acne1001141128/07/2021 | E34: =_xlfn.XLOOKUP($D34,DATA_BRAND!$G:$G,DATA_BRAND!$D:$D,"") | F34: =_xlfn.XLOOKUP($D34,DATA_BRAND!$G:$G,DATA_BRAND!$E:$E,"") | G34: =_xlfn.XLOOKUP($D34,DATA_BRAND!$G:$G,DATA_BRAND!$F:$F,"") | H34: =$I$5&$K$1&TEXT($B34,"jj/mm/aaaa") -> Alfred Dunhill1001141128/07/2021 | I34: =_xlfn.XLOOKUP($H34,DATA_BRAND!$G:$G,DATA_BRAND!$D:$D,"") | J34: =_xlfn.XLOOKUP($H34,DATA_BRAND!$G:$G,DATA_BRAND!$E:$E,"") | K34: =_xlfn.XLOOKUP($H34,DATA_BRAND!$G:$G,DATA_BRAND!$F:$F,"") | L34: =$M$5&$K$1&TEXT($B34,"jj/mm/aaaa") -> Anderson's1001141128/07/2021 | M34: =_xlfn.XLOOKUP($L34,DATA_BRAND!$G:$G,DATA_BRAND!$D:$D,"") | N34: =_xlfn.XLOOKUP($L34,DATA_BRAND!$G:$G,DATA_BRAND!$E:$E,"") | O34: =_xlfn.XLOOKUP($L34,DATA_BRAND!$G:$G,DATA_BRAND!$F:$F,"") | P34: =$Q$5&$K$1&TEXT($B34,"jj/mm/aaaa") -> Balenciaga1001141128/07/2021 | Q34: =_xlfn.XLOOKUP($P34,DATA_BRAND!$G:$G,DATA_BRAND!$D:$D,"") | R34: =_xlfn.XLOOKUP($P34,DATA_BRAND!$G:$G,DATA_BRAND!$E:$E,"") | S34: =_xlfn.XLOOKUP($P34,DATA_BRAND!$G:$G,DATA_BRAND!$F:$F,"") | T34: =$U$5&$K$1&TEXT($B34,"jj/mm/aaaa") -> Bally1001141128/07/2021 | U34: =_xlfn.XLOOKUP($T34,DATA_BRAND!$G:$G,DATA_BRAND!$D:$D,"") | V34: =_xlfn.XLOOKUP($T34,DATA_BRAND!$G:$G,DATA_BRAND!$E:$E,"") | W34: =_xlfn.XLOOKUP($T34,DATA_BRAND!$G:$G,DATA_BRAND!$F:$F,"") | X34: =$Y$5&$K$1&TEXT($B34,"jj/mm/aaaa") -> Balmain1001141128/07/2021 | Y34: =_xlfn.XLOOKUP($X34,DATA_BRAND!$G:$G,DATA_BRAND!$D:$D,"") | Z34: =_xlfn.XLOOKUP($X34,DATA_BRAND!$G:$G,DATA_BRAND!$E:$E,"") | AA34: =_xlfn.XLOOKUP($X34,DATA_BRAND!$G:$G,DATA_BRAND!$F:$F,"") | AB34: =$AC$5&$K$1&TEXT($B34,"jj/mm/aaaa") -> Bleu de Chauffe1001141128/07/2021 | AC34: =_xlfn.XLOOKUP($AB34,DATA_BRAND!$G:$G,DATA_BRAND!$D:$D,"") | AD34: =_xlfn.XLOOKUP($AB34,DATA_BRAND!$G:$G,DATA_BRAND!$E:$E,"") | AE34: =_xlfn.XLOOKUP($AB34,DATA_BRAND!$G:$G,DATA_BRAND!$F:$F,"") | AF34: =$AG$5&$K$1&TEXT($B34,"jj/mm/aaaa") -> Bottega Veneta1001141128/07/2021 | AG34: =_xlfn.XLOOKUP($AF34,DATA_BRAND!$G:$G,DATA_BRAND!$D:$D,"") | AH34: =_xlfn.XLOOKUP($AF34,DATA_BRAND!$G:$G,DATA_BRAND!$E:$E,"") | AI34: =_xlfn.XLOOKUP($AF34,DATA_BRAND!$G:$G,DATA_BRAND!$F:$F,"") | AJ34: =$AK$5&$K$1&TEXT($B34,"jj/mm/aaaa") -> Burberry1001141128/07/2021 | AK34: =_xlfn.XLOOKUP($AJ34,DATA_BRAND!$G:$G,DATA_BRAND!$D:$D,"") | AL34: =_xlfn.XLOOKUP($AJ34,DATA_BRAND!$G:$G,DATA_BRAND!$E:$E,"") | AM34: =_xlfn.XLOOKUP($AJ34,DATA_BRAND!$G:$G,DATA_BRAND!$F:$F,"") | AN34: =$AO$5&$K$1&TEXT($B34,"jj/mm/aaaa") -> Givenchy1001141128/07/2021 | AO34: =_xlfn.XLOOKUP($AN34,DATA_BRAND!$G:$G,DATA_BRAND!$D:$D,"") | AP34: =_xlfn.XLOOKUP($AN34,DATA_BRAND!$G:$G,DATA_BRAND!$E:$E,"") | AQ34: =_xlfn.XLOOKUP($AN34,DATA_BRAND!$G:$G,DATA_BRAND!$F:$F,"") | AR34: =$AS$5&$K$1&TEXT($B34,"jj/mm/aaaa") -> Kenzo1001141128/07/2021 | AS34: =_xlfn.XLOOKUP($AR34,DATA_BRAND!$G:$G,DATA_BRAND!$D:$D,"") | AT34: =_xlfn.XLOOKUP($AR34,DATA_BRAND!$G:$G,DATA_BRAND!$E:$E,"") | AU34: =_xlfn.XLOOKUP($AR34,DATA_BRAND!$G:$G,DATA_BRAND!$F:$F,"") | AV34: =$AW$5&$K$1&TEXT($B34,"jj/mm/aaaa") -> Lacoste1001141128/07/2021 | AW34: =_xlfn.XLOOKUP($AV34,DATA_BRAND!$G:$G,DATA_BRAND!$D:$D,"") | AX34: =_xlfn.XLOOKUP($AV34,DATA_BRAND!$G:$G,DATA_BRAND!$E:$E,"") | AY34: =_xlfn.XLOOKUP($AV34,DATA_BRAND!$G:$G,DATA_BRAND!$F:$F,"") | AZ34: =$BA$5&$K$1&TEXT($B34,"jj/mm/aaaa") -> Maison Margiela1001141128/07/2021 | BA34: =_xlfn.XLOOKUP($AZ34,DATA_BRAND!$G:$G,DATA_BRAND!$D:$D,"") | BB34: =_xlfn.XLOOKUP($AZ34,DATA_BRAND!$G:$G,DATA_BRAND!$E:$E,"") | BC34: =_xlfn.XLOOKUP($AZ34,DATA_BRAND!$G:$G,DATA_BRAND!$F:$F,"") | BD34: =$BE$5&$K$1&TEXT($B34,"jj/mm/aaaa") -> Moncler1001141128/07/2021 | BE34: =_xlfn.XLOOKUP($BD34,DATA_BRAND!$G:$G,DATA_BRAND!$D:$D,"") | BF34: =_xlfn.XLOOKUP($BD34,DATA_BRAND!$G:$G,DATA_BRAND!$E:$E,"") | BG34: =_xlfn.XLOOKUP($BD34,DATA_BRAND!$G:$G,DATA_BRAND!$F:$F,"") | BH34: =$BI$5&$K$1&TEXT($B34,"jj/mm/aaaa") -> Off-White1001141128/07/2021 | BI34: =_xlfn.XLOOKUP($BH34,DATA_BRAND!$G:$G,DATA_BRAND!$D:$D,"") | BJ34: =_xlfn.XLOOKUP($BH34,DATA_BRAND!$G:$G,DATA_BRAND!$E:$E,"") | BK34: =_xlfn.XLOOKUP($BH34,DATA_BRAND!$G:$G,DATA_BRAND!$F:$F,"") | BL34: =$BM$5&$K$1&TEXT($B34,"jj/mm/aaaa") -> Polo Ralph Lauren1001141128/07/2021 | BM34: =_xlfn.XLOOKUP($BL34,DATA_BRAND!$G:$G,DATA_BRAND!$D:$D,"") | BN34: =_xlfn.XLOOKUP($BL34,DATA_BRAND!$G:$G,DATA_BRAND!$E:$E,"") | BO34: =_xlfn.XLOOKUP($BL34,DATA_BRAND!$G:$G,DATA_BRAND!$F:$F,"") | BP34: =$BQ$5&$K$1&TEXT($B34,"jj/mm/aaaa") -> Salvatore Ferragamo1001141128/07/2021 | BQ34: =_xlfn.XLOOKUP($BP34,DATA_BRAND!$G:$G,DATA_BRAND!$D:$D,"") | BR34: =_xlfn.XLOOKUP($BP34,DATA_BRAND!$G:$G,DATA_BRAND!$E:$E,"") | BS34: =_xlfn.XLOOKUP($BP34,DATA_BRAND!$G:$G,DATA_BRAND!$F:$F,"") | BT34: =$BU$5&$K$1&TEXT($B34,"jj/mm/aaaa") -> Smythson1001141128/07/2021 | BU34: =_xlfn.XLOOKUP($BT34,DATA_BRAND!$G:$G,DATA_BRAND!$D:$D,"") | BV34: =_xlfn.XLOOKUP($BT34,DATA_BRAND!$G:$G,DATA_BRAND!$E:$E,"") | BW34: =_xlfn.XLOOKUP($BT34,DATA_BRAND!$G:$G,DATA_BRAND!$F:$F,"") | BX34: =$BY$5&$K$1&TEXT($B34,"jj/mm/aaaa") -> Stone Island1001141128/07/2021 | BY34: =_xlfn.XLOOKUP($BX34,DATA_BRAND!$G:$G,DATA_BRAND!$D:$D,"") | BZ34: =_xlfn.XLOOKUP($BX34,DATA_BRAND!$G:$G,DATA_BRAND!$E:$E,"") | CA34: =_xlfn.XLOOKUP($BX34,DATA_BRAND!$G:$G,DATA_BRAND!$F:$F,"") | CB34: =$CC$5&$K$1&TEXT($B34,"jj/mm/aaaa") -> Thom Browne1001141128/07/2021 | CC34: =_xlfn.XLOOKUP($CB34,DATA_BRAND!$G:$G,DATA_BRAND!$D:$D,"") | CD34: =_xlfn.XLOOKUP($CB34,DATA_BRAND!$G:$G,DATA_BRAND!$E:$E,"") | CE34: =_xlfn.XLOOKUP($CB34,DATA_BRAND!$G:$G,DATA_BRAND!$F:$F,"") | CF34: =$CG$5&$K$1&TEXT($B34,"jj/mm/aaaa") -> Versace1001141128/07/2021 | CG34: =_xlfn.XLOOKUP($CF34,DATA_BRAND!$G:$G,DATA_BRAND!$D:$D,"") | CH34: =_xlfn.XLOOKUP($CF34,DATA_BRAND!$G:$G,DATA_BRAND!$E:$E,"") | CI34: =_xlfn.XLOOKUP($CF34,DATA_BRAND!$G:$G,DATA_BRAND!$F:$F,"") | CJ34: =$CK$5&$K$1&TEXT($B34,"jj/mm/aaaa") -> YSL1001141128/07/2021 | CK34: =_xlfn.XLOOKUP($CJ34,DATA_BRAND!$G:$G,DATA_BRAND!$D:$D,"") | CL34: =_xlfn.XLOOKUP($CJ34,DATA_BRAND!$G:$G,DATA_BRAND!$E:$E,"") | CM34: =_xlfn.XLOOKUP($CJ34,DATA_BRAND!$G:$G,DATA_BRAND!$F:$F,"")
A35: =IF(NumMOIS<>2,A34+1,IF(OR(MOD(AnneeCalendrier,400)=0,AND(MOD(AnneeCalendrier,4)=0,MOD(AnneeCalendrier,100)<>0)),A34+1,"")) -> 29 | B35: =DATE(AnneeCalendrier,NumMOIS,A35) -> 44406 | C35: =DATE($C$3,$E$1,A35) -> 44406 | D35: =$E$5&$K$1&TEXT($B35,"jj/mm/aaaa") -> Acne1001141129/07/2021 | E35: =_xlfn.XLOOKUP($D35,DATA_BRAND!$G:$G,DATA_BRAND!$D:$D,"") | F35: =_xlfn.XLOOKUP($D35,DATA_BRAND!$G:$G,DATA_BRAND!$E:$E,"") | G35: =_xlfn.XLOOKUP($D35,DATA_BRAND!$G:$G,DATA_BRAND!$F:$F,"") | H35: =$I$5&$K$1&TEXT($B35,"jj/mm/aaaa") -> Alfred Dunhill1001141129/07/2021 | I35: =_xlfn.XLOOKUP($H35,DATA_BRAND!$G:$G,DATA_BRAND!$D:$D,"") | J35: =_xlfn.XLOOKUP($H35,DATA_BRAND!$G:$G,DATA_BRAND!$E:$E,"") | K35: =_xlfn.XLOOKUP($H35,DATA_BRAND!$G:$G,DATA_BRAND!$F:$F,"") | L35: =$M$5&$K$1&TEXT($B35,"jj/mm/aaaa") -> Anderson's1001141129/07/2021 | M35: =_xlfn.XLOOKUP($L35,DATA_BRAND!$G:$G,DATA_BRAND!$D:$D,"") | N35: =_xlfn.XLOOKUP($L35,DATA_BRAND!$G:$G,DATA_BRAND!$E:$E,"") | O35: =_xlfn.XLOOKUP($L35,DATA_BRAND!$G:$G,DATA_BRAND!$F:$F,"") | P35: =$Q$5&$K$1&TEXT($B35,"jj/mm/aaaa") -> Balenciaga1001141129/07/2021 | Q35: =_xlfn.XLOOKUP($P35,DATA_BRAND!$G:$G,DATA_BRAND!$D:$D,"") | R35: =_xlfn.XLOOKUP($P35,DATA_BRAND!$G:$G,DATA_BRAND!$E:$E,"") | S35: =_xlfn.XLOOKUP($P35,DATA_BRAND!$G:$G,DATA_BRAND!$F:$F,"") | T35: =$U$5&$K$1&TEXT($B35,"jj/mm/aaaa") -> Bally1001141129/07/2021 | U35: =_xlfn.XLOOKUP($T35,DATA_BRAND!$G:$G,DATA_BRAND!$D:$D,"") | V35: =_xlfn.XLOOKUP($T35,DATA_BRAND!$G:$G,DATA_BRAND!$E:$E,"") | W35: =_xlfn.XLOOKUP($T35,DATA_BRAND!$G:$G,DATA_BRAND!$F:$F,"") | X35: =$Y$5&$K$1&TEXT($B35,"jj/mm/aaaa") -> Balmain1001141129/07/2021 | Y35: =_xlfn.XLOOKUP($X35,DATA_BRAND!$G:$G,DATA_BRAND!$D:$D,"") | Z35: =_xlfn.XLOOKUP($X35,DATA_BRAND!$G:$G,DATA_BRAND!$E:$E,"") | AA35: =_xlfn.XLOOKUP($X35,DATA_BRAND!$G:$G,DATA_BRAND!$F:$F,"") | AB35: =$AC$5&$K$1&TEXT($B35,"jj/mm/aaaa") -> Bleu de Chauffe1001141129/07/2021 | AC35: =_xlfn.XLOOKUP($AB35,DATA_BRAND!$G:$G,DATA_BRAND!$D:$D,"") | AD35: =_xlfn.XLOOKUP($AB35,DATA_BRAND!$G:$G,DATA_BRAND!$E:$E,"") | AE35: =_xlfn.XLOOKUP($AB35,DATA_BRAND!$G:$G,DATA_BRAND!$F:$F,"") | AF35: =$AG$5&$K$1&TEXT($B35,"jj/mm/aaaa") -> Bottega Veneta1001141129/07/2021 | AG35: =_xlfn.XLOOKUP($AF35,DATA_BRAND!$G:$G,DATA_BRAND!$D:$D,"") | AH35: =_xlfn.XLOOKUP($AF35,DATA_BRAND!$G:$G,DATA_BRAND!$E:$E,"") | AI35: =_xlfn.XLOOKUP($AF35,DATA_BRAND!$G:$G,DATA_BRAND!$F:$F,"") | AJ35: =$AK$5&$K$1&TEXT($B35,"jj/mm/aaaa") -> Burberry1001141129/07/2021 | AK35: =_xlfn.XLOOKUP($AJ35,DATA_BRAND!$G:$G,DATA_BRAND!$D:$D,"") | AL35: =_xlfn.XLOOKUP($AJ35,DATA_BRAND!$G:$G,DATA_BRAND!$E:$E,"") | AM35: =_xlfn.XLOOKUP($AJ35,DATA_BRAND!$G:$G,DATA_BRAND!$F:$F,"") | AN35: =$AO$5&$K$1&TEXT($B35,"jj/mm/aaaa") -> Givenchy1001141129/07/2021 | AO35: =_xlfn.XLOOKUP($AN35,DATA_BRAND!$G:$G,DATA_BRAND!$D:$D,"") | AP35: =_xlfn.XLOOKUP($AN35,DATA_BRAND!$G:$G,DATA_BRAND!$E:$E,"") | AQ35: =_xlfn.XLOOKUP($AN35,DATA_BRAND!$G:$G,DATA_BRAND!$F:$F,"") | AR35: =$AS$5&$K$1&TEXT($B35,"jj/mm/aaaa") -> Kenzo1001141129/07/2021 | AS35: =_xlfn.XLOOKUP($AR35,DATA_BRAND!$G:$G,DATA_BRAND!$D:$D,"") | AT35: =_xlfn.XLOOKUP($AR35,DATA_BRAND!$G:$G,DATA_BRAND!$E:$E,"") | AU35: =_xlfn.XLOOKUP($AR35,DATA_BRAND!$G:$G,DATA_BRAND!$F:$F,"") | AV35: =$AW$5&$K$1&TEXT($B35,"jj/mm/aaaa") -> Lacoste1001141129/07/2021 | AW35: =_xlfn.XLOOKUP($AV35,DATA_BRAND!$G:$G,DATA_BRAND!$D:$D,"") | AX35: =_xlfn.XLOOKUP($AV35,DATA_BRAND!$G:$G,DATA_BRAND!$E:$E,"") | AY35: =_xlfn.XLOOKUP($AV35,DATA_BRAND!$G:$G,DATA_BRAND!$F:$F,"") | AZ35: =$BA$5&$K$1&TEXT($B35,"jj/mm/aaaa") -> Maison Margiela1001141129/07/2021 | BA35: =_xlfn.XLOOKUP($AZ35,DATA_BRAND!$G:$G,DATA_BRAND!$D:$D,"") | BB35: =_xlfn.XLOOKUP($AZ35,DATA_BRAND!$G:$G,DATA_BRAND!$E:$E,"") | BC35: =_xlfn.XLOOKUP($AZ35,DATA_BRAND!$G:$G,DATA_BRAND!$F:$F,"") | BD35: =$BE$5&$K$1&TEXT($B35,"jj/mm/aaaa") -> Moncler1001141129/07/2021 | BE35: =_xlfn.XLOOKUP($BD35,DATA_BRAND!$G:$G,DATA_BRAND!$D:$D,"") | BF35: =_xlfn.XLOOKUP($BD35,DATA_BRAND!$G:$G,DATA_BRAND!$E:$E,"") | BG35: =_xlfn.XLOOKUP($BD35,DATA_BRAND!$G:$G,DATA_BRAND!$F:$F,"") | BH35: =$BI$5&$K$1&TEXT($B35,"jj/mm/aaaa") -> Off-White1001141129/07/2021 | BI35: =_xlfn.XLOOKUP($BH35,DATA_BRAND!$G:$G,DATA_BRAND!$D:$D,"") | BJ35: =_xlfn.XLOOKUP($BH35,DATA_BRAND!$G:$G,DATA_BRAND!$E:$E,"") | BK35: =_xlfn.XLOOKUP($BH35,DATA_BRAND!$G:$G,DATA_BRAND!$F:$F,"") | BL35: =$BM$5&$K$1&TEXT($B35,"jj/mm/aaaa") -> Polo Ralph Lauren1001141129/07/2021 | BM35: =_xlfn.XLOOKUP($BL35,DATA_BRAND!$G:$G,DATA_BRAND!$D:$D,"") | BN35: =_xlfn.XLOOKUP($BL35,DATA_BRAND!$G:$G,DATA_BRAND!$E:$E,"") | BO35: =_xlfn.XLOOKUP($BL35,DATA_BRAND!$G:$G,DATA_BRAND!$F:$F,"") | BP35: =$BQ$5&$K$1&TEXT($B35,"jj/mm/aaaa") -> Salvatore Ferragamo1001141129/07/2021 | BQ35: =_xlfn.XLOOKUP($BP35,DATA_BRAND!$G:$G,DATA_BRAND!$D:$D,"") | BR35: =_xlfn.XLOOKUP($BP35,DATA_BRAND!$G:$G,DATA_BRAND!$E:$E,"") | BS35: =_xlfn.XLOOKUP($BP35,DATA_BRAND!$G:$G,DATA_BRAND!$F:$F,"") | BT35: =$BU$5&$K$1&TEXT($B35,"jj/mm/aaaa") -> Smythson1001141129/07/2021 | BU35: =_xlfn.XLOOKUP($BT35,DATA_BRAND!$G:$G,DATA_BRAND!$D:$D,"") | BV35: =_xlfn.XLOOKUP($BT35,DATA_BRAND!$G:$G,DATA_BRAND!$E:$E,"") | BW35: =_xlfn.XLOOKUP($BT35,DATA_BRAND!$G:$G,DATA_BRAND!$F:$F,"") | BX35: =$BY$5&$K$1&TEXT($B35,"jj/mm/aaaa") -> Stone Island1001141129/07/2021 | BY35: =_xlfn.XLOOKUP($BX35,DATA_BRAND!$G:$G,DATA_BRAND!$D:$D,"") | BZ35: =_xlfn.XLOOKUP($BX35,DATA_BRAND!$G:$G,DATA_BRAND!$E:$E,"") | CA35: =_xlfn.XLOOKUP($BX35,DATA_BRAND!$G:$G,DATA_BRAND!$F:$F,"") | CB35: =$CC$5&$K$1&TEXT($B35,"jj/mm/aaaa") -> Thom Browne1001141129/07/2021 | CC35: =_xlfn.XLOOKUP($CB35,DATA_BRAND!$G:$G,DATA_BRAND!$D:$D,"") | CD35: =_xlfn.XLOOKUP($CB35,DATA_BRAND!$G:$G,DATA_BRAND!$E:$E,"") | CE35: =_xlfn.XLOOKUP($CB35,DATA_BRAND!$G:$G,DATA_BRAND!$F:$F,"") | CF35: =$CG$5&$K$1&TEXT($B35,"jj/mm/aaaa") -> Versace1001141129/07/2021 | CG35: =_xlfn.XLOOKUP($CF35,DATA_BRAND!$G:$G,DATA_BRAND!$D:$D,"") | CH35: =_xlfn.XLOOKUP($CF35,DATA_BRAND!$G:$G,DATA_BRAND!$E:$E,"") | CI35: =_xlfn.XLOOKUP($CF35,DATA_BRAND!$G:$G,DATA_BRAND!$F:$F,"") | CJ35: =$CK$5&$K$1&TEXT($B35,"jj/mm/aaaa") -> YSL1001141129/07/2021 | CK35: =_xlfn.XLOOKUP($CJ35,DATA_BRAND!$G:$G,DATA_BRAND!$D:$D,"") | CL35: =_xlfn.XLOOKUP($CJ35,DATA_BRAND!$G:$G,DATA_BRAND!$E:$E,"") | CM35: =_xlfn.XLOOKUP($CJ35,DATA_BRAND!$G:$G,DATA_BRAND!$F:$F,"")
A36: =IF(NumMOIS<>2,A34+2,"") -> 30 | B36: =IF(NumMOIS<>2,B34+2,"") -> 44407 | C36: =IF(NumMOIS<>2,TEXT(WEEKDAY(DATE(AnneeCalendrier,NumMOIS,A36),1),"jjjj"),"") -> vendredi | D36: =$E$5&$K$1&TEXT($B36,"jj/mm/aaaa") -> Acne1001141130/07/2021 | E36: =_xlfn.XLOOKUP($D36,DATA_BRAND!$G:$G,DATA_BRAND!$D:$D,"") | F36: =_xlfn.XLOOKUP($D36,DATA_BRAND!$G:$G,DATA_BRAND!$E:$E,"") | G36: =_xlfn.XLOOKUP($D36,DATA_BRAND!$G:$G,DATA_BRAND!$F:$F,"") | H36: =$I$5&$K$1&TEXT($B36,"jj/mm/aaaa") -> Alfred Dunhill1001141130/07/2021 | I36: =_xlfn.XLOOKUP($H36,DATA_BRAND!$G:$G,DATA_BRAND!$D:$D,"") | J36: =_xlfn.XLOOKUP($H36,DATA_BRAND!$G:$G,DATA_BRAND!$E:$E,"") | K36: =_xlfn.XLOOKUP($H36,DATA_BRAND!$G:$G,DATA_BRAND!$F:$F,"") | L36: =$M$5&$K$1&TEXT($B36,"jj/mm/aaaa") -> Anderson's1001141130/07/2021 | M36: =_xlfn.XLOOKUP($L36,DATA_BRAND!$G:$G,DATA_BRAND!$D:$D,"") | N36: =_xlfn.XLOOKUP($L36,DATA_BRAND!$G:$G,DATA_BRAND!$E:$E,"") | O36: =_xlfn.XLOOKUP($L36,DATA_BRAND!$G:$G,DATA_BRAND!$F:$F,"") | P36: =$Q$5&$K$1&TEXT($B36,"jj/mm/aaaa") -> Balenciaga1001141130/07/2021 | Q36: =_xlfn.XLOOKUP($P36,DATA_BRAND!$G:$G,DATA_BRAND!$D:$D,"") | R36: =_xlfn.XLOOKUP($P36,DATA_BRAND!$G:$G,DATA_BRAND!$E:$E,"") | S36: =_xlfn.XLOOKUP($P36,DATA_BRAND!$G:$G,DATA_BRAND!$F:$F,"") | T36: =$U$5&$K$1&TEXT($B36,"jj/mm/aaaa") -> Bally1001141130/07/2021 | U36: =_xlfn.XLOOKUP($T36,DATA_BRAND!$G:$G,DATA_BRAND!$D:$D,"") | V36: =_xlfn.XLOOKUP($T36,DATA_BRAND!$G:$G,DATA_BRAND!$E:$E,"") | W36: =_xlfn.XLOOKUP($T36,DATA_BRAND!$G:$G,DATA_BRAND!$F:$F,"") | X36: =$Y$5&$K$1&TEXT($B36,"jj/mm/aaaa") -> Balmain1001141130/07/2021 | Y36: =_xlfn.XLOOKUP($X36,DATA_BRAND!$G:$G,DATA_BRAND!$D:$D,"") | Z36: =_xlfn.XLOOKUP($X36,DATA_BRAND!$G:$G,DATA_BRAND!$E:$E,"") | AA36: =_xlfn.XLOOKUP($X36,DATA_BRAND!$G:$G,DATA_BRAND!$F:$F,"") | AB36: =$AC$5&$K$1&TEXT($B36,"jj/mm/aaaa") -> Bleu de Chauffe1001141130/07/2021 | AC36: =_xlfn.XLOOKUP($AB36,DATA_BRAND!$G:$G,DATA_BRAND!$D:$D,"") | AD36: =_xlfn.XLOOKUP($AB36,DATA_BRAND!$G:$G,DATA_BRAND!$E:$E,"") | AE36: =_xlfn.XLOOKUP($AB36,DATA_BRAND!$G:$G,DATA_BRAND!$F:$F,"") | AF36: =$AG$5&$K$1&TEXT($B36,"jj/mm/aaaa") -> Bottega Veneta1001141130/07/2021 | AG36: =_xlfn.XLOOKUP($AF36,DATA_BRAND!$G:$G,DATA_BRAND!$D:$D,"") | AH36: =_xlfn.XLOOKUP($AF36,DATA_BRAND!$G:$G,DATA_BRAND!$E:$E,"") | AI36: =_xlfn.XLOOKUP($AF36,DATA_BRAND!$G:$G,DATA_BRAND!$F:$F,"") | AJ36: =$AK$5&$K$1&TEXT($B36,"jj/mm/aaaa") -> Burberry1001141130/07/2021 | AK36: =_xlfn.XLOOKUP($AJ36,DATA_BRAND!$G:$G,DATA_BRAND!$D:$D,"") | AL36: =_xlfn.XLOOKUP($AJ36,DATA_BRAND!$G:$G,DATA_BRAND!$E:$E,"") | AM36: =_xlfn.XLOOKUP($AJ36,DATA_BRAND!$G:$G,DATA_BRAND!$F:$F,"") | AN36: =$AO$5&$K$1&TEXT($B36,"jj/mm/aaaa") -> Givenchy1001141130/07/2021 | AO36: =_xlfn.XLOOKUP($AN36,DATA_BRAND!$G:$G,DATA_BRAND!$D:$D,"") -> 2 | AP36: =_xlfn.XLOOKUP($AN36,DATA_BRAND!$G:$G,DATA_BRAND!$E:$E,"") -> 1 | AQ36: =_xlfn.XLOOKUP($AN36,DATA_BRAND!$G:$G,DATA_BRAND!$F:$F,"") -> 983.33 | AR36: =$AS$5&$K$1&TEXT($B36,"jj/mm/aaaa") -> Kenzo1001141130/07/2021 | AS36: =_xlfn.XLOOKUP($AR36,DATA_BRAND!$G:$G,DATA_BRAND!$D:$D,"") | AT36: =_xlfn.XLOOKUP($AR36,DATA_BRAND!$G:$G,DATA_BRAND!$E:$E,"") | AU36: =_xlfn.XLOOKUP($AR36,DATA_BRAND!$G:$G,DATA_BRAND!$F:$F,"") | AV36: =$AW$5&$K$1&TEXT($B36,"jj/mm/aaaa") -> Lacoste1001141130/07/2021 | AW36: =_xlfn.XLOOKUP($AV36,DATA_BRAND!$G:$G,DATA_BRAND!$D:$D,"") | AX36: =_xlfn.XLOOKUP($AV36,DATA_BRAND!$G:$G,DATA_BRAND!$E:$E,"") | AY36: =_xlfn.XLOOKUP($AV36,DATA_BRAND!$G:$G,DATA_BRAND!$F:$F,"") | AZ36: =$BA$5&$K$1&TEXT($B36,"jj/mm/aaaa") -> Maison Margiela1001141130/07/2021 | BA36: =_xlfn.XLOOKUP($AZ36,DATA_BRAND!$G:$G,DATA_BRAND!$D:$D,"") | BB36: =_xlfn.XLOOKUP($AZ36,DATA_BRAND!$G:$G,DATA_BRAND!$E:$E,"") | BC36: =_xlfn.XLOOKUP($AZ36,DATA_BRAND!$G:$G,DATA_BRAND!$F:$F,"") | BD36: =$BE$5&$K$1&TEXT($B36,"jj/mm/aaaa") -> Moncler1001141130/07/2021 | BE36: =_xlfn.XLOOKUP($BD36,DATA_BRAND!$G:$G,DATA_BRAND!$D:$D,"") | BF36: =_xlfn.XLOOKUP($BD36,DATA_BRAND!$G:$G,DATA_BRAND!$E:$E,"") | BG36: =_xlfn.XLOOKUP($BD36,DATA_BRAND!$G:$G,DATA_BRAND!$F:$F,"") | BH36: =$BI$5&$K$1&TEXT($B36,"jj/mm/aaaa") -> Off-White1001141130/07/2021 | BI36: =_xlfn.XLOOKUP($BH36,DATA_BRAND!$G:$G,DATA_BRAND!$D:$D,"") | BJ36: =_xlfn.XLOOKUP($BH36,DATA_BRAND!$G:$G,DATA_BRAND!$E:$E,"") | BK36: =_xlfn.XLOOKUP($BH36,DATA_BRAND!$G:$G,DATA_BRAND!$F:$F,"") | BL36: =$BM$5&$K$1&TEXT($B36,"jj/mm/aaaa") -> Polo Ralph Lauren1001141130/07/2021 | BM36: =_xlfn.XLOOKUP($BL36,DATA_BRAND!$G:$G,DATA_BRAND!$D:$D,"") | BN36: =_xlfn.XLOOKUP($BL36,DATA_BRAND!$G:$G,DATA_BRAND!$E:$E,"") | BO36: =_xlfn.XLOOKUP($BL36,DATA_BRAND!$G:$G,DATA_BRAND!$F:$F,"") | BP36: =$BQ$5&$K$1&TEXT($B36,"jj/mm/aaaa") -> Salvatore Ferragamo1001141130/07/2021 | BQ36: =_xlfn.XLOOKUP($BP36,DATA_BRAND!$G:$G,DATA_BRAND!$D:$D,"") | BR36: =_xlfn.XLOOKUP($BP36,DATA_BRAND!$G:$G,DATA_BRAND!$E:$E,"") | BS36: =_xlfn.XLOOKUP($BP36,DATA_BRAND!$G:$G,DATA_BRAND!$F:$F,"") | BT36: =$BU$5&$K$1&TEXT($B36,"jj/mm/aaaa") -> Smythson1001141130/07/2021 | BU36: =_xlfn.XLOOKUP($BT36,DATA_BRAND!$G:$G,DATA_BRAND!$D:$D,"") | BV36: =_xlfn.XLOOKUP($BT36,DATA_BRAND!$G:$G,DATA_BRAND!$E:$E,"") | BW36: =_xlfn.XLOOKUP($BT36,DATA_BRAND!$G:$G,DATA_BRAND!$F:$F,"") | BX36: =$BY$5&$K$1&TEXT($B36,"jj/mm/aaaa") -> Stone Island1001141130/07/2021 | BY36: =_xlfn.XLOOKUP($BX36,DATA_BRAND!$G:$G,DATA_BRAND!$D:$D,"") | BZ36: =_xlfn.XLOOKUP($BX36,DATA_BRAND!$G:$G,DATA_BRAND!$E:$E,"") | CA36: =_xlfn.XLOOKUP($BX36,DATA_BRAND!$G:$G,DATA_BRAND!$F:$F,"") | CB36: =$CC$5&$K$1&TEXT($B36,"jj/mm/aaaa") -> Thom Browne1001141130/07/2021 | CC36: =_xlfn.XLOOKUP($CB36,DATA_BRAND!$G:$G,DATA_BRAND!$D:$D,"") | CD36: =_xlfn.XLOOKUP($CB36,DATA_BRAND!$G:$G,DATA_BRAND!$E:$E,"") | CE36: =_xlfn.XLOOKUP($CB36,DATA_BRAND!$G:$G,DATA_BRAND!$F:$F,"") | CF36: =$CG$5&$K$1&TEXT($B36,"jj/mm/aaaa") -> Versace1001141130/07/2021 | CG36: =_xlfn.XLOOKUP($CF36,DATA_BRAND!$G:$G,DATA_BRAND!$D:$D,"") | CH36: =_xlfn.XLOOKUP($CF36,DATA_BRAND!$G:$G,DATA_BRAND!$E:$E,"") | CI36: =_xlfn.XLOOKUP($CF36,DATA_BRAND!$G:$G,DATA_BRAND!$F:$F,"") | CJ36: =$CK$5&$K$1&TEXT($B36,"jj/mm/aaaa") -> YSL1001141130/07/2021 | CK36: =_xlfn.XLOOKUP($CJ36,DATA_BRAND!$G:$G,DATA_BRAND!$D:$D,"") | CL36: =_xlfn.XLOOKUP($CJ36,DATA_BRAND!$G:$G,DATA_BRAND!$E:$E,"") | CM36: =_xlfn.XLOOKUP($CJ36,DATA_BRAND!$G:$G,DATA_BRAND!$F:$F,"")
A37: =IF(OR(NumMOIS=1,NumMOIS=3,NumMOIS=5,NumMOIS=7,NumMOIS=8,NumMOIS=10,NumMOIS=12),A34+3,"") -> 31 | B37: =IF(OR(NumMOIS=1,NumMOIS=3,NumMOIS=5,NumMOIS=7,NumMOIS=8,NumMOIS=10,NumMOIS=12),B34+3,"") -> 44408 | C37: =IF(OR(NumMOIS=2,NumMOIS=4,NumMOIS=6,NumMOIS=9,NumMOIS=11),"",TEXT(WEEKDAY(DATE(AnneeCalendrier,NumMOIS,A37),1),"jjjj")) -> samedi | D37: =$E$5&$K$1&TEXT($B37,"jj/mm/aaaa") -> Acne1001141131/07/2021 | E37: =_xlfn.XLOOKUP($D37,DATA_BRAND!$G:$G,DATA_BRAND!$D:$D,"") | F37: =_xlfn.XLOOKUP($D37,DATA_BRAND!$G:$G,DATA_BRAND!$E:$E,"") | G37: =_xlfn.XLOOKUP($D37,DATA_BRAND!$G:$G,DATA_BRAND!$F:$F,"") | H37: =$I$5&$K$1&TEXT($B37,"jj/mm/aaaa") -> Alfred Dunhill1001141131/07/2021 | I37: =_xlfn.XLOOKUP($H37,DATA_BRAND!$G:$G,DATA_BRAND!$D:$D,"") | J37: =_xlfn.XLOOKUP($H37,DATA_BRAND!$G:$G,DATA_BRAND!$E:$E,"") | K37: =_xlfn.XLOOKUP($H37,DATA_BRAND!$G:$G,DATA_BRAND!$F:$F,"") | L37: =$M$5&$K$1&TEXT($B37,"jj/mm/aaaa") -> Anderson's1001141131/07/2021 | M37: =_xlfn.XLOOKUP($L37,DATA_BRAND!$G:$G,DATA_BRAND!$D:$D,"") | N37: =_xlfn.XLOOKUP($L37,DATA_BRAND!$G:$G,DATA_BRAND!$E:$E,"") | O37: =_xlfn.XLOOKUP($L37,DATA_BRAND!$G:$G,DATA_BRAND!$F:$F,"") | P37: =$Q$5&$K$1&TEXT($B37,"jj/mm/aaaa") -> Balenciaga1001141131/07/2021 | Q37: =_xlfn.XLOOKUP($P37,DATA_BRAND!$G:$G,DATA_BRAND!$D:$D,"") | R37: =_xlfn.XLOOKUP($P37,DATA_BRAND!$G:$G,DATA_BRAND!$E:$E,"") | S37: =_xlfn.XLOOKUP($P37,DATA_BRAND!$G:$G,DATA_BRAND!$F:$F,"") | T37: =$U$5&$K$1&TEXT($B37,"jj/mm/aaaa") -> Bally1001141131/07/2021 | U37: =_xlfn.XLOOKUP($T37,DATA_BRAND!$G:$G,DATA_BRAND!$D:$D,"") | V37: =_xlfn.XLOOKUP($T37,DATA_BRAND!$G:$G,DATA_BRAND!$E:$E,"") | W37: =_xlfn.XLOOKUP($T37,DATA_BRAND!$G:$G,DATA_BRAND!$F:$F,"") | X37: =$Y$5&$K$1&TEXT($B37,"jj/mm/aaaa") -> Balmain1001141131/07/2021 | Y37: =_xlfn.XLOOKUP($X37,DATA_BRAND!$G:$G,DATA_BRAND!$D:$D,"") | Z37: =_xlfn.XLOOKUP($X37,DATA_BRAND!$G:$G,DATA_BRAND!$E:$E,"") | AA37: =_xlfn.XLOOKUP($X37,DATA_BRAND!$G:$G,DATA_BRAND!$F:$F,"") | AB37: =$AC$5&$K$1&TEXT($B37,"jj/mm/aaaa") -> Bleu de Chauffe1001141131/07/2021 | AC37: =_xlfn.XLOOKUP($AB37,DATA_BRAND!$G:$G,DATA_BRAND!$D:$D,"") | AD37: =_xlfn.XLOOKUP($AB37,DATA_BRAND!$G:$G,DATA_BRAND!$E:$E,"") | AE37: =_xlfn.XLOOKUP($AB37,DATA_BRAND!$G:$G,DATA_BRAND!$F:$F,"") | AF37: =$AG$5&$K$1&TEXT($B37,"jj/mm/aaaa") -> Bottega Veneta1001141131/07/2021 | AG37: =_xlfn.XLOOKUP($AF37,DATA_BRAND!$G:$G,DATA_BRAND!$D:$D,"") | AH37: =_xlfn.XLOOKUP($AF37,DATA_BRAND!$G:$G,DATA_BRAND!$E:$E,"") | AI37: =_xlfn.XLOOKUP($AF37,DATA_BRAND!$G:$G,DATA_BRAND!$F:$F,"") | AJ37: =$AK$5&$K$1&TEXT($B37,"jj/mm/aaaa") -> Burberry1001141131/07/2021 | AK37: =_xlfn.XLOOKUP($AJ37,DATA_BRAND!$G:$G,DATA_BRAND!$D:$D,"") | AL37: =_xlfn.XLOOKUP($AJ37,DATA_BRAND!$G:$G,DATA_BRAND!$E:$E,"") | AM37: =_xlfn.XLOOKUP($AJ37,DATA_BRAND!$G:$G,DATA_BRAND!$F:$F,"") | AN37: =$AO$5&$K$1&TEXT($B37,"jj/mm/aaaa") -> Givenchy1001141131/07/2021 | AO37: =_xlfn.XLOOKUP($AN37,DATA_BRAND!$G:$G,DATA_BRAND!$D:$D,"") | AP37: =_xlfn.XLOOKUP($AN37,DATA_BRAND!$G:$G,DATA_BRAND!$E:$E,"") | AQ37: =_xlfn.XLOOKUP($AN37,DATA_BRAND!$G:$G,DATA_BRAND!$F:$F,"") | AR37: =$AS$5&$K$1&TEXT($B37,"jj/mm/aaaa") -> Kenzo1001141131/07/2021 | AS37: =_xlfn.XLOOKUP($AR37,DATA_BRAND!$G:$G,DATA_BRAND!$D:$D,"") | AT37: =_xlfn.XLOOKUP($AR37,DATA_BRAND!$G:$G,DATA_BRAND!$E:$E,"") | AU37: =_xlfn.XLOOKUP($AR37,DATA_BRAND!$G:$G,DATA_BRAND!$F:$F,"") | AV37: =$AW$5&$K$1&TEXT($B37,"jj/mm/aaaa") -> Lacoste1001141131/07/2021 | AW37: =_xlfn.XLOOKUP($AV37,DATA_BRAND!$G:$G,DATA_BRAND!$D:$D,"") | AX37: =_xlfn.XLOOKUP($AV37,DATA_BRAND!$G:$G,DATA_BRAND!$E:$E,"") | AY37: =_xlfn.XLOOKUP($AV37,DATA_BRAND!$G:$G,DATA_BRAND!$F:$F,"") | AZ37: =$BA$5&$K$1&TEXT($B37,"jj/mm/aaaa") -> Maison Margiela1001141131/07/2021 | BA37: =_xlfn.XLOOKUP($AZ37,DATA_BRAND!$G:$G,DATA_BRAND!$D:$D,"") | BB37: =_xlfn.XLOOKUP($AZ37,DATA_BRAND!$G:$G,DATA_BRAND!$E:$E,"") | BC37: =_xlfn.XLOOKUP($AZ37,DATA_BRAND!$G:$G,DATA_BRAND!$F:$F,"") | BD37: =$BE$5&$K$1&TEXT($B37,"jj/mm/aaaa") -> Moncler1001141131/07/2021 | BE37: =_xlfn.XLOOKUP($BD37,DATA_BRAND!$G:$G,DATA_BRAND!$D:$D,"") | BF37: =_xlfn.XLOOKUP($BD37,DATA_BRAND!$G:$G,DATA_BRAND!$E:$E,"") | BG37: =_xlfn.XLOOKUP($BD37,DATA_BRAND!$G:$G,DATA_BRAND!$F:$F,"") | BH37: =$BI$5&$K$1&TEXT($B37,"jj/mm/aaaa") -> Off-White1001141131/07/2021 | BI37: =_xlfn.XLOOKUP($BH37,DATA_BRAND!$G:$G,DATA_BRAND!$D:$D,"") | BJ37: =_xlfn.XLOOKUP($BH37,DATA_BRAND!$G:$G,DATA_BRAND!$E:$E,"") | BK37: =_xlfn.XLOOKUP($BH37,DATA_BRAND!$G:$G,DATA_BRAND!$F:$F,"") | BL37: =$BM$5&$K$1&TEXT($B37,"jj/mm/aaaa") -> Polo Ralph Lauren1001141131/07/2021 | BM37: =_xlfn.XLOOKUP($BL37,DATA_BRAND!$G:$G,DATA_BRAND!$D:$D,"") | BN37: =_xlfn.XLOOKUP($BL37,DATA_BRAND!$G:$G,DATA_BRAND!$E:$E,"") | BO37: =_xlfn.XLOOKUP($BL37,DATA_BRAND!$G:$G,DATA_BRAND!$F:$F,"") | BP37: =$BQ$5&$K$1&TEXT($B37,"jj/mm/aaaa") -> Salvatore Ferragamo1001141131/07/2021 | BQ37: =_xlfn.XLOOKUP($BP37,DATA_BRAND!$G:$G,DATA_BRAND!$D:$D,"") | BR37: =_xlfn.XLOOKUP($BP37,DATA_BRAND!$G:$G,DATA_BRAND!$E:$E,"") | BS37: =_xlfn.XLOOKUP($BP37,DATA_BRAND!$G:$G,DATA_BRAND!$F:$F,"") | BT37: =$BU$5&$K$1&TEXT($B37,"jj/mm/aaaa") -> Smythson1001141131/07/2021 | BU37: =_xlfn.XLOOKUP($BT37,DATA_BRAND!$G:$G,DATA_BRAND!$D:$D,"") | BV37: =_xlfn.XLOOKUP($BT37,DATA_BRAND!$G:$G,DATA_BRAND!$E:$E,"") | BW37: =_xlfn.XLOOKUP($BT37,DATA_BRAND!$G:$G,DATA_BRAND!$F:$F,"") | BX37: =$BY$5&$K$1&TEXT($B37,"jj/mm/aaaa") -> Stone Island1001141131/07/2021 | BY37: =_xlfn.XLOOKUP($BX37,DATA_BRAND!$G:$G,DATA_BRAND!$D:$D,"") | BZ37: =_xlfn.XLOOKUP($BX37,DATA_BRAND!$G:$G,DATA_BRAND!$E:$E,"") | CA37: =_xlfn.XLOOKUP($BX37,DATA_BRAND!$G:$G,DATA_BRAND!$F:$F,"") | CB37: =$CC$5&$K$1&TEXT($B37,"jj/mm/aaaa") -> Thom Browne1001141131/07/2021 | CC37: =_xlfn.XLOOKUP($CB37,DATA_BRAND!$G:$G,DATA_BRAND!$D:$D,"") | CD37: =_xlfn.XLOOKUP($CB37,DATA_BRAND!$G:$G,DATA_BRAND!$E:$E,"") | CE37: =_xlfn.XLOOKUP($CB37,DATA_BRAND!$G:$G,DATA_BRAND!$F:$F,"") | CF37: =$CG$5&$K$1&TEXT($B37,"jj/mm/aaaa") -> Versace1001141131/07/2021 | CG37: =_xlfn.XLOOKUP($CF37,DATA_BRAND!$G:$G,DATA_BRAND!$D:$D,"") | CH37: =_xlfn.XLOOKUP($CF37,DATA_BRAND!$G:$G,DATA_BRAND!$E:$E,"") | CI37: =_xlfn.XLOOKUP($CF37,DATA_BRAND!$G:$G,DATA_BRAND!$F:$F,"") | CJ37: =$CK$5&$K$1&TEXT($B37,"jj/mm/aaaa") -> YSL1001141131/07/2021 | CK37: =_xlfn.XLOOKUP($CJ37,DATA_BRAND!$G:$G,DATA_BRAND!$D:$D,"") -> 2 | CL37: =_xlfn.XLOOKUP($CJ37,DATA_BRAND!$G:$G,DATA_BRAND!$E:$E,"") -> 2 | CM37: =_xlfn.XLOOKUP($CJ37,DATA_BRAND!$G:$G,DATA_BRAND!$F:$F,"") -> 737.5
C38: TOTAL | E38: =SUM(E7:E37) -> 1 | F38: =SUM(F7:F37) -> 1 | G38: =SUM(G7:G37) -> 90 | H38: =SUM(H7:H37) -> 0 | I38: =SUM(I7:I37) -> 0 | J38: =SUM(J7:J37) -> 0 | K38: =SUM(K7:K37) -> 0 | L38: =SUM(L7:L37) -> 0 | ... CM38: =SUM(CM7:CM37) -> 10854.14
C39: Commission | E39: 0.016 | G39: =G38*E39 -> 1.44 | I39: 0.016 | K39: =K38*I39 -> 0 | M39: 0.016 | O39: =O38*M39 -> 0 | Q39: 0.011 | S39: =S38*Q39 -> 0 | U39: 0.016 | W39: =W38*U39 -> 0 | Y39: 0.016 | AA39: =AA38*Y39 -> 11.86672 | AC39: 0.016 | AE39: =AE38*AC39 -> 0 | AG39: 0.016 | AI39: =AI38*AG39 -> 0 | AK39: 0.016 | AM39: =AM38*AK39 -> 0 | AO39: 0.016 | AQ39: =AQ38*AO39 -> 70.93312 | AS39: 0.011 | AU39: =AU38*AS39 -> 0 | AW39: 0.016 | AY39: =AY38*AW39 -> 0 | BA39: 0.016 | BC39: =BC38*BA39 -> 14.5 | BE39: 0.011 | BG39: =BG38*BE39 -> 0 | BI39: 0.016 | BK39: =BK38*BI39 -> 22.408 | BM39: 0.016 | BO39: =BO38*BM39 -> 0 | BQ39: 0.011 | BS39: =BS38*BQ39 -> 0 | BU39: 0.016 | BW39: =BW38*BU39 -> 0 | BY39: 0.016 | CA39: =CA38*BY39 -> 0 | CC39: 0.016 | CE39: =CE38*CC39 -> 0 | CG39: 0.011 | CI39: =CI38*CG39 -> 1.35212 | CK39: 0.011 | CM39: =CM38*CK39 -> 119.39554

Sheet DATA_BRAND
A1: Type | B1: Owned
A2: Level | B2: All
A3: Category | B3: All
A4: Class | B4: (Multiple Items)
A6: Brand | B6: SA_ID | C6: Date | D6: Units_ | E6: Transactions | F6: Net Sales
A7: Moncler | B7: 10010925 | C7: 20/07/2021 | D7: 5 | E7: 2 | F7: 4054.17 | G7: =A7&B7&C7 -> Moncler1001092520/07/2021 | H7: =B7&C7 -> 1001092520/07/2021
A8: Moncler | B8: 10010959 | C8: 02/08/2021 | D8: 1 | E8: 1 | F8: 191.67 | G8: =A8&B8&C8 -> Moncler1001095902/08/2021 | H8: =B8&C8 -> 1001095902/08/2021
A9: Moncler | B9: 10011165 | C9: 27/07/2021 | D9: 1 | E9: 1 | F9: 91.67 | G9: =A9&B9&C9 -> Moncler1001116527/07/2021 | H9: =B9&C9 -> 1001116527/07/2021
A10: Moncler | B10: 10011165 | C10: 09/08/2021 | D10: 1 | E10: 1 | F10: 329.17 | G10: =A10&B10&C10 -> Moncler1001116509/08/2021 | H10: =B10&C10 -> 1001116509/08/2021
A11: Moncler | B11: 10011166 | C11: 05/07/2021 | D11: 1 | E11: 1 | F11: 154.17 | G11: =A11&B11&C11 -> Moncler1001116605/07/2021 | H11: =B11&C11 -> 1001116605/07/2021
A12: Moncler | B12: 10011187 | C12: 02/07/2021 | D12: 1 | E12: 1 | F12: 104.17 | G12: =A12&B12&C12 -> Moncler1001118702/07/2021 | H12: =B12&C12 -> 1001118702/07/2021
A13: Moncler | B13: 10011187 | C13: 03/07/2021 | D13: 2 | E13: 2 | F13: 1600 | G13: =A13&B13&C13 -> Moncler1001118703/07/2021 | H13: =B13&C13 -> 1001118703/07/2021
A14: Moncler | B14: 10011187 | C14: 06/07/2021 | D14: 2 | E14: 2 | F14: 908.34 | G14: =A14&B14&C14 -> Moncler1001118706/07/2021 | H14: =B14&C14 -> 1001118706/07/2021
A15: Moncler | B15: 10011187 | C15: 07/07/2021 | D15: 1 | E15: 1 | F15: 154.17 | G15: =A15&B15&C15 -> Moncler1001118707/07/2021 | H15: =B15&C15 -> 1001118707/07/2021
A16: Moncler | B16: 10011187 | C16: 08/07/2021 | D16: 2 | E16: 2 | F16: 308.33 | G16: =A16&B16&C16 -> Moncler1001118708/07/2021 | H16: =B16&C16 -> 1001118708/07/2021
A17: Moncler | B17: 10011187 | C17: 09/07/2021 | D17: 4 | E17: 4 | F17: 1483.34 | G17: =A17&B17&C17 -> Moncler1001118709/07/2021 | H17: =B17&C17 -> 1001118709/07/2021
A18: Moncler | B18: 10011187 | C18: 10/07/2021 | D18: 1 | E18: 1 | F18: 375 | G18: =A18&B18&C18 -> Moncler1001118710/07/2021 | H18: =B18&C18 -> 1001118710/07/2021
... A1508: Smythson | B1508: 10012051 | C1508: 03/07/2021 | D1508: 1 | E1508: 1 | F1508: 35 | G1508: =A1508&B1508&C1508 -> Smythson1001205103/07/2021 | H1508: =B1508&C1508 -> 1001205103/07/2021
A1509: Grand Total | D1509: 2622 | E1509: 2127 | F1509: 505838.03

Sheet Mois en cours
A1: Mois | F1: 8 | H1: SA | I1: c | J1: =VLOOKUP($I$1,DATA!$I:$K,3,0) -> 10011155
A3: Année | C3: 2021 | H3: TOTAL | I3: =SUM(H7:H37) -> 2387.49 | K3: OBJ | L3: 20000
A6: JOUR | C6: JOURNEE | F6: Units_ | G6: Transactions | H6: Net Sales | I6: Cumulatif | J6: CA restant | K6: Réal | L6: OBJ/jour | M6: Estimation du CA final
A7: 1 | B7: =DATE(AnneeCalendrier,NumMOIS,A7) -> 44409 | C7: =DATE($C$3,$F$1,A7) -> 44409 | D7: =$J$1&TEXT(B7,"jj/mm/aaaa") -> 1001115501/08/2021 | E7: =$J$1&TEXT(C7,"jjjj") -> 10011155dimanche | F7: =IFERROR(_xlfn.XLOOKUP($D7,DATA_BRAND!$H:$H,DATA_BRAND!$D:$D,,0),0) -> 0 | G7: =IFERROR(_xlfn.XLOOKUP($D7,DATA_BRAND!$H:$H,DATA_BRAND!$E:$E,,0),0) -> 0 | H7: =IFERROR(_xlfn.XLOOKUP($D7,DATA_BRAND!$H:$H,DATA_BRAND!$F:$F,,0),0) -> 0 | I7: =H7 -> 0 | J7: =$L$3-I7 -> 20000 | K7: =I7/$L$3 -> 0 | L7: =($J7/($A$37-A7)) -> 666.66667 | M7: =H7*(IF(OR(NumMOIS=1,NumMOIS=3,NumMOIS=5,NumMOIS=7,NumMOIS=8,NumMOIS=10,NumMOIS=12),31,30)) -> 0
A8: 2 | B8: =DATE(AnneeCalendrier,NumMOIS,A8) -> 44410 | C8: =DATE($C$3,$F$1,A8) -> 44410 | D8: =$J$1&TEXT(B8,"jj/mm/aaaa") -> 1001115502/08/2021 | E8: =$J$1&TEXT(C8,"jjjj") -> 10011155lundi | F8: =IFERROR(_xlfn.XLOOKUP($D8,DATA_BRAND!$H:$H,DATA_BRAND!$D:$D,,0),0) -> 0 | G8: =IFERROR(_xlfn.XLOOKUP($D8,DATA_BRAND!$H:$H,DATA_BRAND!$E:$E,,0),0) -> 0 | H8: =IFERROR(_xlfn.XLOOKUP($D8,DATA_BRAND!$H:$H,DATA_BRAND!$F:$F,,0),0) -> 0 | I8: =I7+H8 -> 0 | J8: =$L$3-I8 -> 20000 | K8: =I8/$L$3 -> 0 | L8: =($J8/($A$37-A8)) -> 689.65517 | M8: =AVERAGE($H$7:$H8)*(IF(OR(NumMOIS=1,NumMOIS=3,NumMOIS=5,NumMOIS=7,NumMOIS=8,NumMOIS=10,NumMOIS=12),31,30)) -> 0
A9: 3 | B9: =DATE(AnneeCalendrier,NumMOIS,A9) -> 44411 | C9: =DATE($C$3,$F$1,A9) -> 44411 | D9: =$J$1&TEXT(B9,"jj/mm/aaaa") -> 1001115503/08/2021 | E9: =$J$1&TEXT(C9,"jjjj") -> 10011155mardi | F9: =IFERROR(_xlfn.XLOOKUP($D9,DATA_BRAND!$H:$H,DATA_BRAND!$D:$D,,0),0) -> 0 | G9: =IFERROR(_xlfn.XLOOKUP($D9,DATA_BRAND!$H:$H,DATA_BRAND!$E:$E,,0),0) -> 0 | H9: =IFERROR(_xlfn.XLOOKUP($D9,DATA_BRAND!$H:$H,DATA_BRAND!$F:$F,,0),0) -> 0 | I9: =I8+H9 -> 0 | J9: =$L$3-I9 -> 20000 | K9: =I9/$L$3 -> 0 | L9: =($J9/($A$37-A9)) -> 714.28571 | M9: =AVERAGE($H$7:$H9)*(IF(OR(NumMOIS=1,NumMOIS=3,NumMOIS=5,NumMOIS=7,NumMOIS=8,NumMOIS=10,NumMOIS=12),31,30)) -> 0
A10: 4 | B10: =DATE(AnneeCalendrier,NumMOIS,A10) -> 44412 | C10: =DATE($C$3,$F$1,A10) -> 44412 | D10: =$J$1&TEXT(B10,"jj/mm/aaaa") -> 1001115504/08/2021 | E10: =$J$1&TEXT(C10,"jjjj") -> 10011155mercredi | F10: =IFERROR(_xlfn.XLOOKUP($D10,DATA_BRAND!$H:$H,DATA_BRAND!$D:$D,,0),0) -> 0 | G10: =IFERROR(_xlfn.XLOOKUP($D10,DATA_BRAND!$H:$H,DATA_BRAND!$E:$E,,0),0) -> 0 | H10: =IFERROR(_xlfn.XLOOKUP($D10,DATA_BRAND!$H:$H,DATA_BRAND!$F:$F,,0),0) -> 0 | I10: =I9+H10 -> 0 | J10: =$L$3-I10 -> 20000 | K10: =I10/$L$3 -> 0 | L10: =($J10/($A$37-A10)) -> 740.74074 | M10: =AVERAGE($H$7:$H10)*(IF(OR(NumMOIS=1,NumMOIS=3,NumMOIS=5,NumMOIS=7,NumMOIS=8,NumMOIS=10,NumMOIS=12),31,30)) -> 0
A11: 5 | B11: =DATE(AnneeCalendrier,NumMOIS,A11) -> 44413 | C11: =DATE($C$3,$F$1,A11) -> 44413 | D11: =$J$1&TEXT(B11,"jj/mm/aaaa") -> 1001115505/08/2021 | E11: =$J$1&TEXT(C11,"jjjj") -> 10011155jeudi | F11: =IFERROR(_xlfn.XLOOKUP($D11,DATA_BRAND!$H:$H,DATA_BRAND!$D:$D,,0),0) -> 1 | G11: =IFERROR(_xlfn.XLOOKUP($D11,DATA_BRAND!$H:$H,DATA_BRAND!$E:$E,,0),0) -> 1 | H11: =IFERROR(_xlfn.XLOOKUP($D11,DATA_BRAND!$H:$H,DATA_BRAND!$F:$F,,0),0) -> 179.17 | I11: =I10+H11 -> 179.17 | J11: =$L$3-I11 -> 19820.83 | K11: =I11/$L$3 -> 0.0089585 | L11: =($J11/($A$37-A11)) -> 762.33962 | M11: =AVERAGE($H$7:$H11)*(IF(OR(NumMOIS=1,NumMOIS=3,NumMOIS=5,NumMOIS=7,NumMOIS=8,NumMOIS=10,NumMOIS=12),31,30)) -> 1110.854
A12: 6 | B12: =DATE(AnneeCalendrier,NumMOIS,A12) -> 44414 | C12: =DATE($C$3,$F$1,A12) -> 44414 | D12: =$J$1&TEXT(B12,"jj/mm/aaaa") -> 1001115506/08/2021 | E12: =$J$1&TEXT(C12,"jjjj") -> 10011155vendredi | F12: =IFERROR(_xlfn.XLOOKUP($D12,DATA_BRAND!$H:$H,DATA_BRAND!$D:$D,,0),0) -> 0 | G12: =IFERROR(_xlfn.XLOOKUP($D12,DATA_BRAND!$H:$H,DATA_BRAND!$E:$E,,0),0) -> 0 | H12: =IFERROR(_xlfn.XLOOKUP($D12,DATA_BRAND!$H:$H,DATA_BRAND!$F:$F,,0),0) -> 0 | I12: =I11+H12 -> 179.17 | J12: =$L$3-I12 -> 19820.83 | K12: =I12/$L$3 -> 0.0089585 | L12: =($J12/($A$37-A12)) -> 792.8332 | M12: =AVERAGE($H$7:$H12)*(IF(OR(NumMOIS=1,NumMOIS=3,NumMOIS=5,NumMOIS=7,NumMOIS=8,NumMOIS=10,NumMOIS=12),31,30)) -> 925.71167
A13: 7 | B13: =DATE(AnneeCalendrier,NumMOIS,A13) -> 44415 | C13: =DATE($C$3,$F$1,A13) -> 44415 | D13: =$J$1&TEXT(B13,"jj/mm/aaaa") -> 1001115507/08/2021 | E13: =$J$1&TEXT(C13,"jjjj") -> 10011155samedi | F13: =IFERROR(_xlfn.XLOOKUP($D13,DATA_BRAND!$H:$H,DATA_BRAND!$D:$D,,0),0) -> 1 | G13: =IFERROR(_xlfn.XLOOKUP($D13,DATA_BRAND!$H:$H,DATA_BRAND!$E:$E,,0),0) -> 1 | H13: =IFERROR(_xlfn.XLOOKUP($D13,DATA_BRAND!$H:$H,DATA_BRAND!$F:$F,,0),0) -> 158.33 | I13: =I12+H13 -> 337.5 | J13: =$L$3-I13 -> 19662.5 | K13: =I13/$L$3 -> 0.016875 | L13: =($J13/($A$37-A13)) -> 819.27083 | M13: =AVERAGE($H$7:$H13)*(IF(OR(NumMOIS=1,NumMOIS=3,NumMOIS=5,NumMOIS=7,NumMOIS=8,NumMOIS=10,NumMOIS=12),31,30)) -> 1494.6429
A14: 8 | B14: =DATE(AnneeCalendrier,NumMOIS,A14) -> 44416 | C14: =DATE($C$3,$F$1,A14) -> 44416 | D14: =$J$1&TEXT(B14,"jj/mm/aaaa") -> 1001115508/08/2021 | E14: =$J$1&TEXT(C14,"jjjj") -> 10011155dimanche | F14: =IFERROR(_xlfn.XLOOKUP($D14,DATA_BRAND!$H:$H,DATA_BRAND!$D:$D,,0),0) -> 1 | G14: =IFERROR(_xlfn.XLOOKUP($D14,DATA_BRAND!$H:$H,DATA_BRAND!$E:$E,,0),0) -> 1 | H14: =IFERROR(_xlfn.XLOOKUP($D14,DATA_BRAND!$H:$H,DATA_BRAND!$F:$F,,0),0) -> 658.33 | I14: =I13+H14 -> 995.83 | J14: =$L$3-I14 -> 19004.17 | K14: =I14/$L$3 -> 0.0497915 | L14: =($J14/($A$37-A14)) -> 826.26826 | M14: =AVERAGE($H$7:$H14)*(IF(OR(NumMOIS=1,NumMOIS=3,NumMOIS=5,NumMOIS=7,NumMOIS=8,NumMOIS=10,NumMOIS=12),31,30)) -> 3858.8412
A15: 9 | B15: =DATE(AnneeCalendrier,NumMOIS,A15) -> 44417 | C15: =DATE($C$3,$F$1,A15) -> 44417 | D15: =$J$1&TEXT(B15,"jj/mm/aaaa") -> 1001115509/08/2021 | E15: =$J$1&TEXT(C15,"jjjj") -> 10011155lundi | F15: =IFERROR(_xlfn.XLOOKUP($D15,DATA_BRAND!$H:$H,DATA_BRAND!$D:$D,,0),0) -> 0 | G15: =IFERROR(_xlfn.XLOOKUP($D15,DATA_BRAND!$H:$H,DATA_BRAND!$E:$E,,0),0) -> 0 | H15: =IFERROR(_xlfn.XLOOKUP($D15,DATA_BRAND!$H:$H,DATA_BRAND!$F:$F,,0),0) -> 0 | I15: =I14+H15 -> 995.83 | J15: =$L$3-I15 -> 19004.17 | K15: =I15/$L$3 -> 0.0497915 | L15: =($J15/($A$37-A15)) -> 863.82591 | M15: =AVERAGE($H$7:$H15)*(IF(OR(NumMOIS=1,NumMOIS=3,NumMOIS=5,NumMOIS=7,NumMOIS=8,NumMOIS=10,NumMOIS=12),31,30)) -> 3430.0811
A16: 10 | B16: =DATE(AnneeCalendrier,NumMOIS,A16) -> 44418 | C16: =DATE($C$3,$F$1,A16) -> 44418 | D16: =$J$1&TEXT(B16,"jj/mm/aaaa") -> 1001115510/08/2021 | E16: =$J$1&TEXT(C16,"jjjj") -> 10011155mardi | F16: =IFERROR(_xlfn.XLOOKUP($D16,DATA_BRAND!$H:$H,DATA_BRAND!$D:$D,,0),0) -> 0 | G16: =IFERROR(_xlfn.XLOOKUP($D16,DATA_BRAND!$H:$H,DATA_BRAND!$E:$E,,0),0) -> 0 | H16: =IFERROR(_xlfn.XLOOKUP($D16,DATA_BRAND!$H:$H,DATA_BRAND!$F:$F,,0),0) -> 0 | I16: =I15+H16 -> 995.83 | J16: =$L$3-I16 -> 19004.17 | K16: =I16/$L$3 -> 0.0497915 | L16: =($J16/($A$37-A16)) -> 904.96048 | M16: =AVERAGE($H$7:$H16)*(IF(OR(NumMOIS=1,NumMOIS=3,NumMOIS=5,NumMOIS=7,NumMOIS=8,NumMOIS=10,NumMOIS=12),31,30)) -> 3087.073
A17: 11 | B17: =DATE(AnneeCalendrier,NumMOIS,A17) -> 44419 | C17: =DATE($C$3,$F$1,A17) -> 44419 | D17: =$J$1&TEXT(B17,"jj/mm/aaaa") -> 1001115511/08/2021 | E17: =$J$1&TEXT(C17,"jjjj") -> 10011155mercredi | F17: =IFERROR(_xlfn.XLOOKUP($D17,DATA_BRAND!$H:$H,DATA_BRAND!$D:$D,,0),0) -> 2 | G17: =IFERROR(_xlfn.XLOOKUP($D17,DATA_BRAND!$H:$H,DATA_BRAND!$E:$E,,0),0) -> 2 | H17: =IFERROR(_xlfn.XLOOKUP($D17,DATA_BRAND!$H:$H,DATA_BRAND!$F:$F,,0),0) -> 933.33 | I17: =I16+H17 -> 1929.16 | J17: =$L$3-I17 -> 18070.84 | K17: =I17/$L$3 -> 0.096458 | L17: =($J17/($A$37-A17)) -> 903.542 | M17: =AVERAGE($H$7:$H17)*(IF(OR(NumMOIS=1,NumMOIS=3,NumMOIS=5,NumMOIS=7,NumMOIS=8,NumMOIS=10,NumMOIS=12),31,30)) -> 5436.7236
A18: 12 | B18: =DATE(AnneeCalendrier,NumMOIS,A18) -> 44420 | C18: =DATE($C$3,$F$1,A18) -> 44420 | D18: =$J$1&TEXT(B18,"jj/mm/aaaa") -> 1001115512/08/2021 | E18: =$J$1&TEXT(C18,"jjjj") -> 10011155jeudi | F18: =IFERROR(_xlfn.XLOOKUP($D18,DATA_BRAND!$H:$H,DATA_BRAND!$D:$D,,0),0) -> 2 | G18: =IFERROR(_xlfn.XLOOKUP($D18,DATA_BRAND!$H:$H,DATA_BRAND!$E:$E,,0),0) -> 1 | H18: =IFERROR(_xlfn.XLOOKUP($D18,DATA_BRAND!$H:$H,DATA_BRAND!$F:$F,,0),0) -> 458.33 | I18: =I17+H18 -> 2387.49 | J18: =$L$3-I18 -> 17612.51 | K18: =I18/$L$3 -> 0.1193745 | L18: =($J18/($A$37-A18)) -> 926.97421 | M18: =AVERAGE($H$7:$H18)*(IF(OR(NumMOIS=1,NumMOIS=3,NumMOIS=5,NumMOIS=7,NumMOIS=8,NumMOIS=10,NumMOIS=12),31,30)) -> 6167.6825
A19: 13 | B19: =DATE(AnneeCalendrier,NumMOIS,A19) -> 44421 | C19: =DATE($C$3,$F$1,A19) -> 44421 | D19: =$J$1&TEXT(B19,"jj/mm/aaaa") -> 1001115513/08/2021 | E19: =$J$1&TEXT(C19,"jjjj") -> 10011155vendredi | F19: =IFERROR(_xlfn.XLOOKUP($D19,DATA_BRAND!$H:$H,DATA_BRAND!$D:$D,,0),0) -> 0 | G19: =IFERROR(_xlfn.XLOOKUP($D19,DATA_BRAND!$H:$H,DATA_BRAND!$E:$E,,0),0) -> 0 | H19: =IFERROR(_xlfn.XLOOKUP($D19,DATA_BRAND!$H:$H,DATA_BRAND!$F:$F,,0),0) -> 0 | I19: =I18+H19 -> 2387.49 | J19: =$L$3-I19 -> 17612.51 | K19: =I19/$L$3 -> 0.1193745 | L19: =($J19/($A$37-A19)) -> 978.47278 | M19: =AVERAGE($H$7:$H19)*(IF(OR(NumMOIS=1,NumMOIS=3,NumMOIS=5,NumMOIS=7,NumMOIS=8,NumMOIS=10,NumMOIS=12),31,30)) -> 5693.2454
... A34: 28 | B34: =DATE(AnneeCalendrier,NumMOIS,A34) -> 44436 | C34: =DATE($C$3,$F$1,A34) -> 44436 | D34: =$J$1&TEXT(B34,"jj/mm/aaaa") -> 1001115528/08/2021 | E34: =$J$1&TEXT(C34,"jjjj") -> 10011155samedi | F34: =IFERROR(_xlfn.XLOOKUP($D34,DATA_BRAND!$H:$H,DATA_BRAND!$D:$D,,0),0) -> 0 | G34: =IFERROR(_xlfn.XLOOKUP($D34,DATA_BRAND!$H:$H,DATA_BRAND!$E:$E,,0),0) -> 0 | H34: =IFERROR(_xlfn.XLOOKUP($D34,DATA_BRAND!$H:$H,DATA_BRAND!$F:$F,,0),0) -> 0 | I34: =I33+H34 -> 2387.49 | J34: =$L$3-I34 -> 17612.51 | K34: =I34/$L$3 -> 0.1193745 | L34: =($J34/($A$37-A34)) -> 5870.8367 | M34: =AVERAGE($H$7:$H34)*(IF(OR(NumMOIS=1,NumMOIS=3,NumMOIS=5,NumMOIS=7,NumMOIS=8,NumMOIS=10,NumMOIS=12),31,30)) -> 2643.2925
A35: =IF(NumMOIS<>2,A34+1,IF(OR(MOD(AnneeCalendrier,400)=0,AND(MOD(AnneeCalendrier,4)=0,MOD(AnneeCalendrier,100)<>0)),A34+1,"")) -> 29 | B35: =DATE(AnneeCalendrier,NumMOIS,A35) -> 44437 | C35: =DATE($C$3,$F$1,A35) -> 44437 | D35: =$J$1&TEXT(B35,"jj/mm/aaaa") -> 1001115529/08/2021 | E35: =$J$1&TEXT(C35,"jjjj") -> 10011155dimanche | F35: =IFERROR(_xlfn.XLOOKUP($D35,DATA_BRAND!$H:$H,DATA_BRAND!$D:$D,,0),0) -> 0 | G35: =IFERROR(_xlfn.XLOOKUP($D35,DATA_BRAND!$H:$H,DATA_BRAND!$E:$E,,0),0) -> 0 | H35: =IFERROR(_xlfn.XLOOKUP($D35,DATA_BRAND!$H:$H,DATA_BRAND!$F:$F,,0),0) -> 0 | I35: =I34+H35 -> 2387.49 | J35: =$L$3-I35 -> 17612.51 | K35: =I35/$L$3 -> 0.1193745 | L35: =($J35/($A$37-A35)) -> 8806.255 | M35: =AVERAGE($H$7:$H35)*(IF(OR(NumMOIS=1,NumMOIS=3,NumMOIS=5,NumMOIS=7,NumMOIS=8,NumMOIS=10,NumMOIS=12),31,30)) -> 2552.1445
A36: =IF(NumMOIS<>2,A34+2,"") -> 30 | B36: =IF(NumMOIS<>2,B34+2,"") -> 44438 | C36: =IF(NumMOIS<>2,TEXT(WEEKDAY(DATE(AnneeCalendrier,NumMOIS,A36),1),"jjjj"),"") -> lundi | D36: =$J$1&TEXT(B36,"jj/mm/aaaa") -> 1001115530/08/2021 | E36: =$J$1&TEXT(C36,"jjjj") -> 10011155lundi | F36: =IFERROR(_xlfn.XLOOKUP($D36,DATA_BRAND!$H:$H,DATA_BRAND!$D:$D,,0),0) -> 0 | G36: =IFERROR(_xlfn.XLOOKUP($D36,DATA_BRAND!$H:$H,DATA_BRAND!$E:$E,,0),0) -> 0 | H36: =IFERROR(_xlfn.XLOOKUP($D36,DATA_BRAND!$H:$H,DATA_BRAND!$F:$F,,0),0) -> 0 | I36: =I35+H36 -> 2387.49 | J36: =$L$3-I36 -> 17612.51 | K36: =I36/$L$3 -> 0.1193745 | L36: =($J36/($A$37-A36)) -> 17612.51 | M36: =AVERAGE($H$7:$H36)*(IF(OR(NumMOIS=1,NumMOIS=3,NumMOIS=5,NumMOIS=7,NumMOIS=8,NumMOIS=10,NumMOIS=12),31,30)) -> 2467.073
A37: =IF(OR(NumMOIS=1,NumMOIS=3,NumMOIS=5,NumMOIS=7,NumMOIS=8,NumMOIS=10,NumMOIS=12),A34+3,"") -> 31 | B37: =IF(OR(NumMOIS=1,NumMOIS=3,NumMOIS=5,NumMOIS=7,NumMOIS=8,NumMOIS=10,NumMOIS=12),B34+3,"") -> 44439 | C37: =IF(OR(NumMOIS=2,NumMOIS=4,NumMOIS=6,NumMOIS=9,NumMOIS=11),"",TEXT(WEEKDAY(DATE(AnneeCalendrier,NumMOIS,A37),1),"jjjj")) -> mardi | D37: =$J$1&TEXT(B37,"jj/mm/aaaa") -> 1001115531/08/2021 | E37: =$J$1&TEXT(C37,"jjjj") -> 10011155mardi | F37: =IFERROR(_xlfn.XLOOKUP($D37,DATA_BRAND!$H:$H,DATA_BRAND!$D:$D,,0),0) -> 0 | G37: =IFERROR(_xlfn.XLOOKUP($D37,DATA_BRAND!$H:$H,DATA_BRAND!$E:$E,,0),0) -> 0 | H37: =IFERROR(_xlfn.XLOOKUP($D37,DATA_BRAND!$H:$H,DATA_BRAND!$F:$F,,0),0) -> 0 | I37: =IF(OR(NumMOIS=2,NumMOIS=4,NumMOIS=6,NumMOIS=9,NumMOIS=11),"",I36+H37) -> 2387.49 | J37: =IF(OR(NumMOIS=2,NumMOIS=4,NumMOIS=6,NumMOIS=9,NumMOIS=11),"",$L$3-I37) -> 17612.51 | K37: =IF(OR(NumMOIS=2,NumMOIS=4,NumMOIS=6,NumMOIS=9,NumMOIS=11),"",I37/$L$3) -> 0.1193745 | L37: =IF(OR(NumMOIS=2,NumMOIS=4,NumMOIS=6,NumMOIS=9,NumMOIS=11),"",$J37/($A$37-A37)) -> #DIV/0! | M37: =IF(OR(NumMOIS=2,NumMOIS=4,NumMOIS=6,NumMOIS=9,NumMOIS=11),"",AVERAGE($H$7:$H37)*(IF(OR(NumMOIS=1,NumMOIS=3,NumMOIS=5,NumMOIS=7,NumMOIS=8,NumMOIS=10,NumMOIS=12),31,30))) -> 2387.49

Sheet Comparatif
A1: Mois | D1: 7 | I1: SA | J1: e | K1: =VLOOKUP($J$1,DATA!$I:$K,3,0) -> 10010985
A3: Année | B3: 2021
H5: 5 | J5: 8
A6: JOUR | B6: JOURNEE | D6: Units_ | E6: Transactions | F6: CA/jour | I6: CA/jour | K6: JOURNEE | L6: MOYENNE
A7: 1 | B7: =DATE($B$3,$D$1,A7) -> 44378 | C7: =$K$1&TEXT(B7,"jj/mm/aaaa") -> 1001098501/07/2021 | D7: =IFERROR(_xlfn.XLOOKUP($C7,DATA_BRAND!$H:$H,DATA_BRAND!$D:$D,,0),0) -> 0 | E7: =IFERROR(_xlfn.XLOOKUP($C7,DATA_BRAND!$H:$H,DATA_BRAND!$E:$E,,0),0) -> 0 | F7: =IFERROR(_xlfn.XLOOKUP($C7,DATA_BRAND!$H:$H,DATA_BRAND!$F:$F,,0),0) -> 0 | G7: =DATE($B$3,$J$5,A7) -> 44409 | H7: =$K$1&TEXT(G7,"jj/mm/aaaa") -> 1001098501/08/2021 | I7: =IFERROR(_xlfn.XLOOKUP($H7,DATA_BRAND!$H:$H,DATA_BRAND!$F:$F,,0),0) -> 0 | J7: =IF(ISERROR(OR((I7-F7)/F7,(F7-I7)/F7<0)),0,(I7-F7)/F7) -> 0 | K7: =G7 -> 44409 | L7: =(F7+I7)/2 -> 0
A8: 2 | B8: =DATE($B$3,$D$1,A8) -> 44379 | C8: =$K$1&TEXT(B8,"jj/mm/aaaa") -> 1001098502/07/2021 | D8: =IFERROR(_xlfn.XLOOKUP($C8,DATA_BRAND!$H:$H,DATA_BRAND!$D:$D,,0),0) -> 1 | E8: =IFERROR(_xlfn.XLOOKUP($C8,DATA_BRAND!$H:$H,DATA_BRAND!$E:$E,,0),0) -> 1 | F8: =IFERROR(_xlfn.XLOOKUP($C8,DATA_BRAND!$H:$H,DATA_BRAND!$F:$F,,0),0) -> 245.83 | G8: =DATE($B$3,$J$5,A8) -> 44410 | H8: =$K$1&TEXT(G8,"jj/mm/aaaa") -> 1001098502/08/2021 | I8: =IFERROR(_xlfn.XLOOKUP($H8,DATA_BRAND!$H:$H,DATA_BRAND!$F:$F,,0),0) -> 0 | J8: =IF(ISERROR(OR((I8-F8)/F8,(F8-I8)/F8<0)),0,(I8-F8)/F8) -> -1 | K8: =G8 -> 44410 | L8: =(F8+I8)/2 -> 122.915
A9: 3 | B9: =DATE($B$3,$D$1,A9) -> 44380 | C9: =$K$1&TEXT(B9,"jj/mm/aaaa") -> 1001098503/07/2021 | D9: =IFERROR(_xlfn.XLOOKUP($C9,DATA_BRAND!$H:$H,DATA_BRAND!$D:$D,,0),0) -> 1 | E9: =IFERROR(_xlfn.XLOOKUP($C9,DATA_BRAND!$H:$H,DATA_BRAND!$E:$E,,0),0) -> 1 | F9: =IFERROR(_xlfn.XLOOKUP($C9,DATA_BRAND!$H:$H,DATA_BRAND!$F:$F,,0),0) -> 245.83 | G9: =DATE($B$3,$J$5,A9) -> 44411 | H9: =$K$1&TEXT(G9,"jj/mm/aaaa") -> 1001098503/08/2021 | I9: =IFERROR(_xlfn.XLOOKUP($H9,DATA_BRAND!$H:$H,DATA_BRAND!$F:$F,,0),0) -> 0 | J9: =IF(ISERROR(OR((I9-F9)/F9,(F9-I9)/F9<0)),0,(I9-F9)/F9) -> -1 | K9: =G9 -> 44411 | L9: =(F9+I9)/2 -> 122.915
A10: 4 | B10: =DATE($B$3,$D$1,A10) -> 44381 | C10: =$K$1&TEXT(B10,"jj/mm/aaaa") -> 1001098504/07/2021 | D10: =IFERROR(_xlfn.XLOOKUP($C10,DATA_BRAND!$H:$H,DATA_BRAND!$D:$D,,0),0) -> 0 | E10: =IFERROR(_xlfn.XLOOKUP($C10,DATA_BRAND!$H:$H,DATA_BRAND!$E:$E,,0),0) -> 0 | F10: =IFERROR(_xlfn.XLOOKUP($C10,DATA_BRAND!$H:$H,DATA_BRAND!$F:$F,,0),0) -> 0 | G10: =DATE($B$3,$J$5,A10) -> 44412 | H10: =$K$1&TEXT(G10,"jj/mm/aaaa") -> 1001098504/08/2021 | I10: =IFERROR(_xlfn.XLOOKUP($H10,DATA_BRAND!$H:$H,DATA_BRAND!$F:$F,,0),0) -> 0 | J10: =IF(ISERROR(OR((I10-F10)/F10,(F10-I10)/F10<0)),0,(I10-F10)/F10) -> 0 | K10: =G10 -> 44412 | L10: =(F10+I10)/2 -> 0
A11: 5 | B11: =DATE($B$3,$D$1,A11) -> 44382 | C11: =$K$1&TEXT(B11,"jj/mm/aaaa") -> 1001098505/07/2021 | D11: =IFERROR(_xlfn.XLOOKUP($C11,DATA_BRAND!$H:$H,DATA_BRAND!$D:$D,,0),0) -> 0 | E11: =IFERROR(_xlfn.XLOOKUP($C11,DATA_BRAND!$H:$H,DATA_BRAND!$E:$E,,0),0) -> 0 | F11: =IFERROR(_xlfn.XLOOKUP($C11,DATA_BRAND!$H:$H,DATA_BRAND!$F:$F,,0),0) -> 0 | G11: =DATE($B$3,$J$5,A11) -> 44413 | H11: =$K$1&TEXT(G11,"jj/mm/aaaa") -> 1001098505/08/2021 | I11: =IFERROR(_xlfn.XLOOKUP($H11,DATA_BRAND!$H:$H,DATA_BRAND!$F:$F,,0),0) -> 0 | J11: =IF(ISERROR(OR((I11-F11)/F11,(F11-I11)/F11<0)),0,(I11-F11)/F11) -> 0 | K11: =G11 -> 44413 | L11: =(F11+I11)/2 -> 0
A12: 6 | B12: =DATE($B$3,$D$1,A12) -> 44383 | C12: =$K$1&TEXT(B12,"jj/mm/aaaa") -> 1001098506/07/2021 | D12: =IFERROR(_xlfn.XLOOKUP($C12,DATA_BRAND!$H:$H,DATA_BRAND!$D:$D,,0),0) -> 0 | E12: =IFERROR(_xlfn.XLOOKUP($C12,DATA_BRAND!$H:$H,DATA_BRAND!$E:$E,,0),0) -> 0 | F12: =IFERROR(_xlfn.XLOOKUP($C12,DATA_BRAND!$H:$H,DATA_BRAND!$F:$F,,0),0) -> 0 | G12: =DATE($B$3,$J$5,A12) -> 44414 | H12: =$K$1&TEXT(G12,"jj/mm/aaaa") -> 1001098506/08/2021 | I12: =IFERROR(_xlfn.XLOOKUP($H12,DATA_BRAND!$H:$H,DATA_BRAND!$F:$F,,0),0) -> 1175 | J12: =IF(ISERROR(OR((I12-F12)/F12,(F12-I12)/F12<0)),0,(I12-F12)/F12) -> 0 | K12: =G12 -> 44414 | L12: =(F12+I12)/2 -> 587.5
A13: 7 | B13: =DATE($B$3,$D$1,A13) -> 44384 | C13: =$K$1&TEXT(B13,"jj/mm/aaaa") -> 1001098507/07/2021 | D13: =IFERROR(_xlfn.XLOOKUP($C13,DATA_BRAND!$H:$H,DATA_BRAND!$D:$D,,0),0) -> 0 | E13: =IFERROR(_xlfn.XLOOKUP($C13,DATA_BRAND!$H:$H,DATA_BRAND!$E:$E,,0),0) -> 0 | F13: =IFERROR(_xlfn.XLOOKUP($C13,DATA_BRAND!$H:$H,DATA_BRAND!$F:$F,,0),0) -> 0 | G13: =DATE($B$3,$J$5,A13) -> 44415 | H13: =$K$1&TEXT(G13,"jj/mm/aaaa") -> 1001098507/08/2021 | I13: =IFERROR(_xlfn.XLOOKUP($H13,DATA_BRAND!$H:$H,DATA_BRAND!$F:$F,,0),0) -> 458.33 | J13: =IF(ISERROR(OR((I13-F13)/F13,(F13-I13)/F13<0)),0,(I13-F13)/F13) -> 0 | K13: =G13 -> 44415 | L13: =(F13+I13)/2 -> 229.165
A14: 8 | B14: =DATE($B$3,$D$1,A14) -> 44385 | C14: =$K$1&TEXT(B14,"jj/mm/aaaa") -> 1001098508/07/2021 | D14: =IFERROR(_xlfn.XLOOKUP($C14,DATA_BRAND!$H:$H,DATA_BRAND!$D:$D,,0),0) -> 0 | E14: =IFERROR(_xlfn.XLOOKUP($C14,DATA_BRAND!$H:$H,DATA_BRAND!$E:$E,,0),0) -> 0 | F14: =IFERROR(_xlfn.XLOOKUP($C14,DATA_BRAND!$H:$H,DATA_BRAND!$F:$F,,0),0) -> 0 | G14: =DATE($B$3,$J$5,A14) -> 44416 | H14: =$K$1&TEXT(G14,"jj/mm/aaaa") -> 1001098508/08/2021 | I14: =IFERROR(_xlfn.XLOOKUP($H14,DATA_BRAND!$H:$H,DATA_BRAND!$F:$F,,0),0) -> 402.08 | J14: =IF(ISERROR(OR((I14-F14)/F14,(F14-I14)/F14<0)),0,(I14-F14)/F14) -> 0 | K14: =G14 -> 44416 | L14: =(F14+I14)/2 -> 201.04
A15: 9 | B15: =DATE($B$3,$D$1,A15) -> 44386 | C15: =$K$1&TEXT(B15,"jj/mm/aaaa") -> 1001098509/07/2021 | D15: =IFERROR(_xlfn.XLOOKUP($C15,DATA_BRAND!$H:$H,DATA_BRAND!$D:$D,,0),0) -> 0 | E15: =IFERROR(_xlfn.XLOOKUP($C15,DATA_BRAND!$H:$H,DATA_BRAND!$E:$E,,0),0) -> 0 | F15: =IFERROR(_xlfn.XLOOKUP($C15,DATA_BRAND!$H:$H,DATA_BRAND!$F:$F,,0),0) -> 0 | G15: =DATE($B$3,$J$5,A15) -> 44417 | H15: =$K$1&TEXT(G15,"jj/mm/aaaa") -> 1001098509/08/2021 | I15: =IFERROR(_xlfn.XLOOKUP($H15,DATA_BRAND!$H:$H,DATA_BRAND!$F:$F,,0),0) -> 495.83 | J15: =IF(ISERROR(OR((I15-F15)/F15,(F15-I15)/F15<0)),0,(I15-F15)/F15) -> 0 | K15: =G15 -> 44417 | L15: =(F15+I15)/2 -> 247.915
A16: 10 | B16: =DATE($B$3,$D$1,A16) -> 44387 | C16: =$K$1&TEXT(B16,"jj/mm/aaaa") -> 1001098510/07/2021 | D16: =IFERROR(_xlfn.XLOOKUP($C16,DATA_BRAND!$H:$H,DATA_BRAND!$D:$D,,0),0) -> 0 | E16: =IFERROR(_xlfn.XLOOKUP($C16,DATA_BRAND!$H:$H,DATA_BRAND!$E:$E,,0),0) -> 0 | F16: =IFERROR(_xlfn.XLOOKUP($C16,DATA_BRAND!$H:$H,DATA_BRAND!$F:$F,,0),0) -> 0 | G16: =DATE($B$3,$J$5,A16) -> 44418 | H16: =$K$1&TEXT(G16,"jj/mm/aaaa") -> 1001098510/08/2021 | I16: =IFERROR(_xlfn.XLOOKUP($H16,DATA_BRAND!$H:$H,DATA_BRAND!$F:$F,,0),0) -> 0 | J16: =IF(ISERROR(OR((I16-F16)/F16,(F16-I16)/F16<0)),0,(I16-F16)/F16) -> 0 | K16: =G16 -> 44418 | L16: =(F16+I16)/2 -> 0
A17: 11 | B17: =DATE($B$3,$D$1,A17) -> 44388 | C17: =$K$1&TEXT(B17,"jj/mm/aaaa") -> 1001098511/07/2021 | D17: =IFERROR(_xlfn.XLOOKUP($C17,DATA_BRAND!$H:$H,DATA_BRAND!$D:$D,,0),0) -> 0 | E17: =IFERROR(_xlfn.XLOOKUP($C17,DATA_BRAND!$H:$H,DATA_BRAND!$E:$E,,0),0) -> 0 | F17: =IFERROR(_xlfn.XLOOKUP($C17,DATA_BRAND!$H:$H,DATA_BRAND!$F:$F,,0),0) -> 0 | G17: =DATE($B$3,$J$5,A17) -> 44419 | H17: =$K$1&TEXT(G17,"jj/mm/aaaa") -> 1001098511/08/2021 | I17: =IFERROR(_xlfn.XLOOKUP($H17,DATA_BRAND!$H:$H,DATA_BRAND!$F:$F,,0),0) -> 0 | J17: =IF(ISERROR(OR((I17-F17)/F17,(F17-I17)/F17<0)),0,(I17-F17)/F17) -> 0 | K17: =G17 -> 44419 | L17: =(F17+I17)/2 -> 0
A18: 12 | B18: =DATE($B$3,$D$1,A18) -> 44389 | C18: =$K$1&TEXT(B18,"jj/mm/aaaa") -> 1001098512/07/2021 | D18: =IFERROR(_xlfn.XLOOKUP($C18,DATA_BRAND!$H:$H,DATA_BRAND!$D:$D,,0),0) -> 1 | E18: =IFERROR(_xlfn.XLOOKUP($C18,DATA_BRAND!$H:$H,DATA_BRAND!$E:$E,,0),0) -> 1 | F18: =IFERROR(_xlfn.XLOOKUP($C18,DATA_BRAND!$H:$H,DATA_BRAND!$F:$F,,0),0) -> 516.67 | G18: =DATE($B$3,$J$5,A18) -> 44420 | H18: =$K$1&TEXT(G18,"jj/mm/aaaa") -> 1001098512/08/2021 | I18: =IFERROR(_xlfn.XLOOKUP($H18,DATA_BRAND!$H:$H,DATA_BRAND!$F:$F,,0),0) -> 0 | J18: =IF(ISERROR(OR((I18-F18)/F18,(F18-I18)/F18<0)),0,(I18-F18)/F18) -> -1 | K18: =G18 -> 44420 | L18: =(F18+I18)/2 -> 258.335
... A37: 31 | B37: =DATE($B$3,$D$1,A37) -> 44408 | C37: =$K$1&TEXT(B37,"jj/mm/aaaa") -> 1001098531/07/2021 | D37: =IFERROR(_xlfn.XLOOKUP($C37,DATA_BRAND!$H:$H,DATA_BRAND!$D:$D,,0),0) -> 0 | E37: =IFERROR(_xlfn.XLOOKUP($C37,DATA_BRAND!$H:$H,DATA_BRAND!$E:$E,,0),0) -> 0 | F37: =IFERROR(_xlfn.XLOOKUP($C37,DATA_BRAND!$H:$H,DATA_BRAND!$F:$F,,0),0) -> 0 | G37: =DATE($B$3,$J$5,A37) -> 44439 | H37: =$K$1&TEXT(G37,"jj/mm/aaaa") -> 1001098531/08/2021 | I37: =IFERROR(_xlfn.XLOOKUP($H37,DATA_BRAND!$H:$H,DATA_BRAND!$F:$F,,0),0) -> 0 | J37: =IF(ISERROR(OR((I37-F37)/F37,(F37-I37)/F37<0)),0,(I37-F37)/F37) -> 0 | K37: =G37 -> 44439 | L37: =(F37+I37)/2 -> 0

Sheet Mois suivant
A1: Mois | E1: 9 | G1: SA | H1: u | I1: =VLOOKUP($H$1,DATA!$I:$K,3,0) -> 10011305
A3: Année | C3: 2021 | G3: TOTAL | H3: =SUM(G7:G37) -> 0 | J3: OBJ | K3: 20000
A6: JOUR | C6: JOURNEE | E6: Units_ | F6: Transactions | G6: Net Sales | H6: Cumulatif | I6: CA restant | J6: Réal | K6: OBJ/jour | L6: Estimation du CA final
A7: 1 | B7: =DATE(AnneeCalendrier,NumMOIS,A7) -> 44440 | C7: =DATE($C$3,$E$1,A7) -> 44440 | D7: =$I$1&TEXT(B7,"jj/mm/aaaa") -> 1001130501/09/2021 | E7: =IFERROR(_xlfn.XLOOKUP($D7,DATA_BRAND!$H:$H,DATA_BRAND!$D:$D,,0),0) -> 0 | F7: =IFERROR(_xlfn.XLOOKUP($D7,DATA_BRAND!$H:$H,DATA_BRAND!$E:$E,,0),0) -> 0 | G7: =IFERROR(_xlfn.XLOOKUP($D7,DATA_BRAND!$H:$H,DATA_BRAND!$F:$F,,0),0) -> 0 | H7: =G7 -> 0 | I7: =$K$3-H7 -> 20000 | J7: =H7/$K$3 -> 0 | K7: =($I7/($A$36-A7)) -> 689.65517 | L7: =G7*(IF(OR(NumMOIS=1,NumMOIS=3,NumMOIS=5,NumMOIS=7,NumMOIS=8,NumMOIS=10,NumMOIS=12),31,30)) -> 0
A8: 2 | B8: =DATE(AnneeCalendrier,NumMOIS,A8) -> 44441 | C8: =DATE($C$3,$E$1,A8) -> 44441 | D8: =$I$1&TEXT(B8,"jj/mm/aaaa") -> 1001130502/09/2021 | E8: =IFERROR(_xlfn.XLOOKUP($D8,DATA_BRAND!$H:$H,DATA_BRAND!$D:$D,,0),0) -> 0 | F8: =IFERROR(_xlfn.XLOOKUP($D8,DATA_BRAND!$H:$H,DATA_BRAND!$E:$E,,0),0) -> 0 | G8: =IFERROR(_xlfn.XLOOKUP($D8,DATA_BRAND!$H:$H,DATA_BRAND!$F:$F,,0),0) -> 0 | H8: =H7+G8 -> 0 | I8: =$K$3-H8 -> 20000 | J8: =H8/$K$3 -> 0 | K8: =($I8/($A$36-A8)) -> 714.28571 | L8: =AVERAGE($G$7:$G8)*(IF(OR(NumMOIS=1,NumMOIS=3,NumMOIS=5,NumMOIS=7,NumMOIS=8,NumMOIS=10,NumMOIS=12),31,30)) -> 0
A9: 3 | B9: =DATE(AnneeCalendrier,NumMOIS,A9) -> 44442 | C9: =DATE($C$3,$E$1,A9) -> 44442 | D9: =$I$1&TEXT(B9,"jj/mm/aaaa") -> 1001130503/09/2021 | E9: =IFERROR(_xlfn.XLOOKUP($D9,DATA_BRAND!$H:$H,DATA_BRAND!$D:$D,,0),0) -> 0 | F9: =IFERROR(_xlfn.XLOOKUP($D9,DATA_BRAND!$H:$H,DATA_BRAND!$E:$E,,0),0) -> 0 | G9: =IFERROR(_xlfn.XLOOKUP($D9,DATA_BRAND!$H:$H,DATA_BRAND!$F:$F,,0),0) -> 0 | H9: =H8+G9 -> 0 | I9: =$K$3-H9 -> 20000 | J9: =H9/$K$3 -> 0 | K9: =($I9/($A$36-A9)) -> 740.74074 | L9: =AVERAGE($G$7:$G9)*(IF(OR(NumMOIS=1,NumMOIS=3,NumMOIS=5,NumMOIS=7,NumMOIS=8,NumMOIS=10,NumMOIS=12),31,30)) -> 0
A10: 4 | B10: =DATE(AnneeCalendrier,NumMOIS,A10) -> 44443 | C10: =DATE($C$3,$E$1,A10) -> 44443 | D10: =$I$1&TEXT(B10,"jj/mm/aaaa") -> 1001130504/09/2021 | E10: =IFERROR(_xlfn.XLOOKUP($D10,DATA_BRAND!$H:$H,DATA_BRAND!$D:$D,,0),0) -> 0 | F10: =IFERROR(_xlfn.XLOOKUP($D10,DATA_BRAND!$H:$H,DATA_BRAND!$E:$E,,0),0) -> 0 | G10: =IFERROR(_xlfn.XLOOKUP($D10,DATA_BRAND!$H:$H,DATA_BRAND!$F:$F,,0),0) -> 0 | H10: =H9+G10 -> 0 | I10: =$K$3-H10 -> 20000 | J10: =H10/$K$3 -> 0 | K10: =($I10/($A$36-A10)) -> 769.23077 | L10: =AVERAGE($G$7:$G10)*(IF(OR(NumMOIS=1,NumMOIS=3,NumMOIS=5,NumMOIS=7,NumMOIS=8,NumMOIS=10,NumMOIS=12),31,30)) -> 0
A11: 5 | B11: =DATE(AnneeCalendrier,NumMOIS,A11) -> 44444 | C11: =DATE($C$3,$E$1,A11) -> 44444 | D11: =$I$1&TEXT(B11,"jj/mm/aaaa") -> 1001130505/09/2021 | E11: =IFERROR(_xlfn.XLOOKUP($D11,DATA_BRAND!$H:$H,DATA_BRAND!$D:$D,,0),0) -> 0 | F11: =IFERROR(_xlfn.XLOOKUP($D11,DATA_BRAND!$H:$H,DATA_BRAND!$E:$E,,0),0) -> 0 | G11: =IFERROR(_xlfn.XLOOKUP($D11,DATA_BRAND!$H:$H,DATA_BRAND!$F:$F,,0),0) -> 0 | H11: =H10+G11 -> 0 | I11: =$K$3-H11 -> 20000 | J11: =H11/$K$3 -> 0 | K11: =($I11/($A$36-A11)) -> 800 | L11: =AVERAGE($G$7:$G11)*(IF(OR(NumMOIS=1,NumMOIS=3,NumMOIS=5,NumMOIS=7,NumMOIS=8,NumMOIS=10,NumMOIS=12),31,30)) -> 0
A12: 6 | B12: =DATE(AnneeCalendrier,NumMOIS,A12) -> 44445 | C12: =DATE($C$3,$E$1,A12) -> 44445 | D12: =$I$1&TEXT(B12,"jj/mm/aaaa") -> 1001130506/09/2021 | E12: =IFERROR(_xlfn.XLOOKUP($D12,DATA_BRAND!$H:$H,DATA_BRAND!$D:$D,,0),0) -> 0 | F12: =IFERROR(_xlfn.XLOOKUP($D12,DATA_BRAND!$H:$H,DATA_BRAND!$E:$E,,0),0) -> 0 | G12: =IFERROR(_xlfn.XLOOKUP($D12,DATA_BRAND!$H:$H,DATA_BRAND!$F:$F,,0),0) -> 0 | H12: =H11+G12 -> 0 | I12: =$K$3-H12 -> 20000 | J12: =H12/$K$3 -> 0 | K12: =($I12/($A$36-A12)) -> 833.33333 | L12: =AVERAGE($G$7:$G12)*(IF(OR(NumMOIS=1,NumMOIS=3,NumMOIS=5,NumMOIS=7,NumMOIS=8,NumMOIS=10,NumMOIS=12),31,30)) -> 0
A13: 7 | B13: =DATE(AnneeCalendrier,NumMOIS,A13) -> 44446 | C13: =DATE($C$3,$E$1,A13) -> 44446 | D13: =$I$1&TEXT(B13,"jj/mm/aaaa") -> 1001130507/09/2021 | E13: =IFERROR(_xlfn.XLOOKUP($D13,DATA_BRAND!$H:$H,DATA_BRAND!$D:$D,,0),0) -> 0 | F13: =IFERROR(_xlfn.XLOOKUP($D13,DATA_BRAND!$H:$H,DATA_BRAND!$E:$E,,0),0) -> 0 | G13: =IFERROR(_xlfn.XLOOKUP($D13,DATA_BRAND!$H:$H,DATA_BRAND!$F:$F,,0),0) -> 0 | H13: =H12+G13 -> 0 | I13: =$K$3-H13 -> 20000 | J13: =H13/$K$3 -> 0 | K13: =($I13/($A$36-A13)) -> 869.56522 | L13: =AVERAGE($G$7:$G13)*(IF(OR(NumMOIS=1,NumMOIS=3,NumMOIS=5,NumMOIS=7,NumMOIS=8,NumMOIS=10,NumMOIS=12),31,30)) -> 0
A14: 8 | B14: =DATE(AnneeCalendrier,NumMOIS,A14) -> 44447 | C14: =DATE($C$3,$E$1,A14) -> 44447 | D14: =$I$1&TEXT(B14,"jj/mm/aaaa") -> 1001130508/09/2021 | E14: =IFERROR(_xlfn.XLOOKUP($D14,DATA_BRAND!$H:$H,DATA_BRAND!$D:$D,,0),0) -> 0 | F14: =IFERROR(_xlfn.XLOOKUP($D14,DATA_BRAND!$H:$H,DATA_BRAND!$E:$E,,0),0) -> 0 | G14: =IFERROR(_xlfn.XLOOKUP($D14,DATA_BRAND!$H:$H,DATA_BRAND!$F:$F,,0),0) -> 0 | H14: =H13+G14 -> 0 | I14: =$K$3-H14 -> 20000 | J14: =H14/$K$3 -> 0 | K14: =($I14/($A$36-A14)) -> 909.09091 | L14: =AVERAGE($G$7:$G14)*(IF(OR(NumMOIS=1,NumMOIS=3,NumMOIS=5,NumMOIS=7,NumMOIS=8,NumMOIS=10,NumMOIS=12),31,30)) -> 0
A15: 9 | B15: =DATE(AnneeCalendrier,NumMOIS,A15) -> 44448 | C15: =DATE($C$3,$E$1,A15) -> 44448 | D15: =$I$1&TEXT(B15,"jj/mm/aaaa") -> 1001130509/09/2021 | E15: =IFERROR(_xlfn.XLOOKUP($D15,DATA_BRAND!$H:$H,DATA_BRAND!$D:$D,,0),0) -> 0 | F15: =IFERROR(_xlfn.XLOOKUP($D15,DATA_BRAND!$H:$H,DATA_BRAND!$E:$E,,0),0) -> 0 | G15: =IFERROR(_xlfn.XLOOKUP($D15,DATA_BRAND!$H:$H,DATA_BRAND!$F:$F,,0),0) -> 0 | H15: =H14+G15 -> 0 | I15: =$K$3-H15 -> 20000 | J15: =H15/$K$3 -> 0 | K15: =($I15/($A$36-A15)) -> 952.38095 | L15: =AVERAGE($G$7:$G15)*(IF(OR(NumMOIS=1,NumMOIS=3,NumMOIS=5,NumMOIS=7,NumMOIS=8,NumMOIS=10,NumMOIS=12),31,30)) -> 0
A16: 10 | B16: =DATE(AnneeCalendrier,NumMOIS,A16) -> 44449 | C16: =DATE($C$3,$E$1,A16) -> 44449 | D16: =$I$1&TEXT(B16,"jj/mm/aaaa") -> 1001130510/09/2021 | E16: =IFERROR(_xlfn.XLOOKUP($D16,DATA_BRAND!$H:$H,DATA_BRAND!$D:$D,,0),0) -> 0 | F16: =IFERROR(_xlfn.XLOOKUP($D16,DATA_BRAND!$H:$H,DATA_BRAND!$E:$E,,0),0) -> 0 | G16: =IFERROR(_xlfn.XLOOKUP($D16,DATA_BRAND!$H:$H,DATA_BRAND!$F:$F,,0),0) -> 0 | H16: =H15+G16 -> 0 | I16: =$K$3-H16 -> 20000 | J16: =H16/$K$3 -> 0 | K16: =($I16/($A$36-A16)) -> 1000 | L16: =AVERAGE($G$7:$G16)*(IF(OR(NumMOIS=1,NumMOIS=3,NumMOIS=5,NumMOIS=7,NumMOIS=8,NumMOIS=10,NumMOIS=12),31,30)) -> 0
A17: 11 | B17: =DATE(AnneeCalendrier,NumMOIS,A17) -> 44450 | C17: =DATE($C$3,$E$1,A17) -> 44450 | D17: =$I$1&TEXT(B17,"jj/mm/aaaa") -> 1001130511/09/2021 | E17: =IFERROR(_xlfn.XLOOKUP($D17,DATA_BRAND!$H:$H,DATA_BRAND!$D:$D,,0),0) -> 0 | F17: =IFERROR(_xlfn.XLOOKUP($D17,DATA_BRAND!$H:$H,DATA_BRAND!$E:$E,,0),0) -> 0 | G17: =IFERROR(_xlfn.XLOOKUP($D17,DATA_BRAND!$H:$H,DATA_BRAND!$F:$F,,0),0) -> 0 | H17: =H16+G17 -> 0 | I17: =$K$3-H17 -> 20000 | J17: =H17/$K$3 -> 0 | K17: =($I17/($A$36-A17)) -> 1052.6316 | L17: =AVERAGE($G$7:$G17)*(IF(OR(NumMOIS=1,NumMOIS=3,NumMOIS=5,NumMOIS=7,NumMOIS=8,NumMOIS=10,NumMOIS=12),31,30)) -> 0
A18: 12 | B18: =DATE(AnneeCalendrier,NumMOIS,A18) -> 44451 | C18: =DATE($C$3,$E$1,A18) -> 44451 | D18: =$I$1&TEXT(B18,"jj/mm/aaaa") -> 1001130512/09/2021 | E18: =IFERROR(_xlfn.XLOOKUP($D18,DATA_BRAND!$H:$H,DATA_BRAND!$D:$D,,0),0) -> 0 | F18: =IFERROR(_xlfn.XLOOKUP($D18,DATA_BRAND!$H:$H,DATA_BRAND!$E:$E,,0),0) -> 0 | G18: =IFERROR(_xlfn.XLOOKUP($D18,DATA_BRAND!$H:$H,DATA_BRAND!$F:$F,,0),0) -> 0 | H18: =H17+G18 -> 0 | I18: =$K$3-H18 -> 20000 | J18: =H18/$K$3 -> 0 | K18: =($I18/($A$36-A18)) -> 1111.1111 | L18: =AVERAGE($G$7:$G18)*(IF(OR(NumMOIS=1,NumMOIS=3,NumMOIS=5,NumMOIS=7,NumMOIS=8,NumMOIS=10,NumMOIS=12),31,30)) -> 0
A19: 13 | B19: =DATE(AnneeCalendrier,NumMOIS,A19) -> 44452 | C19: =DATE($C$3,$E$1,A19) -> 44452 | D19: =$I$1&TEXT(B19,"jj/mm/aaaa") -> 1001130513/09/2021 | E19: =IFERROR(_xlfn.XLOOKUP($D19,DATA_BRAND!$H:$H,DATA_BRAND!$D:$D,,0),0) -> 0 | F19: =IFERROR(_xlfn.XLOOKUP($D19,DATA_BRAND!$H:$H,DATA_BRAND!$E:$E,,0),0) -> 0 | G19: =IFERROR(_xlfn.XLOOKUP($D19,DATA_BRAND!$H:$H,DATA_BRAND!$F:$F,,0),0) -> 0 | H19: =H18+G19 -> 0 | I19: =$K$3-H19 -> 20000 | J19: =H19/$K$3 -> 0 | K19: =($I19/($A$36-A19)) -> 1176.4706 | L19: =AVERAGE($G$7:$G19)*(IF(OR(NumMOIS=1,NumMOIS=3,NumMOIS=5,NumMOIS=7,NumMOIS=8,NumMOIS=10,NumMOIS=12),31,30)) -> 0
... A34: 28 | B34: =DATE(AnneeCalendrier,NumMOIS,A34) -> 44467 | C34: =DATE($C$3,$E$1,A34) -> 44467 | D34: =$I$1&TEXT(B34,"jj/mm/aaaa") -> 1001130528/09/2021 | E34: =IFERROR(_xlfn.XLOOKUP($D34,DATA_BRAND!$H:$H,DATA_BRAND!$D:$D,,0),0) -> 0 | F34: =IFERROR(_xlfn.XLOOKUP($D34,DATA_BRAND!$H:$H,DATA_BRAND!$E:$E,,0),0) -> 0 | G34: =IFERROR(_xlfn.XLOOKUP($D34,DATA_BRAND!$H:$H,DATA_BRAND!$F:$F,,0),0) -> 0 | H34: =H33+G34 -> 0 | I34: =$K$3-H34 -> 20000 | J34: =H34/$K$3 -> 0 | K34: =($I34/($A$36-A34)) -> 10000 | L34: =AVERAGE($G$7:$G34)*(IF(OR(NumMOIS=1,NumMOIS=3,NumMOIS=5,NumMOIS=7,NumMOIS=8,NumMOIS=10,NumMOIS=12),31,30)) -> 0
A35: =IF(NumMOIS<>2,A34+1,IF(OR(MOD(AnneeCalendrier,400)=0,AND(MOD(AnneeCalendrier,4)=0,MOD(AnneeCalendrier,100)<>0)),A34+1,"")) -> 29 | B35: =DATE(AnneeCalendrier,NumMOIS,A35) -> 44468 | C35: =DATE($C$3,$E$1,A35) -> 44468 | D35: =$I$1&TEXT(B35,"jj/mm/aaaa") -> 1001130529/09/2021 | E35: =IFERROR(_xlfn.XLOOKUP($D35,DATA_BRAND!$H:$H,DATA_BRAND!$D:$D,,0),0) -> 0 | F35: =IFERROR(_xlfn.XLOOKUP($D35,DATA_BRAND!$H:$H,DATA_BRAND!$E:$E,,0),0) -> 0 | G35: =IFERROR(_xlfn.XLOOKUP($D35,DATA_BRAND!$H:$H,DATA_BRAND!$F:$F,,0),0) -> 0 | H35: =H34+G35 -> 0 | I35: =$K$3-H35 -> 20000 | J35: =H35/$K$3 -> 0 | K35: =($I35/($A$36-A35)) -> 20000 | L35: =AVERAGE($G$7:$G35)*(IF(OR(NumMOIS=1,NumMOIS=3,NumMOIS=5,NumMOIS=7,NumMOIS=8,NumMOIS=10,NumMOIS=12),31,30)) -> 0
A36: =IF(NumMOIS<>2,A34+2,"") -> 30 | B36: =IF(NumMOIS<>2,B34+2,"") -> 44469 | C36: =IF(NumMOIS<>2,TEXT(WEEKDAY(DATE(AnneeCalendrier,NumMOIS,A36),1),"jjjj"),"") -> jeudi | D36: =$I$1&TEXT(B36,"jj/mm/aaaa") -> 1001130530/09/2021 | E36: =IFERROR(_xlfn.XLOOKUP($D36,DATA_BRAND!$H:$H,DATA_BRAND!$D:$D,,0),0) -> 0 | F36: =IFERROR(_xlfn.XLOOKUP($D36,DATA_BRAND!$H:$H,DATA_BRAND!$E:$E,,0),0) -> 0 | G36: =IFERROR(_xlfn.XLOOKUP($D36,DATA_BRAND!$H:$H,DATA_BRAND!$F:$F,,0),0) -> 0 | H36: =H35+G36 -> 0 | I36: =$K$3-H36 -> 20000 | J36: =H36/$K$3 -> 0 | K36: =($I36/($A$36-A36)) -> #DIV/0! | L36: =AVERAGE($G$7:$G36)*(IF(OR(NumMOIS=1,NumMOIS=3,NumMOIS=5,NumMOIS=7,NumMOIS=8,NumMOIS=10,NumMOIS=12),31,30)) -> 0
A37: =IF(OR(NumMOIS=1,NumMOIS=3,NumMOIS=5,NumMOIS=7,NumMOIS=8,NumMOIS=10,NumMOIS=12),A34+3,"") | B37: =IF(OR(NumMOIS=1,NumMOIS=3,NumMOIS=5,NumMOIS=7,NumMOIS=8,NumMOIS=10,NumMOIS=12),B34+3,"") | C37: =IF(OR(NumMOIS=2,NumMOIS=4,NumMOIS=6,NumMOIS=9,NumMOIS=11),"",TEXT(WEEKDAY(DATE(AnneeCalendrier,NumMOIS,A37),1),"jjjj")) | D37: =$I$1&TEXT(B37,"jj/mm/aaaa") -> 10011305 | E37: =IFERROR(_xlfn.XLOOKUP($D37,DATA_BRAND!$H:$H,DATA_BRAND!$D:$D,,0),0) -> 0 | F37: =IFERROR(_xlfn.XLOOKUP($D37,DATA_BRAND!$H:$H,DATA_BRAND!$E:$E,,0),0) -> 0 | G37: =IFERROR(_xlfn.XLOOKUP($D37,DATA_BRAND!$H:$H,DATA_BRAND!$F:$F,,0),0) -> 0 | H37: =IF(OR(NumMOIS=2,NumMOIS=4,NumMOIS=6,NumMOIS=9,NumMOIS=11),"",H36+G37) | I37: =IF(OR(NumMOIS=2,NumMOIS=4,NumMOIS=6,NumMOIS=9,NumMOIS=11),"",$K$3-H37) | J37: =IF(OR(NumMOIS=2,NumMOIS=4,NumMOIS=6,NumMOIS=9,NumMOIS=11),"",H37/$K$3) | K37: =IF(OR(NumMOIS=2,NumMOIS=4,NumMOIS=6,NumMOIS=9,NumMOIS=11),"",$I37/($A$37-A37)) | L37: =IF(OR(NumMOIS=2,NumMOIS=4,NumMOIS=6,NumMOIS=9,NumMOIS=11),"",AVERAGE($G$7:$G37)*(IF(OR(NumMOIS=1,NumMOIS=3,NumMOIS=5,NumMOIS=7,NumMOIS=8,NumMOIS=10,NumMOIS=12),31,30)))

Sheet DATA
I1: SA | K1: ID | L1: Jour off | P1: Monday | Q1: lundi
A2: Janvier | C2: 2021 | I2: a | J2: =K2&L2 -> 10012003jeudi | K2: 10012003 | L2: jeudi | P2: Tuesday | Q2: mardi
A3: Février | C3: 2022 | F3: Acne | G3: 0.016 | I3: b | J3: =K3&L3 -> 10011223mercredi | K3: 10011223 | L3: mercredi | P3: Wednesday | Q3: mercredi
A4: Mars | C4: 2023 | F4: Alfred Dunhill | G4: 0.016 | I4: c | J4: =K4&L4 -> 10011155lundi | K4: 10011155 | L4: lundi | P4: Thursday | Q4: jeudi
A5: Avril | C5: 2024 | F5: Anderson's | G5: 0.016 | I5: d | J5: =K5&L5 -> 10011448jeudi | K5: 10011448 | L5: jeudi | P5: Friday | Q5: vendredi
A6: Mai | F6: Balenciaga | G6: 0.011 | I6: e | J6: =K6&L6 -> 10010985mardi | K6: 10010985 | L6: mardi | P6: Saturday | Q6: samedi
A7: Juin | F7: Bally | G7: 0.016 | I7: f | J7: =K7&L7 -> 10011216jeudi | K7: 10011216 | L7: jeudi | P7: Sunday | Q7: dimanche
A8: Juillet | F8: Balmain | G8: 0.016 | I8: g | J8: =K8&L8 -> 10011236mercredi | K8: 10011236 | L8: mercredi
A9: Août | F9: Bleu De Chauffe | G9: 0.016 | I9: h | J9: =K9&L9 -> 10011594mercredi | K9: 10011594 | L9: mercredi
A10: Septembre | F10: Bottega Veneta | G10: 0.016 | I10: i | J10: =K10&L10 -> 10012051mardi | K10: 10012051 | L10: mardi
A11: Octobre | F11: Burberry | G11: 0.016 | I11: j | J11: =K11&L11 -> 10011268lundi | K11: 10011268 | L11: lundi
A12: Novembre | F12: Givenchy | G12: 0.016 | I12: k | J12: =K12&L12 -> 10011211lundi | K12: 10011211 | L12: lundi
A13: Décembre | F13: Kenzo | G13: 0.011 | I13: l | J13: =K13&L13 -> 10012017mercredi | K13: 10012017 | L13: mercredi
F14: Lacoste | G14: 0.016 | I14: m | J14: =K14&L14 -> 10011248jeudi | K14: 10011248 | L14: jeudi
F15: Maison Margiela | G15: 0.016 | I15: n | J15: =K15&L15 -> 10012157lundi | K15: 10012157 | L15: lundi
F16: Moncler | G16: 0.011 | I16: o | J16: =K16&L16 -> 10012042mardi | K16: 10012042 | L16: mardi
F17: Off-White | G17: 0.016 | I17: p | J17: =K17&L17 -> 10012266mercredi | K17: 10012266 | L17: mercredi
F18: Polo Ralph Lauren | G18: 0.016 | I18: q | J18: =K18&L18 -> 10012024lundi | K18: 10012024 | L18: lundi
F19: Salvatore Ferragamo | G19: 0.011 | I19: r | J19: =K19&L19 -> 10011490mercredi | K19: 10011490 | L19: mercredi
F20: Smythson | G20: 0.016 | I20: s | J20: =K20&L20 -> 10011589mercredi | K20: 10011589 | L20: mercredi
F21: Stone Island | G21: 0.016 | I21: t | J21: =K21&L21 -> 10011453jeudi | K21: 10011453 | L21: jeudi
F22: Thom Browne | G22: 0.016 | I22: u | J22: =K22&L22 -> 10011305lundi | K22: 10011305 | L22: lundi
F23: Versace | G23: 0.011 | I23: v | J23: =K23&L23 -> 10011423lundi | K23: 10011423 | L23: lundi
F24: YSL | G24: 0.011 | I24: x | J24: =K24&L24 -> 10011187jeudi | K24: 10011187 | L24: jeudi
I25: y | J25: =K25&L25 -> 10011226lundi | K25: 10011226 | L25: lundi
I26: z | J26: =K26&L26 -> 10012040lundi | K26: 10012040 | L26: lundi
I27: ab | J27: =K27&L27 -> 10011370jeudi | K27: 10011370 | L27: jeudi
I28: bc | J28: =K28&L28 -> 10011166jeudi | K28: 10011166 | L28: jeudi
I29: cd | J29: =K29&L29 -> 10010959mardi | K29: 10010959 | L29: mardi
I30: de | J30: =K30&L30 -> 10011567mardi | K30: 10011567 | L30: mardi
I31: ef | J31: =K31&L31 -> 10011380mercredi | K31: 10011380 | L31: mercredi
I32: fg | J32: =K32&L32 -> 10011481mercredi | K32: 10011481 | L32: mercredi
I33: gh | J33: =K33&L33 -> 10011262lundi | K33: 10011262 | L33: lundi
I34: hi | J34: =K34&L34 -> 10011415lundi | K34: 10011415 | L34: lundi
I35: ij | J35: =K35&L35 -> 10011319jeudi | K35: 10011319 | L35: jeudi
I36: jk | J36: =K36&L36 -> 10011270mardi | K36: 10011270 | L36: mardi
I37: kl | J37: =K37&L37 -> 10011411jeudi | K37: 10011411 | L37: jeudi
