Workbook
Name dessertlundimidi: 'Menu LUNDI'!$E$4:$E$10
Name dessertlundisoir: 'Menu LUNDI'!$K$5:$K$10
Name Entrée_1: 'DECLINAISON '!$B$6:$B$6
Name Entrée_1: 'Menu LUNDI'!$A$5:$A$5
Name entree1: 'Menu LUNDI'!$A$5:$A$5
Name entree1: 'DECLINAISON '!$B$6:$B$6
Name entreelundimidi: 'Menu LUNDI'!$A$5:$A$10
Name entreelundisoir: 'Menu LUNDI'!$G$5:$G$10
Name fromagelundimidi: 'Menu LUNDI'!$D$4:$D$10
Name fromagelundisoir: 'Menu LUNDI'!$J$5:$J$10
Name garniture1lundimidi: 'Menu LUNDI'!$C$5:$C$10
Name garniturelundisoir: 'Menu LUNDI'!$I$5:$I$10
Name platlundimidi: 'Menu LUNDI'!$B$5:$B$10
Name platlundisoir: 'Menu LUNDI'!$H$5:$H$10

Sheet Menu LUNDI
E1: BASE DE DONNEES DU LUNDI
A3: Lundi Midi | G3: Lundi Soir
A4: Entrée | B4: Plat | C4: Garniture 1 | D4: fromage | E4: dessert | G4: Entrée | H4: Plat | I4: Garniture | J4: fromage | K4: dessert
A5: Tomates | B5: aile de raie sauce creme | C5: épinards | D5: chèvre | E5: flan patissier maisson | G5: salade marco polo | H5: jambon sauce au cidre | I5: ratatouille | J5: gruyère | K5: fromage blanc aux fruits
A6: Tomates allégée | B6: aile de raie sauce allégée | C6: coquillettes | D6: fromage allégé | E6: flan patissier allégé | G6: carottes rapées | H6: jambon sauce allégée | I6: blé | J6: fromage allégé | K6: fromage blanc 0%
A7: Cœur de palmier | B7: escalope de dinde sauce crème | C7: Carottes vichy | D7: fromage s/ sel | E7: yaourt 0% | G7: carottes rapées allégées | H7: feuilleté au fromage | I7: endives braisées | J7: fromage s/sel | K7: compote
A8: paté de campagne | B8: omelette | C8: Purée pdt | D8: yaourt 0% | E8: fruit de saison | G8: - | H8: - | I8: - | J8: yaourt 0% | K8: -
A9: - | B9: - | C9: - | D9: compote | E9: compote | G9: - | H9: - | I9: - | J9: compote | K9: -
A10: - | B10: - | C10: - | D10: 1 petit suisse | E10: - | G10: - | H10: - | I10: - | J10: - | K10: -

Sheet DECLINAISON 
B2: MENU Lundi
B4: Lundi Midi | I4: Lundi Soir
B5: Entrée | C5: Plat | D5: Garniture | E5: Garniture 2 | F5: fromage | G5: dessert | I5: Entrée | J5: Plat | K5: Garniture | L5: Garniture 2 | M5: fromage | N5: dessert
A6: Normal | B6: Tomates | C6: aile de raie sauce creme | D6: pate | E6: - | F6: chèvre | G6: flan patissier maisson | I6: salade marco polo | J6: jambon sauce au cidre | K6: ratatouille | L6: - | M6: gruyère | N6: fromage blanc aux fruits
A7: Prélèvement | B7: Tomates | C7: aile de raie sauce creme | D7: pate | E7: - | F7: chèvre | G7: flan patissier maisson | I7: salade marco polo | J7: jambon sauce au cidre | K7: ratatouille | L7: - | M7: gruyère | N7: fromage blanc aux fruits
A8: Prélevement mixé | B8: Tomates | C8: aile de raie sauce creme | D8: pate | E8: Carottes vichy | F8: chèvre | G8: flan patissier maisson | I8: salade marco polo | J8: jambon sauce au cidre | K8: ratatouille | L8: - | M8: gruyère | N8: fromage blanc aux fruits
A9: Prélèvement régime | B9: Tomates allégée | C9: aile de raie sauce allégée | D9: pate | E9: - | F9: chèvre | G9: flan patissier allégé | I9: salade marco polo | J9: jambon sauce au cidre | K9: ratatouille | L9: - | M9: fromage allégé | N9: fromage blanc aux fruits
A10: Hypo | B10: Tomates allégée | C10: escalope de dinde sauce crème | D10: pate | E10: - | F10: fromage allégé | G10: flan patissier maisson | I10: carottes rapées | J10: jambon sauce allégée | K10: endives braisées | L10: - | M10: fromage allégé | N10: fromage blanc 0%
A11: hypocholesterol | B11: Tomates allégée | C11: aile de raie sauce allégée | D11: pate | E11: - | F11: fromage allégé | G11: flan patissier maisson
A12: hypo source* | B12: Tomates | C12: aile de raie sauce creme | D12: pate | E12: Carottes vichy | F12: chèvre | G12: flan patissier maisson
A13: Cholestérol | B13: Tomates allégée | C13: aile de raie sauce allégée | D13: pate | E13: - | F13: fromage allégé | G13: flan patissier maisson
A14: Diabétique | B14: Tomates allégée | C14: aile de raie sauce allégée | D14: pate | E14: épinards | F14: fromage allégé | G14: flan patissier maisson
A15: hypo -diabétique | B15: Tomates allégée | C15: aile de raie sauce allégée | D15: pate | E15: épinards | F15: 1 petit suisse | G15: flan patissier maisson
A16: hypoglucidique | B16: Tomates allégée | C16: aile de raie sauce allégée | D16: pate | E16: - | F16: fromage allégé | G16: flan patissier maisson
A17: choles s/sel s/sucre | B17: Tomates allégée | C17: aile de raie sauce allégée | D17: pate | E17: - | F17: compote | G17: flan patissier maisson
A18: hypo & cholestérol | B18: Tomates allégée | C18: aile de raie sauce allégée | D18: pate | E18: - | F18: fromage s/ sel | G18: flan patissier maisson
A19: hypo fibre | B19: Tomates allégée | C19: aile de raie sauce allégée | D19: pate | E19: - | F19: 1 petit suisse | G19: flan patissier maisson
A20: hypo s/riz fibre | B20: Tomates allégée | C20: aile de raie sauce allégée | D20: pate | E20: - | F20: 1 petit suisse | G20: flan patissier maisson
A21: hyper calorique | B21: Tomates | C21: aile de raie sauce creme | D21: pate | E21: - | F21: chèvre | G21: flan patissier maisson
A22: hypo s/sel
A23: S/sel
A24: diabétique s/sel | B24: Tomates allégée | C24: aile de raie sauce allégée | D24: pate | E24: - | F24: fromage allégé | G24: flan patissier maisson
A25: s/viande
A26: s/porc
A27: s/poisson
A28: s/lactose
A29: s/bœuf
A30: s/œuf
A31: s/fraise
A32: s/champignon
A33: s/fruit de mer
A34: s/jambon
A35: s/purée
A36: s/acide
... A58: Mme Jenvrin

Sheet EFFECTIF MIDI
B1: FICHE DE COMMANDE
A3: Ajouter prélevement pour les MAS
A4: Ajouter prélevement pour l'autre bloc
A8: REPAS pour le MIDI | M8: 40987
A11: total midi
A12: =AJ16+AJ54 -> 115 | B12: =IF(ISNA(MATCH(B13,'DECLINAISON '!$A$6:$A$58,0)),"",INDEX('DECLINAISON '!$B$6:$B$58,MATCH(B13,'DECLINAISON '!$A$6:$A$58,0))) -> Tomates | C12: =IF(ISNA(MATCH(C13,'DECLINAISON '!$A$6:$A$58,0)),"",INDEX('DECLINAISON '!$B$6:$B$58,MATCH(C13,'DECLINAISON '!$A$6:$A$58,0))) -> Tomates allégée | D12: =IF(ISNA(MATCH(D13,'DECLINAISON '!$A$6:$A$58,0)),"",INDEX('DECLINAISON '!$B$6:$B$58,MATCH(D13,'DECLINAISON '!$A$6:$A$58,0))) -> Tomates allégée | E12: =IF(ISNA(MATCH(E13,'DECLINAISON '!$A$6:$A$58,0)),"",INDEX('DECLINAISON '!$B$6:$B$58,MATCH(E13,'DECLINAISON '!$A$6:$A$58,0))) -> 0 | F12: =IF(ISNA(MATCH(F13,'DECLINAISON '!$A$6:$A$58,0)),"",INDEX('DECLINAISON '!$B$6:$B$58,MATCH(F13,'DECLINAISON '!$A$6:$A$58,0))) -> 0 | G12: =IF(ISNA(MATCH(G13,'DECLINAISON '!$A$6:$A$58,0)),"",INDEX('DECLINAISON '!$B$6:$B$58,MATCH(G13,'DECLINAISON '!$A$6:$A$58,0))) -> Tomates allégée | H12: =IF(ISNA(MATCH(H13,'DECLINAISON '!$A$6:$A$58,0)),"",INDEX('DECLINAISON '!$B$6:$B$58,MATCH(H13,'DECLINAISON '!$A$6:$A$58,0))) -> Tomates | I12: =IF(ISNA(MATCH(I13,'DECLINAISON '!$A$6:$A$58,0)),"",INDEX('DECLINAISON '!$B$6:$B$58,MATCH(I13,'DECLINAISON '!$A$6:$A$58,0))) -> 0 | ... AI12: =IF(ISNA(MATCH(AI13,'DECLINAISON '!$A$6:$A$58,0)),"",INDEX('DECLINAISON '!$B$6:$B$58,MATCH(AI13,'DECLINAISON '!$A$6:$A$58,0)))
B13: ='DECLINAISON '!A6 -> Normal | C13: ='DECLINAISON '!A10 -> Hypo | D13: ='DECLINAISON '!A11 -> hypocholesterol | E13: ='DECLINAISON '!A43 -> cholesterol mixé | F13: ='DECLINAISON '!A44 -> Diabétique s/œuf mixé | G13: ='DECLINAISON '!A19 -> hypo fibre | H13: ='DECLINAISON '!A12 -> hypo source* | I13: ='DECLINAISON '!A22 -> hypo s/sel | J13: ='DECLINAISON '!A46 -> hypo mixé | K13: ='DECLINAISON '!A27 -> s/poisson | L13: ='DECLINAISON '!A47 -> mixé s/poisson | M13: ='DECLINAISON '!A48 -> mixé s/poisson s/pate | N13: ='DECLINAISON '!A41 -> que fibre | O13: ='DECLINAISON '!A42 -> Mixé | P13: ='DECLINAISON '!A45 -> Mixé fibre | R13: ='DECLINAISON '!A55 -> Mme Rault | S13: ='DECLINAISON '!A58 -> Mme Jenvrin | T13: ='DECLINAISON '!A39 -> s/lactose - fec - viande | U13: ='DECLINAISON '!A34 -> s/jambon | V13: ='DECLINAISON '!A35 -> s/purée | W13: ='DECLINAISON '!A36 -> s/acide | X13: ='DECLINAISON '!A29 -> s/bœuf | Y13: ='DECLINAISON '!A30 -> s/œuf | Z13: ='DECLINAISON '!A57 -> M Lanos | AA13: ='DECLINAISON '!A56 -> Mr Gougault | AB13: ='DECLINAISON '!A49 -> s/ acide mixé | AC13: ='DECLINAISON '!A50 -> s/acide mixé fibre | AD13: ='DECLINAISON '!A7 -> Prélèvement | AE13: ='DECLINAISON '!A8 -> Prélevement mixé | AF13: ='DECLINAISON '!A9 -> Prélèvement régime | AH13: PN sandwich | AI13: PN repas froid | AJ13: total
A14: CLIENT 1 | B14: 39 | C14: 3 | D14: 2 | E14: 1 | F14: 1 | H14: 1 | K14: 3 | N14: 1 | O14: 6 | P14: 7 | W14: 1 | X14: 1 | AA14: 2 | AB14: 2 | AF14: 1 | AI14: 1 | AJ14: =SUM(B14:AI14) -> 72
A15: CLIENT 2 | B15: 27 | C15: 3 | I15: 1 | J15: 1 | K15: 2 | M15: 1 | N15: 0 | O15: 6 | Y15: 0 | AC15: 1 | AD15: 1 | AJ15: =SUM(B15:AI15) -> 43
A16: s/total MAS | B16: =SUM(B14:B15) -> 66 | C16: =SUM(C14:C15) -> 6 | D16: =SUM(D14:D15) -> 2 | E16: =SUM(E14:E15) -> 1 | F16: =SUM(F14:F15) -> 1 | G16: =SUM(G14:G15) -> 0 | H16: =SUM(H14:H15) -> 1 | I16: =SUM(I14:I15) -> 1 | ... P16: =SUM(P14:P15) -> 7 | R16: =SUM(R14:R15) -> 0 | S16: =SUM(S14:S15) -> 0 | T16: =SUM(T14:T15) -> 0 | U16: =SUM(U14:U15) -> 0 | V16: =SUM(V14:V15) -> 0 | W16: =SUM(W14:W15) -> 1 | X16: =SUM(X14:X15) -> 1 | Y16: =SUM(Y14:Y15) -> 0 | ... AF16: =SUM(AF14:AF15) -> 1 | AI16: =SUM(AI14:AI15) -> 1 | AJ16: =AJ14+AJ15 -> 115
B20: =B13 -> Normal | C20: =C13 -> Hypo | D20: =D13 -> hypocholesterol | E20: ='DECLINAISON '!A14 -> Diabétique | F20: ='DECLINAISON '!A15 -> hypo -diabétique | G20: ='DECLINAISON '!A21 -> hyper calorique | H20: ='DECLINAISON '!A23 -> S/sel | I20: ='DECLINAISON '!A26 -> s/porc | J20: ='DECLINAISON '!A24 -> diabétique s/sel | K20: ='DECLINAISON '!A22 -> hypo s/sel | L20: ='DECLINAISON '!A17 -> choles s/sel s/sucre | M20: ='DECLINAISON '!A27 -> s/poisson | N20: ='DECLINAISON '!A40 -> que féculent | O20: ='DECLINAISON '!A41 -> que fibre | P20: ='DECLINAISON '!A42 -> Mixé | Q20: ='DECLINAISON '!A51 -> Mixé AUBEPINE | R20: ='DECLINAISON '!A18 -> hypo & cholestérol | S20: ='DECLINAISON '!A37 -> s/gaz | T20: ='DECLINAISON '!A26 -> s/porc | U20: ='DECLINAISON '!A28 -> s/lactose | V20: ='DECLINAISON '!A32 -> s/champignon | W20: ='DECLINAISON '!A33 -> s/fruit de mer | X20: ='DECLINAISON '!A38 -> s/feculent | Y20: ='DECLINAISON '!A31 -> s/fraise | Z20: ='DECLINAISON '!A52 -> M Lorimier | AA20: ='DECLINAISON '!A53 -> M bouvier | AB20: ='DECLINAISON '!A54 -> Mme Corbin | AD20: =AD13 -> Prélèvement | AE20: =AE13 -> Prélevement mixé | AF20: =AF13 -> Prélèvement régime | AH20: PN sandwich | AI20: PN repas froid | AJ20: total
A21: CLIENT 3 | AJ21: =SUM(B21:AI21) -> 0 | AK21: =AJ21+AJ22 -> 0
A22: CLIENT 4 | AJ22: =SUM(B22:AI22) -> 0
A23: CLIENT 5 | AJ23: =SUM(B23:AI23) -> 0 | AK23: =AJ23+AJ24 -> 0
A24: CLIENT 6 | AJ24: =SUM(B24:AI24) -> 0
A25: CLIENT 7 | AJ25: =SUM(B25:AI25) -> 0
A26: CLIENT 8 | AJ26: =SUM(B26:AI26) -> 0
A27: CLIENT 9 | AJ27: =SUM(B27:AI27) -> 0
A28: CLIENT 10 | AJ28: =SUM(B28:AI28) -> 0
A29: CLIENT 11 | AJ29: =SUM(B29:AI29) -> 0
A30: CLIENT 12 | AJ30: =SUM(B30:AI30) -> 0
A31: CLIENT 13 | AJ31: =SUM(B31:AI31) -> 0 | AK31: =AJ31+AJ32 -> 0
A32: CLIENT 14 | AJ32: =SUM(B32:AI32) -> 0
A33: CLIENT 15 | AJ33: =SUM(B33:AI33) -> 0
A34: CLIENT 16 | AJ34: =SUM(B34:AI34) -> 0
A35: CLIENT 17 | AJ35: =SUM(B35:AI35) -> 0
A36: CLIENT 18 | AJ36: =SUM(B36:AI36) -> 0
A37: CLIENT 19 | AJ37: =SUM(B37:AI37) -> 0
A38: CLIENT 20 | AJ38: =SUM(B38:AI38) -> 0
A39: CLIENT 21 | AJ39: =SUM(B39:AI39) -> 0
A40: CLIENT 22 | AJ40: =SUM(B40:AI40) -> 0
A41: CLIENT 23 | AJ41: =SUM(B41:AI41) -> 0
A42: CLIENT 24 | AJ42: =SUM(B42:AI42) -> 0 | AK42: =AJ42+AJ43+AJ44 -> 0
A43: CLIENT 25 | AJ43: =SUM(B43:AI43) -> 0
A44: CLIENT 26 | AJ44: =SUM(B44:AI44) -> 0
A45: CLIENT 27 | AJ45: =SUM(B45:AI45) -> 0
A46: CLIENT 28 | AJ46: =SUM(B46:AI46) -> 0
A47: CLIENT 29 | AJ47: =SUM(B47:AI47) -> 0
A48: CLIENT 30 | AJ48: =SUM(B48:AI48) -> 0 | AK48: =SUM(AJ46:AJ50) -> 0
A49: CLIENT 31 | AJ49: =SUM(B49:AI49) -> 0
...

Sheet EFFECTIF SOIR
B1: FICHE DE COMMANDE
A3: Ajouter prélevement pour les MAS
A4: Ajouter prélevement pour l'autre bloc
A8: REPAS pour le SOIR | M8: 40987
A11: total SOIR
A12: =AJ16+AJ54 -> 115
B13: ='DECLINAISON '!A6 -> Normal | C13: ='DECLINAISON '!A10 -> Hypo | D13: ='DECLINAISON '!A11 -> hypocholesterol | E13: ='DECLINAISON '!A43 -> cholesterol mixé | F13: ='DECLINAISON '!A44 -> Diabétique s/œuf mixé | G13: ='DECLINAISON '!A19 -> hypo fibre | H13: ='DECLINAISON '!A12 -> hypo source* | I13: ='DECLINAISON '!A22 -> hypo s/sel | J13: ='DECLINAISON '!A46 -> hypo mixé | K13: ='DECLINAISON '!A27 -> s/poisson | L13: ='DECLINAISON '!A47 -> mixé s/poisson | M13: ='DECLINAISON '!A48 -> mixé s/poisson s/pate | N13: ='DECLINAISON '!A41 -> que fibre | O13: ='DECLINAISON '!A42 -> Mixé | P13: ='DECLINAISON '!A45 -> Mixé fibre | R13: ='DECLINAISON '!A55 -> Mme Rault | S13: ='DECLINAISON '!A58 -> Mme Jenvrin | T13: ='DECLINAISON '!A39 -> s/lactose - fec - viande | U13: ='DECLINAISON '!A34 -> s/jambon | V13: ='DECLINAISON '!A35 -> s/purée | W13: ='DECLINAISON '!A36 -> s/acide | X13: ='DECLINAISON '!A29 -> s/bœuf | Y13: ='DECLINAISON '!A30 -> s/œuf | Z13: ='DECLINAISON '!A57 -> M Lanos | AA13: ='DECLINAISON '!A56 -> Mr Gougault | AB13: ='DECLINAISON '!A49 -> s/ acide mixé | AC13: ='DECLINAISON '!A50 -> s/acide mixé fibre | AD13: ='DECLINAISON '!A7 -> Prélèvement | AE13: ='DECLINAISON '!A8 -> Prélevement mixé | AF13: ='DECLINAISON '!A9 -> Prélèvement régime | AH13: PN sandwich | AI13: PN repas froid | AJ13: total
A14: CLIENT 1 | B14: 39 | C14: 3 | D14: 2 | E14: 1 | F14: 1 | H14: 1 | K14: 3 | N14: 1 | O14: 6 | P14: 7 | W14: 1 | X14: 1 | AA14: 2 | AB14: 2 | AF14: 1 | AI14: 1 | AJ14: =SUM(B14:AI14) -> 72
A15: CLIENT 2 | B15: 27 | C15: 3 | I15: 1 | J15: 1 | K15: 2 | M15: 1 | N15: 0 | O15: 6 | Y15: 0 | AC15: 1 | AD15: 1 | AJ15: =SUM(B15:AI15) -> 43
A16: s/total MAS | B16: =SUM(B14:B15) -> 66 | C16: =SUM(C14:C15) -> 6 | D16: =SUM(D14:D15) -> 2 | E16: =SUM(E14:E15) -> 1 | F16: =SUM(F14:F15) -> 1 | G16: =SUM(G14:G15) -> 0 | H16: =SUM(H14:H15) -> 1 | I16: =SUM(I14:I15) -> 1 | ... P16: =SUM(P14:P15) -> 7 | R16: =SUM(R14:R15) -> 0 | S16: =SUM(S14:S15) -> 0 | T16: =SUM(T14:T15) -> 0 | U16: =SUM(U14:U15) -> 0 | V16: =SUM(V14:V15) -> 0 | W16: =SUM(W14:W15) -> 1 | X16: =SUM(X14:X15) -> 1 | Y16: =SUM(Y14:Y15) -> 0 | ... AF16: =SUM(AF14:AF15) -> 1 | AI16: =SUM(AI14:AI15) -> 1 | AJ16: =AJ14+AJ15 -> 115
B20: =B13 -> Normal | C20: =C13 -> Hypo | D20: =D13 -> hypocholesterol | E20: ='DECLINAISON '!A14 -> Diabétique | F20: ='DECLINAISON '!A15 -> hypo -diabétique | G20: ='DECLINAISON '!A21 -> hyper calorique | H20: ='DECLINAISON '!A23 -> S/sel | I20: ='DECLINAISON '!A26 -> s/porc | J20: ='DECLINAISON '!A24 -> diabétique s/sel | K20: ='DECLINAISON '!A22 -> hypo s/sel | L20: ='DECLINAISON '!A17 -> choles s/sel s/sucre | M20: ='DECLINAISON '!A27 -> s/poisson | N20: ='DECLINAISON '!A40 -> que féculent | O20: ='DECLINAISON '!A41 -> que fibre | P20: ='DECLINAISON '!A42 -> Mixé | Q20: ='DECLINAISON '!A51 -> Mixé AUBEPINE | R20: ='DECLINAISON '!A18 -> hypo & cholestérol | S20: ='DECLINAISON '!A37 -> s/gaz | T20: ='DECLINAISON '!A26 -> s/porc | U20: ='DECLINAISON '!A28 -> s/lactose | V20: ='DECLINAISON '!A32 -> s/champignon | W20: ='DECLINAISON '!A33 -> s/fruit de mer | X20: ='DECLINAISON '!A38 -> s/feculent | Y20: ='DECLINAISON '!A31 -> s/fraise | Z20: ='DECLINAISON '!A52 -> M Lorimier | AA20: ='DECLINAISON '!A53 -> M bouvier | AB20: ='DECLINAISON '!A54 -> Mme Corbin | AD20: =AD13 -> Prélèvement | AE20: =AE13 -> Prélevement mixé | AF20: =AF13 -> Prélèvement régime | AH20: PN sandwich | AI20: PN repas froid | AJ20: total
A21: CLIENT 3 | AJ21: =SUM(B21:AI21) -> 0 | AK21: =AJ21+AJ22 -> 0
A22: CLIENT 4 | AJ22: =SUM(B22:AI22) -> 0
A23: CLIENT 5 | AJ23: =SUM(B23:AI23) -> 0 | AK23: =AJ23+AJ24 -> 0
A24: CLIENT 6 | AJ24: =SUM(B24:AI24) -> 0
A25: CLIENT 7 | AJ25: =SUM(B25:AI25) -> 0
A26: CLIENT 8 | AJ26: =SUM(B26:AI26) -> 0
A27: CLIENT 9 | AJ27: =SUM(B27:AI27) -> 0
A28: CLIENT 10 | AJ28: =SUM(B28:AI28) -> 0
A29: CLIENT 11 | AJ29: =SUM(B29:AI29) -> 0
A30: CLIENT 12 | AJ30: =SUM(B30:AI30) -> 0
A31: CLIENT 13 | AJ31: =SUM(B31:AI31) -> 0 | AK31: =AJ31+AJ32 -> 0
A32: CLIENT 14 | AJ32: =SUM(B32:AI32) -> 0
A33: CLIENT 15 | AJ33: =SUM(B33:AI33) -> 0
A34: CLIENT 16 | AJ34: =SUM(B34:AI34) -> 0
A35: CLIENT 17 | AJ35: =SUM(B35:AI35) -> 0
A36: CLIENT 18 | AJ36: =SUM(B36:AI36) -> 0
A37: CLIENT 19 | AJ37: =SUM(B37:AI37) -> 0
A38: CLIENT 20 | AJ38: =SUM(B38:AI38) -> 0
A39: CLIENT 21 | AJ39: =SUM(B39:AI39) -> 0
A40: CLIENT 22 | AJ40: =SUM(B40:AI40) -> 0
A41: CLIENT 23 | AJ41: =SUM(B41:AI41) -> 0
A42: CLIENT 24 | AJ42: =SUM(B42:AI42) -> 0 | AK42: =AJ42+AJ43+AJ44 -> 0
A43: CLIENT 25 | AJ43: =SUM(B43:AI43) -> 0
A44: CLIENT 26 | AJ44: =SUM(B44:AI44) -> 0
A45: CLIENT 27 | AJ45: =SUM(B45:AI45) -> 0
A46: CLIENT 28 | AJ46: =SUM(B46:AI46) -> 0
A47: CLIENT 29 | AJ47: =SUM(B47:AI47) -> 0
A48: CLIENT 30 | AJ48: =SUM(B48:AI48) -> 0 | AK48: =SUM(AJ46:AJ50) -> 0
A49: CLIENT 31 | AJ49: =SUM(B49:AI49) -> 0
...

Sheet CLIENT 1
A1: CLIENT 1 | C1: date de livraison | D1: =J1 -> 40938 | G1: date de fabrication | H1: =D1-3 -> 40935 | I1: jour de consommation | J1: 40938
A2: Lundi midi | C2: température camion | H2: température plat témoin
A5: Lundi Midi
A6: Entrée | C6: Plat | E6: Garniture | G6: fromage | I6: dessert | L6: Plateau froid | M6: Sandwich
A7: ='Menu LUNDI'!A5 -> Tomates | B7: =SUMPRODUCT(('EFFECTIF MIDI'!$B$12:$AI$12='CLIENT 1'!A7)*('EFFECTIF MIDI'!$B$14:$AI$14)) -> 40 | C7: ='Menu LUNDI'!B5 -> aile de raie sauce creme | D7: ='EFFECTIF MIDI'!B14 -> 39 | E7: ='Menu LUNDI'!C5 -> épinards | G7: ='Menu LUNDI'!D5 -> chèvre | I7: ='Menu LUNDI'!E5 -> flan patissier maisson
A8: ='Menu LUNDI'!A6 -> Tomates allégée | B8: =SUMPRODUCT(('EFFECTIF MIDI'!$B$12:$AI$12='CLIENT 1'!A8)*('EFFECTIF MIDI'!$B$14:$AI$14)) -> 6 | C8: ='Menu LUNDI'!B6 -> aile de raie sauce allégée | D8: =SUM('EFFECTIF MIDI'!C14:J14) -> 8 | E8: ='Menu LUNDI'!C6 -> coquillettes | F8: 39 | G8: ='Menu LUNDI'!D6 -> fromage allégé | I8: ='Menu LUNDI'!E6 -> flan patissier allégé
A9: ='Menu LUNDI'!A7 -> Cœur de palmier | B9: =SUMPRODUCT(('EFFECTIF MIDI'!$B$12:$AI$12='CLIENT 1'!A9)*('EFFECTIF MIDI'!$B$14:$AI$14)) -> 0 | C9: ='Menu LUNDI'!B7 -> escalope de dinde sauce crème | D9: ='EFFECTIF MIDI'!K14 -> 3 | E9: ='Menu LUNDI'!C7 -> Carottes vichy | G9: ='Menu LUNDI'!D7 -> fromage s/ sel | I9: ='Menu LUNDI'!E7 -> yaourt 0%
A10: ='Menu LUNDI'!A8 -> paté de campagne | B10: =SUMPRODUCT(('EFFECTIF MIDI'!$B$12:$AI$12='CLIENT 1'!A10)*('EFFECTIF MIDI'!$B$14:$AI$14)) -> 0 | C10: ='Menu LUNDI'!B8 -> omelette | E10: ='Menu LUNDI'!C8 -> Purée pdt | G10: ='Menu LUNDI'!D8 -> yaourt 0% | I10: ='Menu LUNDI'!E8 -> fruit de saison
A11: ='Menu LUNDI'!A9 -> - | B11: =SUMPRODUCT(('EFFECTIF MIDI'!$B$12:$AI$12='CLIENT 1'!A11)*('EFFECTIF MIDI'!$B$14:$AI$14)) -> 0 | C11: ='Menu LUNDI'!B9 -> - | E11: ='Menu LUNDI'!C9 -> - | G11: ='Menu LUNDI'!D9 -> compote | I11: ='Menu LUNDI'!E9 -> compote
A12: ='Menu LUNDI'!A10 -> - | B12: =SUMPRODUCT(('EFFECTIF MIDI'!$B$12:$AI$12='CLIENT 1'!A12)*('EFFECTIF MIDI'!$B$14:$AI$14)) -> 0 | C12: ='Menu LUNDI'!B10 -> - | E12: ='Menu LUNDI'!C10 -> - | G12: ='Menu LUNDI'!D10 -> 1 petit suisse | I12: ='Menu LUNDI'!E10 -> -
A13: Total Entrée | B13: =SUM(B7:B12) -> 46 | C13: Total plat | D13: =SUM(D7:D12) -> 50 | E13: Total garniture | F13: =SUM(F7:F12) -> 39 | G13: total fromage | H13: =SUM(H7:H12) -> 0 | I13: total dessert | J13: =SUM(J7:J12) -> 0
A15: Nombre de repas au total | D15: =D13 -> 50
A20: ='[1]Client 4'!A43 -> Pour le chauffeur : à l'arrivée sur le site et au départ du site | G20: ='[1]Client 4'!A44 -> Vérifier la T° du camion, la T° du plat temoin du camion - Relever la T° de la chambre froide du site. La T° doit être comprises entre 0 et 3°
B21: L'ENREGISTREMENT DES CONTRÔLES SUR L'ETABLISSEMENT LIVRE EN LIAISON FROIDE
C22: La réception | F22: Le stockage | H22: Heure sortie CF | J22: La remise en température | Q22: La distribution
A23: Produit contrôlé | C23: aspect* | D23: DLC | E23: T° 3°C | F23: T° chambre froide** | J23: Produit | L23: Début | O23: Fin | Q23: Préparation froide | T23: T°
L24: heure | N24: T° | O24: heure | P24: T°
A25: =A6 -> Entrée
A26: =C6 -> Plat
A27: =E6 -> Garniture
A28: =G6 -> fromage
A29: =I6 -> dessert
A31: Validation du contrôle | F31: Validation du contrôle | J31: Validation du contrôle | Q31: Validation du contrôle
A32: Non conformités | L32: Actions correctives
A34: * Inscrire " C " Pour les produits conformes à la commande ou au plan de contrôle | H34: Inscrire " NC " pour les produits non conformes | N34: ** Indiquer la température relevée
A35: Plats témoins ( Mettre un astérisque pour certifié la réalisation du plat témoin ) | H35: Pour les préparations fabriquées sur site et/ ou pour les préparations ayant fait l'objet de manipulation importante.

Sheet CLIENT 2
A1: CLIENT 2 | C1: date de livraison | D1: =J1 -> 40938 | G1: date de fabrication | H1: =D1-3 -> 40935 | I1: jour de consommation | J1: ='CLIENT 1'!J1 -> 40938
A2: Lundi midi | C2: température camion | H2: température plat témoin
A5: Lundi Midi
A6: Entrée | C6: Plat | E6: Garniture | G6: fromage | I6: dessert
A7: ='Menu LUNDI'!A5 -> Tomates | B7: 27 | C7: ='Menu LUNDI'!B5 -> aile de raie sauce creme | D7: 27 | E7: ='Menu LUNDI'!C5 -> épinards | F7: 27 | G7: ='Menu LUNDI'!D5 -> chèvre | H7: 27 | I7: ='Menu LUNDI'!E5 -> flan patissier maisson | J7: 27
A8: ='Menu LUNDI'!A6 -> Tomates allégée | B8: 2 | C8: ='Menu LUNDI'!B6 -> aile de raie sauce allégée | D8: 2 | E8: ='Menu LUNDI'!C6 -> coquillettes | F8: 1.5 | G8: ='Menu LUNDI'!D6 -> fromage allégé | H8: 2 | I8: ='Menu LUNDI'!E6 -> flan patissier allégé | J8: 2
A9: ='Menu LUNDI'!A7 -> Cœur de palmier | C9: ='Menu LUNDI'!B7 -> escalope de dinde sauce crème | E9: ='Menu LUNDI'!C7 -> Carottes vichy | G9: ='Menu LUNDI'!D7 -> fromage s/ sel | I9: ='Menu LUNDI'!E7 -> yaourt 0%
A10: ='Menu LUNDI'!A8 -> paté de campagne | C10: ='Menu LUNDI'!B8 -> omelette | E10: ='Menu LUNDI'!C8 -> Purée pdt | G10: ='Menu LUNDI'!D8 -> yaourt 0% | I10: ='Menu LUNDI'!E8 -> fruit de saison
A11: ='Menu LUNDI'!A9 -> - | C11: ='Menu LUNDI'!B9 -> - | E11: ='Menu LUNDI'!C9 -> - | G11: ='Menu LUNDI'!D9 -> compote | I11: ='Menu LUNDI'!E9 -> compote
A12: ='Menu LUNDI'!A10 -> - | C12: ='Menu LUNDI'!B10 -> - | E12: ='Menu LUNDI'!C10 -> - | G12: ='Menu LUNDI'!D10 -> 1 petit suisse | I12: ='Menu LUNDI'!E10 -> -
A13: Total Entrée | B13: =SUM(B7:B12) -> 29 | C13: Total plat | D13: =SUM(D7:D12) -> 29 | E13: Total garniture | F13: =SUM(F7:F12) -> 28.5 | G13: total fromage | H13: =SUM(H7:H12) -> 29 | I13: total dessert | J13: =SUM(J7:J12) -> 29
A15: Nombre de repas au total | D15: =D13 -> 29
A20: ='[1]Client 4'!A43 -> Pour le chauffeur : à l'arrivée sur le site et au départ du site | G20: ='[1]Client 4'!A44 -> Vérifier la T° du camion, la T° du plat temoin du camion - Relever la T° de la chambre froide du site. La T° doit être comprises entre 0 et 3°
B21: L'ENREGISTREMENT DES CONTRÔLES SUR L'ETABLISSEMENT LIVRE EN LIAISON FROIDE
C22: La réception | F22: Le stockage | H22: Heure sortie CF | J22: La remise en température | P22: La distribution
A23: Produit contrôlé | C23: aspect* | D23: DLC | E23: T° 3°C | F23: T° chambre froide** | J23: Produit | K23: Début | N23: Fin | P23: Préparation froide | S23: T°
K24: heure | M24: T° | N24: heure | O24: T°
A25: =#REF! -> #REF!
A26: =#REF! -> #REF!
A27: =#REF! -> #REF!
A28: =#REF! -> #REF!
A29: =#REF! -> #REF!
A30: =#REF! -> #REF!
A31: Validation du contrôle | F31: Validation du contrôle | J31: Validation du contrôle | P31: Validation du contrôle
A32: Non conformités | K32: Actions correctives
A34: * Inscrire " C " Pour les produits conformes à la commande ou au plan de contrôle | H34: Inscrire " NC " pour les produits non conformes | M34: ** Indiquer la température relevée
A35: Plats témoins ( Mettre un astérisque pour certifié la réalisation du plat témoin ) | H35: Pour les préparations fabriquées sur site et/ ou pour les préparations ayant fait l'objet de manipulation importante.

Sheet CLIENT 3
A1: CLIENT 3 | C1: date de livraison | D1: =J1 -> 40938 | G1: date de fabrication | H1: =D1-3 -> 40935 | I1: jour de consommation | J1: ='CLIENT 1'!J1 -> 40938
A2: Lundi midi | C2: température camion | H2: température plat témoin
A5: Lundi Midi
A6: Entrée | C6: Plat | E6: Garniture | G6: fromage | I6: dessert
A7: ='Menu LUNDI'!A5 -> Tomates | B7: 2 | C7: ='Menu LUNDI'!B5 -> aile de raie sauce creme | D7: 2 | E7: ='Menu LUNDI'!C5 -> épinards | F7: 2 | G7: ='Menu LUNDI'!D5 -> chèvre | H7: 2 | I7: ='Menu LUNDI'!E5 -> flan patissier maisson | J7: 2
A8: ='Menu LUNDI'!A6 -> Tomates allégée | C8: ='Menu LUNDI'!B6 -> aile de raie sauce allégée | E8: ='Menu LUNDI'!C6 -> coquillettes | G8: ='Menu LUNDI'!D6 -> fromage allégé | I8: ='Menu LUNDI'!E6 -> flan patissier allégé
A9: ='Menu LUNDI'!A7 -> Cœur de palmier | C9: ='Menu LUNDI'!B7 -> escalope de dinde sauce crème | E9: ='Menu LUNDI'!C7 -> Carottes vichy | G9: ='Menu LUNDI'!D7 -> fromage s/ sel | I9: ='Menu LUNDI'!E7 -> yaourt 0%
A10: ='Menu LUNDI'!A8 -> paté de campagne | C10: ='Menu LUNDI'!B8 -> omelette | E10: ='Menu LUNDI'!C8 -> Purée pdt | G10: ='Menu LUNDI'!D8 -> yaourt 0% | I10: ='Menu LUNDI'!E8 -> fruit de saison
A11: ='Menu LUNDI'!A9 -> - | C11: ='Menu LUNDI'!B9 -> - | E11: ='Menu LUNDI'!C9 -> - | G11: ='Menu LUNDI'!D9 -> compote | I11: ='Menu LUNDI'!E9 -> compote
A12: ='Menu LUNDI'!A10 -> - | C12: ='Menu LUNDI'!B10 -> - | E12: ='Menu LUNDI'!C10 -> - | G12: ='Menu LUNDI'!D10 -> 1 petit suisse | I12: ='Menu LUNDI'!E10 -> -
A13: Total Entrée | B13: =SUM(B7:B12) -> 2 | C13: Total plat | D13: =SUM(D7:D12) -> 2 | E13: Total garniture | F13: =SUM(F7:F12) -> 2 | G13: total fromage | H13: =SUM(H7:H12) -> 2 | I13: total dessert | J13: =SUM(J7:J12) -> 2
A15: Nombre de repas au total | D15: =D13 -> 2
A20: ='[1]Client 4'!A43 -> Pour le chauffeur : à l'arrivée sur le site et au départ du site | G20: ='[1]Client 4'!A44 -> Vérifier la T° du camion, la T° du plat temoin du camion - Relever la T° de la chambre froide du site. La T° doit être comprises entre 0 et 3°
B21: L'ENREGISTREMENT DES CONTRÔLES SUR L'ETABLISSEMENT LIVRE EN LIAISON FROIDE
C22: La réception | F22: Le stockage | H22: Heure sortie CF | J22: La remise en température | P22: La distribution
A23: Produit contrôlé | C23: aspect* | D23: DLC | E23: T° 3°C | F23: T° chambre froide** | J23: Produit | K23: Début | N23: Fin | P23: Préparation froide | S23: T°
K24: heure | M24: T° | N24: heure | O24: T°
A25: =#REF! -> #REF!
A26: =#REF! -> #REF!
A27: =#REF! -> #REF!
A28: =#REF! -> #REF!
A29: =#REF! -> #REF!
A30: =#REF! -> #REF!
A31: Validation du contrôle | F31: Validation du contrôle | J31: Validation du contrôle | P31: Validation du contrôle
A32: Non conformités | K32: Actions correctives
A34: * Inscrire " C " Pour les produits conformes à la commande ou au plan de contrôle | H34: Inscrire " NC " pour les produits non conformes | M34: ** Indiquer la température relevée
A35: Plats témoins ( Mettre un astérisque pour certifié la réalisation du plat témoin ) | H35: Pour les préparations fabriquées sur site et/ ou pour les préparations ayant fait l'objet de manipulation importante.

Sheet TOTAL MAS 2
A1: =Q1 -> 40938 | C1: date de livraison | F1: ='CLIENT 1'!D1 -> 40938 | H1: date de fabrication | K1: ='CLIENT 1'!H1 -> 40935 | N1: jour de consommation | Q1: ='[1]Client 4'!$Q$1 -> 40938
A2: ='CLIENT 1'!A2 -> Lundi midi | H2: ADAPEI DE L'ORNE
A3: ='CLIENT 1'!J1 -> 40938
A4: ='Menu LUNDI'!Entrée_1 -> Tomates | B4: ='Menu LUNDI'!Entrée_1 -> Tomates | C4: ='[1]Client 4'!D4 -> Entrée 3 | D4: ='[1]Client 4'!E4 -> Entrée 4 | E4: ='[1]Client 4'!F4 -> Entrée 5 | F4: ='[1]Client 4'!G4 -> Entrée 6 | G4: ='[1]Client 4'!H4 -> sauté de porc sauce douce | H4: ='[1]Client 4'!I4 -> Viande 2 | I4: ='[1]Client 4'!J4 -> Viande 3 | J4: ='[1]Client 4'!K4 -> œuf ou feuilleté | ... AC4: ='[1]Client 4'!AD4 -> dessert 6
A5: ='[1]Client 3'!B37+'[1]Client 4'!B37 -> 10 | B5: ='[1]Client 3'!C37+'[1]Client 4'!C37 -> 0 | C5: ='[1]Client 3'!D37+'[1]Client 4'!D37 -> 0 | D5: ='[1]Client 3'!E37+'[1]Client 4'!E37 -> 0 | E5: ='[1]Client 3'!F37+'[1]Client 4'!F37 -> 0 | F5: ='[1]Client 3'!G37+'[1]Client 4'!G37 -> 0 | G5: ='[1]Client 3'!H37+'[1]Client 4'!H37 -> 10 | H5: ='[1]Client 3'!I37+'[1]Client 4'!I37 -> 0 | ... AC5: ='[1]Client 3'!AD37+'[1]Client 4'!AD37 -> 0
A7: =A4 -> Tomates | E7: =A5 -> 10 | J7: =L4 -> Poisson 2 | N7: =L5 -> 0
A8: =B4 -> Tomates | E8: =B5 -> 0 | J8: =M4 -> Légume 1 | N8: =M5 -> 10
A9: =C4 -> Entrée 3 | E9: =C5 -> 0 | F9: =E7+E8+E9+E10+E11 -> 10 | J9: =N4 -> Légume 2 | N9: =N5 -> 0 | P9: =N7+N8+N9+N10+N12+N13+N11 -> 16
A10: =D4 -> Entrée 4 | E10: =D5 -> 0 | J10: =O4 -> Légume 3 | N10: =O5 -> 0
A11: 0 | E11: 0 | J11: fromage blanc | N11: 1
J12: gruyère (C. Leveau) | N12: 1
A13: =E4 -> Entrée 5 | E13: =E5 -> 0 | J13: yaourt nature (Peupliers) | N13: 4
A14: =F4 -> Entrée 6 | E14: =F5 -> 0 | F14: =E13+E14+E15+E16 -> 10
A15: =G4 -> sauté de porc sauce douce | E15: =G5 -> 10 | J15: =P4 -> Légume 4 | N15: =P5 -> 0
A16: 0 | E16: 0 | J16: =Q4 -> Légume 5 | N16: =Q5 -> 0 | P16: =N15+N16+N17+N18+N19 -> 0
J17: =R4 -> Légume 6 | N17: =R5 -> 0
A18: =H4 -> Viande 2 | E18: =H5 -> 0
A19: =I4 -> Viande 3 | E19: =I5 -> 0 | F19: =E18+E19+E20+E21 -> 0
A20: =J4 -> œuf ou feuilleté | E20: =J5 -> 0
A21: =K4 -> Poisson 1 | E21: =K5 -> 0 | J21: =S4 -> Fromage | N21: =S5 -> 10
A22: 0 | E22: 0 | J22: =T4 -> Fromage s/sel | N22: =T5 -> 0
I25: Repas ADAPEI | L25: =F14 -> 10
I26: Mas Les Mézières | L26: ='[1]Client 1'!B32 -> 10
A27: IME L'ETAPE : - 20 fruits + 20 compotes | I27: Mas La Soucre | L27: ='[1]Client 2'!B23 -> 0
I28: TOTAL | L28: =SUM(L25:L27) -> 20
B34: ] | C34: page suivante

Sheet Total MAS 1
A1: Mézière | C1: date de livraison | D1: =J1 -> 40938 | G1: date de fabrication | H1: =D1-3 -> 40935 | I1: jour de consommation | J1: 40938
A2: Lundi midi | C2: température camion | H2: température plat témoin
A5: Lundi Midi
A6: Entrée | C6: Plat | E6: Garniture | G6: fromage | I6: dessert
A7: ='Menu LUNDI'!A5 -> Tomates | B7: ='CLIENT 1'!B7+'CLIENT 2'!B7+'CLIENT 3'!B7 -> 69 | C7: ='Menu LUNDI'!B5 -> aile de raie sauce creme | D7: ='CLIENT 1'!D7+'CLIENT 2'!D7+'CLIENT 3'!D7 -> 68 | E7: ='Menu LUNDI'!C5 -> épinards | F7: ='CLIENT 1'!F7+'CLIENT 2'!F7+'CLIENT 3'!F7 -> 29 | G7: ='Menu LUNDI'!D5 -> chèvre | H7: ='CLIENT 1'!H7+'CLIENT 2'!H7+'CLIENT 3'!H7 -> 29 | I7: ='Menu LUNDI'!E5 -> flan patissier maisson | J7: ='CLIENT 1'!J7+'CLIENT 2'!J7+'CLIENT 3'!J7 -> 29
A8: ='Menu LUNDI'!A6 -> Tomates allégée | B8: ='CLIENT 1'!B8+'CLIENT 2'!B8+'CLIENT 3'!B8 -> 8 | C8: ='Menu LUNDI'!B6 -> aile de raie sauce allégée | D8: ='CLIENT 1'!D8+'CLIENT 2'!D8+'CLIENT 3'!D8 -> 10 | E8: ='Menu LUNDI'!C6 -> coquillettes | F8: ='CLIENT 1'!F8+'CLIENT 2'!F8+'CLIENT 3'!F8 -> 40.5 | G8: ='Menu LUNDI'!D6 -> fromage allégé | H8: ='CLIENT 1'!H8+'CLIENT 2'!H8+'CLIENT 3'!H8 -> 2 | I8: ='Menu LUNDI'!E6 -> flan patissier allégé | J8: ='CLIENT 1'!J8+'CLIENT 2'!J8+'CLIENT 3'!J8 -> 2
A9: ='Menu LUNDI'!A7 -> Cœur de palmier | B9: ='CLIENT 1'!B9+'CLIENT 2'!B9+'CLIENT 3'!B9 -> 0 | C9: ='Menu LUNDI'!B7 -> escalope de dinde sauce crème | D9: ='CLIENT 1'!D9+'CLIENT 2'!D9+'CLIENT 3'!D9 -> 3 | E9: ='Menu LUNDI'!C7 -> Carottes vichy | F9: ='CLIENT 1'!F9+'CLIENT 2'!F9+'CLIENT 3'!F9 -> 0 | G9: ='Menu LUNDI'!D7 -> fromage s/ sel | H9: ='CLIENT 1'!H9+'CLIENT 2'!H9+'CLIENT 3'!H9 -> 0 | I9: ='Menu LUNDI'!E7 -> yaourt 0% | J9: ='CLIENT 1'!J9+'CLIENT 2'!J9+'CLIENT 3'!J9 -> 0
A10: ='Menu LUNDI'!A8 -> paté de campagne | B10: ='CLIENT 1'!B10+'CLIENT 2'!B10+'CLIENT 3'!B10 -> 0 | C10: ='Menu LUNDI'!B8 -> omelette | D10: ='CLIENT 1'!D10+'CLIENT 2'!D10+'CLIENT 3'!D10 -> 0 | E10: ='Menu LUNDI'!C8 -> Purée pdt | F10: ='CLIENT 1'!F10+'CLIENT 2'!F10+'CLIENT 3'!F10 -> 0 | G10: ='Menu LUNDI'!D8 -> yaourt 0% | H10: ='CLIENT 1'!H10+'CLIENT 2'!H10+'CLIENT 3'!H10 -> 0 | I10: ='Menu LUNDI'!E8 -> fruit de saison | J10: ='CLIENT 1'!J10+'CLIENT 2'!J10+'CLIENT 3'!J10 -> 0
A11: ='Menu LUNDI'!A9 -> - | B11: ='CLIENT 1'!B11+'CLIENT 2'!B11+'CLIENT 3'!B11 -> 0 | C11: ='Menu LUNDI'!B9 -> - | D11: ='CLIENT 1'!D11+'CLIENT 2'!D11+'CLIENT 3'!D11 -> 0 | E11: ='Menu LUNDI'!C9 -> - | F11: ='CLIENT 1'!F11+'CLIENT 2'!F11+'CLIENT 3'!F11 -> 0 | G11: ='Menu LUNDI'!D9 -> compote | H11: ='CLIENT 1'!H11+'CLIENT 2'!H11+'CLIENT 3'!H11 -> 0 | I11: ='Menu LUNDI'!E9 -> compote | J11: ='CLIENT 1'!J11+'CLIENT 2'!J11+'CLIENT 3'!J11 -> 0
A12: ='Menu LUNDI'!A10 -> - | B12: ='CLIENT 1'!B12+'CLIENT 2'!B12+'CLIENT 3'!B12 -> 0 | C12: ='Menu LUNDI'!B10 -> - | D12: ='CLIENT 1'!D12+'CLIENT 2'!D12+'CLIENT 3'!D12 -> 0 | E12: ='Menu LUNDI'!C10 -> - | F12: ='CLIENT 1'!F12+'CLIENT 2'!F12+'CLIENT 3'!F12 -> 0 | G12: ='Menu LUNDI'!D10 -> 1 petit suisse | H12: ='CLIENT 1'!H12+'CLIENT 2'!H12+'CLIENT 3'!H12 -> 0 | I12: ='Menu LUNDI'!E10 -> - | J12: ='CLIENT 1'!J12+'CLIENT 2'!J12+'CLIENT 3'!J12 -> 0
A13: Total Entrée | B13: =SUM(B7:B12) -> 77 | C13: Total plat | D13: =SUM(D7:D12) -> 81 | E13: Total garniture | F13: =SUM(F7:F12) -> 69.5 | G13: total fromage | H13: =SUM(H7:H12) -> 31 | I13: total dessert | J13: =SUM(J7:J12) -> 31
A18: Repas MAS | B18: =D13 -> 81
A19: Repas ADAPEI
A20: Repas Ecole
A22: TOTAL PRODUCTION | B22: =SUM(B18:B20) -> 81
