Workbook

Sheet Ficher brut
B1: Sa | C1: Ah | D1: Ys | E1: Bo | F1: Gag | G1: Ula | H1: Ham | I1: Nko | J1: Isi | K1: Mam | L1: Ge | M1: Ok | N1: Mf | O1: Go | P1: Hel | Q1: Iz | R1: Mp | S1: Gha | T1: Hle | U1: Inh | V1: Mn | W1: Gug | X1: Hi | Y1: Ndo | Z1: If | AA1: Mv | AC1: Liste des individus
A2: Sa | B2: 0 | C2: 0 | D2: 0 | E2: 0 | F2: 0 | G2: 0.0052698199 | H2: 0 | I2: 0.0033500837 | J2: 0 | K2: 0 | L2: 0 | M2: 0 | N2: 0.0023310024 | O2: 0 | P2: 0 | Q2: 0.0022075055 | R2: 0 | S2: 0.0011682243 | T2: 0 | U2: 0.0010729614 | V2: 0 | W2: 0.0025706941 | X2: 0 | Y2: 0.0029498525 | Z2: 0 | AA2: 0 | AC2: Sa
A3: Ah | B3: 0 | C3: 0 | D3: 0 | E3: 0 | F3: 0 | G3: 0 | H3: 0.0023809525 | I3: 0.0030395137 | J3: 0 | K3: 0 | L3: 0 | M3: 0 | N3: 0.0010204081 | O3: 0 | P3: 0.0023529411 | Q3: 0.00097276265 | R3: 0.00088809949 | S3: 0 | T3: 0 | U3: 0 | V3: 0 | W3: 0 | X3: 0 | Y3: 0.0024999999 | Z3: 0 | AA3: 0 | AC3: Ah
A4: Ys | B4: 0 | C4: 0 | D4: 0 | E4: 0 | F4: 0 | G4: 0 | H4: 0 | I4: 0 | J4: 0 | K4: 0 | L4: 0 | M4: 0 | N4: 0 | O4: 0 | P4: 0 | Q4: 0.0048885457 | R4: 0 | S4: 0 | T4: 0 | U4: 0 | V4: 0 | W4: 0 | X4: 0 | Y4: 0 | Z4: 0 | AA4: 0 | AC4: Ys
A5: Bo | B5: 0 | C5: 0 | D5: 0 | E5: 0 | F5: 0 | G5: 0 | H5: 0 | I5: 0 | J5: 0 | K5: 0 | L5: 0 | M5: 0 | N5: 0 | O5: 0.0015197569 | P5: 0 | Q5: 0 | R5: 0 | S5: 0 | T5: 0 | U5: 0 | V5: 0 | W5: 0 | X5: 0 | Y5: 0 | Z5: 0 | AA5: 0 | AC5: Bo
A6: Gag | B6: 0 | C6: 0 | D6: 0 | E6: 0 | F6: 0 | G6: 0.0015576323 | H6: 0 | I6: 0 | J6: 0.0065246392 | K6: 0.0035026269 | L6: 0.00078492938 | M6: 0.0017006802 | N6: 0 | O6: 0 | P6: 0.0037807184 | Q6: 0 | R6: 0 | S6: 0.0067681894 | T6: 0 | U6: 0 | V6: 0 | W6: 0.01459854 | X6: 0 | Y6: 0 | Z6: 0 | AA6: 0 | AC6: Th
A7: Ula | B7: 0.0052698199 | C7: 0 | D7: 0 | E7: 0 | F7: 0.0015576323 | G7: 0 | H7: 0 | I7: 0.0014104373 | J7: 0.0020661156 | K7: 0 | L7: 0 | M7: 0.0009380863 | N7: 0.00092592591 | O7: 0 | P7: 0 | Q7: 0 | R7: 0 | S7: 0 | T7: 0.0037383179 | U7: 0 | V7: 0 | W7: 0.0020000001 | X7: 0.0009487666 | Y7: 0 | Z7: 0 | AA7: 0 | AC7: El
A8: Ham | B8: 0 | C8: 0.0023809525 | D8: 0 | E8: 0 | F8: 0 | G8: 0 | H8: 0 | I8: 0.0016891892 | J8: 0 | K8: 0 | L8: 0 | M8: 0 | N8: 0 | O8: 0 | P8: 0.0084269661 | Q8: 0.0011185682 | R8: 0 | S8: 0 | T8: 0.0011933175 | U8: 0 | V8: 0 | W8: 0 | X8: 0.0098280096 | Y8: 0 | Z8: 0.0028169013 | AA8: 0 | AC8: Qu
A9: Nko | B9: 0.0033500837 | C9: 0.0030395137 | D9: 0 | E9: 0 | F9: 0 | G9: 0.0014104373 | H9: 0.0016891892 | I9: 0 | J9: 0 | K9: 0 | L9: 0 | M9: 0 | N9: 0 | O9: 0 | P9: 0.0025153733 | Q9: 0 | R9: 0 | S9: 0 | T9: 0 | U9: 0.0021479724 | V9: 0 | W9: 0 | X9: 0.0015408321 | Y9: 0.017765202 | Z9: 0 | AA9: 0 | AC9: Ar
A10: Isi | B10: 0 | C10: 0 | D10: 0 | E10: 0 | F10: 0.0065246392 | G10: 0.0020661156 | H10: 0 | I10: 0 | J10: 0 | K10: 0 | L10: 0 | M10: 0.0023255814 | N10: 0 | O10: 0 | P10: 0.0053981403 | Q10: 0.0043525724 | R10: 0 | S10: 0.0011467889 | T10: 0 | U10: 0.011715737 | V10: 0 | W10: 0 | X10: 0 | Y10: 0 | Z10: 0.013706239 | AA10: 0 | AC10: Ha
A11: Mam | B11: 0 | C11: 0 | D11: 0 | E11: 0 | F11: 0.0035026269 | G11: 0 | H11: 0 | I11: 0 | J11: 0 | K11: 0 | L11: 0.0009765625 | M11: 0 | N11: 0.0042643924 | O11: 0 | P11: 0.0024691359 | Q11: 0.0020242915 | R11: 0.0074074073 | S11: 0 | T11: 0.0021459227 | U11: 0 | V11: 0.0058444953 | W11: 0 | X11: 0.0010940919 | Y11: 0 | Z11: 0 | AA11: 0.012468828 | AC11: Fu
A12: Ge | B12: 0 | C12: 0 | D12: 0 | E12: 0 | F12: 0.00078492938 | G12: 0 | H12: 0 | I12: 0 | J12: 0 | K12: 0.0009765625 | L12: 0 | M12: 0.0018939395 | N12: 0.0037453184 | O12: 0 | P12: 0.0010638298 | Q12: 0 | R12: 0 | S12: 0 | T12: 0 | U12: 0.0017482517 | V12: 0 | W12: 0 | X12: 0 | Y12: 0 | Z12: 0.0021413276 | AA12: 0 | AC12: Gag
A13: Ok | B13: 0 | C13: 0 | D13: 0 | E13: 0 | F13: 0.0017006802 | G13: 0.0009380863 | H13: 0 | I13: 0 | J13: 0.0023255814 | K13: 0 | L13: 0.0018939395 | M13: 0 | N13: 0 | O13: 0 | P13: 0 | Q13: 0 | R13: 0 | S13: 0.0010309279 | T13: 0.0020746889 | U13: 0 | V13: 0.001618123 | W13: 0 | X13: 0.0010570824 | Y13: 0 | Z13: 0 | AA13: 0 | AC13: Gha
... A27: Mv | B27: 0 | C27: 0 | D27: 0 | E27: 0 | F27: 0 | G27: 0 | H27: 0 | I27: 0 | J27: 0 | K27: 0.012468828 | L27: 0 | M27: 0 | N27: 0 | O27: 0 | P27: 0.002754821 | Q27: 0 | R27: 0 | S27: 0 | T27: 0.0023584906 | U27: 0 | V27: 0.00089285715 | W27: 0.0025773195 | X27: 0 | Y27: 0 | Z27: 0 | AA27: 0 | AC27: Mp
AC28: Mn
AC29: Gug
AC30: Hi
AC31: Ndo
AC32: If
AC33: Mv
AC34: Gi
AC35: Ub
AC36: Hw
AC37: Ng
AC38: Idw
AC39: Mod
... AC48: Mu

Sheet Résultats à avoir
B1: Sa | C1: Ah | D1: Ys | E1: Bo | F1: Th | G1: El | H1: Qu | I1: Ar | J1: Ha | K1: Fu | L1: Gag | M1: Gha | N1: Ula | O1: Ham | P1: Hle | Q1: Hel | R1: Nko | S1: Isi | T1: Inh | U1: Mam | V1: Ge | W1: Ok | X1: Mf | Y1: Go | Z1: Iz | AA1: Mp | AB1: Mn | AC1: Gug | AD1: Hi | AE1: Ndo | AF1: If | AG1: Mv | AH1: Gi | AI1: Ub | AJ1: Hw | AK1: Ng | AL1: Idw | AM1: Mod | AN1: Gel | AO1: Gh | AP1: Un | AQ1: Ho | AR1: Hl | AS1: He | AT1: Ny | AU1: Ij | AV1: Mu
A2: Sa | B2: 0 | C2: 0 | D2: 0 | E2: 0 | L2: 0 | M2: 0.0011682243 | N2: 0.0052698199 | O2: 0 | P2: 0 | Q2: 0 | R2: 0.0033500837 | S2: 0 | T2: 0.0010729614 | U2: 0 | V2: 0 | W2: 0 | X2: 0.0023310024 | Y2: 0 | Z2: 0.0022075055 | AA2: 0 | AB2: 0 | AC2: 0.0025706941 | AD2: 0 | AE2: 0.0029498525 | AF2: 0 | AG2: 0
A3: Ah | B3: 0 | C3: 0 | D3: 0 | E3: 0 | L3: 0 | M3: 0 | N3: 0 | O3: 0.0023809525 | P3: 0 | Q3: 0.0023529411 | R3: 0.0030395137 | S3: 0 | T3: 0 | U3: 0 | V3: 0 | W3: 0 | X3: 0.0010204081 | Y3: 0 | Z3: 0.00097276265 | AA3: 0.00088809949 | AB3: 0 | AC3: 0 | AD3: 0 | AE3: 0.0024999999 | AF3: 0 | AG3: 0
A4: Ys | B4: 0 | C4: 0 | D4: 0 | E4: 0 | L4: 0 | M4: 0 | N4: 0 | O4: 0 | P4: 0 | Q4: 0 | R4: 0 | S4: 0 | T4: 0 | U4: 0 | V4: 0 | W4: 0 | X4: 0 | Y4: 0 | Z4: 0.0048885457 | AA4: 0 | AB4: 0 | AC4: 0 | AD4: 0 | AE4: 0 | AF4: 0 | AG4: 0
A5: Bo | B5: 0 | C5: 0 | D5: 0 | E5: 0 | L5: 0 | M5: 0 | N5: 0 | O5: 0 | P5: 0 | Q5: 0 | R5: 0 | S5: 0 | T5: 0 | U5: 0 | V5: 0 | W5: 0 | X5: 0 | Y5: 0.0015197569 | Z5: 0 | AA5: 0 | AB5: 0 | AC5: 0 | AD5: 0 | AE5: 0 | AF5: 0 | AG5: 0
A6: Th
A7: El
A8: Qu
A9: Ar
A10: Ha
A11: Fu
A12: Gag | B12: 0 | C12: 0 | D12: 0 | E12: 0 | L12: 0 | M12: 0.0067681894 | N12: 0.0015576323 | O12: 0 | P12: 0 | Q12: 0.0037807184 | R12: 0 | S12: 0.0065246392 | T12: 0 | U12: 0.0035026269 | V12: 0.00078492938 | W12: 0.0017006802 | X12: 0 | Y12: 0 | Z12: 0 | AA12: 0 | AB12: 0 | AC12: 0.01459854 | AD12: 0 | AE12: 0 | AF12: 0 | AG12: 0
A13: Gha | B13: 0.0011682243 | C13: 0 | D13: 0 | E13: 0 | L13: 0.0067681894 | M13: 0 | N13: 0 | O13: 0 | P13: 0.0041067763 | Q13: 0 | R13: 0 | S13: 0.0011467889 | T13: 0.0028391192 | U13: 0 | V13: 0 | W13: 0.0010309279 | X13: 0 | Y13: 0.0035714286 | Z13: 0 | AA13: 0 | AB13: 0.00080128206 | AC13: 0.0033234896 | AD13: 0.0020876827 | AE13: 0 | AF13: 0.0023584906 | AG13: 0
A14: Ula | B14: 0.0052698199 | C14: 0 | D14: 0 | E14: 0 | L14: 0.0015576323 | M14: 0 | N14: 0 | O14: 0 | P14: 0.0037383179 | Q14: 0 | R14: 0.0014104373 | S14: 0.0020661156 | T14: 0 | U14: 0 | V14: 0 | W14: 0.0009380863 | X14: 0.00092592591 | Y14: 0 | Z14: 0 | AA14: 0 | AB14: 0 | AC14: 0.0020000001 | AD14: 0.0009487666 | AE14: 0 | AF14: 0 | AG14: 0
A15: Ham | B15: 0 | C15: 0.0023809525 | D15: 0 | E15: 0 | L15: 0 | M15: 0 | N15: 0 | O15: 0 | P15: 0.0011933175 | Q15: 0.0084269661 | R15: 0.0016891892 | S15: 0 | T15: 0 | U15: 0 | V15: 0 | W15: 0 | X15: 0 | Y15: 0 | Z15: 0.0011185682 | AA15: 0 | AB15: 0 | AC15: 0 | AD15: 0.0098280096 | AE15: 0 | AF15: 0.0028169013 | AG15: 0
A16: Hle | B16: 0 | C16: 0 | D16: 0 | E16: 0 | L16: 0 | M16: 0.0041067763 | N16: 0.0037383179 | O16: 0.0011933175 | P16: 0 | Q16: 0.0059185685 | R16: 0 | S16: 0 | T16: 0 | U16: 0.0021459227 | V16: 0 | W16: 0.0020746889 | X16: 0 | Y16: 0 | Z16: 0 | AA16: 0.00088967971 | AB16: 0.00080515299 | AC16: 0 | AD16: 0.0021008404 | AE16: 0.0037656957 | AF16: 0 | AG16: 0.0023584906
A17: Hel | B17: 0 | C17: 0.0023529411 | D17: 0 | E17: 0 | L17: 0.0037807184 | M17: 0 | N17: 0 | O17: 0.0084269661 | P17: 0.0059185685 | Q17: 0 | R17: 0.0025153733 | S17: 0.0053981403 | T17: 0.0043103448 | U17: 0.0024691359 | V17: 0.0010638298 | W17: 0 | X17: 0 | Y17: 0.0040322579 | Z17: 0 | AA17: 0 | AB17: 0 | AC17: 0 | AD17: 0.0012048193 | AE17: 0.0029585799 | AF17: 0 | AG17: 0.002754821
A18: Nko | B18: 0.0033500837 | C18: 0.0030395137 | D18: 0 | E18: 0 | L18: 0 | M18: 0 | N18: 0.0014104373 | O18: 0.0016891892 | P18: 0 | Q18: 0.0025153733 | R18: 0 | S18: 0 | T18: 0.0021479724 | U18: 0 | V18: 0 | W18: 0 | X18: 0 | Y18: 0 | Z18: 0 | AA18: 0 | AB18: 0 | AC18: 0 | AD18: 0.0015408321 | AE18: 0.017765202 | AF18: 0 | AG18: 0
A19: Isi | B19: 0 | C19: 0 | D19: 0 | E19: 0 | L19: 0.0065246392 | M19: 0.0011467889 | N19: 0.0020661156 | O19: 0 | P19: 0 | Q19: 0.0053981403 | R19: 0 | S19: 0 | T19: 0.011715737 | U19: 0 | V19: 0 | W19: 0.0023255814 | X19: 0 | Y19: 0 | Z19: 0.0043525724 | AA19: 0 | AB19: 0 | AC19: 0 | AD19: 0 | AE19: 0 | AF19: 0.013706239 | AG19: 0
A20: Inh | B20: 0.0010729614 | C20: 0 | D20: 0 | E20: 0 | L20: 0 | M20: 0.0028391192 | N20: 0 | O20: 0 | P20: 0 | Q20: 0.0043103448 | R20: 0.0021479724 | S20: 0.011715737 | T20: 0 | U20: 0 | V20: 0.0017482517 | W20: 0 | X20: 0 | Y20: 0.001669449 | Z20: 0 | AA20: 0 | AB20: 0 | AC20: 0 | AD20: 0 | AE20: 0.0022727272 | AF20: 0.0021645022 | AG20: 0
A21: Mam | B21: 0 | C21: 0 | D21: 0 | E21: 0 | L21: 0.0035026269 | M21: 0 | N21: 0 | O21: 0 | P21: 0.0021459227 | Q21: 0.0024691359 | R21: 0 | S21: 0 | T21: 0 | U21: 0 | V21: 0.0009765625 | W21: 0 | X21: 0.0042643924 | Y21: 0 | Z21: 0.0020242915 | AA21: 0.0074074073 | AB21: 0.0058444953 | AC21: 0 | AD21: 0.0010940919 | AE21: 0 | AF21: 0 | AG21: 0.012468828
A22: Ge | B22: 0 | C22: 0 | D22: 0 | E22: 0 | L22: 0.00078492938 | M22: 0 | N22: 0 | O22: 0 | P22: 0 | Q22: 0.0010638298 | R22: 0 | S22: 0 | T22: 0.0017482517 | U22: 0.0009765625 | V22: 0 | W22: 0.0018939395 | X22: 0.0037453184 | Y22: 0 | Z22: 0 | AA22: 0 | AB22: 0 | AC22: 0 | AD22: 0 | AE22: 0 | AF22: 0.0021413276 | AG22: 0
A23: Ok | B23: 0 | C23: 0 | D23: 0 | E23: 0 | L23: 0.0017006802 | M23: 0.0010309279 | N23: 0.0009380863 | O23: 0 | P23: 0.0020746889 | Q23: 0 | R23: 0 | S23: 0.0023255814 | T23: 0 | U23: 0 | V23: 0.0018939395 | W23: 0 | X23: 0 | Y23: 0 | Z23: 0 | AA23: 0 | AB23: 0.001618123 | AC23: 0 | AD23: 0.0010570824 | AE23: 0 | AF23: 0 | AG23: 0
... A33: Mv | B33: 0 | C33: 0 | D33: 0 | E33: 0 | L33: 0 | M33: 0 | N33: 0 | O33: 0 | P33: 0.0023584906 | Q33: 0.002754821 | R33: 0 | S33: 0 | T33: 0 | U33: 0.012468828 | V33: 0 | W33: 0 | X33: 0 | Y33: 0 | Z33: 0 | AA33: 0 | AB33: 0.00089285715 | AC33: 0.0025773195 | AD33: 0 | AE33: 0 | AF33: 0 | AG33: 0
A34: Gi
A35: Ub
A36: Hw
A37: Ng
A38: Idw
A39: Mod
A40: Gel
A41: Gh
A42: Un
A43: Ho
A44: Hl
A45: He
... A48: Mu

Sheet Feuil1
B1: Sa | C1: Ah | D1: Ys | E1: Bo | F1: Th | G1: El | H1: Qu | I1: Ar | J1: Ha | K1: Fu | L1: Gag | M1: Gha | N1: Ula | O1: Ham | P1: Hle | Q1: Hel | R1: Nko | S1: Isi | T1: Inh | U1: Mam | V1: Ge | W1: Ok | X1: Mf | Y1: Go | Z1: Iz | AA1: Mp | AB1: Mn | AC1: Gug | AD1: Hi | AE1: Ndo | AF1: If | AG1: Mv | AH1: Gi | AI1: Ub | AJ1: Hw | AK1: Ng | AL1: Idw | AM1: Mod | AN1: Gel | AO1: Gh | AP1: Un | AQ1: Ho | AR1: Hl | AS1: He | AT1: Ny | AU1: Ij | AV1: Mu
A2: Sa | B2: =IFERROR(VLOOKUP($A2,'Ficher brut'!$A:$AA,MATCH(B$1,'Ficher brut'!$1:$1,0),FALSE),"") -> 0 | C2: =IFERROR(VLOOKUP($A2,'Ficher brut'!$A:$AA,MATCH(C$1,'Ficher brut'!$1:$1,0),FALSE),"") -> 0 | D2: =IFERROR(VLOOKUP($A2,'Ficher brut'!$A:$AA,MATCH(D$1,'Ficher brut'!$1:$1,0),FALSE),"") -> 0 | E2: =IFERROR(VLOOKUP($A2,'Ficher brut'!$A:$AA,MATCH(E$1,'Ficher brut'!$1:$1,0),FALSE),"") -> 0 | F2: =IFERROR(VLOOKUP($A2,'Ficher brut'!$A:$AA,MATCH(F$1,'Ficher brut'!$1:$1,0),FALSE),"") | G2: =IFERROR(VLOOKUP($A2,'Ficher brut'!$A:$AA,MATCH(G$1,'Ficher brut'!$1:$1,0),FALSE),"") | H2: =IFERROR(VLOOKUP($A2,'Ficher brut'!$A:$AA,MATCH(H$1,'Ficher brut'!$1:$1,0),FALSE),"") | I2: =IFERROR(VLOOKUP($A2,'Ficher brut'!$A:$AA,MATCH(I$1,'Ficher brut'!$1:$1,0),FALSE),"") | ... AV2: =IFERROR(VLOOKUP($A2,'Ficher brut'!$A:$AA,MATCH(AV$1,'Ficher brut'!$1:$1,0),FALSE),"")
A3: Ah | B3: =IFERROR(VLOOKUP($A3,'Ficher brut'!$A:$AA,MATCH(B$1,'Ficher brut'!$1:$1,0),FALSE),"") -> 0 | C3: =IFERROR(VLOOKUP($A3,'Ficher brut'!$A:$AA,MATCH(C$1,'Ficher brut'!$1:$1,0),FALSE),"") -> 0 | D3: =IFERROR(VLOOKUP($A3,'Ficher brut'!$A:$AA,MATCH(D$1,'Ficher brut'!$1:$1,0),FALSE),"") -> 0 | E3: =IFERROR(VLOOKUP($A3,'Ficher brut'!$A:$AA,MATCH(E$1,'Ficher brut'!$1:$1,0),FALSE),"") -> 0 | F3: =IFERROR(VLOOKUP($A3,'Ficher brut'!$A:$AA,MATCH(F$1,'Ficher brut'!$1:$1,0),FALSE),"") | G3: =IFERROR(VLOOKUP($A3,'Ficher brut'!$A:$AA,MATCH(G$1,'Ficher brut'!$1:$1,0),FALSE),"") | H3: =IFERROR(VLOOKUP($A3,'Ficher brut'!$A:$AA,MATCH(H$1,'Ficher brut'!$1:$1,0),FALSE),"") | I3: =IFERROR(VLOOKUP($A3,'Ficher brut'!$A:$AA,MATCH(I$1,'Ficher brut'!$1:$1,0),FALSE),"") | ... AV3: =IFERROR(VLOOKUP($A3,'Ficher brut'!$A:$AA,MATCH(AV$1,'Ficher brut'!$1:$1,0),FALSE),"")
A4: Ys | B4: =IFERROR(VLOOKUP($A4,'Ficher brut'!$A:$AA,MATCH(B$1,'Ficher brut'!$1:$1,0),FALSE),"") -> 0 | C4: =IFERROR(VLOOKUP($A4,'Ficher brut'!$A:$AA,MATCH(C$1,'Ficher brut'!$1:$1,0),FALSE),"") -> 0 | D4: =IFERROR(VLOOKUP($A4,'Ficher brut'!$A:$AA,MATCH(D$1,'Ficher brut'!$1:$1,0),FALSE),"") -> 0 | E4: =IFERROR(VLOOKUP($A4,'Ficher brut'!$A:$AA,MATCH(E$1,'Ficher brut'!$1:$1,0),FALSE),"") -> 0 | F4: =IFERROR(VLOOKUP($A4,'Ficher brut'!$A:$AA,MATCH(F$1,'Ficher brut'!$1:$1,0),FALSE),"") | G4: =IFERROR(VLOOKUP($A4,'Ficher brut'!$A:$AA,MATCH(G$1,'Ficher brut'!$1:$1,0),FALSE),"") | H4: =IFERROR(VLOOKUP($A4,'Ficher brut'!$A:$AA,MATCH(H$1,'Ficher brut'!$1:$1,0),FALSE),"") | I4: =IFERROR(VLOOKUP($A4,'Ficher brut'!$A:$AA,MATCH(I$1,'Ficher brut'!$1:$1,0),FALSE),"") | ... AV4: =IFERROR(VLOOKUP($A4,'Ficher brut'!$A:$AA,MATCH(AV$1,'Ficher brut'!$1:$1,0),FALSE),"")
A5: Bo | B5: =IFERROR(VLOOKUP($A5,'Ficher brut'!$A:$AA,MATCH(B$1,'Ficher brut'!$1:$1,0),FALSE),"") -> 0 | C5: =IFERROR(VLOOKUP($A5,'Ficher brut'!$A:$AA,MATCH(C$1,'Ficher brut'!$1:$1,0),FALSE),"") -> 0 | D5: =IFERROR(VLOOKUP($A5,'Ficher brut'!$A:$AA,MATCH(D$1,'Ficher brut'!$1:$1,0),FALSE),"") -> 0 | E5: =IFERROR(VLOOKUP($A5,'Ficher brut'!$A:$AA,MATCH(E$1,'Ficher brut'!$1:$1,0),FALSE),"") -> 0 | F5: =IFERROR(VLOOKUP($A5,'Ficher brut'!$A:$AA,MATCH(F$1,'Ficher brut'!$1:$1,0),FALSE),"") | G5: =IFERROR(VLOOKUP($A5,'Ficher brut'!$A:$AA,MATCH(G$1,'Ficher brut'!$1:$1,0),FALSE),"") | H5: =IFERROR(VLOOKUP($A5,'Ficher brut'!$A:$AA,MATCH(H$1,'Ficher brut'!$1:$1,0),FALSE),"") | I5: =IFERROR(VLOOKUP($A5,'Ficher brut'!$A:$AA,MATCH(I$1,'Ficher brut'!$1:$1,0),FALSE),"") | ... AV5: =IFERROR(VLOOKUP($A5,'Ficher brut'!$A:$AA,MATCH(AV$1,'Ficher brut'!$1:$1,0),FALSE),"")
A6: Th | B6: =IFERROR(VLOOKUP($A6,'Ficher brut'!$A:$AA,MATCH(B$1,'Ficher brut'!$1:$1,0),FALSE),"") | C6: =IFERROR(VLOOKUP($A6,'Ficher brut'!$A:$AA,MATCH(C$1,'Ficher brut'!$1:$1,0),FALSE),"") | D6: =IFERROR(VLOOKUP($A6,'Ficher brut'!$A:$AA,MATCH(D$1,'Ficher brut'!$1:$1,0),FALSE),"") | E6: =IFERROR(VLOOKUP($A6,'Ficher brut'!$A:$AA,MATCH(E$1,'Ficher brut'!$1:$1,0),FALSE),"") | F6: =IFERROR(VLOOKUP($A6,'Ficher brut'!$A:$AA,MATCH(F$1,'Ficher brut'!$1:$1,0),FALSE),"") | G6: =IFERROR(VLOOKUP($A6,'Ficher brut'!$A:$AA,MATCH(G$1,'Ficher brut'!$1:$1,0),FALSE),"") | H6: =IFERROR(VLOOKUP($A6,'Ficher brut'!$A:$AA,MATCH(H$1,'Ficher brut'!$1:$1,0),FALSE),"") | I6: =IFERROR(VLOOKUP($A6,'Ficher brut'!$A:$AA,MATCH(I$1,'Ficher brut'!$1:$1,0),FALSE),"") | ... AV6: =IFERROR(VLOOKUP($A6,'Ficher brut'!$A:$AA,MATCH(AV$1,'Ficher brut'!$1:$1,0),FALSE),"")
A7: El | B7: =IFERROR(VLOOKUP($A7,'Ficher brut'!$A:$AA,MATCH(B$1,'Ficher brut'!$1:$1,0),FALSE),"") | C7: =IFERROR(VLOOKUP($A7,'Ficher brut'!$A:$AA,MATCH(C$1,'Ficher brut'!$1:$1,0),FALSE),"") | D7: =IFERROR(VLOOKUP($A7,'Ficher brut'!$A:$AA,MATCH(D$1,'Ficher brut'!$1:$1,0),FALSE),"") | E7: =IFERROR(VLOOKUP($A7,'Ficher brut'!$A:$AA,MATCH(E$1,'Ficher brut'!$1:$1,0),FALSE),"") | F7: =IFERROR(VLOOKUP($A7,'Ficher brut'!$A:$AA,MATCH(F$1,'Ficher brut'!$1:$1,0),FALSE),"") | G7: =IFERROR(VLOOKUP($A7,'Ficher brut'!$A:$AA,MATCH(G$1,'Ficher brut'!$1:$1,0),FALSE),"") | H7: =IFERROR(VLOOKUP($A7,'Ficher brut'!$A:$AA,MATCH(H$1,'Ficher brut'!$1:$1,0),FALSE),"") | I7: =IFERROR(VLOOKUP($A7,'Ficher brut'!$A:$AA,MATCH(I$1,'Ficher brut'!$1:$1,0),FALSE),"") | ... AV7: =IFERROR(VLOOKUP($A7,'Ficher brut'!$A:$AA,MATCH(AV$1,'Ficher brut'!$1:$1,0),FALSE),"")
A8: Qu | B8: =IFERROR(VLOOKUP($A8,'Ficher brut'!$A:$AA,MATCH(B$1,'Ficher brut'!$1:$1,0),FALSE),"") | C8: =IFERROR(VLOOKUP($A8,'Ficher brut'!$A:$AA,MATCH(C$1,'Ficher brut'!$1:$1,0),FALSE),"") | D8: =IFERROR(VLOOKUP($A8,'Ficher brut'!$A:$AA,MATCH(D$1,'Ficher brut'!$1:$1,0),FALSE),"") | E8: =IFERROR(VLOOKUP($A8,'Ficher brut'!$A:$AA,MATCH(E$1,'Ficher brut'!$1:$1,0),FALSE),"") | F8: =IFERROR(VLOOKUP($A8,'Ficher brut'!$A:$AA,MATCH(F$1,'Ficher brut'!$1:$1,0),FALSE),"") | G8: =IFERROR(VLOOKUP($A8,'Ficher brut'!$A:$AA,MATCH(G$1,'Ficher brut'!$1:$1,0),FALSE),"") | H8: =IFERROR(VLOOKUP($A8,'Ficher brut'!$A:$AA,MATCH(H$1,'Ficher brut'!$1:$1,0),FALSE),"") | I8: =IFERROR(VLOOKUP($A8,'Ficher brut'!$A:$AA,MATCH(I$1,'Ficher brut'!$1:$1,0),FALSE),"") | ... AV8: =IFERROR(VLOOKUP($A8,'Ficher brut'!$A:$AA,MATCH(AV$1,'Ficher brut'!$1:$1,0),FALSE),"")
A9: Ar | B9: =IFERROR(VLOOKUP($A9,'Ficher brut'!$A:$AA,MATCH(B$1,'Ficher brut'!$1:$1,0),FALSE),"") | C9: =IFERROR(VLOOKUP($A9,'Ficher brut'!$A:$AA,MATCH(C$1,'Ficher brut'!$1:$1,0),FALSE),"") | D9: =IFERROR(VLOOKUP($A9,'Ficher brut'!$A:$AA,MATCH(D$1,'Ficher brut'!$1:$1,0),FALSE),"") | E9: =IFERROR(VLOOKUP($A9,'Ficher brut'!$A:$AA,MATCH(E$1,'Ficher brut'!$1:$1,0),FALSE),"") | F9: =IFERROR(VLOOKUP($A9,'Ficher brut'!$A:$AA,MATCH(F$1,'Ficher brut'!$1:$1,0),FALSE),"") | G9: =IFERROR(VLOOKUP($A9,'Ficher brut'!$A:$AA,MATCH(G$1,'Ficher brut'!$1:$1,0),FALSE),"") | H9: =IFERROR(VLOOKUP($A9,'Ficher brut'!$A:$AA,MATCH(H$1,'Ficher brut'!$1:$1,0),FALSE),"") | I9: =IFERROR(VLOOKUP($A9,'Ficher brut'!$A:$AA,MATCH(I$1,'Ficher brut'!$1:$1,0),FALSE),"") | ... AV9: =IFERROR(VLOOKUP($A9,'Ficher brut'!$A:$AA,MATCH(AV$1,'Ficher brut'!$1:$1,0),FALSE),"")
A10: Ha | B10: =IFERROR(VLOOKUP($A10,'Ficher brut'!$A:$AA,MATCH(B$1,'Ficher brut'!$1:$1,0),FALSE),"") | C10: =IFERROR(VLOOKUP($A10,'Ficher brut'!$A:$AA,MATCH(C$1,'Ficher brut'!$1:$1,0),FALSE),"") | D10: =IFERROR(VLOOKUP($A10,'Ficher brut'!$A:$AA,MATCH(D$1,'Ficher brut'!$1:$1,0),FALSE),"") | E10: =IFERROR(VLOOKUP($A10,'Ficher brut'!$A:$AA,MATCH(E$1,'Ficher brut'!$1:$1,0),FALSE),"") | F10: =IFERROR(VLOOKUP($A10,'Ficher brut'!$A:$AA,MATCH(F$1,'Ficher brut'!$1:$1,0),FALSE),"") | G10: =IFERROR(VLOOKUP($A10,'Ficher brut'!$A:$AA,MATCH(G$1,'Ficher brut'!$1:$1,0),FALSE),"") | H10: =IFERROR(VLOOKUP($A10,'Ficher brut'!$A:$AA,MATCH(H$1,'Ficher brut'!$1:$1,0),FALSE),"") | I10: =IFERROR(VLOOKUP($A10,'Ficher brut'!$A:$AA,MATCH(I$1,'Ficher brut'!$1:$1,0),FALSE),"") | ... AV10: =IFERROR(VLOOKUP($A10,'Ficher brut'!$A:$AA,MATCH(AV$1,'Ficher brut'!$1:$1,0),FALSE),"")
A11: Fu | B11: =IFERROR(VLOOKUP($A11,'Ficher brut'!$A:$AA,MATCH(B$1,'Ficher brut'!$1:$1,0),FALSE),"") | C11: =IFERROR(VLOOKUP($A11,'Ficher brut'!$A:$AA,MATCH(C$1,'Ficher brut'!$1:$1,0),FALSE),"") | D11: =IFERROR(VLOOKUP($A11,'Ficher brut'!$A:$AA,MATCH(D$1,'Ficher brut'!$1:$1,0),FALSE),"") | E11: =IFERROR(VLOOKUP($A11,'Ficher brut'!$A:$AA,MATCH(E$1,'Ficher brut'!$1:$1,0),FALSE),"") | F11: =IFERROR(VLOOKUP($A11,'Ficher brut'!$A:$AA,MATCH(F$1,'Ficher brut'!$1:$1,0),FALSE),"") | G11: =IFERROR(VLOOKUP($A11,'Ficher brut'!$A:$AA,MATCH(G$1,'Ficher brut'!$1:$1,0),FALSE),"") | H11: =IFERROR(VLOOKUP($A11,'Ficher brut'!$A:$AA,MATCH(H$1,'Ficher brut'!$1:$1,0),FALSE),"") | I11: =IFERROR(VLOOKUP($A11,'Ficher brut'!$A:$AA,MATCH(I$1,'Ficher brut'!$1:$1,0),FALSE),"") | ... AV11: =IFERROR(VLOOKUP($A11,'Ficher brut'!$A:$AA,MATCH(AV$1,'Ficher brut'!$1:$1,0),FALSE),"")
A12: Gag | B12: =IFERROR(VLOOKUP($A12,'Ficher brut'!$A:$AA,MATCH(B$1,'Ficher brut'!$1:$1,0),FALSE),"") -> 0 | C12: =IFERROR(VLOOKUP($A12,'Ficher brut'!$A:$AA,MATCH(C$1,'Ficher brut'!$1:$1,0),FALSE),"") -> 0 | D12: =IFERROR(VLOOKUP($A12,'Ficher brut'!$A:$AA,MATCH(D$1,'Ficher brut'!$1:$1,0),FALSE),"") -> 0 | E12: =IFERROR(VLOOKUP($A12,'Ficher brut'!$A:$AA,MATCH(E$1,'Ficher brut'!$1:$1,0),FALSE),"") -> 0 | F12: =IFERROR(VLOOKUP($A12,'Ficher brut'!$A:$AA,MATCH(F$1,'Ficher brut'!$1:$1,0),FALSE),"") | G12: =IFERROR(VLOOKUP($A12,'Ficher brut'!$A:$AA,MATCH(G$1,'Ficher brut'!$1:$1,0),FALSE),"") | H12: =IFERROR(VLOOKUP($A12,'Ficher brut'!$A:$AA,MATCH(H$1,'Ficher brut'!$1:$1,0),FALSE),"") | I12: =IFERROR(VLOOKUP($A12,'Ficher brut'!$A:$AA,MATCH(I$1,'Ficher brut'!$1:$1,0),FALSE),"") | ... AV12: =IFERROR(VLOOKUP($A12,'Ficher brut'!$A:$AA,MATCH(AV$1,'Ficher brut'!$1:$1,0),FALSE),"")
A13: Gha | B13: =IFERROR(VLOOKUP($A13,'Ficher brut'!$A:$AA,MATCH(B$1,'Ficher brut'!$1:$1,0),FALSE),"") -> 0.0011682243 | C13: =IFERROR(VLOOKUP($A13,'Ficher brut'!$A:$AA,MATCH(C$1,'Ficher brut'!$1:$1,0),FALSE),"") -> 0 | D13: =IFERROR(VLOOKUP($A13,'Ficher brut'!$A:$AA,MATCH(D$1,'Ficher brut'!$1:$1,0),FALSE),"") -> 0 | E13: =IFERROR(VLOOKUP($A13,'Ficher brut'!$A:$AA,MATCH(E$1,'Ficher brut'!$1:$1,0),FALSE),"") -> 0 | F13: =IFERROR(VLOOKUP($A13,'Ficher brut'!$A:$AA,MATCH(F$1,'Ficher brut'!$1:$1,0),FALSE),"") | G13: =IFERROR(VLOOKUP($A13,'Ficher brut'!$A:$AA,MATCH(G$1,'Ficher brut'!$1:$1,0),FALSE),"") | H13: =IFERROR(VLOOKUP($A13,'Ficher brut'!$A:$AA,MATCH(H$1,'Ficher brut'!$1:$1,0),FALSE),"") | I13: =IFERROR(VLOOKUP($A13,'Ficher brut'!$A:$AA,MATCH(I$1,'Ficher brut'!$1:$1,0),FALSE),"") | ... AV13: =IFERROR(VLOOKUP($A13,'Ficher brut'!$A:$AA,MATCH(AV$1,'Ficher brut'!$1:$1,0),FALSE),"")
... A48: Mu | B48: =IFERROR(VLOOKUP($A48,'Ficher brut'!$A:$AA,MATCH(B$1,'Ficher brut'!$1:$1,0),FALSE),"") | C48: =IFERROR(VLOOKUP($A48,'Ficher brut'!$A:$AA,MATCH(C$1,'Ficher brut'!$1:$1,0),FALSE),"") | D48: =IFERROR(VLOOKUP($A48,'Ficher brut'!$A:$AA,MATCH(D$1,'Ficher brut'!$1:$1,0),FALSE),"") | E48: =IFERROR(VLOOKUP($A48,'Ficher brut'!$A:$AA,MATCH(E$1,'Ficher brut'!$1:$1,0),FALSE),"") | F48: =IFERROR(VLOOKUP($A48,'Ficher brut'!$A:$AA,MATCH(F$1,'Ficher brut'!$1:$1,0),FALSE),"") | G48: =IFERROR(VLOOKUP($A48,'Ficher brut'!$A:$AA,MATCH(G$1,'Ficher brut'!$1:$1,0),FALSE),"") | H48: =IFERROR(VLOOKUP($A48,'Ficher brut'!$A:$AA,MATCH(H$1,'Ficher brut'!$1:$1,0),FALSE),"") | I48: =IFERROR(VLOOKUP($A48,'Ficher brut'!$A:$AA,MATCH(I$1,'Ficher brut'!$1:$1,0),FALSE),"") | ... AV48: =IFERROR(VLOOKUP($A48,'Ficher brut'!$A:$AA,MATCH(AV$1,'Ficher brut'!$1:$1,0),FALSE),"")
