Workbook
Name a: #REF!
Name ancien: #REF!
Name b_base: #REF!
Name bweu_pay: #REF!
Name bwfr_pay: #REF!
Name bwib_pay: #REF!
Name bwuk_pay: #REF!
Name c_coface: #REF!
Name c_cours: #REF!
Name c_ech: #REF!
Name c_mois: #REF!
Name c_prix: '[2]BUDGET TONER'!$E$3:$E$15
Name c_ttt: #REF!
Name c_tttaaa: #REF!
Name ca_clt: #REF!
Name ca_clt_dev: #REF!
Name ca_clt_mad: [3]!Tableau_logistafr_v_cpv_fr[[#All],[montant MAD]]
Name CC: [3]!Tableau_logistafr_v_cpv_fr[[#All],[montant]]
Name cleart: [5]base_achats_1920!$B$1:$B$298
Name clt: #REF!
Name cltg: #REF!
Name CPC: [3]!Tableau_logistafr_v_cpv_fr[[#All],[client]]
Name date_ech: #REF!
Name disma_pay: #REF!
Name dssdfdefefe: #REF!
Name Excel_BuiltIn_Print_Area_2: #REF!
Name fam_bud2021: '[7]Besoins 20_21'!$A$3:$A$82
Name famille2021: '[7]2_base cmde 20_21'!$B$1:$B$166
Name frext: #REF!
Name FRUL_pay: #REF!
Name gomez_pay: #REF!
Name hyyhj: #REF!
Name LIST: #REF!
Name ListeDe_catégories: #REF!
Name ListeEmployés: #REF!
Name mnt_bud2021: '[7]Besoins 20_21'!$S$3:$S$82
Name mois_export: #REF!
Name net_cpv: #REF!
Name Order2017: #REF!
Name Order2018: #REF!
Name pds: #REF!
Name pdsaff: #REF!
Name PHIL_PAY: #REF!
Name postfr: #REF!
Name PourcentageIndicateur: #REF!
Name qtecmd: [5]base_achats_1920!$L$1:$L$298
Name qteliv: [5]base_achats_1920!$M$1:$M$298
Name realise1920: '[7]2_base cmde 20_21'!$N$1:$N$166
Name sds: #REF!
Name Segment: '[8]ALL KPI'!$Q$2:$Q$4
Name sem_ech: #REF!
Name sem_echeance: #REF!
Name sem_pay: #REF!
Name sit_bweu: #REF!
Name sit_bwuk: #REF!
Name sit_dor: #REF!
Name sit_fru: #REF!
Name sit_gom: #REF!
Name sit_p_bweu: #REF!
Name sit_p_bwfr: #REF!

Sheet Consolidé
A1: Dom | B1: Domaine | C1: Variété | D1: Segment | E1: Date | F1: Budget MO (Ma proposition ) | G1: Budget MO (votre proposition )
A2: =Budget!A2 -> Sté_01 | B2: =A2&" "&C2 -> Sté_01 CBV | C2: =Budget!C2 -> CBV | D2: =Budget!B2 -> Produit_3 | E2: 44757 | F2: =Budget!D2 -> 0
A3: =Budget!A3 -> Sté_01 | B3: =A3&" "&C3 -> Sté_01 AGADIR | C3: =Budget!C3 -> AGADIR | D3: =Budget!B3 -> Produit_3 | E3: 44757 | F3: =Budget!D3 -> 782.94645
A4: =Budget!A4 -> Sté_01 | B4: =A4&" "&C4 -> Sté_01 OMD | C4: =Budget!C4 -> OMD | D4: =Budget!B4 -> Produit_3 | E4: 44757 | F4: =Budget!D4 -> 3914.2818
A5: =Budget!A5 -> Sté_02 | B5: =A5&" "&C5 -> Sté_02 Produit_2 | C5: =Budget!C5 -> Produit_2 | D5: =Budget!B5 -> Produit_2 | E5: 44757 | F5: =Budget!D5 -> 57046.506
A6: =Budget!A6 -> Sté_03 | B6: =A6&" "&C6 -> Sté_03 CBV | C6: =Budget!C6 -> CBV | D6: =Budget!B6 -> Produit_3 | E6: 44757 | F6: =Budget!D6 -> 0
A7: =Budget!A7 -> Sté_03 | B7: =A7&" "&C7 -> Sté_03 AGADIR | C7: =Budget!C7 -> AGADIR | D7: =Budget!B7 -> Produit_3 | E7: 44757 | F7: =Budget!D7 -> 596.46015
A8: =Budget!A8 -> Sté_03 | B8: =A8&" "&C8 -> Sté_03 OMD | C8: =Budget!C8 -> OMD | D8: =Budget!B8 -> Produit_3 | E8: 44757 | F8: =Budget!D8 -> 8685.7056
A9: =Budget!A9 -> Sté_05 | B9: =A9&" "&C9 -> Sté_05 AGADIR | C9: =Budget!C9 -> AGADIR | D9: =Budget!B9 -> Produit_3 | E9: 44757 | F9: =Budget!D9 -> 846.5886
A10: =Budget!A10 -> Sté_05 | B10: =A10&" "&C10 -> Sté_05 SLT | C10: =Budget!C10 -> SLT | D10: =Budget!B10 -> Produit_3 | E10: 44757 | F10: =Budget!D10 -> 1124.838
A11: =Budget!A11 -> Sté_05 | B11: =A11&" "&C11 -> Sté_05 IRIS | C11: =Budget!C11 -> IRIS | D11: =Budget!B11 -> Produit_3 | E11: 44757 | F11: =Budget!D11 -> 148.005
A12: =Budget!A12 -> Sté_06 | B12: =A12&" "&C12 -> Sté_06 SWE | C12: =Budget!C12 -> SWE | D12: =Budget!B12 -> Produit_1 | E12: 44757 | F12: =Budget!D12 -> 135577.85
A13: =Budget!A13 -> Sté_07 | B13: =A13&" "&C13 -> Sté_07 CBV | C13: =Budget!C13 -> CBV | D13: =Budget!B13 -> Produit_3 | E13: 44757 | F13: =Budget!D13 -> 0
... A45: =Budget!A45 -> Sté_31 | B45: =A45&" "&C45 -> Sté_31 Produit_2 | C45: =Budget!C45 -> Produit_2 | D45: =Budget!B45 -> Produit_2 | E45: 44757 | F45: =Budget!D45 -> 75675.186
A46: =Budget!A2 -> Sté_01 | B46: =A46&" "&C46 -> Sté_01 CBV | C46: =Budget!C2 -> CBV | D46: =Budget!B2 -> Produit_3 | E46: 44773 | F46: =Budget!E2 -> 0
A47: =Budget!A3 -> Sté_01 | B47: =A47&" "&C47 -> Sté_01 AGADIR | C47: =Budget!C3 -> AGADIR | D47: =Budget!B3 -> Produit_3 | E47: 44773 | F47: =Budget!E3 -> 782.94645
A48: =Budget!A4 -> Sté_01 | B48: =A48&" "&C48 -> Sté_01 OMD | C48: =Budget!C4 -> OMD | D48: =Budget!B4 -> Produit_3 | E48: 44773 | F48: =Budget!E4 -> 3914.2818
A49: =Budget!A5 -> Sté_02 | B49: =A49&" "&C49 -> Sté_02 Produit_2 | C49: =Budget!C5 -> Produit_2 | D49: =Budget!B5 -> Produit_2 | E49: 44773 | F49: =Budget!E5 -> 20183.378
A50: =Budget!A6 -> Sté_03 | B50: =A50&" "&C50 -> Sté_03 CBV | C50: =Budget!C6 -> CBV | D50: =Budget!B6 -> Produit_3 | E50: 44773 | F50: =Budget!E6 -> 0
A51: =Budget!A7 -> Sté_03 | B51: =A51&" "&C51 -> Sté_03 AGADIR | C51: =Budget!C7 -> AGADIR | D51: =Budget!B7 -> Produit_3 | E51: 44773 | F51: =Budget!E7 -> 596.46015
A52: =Budget!A8 -> Sté_03 | B52: =A52&" "&C52 -> Sté_03 OMD | C52: =Budget!C8 -> OMD | D52: =Budget!B8 -> Produit_3 | E52: 44773 | F52: =Budget!E8 -> 8685.7056
A53: =Budget!A9 -> Sté_05 | B53: =A53&" "&C53 -> Sté_05 AGADIR | C53: =Budget!C9 -> AGADIR | D53: =Budget!B9 -> Produit_3 | E53: 44773 | F53: =Budget!E9 -> 846.5886
A54: =Budget!A10 -> Sté_05 | B54: =A54&" "&C54 -> Sté_05 SLT | C54: =Budget!C10 -> SLT | D54: =Budget!B10 -> Produit_3 | E54: 44773 | F54: =Budget!E10 -> 1124.838
A55: =Budget!A11 -> Sté_05 | B55: =A55&" "&C55 -> Sté_05 IRIS | C55: =Budget!C11 -> IRIS | D55: =Budget!B11 -> Produit_3 | E55: 44773 | F55: =Budget!E11 -> 148.005
A56: =Budget!A12 -> Sté_06 | B56: =A56&" "&C56 -> Sté_06 SWE | C56: =Budget!C12 -> SWE | D56: =Budget!B12 -> Produit_1 | E56: 44773 | F56: =Budget!E12 -> 41080.619
A57: =Budget!A13 -> Sté_07 | B57: =A57&" "&C57 -> Sté_07 CBV | C57: =Budget!C13 -> CBV | D57: =Budget!B13 -> Produit_3 | E57: 44773 | F57: =Budget!E13 -> 0
... A89: =Budget!A45 -> Sté_31 | B89: =A89&" "&C89 -> Sté_31 Produit_2 | C89: =Budget!C45 -> Produit_2 | D89: =Budget!B45 -> Produit_2 | E89: 44773 | F89: =Budget!E45 -> 14959.444
A90: =Budget!A2 -> Sté_01 | B90: =A90&" "&C90 -> Sté_01 CBV | C90: =Budget!C2 -> CBV | D90: =Budget!B2 -> Produit_3 | E90: 44788 | F90: =Budget!F2 -> 0
A91: =Budget!A3 -> Sté_01 | B91: =A91&" "&C91 -> Sté_01 AGADIR | C91: =Budget!C3 -> AGADIR | D91: =Budget!B3 -> Produit_3 | E91: 44788 | F91: =Budget!F3 -> 782.94645
A92: =Budget!A4 -> Sté_01 | B92: =A92&" "&C92 -> Sté_01 OMD | C92: =Budget!C4 -> OMD | D92: =Budget!B4 -> Produit_3 | E92: 44788 | F92: =Budget!F4 -> 2856.3678
A93: =Budget!A5 -> Sté_02 | B93: =A93&" "&C93 -> Sté_02 Produit_2 | C93: =Budget!C5 -> Produit_2 | D93: =Budget!B5 -> Produit_2 | E93: 44788 | F93: =Budget!F5 -> 27075.263
A94: =Budget!A6 -> Sté_03 | B94: =A94&" "&C94 -> Sté_03 CBV | C94: =Budget!C6 -> CBV | D94: =Budget!B6 -> Produit_3 | E94: 44788 | F94: =Budget!F6 -> 0
A95: =Budget!A7 -> Sté_03 | B95: =A95&" "&C95 -> Sté_03 AGADIR | C95: =Budget!C7 -> AGADIR | D95: =Budget!B7 -> Produit_3 | E95: 44788 | F95: =Budget!F7 -> 596.46015
A96: =Budget!A8 -> Sté_03 | B96: =A96&" "&C96 -> Sté_03 OMD | C96: =Budget!C8 -> OMD | D96: =Budget!B8 -> Produit_3 | E96: 44788 | F96: =Budget!F8 -> 6338.2176
A97: =Budget!A9 -> Sté_05 | B97: =A97&" "&C97 -> Sté_05 AGADIR | C97: =Budget!C9 -> AGADIR | D97: =Budget!B9 -> Produit_3 | E97: 44788 | F97: =Budget!F9 -> 846.5886
A98: =Budget!A10 -> Sté_05 | B98: =A98&" "&C98 -> Sté_05 SLT | C98: =Budget!C10 -> SLT | D98: =Budget!B10 -> Produit_3 | E98: 44788 | F98: =Budget!F10 -> 1124.838
A99: =Budget!A11 -> Sté_05 | B99: =A99&" "&C99 -> Sté_05 IRIS | C99: =Budget!C11 -> IRIS | D99: =Budget!B11 -> Produit_3 | E99: 44788 | F99: =Budget!F11 -> 148.005
A100: =Budget!A12 -> Sté_06 | B100: =A100&" "&C100 -> Sté_06 SWE | C100: =Budget!C12 -> SWE | D100: =Budget!B12 -> Produit_1 | E100: 44788 | F100: =Budget!F12 -> 79490.159
A101: =Budget!A13 -> Sté_07 | B101: =A101&" "&C101 -> Sté_07 CBV | C101: =Budget!C13 -> CBV | D101: =Budget!B13 -> Produit_3 | E101: 44788 | F101: =Budget!F13 -> 0
... A133: =Budget!A45 -> Sté_31 | B133: =A133&" "&C133 -> Sté_31 Produit_2 | C133: =Budget!C45 -> Produit_2 | D133: =Budget!B45 -> Produit_2 | E133: 44788 | F133: =Budget!F45 -> 20067.548
...

Sheet Budget
A1: Domaine | B1: Segment | C1: Variété | D1: 44757 | E1: 44773 | F1: 44788 | G1: 44804 | H1: 44819 | I1: 44834 | J1: 44849 | K1: 44865 | L1: 44880 | M1: 44895 | N1: 44910 | O1: 44926 | P1: 44941 | Q1: 44957 | R1: 44972 | S1: 44985 | T1: 45000 | U1: 45016 | V1: 45031 | W1: 45046 | X1: 45061 | Y1: 45077 | Z1: 45092 | AA1: 45107 | AB1: Total
A2: Sté_01 | B2: Produit_3 | C2: CBV | D2: 0 | E2: 0 | F2: 0 | G2: 0 | H2: 0 | I2: 0 | J2: 0 | K2: 0 | L2: 0 | M2: 0 | N2: 0 | O2: 0 | P2: 3473.4843 | Q2: 3473.4843 | R2: 3297.1653 | S2: 3297.1653 | T2: 3297.1653 | U2: 3297.1653 | V2: 25954.157 | W2: 25954.157 | X2: 24631.764 | Y2: 24631.764 | Z2: 608.30055 | AA2: 608.30055 | AB2: =SUM(D2:AA2) -> 122524.07
A3: Sté_01 | B3: Produit_3 | C3: AGADIR | D3: 782.94645 | E3: 782.94645 | F3: 782.94645 | G3: 782.94645 | H3: 2485.004 | I3: 2485.004 | J3: 2485.004 | K3: 2485.004 | L3: 6740.1477 | M3: 6740.1477 | N3: 9816.9439 | O3: 9816.9439 | P3: 14058.995 | Q3: 14058.995 | R3: 25515.151 | S3: 25515.151 | T3: 55309.34 | U3: 55309.34 | V3: 34876.467 | W3: 34876.467 | X3: 17607.13 | Y3: 17607.13 | Z3: 782.94645 | AA3: 782.94645 | AB3: =SUM(D3:AA3) -> 342486.05
A4: Sté_01 | B4: Produit_3 | C4: OMD | D4: 3914.2818 | E4: 3914.2818 | F4: 2856.3678 | G4: 2856.3678 | H4: 3008.4351 | I4: 3008.4351 | J4: 9363.6689 | K4: 9363.6689 | L4: 24811.718 | M4: 24811.718 | N4: 15144.243 | O4: 15144.243 | P4: 0 | Q4: 0 | R4: 0 | S4: 0 | T4: 0 | U4: 0 | V4: 0 | W4: 0 | X4: 0 | Y4: 0 | Z4: 0 | AA4: 0 | AB4: =SUM(D4:AA4) -> 118197.43
A5: Sté_02 | B5: Produit_2 | C5: Produit_2 | D5: 57046.506 | E5: 20183.378 | F5: 27075.263 | G5: 27075.263 | H5: 23629.32 | I5: 23629.32 | J5: 21167.933 | K5: 21167.933 | L5: 16245.158 | M5: 16245.158 | N5: 20694.37 | O5: 20694.37 | P5: 22650.578 | Q5: 22650.578 | R5: 30706.766 | S5: 30706.766 | T5: 67837.548 | U5: 67837.548 | V5: 83836.736 | W5: 83836.736 | X5: 40517.022 | Y5: 40517.022 | Z5: 18854.228 | AA5: 18854.228 | AB5: =SUM(D5:AA5) -> 823659.73
A6: Sté_03 | B6: Produit_3 | C6: CBV | D6: 0 | E6: 0 | F6: 0 | G6: 0 | H6: 0 | I6: 0 | J6: 0 | K6: 0 | L6: 0 | M6: 0 | N6: 0 | O6: 0 | P6: 7707.5856 | Q6: 7707.5856 | R6: 7316.3376 | S6: 7316.3376 | T6: 7316.3376 | U6: 7316.3376 | V6: 57591.706 | W6: 57591.706 | X6: 54657.346 | Y6: 54657.346 | Z6: 1349.8056 | AA6: 1349.8056 | AB6: =SUM(D6:AA6) -> 271878.24
A7: Sté_03 | B7: Produit_3 | C7: AGADIR | D7: 596.46015 | E7: 596.46015 | F7: 596.46015 | G7: 596.46015 | H7: 1893.1126 | I7: 1893.1126 | J7: 1893.1126 | K7: 1893.1126 | L7: 5134.7439 | M7: 5134.7439 | N7: 7478.6926 | O7: 7478.6926 | P7: 10710.35 | Q7: 10710.35 | R7: 19437.818 | S7: 19437.818 | T7: 42135.471 | U7: 42135.471 | V7: 26569.407 | W7: 26569.407 | X7: 13413.371 | Y7: 13413.371 | Z7: 596.46015 | AA7: 596.46015 | AB7: =SUM(D7:AA7) -> 260910.92
A8: Sté_03 | B8: Produit_3 | C8: OMD | D8: 8685.7056 | E8: 8685.7056 | F8: 6338.2176 | G8: 6338.2176 | H8: 6675.6515 | I8: 6675.6515 | J8: 20777.776 | K8: 20777.776 | L8: 55056.658 | M8: 55056.658 | N8: 33604.744 | O8: 33604.744 | P8: 0 | Q8: 0 | R8: 0 | S8: 0 | T8: 0 | U8: 0 | V8: 0 | W8: 0 | X8: 0 | Y8: 0 | Z8: 0 | AA8: 0 | AB8: =SUM(D8:AA8) -> 262277.51
A9: Sté_05 | B9: Produit_3 | C9: AGADIR | D9: 846.5886 | E9: 846.5886 | F9: 846.5886 | G9: 846.5886 | H9: 2686.9986 | I9: 2686.9986 | J9: 2686.9986 | K9: 2686.9986 | L9: 7288.0236 | M9: 7288.0236 | N9: 10614.919 | O9: 10614.919 | P9: 15201.787 | Q9: 15201.787 | R9: 27589.162 | S9: 27589.162 | T9: 59805.185 | U9: 59805.185 | V9: 37711.417 | W9: 37711.417 | X9: 19038.334 | Y9: 19038.334 | Z9: 846.5886 | AA9: 846.5886 | AB9: =SUM(D9:AA9) -> 370325.18
A10: Sté_05 | B10: Produit_3 | C10: SLT | D10: 1124.838 | E10: 1124.838 | F10: 1124.838 | G10: 1124.838 | H10: 8460.738 | I10: 8460.738 | J10: 11658.438 | K10: 11658.438 | L10: 9194.328 | M10: 9194.328 | N10: 21665.358 | O10: 21665.358 | P10: 36092.628 | Q10: 36092.628 | R10: 88290.378 | S10: 88290.378 | T10: 29979.378 | U10: 29979.378 | V10: 4792.788 | W10: 4792.788 | X10: 3570.138 | Y10: 3570.138 | Z10: 1124.838 | AA10: 1124.838 | AB10: =SUM(D10:AA10) -> 434157.37
A11: Sté_05 | B11: Produit_3 | C11: IRIS | D11: 148.005 | E11: 148.005 | F11: 148.005 | G11: 148.005 | H11: 1113.255 | I11: 1113.255 | J11: 1534.005 | K11: 1534.005 | L11: 1209.78 | M11: 1209.78 | N11: 2850.705 | O11: 2850.705 | P11: 4749.03 | Q11: 4749.03 | R11: 11617.155 | S11: 11617.155 | T11: 3944.655 | U11: 3944.655 | V11: 630.63 | W11: 630.63 | X11: 469.755 | Y11: 469.755 | Z11: 148.005 | AA11: 148.005 | AB11: =SUM(D11:AA11) -> 57125.97
A12: Sté_06 | B12: Produit_1 | C12: SWE | D12: 135577.85 | E12: 41080.619 | F12: 79490.159 | G12: 79490.159 | H12: 90408.82 | I12: 90408.82 | J12: 95634.374 | K12: 95634.374 | L12: 96264.69 | M12: 96264.69 | N12: 93420.952 | O12: 93420.952 | P12: 86506.599 | Q12: 86506.599 | R12: 85500.621 | S12: 85500.621 | T12: 95027.811 | U12: 95027.811 | V12: 98891.593 | W12: 98891.593 | X12: 70479.307 | Y12: 70479.307 | Z12: 25861.572 | AA12: 25861.572 | AB12: =SUM(D12:AA12) -> 2011631.5
A13: Sté_07 | B13: Produit_3 | C13: CBV | D13: 0 | E13: 0 | F13: 0 | G13: 0 | H13: 0 | I13: 0 | J13: 0 | K13: 0 | L13: 0 | M13: 0 | N13: 0 | O13: 0 | P13: 11878.302 | Q13: 11878.302 | R13: 11275.343 | S13: 11275.343 | T13: 11275.343 | U13: 11275.343 | V13: 88755.638 | W13: 88755.638 | X13: 84233.442 | Y13: 84233.442 | Z13: 2080.2103 | AA13: 2080.2103 | AB13: =SUM(D13:AA13) -> 418996.56
... A45: Sté_31 | B45: Produit_2 | C45: Produit_2 | D45: 75675.186 | E45: 14959.444 | F45: 20067.548 | G45: 20067.548 | H45: 17513.496 | I45: 17513.496 | J45: 15689.174 | K45: 15689.174 | L45: 12040.529 | M45: 12040.529 | N45: 15338.18 | O45: 15338.18 | P45: 16788.075 | Q45: 16788.075 | R45: 22759.133 | S45: 22759.133 | T45: 50279.594 | U45: 50279.594 | V45: 62137.816 | W45: 62137.816 | X45: 30030.263 | Y45: 30030.263 | Z45: 13974.31 | AA45: 13974.31 | AB45: =SUM(D45:AA45) -> 643870.87
D54: Juillet | E54: Août | F54: Septembre | G54: Octobre | H54: Novembre | I54: Décembre | J54: Janvier | K54: Février | L54: Mars | M54: Avril | N54: Mai | O54: Juin | P54: Total
D55: =SUBTOTAL(9,D2:E45) -> 2852743 | E55: =SUBTOTAL(9,F2:G45) -> 1934297.1 | F55: =SUBTOTAL(9,H2:I45) -> 2095044.3 | G55: =SUBTOTAL(9,J2:K45) -> 2278516.3 | H55: =SUBTOTAL(9,L2:M45) -> 2496290.2 | I55: =SUBTOTAL(9,N2:O45) -> 2340175.2 | J55: =SUBTOTAL(9,P2:Q45) -> 2114298.7 | K55: =SUBTOTAL(9,R2:S45) -> 2595788.6 | L55: =SUBTOTAL(9,T2:U45) -> 3893814.8 | M55: =SUBTOTAL(9,V2:W45) -> 4515572.1 | N55: =SUBTOTAL(9,X2:Y45) -> 2711439 | O55: =SUBTOTAL(9,Z2:AA45) -> 692670.54 | P55: =SUM(D55:O55) -> 30520650
