Workbook

Sheet Feuil1
A4: Code postal | B4: Nom intervenant | C4: Problème
A5: 11000 | B5: A | C5: Chaudière
A6: 11100 | B6: B | C6: Chaudière
A7: 11400 | B7: C | C7: Ventilation
A8: 12000 | B8: D | C8: Chauffage
A9: 12040 | B9: E | C9: Chaudière
A10: 13000 | B10: F | C10: Non connu
A11: 13500 | B11: G | C11: Ventilation

Sheet 11
A3: =IF(Feuil1!A3="11*",Feuil1!A3,"")
A4: =IF(Feuil1!A4="11*",Feuil1!A4,"")
A5: =IF(AND(Feuil1!A5>=11000,Feuil1!A5<11999),Feuil1!A5,"") -> 11000 | B5: =IF(A5<>"",Feuil1!B5,"") -> A | C5: =IF(A5<>"",Feuil1!C5,"") -> Chaudière
A6: =IF(AND(Feuil1!A6>=11000,Feuil1!A6<11999),Feuil1!A6,"") -> 11100 | B6: =IF(A6<>"",Feuil1!B6,"") -> B | C6: =IF(A6<>"",Feuil1!C6,"") -> Chaudière
A7: =IF(AND(Feuil1!A7>=11000,Feuil1!A7<11999),Feuil1!A7,"") -> 11400 | B7: =IF(A7<>"",Feuil1!B7,"") -> C | C7: =IF(A7<>"",Feuil1!C7,"") -> Ventilation
A8: =IF(AND(Feuil1!A8>=11000,Feuil1!A8<11999),Feuil1!A8,"") | B8: =IF(A8<>"",Feuil1!B8,"")
A9: =IF(AND(Feuil1!A9>=11000,Feuil1!A9<11999),Feuil1!A9,"") | B9: =IF(AND(Feuil1!B9>=11000,Feuil1!B9<11999),Feuil1!B9,"")
A10: =IF(AND(Feuil1!A10>=11000,Feuil1!A10<11999),Feuil1!A10,"") | B10: =IF(AND(Feuil1!B10>=11000,Feuil1!B10<11999),Feuil1!B10,"")
A11: =IF(AND(Feuil1!A11>=11000,Feuil1!A11<11999),Feuil1!A11,"") | B11: =IF(AND(Feuil1!B11>=11000,Feuil1!B11<11999),Feuil1!B11,"")
A12: =IF(AND(Feuil1!A12>=11000,Feuil1!A12<11999),Feuil1!A12,"") | B12: =IF(AND(Feuil1!B12>=11000,Feuil1!B12<11999),Feuil1!B12,"")
A13: =IF(Feuil1!A13="11*",Feuil1!A13,"")

Sheet 12
A1: 1

Sheet 13
