Workbook
Name annee: Calendrier!$BC$2
Name dates: #REF!
Name mois: Calendrier!$BC$4

Sheet Calendrier
AV2: Année du calendrier : | BC2: 2021
AV4: Mois de départ : | BC4: 1
A6: =PROPER(TEXT(B8,"mmmm")) -> Janvier | F6: =PROPER(TEXT(G8,"mmmm")) -> Février | K6: =PROPER(TEXT(L8,"mmmm")) -> Mars | P6: =PROPER(TEXT(Q8,"mmmm")) -> Avril | U6: =PROPER(TEXT(V8,"mmmm")) -> Mai | Z6: =PROPER(TEXT(AA8,"mmmm")) -> Juin | AE6: =PROPER(TEXT(AF8,"mmmm")) -> Juillet | AJ6: =PROPER(TEXT(AK8,"mmmm")) -> Août | AO6: =PROPER(TEXT(AP8,"mmmm")) -> Septembre | AT6: =PROPER(TEXT(AU8,"mmmm")) -> Octobre | AY6: =PROPER(TEXT(AZ8,"mmmm")) -> Novembre | BD6: =PROPER(TEXT(BE8,"mmmm")) -> Décembre
A7: =YEAR(B8) -> 2021 | F7: =YEAR(G8) -> 2021 | K7: =YEAR(L8) -> 2021 | P7: =YEAR(Q8) -> 2021 | U7: =YEAR(V8) -> 2021 | Z7: =YEAR(AA8) -> 2021 | AE7: =YEAR(AF8) -> 2021 | AJ7: =YEAR(AK8) -> 2021 | AO7: =YEAR(AP8) -> 2021 | AT7: =YEAR(AU8) -> 2021 | AY7: =YEAR(AZ8) -> 2021 | BD7: =YEAR(BE8) -> 2021
A8: =IF(B8<>"",UPPER(LEFT(TEXT(B8,"jjj"))),"") -> V | B8: =DATE(annee,ROUNDDOWN(COLUMN()/5,0)+mois,1) -> 44197 | C8: =VLOOKUP(WEEKDAY(B8,2),'Horaire hebdo'!$A$1:$N$8,14,FALSE) -> 4 | F8: =IF(G8<>"",UPPER(LEFT(TEXT(G8,"jjj"))),"") -> L | G8: =DATE(annee,ROUNDDOWN(COLUMN()/5,0)+mois,1) -> 44228 | K8: =IF(L8<>"",UPPER(LEFT(TEXT(L8,"jjj"))),"") -> L | L8: =DATE(annee,ROUNDDOWN(COLUMN()/5,0)+mois,1) -> 44256 | P8: =IF(Q8<>"",UPPER(LEFT(TEXT(Q8,"jjj"))),"") -> J | Q8: =DATE(annee,ROUNDDOWN(COLUMN()/5,0)+mois,1) -> 44287 | U8: =IF(V8<>"",UPPER(LEFT(TEXT(V8,"jjj"))),"") -> S | V8: =DATE(annee,ROUNDDOWN(COLUMN()/5,0)+mois,1) -> 44317 | Z8: =IF(AA8<>"",UPPER(LEFT(TEXT(AA8,"jjj"))),"") -> M | AA8: =DATE(annee,ROUNDDOWN(COLUMN()/5,0)+mois,1) -> 44348 | AE8: =IF(AF8<>"",UPPER(LEFT(TEXT(AF8,"jjj"))),"") -> J | AF8: =DATE(annee,ROUNDDOWN(COLUMN()/5,0)+mois,1) -> 44378 | AJ8: =IF(AK8<>"",UPPER(LEFT(TEXT(AK8,"jjj"))),"") -> D | AK8: =DATE(annee,ROUNDDOWN(COLUMN()/5,0)+mois,1) -> 44409 | AO8: =IF(AP8<>"",UPPER(LEFT(TEXT(AP8,"jjj"))),"") -> M | AP8: =DATE(annee,ROUNDDOWN(COLUMN()/5,0)+mois,1) -> 44440 | AT8: =IF(AU8<>"",UPPER(LEFT(TEXT(AU8,"jjj"))),"") -> V | AU8: =DATE(annee,ROUNDDOWN(COLUMN()/5,0)+mois,1) -> 44470 | AY8: =IF(AZ8<>"",UPPER(LEFT(TEXT(AZ8,"jjj"))),"") -> L | AZ8: =DATE(annee,ROUNDDOWN(COLUMN()/5,0)+mois,1) -> 44501 | BD8: =IF(BE8<>"",UPPER(LEFT(TEXT(BE8,"jjj"))),"") -> M | BE8: =DATE(annee,ROUNDDOWN(COLUMN()/5,0)+mois,1) -> 44531
A9: =IF(B9<>"",UPPER(LEFT(TEXT(B9,"jjj"))),"") -> S | B9: =B8+1 -> 44198 | C9: =VLOOKUP(WEEKDAY(B9,2),'Horaire hebdo'!$A$1:$N$8,14,FALSE) -> 5 | F9: =IF(G9<>"",UPPER(LEFT(TEXT(G9,"jjj"))),"") -> M | G9: =G8+1 -> 44229 | K9: =IF(L9<>"",UPPER(LEFT(TEXT(L9,"jjj"))),"") -> M | L9: =L8+1 -> 44257 | P9: =IF(Q9<>"",UPPER(LEFT(TEXT(Q9,"jjj"))),"") -> V | Q9: =Q8+1 -> 44288 | U9: =IF(V9<>"",UPPER(LEFT(TEXT(V9,"jjj"))),"") -> D | V9: =V8+1 -> 44318 | Z9: =IF(AA9<>"",UPPER(LEFT(TEXT(AA9,"jjj"))),"") -> M | AA9: =AA8+1 -> 44349 | AE9: =IF(AF9<>"",UPPER(LEFT(TEXT(AF9,"jjj"))),"") -> V | AF9: =AF8+1 -> 44379 | AJ9: =IF(AK9<>"",UPPER(LEFT(TEXT(AK9,"jjj"))),"") -> L | AK9: =AK8+1 -> 44410 | AO9: =IF(AP9<>"",UPPER(LEFT(TEXT(AP9,"jjj"))),"") -> J | AP9: =AP8+1 -> 44441 | AT9: =IF(AU9<>"",UPPER(LEFT(TEXT(AU9,"jjj"))),"") -> S | AU9: =AU8+1 -> 44471 | AY9: =IF(AZ9<>"",UPPER(LEFT(TEXT(AZ9,"jjj"))),"") -> M | AZ9: =AZ8+1 -> 44502 | BD9: =IF(BE9<>"",UPPER(LEFT(TEXT(BE9,"jjj"))),"") -> J | BE9: =BE8+1 -> 44532
A10: =IF(B10<>"",UPPER(LEFT(TEXT(B10,"jjj"))),"") -> D | B10: =B9+1 -> 44199 | C10: =VLOOKUP(WEEKDAY(B10,2),'Horaire hebdo'!$A$1:$N$8,14,FALSE) -> 0 | F10: =IF(G10<>"",UPPER(LEFT(TEXT(G10,"jjj"))),"") -> M | G10: =G9+1 -> 44230 | K10: =IF(L10<>"",UPPER(LEFT(TEXT(L10,"jjj"))),"") -> M | L10: =L9+1 -> 44258 | P10: =IF(Q10<>"",UPPER(LEFT(TEXT(Q10,"jjj"))),"") -> S | Q10: =Q9+1 -> 44289 | U10: =IF(V10<>"",UPPER(LEFT(TEXT(V10,"jjj"))),"") -> L | V10: =V9+1 -> 44319 | Z10: =IF(AA10<>"",UPPER(LEFT(TEXT(AA10,"jjj"))),"") -> J | AA10: =AA9+1 -> 44350 | AE10: =IF(AF10<>"",UPPER(LEFT(TEXT(AF10,"jjj"))),"") -> S | AF10: =AF9+1 -> 44380 | AJ10: =IF(AK10<>"",UPPER(LEFT(TEXT(AK10,"jjj"))),"") -> M | AK10: =AK9+1 -> 44411 | AO10: =IF(AP10<>"",UPPER(LEFT(TEXT(AP10,"jjj"))),"") -> V | AP10: =AP9+1 -> 44442 | AT10: =IF(AU10<>"",UPPER(LEFT(TEXT(AU10,"jjj"))),"") -> D | AU10: =AU9+1 -> 44472 | AY10: =IF(AZ10<>"",UPPER(LEFT(TEXT(AZ10,"jjj"))),"") -> M | AZ10: =AZ9+1 -> 44503 | BD10: =IF(BE10<>"",UPPER(LEFT(TEXT(BE10,"jjj"))),"") -> V | BE10: =BE9+1 -> 44533
A11: =IF(B11<>"",UPPER(LEFT(TEXT(B11,"jjj"))),"") -> L | B11: =B10+1 -> 44200 | C11: =VLOOKUP(WEEKDAY(B11,2),'Horaire hebdo'!$A$1:$N$8,14,FALSE) -> 0 | F11: =IF(G11<>"",UPPER(LEFT(TEXT(G11,"jjj"))),"") -> J | G11: =G10+1 -> 44231 | K11: =IF(L11<>"",UPPER(LEFT(TEXT(L11,"jjj"))),"") -> J | L11: =L10+1 -> 44259 | P11: =IF(Q11<>"",UPPER(LEFT(TEXT(Q11,"jjj"))),"") -> D | Q11: =Q10+1 -> 44290 | U11: =IF(V11<>"",UPPER(LEFT(TEXT(V11,"jjj"))),"") -> M | V11: =V10+1 -> 44320 | Z11: =IF(AA11<>"",UPPER(LEFT(TEXT(AA11,"jjj"))),"") -> V | AA11: =AA10+1 -> 44351 | AE11: =IF(AF11<>"",UPPER(LEFT(TEXT(AF11,"jjj"))),"") -> D | AF11: =AF10+1 -> 44381 | AJ11: =IF(AK11<>"",UPPER(LEFT(TEXT(AK11,"jjj"))),"") -> M | AK11: =AK10+1 -> 44412 | AO11: =IF(AP11<>"",UPPER(LEFT(TEXT(AP11,"jjj"))),"") -> S | AP11: =AP10+1 -> 44443 | AT11: =IF(AU11<>"",UPPER(LEFT(TEXT(AU11,"jjj"))),"") -> L | AU11: =AU10+1 -> 44473 | AY11: =IF(AZ11<>"",UPPER(LEFT(TEXT(AZ11,"jjj"))),"") -> J | AZ11: =AZ10+1 -> 44504 | BD11: =IF(BE11<>"",UPPER(LEFT(TEXT(BE11,"jjj"))),"") -> S | BE11: =BE10+1 -> 44534
A12: =IF(B12<>"",UPPER(LEFT(TEXT(B12,"jjj"))),"") -> M | B12: =B11+1 -> 44201 | C12: =VLOOKUP(WEEKDAY(B12,2),'Horaire hebdo'!$A$1:$N$8,14,FALSE) -> 1 | F12: =IF(G12<>"",UPPER(LEFT(TEXT(G12,"jjj"))),"") -> V | G12: =G11+1 -> 44232 | K12: =IF(L12<>"",UPPER(LEFT(TEXT(L12,"jjj"))),"") -> V | L12: =L11+1 -> 44260 | P12: =IF(Q12<>"",UPPER(LEFT(TEXT(Q12,"jjj"))),"") -> L | Q12: =Q11+1 -> 44291 | U12: =IF(V12<>"",UPPER(LEFT(TEXT(V12,"jjj"))),"") -> M | V12: =V11+1 -> 44321 | Z12: =IF(AA12<>"",UPPER(LEFT(TEXT(AA12,"jjj"))),"") -> S | AA12: =AA11+1 -> 44352 | AE12: =IF(AF12<>"",UPPER(LEFT(TEXT(AF12,"jjj"))),"") -> L | AF12: =AF11+1 -> 44382 | AJ12: =IF(AK12<>"",UPPER(LEFT(TEXT(AK12,"jjj"))),"") -> J | AK12: =AK11+1 -> 44413 | AO12: =IF(AP12<>"",UPPER(LEFT(TEXT(AP12,"jjj"))),"") -> D | AP12: =AP11+1 -> 44444 | AT12: =IF(AU12<>"",UPPER(LEFT(TEXT(AU12,"jjj"))),"") -> M | AU12: =AU11+1 -> 44474 | AY12: =IF(AZ12<>"",UPPER(LEFT(TEXT(AZ12,"jjj"))),"") -> V | AZ12: =AZ11+1 -> 44505 | BD12: =IF(BE12<>"",UPPER(LEFT(TEXT(BE12,"jjj"))),"") -> D | BE12: =BE11+1 -> 44535
A13: =IF(B13<>"",UPPER(LEFT(TEXT(B13,"jjj"))),"") -> M | B13: =B12+1 -> 44202 | C13: =VLOOKUP(WEEKDAY(B13,2),'Horaire hebdo'!$A$1:$N$8,14,FALSE) -> 2 | F13: =IF(G13<>"",UPPER(LEFT(TEXT(G13,"jjj"))),"") -> S | G13: =G12+1 -> 44233 | K13: =IF(L13<>"",UPPER(LEFT(TEXT(L13,"jjj"))),"") -> S | L13: =L12+1 -> 44261 | P13: =IF(Q13<>"",UPPER(LEFT(TEXT(Q13,"jjj"))),"") -> M | Q13: =Q12+1 -> 44292 | U13: =IF(V13<>"",UPPER(LEFT(TEXT(V13,"jjj"))),"") -> J | V13: =V12+1 -> 44322 | Z13: =IF(AA13<>"",UPPER(LEFT(TEXT(AA13,"jjj"))),"") -> D | AA13: =AA12+1 -> 44353 | AE13: =IF(AF13<>"",UPPER(LEFT(TEXT(AF13,"jjj"))),"") -> M | AF13: =AF12+1 -> 44383 | AJ13: =IF(AK13<>"",UPPER(LEFT(TEXT(AK13,"jjj"))),"") -> V | AK13: =AK12+1 -> 44414 | AO13: =IF(AP13<>"",UPPER(LEFT(TEXT(AP13,"jjj"))),"") -> L | AP13: =AP12+1 -> 44445 | AT13: =IF(AU13<>"",UPPER(LEFT(TEXT(AU13,"jjj"))),"") -> M | AU13: =AU12+1 -> 44475 | AY13: =IF(AZ13<>"",UPPER(LEFT(TEXT(AZ13,"jjj"))),"") -> S | AZ13: =AZ12+1 -> 44506 | BD13: =IF(BE13<>"",UPPER(LEFT(TEXT(BE13,"jjj"))),"") -> L | BE13: =BE12+1 -> 44536
A14: =IF(B14<>"",UPPER(LEFT(TEXT(B14,"jjj"))),"") -> J | B14: =B13+1 -> 44203 | F14: =IF(G14<>"",UPPER(LEFT(TEXT(G14,"jjj"))),"") -> D | G14: =G13+1 -> 44234 | K14: =IF(L14<>"",UPPER(LEFT(TEXT(L14,"jjj"))),"") -> D | L14: =L13+1 -> 44262 | P14: =IF(Q14<>"",UPPER(LEFT(TEXT(Q14,"jjj"))),"") -> M | Q14: =Q13+1 -> 44293 | U14: =IF(V14<>"",UPPER(LEFT(TEXT(V14,"jjj"))),"") -> V | V14: =V13+1 -> 44323 | Z14: =IF(AA14<>"",UPPER(LEFT(TEXT(AA14,"jjj"))),"") -> L | AA14: =AA13+1 -> 44354 | AE14: =IF(AF14<>"",UPPER(LEFT(TEXT(AF14,"jjj"))),"") -> M | AF14: =AF13+1 -> 44384 | AJ14: =IF(AK14<>"",UPPER(LEFT(TEXT(AK14,"jjj"))),"") -> S | AK14: =AK13+1 -> 44415 | AO14: =IF(AP14<>"",UPPER(LEFT(TEXT(AP14,"jjj"))),"") -> M | AP14: =AP13+1 -> 44446 | AT14: =IF(AU14<>"",UPPER(LEFT(TEXT(AU14,"jjj"))),"") -> J | AU14: =AU13+1 -> 44476 | AY14: =IF(AZ14<>"",UPPER(LEFT(TEXT(AZ14,"jjj"))),"") -> D | AZ14: =AZ13+1 -> 44507 | BD14: =IF(BE14<>"",UPPER(LEFT(TEXT(BE14,"jjj"))),"") -> M | BE14: =BE13+1 -> 44537
A15: =IF(B15<>"",UPPER(LEFT(TEXT(B15,"jjj"))),"") -> V | B15: =B14+1 -> 44204 | F15: =IF(G15<>"",UPPER(LEFT(TEXT(G15,"jjj"))),"") -> L | G15: =G14+1 -> 44235 | K15: =IF(L15<>"",UPPER(LEFT(TEXT(L15,"jjj"))),"") -> L | L15: =L14+1 -> 44263 | P15: =IF(Q15<>"",UPPER(LEFT(TEXT(Q15,"jjj"))),"") -> J | Q15: =Q14+1 -> 44294 | U15: =IF(V15<>"",UPPER(LEFT(TEXT(V15,"jjj"))),"") -> S | V15: =V14+1 -> 44324 | Z15: =IF(AA15<>"",UPPER(LEFT(TEXT(AA15,"jjj"))),"") -> M | AA15: =AA14+1 -> 44355 | AE15: =IF(AF15<>"",UPPER(LEFT(TEXT(AF15,"jjj"))),"") -> J | AF15: =AF14+1 -> 44385 | AJ15: =IF(AK15<>"",UPPER(LEFT(TEXT(AK15,"jjj"))),"") -> D | AK15: =AK14+1 -> 44416 | AO15: =IF(AP15<>"",UPPER(LEFT(TEXT(AP15,"jjj"))),"") -> M | AP15: =AP14+1 -> 44447 | AT15: =IF(AU15<>"",UPPER(LEFT(TEXT(AU15,"jjj"))),"") -> V | AU15: =AU14+1 -> 44477 | AY15: =IF(AZ15<>"",UPPER(LEFT(TEXT(AZ15,"jjj"))),"") -> L | AZ15: =AZ14+1 -> 44508 | BD15: =IF(BE15<>"",UPPER(LEFT(TEXT(BE15,"jjj"))),"") -> M | BE15: =BE14+1 -> 44538
A16: =IF(B16<>"",UPPER(LEFT(TEXT(B16,"jjj"))),"") -> S | B16: =B15+1 -> 44205 | F16: =IF(G16<>"",UPPER(LEFT(TEXT(G16,"jjj"))),"") -> M | G16: =G15+1 -> 44236 | K16: =IF(L16<>"",UPPER(LEFT(TEXT(L16,"jjj"))),"") -> M | L16: =L15+1 -> 44264 | P16: =IF(Q16<>"",UPPER(LEFT(TEXT(Q16,"jjj"))),"") -> V | Q16: =Q15+1 -> 44295 | U16: =IF(V16<>"",UPPER(LEFT(TEXT(V16,"jjj"))),"") -> D | V16: =V15+1 -> 44325 | Z16: =IF(AA16<>"",UPPER(LEFT(TEXT(AA16,"jjj"))),"") -> M | AA16: =AA15+1 -> 44356 | AE16: =IF(AF16<>"",UPPER(LEFT(TEXT(AF16,"jjj"))),"") -> V | AF16: =AF15+1 -> 44386 | AJ16: =IF(AK16<>"",UPPER(LEFT(TEXT(AK16,"jjj"))),"") -> L | AK16: =AK15+1 -> 44417 | AO16: =IF(AP16<>"",UPPER(LEFT(TEXT(AP16,"jjj"))),"") -> J | AP16: =AP15+1 -> 44448 | AT16: =IF(AU16<>"",UPPER(LEFT(TEXT(AU16,"jjj"))),"") -> S | AU16: =AU15+1 -> 44478 | AY16: =IF(AZ16<>"",UPPER(LEFT(TEXT(AZ16,"jjj"))),"") -> M | AZ16: =AZ15+1 -> 44509 | BD16: =IF(BE16<>"",UPPER(LEFT(TEXT(BE16,"jjj"))),"") -> J | BE16: =BE15+1 -> 44539
A17: =IF(B17<>"",UPPER(LEFT(TEXT(B17,"jjj"))),"") -> D | B17: =B16+1 -> 44206 | F17: =IF(G17<>"",UPPER(LEFT(TEXT(G17,"jjj"))),"") -> M | G17: =G16+1 -> 44237 | K17: =IF(L17<>"",UPPER(LEFT(TEXT(L17,"jjj"))),"") -> M | L17: =L16+1 -> 44265 | P17: =IF(Q17<>"",UPPER(LEFT(TEXT(Q17,"jjj"))),"") -> S | Q17: =Q16+1 -> 44296 | U17: =IF(V17<>"",UPPER(LEFT(TEXT(V17,"jjj"))),"") -> L | V17: =V16+1 -> 44326 | Z17: =IF(AA17<>"",UPPER(LEFT(TEXT(AA17,"jjj"))),"") -> J | AA17: =AA16+1 -> 44357 | AE17: =IF(AF17<>"",UPPER(LEFT(TEXT(AF17,"jjj"))),"") -> S | AF17: =AF16+1 -> 44387 | AJ17: =IF(AK17<>"",UPPER(LEFT(TEXT(AK17,"jjj"))),"") -> M | AK17: =AK16+1 -> 44418 | AO17: =IF(AP17<>"",UPPER(LEFT(TEXT(AP17,"jjj"))),"") -> V | AP17: =AP16+1 -> 44449 | AT17: =IF(AU17<>"",UPPER(LEFT(TEXT(AU17,"jjj"))),"") -> D | AU17: =AU16+1 -> 44479 | AY17: =IF(AZ17<>"",UPPER(LEFT(TEXT(AZ17,"jjj"))),"") -> M | AZ17: =AZ16+1 -> 44510 | BD17: =IF(BE17<>"",UPPER(LEFT(TEXT(BE17,"jjj"))),"") -> V | BE17: =BE16+1 -> 44540
A18: =IF(B18<>"",UPPER(LEFT(TEXT(B18,"jjj"))),"") -> L | B18: =B17+1 -> 44207 | F18: =IF(G18<>"",UPPER(LEFT(TEXT(G18,"jjj"))),"") -> J | G18: =G17+1 -> 44238 | K18: =IF(L18<>"",UPPER(LEFT(TEXT(L18,"jjj"))),"") -> J | L18: =L17+1 -> 44266 | P18: =IF(Q18<>"",UPPER(LEFT(TEXT(Q18,"jjj"))),"") -> D | Q18: =Q17+1 -> 44297 | U18: =IF(V18<>"",UPPER(LEFT(TEXT(V18,"jjj"))),"") -> M | V18: =V17+1 -> 44327 | Z18: =IF(AA18<>"",UPPER(LEFT(TEXT(AA18,"jjj"))),"") -> V | AA18: =AA17+1 -> 44358 | AE18: =IF(AF18<>"",UPPER(LEFT(TEXT(AF18,"jjj"))),"") -> D | AF18: =AF17+1 -> 44388 | AJ18: =IF(AK18<>"",UPPER(LEFT(TEXT(AK18,"jjj"))),"") -> M | AK18: =AK17+1 -> 44419 | AO18: =IF(AP18<>"",UPPER(LEFT(TEXT(AP18,"jjj"))),"") -> S | AP18: =AP17+1 -> 44450 | AT18: =IF(AU18<>"",UPPER(LEFT(TEXT(AU18,"jjj"))),"") -> L | AU18: =AU17+1 -> 44480 | AY18: =IF(AZ18<>"",UPPER(LEFT(TEXT(AZ18,"jjj"))),"") -> J | AZ18: =AZ17+1 -> 44511 | BD18: =IF(BE18<>"",UPPER(LEFT(TEXT(BE18,"jjj"))),"") -> S | BE18: =BE17+1 -> 44541
A19: =IF(B19<>"",UPPER(LEFT(TEXT(B19,"jjj"))),"") -> M | B19: =B18+1 -> 44208 | F19: =IF(G19<>"",UPPER(LEFT(TEXT(G19,"jjj"))),"") -> V | G19: =G18+1 -> 44239 | K19: =IF(L19<>"",UPPER(LEFT(TEXT(L19,"jjj"))),"") -> V | L19: =L18+1 -> 44267 | P19: =IF(Q19<>"",UPPER(LEFT(TEXT(Q19,"jjj"))),"") -> L | Q19: =Q18+1 -> 44298 | U19: =IF(V19<>"",UPPER(LEFT(TEXT(V19,"jjj"))),"") -> M | V19: =V18+1 -> 44328 | Z19: =IF(AA19<>"",UPPER(LEFT(TEXT(AA19,"jjj"))),"") -> S | AA19: =AA18+1 -> 44359 | AE19: =IF(AF19<>"",UPPER(LEFT(TEXT(AF19,"jjj"))),"") -> L | AF19: =AF18+1 -> 44389 | AJ19: =IF(AK19<>"",UPPER(LEFT(TEXT(AK19,"jjj"))),"") -> J | AK19: =AK18+1 -> 44420 | AO19: =IF(AP19<>"",UPPER(LEFT(TEXT(AP19,"jjj"))),"") -> D | AP19: =AP18+1 -> 44451 | AT19: =IF(AU19<>"",UPPER(LEFT(TEXT(AU19,"jjj"))),"") -> M | AU19: =AU18+1 -> 44481 | AY19: =IF(AZ19<>"",UPPER(LEFT(TEXT(AZ19,"jjj"))),"") -> V | AZ19: =AZ18+1 -> 44512 | BD19: =IF(BE19<>"",UPPER(LEFT(TEXT(BE19,"jjj"))),"") -> D | BE19: =BE18+1 -> 44542
A20: =IF(B20<>"",UPPER(LEFT(TEXT(B20,"jjj"))),"") -> M | B20: =B19+1 -> 44209 | F20: =IF(G20<>"",UPPER(LEFT(TEXT(G20,"jjj"))),"") -> S | G20: =G19+1 -> 44240 | K20: =IF(L20<>"",UPPER(LEFT(TEXT(L20,"jjj"))),"") -> S | L20: =L19+1 -> 44268 | P20: =IF(Q20<>"",UPPER(LEFT(TEXT(Q20,"jjj"))),"") -> M | Q20: =Q19+1 -> 44299 | U20: =IF(V20<>"",UPPER(LEFT(TEXT(V20,"jjj"))),"") -> J | V20: =V19+1 -> 44329 | Z20: =IF(AA20<>"",UPPER(LEFT(TEXT(AA20,"jjj"))),"") -> D | AA20: =AA19+1 -> 44360 | AE20: =IF(AF20<>"",UPPER(LEFT(TEXT(AF20,"jjj"))),"") -> M | AF20: =AF19+1 -> 44390 | AJ20: =IF(AK20<>"",UPPER(LEFT(TEXT(AK20,"jjj"))),"") -> V | AK20: =AK19+1 -> 44421 | AO20: =IF(AP20<>"",UPPER(LEFT(TEXT(AP20,"jjj"))),"") -> L | AP20: =AP19+1 -> 44452 | AT20: =IF(AU20<>"",UPPER(LEFT(TEXT(AU20,"jjj"))),"") -> M | AU20: =AU19+1 -> 44482 | AY20: =IF(AZ20<>"",UPPER(LEFT(TEXT(AZ20,"jjj"))),"") -> S | AZ20: =AZ19+1 -> 44513 | BD20: =IF(BE20<>"",UPPER(LEFT(TEXT(BE20,"jjj"))),"") -> L | BE20: =BE19+1 -> 44543
A21: =IF(B21<>"",UPPER(LEFT(TEXT(B21,"jjj"))),"") -> J | B21: =B20+1 -> 44210 | F21: =IF(G21<>"",UPPER(LEFT(TEXT(G21,"jjj"))),"") -> D | G21: =G20+1 -> 44241 | K21: =IF(L21<>"",UPPER(LEFT(TEXT(L21,"jjj"))),"") -> D | L21: =L20+1 -> 44269 | P21: =IF(Q21<>"",UPPER(LEFT(TEXT(Q21,"jjj"))),"") -> M | Q21: =Q20+1 -> 44300 | U21: =IF(V21<>"",UPPER(LEFT(TEXT(V21,"jjj"))),"") -> V | V21: =V20+1 -> 44330 | Z21: =IF(AA21<>"",UPPER(LEFT(TEXT(AA21,"jjj"))),"") -> L | AA21: =AA20+1 -> 44361 | AE21: =IF(AF21<>"",UPPER(LEFT(TEXT(AF21,"jjj"))),"") -> M | AF21: =AF20+1 -> 44391 | AJ21: =IF(AK21<>"",UPPER(LEFT(TEXT(AK21,"jjj"))),"") -> S | AK21: =AK20+1 -> 44422 | AO21: =IF(AP21<>"",UPPER(LEFT(TEXT(AP21,"jjj"))),"") -> M | AP21: =AP20+1 -> 44453 | AT21: =IF(AU21<>"",UPPER(LEFT(TEXT(AU21,"jjj"))),"") -> J | AU21: =AU20+1 -> 44483 | AY21: =IF(AZ21<>"",UPPER(LEFT(TEXT(AZ21,"jjj"))),"") -> D | AZ21: =AZ20+1 -> 44514 | BD21: =IF(BE21<>"",UPPER(LEFT(TEXT(BE21,"jjj"))),"") -> M | BE21: =BE20+1 -> 44544
A22: =IF(B22<>"",UPPER(LEFT(TEXT(B22,"jjj"))),"") -> V | B22: =B21+1 -> 44211 | F22: =IF(G22<>"",UPPER(LEFT(TEXT(G22,"jjj"))),"") -> L | G22: =G21+1 -> 44242 | K22: =IF(L22<>"",UPPER(LEFT(TEXT(L22,"jjj"))),"") -> L | L22: =L21+1 -> 44270 | P22: =IF(Q22<>"",UPPER(LEFT(TEXT(Q22,"jjj"))),"") -> J | Q22: =Q21+1 -> 44301 | U22: =IF(V22<>"",UPPER(LEFT(TEXT(V22,"jjj"))),"") -> S | V22: =V21+1 -> 44331 | Z22: =IF(AA22<>"",UPPER(LEFT(TEXT(AA22,"jjj"))),"") -> M | AA22: =AA21+1 -> 44362 | AE22: =IF(AF22<>"",UPPER(LEFT(TEXT(AF22,"jjj"))),"") -> J | AF22: =AF21+1 -> 44392 | AJ22: =IF(AK22<>"",UPPER(LEFT(TEXT(AK22,"jjj"))),"") -> D | AK22: =AK21+1 -> 44423 | AO22: =IF(AP22<>"",UPPER(LEFT(TEXT(AP22,"jjj"))),"") -> M | AP22: =AP21+1 -> 44454 | AT22: =IF(AU22<>"",UPPER(LEFT(TEXT(AU22,"jjj"))),"") -> V | AU22: =AU21+1 -> 44484 | AY22: =IF(AZ22<>"",UPPER(LEFT(TEXT(AZ22,"jjj"))),"") -> L | AZ22: =AZ21+1 -> 44515 | BD22: =IF(BE22<>"",UPPER(LEFT(TEXT(BE22,"jjj"))),"") -> M | BE22: =BE21+1 -> 44545
A23: =IF(B23<>"",UPPER(LEFT(TEXT(B23,"jjj"))),"") -> S | B23: =B22+1 -> 44212 | F23: =IF(G23<>"",UPPER(LEFT(TEXT(G23,"jjj"))),"") -> M | G23: =G22+1 -> 44243 | K23: =IF(L23<>"",UPPER(LEFT(TEXT(L23,"jjj"))),"") -> M | L23: =L22+1 -> 44271 | P23: =IF(Q23<>"",UPPER(LEFT(TEXT(Q23,"jjj"))),"") -> V | Q23: =Q22+1 -> 44302 | U23: =IF(V23<>"",UPPER(LEFT(TEXT(V23,"jjj"))),"") -> D | V23: =V22+1 -> 44332 | Z23: =IF(AA23<>"",UPPER(LEFT(TEXT(AA23,"jjj"))),"") -> M | AA23: =AA22+1 -> 44363 | AE23: =IF(AF23<>"",UPPER(LEFT(TEXT(AF23,"jjj"))),"") -> V | AF23: =AF22+1 -> 44393 | AJ23: =IF(AK23<>"",UPPER(LEFT(TEXT(AK23,"jjj"))),"") -> L | AK23: =AK22+1 -> 44424 | AO23: =IF(AP23<>"",UPPER(LEFT(TEXT(AP23,"jjj"))),"") -> J | AP23: =AP22+1 -> 44455 | AT23: =IF(AU23<>"",UPPER(LEFT(TEXT(AU23,"jjj"))),"") -> S | AU23: =AU22+1 -> 44485 | AY23: =IF(AZ23<>"",UPPER(LEFT(TEXT(AZ23,"jjj"))),"") -> M | AZ23: =AZ22+1 -> 44516 | BD23: =IF(BE23<>"",UPPER(LEFT(TEXT(BE23,"jjj"))),"") -> J | BE23: =BE22+1 -> 44546
A24: =IF(B24<>"",UPPER(LEFT(TEXT(B24,"jjj"))),"") -> D | B24: =B23+1 -> 44213 | F24: =IF(G24<>"",UPPER(LEFT(TEXT(G24,"jjj"))),"") -> M | G24: =G23+1 -> 44244 | K24: =IF(L24<>"",UPPER(LEFT(TEXT(L24,"jjj"))),"") -> M | L24: =L23+1 -> 44272 | P24: =IF(Q24<>"",UPPER(LEFT(TEXT(Q24,"jjj"))),"") -> S | Q24: =Q23+1 -> 44303 | U24: =IF(V24<>"",UPPER(LEFT(TEXT(V24,"jjj"))),"") -> L | V24: =V23+1 -> 44333 | Z24: =IF(AA24<>"",UPPER(LEFT(TEXT(AA24,"jjj"))),"") -> J | AA24: =AA23+1 -> 44364 | AE24: =IF(AF24<>"",UPPER(LEFT(TEXT(AF24,"jjj"))),"") -> S | AF24: =AF23+1 -> 44394 | AJ24: =IF(AK24<>"",UPPER(LEFT(TEXT(AK24,"jjj"))),"") -> M | AK24: =AK23+1 -> 44425 | AO24: =IF(AP24<>"",UPPER(LEFT(TEXT(AP24,"jjj"))),"") -> V | AP24: =AP23+1 -> 44456 | AT24: =IF(AU24<>"",UPPER(LEFT(TEXT(AU24,"jjj"))),"") -> D | AU24: =AU23+1 -> 44486 | AY24: =IF(AZ24<>"",UPPER(LEFT(TEXT(AZ24,"jjj"))),"") -> M | AZ24: =AZ23+1 -> 44517 | BD24: =IF(BE24<>"",UPPER(LEFT(TEXT(BE24,"jjj"))),"") -> V | BE24: =BE23+1 -> 44547
A25: =IF(B25<>"",UPPER(LEFT(TEXT(B25,"jjj"))),"") -> L | B25: =B24+1 -> 44214 | F25: =IF(G25<>"",UPPER(LEFT(TEXT(G25,"jjj"))),"") -> J | G25: =G24+1 -> 44245 | K25: =IF(L25<>"",UPPER(LEFT(TEXT(L25,"jjj"))),"") -> J | L25: =L24+1 -> 44273 | P25: =IF(Q25<>"",UPPER(LEFT(TEXT(Q25,"jjj"))),"") -> D | Q25: =Q24+1 -> 44304 | U25: =IF(V25<>"",UPPER(LEFT(TEXT(V25,"jjj"))),"") -> M | V25: =V24+1 -> 44334 | Z25: =IF(AA25<>"",UPPER(LEFT(TEXT(AA25,"jjj"))),"") -> V | AA25: =AA24+1 -> 44365 | AE25: =IF(AF25<>"",UPPER(LEFT(TEXT(AF25,"jjj"))),"") -> D | AF25: =AF24+1 -> 44395 | AJ25: =IF(AK25<>"",UPPER(LEFT(TEXT(AK25,"jjj"))),"") -> M | AK25: =AK24+1 -> 44426 | AO25: =IF(AP25<>"",UPPER(LEFT(TEXT(AP25,"jjj"))),"") -> S | AP25: =AP24+1 -> 44457 | AT25: =IF(AU25<>"",UPPER(LEFT(TEXT(AU25,"jjj"))),"") -> L | AU25: =AU24+1 -> 44487 | AY25: =IF(AZ25<>"",UPPER(LEFT(TEXT(AZ25,"jjj"))),"") -> J | AZ25: =AZ24+1 -> 44518 | BD25: =IF(BE25<>"",UPPER(LEFT(TEXT(BE25,"jjj"))),"") -> S | BE25: =BE24+1 -> 44548
... A35: =IF(B35<>"",UPPER(LEFT(TEXT(B35,"jjj"))),"") -> J | B35: =B34+1 -> 44224 | F35: =IF(G35<>"",UPPER(LEFT(TEXT(G35,"jjj"))),"") -> D | G35: =G34+1 -> 44255 | K35: =IF(L35<>"",UPPER(LEFT(TEXT(L35,"jjj"))),"") -> D | L35: =L34+1 -> 44283 | P35: =IF(Q35<>"",UPPER(LEFT(TEXT(Q35,"jjj"))),"") -> M | Q35: =Q34+1 -> 44314 | U35: =IF(V35<>"",UPPER(LEFT(TEXT(V35,"jjj"))),"") -> V | V35: =V34+1 -> 44344 | Z35: =IF(AA35<>"",UPPER(LEFT(TEXT(AA35,"jjj"))),"") -> L | AA35: =AA34+1 -> 44375 | AE35: =IF(AF35<>"",UPPER(LEFT(TEXT(AF35,"jjj"))),"") -> M | AF35: =AF34+1 -> 44405 | AJ35: =IF(AK35<>"",UPPER(LEFT(TEXT(AK35,"jjj"))),"") -> S | AK35: =AK34+1 -> 44436 | AO35: =IF(AP35<>"",UPPER(LEFT(TEXT(AP35,"jjj"))),"") -> M | AP35: =AP34+1 -> 44467 | AT35: =IF(AU35<>"",UPPER(LEFT(TEXT(AU35,"jjj"))),"") -> J | AU35: =AU34+1 -> 44497 | AY35: =IF(AZ35<>"",UPPER(LEFT(TEXT(AZ35,"jjj"))),"") -> D | AZ35: =AZ34+1 -> 44528 | BD35: =IF(BE35<>"",UPPER(LEFT(TEXT(BE35,"jjj"))),"") -> M | BE35: =BE34+1 -> 44558
A36: =IF(B36<>"",UPPER(LEFT(TEXT(B36,"jjj"))),"") -> V | B36: =IF(B35="","",IF(MONTH(B35+1)=MONTH(B8),B35+1,"")) -> 44225 | F36: =IF(G36<>"",UPPER(LEFT(TEXT(G36,"jjj"))),"") | G36: =IF(G35="","",IF(MONTH(G35+1)=MONTH(G8),G35+1,"")) | K36: =IF(L36<>"",UPPER(LEFT(TEXT(L36,"jjj"))),"") -> L | L36: =IF(L35="","",IF(MONTH(L35+1)=MONTH(L8),L35+1,"")) -> 44284 | P36: =IF(Q36<>"",UPPER(LEFT(TEXT(Q36,"jjj"))),"") -> J | Q36: =IF(Q35="","",IF(MONTH(Q35+1)=MONTH(Q8),Q35+1,"")) -> 44315 | U36: =IF(V36<>"",UPPER(LEFT(TEXT(V36,"jjj"))),"") -> S | V36: =IF(V35="","",IF(MONTH(V35+1)=MONTH(V8),V35+1,"")) -> 44345 | Z36: =IF(AA36<>"",UPPER(LEFT(TEXT(AA36,"jjj"))),"") -> M | AA36: =IF(AA35="","",IF(MONTH(AA35+1)=MONTH(AA8),AA35+1,"")) -> 44376 | AE36: =IF(AF36<>"",UPPER(LEFT(TEXT(AF36,"jjj"))),"") -> J | AF36: =IF(AF35="","",IF(MONTH(AF35+1)=MONTH(AF8),AF35+1,"")) -> 44406 | AJ36: =IF(AK36<>"",UPPER(LEFT(TEXT(AK36,"jjj"))),"") -> D | AK36: =IF(AK35="","",IF(MONTH(AK35+1)=MONTH(AK8),AK35+1,"")) -> 44437 | AO36: =IF(AP36<>"",UPPER(LEFT(TEXT(AP36,"jjj"))),"") -> M | AP36: =IF(AP35="","",IF(MONTH(AP35+1)=MONTH(AP8),AP35+1,"")) -> 44468 | AT36: =IF(AU36<>"",UPPER(LEFT(TEXT(AU36,"jjj"))),"") -> V | AU36: =IF(AU35="","",IF(MONTH(AU35+1)=MONTH(AU8),AU35+1,"")) -> 44498 | AY36: =IF(AZ36<>"",UPPER(LEFT(TEXT(AZ36,"jjj"))),"") -> L | AZ36: =IF(AZ35="","",IF(MONTH(AZ35+1)=MONTH(AZ8),AZ35+1,"")) -> 44529 | BD36: =IF(BE36<>"",UPPER(LEFT(TEXT(BE36,"jjj"))),"") -> M | BE36: =IF(BE35="","",IF(MONTH(BE35+1)=MONTH(BE8),BE35+1,"")) -> 44559
A37: =IF(B37<>"",UPPER(LEFT(TEXT(B37,"jjj"))),"") -> S | B37: =IF(B36="","",IF(MONTH(B36+1)=MONTH(B9),B36+1,"")) -> 44226 | F37: =IF(G37<>"",UPPER(LEFT(TEXT(G37,"jjj"))),"") | G37: =IF(G36="","",IF(MONTH(G36+1)=MONTH(G9),G36+1,"")) | K37: =IF(L37<>"",UPPER(LEFT(TEXT(L37,"jjj"))),"") -> M | L37: =IF(L36="","",IF(MONTH(L36+1)=MONTH(L9),L36+1,"")) -> 44285 | P37: =IF(Q37<>"",UPPER(LEFT(TEXT(Q37,"jjj"))),"") -> V | Q37: =IF(Q36="","",IF(MONTH(Q36+1)=MONTH(Q9),Q36+1,"")) -> 44316 | U37: =IF(V37<>"",UPPER(LEFT(TEXT(V37,"jjj"))),"") -> D | V37: =IF(V36="","",IF(MONTH(V36+1)=MONTH(V9),V36+1,"")) -> 44346 | Z37: =IF(AA37<>"",UPPER(LEFT(TEXT(AA37,"jjj"))),"") -> M | AA37: =IF(AA36="","",IF(MONTH(AA36+1)=MONTH(AA9),AA36+1,"")) -> 44377 | AE37: =IF(AF37<>"",UPPER(LEFT(TEXT(AF37,"jjj"))),"") -> V | AF37: =IF(AF36="","",IF(MONTH(AF36+1)=MONTH(AF9),AF36+1,"")) -> 44407 | AJ37: =IF(AK37<>"",UPPER(LEFT(TEXT(AK37,"jjj"))),"") -> L | AK37: =IF(AK36="","",IF(MONTH(AK36+1)=MONTH(AK9),AK36+1,"")) -> 44438 | AO37: =IF(AP37<>"",UPPER(LEFT(TEXT(AP37,"jjj"))),"") -> J | AP37: =IF(AP36="","",IF(MONTH(AP36+1)=MONTH(AP9),AP36+1,"")) -> 44469 | AT37: =IF(AU37<>"",UPPER(LEFT(TEXT(AU37,"jjj"))),"") -> S | AU37: =IF(AU36="","",IF(MONTH(AU36+1)=MONTH(AU9),AU36+1,"")) -> 44499 | AY37: =IF(AZ37<>"",UPPER(LEFT(TEXT(AZ37,"jjj"))),"") -> M | AZ37: =IF(AZ36="","",IF(MONTH(AZ36+1)=MONTH(AZ9),AZ36+1,"")) -> 44530 | BD37: =IF(BE37<>"",UPPER(LEFT(TEXT(BE37,"jjj"))),"") -> J | BE37: =IF(BE36="","",IF(MONTH(BE36+1)=MONTH(BE9),BE36+1,"")) -> 44560
A38: =IF(B38<>"",UPPER(LEFT(TEXT(B38,"jjj"))),"") -> D | B38: =IF(B37="","",IF(MONTH(B37+1)=MONTH(B10),B37+1,"")) -> 44227 | F38: =IF(G38<>"",UPPER(LEFT(TEXT(G38,"jjj"))),"") | G38: =IF(G37="","",IF(MONTH(G37+1)=MONTH(G10),G37+1,"")) | K38: =IF(L38<>"",UPPER(LEFT(TEXT(L38,"jjj"))),"") -> M | L38: =IF(L37="","",IF(MONTH(L37+1)=MONTH(L10),L37+1,"")) -> 44286 | P38: =IF(Q38<>"",UPPER(LEFT(TEXT(Q38,"jjj"))),"") | Q38: =IF(Q37="","",IF(MONTH(Q37+1)=MONTH(Q10),Q37+1,"")) | U38: =IF(V38<>"",UPPER(LEFT(TEXT(V38,"jjj"))),"") -> L | V38: =IF(V37="","",IF(MONTH(V37+1)=MONTH(V10),V37+1,"")) -> 44347 | Z38: =IF(AA38<>"",UPPER(LEFT(TEXT(AA38,"jjj"))),"") | AA38: =IF(AA37="","",IF(MONTH(AA37+1)=MONTH(AA10),AA37+1,"")) | AE38: =IF(AF38<>"",UPPER(LEFT(TEXT(AF38,"jjj"))),"") -> S | AF38: =IF(AF37="","",IF(MONTH(AF37+1)=MONTH(AF10),AF37+1,"")) -> 44408 | AJ38: =IF(AK38<>"",UPPER(LEFT(TEXT(AK38,"jjj"))),"") -> M | AK38: =IF(AK37="","",IF(MONTH(AK37+1)=MONTH(AK10),AK37+1,"")) -> 44439 | AO38: =IF(AP38<>"",UPPER(LEFT(TEXT(AP38,"jjj"))),"") | AP38: =IF(AP37="","",IF(MONTH(AP37+1)=MONTH(AP10),AP37+1,"")) | AT38: =IF(AU38<>"",UPPER(LEFT(TEXT(AU38,"jjj"))),"") -> D | AU38: =IF(AU37="","",IF(MONTH(AU37+1)=MONTH(AU10),AU37+1,"")) -> 44500 | AY38: =IF(AZ38<>"",UPPER(LEFT(TEXT(AZ38,"jjj"))),"") | AZ38: =IF(AZ37="","",IF(MONTH(AZ37+1)=MONTH(AZ10),AZ37+1,"")) | BD38: =IF(BE38<>"",UPPER(LEFT(TEXT(BE38,"jjj"))),"") -> V | BE38: =IF(BE37="","",IF(MONTH(BE37+1)=MONTH(BE10),BE37+1,"")) -> 44561
B41: vacances scolaires | F41: CP dues | G41: 36 | H41: h dues | I41: 797
A42: CP | B42: Congés payés | F42: CP cal. | G42: =COUNTIF(A8:X38,A42) -> 0 | H42: h calend. | I42: =SUM(B39:X39) -> 0
A43: Z | B43: Journée à 0 heure | F43: écart | G43: =G41-G42 -> 36 | H43: écart | I43: =I41-I42 -> 797
F45: Jour Z | G45: =COUNTIF(A8:X38,A43) -> 0
A47: Durée annuelle : 1558h*19/35H*49S/52S=797H travaillées.
A48: Lundi & mardi : formation
A49: mercredi : 8h30 à 12h30 puis de 13h30 à 15h30 (6,00)
A50: Jeudi & vendredi : 8h30 à 12h30 puis de 13h30 à 17h00 (7,50)

Sheet Horaire hebdo
A1: nb | B1: jour | C1: h1 | D1: à | E1: h2 | F1: et de | G1: h3 | H1: à | I1: h4 | J1: et de | K1: h5 | L1: à | M1: h6 | N1: Total
A2: 1 | B2: D
A3: 2 | B3: L | C3: 0 | D3: à | E3: 0 | F3: et de | G3: 0 | H3: à | I3: 0 | J3: et de | N3: 1
A4: 3 | B4: M | C4: 0 | D4: à | E4: 0 | F4: et de | G4: 0 | H4: à | I4: 0 | J4: et de | N4: 2
A5: 4 | B5: Me | C5: 0 | D5: à | E5: 0 | F5: et de | G5: 0 | H5: à | I5: 0 | J5: et de | N5: 3
A6: 5 | B6: J | C6: 0 | D6: à | E6: 0 | F6: et de | G6: 0 | H6: à | I6: 0 | J6: et de | N6: 4
A7: 6 | B7: V | C7: 0 | D7: à | E7: 0 | F7: et de | G7: 0 | H7: à | I7: 0 | J7: et de | N7: 5
A8: 7 | B8: S | D8: à | F8: et de | H8: à | J8: et de
N9: =SUM(N3:N8) -> 15

Sheet A propos
A2: Fichier offert par :
A3: https://www.excel-pratique.com
A5: D'autres fichiers Excel sont disponibles en téléchargement ici :
A6: https://www.excel-pratique.com/fr/telechargements.php
A8: Partage du fichier autorisé uniquement en partageant ce lien :
A9: https://www.excel-pratique.com/fr/telechargements/calendriers/calendrier-perpetuel-excel-no392.php
