Workbook

Sheet FEULLE EXEMPLE 1
A1: REF | B1: EMP | C1: QTE
A2: PIERRE | B2: 2136 | C2: 12
A3: PIERRE | B3: 3212 | C3: 1
A4: PIERRE | B4: 4288 | C4: 0
A5: JEAN | B5: 5364 | C5: 9
A6: JEAN | B6: 6440 | C6: 152
A7: JEAN | B7: 7516 | C7: 13
A8: JEAN | B8: 8592 | C8: 21
A9: JEAN | B9: 9668 | C9: 21
A10: RICHARD | B10: 10744 | C10: 36
A11: ANAIS | B11: 11820 | C11: 153
A12: JEROME | B12: 12896 | C12: 52
A13: JEROME | B13: 13972 | C13: 55
... A21: LILI | B21: 22580 | C21: 25

Sheet FEUILLE EXEMPLE2
A1: REF | B1: QTE
A2: PIERRE | B2: 5
A3: JEAN | B3: 3
A4: RICHARD | B4: 1
A5: ANAIS | B5: 17
A6: JEROME | B6: 25
A7: ADRIEN | B7: 1
A8: ADAM | B8: 4
A9: ELEONORE | B9: 152
A10: =+'FEULLE EXEMPLE 1'!A18 -> MICKAEL | B10: 12
A11: =+'FEULLE EXEMPLE 1'!A19 -> EDDY | B11: 11
A12: =+'FEULLE EXEMPLE 1'!A20 -> RHINO | B12: 85
A13: =+'FEULLE EXEMPLE 1'!A21 -> LILI | B13: 14

Sheet FEUILLE EXEMPLE3
A1: REF | B1: QTE | C1: EMP | D1: QTE
A2: PIERRE | B2: 5 | C2: =+VLOOKUP('FEUILLE EXEMPLE2'!$A2,'FEULLE EXEMPLE 1'!A1:C21,2,FALSE) -> 2136 | D2: =+VLOOKUP('FEUILLE EXEMPLE2'!$A2,'FEULLE EXEMPLE 1'!A1:C21,3,FALSE) -> 12
A3: JEAN | B3: 3 | C3: =+VLOOKUP('FEUILLE EXEMPLE2'!$A3,'FEULLE EXEMPLE 1'!A2:C22,2,FALSE) -> 5364 | D3: =+VLOOKUP('FEUILLE EXEMPLE2'!$A3,'FEULLE EXEMPLE 1'!A2:C22,3,FALSE) -> 9
A4: RICHARD | B4: 1 | C4: =+VLOOKUP('FEUILLE EXEMPLE2'!$A4,'FEULLE EXEMPLE 1'!A3:C23,2,FALSE) -> 10744 | D4: =+VLOOKUP('FEUILLE EXEMPLE2'!$A4,'FEULLE EXEMPLE 1'!A3:C23,3,FALSE) -> 36
A5: ANAIS | B5: 17 | C5: =+VLOOKUP('FEUILLE EXEMPLE2'!$A5,'FEULLE EXEMPLE 1'!A4:C24,2,FALSE) -> 11820 | D5: =+VLOOKUP('FEUILLE EXEMPLE2'!$A5,'FEULLE EXEMPLE 1'!A4:C24,3,FALSE) -> 153
A6: JEROME | B6: 25 | C6: =+VLOOKUP('FEUILLE EXEMPLE2'!$A6,'FEULLE EXEMPLE 1'!A5:C25,2,FALSE) -> 12896 | D6: =+VLOOKUP('FEUILLE EXEMPLE2'!$A6,'FEULLE EXEMPLE 1'!A5:C25,3,FALSE) -> 52
A7: ADRIEN | B7: 1 | C7: =+VLOOKUP('FEUILLE EXEMPLE2'!$A7,'FEULLE EXEMPLE 1'!A6:C26,2,FALSE) -> 16124 | D7: =+VLOOKUP('FEUILLE EXEMPLE2'!$A7,'FEULLE EXEMPLE 1'!A6:C26,3,FALSE) -> 2
A8: ADAM | B8: 4 | C8: =+VLOOKUP('FEUILLE EXEMPLE2'!$A8,'FEULLE EXEMPLE 1'!A7:C27,2,FALSE) -> 17200 | D8: =+VLOOKUP('FEUILLE EXEMPLE2'!$A8,'FEULLE EXEMPLE 1'!A7:C27,3,FALSE) -> 9
A9: ELEONORE | B9: 152 | C9: =+VLOOKUP('FEUILLE EXEMPLE2'!$A9,'FEULLE EXEMPLE 1'!A8:C28,2,FALSE) -> 18276 | D9: =+VLOOKUP('FEUILLE EXEMPLE2'!$A9,'FEULLE EXEMPLE 1'!A8:C28,3,FALSE) -> 88
A10: =+'FEULLE EXEMPLE 1'!A18 -> MICKAEL | B10: 12 | C10: =+VLOOKUP('FEUILLE EXEMPLE2'!$A10,'FEULLE EXEMPLE 1'!A9:C29,2,FALSE) -> 19352 | D10: =+VLOOKUP('FEUILLE EXEMPLE2'!$A10,'FEULLE EXEMPLE 1'!A9:C29,3,FALSE) -> 25
A11: =+'FEULLE EXEMPLE 1'!A19 -> EDDY | B11: 11 | C11: =+VLOOKUP('FEUILLE EXEMPLE2'!$A11,'FEULLE EXEMPLE 1'!A10:C30,2,FALSE) -> 20428 | D11: =+VLOOKUP('FEUILLE EXEMPLE2'!$A11,'FEULLE EXEMPLE 1'!A10:C30,3,FALSE) -> 36
A12: =+'FEULLE EXEMPLE 1'!A20 -> RHINO | B12: 85 | C12: =+VLOOKUP('FEUILLE EXEMPLE2'!$A12,'FEULLE EXEMPLE 1'!A11:C31,2,FALSE) -> 21504 | D12: =+VLOOKUP('FEUILLE EXEMPLE2'!$A12,'FEULLE EXEMPLE 1'!A11:C31,3,FALSE) -> 98
A13: =+'FEULLE EXEMPLE 1'!A21 -> LILI | B13: 14 | C13: =+VLOOKUP('FEUILLE EXEMPLE2'!$A13,'FEULLE EXEMPLE 1'!A12:C32,2,FALSE) -> 22580 | D13: =+VLOOKUP('FEUILLE EXEMPLE2'!$A13,'FEULLE EXEMPLE 1'!A12:C32,3,FALSE) -> 25

Sheet FEUILLE ECEMPLE 4
A1: REF | B1: QTE | C1: EMP2 | D1: QTE | E1: EMP3 | F1: QTE | G1: EMP4 | H1: QTE | I1: EMP5 | J1: QTE | K1: EMP6
A2: PIERRE | B2: 12 | C2: 2136 | D2: 1 | E2: 3212 | F2: 0 | G2: 4288
A3: JEAN | B3: 9 | C3: =+'FEULLE EXEMPLE 1'!B5 -> 5364 | D3: 152 | E3: =+'FEULLE EXEMPLE 1'!B6 -> 6440 | F3: 13 | G3: =+'FEULLE EXEMPLE 1'!B7 -> 7516 | H3: 21 | I3: =+'FEULLE EXEMPLE 1'!B8 -> 8592 | J3: 21 | K3: =+'FEULLE EXEMPLE 1'!B9 -> 9668
A4: RICHARD | B4: 36 | C4: 10744
A5: ANAIS | B5: 153 | C5: 11820
A6: JEROME | B6: 52 | C6: =+'FEULLE EXEMPLE 1'!B12 -> 12896 | D6: 55 | E6: =+'FEULLE EXEMPLE 1'!B13 -> 13972 | F6: 70 | G6: =+'FEULLE EXEMPLE 1'!B14 -> 15048
A7: ADRIEN | B7: 2 | C7: 16124
A8: ADAM | B8: 9 | C8: 17200
A9: ELEONORE | B9: 88 | C9: 18276
A10: =+'FEULLE EXEMPLE 1'!A18 -> MICKAEL | B10: =+'FEULLE EXEMPLE 1'!C18 -> 25 | C10: =+'FEULLE EXEMPLE 1'!B18 -> 19352
A11: =+'FEULLE EXEMPLE 1'!A19 -> EDDY | B11: =+'FEULLE EXEMPLE 1'!C19 -> 36 | C11: =+'FEULLE EXEMPLE 1'!B19 -> 20428
A12: =+'FEULLE EXEMPLE 1'!A20 -> RHINO | B12: =+'FEULLE EXEMPLE 1'!C20 -> 98 | C12: =+'FEULLE EXEMPLE 1'!B20 -> 21504
A13: =+'FEULLE EXEMPLE 1'!A21 -> LILI | B13: =+'FEULLE EXEMPLE 1'!C21 -> 25 | C13: =+'FEULLE EXEMPLE 1'!B21 -> 22580
