Workbook

Sheet Réponses au formulaire 1
A1: Horodateur | B1: Adresse e-mail | C1: D'où vient la commande ? | D1: Genre 🙇‍♀️🙇‍♂️ | E1: Nom | F1: Prénom | G1: Date de naissance : 🎊 | H1: Numéro de téléphone 📞 | I1: Date de commande 🗓 | J1: Commande de bûches du 23/12 ❄ [L'atout chocolat ] | K1: Commande de bûches du 23/12 ❄ [Le café ] | L1: Commande de bûches du 23/12 ❄ [Le praliné ] | M1: Commande de bûches du 23/12 ❄ [La feuille d'automne ] | N1: Commande de bûches du 23/12 ❄ [Le kokolé ] | O1: Commande de bûches du 23/12 ❄ [L'ardéchoise ] | P1: Commande de bûches du 23/12 ❄ [La feuilletine ] | Q1: Commande de bûches du 23/12 ❄ [La Melba'buche ] | R1: Commande de bûches du 23/12 ❄ [La prestige ] | S1: Commande de bûches du 23/12 ❄ [La tout Schuss ] | T1: Commande de bûches du 23/12 ❄ [La vanille framboises] | U1: Commande de fours salés du 23/12 : | V1: Autres éléments 23/12 : | W1: Commande de bûches du 24/12 ❄ [L'atout chocolat ] | X1: Commande de bûches du 24/12 ❄ [Le café ] | Y1: Commande de bûches du 24/12 ❄ [Le praliné ] | Z1: Commande de bûches du 24/12 ❄ [La feuille d'automne ] | AA1: Commande de bûches du 24/12 ❄ [Le kokolé ] | AB1: Commande de bûches du 24/12 ❄ [L'ardéchoise ] | AC1: Commande de bûches du 24/12 ❄ [La feuilletine ] | AD1: Commande de bûches du 24/12 ❄ [La Melba'buche ] | AE1: Commande de bûches du 24/12 ❄ [La prestige ] | AF1: Commande de bûches du 24/12 ❄ [La tout Schuss ] | AG1: Commande de bûches du 24/12 ❄ [La vanille framboises] | AH1: Commande de fours salés du 24/12 : | AI1: Autres éléments 24/12 : | AJ1: Commande de bûches 25/12 ❄ [L'atout chocolat ] | AK1: Commande de bûches 25/12 ❄ [Le café ] | AL1: Commande de bûches 25/12 ❄ [Le praliné ] | AM1: Commande de bûches 25/12 ❄ [La feuille d'automne ] | AN1: Commande de bûches 25/12 ❄ [Le kokolé ] | AO1: Commande de bûches 25/12 ❄ [L'ardéchoise ] | AP1: Commande de bûches 25/12 ❄ [La feuilletine ] | AQ1: Commande de bûches 25/12 ❄ [La Melba'buche ] | AR1: Commande de bûches 25/12 ❄ [La prestige ] | AS1: Commande de bûches 25/12 ❄ [La tout Schuss ] | AT1: Commande de bûches 25/12 ❄ [La vanille framboises] | AU1: Commande de fours salés 25/12 : | AV1: Autres éléments 25/12 : | AW1: Heure de retrait ? (indicatif) ⏰ | AX1: Méthode de retrait : | AY1: Adresse postale ( Obligatoire si livraison à domicile) 📬 | AZ1: Méthode de paiement
A2: 44147.4 | B2: blegeais@yahoo.fr | C2: Téléphone | D2: Madame | E2: Dellerie | F2: Baptiste | G2: 09/02/1997 | H2: 0660035503 | I2: Jeudi 2⃣4⃣ décembre 2020 | W2: 4 personnes, 6 personnes, 8 personnes | X2: 4 personnes, 6 personnes | Y2: 4 personnes, 6 personnes | Z2: 6 personnes, 8 personnes | AA2: 4 personnes, 6 personnes, 8 personnes | AB2: 4 personnes, 6 personnes | AC2: 6 personnes, 8 personnes | AD2: 6 personnes, 8 personnes | AE2: 4 personnes | AF2: 4 personnes | AG2: 6 personnes, 8 personnes | AH2: 250 grammes, 375 grammes, 500 grammes | AW2: 0.38194444 | AX2: En magasin | AZ2: Non payée

Sheet Copie traitée du formulaire
A1: Horodateur | B1: Adresse e-mail | C1: D'où vient la commande ? | D1: Genre 🙇‍♀️🙇‍♂️ | E1: Nom | F1: Prénom | G1: Date de naissance : 🎊 | H1: Numéro de téléphone 📞 | I1: Date de commande 🗓 | J1: Commande de bûches du 23/12 ❄ [L'atout chocolat ] | K1: Atout Chocolat | L1: Commande de bûches du 23/12 ❄ [Le café ] | M1: Le Cafè | N1: Commande de bûches du 23/12 ❄ [Le praliné ] | O1: Le Praliné | P1: Commande de bûches du 23/12 ❄ [La feuille d'automne ] | Q1: La feuille d'automne | R1: Commande de bûches du 23/12 ❄ [Le kokolé ] | S1: Le kokolé | T1: Commande de bûches du 23/12 ❄ [L'ardéchoise ] | U1: L'ardéchoise | V1: Commande de bûches du 23/12 ❄ [La feuilletine ] | W1: La feuilletine | X1: Commande de bûches du 23/12 ❄ [La Melba'buche ] | Y1: La Melba'buche | Z1: Commande de bûches du 23/12 ❄ [La prestige ] | AA1: La prestige | AB1: Commande de bûches du 23/12 ❄ [La tout Schuss ] | AC1: La tout Schuss | AD1: Commande de bûches du 23/12 ❄ [La vanille framboises] | AE1: La vanille framboise | AF1: Commande de fours salés du 23/12 : | AG1: Fours salés : | AH1: Autres éléments 23/12 : | AI1: Commande de bûches du 24/12 ❄ [L'atout chocolat ] | AJ1: L'atout chocolat | AK1: Commande de bûches du 24/12 ❄ [Le café ] | AL1: Le cafè | AM1: Commande de bûches du 24/12 ❄ [Le praliné ] | AN1: Le praliné | AO1: Commande de bûches du 24/12 ❄ [La feuille d'automne ] | AP1: La feuille d'automne | AQ1: Commande de bûches du 24/12 ❄ [Le kokolé ] | AR1: Le kokolé | AS1: Commande de bûches du 24/12 ❄ [L'ardéchoise ] | AT1: L'ardéchoise | AU1: Commande de bûches du 24/12 ❄ [La feuilletine ] | AV1: La feuilletine | AW1: Commande de bûches du 24/12 ❄ [La Melba'buche ] | AX1: La Melba'Buche | AY1: Commande de bûches du 24/12 ❄ [La prestige ] | AZ1: La prestige | BA1: Commande de bûches du 24/12 ❄ [La tout Schuss ] | BB1: La tout Schuss | BC1: Commande de bûches du 24/12 ❄ [La vanille framboises] | BD1: La vanille framboises | BE1: Commande de fours salés du 24/12 : | BF1: Fours salés | BG1: Autres éléments 24/12 : | BH1: Commande de bûches 25/12 ❄ [L'atout chocolat ] | BI1: L'atout chocolat | BJ1: Commande de bûches 25/12 ❄ [Le café ] | BK1: Le café | BL1: Commande de bûches 25/12 ❄ [Le praliné ] | BM1: Le praliné | BN1: Commande de bûches 25/12 ❄ [La feuille d'automne ] | BO1: La feuille d'automne | BP1: Commande de bûches 25/12 ❄ [Le kokolé ] | BQ1: Le kokolé | BR1: Commande de bûches 25/12 ❄ [L'ardéchoise ] | BS1: L'ardéchoise | BT1: Commande de bûches 25/12 ❄ [La feuilletine ] | BU1: La feuilletine | BV1: Commande de bûches 25/12 ❄ [La Melba'buche ] | BW1: La Melba'buche | BX1: Commande de bûches 25/12 ❄ [La prestige ] | BY1: La prestige | BZ1: Commande de bûches 25/12 ❄ [La tout Schuss ] | CA1: La tout schuss | CB1: Commande de bûches 25/12 ❄ [La vanille framboises] | CC1: La vanille framboises | CD1: Commande de fours salés 25/12 : | CE1: Fours salés | CF1: Autres éléments 25/12 : | CG1: Heure de retrait ? (indicatif) ⏰ | CH1: Méthode de retrait : | CI1: Adresse postale ( Obligatoire si livraison à domicile) 📬 | CJ1: Méthode de paiement
A2: ='Réponses au formulaire 1'!A2 -> 44147.4 | B2: ='Réponses au formulaire 1'!B2 -> blegeais@yahoo.fr | C2: ='Réponses au formulaire 1'!C2 -> Téléphone | D2: ='Réponses au formulaire 1'!D2 -> Madame | E2: ='Réponses au formulaire 1'!E2 -> Dellerie | F2: ='Réponses au formulaire 1'!F2 -> Baptiste | G2: ='Réponses au formulaire 1'!G2 -> 09/02/1997 | H2: ='Réponses au formulaire 1'!H2 -> 0660035503 | ... J2: ='Réponses au formulaire 1'!J2 | K2: =LEFT(J2) | L2: ='Réponses au formulaire 1'!K2 | M2: =LEFT(L2) | N2: ='Réponses au formulaire 1'!L2 | O2: =LEFT(N2) | P2: ='Réponses au formulaire 1'!M2 | Q2: =LEFT(P2) | R2: ='Réponses au formulaire 1'!N2 | S2: =LEFT(R2) | T2: ='Réponses au formulaire 1'!O2 | U2: =LEFT(T2) | V2: ='Réponses au formulaire 1'!P2 | W2: =LEFT(V2) | X2: ='Réponses au formulaire 1'!Q2 | Y2: =LEFT(X2) | Z2: ='Réponses au formulaire 1'!R2 | AA2: =LEFT(Z2) | AB2: ='Réponses au formulaire 1'!S2 | AC2: =LEFT(AB2) | AD2: ='Réponses au formulaire 1'!T2 | AE2: =LEFT(AD2) | AF2: ='Réponses au formulaire 1'!U2 | AG2: =LEFT(AF2,3) | AH2: ='Réponses au formulaire 1'!V2 | AI2: ='Réponses au formulaire 1'!W2 -> 4 personnes, 6 personnes, 8 personnes | AJ2: =LEFT(AI2) -> 4 | AK2: ='Réponses au formulaire 1'!X2 -> 4 personnes, 6 personnes | AL2: =LEFT(AK2) -> 4 | AM2: ='Réponses au formulaire 1'!Y2 -> 4 personnes, 6 personnes | AN2: =LEFT(AM2) -> 4 | AO2: ='Réponses au formulaire 1'!Z2 -> 6 personnes, 8 personnes | AP2: =LEFT(AO2) -> 6 | AQ2: ='Réponses au formulaire 1'!AA2 -> 4 personnes, 6 personnes, 8 personnes | AR2: =LEFT(AQ2) -> 4 | AS2: ='Réponses au formulaire 1'!AB2 -> 4 personnes, 6 personnes | AT2: =LEFT(AS2) -> 4 | AU2: ='Réponses au formulaire 1'!AC2 -> 6 personnes, 8 personnes | AV2: =LEFT(AU2) -> 6 | AW2: ='Réponses au formulaire 1'!AD2 -> 6 personnes, 8 personnes | AX2: =LEFT(AW2) -> 6 | AY2: ='Réponses au formulaire 1'!AE2 -> 4 personnes | AZ2: =LEFT(AY2) -> 4 | BA2: ='Réponses au formulaire 1'!AF2 -> 4 personnes | BB2: =LEFT(BA2) -> 4 | BC2: ='Réponses au formulaire 1'!AG2 -> 6 personnes, 8 personnes | BD2: =LEFT(BC2) -> 6 | BE2: ='Réponses au formulaire 1'!AH2 -> 250 grammes, 375 grammes, 500 grammes | BF2: =LEFT(BE2,3) -> 250 | BG2: ='Réponses au formulaire 1'!AI2 | BH2: ='Réponses au formulaire 1'!AJ2 | BI2: =LEFT(BH2) | BJ2: ='Réponses au formulaire 1'!AK2 | BK2: =LEFT(BJ2) | BL2: ='Réponses au formulaire 1'!AL2 | BM2: =LEFT(BL2) | BN2: ='Réponses au formulaire 1'!AM2 | BO2: =LEFT(BN2) | BP2: ='Réponses au formulaire 1'!AN2 | BQ2: =LEFT(BP2) | BR2: ='Réponses au formulaire 1'!AO2 | BS2: =LEFT(BR2) | BT2: ='Réponses au formulaire 1'!AP2 | BU2: =LEFT(BT2) | BV2: ='Réponses au formulaire 1'!AQ2 | BW2: =LEFT(BV2) | BX2: ='Réponses au formulaire 1'!AR2 | BY2: =LEFT(BX2) | BZ2: ='Réponses au formulaire 1'!AS2 | CA2: =LEFT(BZ2) | CB2: ='Réponses au formulaire 1'!AT2 | CC2: =LEFT(CB2) | CD2: ='Réponses au formulaire 1'!AU2 | CE2: =LEFT(CD2,3) | CF2: ='Réponses au formulaire 1'!AV2 | CG2: ='Réponses au formulaire 1'!AW2 -> 0.38194444 | CH2: ='Réponses au formulaire 1'!AX2 -> En magasin | CI2: ='Réponses au formulaire 1'!AY2 | CJ2: ='Réponses au formulaire 1'!AZ2 -> Non payée
A3: ='Réponses au formulaire 1'!A3 | B3: ='Réponses au formulaire 1'!B3 | C3: ='Réponses au formulaire 1'!C3 | D3: ='Réponses au formulaire 1'!D3 | E3: ='Réponses au formulaire 1'!E3 | F3: ='Réponses au formulaire 1'!F3 | G3: ='Réponses au formulaire 1'!G3 | H3: ='Réponses au formulaire 1'!H3 | ... J3: ='Réponses au formulaire 1'!J3 | K3: =LEFT(J3) | L3: ='Réponses au formulaire 1'!K3 | M3: =LEFT(L3) | N3: ='Réponses au formulaire 1'!L3 | O3: =LEFT(N3) | P3: ='Réponses au formulaire 1'!M3 | Q3: =LEFT(P3) | R3: ='Réponses au formulaire 1'!N3 | S3: =LEFT(R3) | T3: ='Réponses au formulaire 1'!O3 | U3: =LEFT(T3) | V3: ='Réponses au formulaire 1'!P3 | W3: =LEFT(V3) | X3: ='Réponses au formulaire 1'!Q3 | Y3: =LEFT(X3) | Z3: ='Réponses au formulaire 1'!R3 | AA3: =LEFT(Z3) | AB3: ='Réponses au formulaire 1'!S3 | AC3: =LEFT(AB3) | AD3: ='Réponses au formulaire 1'!T3 | AE3: =LEFT(AD3) | AF3: ='Réponses au formulaire 1'!U3 | AG3: =LEFT(AF3,3) | AH3: ='Réponses au formulaire 1'!V3 | AI3: ='Réponses au formulaire 1'!W3 | AJ3: =LEFT(AI3) | AK3: ='Réponses au formulaire 1'!X3 | AL3: =LEFT(AK3) | AM3: ='Réponses au formulaire 1'!Y3 | AN3: =LEFT(AM3) | AO3: ='Réponses au formulaire 1'!Z3 | AP3: =LEFT(AO3) | AQ3: ='Réponses au formulaire 1'!AA3 | AR3: =LEFT(AQ3) | AS3: ='Réponses au formulaire 1'!AB3 | AT3: =LEFT(AS3) | AU3: ='Réponses au formulaire 1'!AC3 | AV3: =LEFT(AU3) | AW3: ='Réponses au formulaire 1'!AD3 | AX3: =LEFT(AW3) | AY3: ='Réponses au formulaire 1'!AE3 | AZ3: =LEFT(AY3) | BA3: ='Réponses au formulaire 1'!AF3 | BB3: =LEFT(BA3) | BC3: ='Réponses au formulaire 1'!AG3 | BD3: =LEFT(BC3) | BE3: ='Réponses au formulaire 1'!AH3 | BF3: =LEFT(BE3,3) | BG3: ='Réponses au formulaire 1'!AI3 | BH3: ='Réponses au formulaire 1'!AJ3 | BI3: =LEFT(BH3) | BJ3: ='Réponses au formulaire 1'!AK3 | BK3: =LEFT(BJ3) | BL3: ='Réponses au formulaire 1'!AL3 | BM3: =LEFT(BL3) | BN3: ='Réponses au formulaire 1'!AM3 | BO3: =LEFT(BN3) | BP3: ='Réponses au formulaire 1'!AN3 | BQ3: =LEFT(BP3) | BR3: ='Réponses au formulaire 1'!AO3 | BS3: =LEFT(BR3) | BT3: ='Réponses au formulaire 1'!AP3 | BU3: =LEFT(BT3) | BV3: ='Réponses au formulaire 1'!AQ3 | BW3: =LEFT(BV3) | BX3: ='Réponses au formulaire 1'!AR3 | BY3: =LEFT(BX3) | BZ3: ='Réponses au formulaire 1'!AS3 | CA3: =LEFT(BZ3) | CB3: ='Réponses au formulaire 1'!AT3 | CC3: =LEFT(CB3) | CD3: ='Réponses au formulaire 1'!AU3 | CE3: =LEFT(CD3,3) | CF3: ='Réponses au formulaire 1'!AV3 | CG3: ='Réponses au formulaire 1'!AW3 | CH3: ='Réponses au formulaire 1'!AX3 | CI3: ='Réponses au formulaire 1'!AY3 | CJ3: ='Réponses au formulaire 1'!AZ3
A4: ='Réponses au formulaire 1'!A4 | B4: ='Réponses au formulaire 1'!B4 | C4: ='Réponses au formulaire 1'!C4 | D4: ='Réponses au formulaire 1'!D4 | E4: ='Réponses au formulaire 1'!E4 | F4: ='Réponses au formulaire 1'!F4 | G4: ='Réponses au formulaire 1'!G4 | H4: ='Réponses au formulaire 1'!H4 | ... J4: ='Réponses au formulaire 1'!J4 | K4: =LEFT(J4) | L4: ='Réponses au formulaire 1'!K4 | M4: =LEFT(L4) | N4: ='Réponses au formulaire 1'!L4 | O4: =LEFT(N4) | P4: ='Réponses au formulaire 1'!M4 | Q4: =LEFT(P4) | R4: ='Réponses au formulaire 1'!N4 | S4: =LEFT(R4) | T4: ='Réponses au formulaire 1'!O4 | U4: =LEFT(T4) | V4: ='Réponses au formulaire 1'!P4 | W4: =LEFT(V4) | X4: ='Réponses au formulaire 1'!Q4 | Y4: =LEFT(X4) | Z4: ='Réponses au formulaire 1'!R4 | AA4: =LEFT(Z4) | AB4: ='Réponses au formulaire 1'!S4 | AC4: =LEFT(AB4) | AD4: ='Réponses au formulaire 1'!T4 | AE4: =LEFT(AD4) | AF4: ='Réponses au formulaire 1'!U4 | AG4: =LEFT(AF4,3) | AH4: ='Réponses au formulaire 1'!V4 | AI4: ='Réponses au formulaire 1'!W4 | AJ4: =LEFT(AI4) | AK4: ='Réponses au formulaire 1'!X4 | AL4: =LEFT(AK4) | AM4: ='Réponses au formulaire 1'!Y4 | AN4: =LEFT(AM4) | AO4: ='Réponses au formulaire 1'!Z4 | AP4: =LEFT(AO4) | AQ4: ='Réponses au formulaire 1'!AA4 | AR4: =LEFT(AQ4) | AS4: ='Réponses au formulaire 1'!AB4 | AT4: =LEFT(AS4) | AU4: ='Réponses au formulaire 1'!AC4 | AV4: =LEFT(AU4) | AW4: ='Réponses au formulaire 1'!AD4 | AX4: =LEFT(AW4) | AY4: ='Réponses au formulaire 1'!AE4 | AZ4: =LEFT(AY4) | BA4: ='Réponses au formulaire 1'!AF4 | BB4: =LEFT(BA4) | BC4: ='Réponses au formulaire 1'!AG4 | BD4: =LEFT(BC4) | BE4: ='Réponses au formulaire 1'!AH4 | BF4: =LEFT(BE4,3) | BG4: ='Réponses au formulaire 1'!AI4 | BH4: ='Réponses au formulaire 1'!AJ4 | BI4: =LEFT(BH4) | BJ4: ='Réponses au formulaire 1'!AK4 | BK4: =LEFT(BJ4) | BL4: ='Réponses au formulaire 1'!AL4 | BM4: =LEFT(BL4) | BN4: ='Réponses au formulaire 1'!AM4 | BO4: =LEFT(BN4) | BP4: ='Réponses au formulaire 1'!AN4 | BQ4: =LEFT(BP4) | BR4: ='Réponses au formulaire 1'!AO4 | BS4: =LEFT(BR4) | BT4: ='Réponses au formulaire 1'!AP4 | BU4: =LEFT(BT4) | BV4: ='Réponses au formulaire 1'!AQ4 | BW4: =LEFT(BV4) | BX4: ='Réponses au formulaire 1'!AR4 | BY4: =LEFT(BX4) | BZ4: ='Réponses au formulaire 1'!AS4 | CA4: =LEFT(BZ4) | CB4: ='Réponses au formulaire 1'!AT4 | CC4: =LEFT(CB4) | CD4: ='Réponses au formulaire 1'!AU4 | CE4: =LEFT(CD4,3) | CF4: ='Réponses au formulaire 1'!AV4 | CG4: ='Réponses au formulaire 1'!AW4 | CH4: ='Réponses au formulaire 1'!AX4 | CI4: ='Réponses au formulaire 1'!AY4 | CJ4: ='Réponses au formulaire 1'!AZ4
A5: ='Réponses au formulaire 1'!A5 | B5: ='Réponses au formulaire 1'!B5 | C5: ='Réponses au formulaire 1'!C5 | D5: ='Réponses au formulaire 1'!D5 | E5: ='Réponses au formulaire 1'!E5 | F5: ='Réponses au formulaire 1'!F5 | G5: ='Réponses au formulaire 1'!G5 | H5: ='Réponses au formulaire 1'!H5 | ... J5: ='Réponses au formulaire 1'!J5 | K5: =LEFT(J5) | L5: ='Réponses au formulaire 1'!K5 | M5: =LEFT(L5) | N5: ='Réponses au formulaire 1'!L5 | O5: =LEFT(N5) | P5: ='Réponses au formulaire 1'!M5 | Q5: =LEFT(P5) | R5: ='Réponses au formulaire 1'!N5 | S5: =LEFT(R5) | T5: ='Réponses au formulaire 1'!O5 | U5: =LEFT(T5) | V5: ='Réponses au formulaire 1'!P5 | W5: =LEFT(V5) | X5: ='Réponses au formulaire 1'!Q5 | Y5: =LEFT(X5) | Z5: ='Réponses au formulaire 1'!R5 | AA5: =LEFT(Z5) | AB5: ='Réponses au formulaire 1'!S5 | AC5: =LEFT(AB5) | AD5: ='Réponses au formulaire 1'!T5 | AE5: =LEFT(AD5) | AF5: ='Réponses au formulaire 1'!U5 | AG5: =LEFT(AF5,3) | AH5: ='Réponses au formulaire 1'!V5 | AI5: ='Réponses au formulaire 1'!W5 | AJ5: =LEFT(AI5) | AK5: ='Réponses au formulaire 1'!X5 | AL5: =LEFT(AK5) | AM5: ='Réponses au formulaire 1'!Y5 | AN5: =LEFT(AM5) | AO5: ='Réponses au formulaire 1'!Z5 | AP5: =LEFT(AO5) | AQ5: ='Réponses au formulaire 1'!AA5 | AR5: =LEFT(AQ5) | AS5: ='Réponses au formulaire 1'!AB5 | AT5: =LEFT(AS5) | AU5: ='Réponses au formulaire 1'!AC5 | AV5: =LEFT(AU5) | AW5: ='Réponses au formulaire 1'!AD5 | AX5: =LEFT(AW5) | AY5: ='Réponses au formulaire 1'!AE5 | AZ5: =LEFT(AY5) | BA5: ='Réponses au formulaire 1'!AF5 | BB5: =LEFT(BA5) | BC5: ='Réponses au formulaire 1'!AG5 | BD5: =LEFT(BC5) | BE5: ='Réponses au formulaire 1'!AH5 | BF5: =LEFT(BE5,3) | BG5: ='Réponses au formulaire 1'!AI5 | BH5: ='Réponses au formulaire 1'!AJ5 | BI5: =LEFT(BH5) | BJ5: ='Réponses au formulaire 1'!AK5 | BK5: =LEFT(BJ5) | BL5: ='Réponses au formulaire 1'!AL5 | BM5: =LEFT(BL5) | BN5: ='Réponses au formulaire 1'!AM5 | BO5: =LEFT(BN5) | BP5: ='Réponses au formulaire 1'!AN5 | BQ5: =LEFT(BP5) | BR5: ='Réponses au formulaire 1'!AO5 | BS5: =LEFT(BR5) | BT5: ='Réponses au formulaire 1'!AP5 | BU5: =LEFT(BT5) | BV5: ='Réponses au formulaire 1'!AQ5 | BW5: =LEFT(BV5) | BX5: ='Réponses au formulaire 1'!AR5 | BY5: =LEFT(BX5) | BZ5: ='Réponses au formulaire 1'!AS5 | CA5: =LEFT(BZ5) | CB5: ='Réponses au formulaire 1'!AT5 | CC5: =LEFT(CB5) | CD5: ='Réponses au formulaire 1'!AU5 | CE5: =LEFT(CD5,3) | CF5: ='Réponses au formulaire 1'!AV5 | CG5: ='Réponses au formulaire 1'!AW5 | CH5: ='Réponses au formulaire 1'!AX5 | CI5: ='Réponses au formulaire 1'!AY5 | CJ5: ='Réponses au formulaire 1'!AZ5
A6: ='Réponses au formulaire 1'!A6 | B6: ='Réponses au formulaire 1'!B6 | C6: ='Réponses au formulaire 1'!C6 | D6: ='Réponses au formulaire 1'!D6 | E6: ='Réponses au formulaire 1'!E6 | F6: ='Réponses au formulaire 1'!F6 | G6: ='Réponses au formulaire 1'!G6 | H6: ='Réponses au formulaire 1'!H6 | ... J6: ='Réponses au formulaire 1'!J6 | K6: =LEFT(J6) | L6: ='Réponses au formulaire 1'!K6 | M6: =LEFT(L6) | N6: ='Réponses au formulaire 1'!L6 | O6: =LEFT(N6) | P6: ='Réponses au formulaire 1'!M6 | Q6: =LEFT(P6) | R6: ='Réponses au formulaire 1'!N6 | S6: =LEFT(R6) | T6: ='Réponses au formulaire 1'!O6 | U6: =LEFT(T6) | V6: ='Réponses au formulaire 1'!P6 | W6: =LEFT(V6) | X6: ='Réponses au formulaire 1'!Q6 | Y6: =LEFT(X6) | Z6: ='Réponses au formulaire 1'!R6 | AA6: =LEFT(Z6) | AB6: ='Réponses au formulaire 1'!S6 | AC6: =LEFT(AB6) | AD6: ='Réponses au formulaire 1'!T6 | AE6: =LEFT(AD6) | AF6: ='Réponses au formulaire 1'!U6 | AG6: =LEFT(AF6,3) | AH6: ='Réponses au formulaire 1'!V6 | AI6: ='Réponses au formulaire 1'!W6 | AJ6: =LEFT(AI6) | AK6: ='Réponses au formulaire 1'!X6 | AL6: =LEFT(AK6) | AM6: ='Réponses au formulaire 1'!Y6 | AN6: =LEFT(AM6) | AO6: ='Réponses au formulaire 1'!Z6 | AP6: =LEFT(AO6) | AQ6: ='Réponses au formulaire 1'!AA6 | AR6: =LEFT(AQ6) | AS6: ='Réponses au formulaire 1'!AB6 | AT6: =LEFT(AS6) | AU6: ='Réponses au formulaire 1'!AC6 | AV6: =LEFT(AU6) | AW6: ='Réponses au formulaire 1'!AD6 | AX6: =LEFT(AW6) | AY6: ='Réponses au formulaire 1'!AE6 | AZ6: =LEFT(AY6) | BA6: ='Réponses au formulaire 1'!AF6 | BB6: =LEFT(BA6) | BC6: ='Réponses au formulaire 1'!AG6 | BD6: =LEFT(BC6) | BE6: ='Réponses au formulaire 1'!AH6 | BF6: =LEFT(BE6,3) | BG6: ='Réponses au formulaire 1'!AI6 | BH6: ='Réponses au formulaire 1'!AJ6 | BI6: =LEFT(BH6) | BJ6: ='Réponses au formulaire 1'!AK6 | BK6: =LEFT(BJ6) | BL6: ='Réponses au formulaire 1'!AL6 | BM6: =LEFT(BL6) | BN6: ='Réponses au formulaire 1'!AM6 | BO6: =LEFT(BN6) | BP6: ='Réponses au formulaire 1'!AN6 | BQ6: =LEFT(BP6) | BR6: ='Réponses au formulaire 1'!AO6 | BS6: =LEFT(BR6) | BT6: ='Réponses au formulaire 1'!AP6 | BU6: =LEFT(BT6) | BV6: ='Réponses au formulaire 1'!AQ6 | BW6: =LEFT(BV6) | BX6: ='Réponses au formulaire 1'!AR6 | BY6: =LEFT(BX6) | BZ6: ='Réponses au formulaire 1'!AS6 | CA6: =LEFT(BZ6) | CB6: ='Réponses au formulaire 1'!AT6 | CC6: =LEFT(CB6) | CD6: ='Réponses au formulaire 1'!AU6 | CE6: =LEFT(CD6,3) | CF6: ='Réponses au formulaire 1'!AV6 | CG6: ='Réponses au formulaire 1'!AW6 | CH6: ='Réponses au formulaire 1'!AX6 | CI6: ='Réponses au formulaire 1'!AY6 | CJ6: ='Réponses au formulaire 1'!AZ6
A7: ='Réponses au formulaire 1'!A7 | B7: ='Réponses au formulaire 1'!B7 | C7: ='Réponses au formulaire 1'!C7 | D7: ='Réponses au formulaire 1'!D7 | E7: ='Réponses au formulaire 1'!E7 | F7: ='Réponses au formulaire 1'!F7 | G7: ='Réponses au formulaire 1'!G7 | H7: ='Réponses au formulaire 1'!H7 | ... J7: ='Réponses au formulaire 1'!J7 | K7: =LEFT(J7) | L7: ='Réponses au formulaire 1'!K7 | M7: =LEFT(L7) | N7: ='Réponses au formulaire 1'!L7 | O7: =LEFT(N7) | P7: ='Réponses au formulaire 1'!M7 | Q7: =LEFT(P7) | R7: ='Réponses au formulaire 1'!N7 | S7: =LEFT(R7) | T7: ='Réponses au formulaire 1'!O7 | U7: =LEFT(T7) | V7: ='Réponses au formulaire 1'!P7 | W7: =LEFT(V7) | X7: ='Réponses au formulaire 1'!Q7 | Y7: =LEFT(X7) | Z7: ='Réponses au formulaire 1'!R7 | AA7: =LEFT(Z7) | AB7: ='Réponses au formulaire 1'!S7 | AC7: =LEFT(AB7) | AD7: ='Réponses au formulaire 1'!T7 | AE7: =LEFT(AD7) | AF7: ='Réponses au formulaire 1'!U7 | AG7: =LEFT(AF7,3) | AH7: ='Réponses au formulaire 1'!V7 | AI7: ='Réponses au formulaire 1'!W7 | AJ7: =LEFT(AI7) | AK7: ='Réponses au formulaire 1'!X7 | AL7: =LEFT(AK7) | AM7: ='Réponses au formulaire 1'!Y7 | AN7: =LEFT(AM7) | AO7: ='Réponses au formulaire 1'!Z7 | AP7: =LEFT(AO7) | AQ7: ='Réponses au formulaire 1'!AA7 | AR7: =LEFT(AQ7) | AS7: ='Réponses au formulaire 1'!AB7 | AT7: =LEFT(AS7) | AU7: ='Réponses au formulaire 1'!AC7 | AV7: =LEFT(AU7) | AW7: ='Réponses au formulaire 1'!AD7 | AX7: =LEFT(AW7) | AY7: ='Réponses au formulaire 1'!AE7 | AZ7: =LEFT(AY7) | BA7: ='Réponses au formulaire 1'!AF7 | BB7: =LEFT(BA7) | BC7: ='Réponses au formulaire 1'!AG7 | BD7: =LEFT(BC7) | BE7: ='Réponses au formulaire 1'!AH7 | BF7: =LEFT(BE7,3) | BG7: ='Réponses au formulaire 1'!AI7 | BH7: ='Réponses au formulaire 1'!AJ7 | BI7: =LEFT(BH7) | BJ7: ='Réponses au formulaire 1'!AK7 | BK7: =LEFT(BJ7) | BL7: ='Réponses au formulaire 1'!AL7 | BM7: =LEFT(BL7) | BN7: ='Réponses au formulaire 1'!AM7 | BO7: =LEFT(BN7) | BP7: ='Réponses au formulaire 1'!AN7 | BQ7: =LEFT(BP7) | BR7: ='Réponses au formulaire 1'!AO7 | BS7: =LEFT(BR7) | BT7: ='Réponses au formulaire 1'!AP7 | BU7: =LEFT(BT7) | BV7: ='Réponses au formulaire 1'!AQ7 | BW7: =LEFT(BV7) | BX7: ='Réponses au formulaire 1'!AR7 | BY7: =LEFT(BX7) | BZ7: ='Réponses au formulaire 1'!AS7 | CA7: =LEFT(BZ7) | CB7: ='Réponses au formulaire 1'!AT7 | CC7: =LEFT(CB7) | CD7: ='Réponses au formulaire 1'!AU7 | CE7: =LEFT(CD7,3) | CF7: ='Réponses au formulaire 1'!AV7 | CG7: ='Réponses au formulaire 1'!AW7 | CH7: ='Réponses au formulaire 1'!AX7 | CI7: ='Réponses au formulaire 1'!AY7 | CJ7: ='Réponses au formulaire 1'!AZ7
A8: ='Réponses au formulaire 1'!A8 | B8: ='Réponses au formulaire 1'!B8 | C8: ='Réponses au formulaire 1'!C8 | D8: ='Réponses au formulaire 1'!D8 | E8: ='Réponses au formulaire 1'!E8 | F8: ='Réponses au formulaire 1'!F8 | G8: ='Réponses au formulaire 1'!G8 | H8: ='Réponses au formulaire 1'!H8 | ... J8: ='Réponses au formulaire 1'!J8 | K8: =LEFT(J8) | L8: ='Réponses au formulaire 1'!K8 | M8: =LEFT(L8) | N8: ='Réponses au formulaire 1'!L8 | O8: =LEFT(N8) | P8: ='Réponses au formulaire 1'!M8 | Q8: =LEFT(P8) | R8: ='Réponses au formulaire 1'!N8 | S8: =LEFT(R8) | T8: ='Réponses au formulaire 1'!O8 | U8: =LEFT(T8) | V8: ='Réponses au formulaire 1'!P8 | W8: =LEFT(V8) | X8: ='Réponses au formulaire 1'!Q8 | Y8: =LEFT(X8) | Z8: ='Réponses au formulaire 1'!R8 | AA8: =LEFT(Z8) | AB8: ='Réponses au formulaire 1'!S8 | AC8: =LEFT(AB8) | AD8: ='Réponses au formulaire 1'!T8 | AE8: =LEFT(AD8) | AF8: ='Réponses au formulaire 1'!U8 | AG8: =LEFT(AF8,3) | AH8: ='Réponses au formulaire 1'!V8 | AI8: ='Réponses au formulaire 1'!W8 | AJ8: =LEFT(AI8) | AK8: ='Réponses au formulaire 1'!X8 | AL8: =LEFT(AK8) | AM8: ='Réponses au formulaire 1'!Y8 | AN8: =LEFT(AM8) | AO8: ='Réponses au formulaire 1'!Z8 | AP8: =LEFT(AO8) | AQ8: ='Réponses au formulaire 1'!AA8 | AR8: =LEFT(AQ8) | AS8: ='Réponses au formulaire 1'!AB8 | AT8: =LEFT(AS8) | AU8: ='Réponses au formulaire 1'!AC8 | AV8: =LEFT(AU8) | AW8: ='Réponses au formulaire 1'!AD8 | AX8: =LEFT(AW8) | AY8: ='Réponses au formulaire 1'!AE8 | AZ8: =LEFT(AY8) | BA8: ='Réponses au formulaire 1'!AF8 | BB8: =LEFT(BA8) | BC8: ='Réponses au formulaire 1'!AG8 | BD8: =LEFT(BC8) | BE8: ='Réponses au formulaire 1'!AH8 | BF8: =LEFT(BE8,3) | BG8: ='Réponses au formulaire 1'!AI8 | BH8: ='Réponses au formulaire 1'!AJ8 | BI8: =LEFT(BH8) | BJ8: ='Réponses au formulaire 1'!AK8 | BK8: =LEFT(BJ8) | BL8: ='Réponses au formulaire 1'!AL8 | BM8: =LEFT(BL8) | BN8: ='Réponses au formulaire 1'!AM8 | BO8: =LEFT(BN8) | BP8: ='Réponses au formulaire 1'!AN8 | BQ8: =LEFT(BP8) | BR8: ='Réponses au formulaire 1'!AO8 | BS8: =LEFT(BR8) | BT8: ='Réponses au formulaire 1'!AP8 | BU8: =LEFT(BT8) | BV8: ='Réponses au formulaire 1'!AQ8 | BW8: =LEFT(BV8) | BX8: ='Réponses au formulaire 1'!AR8 | BY8: =LEFT(BX8) | BZ8: ='Réponses au formulaire 1'!AS8 | CA8: =LEFT(BZ8) | CB8: ='Réponses au formulaire 1'!AT8 | CC8: =LEFT(CB8) | CD8: ='Réponses au formulaire 1'!AU8 | CE8: =LEFT(CD8,3) | CF8: ='Réponses au formulaire 1'!AV8 | CG8: ='Réponses au formulaire 1'!AW8 | CH8: ='Réponses au formulaire 1'!AX8 | CI8: ='Réponses au formulaire 1'!AY8 | CJ8: ='Réponses au formulaire 1'!AZ8
A9: ='Réponses au formulaire 1'!A9 | B9: ='Réponses au formulaire 1'!B9 | C9: ='Réponses au formulaire 1'!C9 | D9: ='Réponses au formulaire 1'!D9 | E9: ='Réponses au formulaire 1'!E9 | F9: ='Réponses au formulaire 1'!F9 | G9: ='Réponses au formulaire 1'!G9 | H9: ='Réponses au formulaire 1'!H9 | ... J9: ='Réponses au formulaire 1'!J9 | K9: =LEFT(J9) | L9: ='Réponses au formulaire 1'!K9 | M9: =LEFT(L9) | N9: ='Réponses au formulaire 1'!L9 | O9: =LEFT(N9) | P9: ='Réponses au formulaire 1'!M9 | Q9: =LEFT(P9) | R9: ='Réponses au formulaire 1'!N9 | S9: =LEFT(R9) | T9: ='Réponses au formulaire 1'!O9 | U9: =LEFT(T9) | V9: ='Réponses au formulaire 1'!P9 | W9: =LEFT(V9) | X9: ='Réponses au formulaire 1'!Q9 | Y9: =LEFT(X9) | Z9: ='Réponses au formulaire 1'!R9 | AA9: =LEFT(Z9) | AB9: ='Réponses au formulaire 1'!S9 | AC9: =LEFT(AB9) | AD9: ='Réponses au formulaire 1'!T9 | AE9: =LEFT(AD9) | AF9: ='Réponses au formulaire 1'!U9 | AG9: =LEFT(AF9,3) | AH9: ='Réponses au formulaire 1'!V9 | AI9: ='Réponses au formulaire 1'!W9 | AJ9: =LEFT(AI9) | AK9: ='Réponses au formulaire 1'!X9 | AL9: =LEFT(AK9) | AM9: ='Réponses au formulaire 1'!Y9 | AN9: =LEFT(AM9) | AO9: ='Réponses au formulaire 1'!Z9 | AP9: =LEFT(AO9) | AQ9: ='Réponses au formulaire 1'!AA9 | AR9: =LEFT(AQ9) | AS9: ='Réponses au formulaire 1'!AB9 | AT9: =LEFT(AS9) | AU9: ='Réponses au formulaire 1'!AC9 | AV9: =LEFT(AU9) | AW9: ='Réponses au formulaire 1'!AD9 | AX9: =LEFT(AW9) | AY9: ='Réponses au formulaire 1'!AE9 | AZ9: =LEFT(AY9) | BA9: ='Réponses au formulaire 1'!AF9 | BB9: =LEFT(BA9) | BC9: ='Réponses au formulaire 1'!AG9 | BD9: =LEFT(BC9) | BE9: ='Réponses au formulaire 1'!AH9 | BF9: =LEFT(BE9,3) | BG9: ='Réponses au formulaire 1'!AI9 | BH9: ='Réponses au formulaire 1'!AJ9 | BI9: =LEFT(BH9) | BJ9: ='Réponses au formulaire 1'!AK9 | BK9: =LEFT(BJ9) | BL9: ='Réponses au formulaire 1'!AL9 | BM9: =LEFT(BL9) | BN9: ='Réponses au formulaire 1'!AM9 | BO9: =LEFT(BN9) | BP9: ='Réponses au formulaire 1'!AN9 | BQ9: =LEFT(BP9) | BR9: ='Réponses au formulaire 1'!AO9 | BS9: =LEFT(BR9) | BT9: ='Réponses au formulaire 1'!AP9 | BU9: =LEFT(BT9) | BV9: ='Réponses au formulaire 1'!AQ9 | BW9: =LEFT(BV9) | BX9: ='Réponses au formulaire 1'!AR9 | BY9: =LEFT(BX9) | BZ9: ='Réponses au formulaire 1'!AS9 | CA9: =LEFT(BZ9) | CB9: ='Réponses au formulaire 1'!AT9 | CC9: =LEFT(CB9) | CD9: ='Réponses au formulaire 1'!AU9 | CE9: =LEFT(CD9,3) | CF9: ='Réponses au formulaire 1'!AV9 | CG9: ='Réponses au formulaire 1'!AW9 | CH9: ='Réponses au formulaire 1'!AX9 | CI9: ='Réponses au formulaire 1'!AY9 | CJ9: ='Réponses au formulaire 1'!AZ9
A10: ='Réponses au formulaire 1'!A10 | B10: ='Réponses au formulaire 1'!B10 | C10: ='Réponses au formulaire 1'!C10 | D10: ='Réponses au formulaire 1'!D10 | E10: ='Réponses au formulaire 1'!E10 | F10: ='Réponses au formulaire 1'!F10 | G10: ='Réponses au formulaire 1'!G10 | H10: ='Réponses au formulaire 1'!H10 | ... J10: ='Réponses au formulaire 1'!J10 | K10: =LEFT(J10) | L10: ='Réponses au formulaire 1'!K10 | M10: =LEFT(L10) | N10: ='Réponses au formulaire 1'!L10 | O10: =LEFT(N10) | P10: ='Réponses au formulaire 1'!M10 | Q10: =LEFT(P10) | R10: ='Réponses au formulaire 1'!N10 | S10: =LEFT(R10) | T10: ='Réponses au formulaire 1'!O10 | U10: =LEFT(T10) | V10: ='Réponses au formulaire 1'!P10 | W10: =LEFT(V10) | X10: ='Réponses au formulaire 1'!Q10 | Y10: =LEFT(X10) | Z10: ='Réponses au formulaire 1'!R10 | AA10: =LEFT(Z10) | AB10: ='Réponses au formulaire 1'!S10 | AC10: =LEFT(AB10) | AD10: ='Réponses au formulaire 1'!T10 | AE10: =LEFT(AD10) | AF10: ='Réponses au formulaire 1'!U10 | AG10: =LEFT(AF10,3) | AH10: ='Réponses au formulaire 1'!V10 | AI10: ='Réponses au formulaire 1'!W10 | AJ10: =LEFT(AI10) | AK10: ='Réponses au formulaire 1'!X10 | AL10: =LEFT(AK10) | AM10: ='Réponses au formulaire 1'!Y10 | AN10: =LEFT(AM10) | AO10: ='Réponses au formulaire 1'!Z10 | AP10: =LEFT(AO10) | AQ10: ='Réponses au formulaire 1'!AA10 | AR10: =LEFT(AQ10) | AS10: ='Réponses au formulaire 1'!AB10 | AT10: =LEFT(AS10) | AU10: ='Réponses au formulaire 1'!AC10 | AV10: =LEFT(AU10) | AW10: ='Réponses au formulaire 1'!AD10 | AX10: =LEFT(AW10) | AY10: ='Réponses au formulaire 1'!AE10 | AZ10: =LEFT(AY10) | BA10: ='Réponses au formulaire 1'!AF10 | BB10: =LEFT(BA10) | BC10: ='Réponses au formulaire 1'!AG10 | BD10: =LEFT(BC10) | BE10: ='Réponses au formulaire 1'!AH10 | BF10: =LEFT(BE10,3) | BG10: ='Réponses au formulaire 1'!AI10 | BH10: ='Réponses au formulaire 1'!AJ10 | BI10: =LEFT(BH10) | BJ10: ='Réponses au formulaire 1'!AK10 | BK10: =LEFT(BJ10) | BL10: ='Réponses au formulaire 1'!AL10 | BM10: =LEFT(BL10) | BN10: ='Réponses au formulaire 1'!AM10 | BO10: =LEFT(BN10) | BP10: ='Réponses au formulaire 1'!AN10 | BQ10: =LEFT(BP10) | BR10: ='Réponses au formulaire 1'!AO10 | BS10: =LEFT(BR10) | BT10: ='Réponses au formulaire 1'!AP10 | BU10: =LEFT(BT10) | BV10: ='Réponses au formulaire 1'!AQ10 | BW10: =LEFT(BV10) | BX10: ='Réponses au formulaire 1'!AR10 | BY10: =LEFT(BX10) | BZ10: ='Réponses au formulaire 1'!AS10 | CA10: =LEFT(BZ10) | CB10: ='Réponses au formulaire 1'!AT10 | CC10: =LEFT(CB10) | CD10: ='Réponses au formulaire 1'!AU10 | CE10: =LEFT(CD10,3) | CF10: ='Réponses au formulaire 1'!AV10 | CG10: ='Réponses au formulaire 1'!AW10 | CH10: ='Réponses au formulaire 1'!AX10 | CI10: ='Réponses au formulaire 1'!AY10 | CJ10: ='Réponses au formulaire 1'!AZ10
A11: ='Réponses au formulaire 1'!A11 | B11: ='Réponses au formulaire 1'!B11 | C11: ='Réponses au formulaire 1'!C11 | D11: ='Réponses au formulaire 1'!D11 | E11: ='Réponses au formulaire 1'!E11 | F11: ='Réponses au formulaire 1'!F11 | G11: ='Réponses au formulaire 1'!G11 | H11: ='Réponses au formulaire 1'!H11 | ... J11: ='Réponses au formulaire 1'!J11 | K11: =LEFT(J11) | L11: ='Réponses au formulaire 1'!K11 | M11: =LEFT(L11) | N11: ='Réponses au formulaire 1'!L11 | O11: =LEFT(N11) | P11: ='Réponses au formulaire 1'!M11 | Q11: =LEFT(P11) | R11: ='Réponses au formulaire 1'!N11 | S11: =LEFT(R11) | T11: ='Réponses au formulaire 1'!O11 | U11: =LEFT(T11) | V11: ='Réponses au formulaire 1'!P11 | W11: =LEFT(V11) | X11: ='Réponses au formulaire 1'!Q11 | Y11: =LEFT(X11) | Z11: ='Réponses au formulaire 1'!R11 | AA11: =LEFT(Z11) | AB11: ='Réponses au formulaire 1'!S11 | AC11: =LEFT(AB11) | AD11: ='Réponses au formulaire 1'!T11 | AE11: =LEFT(AD11) | AF11: ='Réponses au formulaire 1'!U11 | AG11: =LEFT(AF11,3) | AH11: ='Réponses au formulaire 1'!V11 | AI11: ='Réponses au formulaire 1'!W11 | AJ11: =LEFT(AI11) | AK11: ='Réponses au formulaire 1'!X11 | AL11: =LEFT(AK11) | AM11: ='Réponses au formulaire 1'!Y11 | AN11: =LEFT(AM11) | AO11: ='Réponses au formulaire 1'!Z11 | AP11: =LEFT(AO11) | AQ11: ='Réponses au formulaire 1'!AA11 | AR11: =LEFT(AQ11) | AS11: ='Réponses au formulaire 1'!AB11 | AT11: =LEFT(AS11) | AU11: ='Réponses au formulaire 1'!AC11 | AV11: =LEFT(AU11) | AW11: ='Réponses au formulaire 1'!AD11 | AX11: =LEFT(AW11) | AY11: ='Réponses au formulaire 1'!AE11 | AZ11: =LEFT(AY11) | BA11: ='Réponses au formulaire 1'!AF11 | BB11: =LEFT(BA11) | BC11: ='Réponses au formulaire 1'!AG11 | BD11: =LEFT(BC11) | BE11: ='Réponses au formulaire 1'!AH11 | BF11: =LEFT(BE11,3) | BG11: ='Réponses au formulaire 1'!AI11 | BH11: ='Réponses au formulaire 1'!AJ11 | BI11: =LEFT(BH11) | BJ11: ='Réponses au formulaire 1'!AK11 | BK11: =LEFT(BJ11) | BL11: ='Réponses au formulaire 1'!AL11 | BM11: =LEFT(BL11) | BN11: ='Réponses au formulaire 1'!AM11 | BO11: =LEFT(BN11) | BP11: ='Réponses au formulaire 1'!AN11 | BQ11: =LEFT(BP11) | BR11: ='Réponses au formulaire 1'!AO11 | BS11: =LEFT(BR11) | BT11: ='Réponses au formulaire 1'!AP11 | BU11: =LEFT(BT11) | BV11: ='Réponses au formulaire 1'!AQ11 | BW11: =LEFT(BV11) | BX11: ='Réponses au formulaire 1'!AR11 | BY11: =LEFT(BX11) | BZ11: ='Réponses au formulaire 1'!AS11 | CA11: =LEFT(BZ11) | CB11: ='Réponses au formulaire 1'!AT11 | CC11: =LEFT(CB11) | CD11: ='Réponses au formulaire 1'!AU11 | CE11: =LEFT(CD11,3) | CF11: ='Réponses au formulaire 1'!AV11 | CG11: ='Réponses au formulaire 1'!AW11 | CH11: ='Réponses au formulaire 1'!AX11 | CI11: ='Réponses au formulaire 1'!AY11 | CJ11: ='Réponses au formulaire 1'!AZ11
A12: ='Réponses au formulaire 1'!A12 | B12: ='Réponses au formulaire 1'!B12 | C12: ='Réponses au formulaire 1'!C12 | D12: ='Réponses au formulaire 1'!D12 | E12: ='Réponses au formulaire 1'!E12 | F12: ='Réponses au formulaire 1'!F12 | G12: ='Réponses au formulaire 1'!G12 | H12: ='Réponses au formulaire 1'!H12 | ... J12: ='Réponses au formulaire 1'!J12 | K12: =LEFT(J12) | L12: ='Réponses au formulaire 1'!K12 | M12: =LEFT(L12) | N12: ='Réponses au formulaire 1'!L12 | O12: =LEFT(N12) | P12: ='Réponses au formulaire 1'!M12 | Q12: =LEFT(P12) | R12: ='Réponses au formulaire 1'!N12 | S12: =LEFT(R12) | T12: ='Réponses au formulaire 1'!O12 | U12: =LEFT(T12) | V12: ='Réponses au formulaire 1'!P12 | W12: =LEFT(V12) | X12: ='Réponses au formulaire 1'!Q12 | Y12: =LEFT(X12) | Z12: ='Réponses au formulaire 1'!R12 | AA12: =LEFT(Z12) | AB12: ='Réponses au formulaire 1'!S12 | AC12: =LEFT(AB12) | AD12: ='Réponses au formulaire 1'!T12 | AE12: =LEFT(AD12) | AF12: ='Réponses au formulaire 1'!U12 | AG12: =LEFT(AF12,3) | AH12: ='Réponses au formulaire 1'!V12 | AI12: ='Réponses au formulaire 1'!W12 | AJ12: =LEFT(AI12) | AK12: ='Réponses au formulaire 1'!X12 | AL12: =LEFT(AK12) | AM12: ='Réponses au formulaire 1'!Y12 | AN12: =LEFT(AM12) | AO12: ='Réponses au formulaire 1'!Z12 | AP12: =LEFT(AO12) | AQ12: ='Réponses au formulaire 1'!AA12 | AR12: =LEFT(AQ12) | AS12: ='Réponses au formulaire 1'!AB12 | AT12: =LEFT(AS12) | AU12: ='Réponses au formulaire 1'!AC12 | AV12: =LEFT(AU12) | AW12: ='Réponses au formulaire 1'!AD12 | AX12: =LEFT(AW12) | AY12: ='Réponses au formulaire 1'!AE12 | AZ12: =LEFT(AY12) | BA12: ='Réponses au formulaire 1'!AF12 | BB12: =LEFT(BA12) | BC12: ='Réponses au formulaire 1'!AG12 | BD12: =LEFT(BC12) | BE12: ='Réponses au formulaire 1'!AH12 | BF12: =LEFT(BE12,3) | BG12: ='Réponses au formulaire 1'!AI12 | BH12: ='Réponses au formulaire 1'!AJ12 | BI12: =LEFT(BH12) | BJ12: ='Réponses au formulaire 1'!AK12 | BK12: =LEFT(BJ12) | BL12: ='Réponses au formulaire 1'!AL12 | BM12: =LEFT(BL12) | BN12: ='Réponses au formulaire 1'!AM12 | BO12: =LEFT(BN12) | BP12: ='Réponses au formulaire 1'!AN12 | BQ12: =LEFT(BP12) | BR12: ='Réponses au formulaire 1'!AO12 | BS12: =LEFT(BR12) | BT12: ='Réponses au formulaire 1'!AP12 | BU12: =LEFT(BT12) | BV12: ='Réponses au formulaire 1'!AQ12 | BW12: =LEFT(BV12) | BX12: ='Réponses au formulaire 1'!AR12 | BY12: =LEFT(BX12) | BZ12: ='Réponses au formulaire 1'!AS12 | CA12: =LEFT(BZ12) | CB12: ='Réponses au formulaire 1'!AT12 | CC12: =LEFT(CB12) | CD12: ='Réponses au formulaire 1'!AU12 | CE12: =LEFT(CD12,3) | CF12: ='Réponses au formulaire 1'!AV12 | CG12: ='Réponses au formulaire 1'!AW12 | CH12: ='Réponses au formulaire 1'!AX12 | CI12: ='Réponses au formulaire 1'!AY12 | CJ12: ='Réponses au formulaire 1'!AZ12
A13: ='Réponses au formulaire 1'!A13 | B13: ='Réponses au formulaire 1'!B13 | C13: ='Réponses au formulaire 1'!C13 | D13: ='Réponses au formulaire 1'!D13 | E13: ='Réponses au formulaire 1'!E13 | F13: ='Réponses au formulaire 1'!F13 | G13: ='Réponses au formulaire 1'!G13 | H13: ='Réponses au formulaire 1'!H13 | ... J13: ='Réponses au formulaire 1'!J13 | K13: =LEFT(J13) | L13: ='Réponses au formulaire 1'!K13 | M13: =LEFT(L13) | N13: ='Réponses au formulaire 1'!L13 | O13: =LEFT(N13) | P13: ='Réponses au formulaire 1'!M13 | Q13: =LEFT(P13) | R13: ='Réponses au formulaire 1'!N13 | S13: =LEFT(R13) | T13: ='Réponses au formulaire 1'!O13 | U13: =LEFT(T13) | V13: ='Réponses au formulaire 1'!P13 | W13: =LEFT(V13) | X13: ='Réponses au formulaire 1'!Q13 | Y13: =LEFT(X13) | Z13: ='Réponses au formulaire 1'!R13 | AA13: =LEFT(Z13) | AB13: ='Réponses au formulaire 1'!S13 | AC13: =LEFT(AB13) | AD13: ='Réponses au formulaire 1'!T13 | AE13: =LEFT(AD13) | AF13: ='Réponses au formulaire 1'!U13 | AG13: =LEFT(AF13,3) | AH13: ='Réponses au formulaire 1'!V13 | AI13: ='Réponses au formulaire 1'!W13 | AJ13: =LEFT(AI13) | AK13: ='Réponses au formulaire 1'!X13 | AL13: =LEFT(AK13) | AM13: ='Réponses au formulaire 1'!Y13 | AN13: =LEFT(AM13) | AO13: ='Réponses au formulaire 1'!Z13 | AP13: =LEFT(AO13) | AQ13: ='Réponses au formulaire 1'!AA13 | AR13: =LEFT(AQ13) | AS13: ='Réponses au formulaire 1'!AB13 | AT13: =LEFT(AS13) | AU13: ='Réponses au formulaire 1'!AC13 | AV13: =LEFT(AU13) | AW13: ='Réponses au formulaire 1'!AD13 | AX13: =LEFT(AW13) | AY13: ='Réponses au formulaire 1'!AE13 | AZ13: =LEFT(AY13) | BA13: ='Réponses au formulaire 1'!AF13 | BB13: =LEFT(BA13) | BC13: ='Réponses au formulaire 1'!AG13 | BD13: =LEFT(BC13) | BE13: ='Réponses au formulaire 1'!AH13 | BF13: =LEFT(BE13,3) | BG13: ='Réponses au formulaire 1'!AI13 | BH13: ='Réponses au formulaire 1'!AJ13 | BI13: =LEFT(BH13) | BJ13: ='Réponses au formulaire 1'!AK13 | BK13: =LEFT(BJ13) | BL13: ='Réponses au formulaire 1'!AL13 | BM13: =LEFT(BL13) | BN13: ='Réponses au formulaire 1'!AM13 | BO13: =LEFT(BN13) | BP13: ='Réponses au formulaire 1'!AN13 | BQ13: =LEFT(BP13) | BR13: ='Réponses au formulaire 1'!AO13 | BS13: =LEFT(BR13) | BT13: ='Réponses au formulaire 1'!AP13 | BU13: =LEFT(BT13) | BV13: ='Réponses au formulaire 1'!AQ13 | BW13: =LEFT(BV13) | BX13: ='Réponses au formulaire 1'!AR13 | BY13: =LEFT(BX13) | BZ13: ='Réponses au formulaire 1'!AS13 | CA13: =LEFT(BZ13) | CB13: ='Réponses au formulaire 1'!AT13 | CC13: =LEFT(CB13) | CD13: ='Réponses au formulaire 1'!AU13 | CE13: =LEFT(CD13,3) | CF13: ='Réponses au formulaire 1'!AV13 | CG13: ='Réponses au formulaire 1'!AW13 | CH13: ='Réponses au formulaire 1'!AX13 | CI13: ='Réponses au formulaire 1'!AY13 | CJ13: ='Réponses au formulaire 1'!AZ13
... A200: ='Réponses au formulaire 1'!A200 | B200: ='Réponses au formulaire 1'!B200 | C200: ='Réponses au formulaire 1'!C200 | D200: ='Réponses au formulaire 1'!D200 | E200: ='Réponses au formulaire 1'!E200 | F200: ='Réponses au formulaire 1'!F200 | G200: ='Réponses au formulaire 1'!G200 | H200: ='Réponses au formulaire 1'!H200 | ... J200: ='Réponses au formulaire 1'!J200 | K200: =LEFT(J200) | L200: ='Réponses au formulaire 1'!K200 | M200: =LEFT(L200) | N200: ='Réponses au formulaire 1'!L200 | O200: =LEFT(N200) | P200: ='Réponses au formulaire 1'!M200 | Q200: =LEFT(P200) | R200: ='Réponses au formulaire 1'!N200 | S200: =LEFT(R200) | T200: ='Réponses au formulaire 1'!O200 | U200: =LEFT(T200) | V200: ='Réponses au formulaire 1'!P200 | W200: =LEFT(V200) | X200: ='Réponses au formulaire 1'!Q200 | Y200: =LEFT(X200) | Z200: ='Réponses au formulaire 1'!R200 | AA200: =LEFT(Z200) | AB200: ='Réponses au formulaire 1'!S200 | AC200: =LEFT(AB200) | AD200: ='Réponses au formulaire 1'!T200 | AE200: =LEFT(AD200) | AF200: ='Réponses au formulaire 1'!U200 | AG200: =LEFT(AF200,3) | AH200: ='Réponses au formulaire 1'!V200 | AI200: ='Réponses au formulaire 1'!W200 | AJ200: =LEFT(AI200) | AK200: ='Réponses au formulaire 1'!X200 | AL200: =LEFT(AK200) | AM200: ='Réponses au formulaire 1'!Y200 | AN200: =LEFT(AM200) | AO200: ='Réponses au formulaire 1'!Z200 | AP200: =LEFT(AO200) | AQ200: ='Réponses au formulaire 1'!AA200 | AR200: =LEFT(AQ200) | AS200: ='Réponses au formulaire 1'!AB200 | AT200: =LEFT(AS200) | AU200: ='Réponses au formulaire 1'!AC200 | AV200: =LEFT(AU200) | AW200: ='Réponses au formulaire 1'!AD200 | AX200: =LEFT(AW200) | AY200: ='Réponses au formulaire 1'!AE200 | AZ200: =LEFT(AY200) | BA200: ='Réponses au formulaire 1'!AF200 | BB200: =LEFT(BA200) | BC200: ='Réponses au formulaire 1'!AG200 | BD200: =LEFT(BC200) | BE200: ='Réponses au formulaire 1'!AH200 | BF200: =LEFT(BE200,3) | BG200: ='Réponses au formulaire 1'!AI200 | BH200: ='Réponses au formulaire 1'!AJ200 | BI200: =LEFT(BH200) | BJ200: ='Réponses au formulaire 1'!AK200 | BK200: =LEFT(BJ200) | BL200: ='Réponses au formulaire 1'!AL200 | BM200: =LEFT(BL200) | BN200: ='Réponses au formulaire 1'!AM200 | BO200: =LEFT(BN200) | BP200: ='Réponses au formulaire 1'!AN200 | BQ200: =LEFT(BP200) | BR200: ='Réponses au formulaire 1'!AO200 | BS200: =LEFT(BR200) | BT200: ='Réponses au formulaire 1'!AP200 | BU200: =LEFT(BT200) | BV200: ='Réponses au formulaire 1'!AQ200 | BW200: =LEFT(BV200) | BX200: ='Réponses au formulaire 1'!AR200 | BY200: =LEFT(BX200) | BZ200: ='Réponses au formulaire 1'!AS200 | CA200: =LEFT(BZ200) | CB200: ='Réponses au formulaire 1'!AT200 | CC200: =LEFT(CB200) | CD200: ='Réponses au formulaire 1'!AU200 | CE200: =LEFT(CD200,3) | CF200: ='Réponses au formulaire 1'!AV200 | CG200: ='Réponses au formulaire 1'!AW200 | CH200: ='Réponses au formulaire 1'!AX200 | CI200: ='Réponses au formulaire 1'!AY200 | CJ200: ='Réponses au formulaire 1'!AZ200
A201: total | B201: total | C201: total | D201: total | E201: total | F201: total | G201: total | H201: total | I201: total | J201: total | K201: =SUM(K2:K200) -> 0 | M201: =SUM(M2:M200) -> 0 | O201: =SUM(O2:O200) -> 0 | Q201: =SUM(Q2:Q200) -> 0 | S201: =SUM(S2:S200) -> 0 | U201: =SUM(U2:U200) -> 0 | W201: =SUM(W2:W200) -> 0 | Y201: =SUM(Y2:Y200) -> 0 | AA201: =SUM(AA2:AA200) -> 0 | AC201: =SUM(AC2:AC200) -> 0 | AD201: =SUM(AD2:AD200) -> 0 | AE201: =SUM(AE2:AE200) -> 0 | AG201: =SUM(AG2:AG200) -> 0 | AJ201: =SUM(AJ2:AJ200) -> 0 | AL201: =SUM(AL2:AL200) -> 0 | AN201: =SUM(AN2:AN200) -> 0 | AP201: =SUM(AP2:AP200) -> 0 | AR201: =SUM(AR2:AR200) -> 0 | AT201: =SUM(AT2:AT200) -> 0 | AV201: =SUM(AV2:AV200) -> 0 | AX201: =SUM(AX2:AX200) -> 0 | AZ201: =SUM(AZ2:AZ200) -> 0 | BB201: =SUM(BB2:BB200) -> 0 | BD201: =SUM(BD2:BD200) -> 0 | BF201: =SUM(BF2:BF200) -> 0 | BI201: =SUM(BI2:BI200) -> 0 | BK201: =SUM(CH2:CH200) -> 0 | BM201: =SUM(BM2:BM200) -> 0 | BO201: =SUM(BO2:BO200) -> 0 | BQ201: =SUM(BQ2:BQ200) -> 0 | BS201: =SUM(BS2:BS200) -> 0 | BU201: =SUM(BU2:BU200) -> 0 | BW201: =SUM(BW2:BW200) -> 0 | BY201: =SUM(BY2:BY200) -> 0 | CA201: =SUM(CA2:CA200) -> 0 | CC201: =SUM(CC2:CC200) -> 0 | CE201: =SUM(CE2:CE200) -> 0

Sheet Décompte globale
B2: Bûches traditionnelles :
B3: L'atout Chocolat | C3: ='Copie traitée du formulaire'!K201+'Copie traitée du formulaire'!AJ201+'Copie traitée du formulaire'!BI201 -> 0
B4: La café | C4: ='Copie traitée du formulaire'!M201+'Copie traitée du formulaire'!AL201+'Copie traitée du formulaire'!BK201 -> 0
B5: La praliné | C5: ='Copie traitée du formulaire'!O201+'Copie traitée du formulaire'!AN201+'Copie traitée du formulaire'!BM201 -> 0
B7: Bûches patissières :
B8: Feuille d'automne | C8: ='Copie traitée du formulaire'!Q201+'Copie traitée du formulaire'!AP201+'Copie traitée du formulaire'!BO201 -> 0
B9: Kokolé | C9: ='Copie traitée du formulaire'!S201+'Copie traitée du formulaire'!AR201+'Copie traitée du formulaire'!BQ201 -> 0
B10: Ardéchoise | C10: ='Copie traitée du formulaire'!U201+'Copie traitée du formulaire'!AT201+'Copie traitée du formulaire'!BS201 -> 0
B11: Feuilletine | C11: ='Copie traitée du formulaire'!W201+'Copie traitée du formulaire'!AV201+'Copie traitée du formulaire'!BU201 -> 0
B13: Bûches glacées :
B14: Melba'buche | C14: ='Copie traitée du formulaire'!Y201+'Copie traitée du formulaire'!AX201+'Copie traitée du formulaire'!BW201 -> 0
B15: Prestige | C15: ='Copie traitée du formulaire'!AA201+'Copie traitée du formulaire'!AZ201+'Copie traitée du formulaire'!BY201 -> 0
B16: Tout Schuss | C16: ='Copie traitée du formulaire'!AC201+'Copie traitée du formulaire'!BB201+'Copie traitée du formulaire'!CA201 -> 0
B17: Vanille Framboises | C17: ='Copie traitée du formulaire'!AE201+'Copie traitée du formulaire'!BD201+'Copie traitée du formulaire'!CC201 -> 0
B19: Fours salés
B20: ='Copie traitée du formulaire'!AG201+'Copie traitée du formulaire'!BF201+'Copie traitée du formulaire'!CE201 -> 0 | E20: soit | F20: =B20/1000 -> 0 | G20: kilogrammes

Sheet Détails commandes 2312
B1: Commandes du 23/12 | F1: Nom | G1: Commande de bûches du 23/12 ❄ [L'atout chocolat ] | H1: Atout Chocolat | I1: Commande de bûches du 23/12 ❄ [Le café ] | J1: Le Cafè | K1: Commande de bûches du 23/12 ❄ [Le praliné ] | L1: Le Praliné | M1: Commande de bûches du 23/12 ❄ [La feuille d'automne ] | N1: La feuille d'automne | O1: Commande de bûches du 23/12 ❄ [Le kokolé ] | P1: Le kokolé | Q1: Commande de bûches du 23/12 ❄ [L'ardéchoise ] | R1: L'ardéchoise | S1: Commande de bûches du 23/12 ❄ [La feuilletine ] | T1: La feuilletine | U1: Commande de bûches du 23/12 ❄ [La Melba'buche ] | V1: La Melba'buche | W1: Commande de bûches du 23/12 ❄ [La prestige ] | X1: La prestige | Y1: Commande de bûches du 23/12 ❄ [La tout Schuss ] | Z1: La tout Schuss | AA1: Commande de bûches du 23/12 ❄ [La vanille framboises] | AB1: La vanille framboise | AC1: Commande de fours salés du 23/12 : | AD1: Fours salés : | AE1: Autres éléments 23/12 :
F2: ='Copie traitée du formulaire'!E2 -> Dellerie | G2: ='Copie traitée du formulaire'!J2 | H2: ='Copie traitée du formulaire'!K2 | I2: ='Copie traitée du formulaire'!L2 | J2: ='Copie traitée du formulaire'!M2 | K2: ='Copie traitée du formulaire'!N2 | L2: ='Copie traitée du formulaire'!O2 | M2: ='Copie traitée du formulaire'!P2 | N2: ='Copie traitée du formulaire'!Q2 | ... AE2: ='Copie traitée du formulaire'!AH2
F3: ='Copie traitée du formulaire'!E3 | G3: ='Copie traitée du formulaire'!J3 | H3: ='Copie traitée du formulaire'!K3 | I3: ='Copie traitée du formulaire'!L3 | J3: ='Copie traitée du formulaire'!M3 | K3: ='Copie traitée du formulaire'!N3 | L3: ='Copie traitée du formulaire'!O3 | M3: ='Copie traitée du formulaire'!P3 | N3: ='Copie traitée du formulaire'!Q3 | ... AE3: ='Copie traitée du formulaire'!AH3
B4: Bûches traditionnelles : | F4: ='Copie traitée du formulaire'!E4 | G4: ='Copie traitée du formulaire'!J4 | H4: ='Copie traitée du formulaire'!K4 | I4: ='Copie traitée du formulaire'!L4 | J4: ='Copie traitée du formulaire'!M4 | K4: ='Copie traitée du formulaire'!N4 | L4: ='Copie traitée du formulaire'!O4 | M4: ='Copie traitée du formulaire'!P4 | N4: ='Copie traitée du formulaire'!Q4 | ... AE4: ='Copie traitée du formulaire'!AH4
B5: L'atout Chocolat | C5: ='Copie traitée du formulaire'!K201 -> 0 | F5: ='Copie traitée du formulaire'!E5 | G5: ='Copie traitée du formulaire'!J5 | H5: ='Copie traitée du formulaire'!K5 | I5: ='Copie traitée du formulaire'!L5 | J5: ='Copie traitée du formulaire'!M5 | K5: ='Copie traitée du formulaire'!N5 | L5: ='Copie traitée du formulaire'!O5 | M5: ='Copie traitée du formulaire'!P5 | N5: ='Copie traitée du formulaire'!Q5 | ... AE5: ='Copie traitée du formulaire'!AH5
B6: La café | C6: ='Copie traitée du formulaire'!M201 -> 0 | F6: ='Copie traitée du formulaire'!E6 | G6: ='Copie traitée du formulaire'!J6 | H6: ='Copie traitée du formulaire'!K6 | I6: ='Copie traitée du formulaire'!L6 | J6: ='Copie traitée du formulaire'!M6 | K6: ='Copie traitée du formulaire'!N6 | L6: ='Copie traitée du formulaire'!O6 | M6: ='Copie traitée du formulaire'!P6 | N6: ='Copie traitée du formulaire'!Q6 | ... AE6: ='Copie traitée du formulaire'!AH6
B7: La praliné | C7: ='Copie traitée du formulaire'!O201 -> 0 | F7: ='Copie traitée du formulaire'!E7 | G7: ='Copie traitée du formulaire'!J7 | H7: ='Copie traitée du formulaire'!K7 | I7: ='Copie traitée du formulaire'!L7 | J7: ='Copie traitée du formulaire'!M7 | K7: ='Copie traitée du formulaire'!N7 | L7: ='Copie traitée du formulaire'!O7 | M7: ='Copie traitée du formulaire'!P7 | N7: ='Copie traitée du formulaire'!Q7 | ... AE7: ='Copie traitée du formulaire'!AH7
F8: ='Copie traitée du formulaire'!E8 | G8: ='Copie traitée du formulaire'!J8 | H8: ='Copie traitée du formulaire'!K8 | I8: ='Copie traitée du formulaire'!L8 | J8: ='Copie traitée du formulaire'!M8 | K8: ='Copie traitée du formulaire'!N8 | L8: ='Copie traitée du formulaire'!O8 | M8: ='Copie traitée du formulaire'!P8 | N8: ='Copie traitée du formulaire'!Q8 | ... AE8: ='Copie traitée du formulaire'!AH8
B9: Bûches patissières : | F9: ='Copie traitée du formulaire'!E9 | G9: ='Copie traitée du formulaire'!J9 | H9: ='Copie traitée du formulaire'!K9 | I9: ='Copie traitée du formulaire'!L9 | J9: ='Copie traitée du formulaire'!M9 | K9: ='Copie traitée du formulaire'!N9 | L9: ='Copie traitée du formulaire'!O9 | M9: ='Copie traitée du formulaire'!P9 | N9: ='Copie traitée du formulaire'!Q9 | ... AE9: ='Copie traitée du formulaire'!AH9
B10: Feuille d'automne | C10: ='Copie traitée du formulaire'!Q201 -> 0 | F10: ='Copie traitée du formulaire'!E10 | G10: ='Copie traitée du formulaire'!J10 | H10: ='Copie traitée du formulaire'!K10 | I10: ='Copie traitée du formulaire'!L10 | J10: ='Copie traitée du formulaire'!M10 | K10: ='Copie traitée du formulaire'!N10 | L10: ='Copie traitée du formulaire'!O10 | M10: ='Copie traitée du formulaire'!P10 | N10: ='Copie traitée du formulaire'!Q10 | ... AE10: ='Copie traitée du formulaire'!AH10
B11: Kokolé | C11: ='Copie traitée du formulaire'!S201 -> 0 | F11: ='Copie traitée du formulaire'!E11 | G11: ='Copie traitée du formulaire'!J11 | H11: ='Copie traitée du formulaire'!K11 | I11: ='Copie traitée du formulaire'!L11 | J11: ='Copie traitée du formulaire'!M11 | K11: ='Copie traitée du formulaire'!N11 | L11: ='Copie traitée du formulaire'!O11 | M11: ='Copie traitée du formulaire'!P11 | N11: ='Copie traitée du formulaire'!Q11 | ... AE11: ='Copie traitée du formulaire'!AH11
B12: Ardéchoise | C12: ='Copie traitée du formulaire'!U201 -> 0 | F12: ='Copie traitée du formulaire'!E12 | G12: ='Copie traitée du formulaire'!J12 | H12: ='Copie traitée du formulaire'!K12 | I12: ='Copie traitée du formulaire'!L12 | J12: ='Copie traitée du formulaire'!M12 | K12: ='Copie traitée du formulaire'!N12 | L12: ='Copie traitée du formulaire'!O12 | M12: ='Copie traitée du formulaire'!P12 | N12: ='Copie traitée du formulaire'!Q12 | ... AE12: ='Copie traitée du formulaire'!AH12
B13: Feuilletine | C13: ='Copie traitée du formulaire'!W201 -> 0 | F13: ='Copie traitée du formulaire'!E13 | G13: ='Copie traitée du formulaire'!J13 | H13: ='Copie traitée du formulaire'!K13 | I13: ='Copie traitée du formulaire'!L13 | J13: ='Copie traitée du formulaire'!M13 | K13: ='Copie traitée du formulaire'!N13 | L13: ='Copie traitée du formulaire'!O13 | M13: ='Copie traitée du formulaire'!P13 | N13: ='Copie traitée du formulaire'!Q13 | ... AE13: ='Copie traitée du formulaire'!AH13
F14: ='Copie traitée du formulaire'!E14 | G14: ='Copie traitée du formulaire'!J14 | H14: ='Copie traitée du formulaire'!K14 | I14: ='Copie traitée du formulaire'!L14 | J14: ='Copie traitée du formulaire'!M14 | K14: ='Copie traitée du formulaire'!N14 | L14: ='Copie traitée du formulaire'!O14 | M14: ='Copie traitée du formulaire'!P14 | N14: ='Copie traitée du formulaire'!Q14 | ... AE14: ='Copie traitée du formulaire'!AH14
B15: Bûches glacées : | F15: ='Copie traitée du formulaire'!E15 | G15: ='Copie traitée du formulaire'!J15 | H15: ='Copie traitée du formulaire'!K15 | I15: ='Copie traitée du formulaire'!L15 | J15: ='Copie traitée du formulaire'!M15 | K15: ='Copie traitée du formulaire'!N15 | L15: ='Copie traitée du formulaire'!O15 | M15: ='Copie traitée du formulaire'!P15 | N15: ='Copie traitée du formulaire'!Q15 | ... AE15: ='Copie traitée du formulaire'!AH15
B16: Melba'buche | C16: ='Copie traitée du formulaire'!Y201 -> 0 | F16: ='Copie traitée du formulaire'!E16 | G16: ='Copie traitée du formulaire'!J16 | H16: ='Copie traitée du formulaire'!K16 | I16: ='Copie traitée du formulaire'!L16 | J16: ='Copie traitée du formulaire'!M16 | K16: ='Copie traitée du formulaire'!N16 | L16: ='Copie traitée du formulaire'!O16 | M16: ='Copie traitée du formulaire'!P16 | N16: ='Copie traitée du formulaire'!Q16 | ... AE16: ='Copie traitée du formulaire'!AH16
B17: Prestige | C17: ='Copie traitée du formulaire'!AA201 -> 0 | F17: ='Copie traitée du formulaire'!E17 | G17: ='Copie traitée du formulaire'!J17 | H17: ='Copie traitée du formulaire'!K17 | I17: ='Copie traitée du formulaire'!L17 | J17: ='Copie traitée du formulaire'!M17 | K17: ='Copie traitée du formulaire'!N17 | L17: ='Copie traitée du formulaire'!O17 | M17: ='Copie traitée du formulaire'!P17 | N17: ='Copie traitée du formulaire'!Q17 | ... AE17: ='Copie traitée du formulaire'!AH17
B18: Tout Schuss | C18: ='Copie traitée du formulaire'!AC201 -> 0 | F18: ='Copie traitée du formulaire'!E18 | G18: ='Copie traitée du formulaire'!J18 | H18: ='Copie traitée du formulaire'!K18 | I18: ='Copie traitée du formulaire'!L18 | J18: ='Copie traitée du formulaire'!M18 | K18: ='Copie traitée du formulaire'!N18 | L18: ='Copie traitée du formulaire'!O18 | M18: ='Copie traitée du formulaire'!P18 | N18: ='Copie traitée du formulaire'!Q18 | ... AE18: ='Copie traitée du formulaire'!AH18
B19: Vanille Framboises | C19: ='Copie traitée du formulaire'!AE201 -> 0 | F19: ='Copie traitée du formulaire'!E19 | G19: ='Copie traitée du formulaire'!J19 | H19: ='Copie traitée du formulaire'!K19 | I19: ='Copie traitée du formulaire'!L19 | J19: ='Copie traitée du formulaire'!M19 | K19: ='Copie traitée du formulaire'!N19 | L19: ='Copie traitée du formulaire'!O19 | M19: ='Copie traitée du formulaire'!P19 | N19: ='Copie traitée du formulaire'!Q19 | ... AE19: ='Copie traitée du formulaire'!AH19
F20: ='Copie traitée du formulaire'!E20 | G20: ='Copie traitée du formulaire'!J20 | H20: ='Copie traitée du formulaire'!K20 | I20: ='Copie traitée du formulaire'!L20 | J20: ='Copie traitée du formulaire'!M20 | K20: ='Copie traitée du formulaire'!N20 | L20: ='Copie traitée du formulaire'!O20 | M20: ='Copie traitée du formulaire'!P20 | N20: ='Copie traitée du formulaire'!Q20 | ... AE20: ='Copie traitée du formulaire'!AH20
B21: Fours salés | F21: ='Copie traitée du formulaire'!E21 | G21: ='Copie traitée du formulaire'!J21 | H21: ='Copie traitée du formulaire'!K21 | I21: ='Copie traitée du formulaire'!L21 | J21: ='Copie traitée du formulaire'!M21 | K21: ='Copie traitée du formulaire'!N21 | L21: ='Copie traitée du formulaire'!O21 | M21: ='Copie traitée du formulaire'!P21 | N21: ='Copie traitée du formulaire'!Q21 | ... AE21: ='Copie traitée du formulaire'!AH21
B22: ='Copie traitée du formulaire'!AG201 -> 0 | F22: ='Copie traitée du formulaire'!E22 | G22: ='Copie traitée du formulaire'!J22 | H22: ='Copie traitée du formulaire'!K22 | I22: ='Copie traitée du formulaire'!L22 | J22: ='Copie traitée du formulaire'!M22 | K22: ='Copie traitée du formulaire'!N22 | L22: ='Copie traitée du formulaire'!O22 | M22: ='Copie traitée du formulaire'!P22 | N22: ='Copie traitée du formulaire'!Q22 | ... AE22: ='Copie traitée du formulaire'!AH22
F23: ='Copie traitée du formulaire'!E23 | G23: ='Copie traitée du formulaire'!J23 | H23: ='Copie traitée du formulaire'!K23 | I23: ='Copie traitée du formulaire'!L23 | J23: ='Copie traitée du formulaire'!M23 | K23: ='Copie traitée du formulaire'!N23 | L23: ='Copie traitée du formulaire'!O23 | M23: ='Copie traitée du formulaire'!P23 | N23: ='Copie traitée du formulaire'!Q23 | ... AE23: ='Copie traitée du formulaire'!AH23
F24: ='Copie traitée du formulaire'!E24 | G24: ='Copie traitée du formulaire'!J24 | H24: ='Copie traitée du formulaire'!K24 | I24: ='Copie traitée du formulaire'!L24 | J24: ='Copie traitée du formulaire'!M24 | K24: ='Copie traitée du formulaire'!N24 | L24: ='Copie traitée du formulaire'!O24 | M24: ='Copie traitée du formulaire'!P24 | N24: ='Copie traitée du formulaire'!Q24 | ... AE24: ='Copie traitée du formulaire'!AH24
F25: ='Copie traitée du formulaire'!E25 | G25: ='Copie traitée du formulaire'!J25 | H25: ='Copie traitée du formulaire'!K25 | I25: ='Copie traitée du formulaire'!L25 | J25: ='Copie traitée du formulaire'!M25 | K25: ='Copie traitée du formulaire'!N25 | L25: ='Copie traitée du formulaire'!O25 | M25: ='Copie traitée du formulaire'!P25 | N25: ='Copie traitée du formulaire'!Q25 | ... AE25: ='Copie traitée du formulaire'!AH25
F26: ='Copie traitée du formulaire'!E26 | G26: ='Copie traitée du formulaire'!J26 | H26: ='Copie traitée du formulaire'!K26 | I26: ='Copie traitée du formulaire'!L26 | J26: ='Copie traitée du formulaire'!M26 | K26: ='Copie traitée du formulaire'!N26 | L26: ='Copie traitée du formulaire'!O26 | M26: ='Copie traitée du formulaire'!P26 | N26: ='Copie traitée du formulaire'!Q26 | ... AE26: ='Copie traitée du formulaire'!AH26
F27: ='Copie traitée du formulaire'!E27 | G27: ='Copie traitée du formulaire'!J27 | H27: ='Copie traitée du formulaire'!K27 | I27: ='Copie traitée du formulaire'!L27 | J27: ='Copie traitée du formulaire'!M27 | K27: ='Copie traitée du formulaire'!N27 | L27: ='Copie traitée du formulaire'!O27 | M27: ='Copie traitée du formulaire'!P27 | N27: ='Copie traitée du formulaire'!Q27 | ... AE27: ='Copie traitée du formulaire'!AH27
F28: ='Copie traitée du formulaire'!E28 | G28: ='Copie traitée du formulaire'!J28 | H28: ='Copie traitée du formulaire'!K28 | I28: ='Copie traitée du formulaire'!L28 | J28: ='Copie traitée du formulaire'!M28 | K28: ='Copie traitée du formulaire'!N28 | L28: ='Copie traitée du formulaire'!O28 | M28: ='Copie traitée du formulaire'!P28 | N28: ='Copie traitée du formulaire'!Q28 | ... AE28: ='Copie traitée du formulaire'!AH28
F29: ='Copie traitée du formulaire'!E29 | G29: ='Copie traitée du formulaire'!J29 | H29: ='Copie traitée du formulaire'!K29 | I29: ='Copie traitée du formulaire'!L29 | J29: ='Copie traitée du formulaire'!M29 | K29: ='Copie traitée du formulaire'!N29 | L29: ='Copie traitée du formulaire'!O29 | M29: ='Copie traitée du formulaire'!P29 | N29: ='Copie traitée du formulaire'!Q29 | ... AE29: ='Copie traitée du formulaire'!AH29
F30: ='Copie traitée du formulaire'!E30 | G30: ='Copie traitée du formulaire'!J30 | H30: ='Copie traitée du formulaire'!K30 | I30: ='Copie traitée du formulaire'!L30 | J30: ='Copie traitée du formulaire'!M30 | K30: ='Copie traitée du formulaire'!N30 | L30: ='Copie traitée du formulaire'!O30 | M30: ='Copie traitée du formulaire'!P30 | N30: ='Copie traitée du formulaire'!Q30 | ... AE30: ='Copie traitée du formulaire'!AH30
F31: ='Copie traitée du formulaire'!E31 | G31: ='Copie traitée du formulaire'!J31 | H31: ='Copie traitée du formulaire'!K31 | I31: ='Copie traitée du formulaire'!L31 | J31: ='Copie traitée du formulaire'!M31 | K31: ='Copie traitée du formulaire'!N31 | L31: ='Copie traitée du formulaire'!O31 | M31: ='Copie traitée du formulaire'!P31 | N31: ='Copie traitée du formulaire'!Q31 | ... AE31: ='Copie traitée du formulaire'!AH31
F32: ='Copie traitée du formulaire'!E32 | G32: ='Copie traitée du formulaire'!J32 | H32: ='Copie traitée du formulaire'!K32 | I32: ='Copie traitée du formulaire'!L32 | J32: ='Copie traitée du formulaire'!M32 | K32: ='Copie traitée du formulaire'!N32 | L32: ='Copie traitée du formulaire'!O32 | M32: ='Copie traitée du formulaire'!P32 | N32: ='Copie traitée du formulaire'!Q32 | ... AE32: ='Copie traitée du formulaire'!AH32
F33: ='Copie traitée du formulaire'!E33 | G33: ='Copie traitée du formulaire'!J33 | H33: ='Copie traitée du formulaire'!K33 | I33: ='Copie traitée du formulaire'!L33 | J33: ='Copie traitée du formulaire'!M33 | K33: ='Copie traitée du formulaire'!N33 | L33: ='Copie traitée du formulaire'!O33 | M33: ='Copie traitée du formulaire'!P33 | N33: ='Copie traitée du formulaire'!Q33 | ... AE33: ='Copie traitée du formulaire'!AH33
