Workbook
Name BF: Skills!$E$2:$E$4
Name CM: Skills!$D$2:$D$4
Name DJI: Skills!$M$2
Name Dominique: Skills!$K$2
Name Doppler: Skills!$A$2:$A$5
Name JNP: Skills!$C$2:$C$6
Name Julie: Skills!$L$2
Name Martine: Skills!$N$2
Name MG: Skills!$B$2:$B$6
Name NB: Skills!$A$2:$A$5
Name OA: Skills!$F$2:$F$6
Name Rx: Skills!$P$1:$R$1
Name Steph_Ma: Skills!$J$2:$J$3
Name Steph_Rx: Skills!$R$2
Name Vincent: Skills!$Q$2:$Q$4
Name XX: Skills!$H$2

Sheet Skills
A1: NB | B1: MG | C1: JNP | D1: CM | E1: BF | F1: OA | G1: Infiltration | H1: XX | J1: Steph_Ma | K1: Dominique | L1: Julie | M1: DJI | N1: Martine | O1: XX | Q1: Vincent | R1: Steph_Rx | S1: Fred | T1: XX
A2: Doppler | B2: US Memb. | C2: US Memb. | D2: Mammo | E2: Mammo | F2: US Memb. | H2: OXO | J2: Mammo | K2: Mammo | L2: Mammo | M2: Mammo | N2: Mammo | O2: OXO | Q2: Rx Petit Os | R2: Rx Petit Os | S2: Rx Petit Os | T2: OXO
A3: US Rein | B3: US Doppler | C3: Doppler | D3: US Memb. | E3: US Memb. | F3: Doppler | J3: Densito | Q3: Rx Gros Os | S3: Rx Gros Os
A4: US Thyr | B4: US thyr | C4: US thyr | D4: US ABDO | E4: US ABDO | F4: US thyr | Q4: Densito
A5: US ABDO | B5: US ABDO | C5: US ABDO | F5: US ABDO
B6: US Rein | C6: Seins | F6: US Rein

Sheet Calendier
C1: 2020 | D1: Mammographie | E1: Radiographie | F1: ECHO | G1: Doppler NB | H1: Infiltration
B2: Lundi | C2: 44200 | D2: =IF('04-01'!$D$47>0,"Mammographie","") -> Mammographie | E2: =IF('04-01'!$E$47>0,"Rx","") -> Rx | F2: =IF('04-01'!$G$47>0,"ECHO","") -> ECHO | G2: =IF('04-01'!$H$47>0,"Doppler NB","") | H2: =IF('04-01'!$I$47>0,"Infiltration JNP","")
B3: Mardi | C3: 44201 | D3: =IF('05-01'!$D$47>0,"Mammographie","") | E3: =IF('05-01'!$E$47>0,"Rx","") -> Rx | F3: =IF('05-01'!$G$47>0,"ECHO","") -> ECHO | G3: =IF('05-01'!$H$47>0,"Doppler NB","") -> Doppler NB | H3: =IF('05-01'!$I$47>0,"Infilt. JNP","")
B4: Mercredi | C4: 44202 | D4: =IF('06-01'!$D$47>0,"Mammographie","") -> Mammographie | E4: =IF('06-01'!$E$47>0,"Rx","") -> Rx | F4: =IF('06-01'!$G$47>0,"ECHO","") | G4: =IF('06-01'!$H$47>0,"Doppler NB","") | H4: =IF('06-01'!$I$47>0,"Infilt. JNP","")
B5: Jeudi | C5: 44203 | D5: =IF('07-01'!$D$47>0,"Mammographie","") -> Mammographie | E5: =IF('07-01'!$E$47>0,"Rx","") -> Rx | F5: =IF('07-01'!$G$47>0,"ECHO","") | G5: =IF('07-01'!$H$47>0,"Doppler NB","") | H5: =IF('07-01'!$I$47>0,"Infilt. JNP","") -> Infilt. JNP
B6: Vendredi | C6: 44204 | D6: =IF('08-01'!$D$47>0,"Mammographie","") | E6: =IF('08-01'!$E$47>0,"Rx","") -> Rx | F6: =IF('08-01'!$G$47>0,"ECHO","") -> ECHO | G6: =IF('08-01'!$H$47>0,"Doppler NB","") -> Doppler NB | H6: =IF('08-01'!$I$47>0,"Infilt. JNP","")
B7: Samedi | C7: 44205
B8: Dimanche | C8: 44206
B9: Lundi | C9: 44207 | D9: =IF('11-01'!$D$47>0,"Mammographie","") -> Mammographie | E9: =IF('11-01'!$E$47>0,"Rx","") -> Rx | F9: =IF('11-01'!$G$47>0,"ECHO","") -> ECHO | G9: =IF('11-01'!$H$47>0,"Doppler NB","") | H9: =IF('11-01'!$I$47>0,"Infilt. JNP","")
B10: Mardi | C10: 44208 | D10: =IF('12-01'!$D$47>0,"Mammographie","") | E10: =IF('12-01'!$E$47>0,"Rx","") -> Rx | F10: =IF('12-01'!$G$47>0,"ECHO","") -> ECHO | G10: =IF('12-01'!$H$47>0,"Doppler NB","") -> Doppler NB | H10: =IF('12-01'!$I$47>0,"Infilt. JNP","")
B11: Mercredi | C11: 44209 | D11: =IF('13-01'!$D$47>0,"Mammographie","") -> Mammographie | E11: =IF('13-01'!$E$47>0,"Rx","") -> Rx | F11: =IF('13-01'!$G$47>0,"ECHO","") | G11: =IF('13-01'!$H$47>0,"Doppler NB","") | H11: =IF('13-01'!$I$47>0,"Infilt. JNP","")
B12: Jeudi | C12: 44210 | D12: =IF('14-01'!$D$47>0,"Mammographie","") -> Mammographie | E12: =IF('14-01'!$E$47>0,"Rx","") -> Rx | F12: =IF('14-01'!$G$47>0,"ECHO","") | G12: =IF('14-01'!$H$47>0,"Doppler NB","") | H12: =IF('14-01'!$I$47>0,"Infilt. JNP","") -> Infilt. JNP
B13: Vendredi | C13: 44211
B14: Samedi | C14: 44212
B15: Dimanche | C15: 44213
B16: Lundi | C16: 44214
B17: Mardi | C17: 44215
B18: Mercredi | C18: 44216
B19: Jeudi | C19: 44217
B20: Vendredi | C20: 44218
B21: Samedi | C21: 44219
B22: Dimanche | C22: 44220
B23: Lundi | C23: 44221
B24: Mardi | C24: 44222
... B29: Dimanche | C29: 44227
C30: 44228
C31: 44229
C32: 44230
C33: 44231
C34: 44232
C35: 44233
C36: 44234
C37: 44235
C38: 44236
C39: 44237
C40: 44238

Sheet 04-01
A1: Menu
A2: Lundi | C2: Echo Rez | I2: Mammo | O2: RX | U2: Echo Etage
A3: =RIGHT(CELL("filename",A1),LEN(CELL("filename",A1))-SEARCH("]",CELL("filename",A1))) -> 04-01 | C3: BF | I3: Steph_Ma | O3: Vincent | U3: OA
C4: Examen | D4: Nom | E4: Prénom | F4: TEL | I4: Examen | J4: Nom | K4: Prénom | L4: TEL | O4: Examen | P4: Nom | Q4: Prénom | R4: TEL | U4: Examen | V4: Nom | W4: Prénom | X4: TEL
A5: 0.34375 | B5: =$C$3 -> BF | C5: Mammo | G5: 0.34375 | H5: =IF(($I$3="Steph_Ma")+OR($I$3="Dominique")+OR($I$3="Julie")+OR($I$3="Dji")+OR($I$3="Martine"),"O","X") -> O | I5: Mammo | M5: 0.34375 | N5: =$O$3 -> Vincent | O5: Rx Gros Os | S5: 0.34375 | T5: =$U$3 -> OA | U5: US Memb.
A6: 0.35416667 | B6: =$C$3 -> BF | C6: Mammo | G6: 0.35416667 | H6: =IF(($I$3="Steph_Ma")+OR($I$3="Dominique")+OR($I$3="Julie")+OR($I$3="Dji")+OR($I$3="Martine"),"O","X") -> O | I6: Mammo | M6: 0.35416667 | N6: =$O$3 -> Vincent | O6: Rx Gros Os | S6: 0.35416667 | T6: =$U$3 -> OA | U6: Seins
A7: =A6+"00:15" -> 0.36458333 | B7: =$C$3 -> BF | C7: Mammo | G7: =G6+"00:15" -> 0.36458333 | H7: =IF(($I$3="Steph_Ma")+OR($I$3="Dominique")+OR($I$3="Julie")+OR($I$3="Dji")+OR($I$3="Martine"),"O","X") -> O | I7: Mammo | M7: =M6+"00:15" -> 0.36458333 | N7: =$O$3 -> Vincent | O7: Rx Gros Os | S7: =S6+"00:15" -> 0.36458333 | T7: =$U$3 -> OA | U7: US thyr
A8: =A7+"00:15" -> 0.375 | B8: =$C$3 -> BF | C8: Mammo | G8: =G7+"00:15" -> 0.375 | H8: =IF(($I$3="Steph_Ma")+OR($I$3="Dominique")+OR($I$3="Julie")+OR($I$3="Dji")+OR($I$3="Martine"),"O","X") -> O | I8: Mammo | M8: =M7+"00:15" -> 0.375 | N8: =$O$3 -> Vincent | O8: Rx Gros Os | S8: =S7+"00:15" -> 0.375 | T8: =$U$3 -> OA | U8: US thyr
A9: =A8+"00:15" -> 0.38541667 | B9: =$C$3 -> BF | C9: Mammo | G9: =G8+"00:15" -> 0.38541667 | H9: =IF(($I$3="Steph_Ma")+OR($I$3="Dominique")+OR($I$3="Julie")+OR($I$3="Dji")+OR($I$3="Martine"),"O","X") -> O | I9: Mammo | M9: =M8+"00:15" -> 0.38541667 | N9: =$O$3 -> Vincent | O9: Rx Gros Os | S9: =S8+"00:15" -> 0.38541667 | T9: =$U$3 -> OA | U9: US thyr
A10: =A9+"00:15" -> 0.39583333 | B10: =$C$3 -> BF | C10: Mammo | G10: =G9+"00:15" -> 0.39583333 | H10: =IF(($I$3="Steph_Ma")+OR($I$3="Dominique")+OR($I$3="Julie")+OR($I$3="Dji")+OR($I$3="Martine"),"O","X") -> O | I10: Mammo | M10: =M9+"00:15" -> 0.39583333 | N10: =$O$3 -> Vincent | O10: Rx Gros Os | S10: =S9+"00:15" -> 0.39583333 | T10: =$U$3 -> OA | U10: US thyr
A11: =A10+"00:15" -> 0.40625 | B11: =$C$3 -> BF | C11: Mammo | G11: =G10+"00:15" -> 0.40625 | H11: =IF(($I$3="Steph_Ma")+OR($I$3="Dominique")+OR($I$3="Julie")+OR($I$3="Dji")+OR($I$3="Martine"),"O","X") -> O | I11: Mammo | M11: =M10+"00:15" -> 0.40625 | N11: =$O$3 -> Vincent | O11: Rx Gros Os | S11: =S10+"00:15" -> 0.40625 | T11: =$U$3 -> OA | U11: US thyr
A12: =A11+"00:15" -> 0.41666667 | B12: =$C$3 -> BF | C12: Mammo | G12: =G11+"00:15" -> 0.41666667 | H12: =IF(($I$3="Steph_Ma")+OR($I$3="Dominique")+OR($I$3="Julie")+OR($I$3="Dji")+OR($I$3="Martine"),"O","X") -> O | I12: Mammo | M12: =M11+"00:15" -> 0.41666667 | N12: =$O$3 -> Vincent | O12: Rx Gros Os | S12: =S11+"00:15" -> 0.41666667 | T12: =$U$3 -> OA | U12: US thyr
A13: =A12+"00:15" -> 0.42708333 | B13: =$C$3 -> BF | C13: Mammo | G13: =G12+"00:15" -> 0.42708333 | H13: =IF(($I$3="Steph_Ma")+OR($I$3="Dominique")+OR($I$3="Julie")+OR($I$3="Dji")+OR($I$3="Martine"),"O","X") -> O | I13: Mammo | M13: =M12+"00:15" -> 0.42708333 | N13: =$O$3 -> Vincent | O13: Rx Gros Os | S13: =S12+"00:15" -> 0.42708333 | T13: =$U$3 -> OA | U13: US thyr
A14: =A13+"00:15" -> 0.4375 | B14: =$C$3 -> BF | C14: Mammo | G14: =G13+"00:15" -> 0.4375 | H14: =IF(($I$3="Steph_Ma")+OR($I$3="Dominique")+OR($I$3="Julie")+OR($I$3="Dji")+OR($I$3="Martine"),"O","X") -> O | I14: Mammo | M14: =M13+"00:15" -> 0.4375 | N14: =$O$3 -> Vincent | O14: Rx Gros Os | S14: =S13+"00:15" -> 0.4375 | T14: =$U$3 -> OA | U14: US thyr
A15: =A14+"00:15" -> 0.44791667 | B15: =$C$3 -> BF | C15: Mammo | G15: =G14+"00:15" -> 0.44791667 | H15: =IF(($I$3="Steph_Ma")+OR($I$3="Dominique")+OR($I$3="Julie")+OR($I$3="Dji")+OR($I$3="Martine"),"O","X") -> O | I15: Mammo | M15: =M14+"00:15" -> 0.44791667 | N15: =$O$3 -> Vincent | O15: Rx Gros Os | S15: =S14+"00:15" -> 0.44791667 | T15: =$U$3 -> OA | U15: US thyr
A16: =A15+"00:15" -> 0.45833333 | B16: =$C$3 -> BF | C16: Mammo | G16: =G15+"00:15" -> 0.45833333 | H16: =IF(($I$3="Steph_Ma")+OR($I$3="Dominique")+OR($I$3="Julie")+OR($I$3="Dji")+OR($I$3="Martine"),"O","X") -> O | I16: Mammo | M16: =M15+"00:15" -> 0.45833333 | N16: =$O$3 -> Vincent | O16: Rx Gros Os | S16: =S15+"00:15" -> 0.45833333 | T16: =$U$3 -> OA | U16: US thyr
A17: =A16+"00:15" -> 0.46875 | B17: =$C$3 -> BF | C17: Mammo | G17: =G16+"00:15" -> 0.46875 | H17: =IF(($I$3="Steph_Ma")+OR($I$3="Dominique")+OR($I$3="Julie")+OR($I$3="Dji")+OR($I$3="Martine"),"O","X") -> O | I17: Mammo | M17: =M16+"00:15" -> 0.46875 | N17: =$O$3 -> Vincent | O17: Rx Gros Os | S17: =S16+"00:15" -> 0.46875 | T17: =$U$3 -> OA | U17: US thyr
A18: =A17+"00:15" -> 0.47916667 | B18: =$C$3 -> BF | C18: Mammo | G18: =G17+"00:15" -> 0.47916667 | H18: =IF(($I$3="Steph_Ma")+OR($I$3="Dominique")+OR($I$3="Julie")+OR($I$3="Dji")+OR($I$3="Martine"),"O","X") -> O | I18: Mammo | M18: =M17+"00:15" -> 0.47916667 | N18: =$O$3 -> Vincent | O18: Rx Gros Os | S18: =S17+"00:15" -> 0.47916667 | T18: =$U$3 -> OA | U18: US thyr
... A20: =A19+"00:15" -> 0.5 | B20: =$C$3 -> BF | C20: Mammo | G20: =G19+"00:15" -> 0.5 | H20: =IF(($I$3="Steph_Ma")+OR($I$3="Dominique")+OR($I$3="Julie")+OR($I$3="Dji")+OR($I$3="Martine"),"O","X") -> O | I20: Mammo | M20: =M19+"00:15" -> 0.5 | N20: =$O$3 -> Vincent | O20: Rx Gros Os | S20: =S19+"00:15" -> 0.5 | T20: =$U$3 -> OA | U20: US thyr
A21: Lundi | C21: US1 | G21: Lundi | I21: Mammo | M21: Lundi | O21: RX | S21: Lundi | U21: Echo Etage
C22: MG | I22: XX | O22: Steph_Rx | U22: XX
C23: Examen | D23: Nom | E23: Prénom | F23: TEL | I23: Examen | J23: Nom | K23: Prénom | L23: TEL | O23: Examen | P23: Nom | Q23: Prénom | R23: TEL | U23: Examen | V23: Nom | W23: Prénom | X23: TEL
A24: 0.5625 | B24: =$C$22 -> MG | C24: US Memb. | G24: 0.5625 | H24: =IF(($I$22="Steph_Ma")+OR($I$22="Dominique")+OR($I$22="Julie")+OR($I$22="Dji")+OR($I$22="Martine"),"O","X") -> X | I24: OXO | M24: 0.5625 | N24: =$O$22 -> Steph_Rx | O24: Rx Petit Os | S24: 0.5625 | T24: =$U$22 -> XX | U24: OXO
A25: =A24+"00:15" -> 0.57291667 | B25: =$C$22 -> MG | C25: Doppler | G25: =G24+"00:15" -> 0.57291667 | H25: =IF(($I$22="Steph_Ma")+OR($I$22="Dominique")+OR($I$22="Julie")+OR($I$22="Dji")+OR($I$22="Martine"),"O","X") -> X | I25: OXO | M25: =M24+"00:15" -> 0.57291667 | N25: =$O$22 -> Steph_Rx | O25: Rx Petit Os | S25: =S24+"00:15" -> 0.57291667 | T25: =$U$22 -> XX | U25: OXO
A26: =A25+"00:15" -> 0.58333333 | B26: =$C$22 -> MG | C26: Doppler | G26: =G25+"00:15" -> 0.58333333 | H26: =IF(($I$22="Steph_Ma")+OR($I$22="Dominique")+OR($I$22="Julie")+OR($I$22="Dji")+OR($I$22="Martine"),"O","X") -> X | I26: OXO | M26: =M25+"00:15" -> 0.58333333 | N26: =$O$22 -> Steph_Rx | O26: Rx Petit Os | S26: =S25+"00:15" -> 0.58333333 | T26: =$U$22 -> XX | U26: OXO | X26: 475220886
A27: =A26+"00:15" -> 0.59375 | B27: =$C$22 -> MG | C27: Doppler | G27: =G26+"00:15" -> 0.59375 | H27: =IF(($I$22="Steph_Ma")+OR($I$22="Dominique")+OR($I$22="Julie")+OR($I$22="Dji")+OR($I$22="Martine"),"O","X") -> X | I27: OXO | M27: =M26+"00:15" -> 0.59375 | N27: =$O$22 -> Steph_Rx | O27: Rx Petit Os | S27: =S26+"00:15" -> 0.59375 | T27: =$U$22 -> XX | U27: OXO
A28: =A27+"00:15" -> 0.60416667 | B28: =$C$22 -> MG | C28: Doppler | G28: =G27+"00:15" -> 0.60416667 | H28: =IF(($I$22="Steph_Ma")+OR($I$22="Dominique")+OR($I$22="Julie")+OR($I$22="Dji")+OR($I$22="Martine"),"O","X") -> X | I28: OXO | M28: =M27+"00:15" -> 0.60416667 | N28: =$O$22 -> Steph_Rx | O28: Rx Petit Os | S28: =S27+"00:15" -> 0.60416667 | T28: =$U$22 -> XX | U28: OXO
A29: =A28+"00:15" -> 0.61458333 | B29: =$C$22 -> MG | C29: Doppler | G29: =G28+"00:15" -> 0.61458333 | H29: =IF(($I$22="Steph_Ma")+OR($I$22="Dominique")+OR($I$22="Julie")+OR($I$22="Dji")+OR($I$22="Martine"),"O","X") -> X | I29: OXO | M29: =M28+"00:15" -> 0.61458333 | N29: =$O$22 -> Steph_Rx | O29: Rx Petit Os | S29: =S28+"00:15" -> 0.61458333 | T29: =$U$22 -> XX | U29: OXO
A30: =A29+"00:15" -> 0.625 | B30: =$C$22 -> MG | C30: Doppler | G30: =G29+"00:15" -> 0.625 | H30: =IF(($I$22="Steph_Ma")+OR($I$22="Dominique")+OR($I$22="Julie")+OR($I$22="Dji")+OR($I$22="Martine"),"O","X") -> X | I30: OXO | M30: =M29+"00:15" -> 0.625 | N30: =$O$22 -> Steph_Rx | O30: Rx Petit Os | S30: =S29+"00:15" -> 0.625 | T30: =$U$22 -> XX | U30: OXO
A31: =A30+"00:15" -> 0.63541667 | B31: =$C$22 -> MG | C31: Doppler | G31: =G30+"00:15" -> 0.63541667 | H31: =IF(($I$22="Steph_Ma")+OR($I$22="Dominique")+OR($I$22="Julie")+OR($I$22="Dji")+OR($I$22="Martine"),"O","X") -> X | I31: OXO | M31: =M30+"00:15" -> 0.63541667 | N31: =$O$22 -> Steph_Rx | O31: Rx Petit Os | S31: =S30+"00:15" -> 0.63541667 | T31: =$U$22 -> XX | U31: OXO
A32: =A31+"00:15" -> 0.64583333 | B32: =$C$22 -> MG | C32: Doppler | G32: =G31+"00:15" -> 0.64583333 | H32: =IF(($I$22="Steph_Ma")+OR($I$22="Dominique")+OR($I$22="Julie")+OR($I$22="Dji")+OR($I$22="Martine"),"O","X") -> X | I32: OXO | M32: =M31+"00:15" -> 0.64583333 | N32: =$O$22 -> Steph_Rx | O32: Rx Petit Os | S32: =S31+"00:15" -> 0.64583333 | T32: =$U$22 -> XX | U32: OXO
A33: =A32+"00:15" -> 0.65625 | B33: =$C$22 -> MG | C33: Doppler | G33: =G32+"00:15" -> 0.65625 | H33: =IF(($I$22="Steph_Ma")+OR($I$22="Dominique")+OR($I$22="Julie")+OR($I$22="Dji")+OR($I$22="Martine"),"O","X") -> X | I33: OXO | M33: =M32+"00:15" -> 0.65625 | N33: =$O$22 -> Steph_Rx | O33: Rx Petit Os | S33: =S32+"00:15" -> 0.65625 | T33: =$U$22 -> XX | U33: OXO
A34: =A33+"00:15" -> 0.66666667 | B34: =$C$22 -> MG | C34: Doppler | G34: =G33+"00:15" -> 0.66666667 | H34: =IF(($I$22="Steph_Ma")+OR($I$22="Dominique")+OR($I$22="Julie")+OR($I$22="Dji")+OR($I$22="Martine"),"O","X") -> X | I34: OXO | M34: =M33+"00:15" -> 0.66666667 | N34: =$O$22 -> Steph_Rx | O34: Rx Petit Os | S34: =S33+"00:15" -> 0.66666667 | T34: =$U$22 -> XX | U34: OXO
A35: =A34+"00:15" -> 0.67708333 | B35: =$C$22 -> MG | C35: Doppler | G35: =G34+"00:15" -> 0.67708333 | H35: =IF(($I$22="Steph_Ma")+OR($I$22="Dominique")+OR($I$22="Julie")+OR($I$22="Dji")+OR($I$22="Martine"),"O","X") -> X | I35: OXO | M35: =M34+"00:15" -> 0.67708333 | N35: =$O$22 -> Steph_Rx | O35: Rx Petit Os | S35: =S34+"00:15" -> 0.67708333 | T35: =$U$22 -> XX | U35: OXO
A36: =A35+"00:15" -> 0.6875 | B36: =$C$22 -> MG | C36: Doppler | G36: =G35+"00:15" -> 0.6875 | H36: =IF(($I$22="Steph_Ma")+OR($I$22="Dominique")+OR($I$22="Julie")+OR($I$22="Dji")+OR($I$22="Martine"),"O","X") -> X | I36: OXO | M36: =M35+"00:15" -> 0.6875 | N36: =$O$22 -> Steph_Rx | O36: Rx Petit Os | S36: =S35+"00:15" -> 0.6875 | T36: =$U$22 -> XX | U36: OXO
A37: =A36+"00:15" -> 0.69791667 | B37: =$C$22 -> MG | C37: Doppler | G37: =G36+"00:15" -> 0.69791667 | H37: =IF(($I$22="Steph_Ma")+OR($I$22="Dominique")+OR($I$22="Julie")+OR($I$22="Dji")+OR($I$22="Martine"),"O","X") -> X | I37: OXO | M37: =M36+"00:15" -> 0.69791667 | N37: =$O$22 -> Steph_Rx | O37: Rx Petit Os | S37: =S36+"00:15" -> 0.69791667 | T37: =$U$22 -> XX | U37: OXO
A38: =A37+"00:15" -> 0.70833333 | B38: =$C$22 -> MG | C38: Doppler | G38: =G37+"00:15" -> 0.70833333 | H38: =IF(($I$22="Steph_Ma")+OR($I$22="Dominique")+OR($I$22="Julie")+OR($I$22="Dji")+OR($I$22="Martine"),"O","X") -> X | I38: OXO | M38: =M37+"00:15" -> 0.70833333 | N38: =$O$22 -> Steph_Rx | O38: Rx Petit Os | S38: =S37+"00:15" -> 0.70833333 | T38: =$U$22 -> XX | U38: OXO
C39: Plage Libre | D39: Mammo | E39: Rx | F39: Densito | G39: ECHO | H39: DNB | I39: Infilt.
G40: =COUNTIFS($V$5:$V$20,"",$T$5:$T$20,"OA*")+COUNTIFS($V$5:$V$20,"",$T$5:$T$20,"MG*") -> 16
D41: =COUNTIFS($D$24:$D$38,"",$B$24:$B$38,"BF*",H24:H38,"O")+COUNTIFS($D$24:$D$38,"",$B$24:$B$38,"CM*",H24:H38,"O") -> 0 | E41: =COUNTIFS($P$24:$P$38,"",$N$24:$N$38,"Vincent*") -> 0 | G41: =COUNTIFS($V$24:$V$38,"",$T$24:$T$38,"MG*")+COUNTIFS($V$24:$V$38,"",$T$24:$T$38,"OA*") -> 0 | I41: =COUNTIFS($V$14:$V$19,"",$T$14:$T$19,"JNP*") -> 0
...

Sheet 05-01
A1: Menu
A2: Mardi | C2: Echo Rez | I2: Mammo | O2: RX | U2: Echo Etage
A3: =RIGHT(CELL("filename",A1),LEN(CELL("filename",A1))-SEARCH("]",CELL("filename",A1))) -> 05-01 | C3: NB | I3: Steph_Ma | O3: Vincent | U3: OA
C4: Examen | D4: Nom | E4: Prénom | F4: TEL | I4: Examen | J4: Nom | K4: Prénom | L4: TEL | O4: Examen | P4: Nom | Q4: Prénom | R4: TEL | U4: Examen | V4: Nom | W4: Prénom | X4: TEL
A5: 0.34375 | B5: =$C$3 -> NB | C5: Mammo | G5: 0.34375 | H5: =IF(($I$3="Steph_Ma")+OR($I$3="Dominique")+OR($I$3="Julie")+OR($I$3="Dji")+OR($I$3="Martine"),"O","X") -> O | I5: Mammo | M5: 0.34375 | N5: =$O$3 -> Vincent | O5: Rx Gros Os | S5: 0.34375 | T5: =$U$3 -> OA | U5: US Memb.
A6: 0.35416667 | B6: =$C$3 -> NB | C6: Mammo | G6: 0.35416667 | H6: =IF(($I$3="Steph_Ma")+OR($I$3="Dominique")+OR($I$3="Julie")+OR($I$3="Dji")+OR($I$3="Martine"),"O","X") -> O | I6: Mammo | M6: 0.35416667 | N6: =$O$3 -> Vincent | O6: Rx Gros Os | S6: 0.35416667 | T6: =$U$3 -> OA | U6: Seins
A7: =A6+"00:15" -> 0.36458333 | B7: =$C$3 -> NB | C7: Mammo | G7: =G6+"00:15" -> 0.36458333 | H7: =IF(($I$3="Steph_Ma")+OR($I$3="Dominique")+OR($I$3="Julie")+OR($I$3="Dji")+OR($I$3="Martine"),"O","X") -> O | I7: Mammo | M7: =M6+"00:15" -> 0.36458333 | N7: =$O$3 -> Vincent | O7: Rx Gros Os | S7: =S6+"00:15" -> 0.36458333 | T7: =$U$3 -> OA | U7: US thyr
A8: =A7+"00:15" -> 0.375 | B8: =$C$3 -> NB | C8: Mammo | G8: =G7+"00:15" -> 0.375 | H8: =IF(($I$3="Steph_Ma")+OR($I$3="Dominique")+OR($I$3="Julie")+OR($I$3="Dji")+OR($I$3="Martine"),"O","X") -> O | I8: Mammo | M8: =M7+"00:15" -> 0.375 | N8: =$O$3 -> Vincent | O8: Rx Gros Os | S8: =S7+"00:15" -> 0.375 | T8: =$U$3 -> OA | U8: US thyr
A9: =A8+"00:15" -> 0.38541667 | B9: =$C$3 -> NB | C9: Mammo | G9: =G8+"00:15" -> 0.38541667 | H9: =IF(($I$3="Steph_Ma")+OR($I$3="Dominique")+OR($I$3="Julie")+OR($I$3="Dji")+OR($I$3="Martine"),"O","X") -> O | I9: Mammo | M9: =M8+"00:15" -> 0.38541667 | N9: =$O$3 -> Vincent | O9: Rx Gros Os | S9: =S8+"00:15" -> 0.38541667 | T9: =$U$3 -> OA | U9: US thyr
A10: =A9+"00:15" -> 0.39583333 | B10: =$C$3 -> NB | C10: Mammo | G10: =G9+"00:15" -> 0.39583333 | H10: =IF(($I$3="Steph_Ma")+OR($I$3="Dominique")+OR($I$3="Julie")+OR($I$3="Dji")+OR($I$3="Martine"),"O","X") -> O | I10: Mammo | M10: =M9+"00:15" -> 0.39583333 | N10: =$O$3 -> Vincent | O10: Rx Gros Os | S10: =S9+"00:15" -> 0.39583333 | T10: =$U$3 -> OA | U10: US thyr
A11: =A10+"00:15" -> 0.40625 | B11: =$C$3 -> NB | C11: Mammo | G11: =G10+"00:15" -> 0.40625 | H11: =IF(($I$3="Steph_Ma")+OR($I$3="Dominique")+OR($I$3="Julie")+OR($I$3="Dji")+OR($I$3="Martine"),"O","X") -> O | I11: Mammo | M11: =M10+"00:15" -> 0.40625 | N11: =$O$3 -> Vincent | O11: Rx Gros Os | S11: =S10+"00:15" -> 0.40625 | T11: =$U$3 -> OA | U11: US thyr
A12: =A11+"00:15" -> 0.41666667 | B12: =$C$3 -> NB | C12: Mammo | G12: =G11+"00:15" -> 0.41666667 | H12: =IF(($I$3="Steph_Ma")+OR($I$3="Dominique")+OR($I$3="Julie")+OR($I$3="Dji")+OR($I$3="Martine"),"O","X") -> O | I12: Mammo | M12: =M11+"00:15" -> 0.41666667 | N12: =$O$3 -> Vincent | O12: Rx Gros Os | S12: =S11+"00:15" -> 0.41666667 | T12: =$U$3 -> OA | U12: US thyr
A13: =A12+"00:15" -> 0.42708333 | B13: =$C$3 -> NB | C13: Mammo | G13: =G12+"00:15" -> 0.42708333 | H13: =IF(($I$3="Steph_Ma")+OR($I$3="Dominique")+OR($I$3="Julie")+OR($I$3="Dji")+OR($I$3="Martine"),"O","X") -> O | I13: Mammo | M13: =M12+"00:15" -> 0.42708333 | N13: =$O$3 -> Vincent | O13: Rx Gros Os | S13: =S12+"00:15" -> 0.42708333 | T13: =$U$3 -> OA | U13: US thyr
A14: =A13+"00:15" -> 0.4375 | B14: =$C$3 -> NB | C14: Mammo | G14: =G13+"00:15" -> 0.4375 | H14: =IF(($I$3="Steph_Ma")+OR($I$3="Dominique")+OR($I$3="Julie")+OR($I$3="Dji")+OR($I$3="Martine"),"O","X") -> O | I14: Mammo | M14: =M13+"00:15" -> 0.4375 | N14: =$O$3 -> Vincent | O14: Rx Gros Os | S14: =S13+"00:15" -> 0.4375 | T14: =$U$3 -> OA | U14: US thyr
A15: =A14+"00:15" -> 0.44791667 | B15: =$C$3 -> NB | C15: Mammo | G15: =G14+"00:15" -> 0.44791667 | H15: =IF(($I$3="Steph_Ma")+OR($I$3="Dominique")+OR($I$3="Julie")+OR($I$3="Dji")+OR($I$3="Martine"),"O","X") -> O | I15: Mammo | M15: =M14+"00:15" -> 0.44791667 | N15: =$O$3 -> Vincent | O15: Rx Gros Os | S15: =S14+"00:15" -> 0.44791667 | T15: =$U$3 -> OA | U15: US thyr
A16: =A15+"00:15" -> 0.45833333 | B16: =$C$3 -> NB | C16: Mammo | G16: =G15+"00:15" -> 0.45833333 | H16: =IF(($I$3="Steph_Ma")+OR($I$3="Dominique")+OR($I$3="Julie")+OR($I$3="Dji")+OR($I$3="Martine"),"O","X") -> O | I16: Mammo | M16: =M15+"00:15" -> 0.45833333 | N16: =$O$3 -> Vincent | O16: Rx Gros Os | S16: =S15+"00:15" -> 0.45833333 | T16: =$U$3 -> OA | U16: US thyr
A17: =A16+"00:15" -> 0.46875 | B17: =$C$3 -> NB | C17: Mammo | G17: =G16+"00:15" -> 0.46875 | H17: =IF(($I$3="Steph_Ma")+OR($I$3="Dominique")+OR($I$3="Julie")+OR($I$3="Dji")+OR($I$3="Martine"),"O","X") -> O | I17: Mammo | M17: =M16+"00:15" -> 0.46875 | N17: =$O$3 -> Vincent | O17: Rx Gros Os | S17: =S16+"00:15" -> 0.46875 | T17: =$U$3 -> OA | U17: US thyr
A18: =A17+"00:15" -> 0.47916667 | B18: =$C$3 -> NB | C18: Mammo | G18: =G17+"00:15" -> 0.47916667 | H18: =IF(($I$3="Steph_Ma")+OR($I$3="Dominique")+OR($I$3="Julie")+OR($I$3="Dji")+OR($I$3="Martine"),"O","X") -> O | I18: Mammo | M18: =M17+"00:15" -> 0.47916667 | N18: =$O$3 -> Vincent | O18: Rx Gros Os | S18: =S17+"00:15" -> 0.47916667 | T18: =$U$3 -> OA | U18: US thyr
... A20: =A19+"00:15" -> 0.5 | B20: =$C$3 -> NB | C20: Mammo | G20: =G19+"00:15" -> 0.5 | H20: =IF(($I$3="Steph_Ma")+OR($I$3="Dominique")+OR($I$3="Julie")+OR($I$3="Dji")+OR($I$3="Martine"),"O","X") -> O | I20: Mammo | M20: =M19+"00:15" -> 0.5 | N20: =$O$3 -> Vincent | O20: Rx Gros Os | S20: =S19+"00:15" -> 0.5 | T20: =$U$3 -> OA | U20: US thyr
A21: Lundi | C21: US1 | G21: Lundi | I21: Mammo | M21: Lundi | O21: RX | S21: Lundi | U21: Echo Etage
C22: JNP | I22: XX | O22: Steph_Rx | U22: XX
C23: Examen | D23: Nom | E23: Prénom | F23: TEL | I23: Examen | J23: Nom | K23: Prénom | L23: TEL | O23: Examen | P23: Nom | Q23: Prénom | R23: TEL | U23: Examen | V23: Nom | W23: Prénom | X23: TEL
A24: 0.5625 | B24: =$C$22 -> JNP | C24: US Memb. | G24: 0.5625 | H24: =IF(($I$22="Steph_Ma")+OR($I$22="Dominique")+OR($I$22="Julie")+OR($I$22="Dji")+OR($I$22="Martine"),"O","X") -> X | I24: OXO | M24: 0.5625 | N24: =$O$22 -> Steph_Rx | O24: Rx Petit Os | S24: 0.5625 | T24: =$U$22 -> XX | U24: OXO
A25: =A24+"00:15" -> 0.57291667 | B25: =$C$22 -> JNP | C25: Doppler | G25: =G24+"00:15" -> 0.57291667 | H25: =IF(($I$22="Steph_Ma")+OR($I$22="Dominique")+OR($I$22="Julie")+OR($I$22="Dji")+OR($I$22="Martine"),"O","X") -> X | I25: OXO | M25: =M24+"00:15" -> 0.57291667 | N25: =$O$22 -> Steph_Rx | O25: Rx Petit Os | S25: =S24+"00:15" -> 0.57291667 | T25: =$U$22 -> XX | U25: OXO
A26: =A25+"00:15" -> 0.58333333 | B26: =$C$22 -> JNP | C26: Doppler | G26: =G25+"00:15" -> 0.58333333 | H26: =IF(($I$22="Steph_Ma")+OR($I$22="Dominique")+OR($I$22="Julie")+OR($I$22="Dji")+OR($I$22="Martine"),"O","X") -> X | I26: OXO | M26: =M25+"00:15" -> 0.58333333 | N26: =$O$22 -> Steph_Rx | O26: Rx Petit Os | S26: =S25+"00:15" -> 0.58333333 | T26: =$U$22 -> XX | U26: OXO | X26: 475220886
A27: =A26+"00:15" -> 0.59375 | B27: =$C$22 -> JNP | C27: Doppler | G27: =G26+"00:15" -> 0.59375 | H27: =IF(($I$22="Steph_Ma")+OR($I$22="Dominique")+OR($I$22="Julie")+OR($I$22="Dji")+OR($I$22="Martine"),"O","X") -> X | I27: OXO | M27: =M26+"00:15" -> 0.59375 | N27: =$O$22 -> Steph_Rx | O27: Rx Petit Os | S27: =S26+"00:15" -> 0.59375 | T27: =$U$22 -> XX | U27: OXO
A28: =A27+"00:15" -> 0.60416667 | B28: =$C$22 -> JNP | C28: Doppler | G28: =G27+"00:15" -> 0.60416667 | H28: =IF(($I$22="Steph_Ma")+OR($I$22="Dominique")+OR($I$22="Julie")+OR($I$22="Dji")+OR($I$22="Martine"),"O","X") -> X | I28: OXO | M28: =M27+"00:15" -> 0.60416667 | N28: =$O$22 -> Steph_Rx | O28: Rx Petit Os | S28: =S27+"00:15" -> 0.60416667 | T28: =$U$22 -> XX | U28: OXO
A29: =A28+"00:15" -> 0.61458333 | B29: =$C$22 -> JNP | C29: Doppler | G29: =G28+"00:15" -> 0.61458333 | H29: =IF(($I$22="Steph_Ma")+OR($I$22="Dominique")+OR($I$22="Julie")+OR($I$22="Dji")+OR($I$22="Martine"),"O","X") -> X | I29: OXO | M29: =M28+"00:15" -> 0.61458333 | N29: =$O$22 -> Steph_Rx | O29: Rx Petit Os | S29: =S28+"00:15" -> 0.61458333 | T29: =$U$22 -> XX | U29: OXO
A30: =A29+"00:15" -> 0.625 | B30: =$C$22 -> JNP | C30: Doppler | G30: =G29+"00:15" -> 0.625 | H30: =IF(($I$22="Steph_Ma")+OR($I$22="Dominique")+OR($I$22="Julie")+OR($I$22="Dji")+OR($I$22="Martine"),"O","X") -> X | I30: OXO | M30: =M29+"00:15" -> 0.625 | N30: =$O$22 -> Steph_Rx | O30: Rx Petit Os | S30: =S29+"00:15" -> 0.625 | T30: =$U$22 -> XX | U30: OXO
A31: =A30+"00:15" -> 0.63541667 | B31: =$C$22 -> JNP | C31: Doppler | G31: =G30+"00:15" -> 0.63541667 | H31: =IF(($I$22="Steph_Ma")+OR($I$22="Dominique")+OR($I$22="Julie")+OR($I$22="Dji")+OR($I$22="Martine"),"O","X") -> X | I31: OXO | M31: =M30+"00:15" -> 0.63541667 | N31: =$O$22 -> Steph_Rx | O31: Rx Petit Os | S31: =S30+"00:15" -> 0.63541667 | T31: =$U$22 -> XX | U31: OXO
A32: =A31+"00:15" -> 0.64583333 | B32: =$C$22 -> JNP | C32: Doppler | G32: =G31+"00:15" -> 0.64583333 | H32: =IF(($I$22="Steph_Ma")+OR($I$22="Dominique")+OR($I$22="Julie")+OR($I$22="Dji")+OR($I$22="Martine"),"O","X") -> X | I32: OXO | M32: =M31+"00:15" -> 0.64583333 | N32: =$O$22 -> Steph_Rx | O32: Rx Petit Os | S32: =S31+"00:15" -> 0.64583333 | T32: =$U$22 -> XX | U32: OXO
A33: =A32+"00:15" -> 0.65625 | B33: =$C$22 -> JNP | C33: Doppler | G33: =G32+"00:15" -> 0.65625 | H33: =IF(($I$22="Steph_Ma")+OR($I$22="Dominique")+OR($I$22="Julie")+OR($I$22="Dji")+OR($I$22="Martine"),"O","X") -> X | I33: OXO | M33: =M32+"00:15" -> 0.65625 | N33: =$O$22 -> Steph_Rx | O33: Rx Petit Os | S33: =S32+"00:15" -> 0.65625 | T33: =$U$22 -> XX | U33: OXO
A34: =A33+"00:15" -> 0.66666667 | B34: =$C$22 -> JNP | C34: Doppler | G34: =G33+"00:15" -> 0.66666667 | H34: =IF(($I$22="Steph_Ma")+OR($I$22="Dominique")+OR($I$22="Julie")+OR($I$22="Dji")+OR($I$22="Martine"),"O","X") -> X | I34: OXO | M34: =M33+"00:15" -> 0.66666667 | N34: =$O$22 -> Steph_Rx | O34: Rx Petit Os | S34: =S33+"00:15" -> 0.66666667 | T34: =$U$22 -> XX | U34: OXO
A35: =A34+"00:15" -> 0.67708333 | B35: =$C$22 -> JNP | C35: Doppler | G35: =G34+"00:15" -> 0.67708333 | H35: =IF(($I$22="Steph_Ma")+OR($I$22="Dominique")+OR($I$22="Julie")+OR($I$22="Dji")+OR($I$22="Martine"),"O","X") -> X | I35: OXO | M35: =M34+"00:15" -> 0.67708333 | N35: =$O$22 -> Steph_Rx | O35: Rx Petit Os | S35: =S34+"00:15" -> 0.67708333 | T35: =$U$22 -> XX | U35: OXO
A36: =A35+"00:15" -> 0.6875 | B36: =$C$22 -> JNP | C36: Doppler | G36: =G35+"00:15" -> 0.6875 | H36: =IF(($I$22="Steph_Ma")+OR($I$22="Dominique")+OR($I$22="Julie")+OR($I$22="Dji")+OR($I$22="Martine"),"O","X") -> X | I36: OXO | M36: =M35+"00:15" -> 0.6875 | N36: =$O$22 -> Steph_Rx | O36: Rx Petit Os | S36: =S35+"00:15" -> 0.6875 | T36: =$U$22 -> XX | U36: OXO
A37: =A36+"00:15" -> 0.69791667 | B37: =$C$22 -> JNP | C37: Doppler | G37: =G36+"00:15" -> 0.69791667 | H37: =IF(($I$22="Steph_Ma")+OR($I$22="Dominique")+OR($I$22="Julie")+OR($I$22="Dji")+OR($I$22="Martine"),"O","X") -> X | I37: OXO | M37: =M36+"00:15" -> 0.69791667 | N37: =$O$22 -> Steph_Rx | O37: Rx Petit Os | S37: =S36+"00:15" -> 0.69791667 | T37: =$U$22 -> XX | U37: OXO
A38: =A37+"00:15" -> 0.70833333 | B38: =$C$22 -> JNP | C38: Doppler | G38: =G37+"00:15" -> 0.70833333 | H38: =IF(($I$22="Steph_Ma")+OR($I$22="Dominique")+OR($I$22="Julie")+OR($I$22="Dji")+OR($I$22="Martine"),"O","X") -> X | I38: OXO | M38: =M37+"00:15" -> 0.70833333 | N38: =$O$22 -> Steph_Rx | O38: Rx Petit Os | S38: =S37+"00:15" -> 0.70833333 | T38: =$U$22 -> XX | U38: OXO
C39: Plage Libre | D39: Mammo | E39: Rx | F39: Densito | G39: ECHO | H39: DNB | I39: Infilt.
G40: =COUNTIFS($V$5:$V$20,"",$T$5:$T$20,"OA*")+COUNTIFS($V$5:$V$20,"",$T$5:$T$20,"MG*") -> 16
D41: =COUNTIFS($D$24:$D$38,"",$B$24:$B$38,"BF*",H24:H38,"O")+COUNTIFS($D$24:$D$38,"",$B$24:$B$38,"CM*",H24:H38,"O") -> 0 | E41: =COUNTIFS($P$24:$P$38,"",$N$24:$N$38,"Vincent*") -> 0 | G41: =COUNTIFS($V$24:$V$38,"",$T$24:$T$38,"MG*")+COUNTIFS($V$24:$V$38,"",$T$24:$T$38,"OA*") -> 0 | I41: =COUNTIFS($V$14:$V$19,"",$T$14:$T$19,"JNP*") -> 0
...

Sheet 06-01
A1: Menu
A2: Mercredi | C2: Echo Rez | I2: Mammo | O2: RX | U2: Echo Etage
A3: =RIGHT(CELL("filename",A1),LEN(CELL("filename",A1))-SEARCH("]",CELL("filename",A1))) -> 06-01 | C3: CM | I3: Steph_Ma | O3: Vincent | U3: CM
C4: Examen | D4: Nom | E4: Prénom | F4: TEL | I4: Examen | J4: Nom | K4: Prénom | L4: TEL | O4: Examen | P4: Nom | Q4: Prénom | R4: TEL | U4: Examen | V4: Nom | W4: Prénom | X4: TEL
A5: 0.34375 | B5: =$C$3 -> CM | C5: Mammo | G5: 0.34375 | H5: =IF(($I$3="Steph_Ma")+OR($I$3="Dominique")+OR($I$3="Julie")+OR($I$3="Dji")+OR($I$3="Martine"),"O","X") -> O | I5: Mammo | M5: 0.34375 | N5: =$O$3 -> Vincent | O5: Rx Gros Os | S5: 0.34375 | T5: =$U$3 -> CM | U5: US Memb.
A6: 0.35416667 | B6: =$C$3 -> CM | C6: Mammo | G6: 0.35416667 | H6: =IF(($I$3="Steph_Ma")+OR($I$3="Dominique")+OR($I$3="Julie")+OR($I$3="Dji")+OR($I$3="Martine"),"O","X") -> O | I6: Mammo | M6: 0.35416667 | N6: =$O$3 -> Vincent | O6: Rx Gros Os | S6: 0.35416667 | T6: =$U$3 -> CM | U6: Seins
A7: =A6+"00:15" -> 0.36458333 | B7: =$C$3 -> CM | C7: Mammo | G7: =G6+"00:15" -> 0.36458333 | H7: =IF(($I$3="Steph_Ma")+OR($I$3="Dominique")+OR($I$3="Julie")+OR($I$3="Dji")+OR($I$3="Martine"),"O","X") -> O | I7: Mammo | M7: =M6+"00:15" -> 0.36458333 | N7: =$O$3 -> Vincent | O7: Rx Gros Os | S7: =S6+"00:15" -> 0.36458333 | T7: =$U$3 -> CM | U7: US thyr
A8: =A7+"00:15" -> 0.375 | B8: =$C$3 -> CM | C8: Mammo | G8: =G7+"00:15" -> 0.375 | H8: =IF(($I$3="Steph_Ma")+OR($I$3="Dominique")+OR($I$3="Julie")+OR($I$3="Dji")+OR($I$3="Martine"),"O","X") -> O | I8: Mammo | M8: =M7+"00:15" -> 0.375 | N8: =$O$3 -> Vincent | O8: Rx Gros Os | S8: =S7+"00:15" -> 0.375 | T8: =$U$3 -> CM | U8: US thyr
A9: =A8+"00:15" -> 0.38541667 | B9: =$C$3 -> CM | C9: Mammo | G9: =G8+"00:15" -> 0.38541667 | H9: =IF(($I$3="Steph_Ma")+OR($I$3="Dominique")+OR($I$3="Julie")+OR($I$3="Dji")+OR($I$3="Martine"),"O","X") -> O | I9: Mammo | M9: =M8+"00:15" -> 0.38541667 | N9: =$O$3 -> Vincent | O9: Rx Gros Os | S9: =S8+"00:15" -> 0.38541667 | T9: =$U$3 -> CM | U9: US thyr
A10: =A9+"00:15" -> 0.39583333 | B10: =$C$3 -> CM | C10: Mammo | G10: =G9+"00:15" -> 0.39583333 | H10: =IF(($I$3="Steph_Ma")+OR($I$3="Dominique")+OR($I$3="Julie")+OR($I$3="Dji")+OR($I$3="Martine"),"O","X") -> O | I10: Mammo | M10: =M9+"00:15" -> 0.39583333 | N10: =$O$3 -> Vincent | O10: Rx Gros Os | S10: =S9+"00:15" -> 0.39583333 | T10: =$U$3 -> CM | U10: US thyr
A11: =A10+"00:15" -> 0.40625 | B11: =$C$3 -> CM | C11: Mammo | G11: =G10+"00:15" -> 0.40625 | H11: =IF(($I$3="Steph_Ma")+OR($I$3="Dominique")+OR($I$3="Julie")+OR($I$3="Dji")+OR($I$3="Martine"),"O","X") -> O | I11: Mammo | M11: =M10+"00:15" -> 0.40625 | N11: =$O$3 -> Vincent | O11: Rx Gros Os | S11: =S10+"00:15" -> 0.40625 | T11: =$U$3 -> CM | U11: US thyr
A12: =A11+"00:15" -> 0.41666667 | B12: =$C$3 -> CM | C12: Mammo | G12: =G11+"00:15" -> 0.41666667 | H12: =IF(($I$3="Steph_Ma")+OR($I$3="Dominique")+OR($I$3="Julie")+OR($I$3="Dji")+OR($I$3="Martine"),"O","X") -> O | I12: Mammo | M12: =M11+"00:15" -> 0.41666667 | N12: =$O$3 -> Vincent | O12: Rx Gros Os | S12: =S11+"00:15" -> 0.41666667 | T12: =$U$3 -> CM | U12: US thyr
A13: =A12+"00:15" -> 0.42708333 | B13: =$C$3 -> CM | C13: Mammo | G13: =G12+"00:15" -> 0.42708333 | H13: =IF(($I$3="Steph_Ma")+OR($I$3="Dominique")+OR($I$3="Julie")+OR($I$3="Dji")+OR($I$3="Martine"),"O","X") -> O | I13: Mammo | M13: =M12+"00:15" -> 0.42708333 | N13: =$O$3 -> Vincent | O13: Rx Gros Os | S13: =S12+"00:15" -> 0.42708333 | T13: =$U$3 -> CM | U13: US thyr
A14: =A13+"00:15" -> 0.4375 | B14: =$C$3 -> CM | C14: Mammo | G14: =G13+"00:15" -> 0.4375 | H14: =IF(($I$3="Steph_Ma")+OR($I$3="Dominique")+OR($I$3="Julie")+OR($I$3="Dji")+OR($I$3="Martine"),"O","X") -> O | I14: Mammo | M14: =M13+"00:15" -> 0.4375 | N14: =$O$3 -> Vincent | O14: Rx Gros Os | S14: =S13+"00:15" -> 0.4375 | T14: =$U$3 -> CM | U14: US thyr
A15: =A14+"00:15" -> 0.44791667 | B15: =$C$3 -> CM | C15: Mammo | G15: =G14+"00:15" -> 0.44791667 | H15: =IF(($I$3="Steph_Ma")+OR($I$3="Dominique")+OR($I$3="Julie")+OR($I$3="Dji")+OR($I$3="Martine"),"O","X") -> O | I15: Mammo | M15: =M14+"00:15" -> 0.44791667 | N15: =$O$3 -> Vincent | O15: Rx Gros Os | S15: =S14+"00:15" -> 0.44791667 | T15: =$U$3 -> CM | U15: US thyr
A16: =A15+"00:15" -> 0.45833333 | B16: =$C$3 -> CM | C16: Mammo | G16: =G15+"00:15" -> 0.45833333 | H16: =IF(($I$3="Steph_Ma")+OR($I$3="Dominique")+OR($I$3="Julie")+OR($I$3="Dji")+OR($I$3="Martine"),"O","X") -> O | I16: Mammo | M16: =M15+"00:15" -> 0.45833333 | N16: =$O$3 -> Vincent | O16: Rx Gros Os | S16: =S15+"00:15" -> 0.45833333 | T16: =$U$3 -> CM | U16: US thyr
A17: =A16+"00:15" -> 0.46875 | B17: =$C$3 -> CM | C17: Mammo | G17: =G16+"00:15" -> 0.46875 | H17: =IF(($I$3="Steph_Ma")+OR($I$3="Dominique")+OR($I$3="Julie")+OR($I$3="Dji")+OR($I$3="Martine"),"O","X") -> O | I17: Mammo | M17: =M16+"00:15" -> 0.46875 | N17: =$O$3 -> Vincent | O17: Rx Gros Os | S17: =S16+"00:15" -> 0.46875 | T17: =$U$3 -> CM | U17: US thyr
A18: =A17+"00:15" -> 0.47916667 | B18: =$C$3 -> CM | C18: Mammo | G18: =G17+"00:15" -> 0.47916667 | H18: =IF(($I$3="Steph_Ma")+OR($I$3="Dominique")+OR($I$3="Julie")+OR($I$3="Dji")+OR($I$3="Martine"),"O","X") -> O | I18: Mammo | M18: =M17+"00:15" -> 0.47916667 | N18: =$O$3 -> Vincent | O18: Rx Gros Os | S18: =S17+"00:15" -> 0.47916667 | T18: =$U$3 -> CM | U18: US thyr
... A20: =A19+"00:15" -> 0.5 | B20: =$C$3 -> CM | C20: Mammo | G20: =G19+"00:15" -> 0.5 | H20: =IF(($I$3="Steph_Ma")+OR($I$3="Dominique")+OR($I$3="Julie")+OR($I$3="Dji")+OR($I$3="Martine"),"O","X") -> O | I20: Mammo | M20: =M19+"00:15" -> 0.5 | N20: =$O$3 -> Vincent | O20: Rx Gros Os | S20: =S19+"00:15" -> 0.5 | T20: =$U$3 -> CM | U20: US thyr
A21: Lundi | C21: US1 | G21: Lundi | I21: Mammo | M21: Lundi | O21: RX | S21: Lundi | U21: Echo Etage
C22: BF | I22: XX | O22: Steph_Rx | U22: XX
C23: Examen | D23: Nom | E23: Prénom | F23: TEL | I23: Examen | J23: Nom | K23: Prénom | L23: TEL | O23: Examen | P23: Nom | Q23: Prénom | R23: TEL | U23: Examen | V23: Nom | W23: Prénom | X23: TEL
A24: 0.5625 | B24: =$C$22 -> BF | C24: US Memb. | G24: 0.5625 | H24: =IF(($I$22="Steph_Ma")+OR($I$22="Dominique")+OR($I$22="Julie")+OR($I$22="Dji")+OR($I$22="Martine"),"O","X") -> X | I24: OXO | M24: 0.5625 | N24: =$O$22 -> Steph_Rx | O24: Rx Petit Os | S24: 0.5625 | T24: =$U$22 -> XX | U24: OXO
A25: =A24+"00:15" -> 0.57291667 | B25: =$C$22 -> BF | C25: Doppler | G25: =G24+"00:15" -> 0.57291667 | H25: =IF(($I$22="Steph_Ma")+OR($I$22="Dominique")+OR($I$22="Julie")+OR($I$22="Dji")+OR($I$22="Martine"),"O","X") -> X | I25: OXO | M25: =M24+"00:15" -> 0.57291667 | N25: =$O$22 -> Steph_Rx | O25: Rx Petit Os | S25: =S24+"00:15" -> 0.57291667 | T25: =$U$22 -> XX | U25: OXO
A26: =A25+"00:15" -> 0.58333333 | B26: =$C$22 -> BF | C26: Doppler | G26: =G25+"00:15" -> 0.58333333 | H26: =IF(($I$22="Steph_Ma")+OR($I$22="Dominique")+OR($I$22="Julie")+OR($I$22="Dji")+OR($I$22="Martine"),"O","X") -> X | I26: OXO | M26: =M25+"00:15" -> 0.58333333 | N26: =$O$22 -> Steph_Rx | O26: Rx Petit Os | S26: =S25+"00:15" -> 0.58333333 | T26: =$U$22 -> XX | U26: OXO | X26: 475220886
A27: =A26+"00:15" -> 0.59375 | B27: =$C$22 -> BF | C27: Doppler | G27: =G26+"00:15" -> 0.59375 | H27: =IF(($I$22="Steph_Ma")+OR($I$22="Dominique")+OR($I$22="Julie")+OR($I$22="Dji")+OR($I$22="Martine"),"O","X") -> X | I27: OXO | M27: =M26+"00:15" -> 0.59375 | N27: =$O$22 -> Steph_Rx | O27: Rx Petit Os | S27: =S26+"00:15" -> 0.59375 | T27: =$U$22 -> XX | U27: OXO
A28: =A27+"00:15" -> 0.60416667 | B28: =$C$22 -> BF | C28: Doppler | G28: =G27+"00:15" -> 0.60416667 | H28: =IF(($I$22="Steph_Ma")+OR($I$22="Dominique")+OR($I$22="Julie")+OR($I$22="Dji")+OR($I$22="Martine"),"O","X") -> X | I28: OXO | M28: =M27+"00:15" -> 0.60416667 | N28: =$O$22 -> Steph_Rx | O28: Rx Petit Os | S28: =S27+"00:15" -> 0.60416667 | T28: =$U$22 -> XX | U28: OXO
A29: =A28+"00:15" -> 0.61458333 | B29: =$C$22 -> BF | C29: Doppler | G29: =G28+"00:15" -> 0.61458333 | H29: =IF(($I$22="Steph_Ma")+OR($I$22="Dominique")+OR($I$22="Julie")+OR($I$22="Dji")+OR($I$22="Martine"),"O","X") -> X | I29: OXO | M29: =M28+"00:15" -> 0.61458333 | N29: =$O$22 -> Steph_Rx | O29: Rx Petit Os | S29: =S28+"00:15" -> 0.61458333 | T29: =$U$22 -> XX | U29: OXO
A30: =A29+"00:15" -> 0.625 | B30: =$C$22 -> BF | C30: Doppler | G30: =G29+"00:15" -> 0.625 | H30: =IF(($I$22="Steph_Ma")+OR($I$22="Dominique")+OR($I$22="Julie")+OR($I$22="Dji")+OR($I$22="Martine"),"O","X") -> X | I30: OXO | M30: =M29+"00:15" -> 0.625 | N30: =$O$22 -> Steph_Rx | O30: Rx Petit Os | S30: =S29+"00:15" -> 0.625 | T30: =$U$22 -> XX | U30: OXO
A31: =A30+"00:15" -> 0.63541667 | B31: =$C$22 -> BF | C31: Doppler | G31: =G30+"00:15" -> 0.63541667 | H31: =IF(($I$22="Steph_Ma")+OR($I$22="Dominique")+OR($I$22="Julie")+OR($I$22="Dji")+OR($I$22="Martine"),"O","X") -> X | I31: OXO | M31: =M30+"00:15" -> 0.63541667 | N31: =$O$22 -> Steph_Rx | O31: Rx Petit Os | S31: =S30+"00:15" -> 0.63541667 | T31: =$U$22 -> XX | U31: OXO
A32: =A31+"00:15" -> 0.64583333 | B32: =$C$22 -> BF | C32: Doppler | G32: =G31+"00:15" -> 0.64583333 | H32: =IF(($I$22="Steph_Ma")+OR($I$22="Dominique")+OR($I$22="Julie")+OR($I$22="Dji")+OR($I$22="Martine"),"O","X") -> X | I32: OXO | M32: =M31+"00:15" -> 0.64583333 | N32: =$O$22 -> Steph_Rx | O32: Rx Petit Os | S32: =S31+"00:15" -> 0.64583333 | T32: =$U$22 -> XX | U32: OXO
A33: =A32+"00:15" -> 0.65625 | B33: =$C$22 -> BF | C33: Doppler | G33: =G32+"00:15" -> 0.65625 | H33: =IF(($I$22="Steph_Ma")+OR($I$22="Dominique")+OR($I$22="Julie")+OR($I$22="Dji")+OR($I$22="Martine"),"O","X") -> X | I33: OXO | M33: =M32+"00:15" -> 0.65625 | N33: =$O$22 -> Steph_Rx | O33: Rx Petit Os | S33: =S32+"00:15" -> 0.65625 | T33: =$U$22 -> XX | U33: OXO
A34: =A33+"00:15" -> 0.66666667 | B34: =$C$22 -> BF | C34: Doppler | G34: =G33+"00:15" -> 0.66666667 | H34: =IF(($I$22="Steph_Ma")+OR($I$22="Dominique")+OR($I$22="Julie")+OR($I$22="Dji")+OR($I$22="Martine"),"O","X") -> X | I34: OXO | M34: =M33+"00:15" -> 0.66666667 | N34: =$O$22 -> Steph_Rx | O34: Rx Petit Os | S34: =S33+"00:15" -> 0.66666667 | T34: =$U$22 -> XX | U34: OXO
A35: =A34+"00:15" -> 0.67708333 | B35: =$C$22 -> BF | C35: Doppler | G35: =G34+"00:15" -> 0.67708333 | H35: =IF(($I$22="Steph_Ma")+OR($I$22="Dominique")+OR($I$22="Julie")+OR($I$22="Dji")+OR($I$22="Martine"),"O","X") -> X | I35: OXO | M35: =M34+"00:15" -> 0.67708333 | N35: =$O$22 -> Steph_Rx | O35: Rx Petit Os | S35: =S34+"00:15" -> 0.67708333 | T35: =$U$22 -> XX | U35: OXO
A36: =A35+"00:15" -> 0.6875 | B36: =$C$22 -> BF | C36: Doppler | G36: =G35+"00:15" -> 0.6875 | H36: =IF(($I$22="Steph_Ma")+OR($I$22="Dominique")+OR($I$22="Julie")+OR($I$22="Dji")+OR($I$22="Martine"),"O","X") -> X | I36: OXO | M36: =M35+"00:15" -> 0.6875 | N36: =$O$22 -> Steph_Rx | O36: Rx Petit Os | S36: =S35+"00:15" -> 0.6875 | T36: =$U$22 -> XX | U36: OXO
A37: =A36+"00:15" -> 0.69791667 | B37: =$C$22 -> BF | C37: Doppler | G37: =G36+"00:15" -> 0.69791667 | H37: =IF(($I$22="Steph_Ma")+OR($I$22="Dominique")+OR($I$22="Julie")+OR($I$22="Dji")+OR($I$22="Martine"),"O","X") -> X | I37: OXO | M37: =M36+"00:15" -> 0.69791667 | N37: =$O$22 -> Steph_Rx | O37: Rx Petit Os | S37: =S36+"00:15" -> 0.69791667 | T37: =$U$22 -> XX | U37: OXO
A38: =A37+"00:15" -> 0.70833333 | B38: =$C$22 -> BF | C38: Doppler | G38: =G37+"00:15" -> 0.70833333 | H38: =IF(($I$22="Steph_Ma")+OR($I$22="Dominique")+OR($I$22="Julie")+OR($I$22="Dji")+OR($I$22="Martine"),"O","X") -> X | I38: OXO | M38: =M37+"00:15" -> 0.70833333 | N38: =$O$22 -> Steph_Rx | O38: Rx Petit Os | S38: =S37+"00:15" -> 0.70833333 | T38: =$U$22 -> XX | U38: OXO
C39: Plage Libre | D39: Mammo | E39: Rx | F39: Densito | G39: ECHO | H39: DNB | I39: Infilt.
G40: =COUNTIFS($V$5:$V$20,"",$T$5:$T$20,"OA*")+COUNTIFS($V$5:$V$20,"",$T$5:$T$20,"MG*") -> 0
D41: =COUNTIFS($D$24:$D$38,"",$B$24:$B$38,"BF*",H24:H38,"O")+COUNTIFS($D$24:$D$38,"",$B$24:$B$38,"CM*",H24:H38,"O") -> 0 | E41: =COUNTIFS($P$24:$P$38,"",$N$24:$N$38,"Vincent*") -> 0 | G41: =COUNTIFS($V$24:$V$38,"",$T$24:$T$38,"MG*")+COUNTIFS($V$24:$V$38,"",$T$24:$T$38,"OA*") -> 0 | I41: =COUNTIFS($V$14:$V$19,"",$T$14:$T$19,"JNP*") -> 0
...

Sheet 07-01
A1: Menu
A2: Jeudi | C2: Echo Rez | I2: Mammo | O2: RX | U2: Echo Etage
A3: =RIGHT(CELL("filename",A1),LEN(CELL("filename",A1))-SEARCH("]",CELL("filename",A1))) -> 07-01 | C3: CM | I3: Steph_Ma | O3: Vincent | U3: JNP
C4: Examen | D4: Nom | E4: Prénom | F4: TEL | I4: Examen | J4: Nom | K4: Prénom | L4: TEL | O4: Examen | P4: Nom | Q4: Prénom | R4: TEL | U4: Examen | V4: Nom | W4: Prénom | X4: TEL
A5: 0.34375 | B5: =$C$3 -> CM | C5: Mammo | G5: 0.34375 | H5: =IF(($I$3="Steph_Ma")+OR($I$3="Dominique")+OR($I$3="Julie")+OR($I$3="Dji")+OR($I$3="Martine"),"O","X") -> O | I5: Mammo | M5: 0.34375 | N5: =$O$3 -> Vincent | O5: Rx Gros Os | S5: 0.34375 | T5: =$U$3 -> JNP | U5: US Memb.
A6: 0.35416667 | B6: =$C$3 -> CM | C6: Mammo | G6: 0.35416667 | H6: =IF(($I$3="Steph_Ma")+OR($I$3="Dominique")+OR($I$3="Julie")+OR($I$3="Dji")+OR($I$3="Martine"),"O","X") -> O | I6: Mammo | M6: 0.35416667 | N6: =$O$3 -> Vincent | O6: Rx Gros Os | S6: 0.35416667 | T6: =$U$3 -> JNP | U6: Seins
A7: =A6+"00:15" -> 0.36458333 | B7: =$C$3 -> CM | C7: Mammo | G7: =G6+"00:15" -> 0.36458333 | H7: =IF(($I$3="Steph_Ma")+OR($I$3="Dominique")+OR($I$3="Julie")+OR($I$3="Dji")+OR($I$3="Martine"),"O","X") -> O | I7: Mammo | M7: =M6+"00:15" -> 0.36458333 | N7: =$O$3 -> Vincent | O7: Rx Gros Os | S7: =S6+"00:15" -> 0.36458333 | T7: =$U$3 -> JNP | U7: US thyr
A8: =A7+"00:15" -> 0.375 | B8: =$C$3 -> CM | C8: Mammo | G8: =G7+"00:15" -> 0.375 | H8: =IF(($I$3="Steph_Ma")+OR($I$3="Dominique")+OR($I$3="Julie")+OR($I$3="Dji")+OR($I$3="Martine"),"O","X") -> O | I8: Mammo | M8: =M7+"00:15" -> 0.375 | N8: =$O$3 -> Vincent | O8: Rx Gros Os | S8: =S7+"00:15" -> 0.375 | T8: =$U$3 -> JNP | U8: US thyr
A9: =A8+"00:15" -> 0.38541667 | B9: =$C$3 -> CM | C9: Mammo | G9: =G8+"00:15" -> 0.38541667 | H9: =IF(($I$3="Steph_Ma")+OR($I$3="Dominique")+OR($I$3="Julie")+OR($I$3="Dji")+OR($I$3="Martine"),"O","X") -> O | I9: Mammo | M9: =M8+"00:15" -> 0.38541667 | N9: =$O$3 -> Vincent | O9: Rx Gros Os | S9: =S8+"00:15" -> 0.38541667 | T9: =$U$3 -> JNP | U9: US thyr
A10: =A9+"00:15" -> 0.39583333 | B10: =$C$3 -> CM | C10: Mammo | G10: =G9+"00:15" -> 0.39583333 | H10: =IF(($I$3="Steph_Ma")+OR($I$3="Dominique")+OR($I$3="Julie")+OR($I$3="Dji")+OR($I$3="Martine"),"O","X") -> O | I10: Mammo | M10: =M9+"00:15" -> 0.39583333 | N10: =$O$3 -> Vincent | O10: Rx Gros Os | S10: =S9+"00:15" -> 0.39583333 | T10: =$U$3 -> JNP | U10: US thyr
A11: =A10+"00:15" -> 0.40625 | B11: =$C$3 -> CM | C11: Mammo | G11: =G10+"00:15" -> 0.40625 | H11: =IF(($I$3="Steph_Ma")+OR($I$3="Dominique")+OR($I$3="Julie")+OR($I$3="Dji")+OR($I$3="Martine"),"O","X") -> O | I11: Mammo | M11: =M10+"00:15" -> 0.40625 | N11: =$O$3 -> Vincent | O11: Rx Gros Os | S11: =S10+"00:15" -> 0.40625 | T11: =$U$3 -> JNP | U11: US thyr
A12: =A11+"00:15" -> 0.41666667 | B12: =$C$3 -> CM | C12: Mammo | G12: =G11+"00:15" -> 0.41666667 | H12: =IF(($I$3="Steph_Ma")+OR($I$3="Dominique")+OR($I$3="Julie")+OR($I$3="Dji")+OR($I$3="Martine"),"O","X") -> O | I12: Mammo | M12: =M11+"00:15" -> 0.41666667 | N12: =$O$3 -> Vincent | O12: Rx Gros Os | S12: =S11+"00:15" -> 0.41666667 | T12: =$U$3 -> JNP | U12: US thyr
A13: =A12+"00:15" -> 0.42708333 | B13: =$C$3 -> CM | C13: Mammo | G13: =G12+"00:15" -> 0.42708333 | H13: =IF(($I$3="Steph_Ma")+OR($I$3="Dominique")+OR($I$3="Julie")+OR($I$3="Dji")+OR($I$3="Martine"),"O","X") -> O | I13: Mammo | M13: =M12+"00:15" -> 0.42708333 | N13: =$O$3 -> Vincent | O13: Rx Gros Os | S13: =S12+"00:15" -> 0.42708333 | T13: =$U$3 -> JNP | U13: US thyr
A14: =A13+"00:15" -> 0.4375 | B14: =$C$3 -> CM | C14: Mammo | G14: =G13+"00:15" -> 0.4375 | H14: =IF(($I$3="Steph_Ma")+OR($I$3="Dominique")+OR($I$3="Julie")+OR($I$3="Dji")+OR($I$3="Martine"),"O","X") -> O | I14: Mammo | M14: =M13+"00:15" -> 0.4375 | N14: =$O$3 -> Vincent | O14: Rx Gros Os | S14: =S13+"00:15" -> 0.4375 | T14: =$U$3 -> JNP | U14: US thyr
A15: =A14+"00:15" -> 0.44791667 | B15: =$C$3 -> CM | C15: Mammo | G15: =G14+"00:15" -> 0.44791667 | H15: =IF(($I$3="Steph_Ma")+OR($I$3="Dominique")+OR($I$3="Julie")+OR($I$3="Dji")+OR($I$3="Martine"),"O","X") -> O | I15: Mammo | M15: =M14+"00:15" -> 0.44791667 | N15: =$O$3 -> Vincent | O15: Rx Gros Os | S15: =S14+"00:15" -> 0.44791667 | T15: =$U$3 -> JNP | U15: US thyr
A16: =A15+"00:15" -> 0.45833333 | B16: =$C$3 -> CM | C16: Mammo | G16: =G15+"00:15" -> 0.45833333 | H16: =IF(($I$3="Steph_Ma")+OR($I$3="Dominique")+OR($I$3="Julie")+OR($I$3="Dji")+OR($I$3="Martine"),"O","X") -> O | I16: Mammo | M16: =M15+"00:15" -> 0.45833333 | N16: =$O$3 -> Vincent | O16: Rx Gros Os | S16: =S15+"00:15" -> 0.45833333 | T16: =$U$3 -> JNP | U16: US thyr
A17: =A16+"00:15" -> 0.46875 | B17: =$C$3 -> CM | C17: Mammo | G17: =G16+"00:15" -> 0.46875 | H17: =IF(($I$3="Steph_Ma")+OR($I$3="Dominique")+OR($I$3="Julie")+OR($I$3="Dji")+OR($I$3="Martine"),"O","X") -> O | I17: Mammo | M17: =M16+"00:15" -> 0.46875 | N17: =$O$3 -> Vincent | O17: Rx Gros Os | S17: =S16+"00:15" -> 0.46875 | T17: =$U$3 -> JNP | U17: US thyr
A18: =A17+"00:15" -> 0.47916667 | B18: =$C$3 -> CM | C18: Mammo | G18: =G17+"00:15" -> 0.47916667 | H18: =IF(($I$3="Steph_Ma")+OR($I$3="Dominique")+OR($I$3="Julie")+OR($I$3="Dji")+OR($I$3="Martine"),"O","X") -> O | I18: Mammo | M18: =M17+"00:15" -> 0.47916667 | N18: =$O$3 -> Vincent | O18: Rx Gros Os | S18: =S17+"00:15" -> 0.47916667 | T18: =$U$3 -> JNP | U18: US thyr
... A20: =A19+"00:15" -> 0.5 | B20: =$C$3 -> CM | C20: Mammo | G20: =G19+"00:15" -> 0.5 | H20: =IF(($I$3="Steph_Ma")+OR($I$3="Dominique")+OR($I$3="Julie")+OR($I$3="Dji")+OR($I$3="Martine"),"O","X") -> O | I20: Mammo | M20: =M19+"00:15" -> 0.5 | N20: =$O$3 -> Vincent | O20: Rx Gros Os | S20: =S19+"00:15" -> 0.5 | T20: =$U$3 -> JNP | U20: US thyr
A21: Lundi | C21: US1 | G21: Lundi | I21: Mammo | M21: Lundi | O21: RX | S21: Lundi | U21: Echo Etage
C22: CM | I22: XX | O22: Steph_Rx | U22: XX
C23: Examen | D23: Nom | E23: Prénom | F23: TEL | I23: Examen | J23: Nom | K23: Prénom | L23: TEL | O23: Examen | P23: Nom | Q23: Prénom | R23: TEL | U23: Examen | V23: Nom | W23: Prénom | X23: TEL
A24: 0.5625 | B24: =$C$22 -> CM | C24: US Memb. | G24: 0.5625 | H24: =IF(($I$22="Steph_Ma")+OR($I$22="Dominique")+OR($I$22="Julie")+OR($I$22="Dji")+OR($I$22="Martine"),"O","X") -> X | I24: OXO | M24: 0.5625 | N24: =$O$22 -> Steph_Rx | O24: Rx Petit Os | S24: 0.5625 | T24: =$U$22 -> XX | U24: OXO
A25: =A24+"00:15" -> 0.57291667 | B25: =$C$22 -> CM | C25: Doppler | G25: =G24+"00:15" -> 0.57291667 | H25: =IF(($I$22="Steph_Ma")+OR($I$22="Dominique")+OR($I$22="Julie")+OR($I$22="Dji")+OR($I$22="Martine"),"O","X") -> X | I25: OXO | M25: =M24+"00:15" -> 0.57291667 | N25: =$O$22 -> Steph_Rx | O25: Rx Petit Os | S25: =S24+"00:15" -> 0.57291667 | T25: =$U$22 -> XX | U25: OXO
A26: =A25+"00:15" -> 0.58333333 | B26: =$C$22 -> CM | C26: Doppler | G26: =G25+"00:15" -> 0.58333333 | H26: =IF(($I$22="Steph_Ma")+OR($I$22="Dominique")+OR($I$22="Julie")+OR($I$22="Dji")+OR($I$22="Martine"),"O","X") -> X | I26: OXO | M26: =M25+"00:15" -> 0.58333333 | N26: =$O$22 -> Steph_Rx | O26: Rx Petit Os | S26: =S25+"00:15" -> 0.58333333 | T26: =$U$22 -> XX | U26: OXO | X26: 475220886
A27: =A26+"00:15" -> 0.59375 | B27: =$C$22 -> CM | C27: Doppler | G27: =G26+"00:15" -> 0.59375 | H27: =IF(($I$22="Steph_Ma")+OR($I$22="Dominique")+OR($I$22="Julie")+OR($I$22="Dji")+OR($I$22="Martine"),"O","X") -> X | I27: OXO | M27: =M26+"00:15" -> 0.59375 | N27: =$O$22 -> Steph_Rx | O27: Rx Petit Os | S27: =S26+"00:15" -> 0.59375 | T27: =$U$22 -> XX | U27: OXO
A28: =A27+"00:15" -> 0.60416667 | B28: =$C$22 -> CM | C28: Doppler | G28: =G27+"00:15" -> 0.60416667 | H28: =IF(($I$22="Steph_Ma")+OR($I$22="Dominique")+OR($I$22="Julie")+OR($I$22="Dji")+OR($I$22="Martine"),"O","X") -> X | I28: OXO | M28: =M27+"00:15" -> 0.60416667 | N28: =$O$22 -> Steph_Rx | O28: Rx Petit Os | S28: =S27+"00:15" -> 0.60416667 | T28: =$U$22 -> XX | U28: OXO
A29: =A28+"00:15" -> 0.61458333 | B29: =$C$22 -> CM | C29: Doppler | G29: =G28+"00:15" -> 0.61458333 | H29: =IF(($I$22="Steph_Ma")+OR($I$22="Dominique")+OR($I$22="Julie")+OR($I$22="Dji")+OR($I$22="Martine"),"O","X") -> X | I29: OXO | M29: =M28+"00:15" -> 0.61458333 | N29: =$O$22 -> Steph_Rx | O29: Rx Petit Os | S29: =S28+"00:15" -> 0.61458333 | T29: =$U$22 -> XX | U29: OXO
A30: =A29+"00:15" -> 0.625 | B30: =$C$22 -> CM | C30: Doppler | G30: =G29+"00:15" -> 0.625 | H30: =IF(($I$22="Steph_Ma")+OR($I$22="Dominique")+OR($I$22="Julie")+OR($I$22="Dji")+OR($I$22="Martine"),"O","X") -> X | I30: OXO | M30: =M29+"00:15" -> 0.625 | N30: =$O$22 -> Steph_Rx | O30: Rx Petit Os | S30: =S29+"00:15" -> 0.625 | T30: =$U$22 -> XX | U30: OXO
A31: =A30+"00:15" -> 0.63541667 | B31: =$C$22 -> CM | C31: Doppler | G31: =G30+"00:15" -> 0.63541667 | H31: =IF(($I$22="Steph_Ma")+OR($I$22="Dominique")+OR($I$22="Julie")+OR($I$22="Dji")+OR($I$22="Martine"),"O","X") -> X | I31: OXO | M31: =M30+"00:15" -> 0.63541667 | N31: =$O$22 -> Steph_Rx | O31: Rx Petit Os | S31: =S30+"00:15" -> 0.63541667 | T31: =$U$22 -> XX | U31: OXO
A32: =A31+"00:15" -> 0.64583333 | B32: =$C$22 -> CM | C32: Doppler | G32: =G31+"00:15" -> 0.64583333 | H32: =IF(($I$22="Steph_Ma")+OR($I$22="Dominique")+OR($I$22="Julie")+OR($I$22="Dji")+OR($I$22="Martine"),"O","X") -> X | I32: OXO | M32: =M31+"00:15" -> 0.64583333 | N32: =$O$22 -> Steph_Rx | O32: Rx Petit Os | S32: =S31+"00:15" -> 0.64583333 | T32: =$U$22 -> XX | U32: OXO
A33: =A32+"00:15" -> 0.65625 | B33: =$C$22 -> CM | C33: Doppler | G33: =G32+"00:15" -> 0.65625 | H33: =IF(($I$22="Steph_Ma")+OR($I$22="Dominique")+OR($I$22="Julie")+OR($I$22="Dji")+OR($I$22="Martine"),"O","X") -> X | I33: OXO | M33: =M32+"00:15" -> 0.65625 | N33: =$O$22 -> Steph_Rx | O33: Rx Petit Os | S33: =S32+"00:15" -> 0.65625 | T33: =$U$22 -> XX | U33: OXO
A34: =A33+"00:15" -> 0.66666667 | B34: =$C$22 -> CM | C34: Doppler | G34: =G33+"00:15" -> 0.66666667 | H34: =IF(($I$22="Steph_Ma")+OR($I$22="Dominique")+OR($I$22="Julie")+OR($I$22="Dji")+OR($I$22="Martine"),"O","X") -> X | I34: OXO | M34: =M33+"00:15" -> 0.66666667 | N34: =$O$22 -> Steph_Rx | O34: Rx Petit Os | S34: =S33+"00:15" -> 0.66666667 | T34: =$U$22 -> XX | U34: OXO
A35: =A34+"00:15" -> 0.67708333 | B35: =$C$22 -> CM | C35: Doppler | G35: =G34+"00:15" -> 0.67708333 | H35: =IF(($I$22="Steph_Ma")+OR($I$22="Dominique")+OR($I$22="Julie")+OR($I$22="Dji")+OR($I$22="Martine"),"O","X") -> X | I35: OXO | M35: =M34+"00:15" -> 0.67708333 | N35: =$O$22 -> Steph_Rx | O35: Rx Petit Os | S35: =S34+"00:15" -> 0.67708333 | T35: =$U$22 -> XX | U35: OXO
A36: =A35+"00:15" -> 0.6875 | B36: =$C$22 -> CM | C36: Doppler | G36: =G35+"00:15" -> 0.6875 | H36: =IF(($I$22="Steph_Ma")+OR($I$22="Dominique")+OR($I$22="Julie")+OR($I$22="Dji")+OR($I$22="Martine"),"O","X") -> X | I36: OXO | M36: =M35+"00:15" -> 0.6875 | N36: =$O$22 -> Steph_Rx | O36: Rx Petit Os | S36: =S35+"00:15" -> 0.6875 | T36: =$U$22 -> XX | U36: OXO
A37: =A36+"00:15" -> 0.69791667 | B37: =$C$22 -> CM | C37: Doppler | G37: =G36+"00:15" -> 0.69791667 | H37: =IF(($I$22="Steph_Ma")+OR($I$22="Dominique")+OR($I$22="Julie")+OR($I$22="Dji")+OR($I$22="Martine"),"O","X") -> X | I37: OXO | M37: =M36+"00:15" -> 0.69791667 | N37: =$O$22 -> Steph_Rx | O37: Rx Petit Os | S37: =S36+"00:15" -> 0.69791667 | T37: =$U$22 -> XX | U37: OXO
A38: =A37+"00:15" -> 0.70833333 | B38: =$C$22 -> CM | C38: Doppler | G38: =G37+"00:15" -> 0.70833333 | H38: =IF(($I$22="Steph_Ma")+OR($I$22="Dominique")+OR($I$22="Julie")+OR($I$22="Dji")+OR($I$22="Martine"),"O","X") -> X | I38: OXO | M38: =M37+"00:15" -> 0.70833333 | N38: =$O$22 -> Steph_Rx | O38: Rx Petit Os | S38: =S37+"00:15" -> 0.70833333 | T38: =$U$22 -> XX | U38: OXO
C39: Plage Libre | D39: Mammo | E39: Rx | F39: Densito | G39: ECHO | H39: DNB | I39: Infilt.
G40: =COUNTIFS($V$5:$V$20,"",$T$5:$T$20,"OA*")+COUNTIFS($V$5:$V$20,"",$T$5:$T$20,"MG*") -> 0
D41: =COUNTIFS($D$24:$D$38,"",$B$24:$B$38,"BF*",H24:H38,"O")+COUNTIFS($D$24:$D$38,"",$B$24:$B$38,"CM*",H24:H38,"O") -> 0 | E41: =COUNTIFS($P$24:$P$38,"",$N$24:$N$38,"Vincent*") -> 0 | G41: =COUNTIFS($V$24:$V$38,"",$T$24:$T$38,"MG*")+COUNTIFS($V$24:$V$38,"",$T$24:$T$38,"OA*") -> 0 | I41: =COUNTIFS($V$14:$V$19,"",$T$14:$T$19,"JNP*") -> 6
...

Sheet 08-01
A1: Menu
A2: Vendredi | C2: Echo Rez | I2: Mammo | O2: RX | U2: Echo Etage
A3: =RIGHT(CELL("filename",A1),LEN(CELL("filename",A1))-SEARCH("]",CELL("filename",A1))) -> 08-01 | C3: NB | I3: Steph_Ma | O3: Vincent | U3: OA
C4: Examen | D4: Nom | E4: Prénom | F4: TEL | I4: Examen | J4: Nom | K4: Prénom | L4: TEL | O4: Examen | P4: Nom | Q4: Prénom | R4: TEL | U4: Examen | V4: Nom | W4: Prénom | X4: TEL
A5: 0.34375 | B5: =$C$3 -> NB | C5: Mammo | G5: 0.34375 | H5: =IF(($I$3="Steph_Ma")+OR($I$3="Dominique")+OR($I$3="Julie")+OR($I$3="Dji")+OR($I$3="Martine"),"O","X") -> O | I5: Mammo | M5: 0.34375 | N5: =$O$3 -> Vincent | O5: Rx Gros Os | S5: 0.34375 | T5: =$U$3 -> OA | U5: US Memb.
A6: 0.35416667 | B6: =$C$3 -> NB | C6: Mammo | G6: 0.35416667 | H6: =IF(($I$3="Steph_Ma")+OR($I$3="Dominique")+OR($I$3="Julie")+OR($I$3="Dji")+OR($I$3="Martine"),"O","X") -> O | I6: Mammo | M6: 0.35416667 | N6: =$O$3 -> Vincent | O6: Rx Gros Os | S6: 0.35416667 | T6: =$U$3 -> OA | U6: Seins
A7: =A6+"00:15" -> 0.36458333 | B7: =$C$3 -> NB | C7: Mammo | G7: =G6+"00:15" -> 0.36458333 | H7: =IF(($I$3="Steph_Ma")+OR($I$3="Dominique")+OR($I$3="Julie")+OR($I$3="Dji")+OR($I$3="Martine"),"O","X") -> O | I7: Mammo | M7: =M6+"00:15" -> 0.36458333 | N7: =$O$3 -> Vincent | O7: Rx Gros Os | S7: =S6+"00:15" -> 0.36458333 | T7: =$U$3 -> OA | U7: US thyr
A8: =A7+"00:15" -> 0.375 | B8: =$C$3 -> NB | C8: Mammo | G8: =G7+"00:15" -> 0.375 | H8: =IF(($I$3="Steph_Ma")+OR($I$3="Dominique")+OR($I$3="Julie")+OR($I$3="Dji")+OR($I$3="Martine"),"O","X") -> O | I8: Mammo | M8: =M7+"00:15" -> 0.375 | N8: =$O$3 -> Vincent | O8: Rx Gros Os | S8: =S7+"00:15" -> 0.375 | T8: =$U$3 -> OA | U8: US thyr
A9: =A8+"00:15" -> 0.38541667 | B9: =$C$3 -> NB | C9: Mammo | G9: =G8+"00:15" -> 0.38541667 | H9: =IF(($I$3="Steph_Ma")+OR($I$3="Dominique")+OR($I$3="Julie")+OR($I$3="Dji")+OR($I$3="Martine"),"O","X") -> O | I9: Mammo | M9: =M8+"00:15" -> 0.38541667 | N9: =$O$3 -> Vincent | O9: Rx Gros Os | S9: =S8+"00:15" -> 0.38541667 | T9: =$U$3 -> OA | U9: US thyr
A10: =A9+"00:15" -> 0.39583333 | B10: =$C$3 -> NB | C10: Mammo | G10: =G9+"00:15" -> 0.39583333 | H10: =IF(($I$3="Steph_Ma")+OR($I$3="Dominique")+OR($I$3="Julie")+OR($I$3="Dji")+OR($I$3="Martine"),"O","X") -> O | I10: Mammo | M10: =M9+"00:15" -> 0.39583333 | N10: =$O$3 -> Vincent | O10: Rx Gros Os | S10: =S9+"00:15" -> 0.39583333 | T10: =$U$3 -> OA | U10: US thyr
A11: =A10+"00:15" -> 0.40625 | B11: =$C$3 -> NB | C11: Mammo | G11: =G10+"00:15" -> 0.40625 | H11: =IF(($I$3="Steph_Ma")+OR($I$3="Dominique")+OR($I$3="Julie")+OR($I$3="Dji")+OR($I$3="Martine"),"O","X") -> O | I11: Mammo | M11: =M10+"00:15" -> 0.40625 | N11: =$O$3 -> Vincent | O11: Rx Gros Os | S11: =S10+"00:15" -> 0.40625 | T11: =$U$3 -> OA | U11: US thyr
A12: =A11+"00:15" -> 0.41666667 | B12: =$C$3 -> NB | C12: Mammo | G12: =G11+"00:15" -> 0.41666667 | H12: =IF(($I$3="Steph_Ma")+OR($I$3="Dominique")+OR($I$3="Julie")+OR($I$3="Dji")+OR($I$3="Martine"),"O","X") -> O | I12: Mammo | M12: =M11+"00:15" -> 0.41666667 | N12: =$O$3 -> Vincent | O12: Rx Gros Os | S12: =S11+"00:15" -> 0.41666667 | T12: =$U$3 -> OA | U12: US thyr
A13: =A12+"00:15" -> 0.42708333 | B13: =$C$3 -> NB | C13: Mammo | G13: =G12+"00:15" -> 0.42708333 | H13: =IF(($I$3="Steph_Ma")+OR($I$3="Dominique")+OR($I$3="Julie")+OR($I$3="Dji")+OR($I$3="Martine"),"O","X") -> O | I13: Mammo | M13: =M12+"00:15" -> 0.42708333 | N13: =$O$3 -> Vincent | O13: Rx Gros Os | S13: =S12+"00:15" -> 0.42708333 | T13: =$U$3 -> OA | U13: US thyr
A14: =A13+"00:15" -> 0.4375 | B14: =$C$3 -> NB | C14: Mammo | G14: =G13+"00:15" -> 0.4375 | H14: =IF(($I$3="Steph_Ma")+OR($I$3="Dominique")+OR($I$3="Julie")+OR($I$3="Dji")+OR($I$3="Martine"),"O","X") -> O | I14: Mammo | M14: =M13+"00:15" -> 0.4375 | N14: =$O$3 -> Vincent | O14: Rx Gros Os | S14: =S13+"00:15" -> 0.4375 | T14: =$U$3 -> OA | U14: US thyr
A15: =A14+"00:15" -> 0.44791667 | B15: =$C$3 -> NB | C15: Mammo | G15: =G14+"00:15" -> 0.44791667 | H15: =IF(($I$3="Steph_Ma")+OR($I$3="Dominique")+OR($I$3="Julie")+OR($I$3="Dji")+OR($I$3="Martine"),"O","X") -> O | I15: Mammo | M15: =M14+"00:15" -> 0.44791667 | N15: =$O$3 -> Vincent | O15: Rx Gros Os | S15: =S14+"00:15" -> 0.44791667 | T15: =$U$3 -> OA | U15: US thyr
A16: =A15+"00:15" -> 0.45833333 | B16: =$C$3 -> NB | C16: Mammo | G16: =G15+"00:15" -> 0.45833333 | H16: =IF(($I$3="Steph_Ma")+OR($I$3="Dominique")+OR($I$3="Julie")+OR($I$3="Dji")+OR($I$3="Martine"),"O","X") -> O | I16: Mammo | M16: =M15+"00:15" -> 0.45833333 | N16: =$O$3 -> Vincent | O16: Rx Gros Os | S16: =S15+"00:15" -> 0.45833333 | T16: =$U$3 -> OA | U16: US thyr
A17: =A16+"00:15" -> 0.46875 | B17: =$C$3 -> NB | C17: Mammo | G17: =G16+"00:15" -> 0.46875 | H17: =IF(($I$3="Steph_Ma")+OR($I$3="Dominique")+OR($I$3="Julie")+OR($I$3="Dji")+OR($I$3="Martine"),"O","X") -> O | I17: Mammo | M17: =M16+"00:15" -> 0.46875 | N17: =$O$3 -> Vincent | O17: Rx Gros Os | S17: =S16+"00:15" -> 0.46875 | T17: =$U$3 -> OA | U17: US thyr
A18: =A17+"00:15" -> 0.47916667 | B18: =$C$3 -> NB | C18: Mammo | G18: =G17+"00:15" -> 0.47916667 | H18: =IF(($I$3="Steph_Ma")+OR($I$3="Dominique")+OR($I$3="Julie")+OR($I$3="Dji")+OR($I$3="Martine"),"O","X") -> O | I18: Mammo | M18: =M17+"00:15" -> 0.47916667 | N18: =$O$3 -> Vincent | O18: Rx Gros Os | S18: =S17+"00:15" -> 0.47916667 | T18: =$U$3 -> OA | U18: US thyr
... A20: =A19+"00:15" -> 0.5 | B20: =$C$3 -> NB | C20: Mammo | G20: =G19+"00:15" -> 0.5 | H20: =IF(($I$3="Steph_Ma")+OR($I$3="Dominique")+OR($I$3="Julie")+OR($I$3="Dji")+OR($I$3="Martine"),"O","X") -> O | I20: Mammo | M20: =M19+"00:15" -> 0.5 | N20: =$O$3 -> Vincent | O20: Rx Gros Os | S20: =S19+"00:15" -> 0.5 | T20: =$U$3 -> OA | U20: US thyr
A21: Lundi | C21: US1 | G21: Lundi | I21: Mammo | M21: Lundi | O21: RX | S21: Lundi | U21: Echo Etage
C22: BF | I22: XX | O22: Steph_Rx | U22: XX
C23: Examen | D23: Nom | E23: Prénom | F23: TEL | I23: Examen | J23: Nom | K23: Prénom | L23: TEL | O23: Examen | P23: Nom | Q23: Prénom | R23: TEL | U23: Examen | V23: Nom | W23: Prénom | X23: TEL
A24: 0.5625 | B24: =$C$22 -> BF | C24: US Memb. | G24: 0.5625 | H24: =IF(($I$22="Steph_Ma")+OR($I$22="Dominique")+OR($I$22="Julie")+OR($I$22="Dji")+OR($I$22="Martine"),"O","X") -> X | I24: OXO | M24: 0.5625 | N24: =$O$22 -> Steph_Rx | O24: Rx Petit Os | S24: 0.5625 | T24: =$U$22 -> XX | U24: OXO
A25: =A24+"00:15" -> 0.57291667 | B25: =$C$22 -> BF | C25: Doppler | G25: =G24+"00:15" -> 0.57291667 | H25: =IF(($I$22="Steph_Ma")+OR($I$22="Dominique")+OR($I$22="Julie")+OR($I$22="Dji")+OR($I$22="Martine"),"O","X") -> X | I25: OXO | M25: =M24+"00:15" -> 0.57291667 | N25: =$O$22 -> Steph_Rx | O25: Rx Petit Os | S25: =S24+"00:15" -> 0.57291667 | T25: =$U$22 -> XX | U25: OXO
A26: =A25+"00:15" -> 0.58333333 | B26: =$C$22 -> BF | C26: Doppler | G26: =G25+"00:15" -> 0.58333333 | H26: =IF(($I$22="Steph_Ma")+OR($I$22="Dominique")+OR($I$22="Julie")+OR($I$22="Dji")+OR($I$22="Martine"),"O","X") -> X | I26: OXO | M26: =M25+"00:15" -> 0.58333333 | N26: =$O$22 -> Steph_Rx | O26: Rx Petit Os | S26: =S25+"00:15" -> 0.58333333 | T26: =$U$22 -> XX | U26: OXO | X26: 475220886
A27: =A26+"00:15" -> 0.59375 | B27: =$C$22 -> BF | C27: Doppler | G27: =G26+"00:15" -> 0.59375 | H27: =IF(($I$22="Steph_Ma")+OR($I$22="Dominique")+OR($I$22="Julie")+OR($I$22="Dji")+OR($I$22="Martine"),"O","X") -> X | I27: OXO | M27: =M26+"00:15" -> 0.59375 | N27: =$O$22 -> Steph_Rx | O27: Rx Petit Os | S27: =S26+"00:15" -> 0.59375 | T27: =$U$22 -> XX | U27: OXO
