Workbook

Sheet Com1&Colr
A1: Com Fournisseur 1 | B1: Quant. | C1: P.U HTVA | D1: Tot HTVA | E1: Taxe HTVA | F1: T.T. HTVA | G1: Consi | H1: Check | I1: P.U. V | J1: P.U. A | K1: Prévi | M1: Com 1 Colruyt & Autres | N1: Quant. | O1: P.U TTC | P1: Tot TTC | Q1: Consi | R1: Check | S1: P.U. V | T1: P.U. A | U1: Prévi | W1: =$A$1 -> Com Fournisseur 1
A2: Gaz Carbonique (1) | B2: 2 | C2: 47.87 | D2: =IF(B2="","",B2*C2) -> 95.74 | E2: =IF(A2="","",VLOOKUP(A2,BDCom1!$A$2:$N$100,14,FALSE)) -> 0 | F2: =IFERROR((E2*B2),"") -> 0 | G2: =IF(A2="","",VLOOKUP(A2,BDCom1!$A$3:$F$100,6,FALSE)*B2) -> 160 | I2: =IF(A2="","",VLOOKUP(A2,BDCom1!$A$3:$H$100,8,FALSE)) -> 0 | J2: =IF(A2="","",VLOOKUP(A2,VentilCom1!$A$2:$Z$39,21,FALSE)) -> 0 | K2: =IF(A2="","",VLOOKUP(A2,BDCom1!$A$3:$G$100,7,FALSE)*B2) -> 0 | M2: Fanta (1X6) 1,5L | N2: 12 | O2: 1.99 | P2: =IF(N2="","",N2*O2) -> 23.88 | Q2: =IF(ISNA(VLOOKUP(M2,BDCom1!$A$3:$F$100,6,FALSE)*N2),"",VLOOKUP(M2,BDCom1!$A$3:$F$100,6,FALSE)*N2) -> 0 | S2: =IF(ISNA(VLOOKUP(M2,BDCom1!$A$3:$H$100,8,FALSE)),"",VLOOKUP(M2,BDCom1!$A$3:$H$100,8,FALSE)) -> 2 | T2: =IFERROR(IF(N2="","",P2/U2),"") -> 0.33166667 | U2: =IF(ISNA(VLOOKUP(M2,BDColr!$B$3:$F$100,5,FALSE)*N2),"",VLOOKUP(M2,BDColr!$B$3:$F$100,5,FALSE)*N2) -> 72 | W2: Acompte : | X2: =B40 -> TVA | Y2: =C40 -> Brut | Z2: =D40 -> Taxe | AA2: =E40 -> Tot. HTVA | AB2: =F40 -> TVA | AC2: =G40 -> Vidange | AD2: Prévi
A3: Fut Jupiler (1X50 L) | B3: 3 | C3: 142.58 | D3: =IF(B3="","",B3*C3) -> 427.74 | E3: =IF(A3="","",VLOOKUP(A3,BDCom1!$A$2:$N$100,14,FALSE)) -> 12.03 | F3: =IFERROR((E3*B3),"") -> 36.09 | G3: =IF(A3="","",VLOOKUP(A3,BDCom1!$A$3:$F$100,6,FALSE)*B3) -> 90 | I3: =IF(A3="","",VLOOKUP(A3,BDCom1!$A$3:$H$100,8,FALSE)) -> 2 | J3: =IF(A3="","",VLOOKUP(A3,VentilCom1!$A$2:$Z$39,21,FALSE)) -> 0.98462158 | K3: =IF(A3="","",VLOOKUP(A3,BDCom1!$A$3:$G$100,7,FALSE)*B3) -> 570 | M3: Blanche (1X24) 25 cl | N3: 4 | O3: 22.3 | P3: =IF(N3="","",N3*O3) -> 89.2 | Q3: =IF(ISNA(VLOOKUP(M3,BDCom1!$A$3:$F$100,6,FALSE)*N3),"",VLOOKUP(M3,BDCom1!$A$3:$F$100,6,FALSE)*N3) -> 18 | S3: =IF(ISNA(VLOOKUP(M3,BDCom1!$A$3:$H$100,8,FALSE)),"",VLOOKUP(M3,BDCom1!$A$3:$H$100,8,FALSE)) -> 3 | T3: =IFERROR(IF(N3="","",P3/U3),"") -> 0.92916667 | U3: =IF(ISNA(VLOOKUP(M3,BDColr!$B$3:$F$100,5,FALSE)*N3),"",VLOOKUP(M3,BDColr!$B$3:$F$100,5,FALSE)*N3) -> 96 | W3: 2250 | X3: =B41 -> 6 | Y3: =C41 -> 881.01 | Z3: =D41 -> 36.69 | AA3: =E41 -> 917.7 | AB3: =F41 -> 55.062 | AC3: =G41 -> 649 | AD3: =$K$41 -> 3338
A4: Fut Jupiler (1X30 L) | B4: 1 | C4: 89.18 | D4: =IF(B4="","",B4*C4) -> 89.18 | E4: =IF(A4="","",VLOOKUP(A4,BDCom1!$A$2:$N$100,14,FALSE)) -> 7.22 | F4: =IF(B4="","",E4*B4) -> 7.22 | G4: =IF(A4="","",VLOOKUP(A4,BDCom1!$A$3:$F$100,6,FALSE)*B4) -> 30 | I4: =IF(A4="","",VLOOKUP(A4,BDCom1!$A$3:$H$100,8,FALSE)) -> 2 | J4: =IF(A4="","",VLOOKUP(A4,VentilCom1!$A$2:$Z$39,21,FALSE)) -> 1.023193 | K4: =IF(A4="","",VLOOKUP(A4,BDCom1!$A$3:$G$100,7,FALSE)*B4) -> 114 | M4: Eau plate (1X6) 1,5L | N4: 72 | O4: 0.381 | P4: =IF(N4="","",N4*O4) -> 27.432 | Q4: =IF(ISNA(VLOOKUP(M4,BDCom1!$A$3:$F$100,6,FALSE)*N4),"",VLOOKUP(M4,BDCom1!$A$3:$F$100,6,FALSE)*N4) -> 0 | S4: =IF(ISNA(VLOOKUP(M4,BDCom1!$A$3:$H$100,8,FALSE)),"",VLOOKUP(M4,BDCom1!$A$3:$H$100,8,FALSE)) -> 1 | T4: =IFERROR(IF(N4="","",P4/U4),"") -> 0.0635 | U4: =IF(ISNA(VLOOKUP(M4,BDColr!$B$3:$F$100,5,FALSE)*N4),"",VLOOKUP(M4,BDColr!$B$3:$F$100,5,FALSE)*N4) -> 432 | X4: =B42 -> 21 | Y4: =C42 -> 2264.82 | Z4: =D42 -> 108.82 | AA4: =E42 -> 2373.64 | AB4: =F42 -> 498.4644 | AC4: =G43 -> Total TTC
A5: Fut Kriek (1X20 L) | B5: 2 | C5: 76.83 | D5: =IF(B5="","",B5*C5) -> 153.66 | E5: =IF(A5="","",VLOOKUP(A5,BDCom1!$A$2:$N$100,14,FALSE)) -> 5.54 | F5: =IF(B5="","",E5*B5) -> 11.08 | G5: =IF(A5="","",VLOOKUP(A5,BDCom1!$A$3:$F$100,6,FALSE)*B5) -> 60 | I5: =IF(A5="","",VLOOKUP(A5,BDCom1!$A$3:$H$100,8,FALSE)) -> 3 | J5: =IF(A5="","",VLOOKUP(A5,VentilCom1!$A$2:$Z$39,21,FALSE)) -> 1.3114171 | K5: =IF(A5="","",VLOOKUP(A5,BDCom1!$A$3:$G$100,7,FALSE)*B5) -> 152 | M5: Grenadine (1X1) 1L | N5: 6 | O5: 1.89 | P5: =IF(N5="","",N5*O5) -> 11.34 | Q5: =IF(ISNA(VLOOKUP(M5,BDCom1!$A$3:$F$100,6,FALSE)*N5),"",VLOOKUP(M5,BDCom1!$A$3:$F$100,6,FALSE)*N5) | S5: =IF(ISNA(VLOOKUP(M5,BDCom1!$A$3:$H$100,8,FALSE)),"",VLOOKUP(M5,BDCom1!$A$3:$H$100,8,FALSE)) | T5: =IFERROR(IF(N5="","",P5/U5),"") -> 1.89 | U5: =IF(ISNA(VLOOKUP(M5,BDColr!$B$3:$F$100,5,FALSE)*N5),"",VLOOKUP(M5,BDColr!$B$3:$F$100,5,FALSE)*N5) -> 6 | Y5: =C44 -> 3145.83 | Z5: =D44 -> 145.51 | AA5: =E44 -> 3291.34 | AB5: =F44 -> 553.5264 | AC5: =G44 -> 4493.8664 | AD5: =$K$41 -> 3338
A6: Coca-Cola Normal (1X6) 1L | B6: 15 | C6: 13.93 | D6: =IF(B6="","",B6*C6) -> 208.95 | E6: =IF(A6="","",VLOOKUP(A6,BDCom1!$A$2:$N$100,14,FALSE)) -> 0.8 | F6: =IF(B6="","",E6*B6) -> 12 | G6: =IF(A6="","",VLOOKUP(A6,BDCom1!$A$3:$F$100,6,FALSE)*B6) -> 52.5 | I6: =IF(A6="","",VLOOKUP(A6,BDCom1!$A$3:$H$100,8,FALSE)) -> 2 | J6: =IF(A6="","",VLOOKUP(A6,VentilCom1!$A$2:$Z$39,21,FALSE)) -> 0.650575 | K6: =IF(A6="","",VLOOKUP(A6,BDCom1!$A$3:$G$100,7,FALSE)*B6) -> 360 | Q6: =IF(ISNA(VLOOKUP(M6,BDCom1!$A$3:$F$100,6,FALSE)*N6),"",VLOOKUP(M6,BDCom1!$A$3:$F$100,6,FALSE)*N6) | S6: =IF(ISNA(VLOOKUP(M6,BDCom1!$A$3:$H$100,8,FALSE)),"",VLOOKUP(M6,BDCom1!$A$3:$H$100,8,FALSE)) | T6: =IFERROR(IF(N6="","",P6/U6),"") | U6: =IF(ISNA(VLOOKUP(M6,BDColr!$B$3:$F$100,5,FALSE)*N6),"",VLOOKUP(M6,BDColr!$B$3:$F$100,5,FALSE)*N6) | W6: =$A$47 -> Com Fournisseur 1 Ajout
A7: Eau plate (1X12) 1L | B7: 5 | C7: 8.66 | D7: =IF(B7="","",B7*C7) -> 43.3 | E7: =IF(A7="","",VLOOKUP(A7,BDCom1!$A$2:$N$100,14,FALSE)) -> 0.17 | F7: =IF(B7="","",E7*B7) -> 0.85 | G7: =IF(A7="","",VLOOKUP(A7,BDCom1!$A$3:$F$100,6,FALSE)*B7) -> 22.5 | I7: =IF(A7="","",VLOOKUP(A7,BDCom1!$A$3:$H$100,8,FALSE)) -> 1 | J7: =IF(A7="","",VLOOKUP(A7,VentilCom1!$A$2:$Z$39,21,FALSE)) -> 0.19499583 | K7: =IF(A7="","",VLOOKUP(A7,BDCom1!$A$3:$G$100,7,FALSE)*B7) -> 240 | P7: =IF(N7="","",N7*O7) | Q7: =IF(ISNA(VLOOKUP(M7,BDCom1!$A$3:$F$100,6,FALSE)*N7),"",VLOOKUP(M7,BDCom1!$A$3:$F$100,6,FALSE)*N7) | S7: =IF(ISNA(VLOOKUP(M7,BDCom1!$A$3:$H$100,8,FALSE)),"",VLOOKUP(M7,BDCom1!$A$3:$H$100,8,FALSE)) | T7: =IFERROR(IF(N7="","",P7/U7),"") | U7: =IF(ISNA(VLOOKUP(M7,BDColr!$B$3:$F$100,5,FALSE)*N7),"",VLOOKUP(M7,BDColr!$B$3:$F$100,5,FALSE)*N7) | X7: =B61 -> TVA | Y7: =C61 -> Brut | Z7: =D61 -> Taxe | AA7: =E61 -> Tot. HTVA | AB7: =F61 -> TVA | AC7: =G61 -> Vidange | AD7: =K61 -> Prévi
A8: Eau Gazeuse (1X12) 1L | B8: 5 | C8: 8.66 | D8: =IF(B8="","",B8*C8) -> 43.3 | E8: =IF(A8="","",VLOOKUP(A8,BDCom1!$A$2:$N$100,14,FALSE)) -> 0.17 | F8: =IF(B8="","",E8*B8) -> 0.85 | G8: =IF(A8="","",VLOOKUP(A8,BDCom1!$A$3:$F$100,6,FALSE)*B8) -> 22.5 | I8: =IF(A8="","",VLOOKUP(A8,BDCom1!$A$3:$H$100,8,FALSE)) -> 2 | J8: =IF(A8="","",VLOOKUP(A8,VentilCom1!$A$2:$Z$39,21,FALSE)) -> 0.19499583 | K8: =IF(A8="","",VLOOKUP(A8,BDCom1!$A$3:$G$100,7,FALSE)*B8) -> 240 | P8: =IF(N8="","",N8*O8) | Q8: =IF(ISNA(VLOOKUP(M8,BDCom1!$A$3:$F$100,6,FALSE)*N8),"",VLOOKUP(M8,BDCom1!$A$3:$F$100,6,FALSE)*N8) | S8: =IF(ISNA(VLOOKUP(M8,BDCom1!$A$3:$H$100,8,FALSE)),"",VLOOKUP(M8,BDCom1!$A$3:$H$100,8,FALSE)) | T8: =IFERROR(IF(N8="","",P8/U8),"") | U8: =IF(ISNA(VLOOKUP(M8,BDColr!$B$3:$F$100,5,FALSE)*N8),"",VLOOKUP(M8,BDColr!$B$3:$F$100,5,FALSE)*N8) | X8: =B62 -> 6 | Y8: =C62 -> 316.13 | Z8: =D62 -> 13.12 | AA8: =E62 -> 329.25 | AB8: =F62 -> 19.755 | AC8: =G62 -> 147.5 | AD8: =K62 -> 1194
A9: Karmeliet Triple (1X24) 33 cl | B9: 4 | C9: 37.09 | D9: =IF(B9="","",B9*C9) -> 148.36 | E9: =IF(A9="","",VLOOKUP(A9,BDCom1!$A$2:$N$100,14,FALSE)) -> 3.29 | F9: =IF(B9="","",E9*B9) -> 13.16 | G9: =IF(A9="","",VLOOKUP(A9,BDCom1!$A$3:$F$100,6,FALSE)*B9) -> 18 | I9: =IF(A9="","",VLOOKUP(A9,BDCom1!$A$3:$H$100,8,FALSE)) -> 4 | J9: =IF(A9="","",VLOOKUP(A9,VentilCom1!$A$2:$Z$39,21,FALSE)) -> 2.035825 | K9: =IF(A9="","",VLOOKUP(A9,BDCom1!$A$3:$G$100,7,FALSE)*B9) -> 96 | P9: =IF(N9="","",N9*O9) | Q9: =IF(ISNA(VLOOKUP(M9,BDCom1!$A$3:$F$100,6,FALSE)*N9),"",VLOOKUP(M9,BDCom1!$A$3:$F$100,6,FALSE)*N9) | S9: =IF(ISNA(VLOOKUP(M9,BDCom1!$A$3:$H$100,8,FALSE)),"",VLOOKUP(M9,BDCom1!$A$3:$H$100,8,FALSE)) | T9: =IFERROR(IF(N9="","",P9/U9),"") | U9: =IF(ISNA(VLOOKUP(M9,BDColr!$B$3:$F$100,5,FALSE)*N9),"",VLOOKUP(M9,BDColr!$B$3:$F$100,5,FALSE)*N9) | X9: =B63 -> 21 | Y9: =C63 -> 89.18 | Z9: =D63 -> 7.22 | AA9: =E63 -> 96.4 | AB9: =F63 -> 20.244 | AC9: =G64 -> Total TTC
A10: Coca-Cola Zéro (1X6) 1L | B10: 12 | C10: 13.49 | D10: =IF(B10="","",B10*C10) -> 161.88 | E10: =IF(A10="","",VLOOKUP(A10,BDCom1!$A$2:$N$100,14,FALSE)) -> 0.8 | F10: =IF(B10="","",E10*B10) -> 9.6 | G10: =IF(A10="","",VLOOKUP(A10,BDCom1!$A$3:$F$100,6,FALSE)*B10) -> 42 | I10: =IF(A10="","",VLOOKUP(A10,BDCom1!$A$3:$H$100,8,FALSE)) -> 2 | J10: =IF(A10="","",VLOOKUP(A10,VentilCom1!$A$2:$Z$39,21,FALSE)) -> 0.63114167 | K10: =IF(A10="","",VLOOKUP(A10,BDCom1!$A$3:$G$100,7,FALSE)*B10) -> 288 | P10: =IF(N10="","",N10*O10) | Q10: =IF(ISNA(VLOOKUP(M10,BDCom1!$A$3:$F$100,6,FALSE)*N10),"",VLOOKUP(M10,BDCom1!$A$3:$F$100,6,FALSE)*N10) | S10: =IF(ISNA(VLOOKUP(M10,BDCom1!$A$3:$H$100,8,FALSE)),"",VLOOKUP(M10,BDCom1!$A$3:$H$100,8,FALSE)) | T10: =IFERROR(IF(N10="","",P10/U10),"") | U10: =IF(ISNA(VLOOKUP(M10,BDColr!$B$3:$F$100,5,FALSE)*N10),"",VLOOKUP(M10,BDColr!$B$3:$F$100,5,FALSE)*N10) | Y10: =C65 -> 405.31 | Z10: =D65 -> 20.34 | AA10: =E65 -> 425.65 | AB10: =F65 -> 39.999 | AC10: =G65 -> 613.149 | AD10: =K65 -> 4532
A11: Jupiler Zéro (1X24) 25 cl | B11: 5 | C11: 24.36 | D11: =IF(B11="","",B11*C11) -> 121.8 | E11: =IF(A11="","",VLOOKUP(A11,BDCom1!$A$2:$N$100,14,FALSE)) -> 0.31 | F11: =IF(B11="","",E11*B11) -> 1.55 | G11: =IF(A11="","",VLOOKUP(A11,BDCom1!$A$3:$F$100,6,FALSE)*B11) -> 22.5 | I11: =IF(A11="","",VLOOKUP(A11,BDCom1!$A$3:$H$100,8,FALSE)) -> 2 | J11: =IF(A11="","",VLOOKUP(A11,VentilCom1!$A$2:$Z$39,21,FALSE)) -> 1.0895917 | K11: =IF(A11="","",VLOOKUP(A11,BDCom1!$A$3:$G$100,7,FALSE)*B11) -> 120 | P11: =IF(N11="","",N11*O11) | Q11: =IF(ISNA(VLOOKUP(M11,BDCom1!$A$3:$F$100,6,FALSE)*N11),"",VLOOKUP(M11,BDCom1!$A$3:$F$100,6,FALSE)*N11) | S11: =IF(ISNA(VLOOKUP(M11,BDCom1!$A$3:$H$100,8,FALSE)),"",VLOOKUP(M11,BDCom1!$A$3:$H$100,8,FALSE)) | T11: =IFERROR(IF(N11="","",P11/U11),"") | U11: =IF(ISNA(VLOOKUP(M11,BDColr!$B$3:$F$100,5,FALSE)*N11),"",VLOOKUP(M11,BDColr!$B$3:$F$100,5,FALSE)*N11) | W11: =$A$68 -> Com Fournisseur 2 | Z11: Report | AA11: =SUM(AC5+AC10) -> 5107.0154
A12: Blanche (1X24) 25 cl | B12: 3 | C12: 22.84 | D12: =IF(B12="","",B12*C12) -> 68.52 | E12: =IF(A12="","",VLOOKUP(A12,BDCom1!$A$2:$N$100,14,FALSE)) -> 1.53 | F12: =IF(B12="","",E12*B12) -> 4.59 | G12: =IF(A12="","",VLOOKUP(A12,BDCom1!$A$3:$F$100,6,FALSE)*B12) -> 13.5 | I12: =IF(A12="","",VLOOKUP(A12,BDCom1!$A$3:$H$100,8,FALSE)) -> 3 | J12: =IF(A12="","",VLOOKUP(A12,VentilCom1!$A$2:$Z$39,21,FALSE)) -> 1.2286542 | K12: =IF(A12="","",VLOOKUP(A12,BDCom1!$A$3:$G$100,7,FALSE)*B12) -> 72 | P12: =IF(N12="","",N12*O12) | Q12: =IF(ISNA(VLOOKUP(M12,BDCom1!$A$3:$F$100,6,FALSE)*N12),"",VLOOKUP(M12,BDCom1!$A$3:$F$100,6,FALSE)*N12) | S12: =IF(ISNA(VLOOKUP(M12,BDCom1!$A$3:$H$100,8,FALSE)),"",VLOOKUP(M12,BDCom1!$A$3:$H$100,8,FALSE)) | T12: =IFERROR(IF(N12="","",P12/U12),"") | U12: =IF(ISNA(VLOOKUP(M12,BDColr!$B$3:$F$100,5,FALSE)*N12),"",VLOOKUP(M12,BDColr!$B$3:$F$100,5,FALSE)*N12) | X12: =B107 -> TVA | Y12: =C107 -> Brut | Z12: =D107 -> Taxe | AA12: =E107 -> Tot. HTVA | AB12: =F107 -> TVA | AC12: =G107 -> Vidange | AD12: =K107 -> Prévi
A13: Jus d’orange (1x6) 1L | B13: 2 | C13: 28.08 | D13: =IF(B13="","",B13*C13) -> 56.16 | E13: =IF(A13="","",VLOOKUP(A13,BDCom1!$A$2:$N$100,14,FALSE)) -> 0.08 | F13: =IF(B13="","",E13*B13) -> 0.16 | G13: =IF(A13="","",VLOOKUP(A13,BDCom1!$A$3:$F$100,6,FALSE)*B13) -> 7 | I13: =IF(A13="","",VLOOKUP(A13,BDCom1!$A$3:$H$100,8,FALSE)) -> 2 | J13: =IF(A13="","",VLOOKUP(A13,VentilCom1!$A$2:$Z$39,21,FALSE)) -> 1.2437333 | K13: =IF(A13="","",VLOOKUP(A13,BDCom1!$A$3:$G$100,7,FALSE)*B13) -> 48 | P13: =IF(N13="","",N13*O13) | Q13: =IF(ISNA(VLOOKUP(M13,BDCom1!$A$3:$F$100,6,FALSE)*N13),"",VLOOKUP(M13,BDCom1!$A$3:$F$100,6,FALSE)*N13) | S13: =IF(ISNA(VLOOKUP(M13,BDCom1!$A$3:$H$100,8,FALSE)),"",VLOOKUP(M13,BDCom1!$A$3:$H$100,8,FALSE)) | T13: =IFERROR(IF(N13="","",P13/U13),"") | U13: =IF(ISNA(VLOOKUP(M13,BDColr!$B$3:$F$100,5,FALSE)*N13),"",VLOOKUP(M13,BDColr!$B$3:$F$100,5,FALSE)*N13) | X13: =B108 -> 6 | Y13: =C108 -> 0 | Z13: =D108 -> 0 | AA13: =E108 -> 0 | AB13: =F108 -> 0 | AC13: =G108 -> 0 | AD13: =K108 -> 0
A14: Pomme-Cerise (1X24) 20 cl | B14: 2 | C14: 19.98 | D14: =IF(B14="","",B14*C14) -> 39.96 | E14: =IF(A14="","",VLOOKUP(A14,BDCom1!$A$2:$N$100,14,FALSE)) -> 0.64 | F14: =IF(B14="","",E14*B14) -> 1.28 | G14: =IF(A14="","",VLOOKUP(A14,BDCom1!$A$3:$F$100,6,FALSE)*B14) -> 9 | I14: =IF(A14="","",VLOOKUP(A14,BDCom1!$A$3:$H$100,8,FALSE)) -> 2 | J14: =IF(A14="","",VLOOKUP(A14,VentilCom1!$A$2:$Z$39,21,FALSE)) -> 0.91071667 | K14: =IF(A14="","",VLOOKUP(A14,BDCom1!$A$3:$G$100,7,FALSE)*B14) -> 48 | P14: =IF(N14="","",N14*O14) | Q14: =IF(ISNA(VLOOKUP(M14,BDCom1!$A$3:$F$100,6,FALSE)*N14),"",VLOOKUP(M14,BDCom1!$A$3:$F$100,6,FALSE)*N14) | S14: =IF(ISNA(VLOOKUP(M14,BDCom1!$A$3:$H$100,8,FALSE)),"",VLOOKUP(M14,BDCom1!$A$3:$H$100,8,FALSE)) | T14: =IFERROR(IF(N14="","",P14/U14),"") | U14: =IF(ISNA(VLOOKUP(M14,BDColr!$B$3:$F$100,5,FALSE)*N14),"",VLOOKUP(M14,BDColr!$B$3:$F$100,5,FALSE)*N14) | X14: =B109 -> 21 | Y14: =C109 -> 0 | Z14: =D109 -> 0 | AA14: =E109 -> 0 | AB14: =F109 -> 0 | AC14: =G110 -> Total TTC
A15: Westmalle Triple (1x24) 33 cl | B15: 2 | C15: 35.59 | D15: =IF(B15="","",B15*C15) -> 71.18 | E15: =IF(A15="","",VLOOKUP(A15,BDCom1!$A$2:$N$100,14,FALSE)) -> 3.24 | F15: =IF(B15="","",E15*B15) -> 6.48 | G15: =IF(A15="","",VLOOKUP(A15,BDCom1!$A$3:$F$100,6,FALSE)*B15) -> 9 | I15: =IF(A15="","",VLOOKUP(A15,BDCom1!$A$3:$H$100,8,FALSE)) -> 4 | J15: =IF(A15="","",VLOOKUP(A15,VentilCom1!$A$2:$Z$39,21,FALSE)) -> 1.9576792 | K15: =IF(A15="","",VLOOKUP(A15,BDCom1!$A$3:$G$100,7,FALSE)*B15) -> 48 | P15: =IF(N15="","",N15*O15) | Q15: =IF(ISNA(VLOOKUP(M15,BDCom1!$A$3:$F$100,6,FALSE)*N15),"",VLOOKUP(M15,BDCom1!$A$3:$F$100,6,FALSE)*N15) | S15: =IF(ISNA(VLOOKUP(M15,BDCom1!$A$3:$H$100,8,FALSE)),"",VLOOKUP(M15,BDCom1!$A$3:$H$100,8,FALSE)) | T15: =IFERROR(IF(N15="","",P15/U15),"") | U15: =IF(ISNA(VLOOKUP(M15,BDColr!$B$3:$F$100,5,FALSE)*N15),"",VLOOKUP(M15,BDColr!$B$3:$F$100,5,FALSE)*N15) | Y15: =C111 -> 0 | Z15: =D111 -> 0 | AA15: =E111 -> 0 | AB15: =F111 -> 0 | AC15: =G111 -> 0 | AD15: =$K$111 -> 4532
A16: Fanta (1X6) 1L | B16: 7 | C16: 17.44 | D16: =IF(B16="","",B16*C16) -> 122.08 | E16: =IF(A16="","",VLOOKUP(A16,BDCom1!$A$2:$N$100,14,FALSE)) -> 0.8 | F16: =IF(B16="","",E16*B16) -> 5.6 | G16: =IF(A16="","",VLOOKUP(A16,BDCom1!$A$3:$F$100,6,FALSE)*B16) -> 24.5 | I16: =IF(A16="","",VLOOKUP(A16,BDCom1!$A$3:$H$100,8,FALSE)) -> 2 | J16: =IF(A16="","",VLOOKUP(A16,VentilCom1!$A$2:$Z$39,21,FALSE)) -> 0.8056 | K16: =IF(A16="","",VLOOKUP(A16,BDCom1!$A$3:$G$100,7,FALSE)*B16) -> 168 | P16: =IF(N16="","",N16*O16) | Q16: =IF(ISNA(VLOOKUP(M16,BDCom1!$A$3:$F$100,6,FALSE)*N16),"",VLOOKUP(M16,BDCom1!$A$3:$F$100,6,FALSE)*N16) | S16: =IF(ISNA(VLOOKUP(M16,BDCom1!$A$3:$H$100,8,FALSE)),"",VLOOKUP(M16,BDCom1!$A$3:$H$100,8,FALSE)) | T16: =IFERROR(IF(N16="","",P16/U16),"") | U16: =IF(ISNA(VLOOKUP(M16,BDColr!$B$3:$F$100,5,FALSE)*N16),"",VLOOKUP(M16,BDColr!$B$3:$F$100,5,FALSE)*N16) | W16: =$A$114 -> Com Fournisseur 2 Ajout | Z16: Report | AA16: =SUM(AA11+AC15) -> 5107.0154
A17: Kriek (1X24) 25 cl | B17: 1 | C17: 27.58 | D17: =IF(B17="","",B17*C17) -> 27.58 | E17: =IF(A17="","",VLOOKUP(A17,BDCom1!$A$2:$N$100,14,FALSE)) -> 1.28 | F17: =IF(B17="","",E17*B17) -> 1.28 | G17: =IF(A17="","",VLOOKUP(A17,BDCom1!$A$3:$F$100,6,FALSE)*B17) -> 4.5 | I17: =IF(A17="","",VLOOKUP(A17,BDCom1!$A$3:$H$100,8,FALSE)) -> 3 | J17: =IF(A17="","",VLOOKUP(A17,VentilCom1!$A$2:$Z$39,21,FALSE)) -> 1.455025 | K17: =IF(A17="","",VLOOKUP(A17,BDCom1!$A$3:$G$100,7,FALSE)*B17) -> 24 | P17: =IF(N17="","",N17*O17) | Q17: =IF(ISNA(VLOOKUP(M17,BDCom1!$A$3:$F$100,6,FALSE)*N17),"",VLOOKUP(M17,BDCom1!$A$3:$F$100,6,FALSE)*N17) | S17: =IF(ISNA(VLOOKUP(M17,BDCom1!$A$3:$H$100,8,FALSE)),"",VLOOKUP(M17,BDCom1!$A$3:$H$100,8,FALSE)) | T17: =IFERROR(IF(N17="","",P17/U17),"") | U17: =IF(ISNA(VLOOKUP(M17,BDColr!$B$3:$F$100,5,FALSE)*N17),"",VLOOKUP(M17,BDColr!$B$3:$F$100,5,FALSE)*N17) | X17: =B128 -> TVA | Y17: =C128 -> Brut | Z17: =D128 -> Taxe | AA17: =E128 -> Tot. HTVA | AB17: =F128 -> TVA | AC17: =G128 -> Vidange | AD17: =K128 -> Prévi
A18: Ice-Tea Lipton (1X6) 1L | B18: 6 | C18: 13.93 | D18: =IF(B18="","",B18*C18) -> 83.58 | E18: =IF(A18="","",VLOOKUP(A18,BDCom1!$A$2:$N$100,14,FALSE)) -> 0.8 | F18: =IF(B18="","",E18*B18) -> 4.8 | G18: =IF(A18="","",VLOOKUP(A18,BDCom1!$A$3:$F$100,6,FALSE)*B18) -> 21 | I18: =IF(A18="","",VLOOKUP(A18,BDCom1!$A$3:$H$100,8,FALSE)) -> 2 | J18: =IF(A18="","",VLOOKUP(A18,VentilCom1!$A$2:$Z$39,21,FALSE)) -> 0.650575 | K18: =IF(A18="","",VLOOKUP(A18,BDCom1!$A$3:$G$100,7,FALSE)*B18) -> 144 | P18: =IF(N18="","",N18*O18) | Q18: =IF(ISNA(VLOOKUP(M18,BDCom1!$A$3:$F$100,6,FALSE)*N18),"",VLOOKUP(M18,BDCom1!$A$3:$F$100,6,FALSE)*N18) | S18: =IF(ISNA(VLOOKUP(M18,BDCom1!$A$3:$H$100,8,FALSE)),"",VLOOKUP(M18,BDCom1!$A$3:$H$100,8,FALSE)) | T18: =IFERROR(IF(N18="","",P18/U18),"") | U18: =IF(ISNA(VLOOKUP(M18,BDColr!$B$3:$F$100,5,FALSE)*N18),"",VLOOKUP(M18,BDColr!$B$3:$F$100,5,FALSE)*N18) | X18: =B129 -> 6 | Y18: =C129 -> 0 | Z18: =D129 -> 0 | AA18: =E129 -> 0 | AB18: =F129 -> 0 | AC18: =G129 -> 0 | AD18: =K129 -> 0
A19: St Feullien Blonde (1X24) 33 cl | B19: 7 | C19: 35.58 | D19: =IF(B19="","",B19*C19) -> 249.06 | E19: =IF(A19="","",VLOOKUP(A19,BDCom1!$A$2:$N$100,14,FALSE)) -> 2.54 | F19: =IF(B19="","",E19*B19) -> 17.78 | G19: =IF(A19="","",VLOOKUP(A19,BDCom1!$A$3:$F$100,6,FALSE)*B19) -> 31.5 | I19: =IF(A19="","",VLOOKUP(A19,BDCom1!$A$3:$H$100,8,FALSE)) -> 4 | J19: =IF(A19="","",VLOOKUP(A19,VentilCom1!$A$2:$Z$39,21,FALSE)) -> 1.9218833 | K19: =IF(A19="","",VLOOKUP(A19,BDCom1!$A$3:$G$100,7,FALSE)*B19) -> 168 | P19: =IF(N19="","",N19*O19) | Q19: =IF(ISNA(VLOOKUP(M19,BDCom1!$A$3:$F$100,6,FALSE)*N19),"",VLOOKUP(M19,BDCom1!$A$3:$F$100,6,FALSE)*N19) | S19: =IF(ISNA(VLOOKUP(M19,BDCom1!$A$3:$H$100,8,FALSE)),"",VLOOKUP(M19,BDCom1!$A$3:$H$100,8,FALSE)) | T19: =IFERROR(IF(N19="","",P19/U19),"") | U19: =IF(ISNA(VLOOKUP(M19,BDColr!$B$3:$F$100,5,FALSE)*N19),"",VLOOKUP(M19,BDColr!$B$3:$F$100,5,FALSE)*N19) | X19: =B130 -> 21 | Y19: =C130 -> 0 | Z19: =D130 -> 0 | AA19: =E130 -> 0 | AB19: =F130 -> 0 | AC19: =G131 -> Total TTC
A20: St Feullien Brune (1X24) 33 cl | B20: 2 | C20: 35.57 | D20: =IF(B20="","",B20*C20) -> 71.14 | E20: =IF(A20="","",VLOOKUP(A20,BDCom1!$A$2:$N$100,14,FALSE)) -> 2.84 | F20: =IF(B20="","",E20*B20) -> 5.68 | G20: =IF(A20="","",VLOOKUP(A20,BDCom1!$A$3:$F$100,6,FALSE)*B20) -> 9 | I20: =IF(A20="","",VLOOKUP(A20,BDCom1!$A$3:$H$100,8,FALSE)) -> 4 | J20: =IF(A20="","",VLOOKUP(A20,VentilCom1!$A$2:$Z$39,21,FALSE)) -> 1.9365042 | K20: =IF(A20="","",VLOOKUP(A20,BDCom1!$A$3:$G$100,7,FALSE)*B20) -> 48 | P20: =IF(N20="","",N20*O20) | Q20: =IF(ISNA(VLOOKUP(M20,BDCom1!$A$3:$F$100,6,FALSE)*N20),"",VLOOKUP(M20,BDCom1!$A$3:$F$100,6,FALSE)*N20) | S20: =IF(ISNA(VLOOKUP(M20,BDCom1!$A$3:$H$100,8,FALSE)),"",VLOOKUP(M20,BDCom1!$A$3:$H$100,8,FALSE)) | T20: =IFERROR(IF(N20="","",P20/U20),"") | U20: =IF(ISNA(VLOOKUP(M20,BDColr!$B$3:$F$100,5,FALSE)*N20),"",VLOOKUP(M20,BDColr!$B$3:$F$100,5,FALSE)*N20) | Y20: =C132 -> 0 | Z20: =D132 -> 0 | AA20: =E132 -> 0 | AB20: =F132 -> 0 | AC20: =G132 -> 0 | AD20: =K132 -> 4532
A21: Vin Blanc (1X6) 75 cl | B21: 5 | C21: 38.22 | D21: =IF(B21="","",B21*C21) -> 191.1 | E21: =IF(A21="","",VLOOKUP(A21,BDCom1!$A$2:$N$100,14,FALSE)) -> 0.42 | F21: =IF(B21="","",E21*B21) -> 2.1 | G21: =IF(A21="","",VLOOKUP(A21,BDCom1!$A$3:$F$100,6,FALSE)*B21) -> 0 | I21: =IF(A21="","",VLOOKUP(A21,BDCom1!$A$3:$H$100,8,FALSE)) -> 3 | J21: =IF(A21="","",VLOOKUP(A21,VentilCom1!$A$2:$Z$39,21,FALSE)) -> 1.55848 | K21: =IF(A21="","",VLOOKUP(A21,BDCom1!$A$3:$G$100,7,FALSE)*B21) -> 150 | P21: =IF(N21="","",N21*O21) | Q21: =IF(ISNA(VLOOKUP(M21,BDCom1!$A$3:$F$100,6,FALSE)*N21),"",VLOOKUP(M21,BDCom1!$A$3:$F$100,6,FALSE)*N21) | S21: =IF(ISNA(VLOOKUP(M21,BDCom1!$A$3:$H$100,8,FALSE)),"",VLOOKUP(M21,BDCom1!$A$3:$H$100,8,FALSE)) | T21: =IFERROR(IF(N21="","",P21/U21),"") | U21: =IF(ISNA(VLOOKUP(M21,BDColr!$B$3:$F$100,5,FALSE)*N21),"",VLOOKUP(M21,BDColr!$B$3:$F$100,5,FALSE)*N21) | W21: =$M$1 -> Com 1 Colruyt & Autres
A22: Vin rosé (1X6) 75 cl | B22: 5 | C22: 35.64 | D22: =IF(B22="","",B22*C22) -> 178.2 | E22: =IF(A22="","",VLOOKUP(A22,BDCom1!$A$2:$N$100,14,FALSE)) -> 0.42 | F22: =IF(B22="","",E22*B22) -> 2.1 | G22: =IF(A22="","",VLOOKUP(A22,BDCom1!$A$3:$F$100,6,FALSE)*B22) -> 0 | I22: =IF(A22="","",VLOOKUP(A22,BDCom1!$A$3:$H$100,8,FALSE)) -> 3 | J22: =IF(A22="","",VLOOKUP(A22,VentilCom1!$A$2:$Z$39,21,FALSE)) -> 1.45442 | K22: =IF(A22="","",VLOOKUP(A22,BDCom1!$A$3:$G$100,7,FALSE)*B22) -> 150 | P22: =IF(N22="","",N22*O22) | Q22: =IF(ISNA(VLOOKUP(M22,BDCom1!$A$3:$F$100,6,FALSE)*N22),"",VLOOKUP(M22,BDCom1!$A$3:$F$100,6,FALSE)*N22) | S22: =IF(ISNA(VLOOKUP(M22,BDCom1!$A$3:$H$100,8,FALSE)),"",VLOOKUP(M22,BDCom1!$A$3:$H$100,8,FALSE)) | T22: =IFERROR(IF(N22="","",P22/U22),"") | U22: =IF(ISNA(VLOOKUP(M22,BDColr!$B$3:$F$100,5,FALSE)*N22),"",VLOOKUP(M22,BDColr!$B$3:$F$100,5,FALSE)*N22) | Z22: Report | AA22: =SUM(AA16+AC20) -> 5107.0154
A23: Vin rouge (1X6) 75 cl | B23: 3 | C23: 36.12 | D23: =IF(B23="","",B23*C23) -> 108.36 | E23: =IF(A23="","",VLOOKUP(A23,BDCom1!$A$2:$N$100,14,FALSE)) -> 0.42 | F23: =IF(B23="","",E23*B23) -> 1.26 | G23: =IF(A23="","",VLOOKUP(A23,BDCom1!$A$3:$F$100,6,FALSE)*B23) -> 0 | I23: =IF(A23="","",VLOOKUP(A23,BDCom1!$A$3:$H$100,8,FALSE)) -> 3 | J23: =IF(A23="","",VLOOKUP(A23,VentilCom1!$A$2:$Z$39,21,FALSE)) -> 1.47378 | K23: =IF(A23="","",VLOOKUP(A23,BDCom1!$A$3:$G$100,7,FALSE)*B23) -> 90 | P23: =IF(N23="","",N23*O23) | Q23: =IF(ISNA(VLOOKUP(M23,BDCom1!$A$3:$F$100,6,FALSE)*N23),"",VLOOKUP(M23,BDCom1!$A$3:$F$100,6,FALSE)*N23) | S23: =IF(ISNA(VLOOKUP(M23,BDCom1!$A$3:$H$100,8,FALSE)),"",VLOOKUP(M23,BDCom1!$A$3:$H$100,8,FALSE)) | T23: =IFERROR(IF(N23="","",P23/U23),"") | U23: =IF(ISNA(VLOOKUP(M23,BDColr!$B$3:$F$100,5,FALSE)*N23),"",VLOOKUP(M23,BDColr!$B$3:$F$100,5,FALSE)*N23) | X23: =N40 -> TVA | Y23: =O40 -> Tot HTVA | Z23: =P40 -> TVA | AA23: =Q40 -> TVAC | AC23: =R40 -> Vidange | AD23: =$U$40 -> Prévi
A24: Pompes 2 Têtes (1) | B24: 1 | C24: 45 | D24: =IF(B24="","",B24*C24) -> 45 | E24: =IF(A24="","",VLOOKUP(A24,BDCom1!$A$2:$N$100,14,FALSE)) -> 0 | F24: =IF(B24="","",E24*B24) -> 0 | G24: =IF(A24="","",VLOOKUP(A24,BDCom1!$A$3:$F$100,6,FALSE)*B24) -> 0 | I24: =IF(A24="","",VLOOKUP(A24,BDCom1!$A$3:$H$100,8,FALSE)) -> 0 | J24: =IF(A24="","",VLOOKUP(A24,VentilCom1!$A$2:$Z$39,21,FALSE)) -> 0 | K24: =IF(A24="","",VLOOKUP(A24,BDCom1!$A$3:$G$100,7,FALSE)*B24) -> 0 | P24: =IF(N24="","",N24*O24) | Q24: =IF(ISNA(VLOOKUP(M24,BDCom1!$A$3:$F$100,6,FALSE)*N24),"",VLOOKUP(M24,BDCom1!$A$3:$F$100,6,FALSE)*N24) | S24: =IF(ISNA(VLOOKUP(M24,BDCom1!$A$3:$H$100,8,FALSE)),"",VLOOKUP(M24,BDCom1!$A$3:$H$100,8,FALSE)) | T24: =IFERROR(IF(N24="","",P24/U24),"") | U24: =IF(ISNA(VLOOKUP(M24,BDColr!$B$3:$F$100,5,FALSE)*N24),"",VLOOKUP(M24,BDColr!$B$3:$F$100,5,FALSE)*N24) | X24: =N41 -> 6 | Y24: =O41 -> 59.10566 | Z24: =P41 -> 3.5463396 | AA24: =Q41 -> 62.652 | AC24: =R41 -> 18 | AD24: =$U$41 -> 606
A25: Transport (1) | B25: 1 | C25: 75 | D25: =IF(B25="","",B25*C25) -> 75 | E25: =IF(A25="","",VLOOKUP(A25,BDCom1!$A$2:$N$100,14,FALSE)) -> 0 | F25: =IF(B25="","",E25*B25) -> 0 | G25: =IF(A25="","",VLOOKUP(A25,BDCom1!$A$3:$F$100,6,FALSE)*B25) -> 0 | I25: =IF(A25="","",VLOOKUP(A25,BDCom1!$A$3:$H$100,8,FALSE)) -> 0 | J25: =IF(A25="","",VLOOKUP(A25,VentilCom1!$A$2:$Z$39,21,FALSE)) -> 0 | K25: =IF(A25="","",VLOOKUP(A25,BDCom1!$A$3:$G$100,7,FALSE)*B25) -> 0 | P25: =IF(N25="","",N25*O25) | Q25: =IF(ISNA(VLOOKUP(M25,BDCom1!$A$3:$F$100,6,FALSE)*N25),"",VLOOKUP(M25,BDCom1!$A$3:$F$100,6,FALSE)*N25) | S25: =IF(ISNA(VLOOKUP(M25,BDCom1!$A$3:$H$100,8,FALSE)),"",VLOOKUP(M25,BDCom1!$A$3:$H$100,8,FALSE)) | T25: =IFERROR(IF(N25="","",P25/U25),"") | U25: =IF(ISNA(VLOOKUP(M25,BDColr!$B$3:$F$100,5,FALSE)*N25),"",VLOOKUP(M25,BDColr!$B$3:$F$100,5,FALSE)*N25) | X25: =N42 -> 21 | Y25: =O42 -> 73.719008 | Z25: =P42 -> 15.480992 | AA25: =Q42 -> 89.2 | AC25: =S43 -> Total TTC
A26: Verres Pils (1X36) | B26: 4 | C26: 10 | D26: =IF(B26="","",B26*C26) -> 40 | E26: =IF(A26="","",VLOOKUP(A26,BDCom1!$A$2:$N$100,14,FALSE)) -> 0 | F26: =IF(B26="","",E26*B26) -> 0 | G26: =IF(A26="","",VLOOKUP(A26,BDCom1!$A$3:$F$100,6,FALSE)*B26) -> 0 | I26: =IF(A26="","",VLOOKUP(A26,BDCom1!$A$3:$H$100,8,FALSE)) -> 0 | J26: =IF(A26="","",VLOOKUP(A26,VentilCom1!$A$2:$Z$39,21,FALSE)) -> 0 | K26: =IF(A26="","",VLOOKUP(A26,BDCom1!$A$3:$G$100,7,FALSE)*B26) -> 0 | P26: =IF(N26="","",N26*O26) | Q26: =IF(ISNA(VLOOKUP(M26,BDCom1!$A$3:$F$100,6,FALSE)*N26),"",VLOOKUP(M26,BDCom1!$A$3:$F$100,6,FALSE)*N26) | S26: =IF(ISNA(VLOOKUP(M26,BDCom1!$A$3:$H$100,8,FALSE)),"",VLOOKUP(M26,BDCom1!$A$3:$H$100,8,FALSE)) | T26: =IFERROR(IF(N26="","",P26/U26),"") | U26: =IF(ISNA(VLOOKUP(M26,BDColr!$B$3:$F$100,5,FALSE)*N26),"",VLOOKUP(M26,BDColr!$B$3:$F$100,5,FALSE)*N26) | AA26: =Q44 -> 151.852 | AC26: =S44 -> 169.852 | AD26: =$U$41 -> 606
A27: Verres Spécial (1X20) | B27: 3 | C27: 5 | D27: =IF(B27="","",B27*C27) -> 15 | E27: =IF(A27="","",VLOOKUP(A27,BDCom1!$A$2:$N$100,14,FALSE)) -> 0 | F27: =IF(B27="","",E27*B27) -> 0 | G27: =IF(A27="","",VLOOKUP(A27,BDCom1!$A$3:$F$100,6,FALSE)*B27) -> 0 | I27: =IF(A27="","",VLOOKUP(A27,BDCom1!$A$3:$H$100,8,FALSE)) -> 0 | J27: =IF(A27="","",VLOOKUP(A27,VentilCom1!$A$2:$Z$39,21,FALSE)) -> 0 | K27: =IF(A27="","",VLOOKUP(A27,BDCom1!$A$3:$G$100,7,FALSE)*B27) -> 0 | P27: =IF(N27="","",N27*O27) | Q27: =IF(ISNA(VLOOKUP(M27,BDCom1!$A$3:$F$100,6,FALSE)*N27),"",VLOOKUP(M27,BDCom1!$A$3:$F$100,6,FALSE)*N27) | S27: =IF(ISNA(VLOOKUP(M27,BDCom1!$A$3:$H$100,8,FALSE)),"",VLOOKUP(M27,BDCom1!$A$3:$H$100,8,FALSE)) | T27: =IFERROR(IF(N27="","",P27/U27),"") | U27: =IF(ISNA(VLOOKUP(M27,BDColr!$B$3:$F$100,5,FALSE)*N27),"",VLOOKUP(M27,BDColr!$B$3:$F$100,5,FALSE)*N27) | W27: =$M$47 -> Com 1 Colruyt & Autres Ajout | Z27: Report | AA27: =SUM(AA22+AC26) -> 5276.8674
A28: Verres Fruitées (1X30) | B28: 3 | C28: 10 | D28: =IF(B28="","",B28*C28) -> 30 | E28: =IF(A28="","",VLOOKUP(A28,BDCom1!$A$2:$N$100,14,FALSE)) -> 0 | F28: =IF(B28="","",E28*B28) -> 0 | G28: =IF(A28="","",VLOOKUP(A28,BDCom1!$A$3:$F$100,6,FALSE)*B28) -> 0 | I28: =IF(A28="","",VLOOKUP(A28,BDCom1!$A$3:$H$100,8,FALSE)) -> 0 | J28: =IF(A28="","",VLOOKUP(A28,VentilCom1!$A$2:$Z$39,21,FALSE)) -> 0 | K28: =IF(A28="","",VLOOKUP(A28,BDCom1!$A$3:$G$100,7,FALSE)*B28) -> 0 | P28: =IF(N28="","",N28*O28) | Q28: =IF(ISNA(VLOOKUP(M28,BDCom1!$A$3:$F$100,6,FALSE)*N28),"",VLOOKUP(M28,BDCom1!$A$3:$F$100,6,FALSE)*N28) | S28: =IF(ISNA(VLOOKUP(M28,BDCom1!$A$3:$H$100,8,FALSE)),"",VLOOKUP(M28,BDCom1!$A$3:$H$100,8,FALSE)) | T28: =IFERROR(IF(N28="","",P28/U28),"") | U28: =IF(ISNA(VLOOKUP(M28,BDColr!$B$3:$F$100,5,FALSE)*N28),"",VLOOKUP(M28,BDColr!$B$3:$F$100,5,FALSE)*N28) | X28: =N61 -> TVA | Y28: =O61 -> Tot HTVA | Z28: =P61 -> TVA | AA28: =Q61 -> TVAC | AC28: =R61 -> Vidange | AD28: =U47 -> Prévi
A29: Tables (1) | B29: 10 | C29: 3 | D29: =IF(B29="","",B29*C29) -> 30 | E29: =IF(A29="","",VLOOKUP(A29,BDCom1!$A$2:$N$100,14,FALSE)) -> 0 | F29: =IF(B29="","",E29*B29) -> 0 | G29: =IF(A29="","",VLOOKUP(A29,BDCom1!$A$3:$F$100,6,FALSE)*B29) -> 0 | I29: =IF(A29="","",VLOOKUP(A29,BDCom1!$A$3:$H$100,8,FALSE)) -> 0 | J29: =IF(A29="","",VLOOKUP(A29,VentilCom1!$A$2:$Z$39,21,FALSE)) -> 0 | K29: =IF(A29="","",VLOOKUP(A29,BDCom1!$A$3:$G$100,7,FALSE)*B29) -> 0 | P29: =IF(N29="","",N29*O29) | Q29: =IF(ISNA(VLOOKUP(M29,BDCom1!$A$3:$F$100,6,FALSE)*N29),"",VLOOKUP(M29,BDCom1!$A$3:$F$100,6,FALSE)*N29) | S29: =IF(ISNA(VLOOKUP(M29,BDCom1!$A$3:$H$100,8,FALSE)),"",VLOOKUP(M29,BDCom1!$A$3:$H$100,8,FALSE)) | T29: =IFERROR(IF(N29="","",P29/U29),"") | U29: =IF(ISNA(VLOOKUP(M29,BDColr!$B$3:$F$100,5,FALSE)*N29),"",VLOOKUP(M29,BDColr!$B$3:$F$100,5,FALSE)*N29) | X29: =N62 -> 6 | Y29: =O62 -> 0 | Z29: =P62 -> 0 | AA29: =Q62 -> 0 | AC29: =R62 -> 0 | AD29: =U48
A30: Bancs (1) | B30: 20 | C30: 1.5 | D30: =IF(B30="","",B30*C30) -> 30 | E30: =IF(A30="","",VLOOKUP(A30,BDCom1!$A$2:$N$100,14,FALSE)) -> 0 | F30: =IF(B30="","",E30*B30) -> 0 | G30: =IF(A30="","",VLOOKUP(A30,BDCom1!$A$3:$F$100,6,FALSE)*B30) -> 0 | I30: =IF(A30="","",VLOOKUP(A30,BDCom1!$A$3:$H$100,8,FALSE)) -> 0 | J30: =IF(A30="","",VLOOKUP(A30,VentilCom1!$A$2:$Z$39,21,FALSE)) -> 0 | K30: =IF(A30="","",VLOOKUP(A30,BDCom1!$A$3:$G$100,7,FALSE)*B30) -> 0 | P30: =IF(N30="","",N30*O30) | Q30: =IF(ISNA(VLOOKUP(M30,BDCom1!$A$3:$F$100,6,FALSE)*N30),"",VLOOKUP(M30,BDCom1!$A$3:$F$100,6,FALSE)*N30) | S30: =IF(ISNA(VLOOKUP(M30,BDCom1!$A$3:$H$100,8,FALSE)),"",VLOOKUP(M30,BDCom1!$A$3:$H$100,8,FALSE)) | T30: =IFERROR(IF(N30="","",P30/U30),"") | U30: =IF(ISNA(VLOOKUP(M30,BDColr!$B$3:$F$100,5,FALSE)*N30),"",VLOOKUP(M30,BDColr!$B$3:$F$100,5,FALSE)*N30) | X30: =N63 -> 21 | Y30: =O63 -> 0 | Z30: =P63 -> 0 | AA30: =Q63 -> 0 | AC30: =S64 -> Total TTC
A31: Frigos (1) | B31: 3 | C31: 40 | D31: =IF(B31="","",B31*C31) -> 120 | E31: =IF(A31="","",VLOOKUP(A31,BDCom1!$A$2:$N$100,14,FALSE)) -> 0 | F31: =IF(B31="","",E31*B31) -> 0 | G31: =IF(A31="","",VLOOKUP(A31,BDCom1!$A$3:$F$100,6,FALSE)*B31) -> 0 | I31: =IF(A31="","",VLOOKUP(A31,BDCom1!$A$3:$H$100,8,FALSE)) -> 0 | J31: =IF(A31="","",VLOOKUP(A31,VentilCom1!$A$2:$Z$39,21,FALSE)) -> 0 | K31: =IF(A31="","",VLOOKUP(A31,BDCom1!$A$3:$G$100,7,FALSE)*B31) -> 0 | P31: =IF(N31="","",N31*O31) | Q31: =IF(ISNA(VLOOKUP(M31,BDCom1!$A$3:$F$100,6,FALSE)*N31),"",VLOOKUP(M31,BDCom1!$A$3:$F$100,6,FALSE)*N31) | S31: =IF(ISNA(VLOOKUP(M31,BDCom1!$A$3:$H$100,8,FALSE)),"",VLOOKUP(M31,BDCom1!$A$3:$H$100,8,FALSE)) | T31: =IFERROR(IF(N31="","",P31/U31),"") | U31: =IF(ISNA(VLOOKUP(M31,BDColr!$B$3:$F$100,5,FALSE)*N31),"",VLOOKUP(M31,BDColr!$B$3:$F$100,5,FALSE)*N31) | AA31: =Q65 -> 0 | AC31: =S65 -> 0 | AD31: =$U$65 -> 606
D32: =IF(B32="","",B32*C32) | E32: =IF(A32="","",VLOOKUP(A32,BDCom1!$A$2:$N$100,14,FALSE)) | F32: =IF(B32="","",E32*B32) | G32: =IF(A32="","",VLOOKUP(A32,BDCom1!$A$3:$F$100,6,FALSE)*B32) | I32: =IF(A32="","",VLOOKUP(A32,BDCom1!$A$3:$H$100,8,FALSE)) | J32: =IF(A32="","",VLOOKUP(A32,VentilCom1!$A$2:$Z$39,21,FALSE)) | K32: =IF(A32="","",VLOOKUP(A32,BDCom1!$A$3:$G$100,7,FALSE)*B32) | P32: =IF(N32="","",N32*O32) | Q32: =IF(ISNA(VLOOKUP(M32,BDCom1!$A$3:$F$100,6,FALSE)*N32),"",VLOOKUP(M32,BDCom1!$A$3:$F$100,6,FALSE)*N32) | S32: =IF(ISNA(VLOOKUP(M32,BDCom1!$A$3:$H$100,8,FALSE)),"",VLOOKUP(M32,BDCom1!$A$3:$H$100,8,FALSE)) | T32: =IFERROR(IF(N32="","",P32/U32),"") | U32: =IF(ISNA(VLOOKUP(M32,BDColr!$B$3:$F$100,5,FALSE)*N32),"",VLOOKUP(M32,BDColr!$B$3:$F$100,5,FALSE)*N32) | W32: =$M$68 -> Com 2 Colruyt & Autres | Z32: Report | AA32: =SUM(AA27+AC31) -> 5276.8674
D33: =IF(B33="","",B33*C33) | E33: =IF(A33="","",VLOOKUP(A33,BDCom1!$A$2:$N$100,14,FALSE)) | F33: =IF(B33="","",E33*B33) | G33: =IF(A33="","",VLOOKUP(A33,BDCom1!$A$3:$F$100,6,FALSE)*B33) | I33: =IF(A33="","",VLOOKUP(A33,BDCom1!$A$3:$H$100,8,FALSE)) | J33: =IF(A33="","",VLOOKUP(A33,VentilCom1!$A$2:$Z$39,21,FALSE)) | K33: =IF(A33="","",VLOOKUP(A33,BDCom1!$A$3:$G$100,7,FALSE)*B33) | P33: =IF(N33="","",N33*O33) | Q33: =IF(ISNA(VLOOKUP(M33,BDCom1!$A$3:$F$100,6,FALSE)*N33),"",VLOOKUP(M33,BDCom1!$A$3:$F$100,6,FALSE)*N33) | S33: =IF(ISNA(VLOOKUP(M33,BDCom1!$A$3:$H$100,8,FALSE)),"",VLOOKUP(M33,BDCom1!$A$3:$H$100,8,FALSE)) | T33: =IFERROR(IF(N33="","",P33/U33),"") | U33: =IF(ISNA(VLOOKUP(M33,BDColr!$B$3:$F$100,5,FALSE)*N33),"",VLOOKUP(M33,BDColr!$B$3:$F$100,5,FALSE)*N33) | X33: =N107 -> TVA | Y33: =O107 -> Tot HTVA | Z33: =P107 -> TVA | AA33: =Q107 -> TVAC | AC33: =R107 -> Vidange | AD33: =U107 -> Prévi
D34: =IF(B34="","",B34*C34) | E34: =IF(A34="","",VLOOKUP(A34,BDCom1!$A$2:$N$100,14,FALSE)) | F34: =IF(B34="","",E34*B34) | G34: =IF(A34="","",VLOOKUP(A34,BDCom1!$A$3:$F$100,6,FALSE)*B34) | I34: =IF(A34="","",VLOOKUP(A34,BDCom1!$A$3:$H$100,8,FALSE)) | J34: =IF(A34="","",VLOOKUP(A34,VentilCom1!$A$2:$Z$39,21,FALSE)) | K34: =IF(A34="","",VLOOKUP(A34,BDCom1!$A$3:$G$100,7,FALSE)*B34) | P34: =IF(N34="","",N34*O34) | Q34: =IF(ISNA(VLOOKUP(M34,BDCom1!$A$3:$F$100,6,FALSE)*N34),"",VLOOKUP(M34,BDCom1!$A$3:$F$100,6,FALSE)*N34) | S34: =IF(ISNA(VLOOKUP(M34,BDCom1!$A$3:$H$100,8,FALSE)),"",VLOOKUP(M34,BDCom1!$A$3:$H$100,8,FALSE)) | T34: =IFERROR(IF(N34="","",P34/U34),"") | U34: =IF(ISNA(VLOOKUP(M34,BDColr!$B$3:$F$100,5,FALSE)*N34),"",VLOOKUP(M34,BDColr!$B$3:$F$100,5,FALSE)*N34) | X34: =N108 -> 6 | Y34: =O108 -> 0 | Z34: =P108 -> 0 | AA34: =Q108 -> 0 | AC34: =R108 -> 0 | AD34: =U108 -> 0
D35: =IF(B35="","",B35*C35) | E35: =IF(A35="","",VLOOKUP(A35,BDCom1!$A$2:$N$100,14,FALSE)) | F35: =IF(B35="","",E35*B35) | G35: =IF(A35="","",VLOOKUP(A35,BDCom1!$A$3:$F$100,6,FALSE)*B35) | I35: =IF(A35="","",VLOOKUP(A35,BDCom1!$A$3:$H$100,8,FALSE)) | J35: =IF(A35="","",VLOOKUP(A35,VentilCom1!$A$2:$Z$39,21,FALSE)) | K35: =IF(A35="","",VLOOKUP(A35,BDCom1!$A$3:$G$100,7,FALSE)*B35) | P35: =IF(N35="","",N35*O35) | Q35: =IF(ISNA(VLOOKUP(M35,BDCom1!$A$3:$F$100,6,FALSE)*N35),"",VLOOKUP(M35,BDCom1!$A$3:$F$100,6,FALSE)*N35) | S35: =IF(ISNA(VLOOKUP(M35,BDCom1!$A$3:$H$100,8,FALSE)),"",VLOOKUP(M35,BDCom1!$A$3:$H$100,8,FALSE)) | T35: =IFERROR(IF(N35="","",P35/U35),"") | U35: =IF(ISNA(VLOOKUP(M35,BDColr!$B$3:$F$100,5,FALSE)*N35),"",VLOOKUP(M35,BDColr!$B$3:$F$100,5,FALSE)*N35) | X35: =N109 -> 21 | Y35: =O109 -> 0 | Z35: =P109 -> 0 | AA35: =Q109 -> 0 | AC35: =S110 -> Total TTC
D36: =IF(B36="","",B36*C36) | E36: =IF(A36="","",VLOOKUP(A36,BDCom1!$A$2:$N$100,14,FALSE)) | F36: =IF(B36="","",E36*B36) | G36: =IF(A36="","",VLOOKUP(A36,BDCom1!$A$3:$F$100,6,FALSE)*B36) | I36: =IF(A36="","",VLOOKUP(A36,BDCom1!$A$3:$H$100,8,FALSE)) | J36: =IF(A36="","",VLOOKUP(A36,VentilCom1!$A$2:$Z$39,21,FALSE)) | K36: =IF(A36="","",VLOOKUP(A36,BDCom1!$A$3:$G$100,7,FALSE)*B36) | P36: =IF(N36="","",N36*O36) | Q36: =IF(ISNA(VLOOKUP(M36,BDCom1!$A$3:$F$100,6,FALSE)*N36),"",VLOOKUP(M36,BDCom1!$A$3:$F$100,6,FALSE)*N36) | S36: =IF(ISNA(VLOOKUP(M36,BDCom1!$A$3:$H$100,8,FALSE)),"",VLOOKUP(M36,BDCom1!$A$3:$H$100,8,FALSE)) | T36: =IFERROR(IF(N36="","",P36/U36),"") | U36: =IF(ISNA(VLOOKUP(M36,BDColr!$B$3:$F$100,5,FALSE)*N36),"",VLOOKUP(M36,BDColr!$B$3:$F$100,5,FALSE)*N36) | AA36: =Q111 -> 0 | AC36: =S111 -> 0 | AD36: =$U$111 -> 606
D37: =IF(B37="","",B37*C37) | E37: =IF(A37="","",VLOOKUP(A37,BDCom1!$A$2:$N$100,14,FALSE)) | F37: =IF(B37="","",E37*B37) | G37: =IF(A37="","",VLOOKUP(A37,BDCom1!$A$3:$F$100,6,FALSE)*B37) | I37: =IF(A37="","",VLOOKUP(A37,BDCom1!$A$3:$H$100,8,FALSE)) | J37: =IF(A37="","",VLOOKUP(A37,VentilCom1!$A$2:$Z$39,21,FALSE)) | K37: =IF(A37="","",VLOOKUP(A37,BDCom1!$A$3:$G$100,7,FALSE)*B37) | P37: =IF(N37="","",N37*O37) | Q37: =IF(ISNA(VLOOKUP(M37,BDCom1!$A$3:$F$100,6,FALSE)*N37),"",VLOOKUP(M37,BDCom1!$A$3:$F$100,6,FALSE)*N37) | S37: =IF(ISNA(VLOOKUP(M37,BDCom1!$A$3:$H$100,8,FALSE)),"",VLOOKUP(M37,BDCom1!$A$3:$H$100,8,FALSE)) | T37: =IFERROR(IF(N37="","",P37/U37),"") | U37: =IF(ISNA(VLOOKUP(M37,BDColr!$B$3:$F$100,5,FALSE)*N37),"",VLOOKUP(M37,BDColr!$B$3:$F$100,5,FALSE)*N37) | W37: =$M$114 -> Com 2 Colruyt & Autres Ajout | Z37: Report | AA37: =SUM(AA32+AC36) -> 5276.8674
D38: =IF(B38="","",B38*C38) | E38: =IF(A38="","",VLOOKUP(A38,BDCom1!$A$2:$N$100,14,FALSE)) | F38: =IF(B38="","",E38*B38) | G38: =IF(A38="","",VLOOKUP(A38,BDCom1!$A$3:$F$100,6,FALSE)*B38) | I38: =IF(A38="","",VLOOKUP(A38,BDCom1!$A$3:$H$100,8,FALSE)) | J38: =IF(A38="","",VLOOKUP(A38,VentilCom1!$A$2:$Z$39,21,FALSE)) | K38: =IF(A38="","",VLOOKUP(A38,BDCom1!$A$3:$G$100,7,FALSE)*B38) | P38: =IF(N38="","",N38*O38) | Q38: =IF(ISNA(VLOOKUP(M38,BDCom1!$A$3:$F$100,6,FALSE)*N38),"",VLOOKUP(M38,BDCom1!$A$3:$F$100,6,FALSE)*N38) | S38: =IF(ISNA(VLOOKUP(M38,BDCom1!$A$3:$H$100,8,FALSE)),"",VLOOKUP(M38,BDCom1!$A$3:$H$100,8,FALSE)) | T38: =IFERROR(IF(N38="","",P38/U38),"") | U38: =IF(ISNA(VLOOKUP(M38,BDColr!$B$3:$F$100,5,FALSE)*N38),"",VLOOKUP(M38,BDColr!$B$3:$F$100,5,FALSE)*N38) | X38: =N128 -> TVA | Y38: =O128 -> Tot HTVA | Z38: =P128 -> TVA | AA38: =Q128 -> TVAC | AC38: =R128 -> Vidange | AD38: =U128 -> Prévi
D39: =IF(B39="","",B39*C39) | E39: =IF(A39="","",VLOOKUP(A39,BDCom1!$A$2:$N$100,14,FALSE)) | F39: =IF(B39="","",E39*B39) | G39: =IF(A39="","",VLOOKUP(A39,BDCom1!$A$3:$F$100,6,FALSE)*B39) | I39: =IF(A39="","",VLOOKUP(A39,BDCom1!$A$3:$H$100,8,FALSE)) | J39: =IF(A39="","",VLOOKUP(A39,VentilCom1!$A$2:$Z$39,21,FALSE)) | K39: =IF(A39="","",VLOOKUP(A39,BDCom1!$A$3:$G$100,7,FALSE)*B39) | P39: =IF(N39="","",N39*O39) | Q39: =IF(ISNA(VLOOKUP(M39,BDCom1!$A$3:$F$100,6,FALSE)*N39),"",VLOOKUP(M39,BDCom1!$A$3:$F$100,6,FALSE)*N39) | S39: =IF(ISNA(VLOOKUP(M39,BDCom1!$A$3:$H$100,8,FALSE)),"",VLOOKUP(M39,BDCom1!$A$3:$H$100,8,FALSE)) | T39: =IFERROR(IF(N39="","",P39/U39),"") | U39: =IF(ISNA(VLOOKUP(M39,BDColr!$B$3:$F$100,5,FALSE)*N39),"",VLOOKUP(M39,BDColr!$B$3:$F$100,5,FALSE)*N39) | X39: =N129 -> 6 | Y39: =O129 -> 0 | Z39: =P129 -> 0 | AA39: =Q129 -> 0 | AC39: =R129 -> 0 | AD39: =U129 -> 0
A40: Nom du Fournisseur : | B40: TVA | C40: Brut | D40: Taxe | E40: Tot. HTVA | F40: TVA | G40: Vidange | K40: Prévi | N40: TVA | O40: Tot HTVA | P40: TVA | Q40: TVAC | R40: Vidange | U40: Prévi | X40: =N130 -> 21 | Y40: =O130 -> 0 | Z40: =P130 -> 0 | AA40: =Q130 -> 0 | AC40: =S131 -> Total TTC
...

Sheet Retour
A1: ='Com1&Colr'!A1 -> Com Fournisseur 1 | B1: Retour | C1: ='Com1&Colr'!B1 -> Quant. | D1: Stock | E1: ='Com1&Colr'!C1 -> P.U HTVA | F1: ='Com1&Colr'!D1 -> Tot HTVA | G1: ='Com1&Colr'!E1 -> Taxe HTVA | H1: ='Com1&Colr'!F1 -> T.T. HTVA | I1: ='Com1&Colr'!G1 -> Consi | J1: ='Com1&Colr'!H1 -> Check | K1: ='Com1&Colr'!I1 -> P.U. V | L1: ='Com1&Colr'!J1 -> P.U. A | M1: Vendu | N1: A Facturer
C2: =SUMPRODUCT(('Com1&Colr'!$A$2:$A$39=Retour!$A2)*('Com1&Colr'!$B$2:$B$39))+SUMPRODUCT((('Com1&Colr'!$A$48:$A$60=Retour!A2)*('Com1&Colr'!$B$48:$B$60))) -> 0 | E2: =IFERROR(VLOOKUP(A2,'Com1&Colr'!$A$2:$C$39,3,FALSE),"") | F2: =IFERROR((C2-B2)*E2,"") | G2: =IFERROR(VLOOKUP(A2,BDCom1!$A$2:$N$100,14,FALSE),"") | H2: =IFERROR((C2-B2)*(G2),"") | I2: =IFERROR(VLOOKUP(A2,BDCom1!$A$3:$F$100,6,FALSE)*(C2-B2),"") | K2: =IF(A2="","",VLOOKUP(A2,BDCom1!$A$3:$H$100,8,FALSE)) | L2: =IFERROR(VLOOKUP(A2,VentilCom1!$A$2:$Z$39,21,FALSE),"") | M2: =IFERROR(VLOOKUP(A2,BDCom1!$A$3:$G$100,7,FALSE)*(C2-B2)-(D2),"") | N2: =A2 -> 0 | O2: =SUM(C2-B2) -> 0
C3: =SUMPRODUCT(('Com1&Colr'!$A$2:$A$39=Retour!$A3)*('Com1&Colr'!$B$2:$B$39))+SUMPRODUCT((('Com1&Colr'!$A$48:$A$60=Retour!A3)*('Com1&Colr'!$B$48:$B$60))) -> 0 | E3: =IFERROR(VLOOKUP(A3,'Com1&Colr'!$A$2:$C$39,3,FALSE),"") | F3: =IFERROR((C3-B3)*E3,"") | G3: =IFERROR(VLOOKUP(A3,BDCom1!$A$2:$N$100,14,FALSE),"") | H3: =IFERROR((C3-B3)*(G3),"") | I3: =IFERROR(VLOOKUP(A3,BDCom1!$A$3:$F$100,6,FALSE)*(C3-B3),"") | K3: =IF(A3="","",VLOOKUP(A3,BDCom1!$A$3:$H$100,8,FALSE)) | L3: =IFERROR(VLOOKUP(A3,VentilCom1!$A$2:$Z$39,21,FALSE),"") | M3: =IFERROR(VLOOKUP(A3,BDCom1!$A$3:$G$100,7,FALSE)*(C3-B3)-(D3),"") | N3: =A3 -> 0 | O3: =SUM(C3-B3) -> 0
C4: =SUMPRODUCT(('Com1&Colr'!$A$2:$A$39=Retour!$A4)*('Com1&Colr'!$B$2:$B$39))+SUMPRODUCT((('Com1&Colr'!$A$48:$A$60=Retour!A4)*('Com1&Colr'!$B$48:$B$60))) -> 0 | E4: =IFERROR(VLOOKUP(A4,'Com1&Colr'!$A$2:$C$39,3,FALSE),"") | F4: =IFERROR((C4-B4)*E4,"") | G4: =IFERROR(VLOOKUP(A4,BDCom1!$A$2:$N$100,14,FALSE),"") | H4: =IFERROR((C4-B4)*(G4),"") | I4: =IFERROR(VLOOKUP(A4,BDCom1!$A$3:$F$100,6,FALSE)*(C4-B4),"") | K4: =IF(A4="","",VLOOKUP(A4,BDCom1!$A$3:$H$100,8,FALSE)) | L4: =IFERROR(VLOOKUP(A4,VentilCom1!$A$2:$Z$39,21,FALSE),"") | M4: =IFERROR(VLOOKUP(A4,BDCom1!$A$3:$G$100,7,FALSE)*(C4-B4)-(D4),"") | N4: =A4 -> 0 | O4: =SUM(C4-B4) -> 0
C5: =SUMPRODUCT(('Com1&Colr'!$A$2:$A$39=Retour!$A5)*('Com1&Colr'!$B$2:$B$39))+SUMPRODUCT((('Com1&Colr'!$A$48:$A$60=Retour!A5)*('Com1&Colr'!$B$48:$B$60))) -> 0 | E5: =IFERROR(VLOOKUP(A5,'Com1&Colr'!$A$2:$C$39,3,FALSE),"") | F5: =IFERROR((C5-B5)*E5,"") | G5: =IFERROR(VLOOKUP(A5,BDCom1!$A$2:$N$100,14,FALSE),"") | H5: =IFERROR((C5-B5)*(G5),"") | I5: =IFERROR(VLOOKUP(A5,BDCom1!$A$3:$F$100,6,FALSE)*(C5-B5),"") | K5: =IF(A5="","",VLOOKUP(A5,BDCom1!$A$3:$H$100,8,FALSE)) | L5: =IFERROR(VLOOKUP(A5,VentilCom1!$A$2:$Z$39,21,FALSE),"") | M5: =IFERROR(VLOOKUP(A5,BDCom1!$A$3:$G$100,7,FALSE)*(C5-B5)-(D5),"") | N5: =A5 -> 0 | O5: =SUM(C5-B5) -> 0
C6: =SUMPRODUCT(('Com1&Colr'!$A$2:$A$39=Retour!$A6)*('Com1&Colr'!$B$2:$B$39))+SUMPRODUCT((('Com1&Colr'!$A$48:$A$60=Retour!A6)*('Com1&Colr'!$B$48:$B$60))) -> 0 | E6: =IFERROR(VLOOKUP(A6,'Com1&Colr'!$A$2:$C$39,3,FALSE),"") | F6: =IFERROR((C6-B6)*E6,"") | G6: =IFERROR(VLOOKUP(A6,BDCom1!$A$2:$N$100,14,FALSE),"") | H6: =IFERROR((C6-B6)*(G6),"") | I6: =IFERROR(VLOOKUP(A6,BDCom1!$A$3:$F$100,6,FALSE)*(C6-B6),"") | K6: =IF(A6="","",VLOOKUP(A6,BDCom1!$A$3:$H$100,8,FALSE)) | L6: =IFERROR(VLOOKUP(A6,VentilCom1!$A$2:$Z$39,21,FALSE),"") | M6: =IFERROR(VLOOKUP(A6,BDCom1!$A$3:$G$100,7,FALSE)*(C6-B6)-(D6),"") | N6: =A6 -> 0 | O6: =SUM(C6-B6) -> 0
C7: =SUMPRODUCT(('Com1&Colr'!$A$2:$A$39=Retour!$A7)*('Com1&Colr'!$B$2:$B$39))+SUMPRODUCT((('Com1&Colr'!$A$48:$A$60=Retour!A7)*('Com1&Colr'!$B$48:$B$60))) -> 0 | E7: =IFERROR(VLOOKUP(A7,'Com1&Colr'!$A$2:$C$39,3,FALSE),"") | F7: =IFERROR((C7-B7)*E7,"") | G7: =IFERROR(VLOOKUP(A7,BDCom1!$A$2:$N$100,14,FALSE),"") | H7: =IFERROR((C7-B7)*(G7),"") | I7: =IFERROR(VLOOKUP(A7,BDCom1!$A$3:$F$100,6,FALSE)*(C7-B7),"") | K7: =IF(A7="","",VLOOKUP(A7,BDCom1!$A$3:$H$100,8,FALSE)) | L7: =IFERROR(VLOOKUP(A7,VentilCom1!$A$2:$Z$39,21,FALSE),"") | M7: =IFERROR(VLOOKUP(A7,BDCom1!$A$3:$G$100,7,FALSE)*(C7-B7)-(D7),"") | N7: =A7 -> 0 | O7: =SUM(C7-B7) -> 0
C8: =SUMPRODUCT(('Com1&Colr'!$A$2:$A$39=Retour!$A8)*('Com1&Colr'!$B$2:$B$39))+SUMPRODUCT((('Com1&Colr'!$A$48:$A$60=Retour!A8)*('Com1&Colr'!$B$48:$B$60))) -> 0 | E8: =IFERROR(VLOOKUP(A8,'Com1&Colr'!$A$2:$C$39,3,FALSE),"") | F8: =IFERROR((C8-B8)*E8,"") | G8: =IFERROR(VLOOKUP(A8,BDCom1!$A$2:$N$100,14,FALSE),"") | H8: =IFERROR((C8-B8)*(G8),"") | I8: =IFERROR(VLOOKUP(A8,BDCom1!$A$3:$F$100,6,FALSE)*(C8-B8),"") | K8: =IF(A8="","",VLOOKUP(A8,BDCom1!$A$3:$H$100,8,FALSE)) | L8: =IFERROR(VLOOKUP(A8,VentilCom1!$A$2:$Z$39,21,FALSE),"") | M8: =IFERROR(VLOOKUP(A8,BDCom1!$A$3:$G$100,7,FALSE)*(C8-B8)-(D8),"") | N8: =A8 -> 0 | O8: =SUM(C8-B8) -> 0
C9: =SUMPRODUCT(('Com1&Colr'!$A$2:$A$39=Retour!$A9)*('Com1&Colr'!$B$2:$B$39))+SUMPRODUCT((('Com1&Colr'!$A$48:$A$60=Retour!A9)*('Com1&Colr'!$B$48:$B$60))) -> 0 | E9: =IFERROR(VLOOKUP(A9,'Com1&Colr'!$A$2:$C$39,3,FALSE),"") | F9: =IFERROR((C9-B9)*E9,"") | G9: =IFERROR(VLOOKUP(A9,BDCom1!$A$2:$N$100,14,FALSE),"") | H9: =IFERROR((C9-B9)*(G9),"") | I9: =IFERROR(VLOOKUP(A9,BDCom1!$A$3:$F$100,6,FALSE)*(C9-B9),"") | K9: =IF(A9="","",VLOOKUP(A9,BDCom1!$A$3:$H$100,8,FALSE)) | L9: =IFERROR(VLOOKUP(A9,VentilCom1!$A$2:$Z$39,21,FALSE),"") | M9: =IFERROR(VLOOKUP(A9,BDCom1!$A$3:$G$100,7,FALSE)*(C9-B9)-(D9),"") | N9: =A9 -> 0 | O9: =SUM(C9-B9) -> 0
C10: =SUMPRODUCT(('Com1&Colr'!$A$2:$A$39=Retour!$A10)*('Com1&Colr'!$B$2:$B$39))+SUMPRODUCT((('Com1&Colr'!$A$48:$A$60=Retour!A10)*('Com1&Colr'!$B$48:$B$60))) -> 0 | E10: =IFERROR(VLOOKUP(A10,'Com1&Colr'!$A$2:$C$39,3,FALSE),"") | F10: =IFERROR((C10-B10)*E10,"") | G10: =IFERROR(VLOOKUP(A10,BDCom1!$A$2:$N$100,14,FALSE),"") | H10: =IFERROR((C10-B10)*(G10),"") | I10: =IFERROR(VLOOKUP(A10,BDCom1!$A$3:$F$100,6,FALSE)*(C10-B10),"") | K10: =IF(A10="","",VLOOKUP(A10,BDCom1!$A$3:$H$100,8,FALSE)) | L10: =IFERROR(VLOOKUP(A10,VentilCom1!$A$2:$Z$39,21,FALSE),"") | M10: =IFERROR(VLOOKUP(A10,BDCom1!$A$3:$G$100,7,FALSE)*(C10-B10)-(D10),"") | N10: =A10 -> 0 | O10: =SUM(C10-B10) -> 0
C11: =SUMPRODUCT(('Com1&Colr'!$A$2:$A$39=Retour!$A11)*('Com1&Colr'!$B$2:$B$39))+SUMPRODUCT((('Com1&Colr'!$A$48:$A$60=Retour!A11)*('Com1&Colr'!$B$48:$B$60))) -> 0 | E11: =IFERROR(VLOOKUP(A11,'Com1&Colr'!$A$2:$C$39,3,FALSE),"") | F11: =IFERROR((C11-B11)*E11,"") | G11: =IFERROR(VLOOKUP(A11,BDCom1!$A$2:$N$100,14,FALSE),"") | H11: =IFERROR((C11-B11)*(G11),"") | I11: =IFERROR(VLOOKUP(A11,BDCom1!$A$3:$F$100,6,FALSE)*(C11-B11),"") | K11: =IF(A11="","",VLOOKUP(A11,BDCom1!$A$3:$H$100,8,FALSE)) | L11: =IFERROR(VLOOKUP(A11,VentilCom1!$A$2:$Z$39,21,FALSE),"") | M11: =IFERROR(VLOOKUP(A11,BDCom1!$A$3:$G$100,7,FALSE)*(C11-B11),"") | N11: =A11 -> 0 | O11: =SUM(C11-B11) -> 0
C12: =SUMPRODUCT(('Com1&Colr'!$A$2:$A$39=Retour!$A12)*('Com1&Colr'!$B$2:$B$39))+SUMPRODUCT((('Com1&Colr'!$A$48:$A$60=Retour!A12)*('Com1&Colr'!$B$48:$B$60))) -> 0 | E12: =IFERROR(VLOOKUP(A12,'Com1&Colr'!$A$2:$C$39,3,FALSE),"") | F12: =IFERROR((C12-B12)*E12,"") | G12: =IFERROR(VLOOKUP(A12,BDCom1!$A$2:$N$100,14,FALSE),"") | H12: =IFERROR((C12-B12)*(G12),"") | I12: =IFERROR(VLOOKUP(A12,BDCom1!$A$3:$F$100,6,FALSE)*(C12-B12),"") | K12: =IF(A12="","",VLOOKUP(A12,BDCom1!$A$3:$H$100,8,FALSE)) | L12: =IFERROR(VLOOKUP(A12,VentilCom1!$A$2:$Z$39,21,FALSE),"") | M12: =IFERROR(VLOOKUP(A12,BDCom1!$A$3:$G$100,7,FALSE)*(C12-B12),"") | N12: =A12 -> 0 | O12: =SUM(C12-B12) -> 0
C13: =SUMPRODUCT(('Com1&Colr'!$A$2:$A$39=Retour!$A13)*('Com1&Colr'!$B$2:$B$39))+SUMPRODUCT((('Com1&Colr'!$A$48:$A$60=Retour!A13)*('Com1&Colr'!$B$48:$B$60))) -> 0 | E13: =IFERROR(VLOOKUP(A13,'Com1&Colr'!$A$2:$C$39,3,FALSE),"") | F13: =IFERROR((C13-B13)*E13,"") | G13: =IFERROR(VLOOKUP(A13,BDCom1!$A$2:$N$100,14,FALSE),"") | H13: =IFERROR((C13-B13)*(G13),"") | I13: =IFERROR(VLOOKUP(A13,BDCom1!$A$3:$F$100,6,FALSE)*(C13-B13),"") | K13: =IF(A13="","",VLOOKUP(A13,BDCom1!$A$3:$H$100,8,FALSE)) | L13: =IFERROR(VLOOKUP(A13,VentilCom1!$A$2:$Z$39,21,FALSE),"") | M13: =IFERROR(VLOOKUP(A13,BDCom1!$A$3:$G$100,7,FALSE)*(C13-B13),"") | N13: =A13 -> 0 | O13: =SUM(C13-B13) -> 0
C14: =SUMPRODUCT(('Com1&Colr'!$A$2:$A$39=Retour!$A14)*('Com1&Colr'!$B$2:$B$39))+SUMPRODUCT((('Com1&Colr'!$A$48:$A$60=Retour!A14)*('Com1&Colr'!$B$48:$B$60))) -> 0 | E14: =IFERROR(VLOOKUP(A14,'Com1&Colr'!$A$2:$C$39,3,FALSE),"") | F14: =IFERROR((C14-B14)*E14,"") | G14: =IFERROR(VLOOKUP(A14,BDCom1!$A$2:$N$100,14,FALSE),"") | H14: =IFERROR((C14-B14)*(G14),"") | I14: =IFERROR(VLOOKUP(A14,BDCom1!$A$3:$F$100,6,FALSE)*(C14-B14),"") | K14: =IF(A14="","",VLOOKUP(A14,BDCom1!$A$3:$H$100,8,FALSE)) | L14: =IFERROR(VLOOKUP(A14,VentilCom1!$A$2:$Z$39,21,FALSE),"") | M14: =IFERROR(VLOOKUP(A14,BDCom1!$A$3:$G$100,7,FALSE)*(C14-B14),"") | N14: =A14 -> 0 | O14: =SUM(C14-B14) -> 0
C15: =SUMPRODUCT(('Com1&Colr'!$A$2:$A$39=Retour!$A15)*('Com1&Colr'!$B$2:$B$39))+SUMPRODUCT((('Com1&Colr'!$A$48:$A$60=Retour!A15)*('Com1&Colr'!$B$48:$B$60))) -> 0 | E15: =IFERROR(VLOOKUP(A15,'Com1&Colr'!$A$2:$C$39,3,FALSE),"") | F15: =IFERROR((C15-B15)*E15,"") | G15: =IFERROR(VLOOKUP(A15,BDCom1!$A$2:$N$100,14,FALSE),"") | H15: =IFERROR((C15-B15)*(G15),"") | I15: =IFERROR(VLOOKUP(A15,BDCom1!$A$3:$F$100,6,FALSE)*(C15-B15),"") | K15: =IF(A15="","",VLOOKUP(A15,BDCom1!$A$3:$H$100,8,FALSE)) | L15: =IFERROR(VLOOKUP(A15,VentilCom1!$A$2:$Z$39,21,FALSE),"") | M15: =IFERROR(VLOOKUP(A15,BDCom1!$A$3:$G$100,7,FALSE)*(C15-B15),"") | N15: =A15 -> 0 | O15: =SUM(C15-B15) -> 0
C16: =SUMPRODUCT(('Com1&Colr'!$A$2:$A$39=Retour!$A16)*('Com1&Colr'!$B$2:$B$39))+SUMPRODUCT((('Com1&Colr'!$A$48:$A$60=Retour!A16)*('Com1&Colr'!$B$48:$B$60))) -> 0 | E16: =IFERROR(VLOOKUP(A16,'Com1&Colr'!$A$2:$C$39,3,FALSE),"") | F16: =IFERROR((C16-B16)*E16,"") | G16: =IFERROR(VLOOKUP(A16,BDCom1!$A$2:$N$100,14,FALSE),"") | H16: =IFERROR((C16-B16)*(G16),"") | I16: =IFERROR(VLOOKUP(A16,BDCom1!$A$3:$F$100,6,FALSE)*(C16-B16),"") | K16: =IF(A16="","",VLOOKUP(A16,BDCom1!$A$3:$H$100,8,FALSE)) | L16: =IFERROR(VLOOKUP(A16,VentilCom1!$A$2:$Z$39,21,FALSE),"") | M16: =IFERROR(VLOOKUP(A16,BDCom1!$A$3:$G$100,7,FALSE)*(C16-B16),"") | N16: =A16 -> 0 | O16: =SUM(C16-B16) -> 0
C17: =SUMPRODUCT(('Com1&Colr'!$A$2:$A$39=Retour!$A17)*('Com1&Colr'!$B$2:$B$39))+SUMPRODUCT((('Com1&Colr'!$A$48:$A$60=Retour!A17)*('Com1&Colr'!$B$48:$B$60))) -> 0 | E17: =IFERROR(VLOOKUP(A17,'Com1&Colr'!$A$2:$C$39,3,FALSE),"") | F17: =IFERROR((C17-B17)*E17,"") | G17: =IFERROR(VLOOKUP(A17,BDCom1!$A$2:$N$100,14,FALSE),"") | H17: =IFERROR((C17-B17)*(G17),"") | I17: =IFERROR(VLOOKUP(A17,BDCom1!$A$3:$F$100,6,FALSE)*(C17-B17),"") | K17: =IF(A17="","",VLOOKUP(A17,BDCom1!$A$3:$H$100,8,FALSE)) | L17: =IFERROR(VLOOKUP(A17,VentilCom1!$A$2:$Z$39,21,FALSE),"") | M17: =IFERROR(VLOOKUP(A17,BDCom1!$A$3:$G$100,7,FALSE)*(C17-B17),"") | N17: =A17 -> 0 | O17: =SUM(C17-B17) -> 0
C18: =SUMPRODUCT(('Com1&Colr'!$A$2:$A$39=Retour!$A18)*('Com1&Colr'!$B$2:$B$39))+SUMPRODUCT((('Com1&Colr'!$A$48:$A$60=Retour!A18)*('Com1&Colr'!$B$48:$B$60))) -> 0 | E18: =IFERROR(VLOOKUP(A18,'Com1&Colr'!$A$2:$C$39,3,FALSE),"") | F18: =IFERROR((C18-B18)*E18,"") | G18: =IFERROR(VLOOKUP(A18,BDCom1!$A$2:$N$100,14,FALSE),"") | H18: =IFERROR((C18-B18)*(G18),"") | I18: =IFERROR(VLOOKUP(A18,BDCom1!$A$3:$F$100,6,FALSE)*(C18-B18),"") | K18: =IF(A18="","",VLOOKUP(A18,BDCom1!$A$3:$H$100,8,FALSE)) | L18: =IFERROR(VLOOKUP(A18,VentilCom1!$A$2:$Z$39,21,FALSE),"") | M18: =IFERROR(VLOOKUP(A18,BDCom1!$A$3:$G$100,7,FALSE)*(C18-B18),"") | N18: =A18 -> 0 | O18: =SUM(C18-B18) -> 0
C19: =SUMPRODUCT(('Com1&Colr'!$A$2:$A$39=Retour!$A19)*('Com1&Colr'!$B$2:$B$39))+SUMPRODUCT((('Com1&Colr'!$A$48:$A$60=Retour!A19)*('Com1&Colr'!$B$48:$B$60))) -> 0 | E19: =IFERROR(VLOOKUP(A19,'Com1&Colr'!$A$2:$C$39,3,FALSE),"") | F19: =IFERROR((C19-B19)*E19,"") | G19: =IFERROR(VLOOKUP(A19,BDCom1!$A$2:$N$100,14,FALSE),"") | H19: =IFERROR((C19-B19)*(G19),"") | I19: =IFERROR(VLOOKUP(A19,BDCom1!$A$3:$F$100,6,FALSE)*(C19-B19),"") | K19: =IF(A19="","",VLOOKUP(A19,BDCom1!$A$3:$H$100,8,FALSE)) | L19: =IFERROR(VLOOKUP(A19,VentilCom1!$A$2:$Z$39,21,FALSE),"") | M19: =IFERROR(VLOOKUP(A19,BDCom1!$A$3:$G$100,7,FALSE)*(C19-B19),"") | N19: =A19 -> 0 | O19: =SUM(C19-B19) -> 0
C20: =SUMPRODUCT(('Com1&Colr'!$A$2:$A$39=Retour!$A20)*('Com1&Colr'!$B$2:$B$39))+SUMPRODUCT((('Com1&Colr'!$A$48:$A$60=Retour!A20)*('Com1&Colr'!$B$48:$B$60))) -> 0 | E20: =IFERROR(VLOOKUP(A20,'Com1&Colr'!$A$2:$C$39,3,FALSE),"") | F20: =IFERROR((C20-B20)*E20,"") | G20: =IFERROR(VLOOKUP(A20,BDCom1!$A$2:$N$100,14,FALSE),"") | H20: =IFERROR((C20-B20)*(G20),"") | I20: =IFERROR(VLOOKUP(A20,BDCom1!$A$3:$F$100,6,FALSE)*(C20-B20),"") | K20: =IF(A20="","",VLOOKUP(A20,BDCom1!$A$3:$H$100,8,FALSE)) | L20: =IFERROR(VLOOKUP(A20,VentilCom1!$A$2:$Z$39,21,FALSE),"") | M20: =IFERROR(VLOOKUP(A20,BDCom1!$A$3:$G$100,7,FALSE)*(C20-B20),"") | N20: =A20 -> 0 | O20: =SUM(C20-B20) -> 0
C21: =SUMPRODUCT(('Com1&Colr'!$A$2:$A$39=Retour!$A21)*('Com1&Colr'!$B$2:$B$39))+SUMPRODUCT((('Com1&Colr'!$A$48:$A$60=Retour!A21)*('Com1&Colr'!$B$48:$B$60))) -> 0 | E21: =IFERROR(VLOOKUP(A21,'Com1&Colr'!$A$2:$C$39,3,FALSE),"") | F21: =IFERROR((C21-B21)*E21,"") | G21: =IFERROR(VLOOKUP(A21,BDCom1!$A$2:$N$100,14,FALSE),"") | H21: =IFERROR((C21-B21)*(G21),"") | I21: =IFERROR(VLOOKUP(A21,BDCom1!$A$3:$F$100,6,FALSE)*(C21-B21),"") | K21: =IF(A21="","",VLOOKUP(A21,BDCom1!$A$3:$H$100,8,FALSE)) | L21: =IFERROR(VLOOKUP(A21,VentilCom1!$A$2:$Z$39,21,FALSE),"") | M21: =IFERROR(VLOOKUP(A21,BDCom1!$A$3:$G$100,7,FALSE)*(C21-B21),"") | N21: =A21 -> 0 | O21: =SUM(C21-B21) -> 0
C22: =SUMPRODUCT(('Com1&Colr'!$A$2:$A$39=Retour!$A22)*('Com1&Colr'!$B$2:$B$39))+SUMPRODUCT((('Com1&Colr'!$A$48:$A$60=Retour!A22)*('Com1&Colr'!$B$48:$B$60))) -> 0 | E22: =IFERROR(VLOOKUP(A22,'Com1&Colr'!$A$2:$C$39,3,FALSE),"") | F22: =IFERROR((C22-B22)*E22,"") | G22: =IFERROR(VLOOKUP(A22,BDCom1!$A$2:$N$100,14,FALSE),"") | H22: =IFERROR((C22-B22)*(G22),"") | I22: =IFERROR(VLOOKUP(A22,BDCom1!$A$3:$F$100,6,FALSE)*(C22-B22),"") | K22: =IF(A22="","",VLOOKUP(A22,BDCom1!$A$3:$H$100,8,FALSE)) | L22: =IFERROR(VLOOKUP(A22,VentilCom1!$A$2:$Z$39,21,FALSE),"") | M22: =IFERROR(VLOOKUP(A22,BDCom1!$A$3:$G$100,7,FALSE)*(C22-B22),"") | N22: =A22 -> 0 | O22: =SUM(C22-B22) -> 0

Sheet VentilCom1
A1: =_xlfn.CONCAT('Com1&Colr'!A1) -> Com Fournisseur 1 | B1: Quant. | C1: P.U H.T | D1: Tot. H.T 6% | E1: Tot H.T 21% | F1: TVA 6% | G1: TVA 21% | H1: Tot.TVAC 6 | I1: Tot. TVAC 21 | J1: H.Taxe 6% | K1: H.Taxe 21% | L1: Taxe 6% | M1: Taxe 21% | N1: Ttc Taxe 6% | O1: Ttc Taxe 21% | P1: TOT TTC 6 % | Q1: TOT TTC 21% | R1: Consigne | S1: Tot + Cons | T1: Prévision | U1: P.U TTC | V1: P.U.V. | W1: BNet | X1: TVA | Y1: P.U TTC
A2: =_xlfn.CONCAT('Com1&Colr'!A2) -> Gaz Carbonique (1) | B2: ='Com1&Colr'!B2 -> 2 | C2: ='Com1&Colr'!C2 -> 47.87 | D2: =IF(X2=0.06,C2*B2,0) -> 0 | E2: =IF(X2=0.21,C2*B2,0) -> 95.74 | F2: =IF(X2=0.06,D2*X2,0) -> 0 | G2: =IF(X2=0.21,E2*X2,0) -> 20.1054 | H2: =SUM(D2+F2) -> 0 | I2: =SUM(E2+G2) -> 115.8454 | J2: =IF(A2="",0,VLOOKUP(A2,BDCom1!$A$3:$E$100,4,FALSE)*B2) -> 0 | K2: =IF(A2="",0,VLOOKUP(A2,BDCom1!$A$3:$E$100,5,FALSE)*B2) -> 0 | L2: =SUM(J2*X2) -> 0 | M2: =SUM(K2*X2) -> 0 | N2: =SUM(J2+L2) -> 0 | O2: =SUM(K2+M2) -> 0 | P2: =IFERROR(H2+N2,0) -> 0 | Q2: =IFERROR(I2+O2,0) -> 115.8454 | R2: ='Com1&Colr'!G2 -> 160 | S2: =IFERROR((P2+Q2+R2),0) -> 275.8454 | T2: ='Com1&Colr'!K2 -> 0 | U2: =IFERROR((P2+Q2)/(T2),0) -> 0 | V2: ='Com1&Colr'!C48 -> 89.18 | X2: =IFERROR(ROUNDDOWN(VLOOKUP('Com1&Colr'!A2,BDCom1!$A$3:$C$100,3,FALSE),2),0) -> 0.21 | Y2: =IFERROR((P2+Q2/B2),0) -> 57.9227
A3: =_xlfn.CONCAT('Com1&Colr'!A3) -> Fut Jupiler (1X50 L) | B3: ='Com1&Colr'!B3 -> 3 | C3: ='Com1&Colr'!C3 -> 142.58 | D3: =IF(X3=0.06,C3*B3,0) -> 0 | E3: =IF(X3=0.21,C3*B3,0) -> 427.74 | F3: =IF(X3=0.06,D3*X3,0) -> 0 | G3: =IF(X3=0.21,E3*X3,0) -> 89.8254 | H3: =SUM(D3+F3) -> 0 | I3: =SUM(E3+G3) -> 517.5654 | J3: =IF(A3="",0,VLOOKUP(A3,BDCom1!$A$3:$E$100,4,FALSE)*B3) -> 0 | K3: =IF(A3="",0,VLOOKUP(A3,BDCom1!$A$3:$E$100,5,FALSE)*B3) -> 36.09 | L3: =SUM(J3*X3) -> 0 | M3: =SUM(K3*X3) -> 7.5789 | N3: =SUM(J3+L3) -> 0 | O3: =SUM(K3+M3) -> 43.6689 | P3: =IFERROR(H3+N3,0) -> 0 | Q3: =IFERROR(I3+O3,0) -> 561.2343 | R3: ='Com1&Colr'!G3 -> 90 | S3: =IFERROR((P3+Q3+R3),0) -> 651.2343 | T3: ='Com1&Colr'!K3 -> 570 | U3: =IFERROR((P3+Q3)/(T3),0) -> 0.98462158 | V3: ='Com1&Colr'!C49 -> 13.93 | X3: =IFERROR(ROUNDDOWN(VLOOKUP('Com1&Colr'!A3,BDCom1!$A$3:$C$100,3,FALSE),2),0) -> 0.21 | Y3: =IFERROR((P3+Q3/B3),0) -> 187.0781
A4: =_xlfn.CONCAT('Com1&Colr'!A4) -> Fut Jupiler (1X30 L) | B4: ='Com1&Colr'!B4 -> 1 | C4: ='Com1&Colr'!C4 -> 89.18 | D4: =IF(X4=0.06,C4*B4,0) -> 0 | E4: =IF(X4=0.21,C4*B4,0) -> 89.18 | F4: =IF(X4=0.06,D4*X4,0) -> 0 | G4: =IF(X4=0.21,E4*X4,0) -> 18.7278 | H4: =SUM(D4+F4) -> 0 | I4: =SUM(E4+G4) -> 107.9078 | J4: =IF(A4="",0,VLOOKUP(A4,BDCom1!$A$3:$E$100,4,FALSE)*B4) -> 0 | K4: =IF(A4="",0,VLOOKUP(A4,BDCom1!$A$3:$E$100,5,FALSE)*B4) -> 7.22 | L4: =SUM(J4*X4) -> 0 | M4: =SUM(K4*X4) -> 1.5162 | N4: =SUM(J4+L4) -> 0 | O4: =SUM(K4+M4) -> 8.7362 | P4: =IFERROR(H4+N4,0) -> 0 | Q4: =IFERROR(I4+O4,0) -> 116.644 | R4: ='Com1&Colr'!G4 -> 30 | S4: =IFERROR((P4+Q4+R4),0) -> 146.644 | T4: ='Com1&Colr'!K4 -> 114 | U4: =IFERROR((P4+Q4)/(T4),0) -> 1.023193 | V4: ='Com1&Colr'!C50 -> 8.66 | X4: =IFERROR(ROUNDDOWN(VLOOKUP('Com1&Colr'!A4,BDCom1!$A$3:$C$100,3,FALSE),2),0) -> 0.21 | Y4: =IFERROR((P4+Q4/B4),0) -> 116.644
A5: =_xlfn.CONCAT('Com1&Colr'!A5) -> Fut Kriek (1X20 L) | B5: ='Com1&Colr'!B5 -> 2 | C5: ='Com1&Colr'!C5 -> 76.83 | D5: =IF(X5=0.06,C5*B5,0) -> 0 | E5: =IF(X5=0.21,C5*B5,0) -> 153.66 | F5: =IF(X5=0.06,D5*X5,0) -> 0 | G5: =IF(X5=0.21,E5*X5,0) -> 32.2686 | H5: =SUM(D5+F5) -> 0 | I5: =SUM(E5+G5) -> 185.9286 | J5: =IF(A5="",0,VLOOKUP(A5,BDCom1!$A$3:$E$100,4,FALSE)*B5) -> 0 | K5: =IF(A5="",0,VLOOKUP(A5,BDCom1!$A$3:$E$100,5,FALSE)*B5) -> 11.08 | L5: =SUM(J5*X5) -> 0 | M5: =SUM(K5*X5) -> 2.3268 | N5: =SUM(J5+L5) -> 0 | O5: =SUM(K5+M5) -> 13.4068 | P5: =IFERROR(H5+N5,0) -> 0 | Q5: =IFERROR(I5+O5,0) -> 199.3354 | R5: ='Com1&Colr'!G5 -> 60 | S5: =IFERROR((P5+Q5+R5),0) -> 259.3354 | T5: ='Com1&Colr'!K5 -> 152 | U5: =IFERROR((P5+Q5)/(T5),0) -> 1.3114171 | V5: ='Com1&Colr'!#REF! -> #REF! | X5: =IFERROR(ROUNDDOWN(VLOOKUP('Com1&Colr'!A5,BDCom1!$A$3:$C$100,3,FALSE),2),0) -> 0.21 | Y5: =IFERROR((P5+Q5/B5),0) -> 99.6677
A6: =_xlfn.CONCAT('Com1&Colr'!A6) -> Coca-Cola Normal (1X6) 1L | B6: ='Com1&Colr'!B6 -> 15 | C6: ='Com1&Colr'!C6 -> 13.93 | D6: =IF(X6=0.06,C6*B6,0) -> 208.95 | E6: =IF(X6=0.21,C6*B6,0) -> 0 | F6: =IF(X6=0.06,D6*X6,0) -> 12.537 | G6: =IF(X6=0.21,E6*X6,0) -> 0 | H6: =SUM(D6+F6) -> 221.487 | I6: =SUM(E6+G6) -> 0 | J6: =IF(A6="",0,VLOOKUP(A6,BDCom1!$A$3:$E$100,4,FALSE)*B6) -> 12 | K6: =IF(A6="",0,VLOOKUP(A6,BDCom1!$A$3:$E$100,5,FALSE)*B6) -> 0 | L6: =SUM(J6*X6) -> 0.72 | M6: =SUM(K6*X6) -> 0 | N6: =SUM(J6+L6) -> 12.72 | O6: =SUM(K6+M6) -> 0 | P6: =IFERROR(H6+N6,0) -> 234.207 | Q6: =IFERROR(I6+O6,0) -> 0 | R6: ='Com1&Colr'!G6 -> 52.5 | S6: =IFERROR((P6+Q6+R6),0) -> 286.707 | T6: ='Com1&Colr'!K6 -> 360 | U6: =IFERROR((P6+Q6)/(T6),0) -> 0.650575 | V6: ='Com1&Colr'!Z5 -> 145.51 | X6: =IFERROR(ROUNDDOWN(VLOOKUP('Com1&Colr'!A6,BDCom1!$A$3:$C$100,3,FALSE),2),0) -> 0.06 | Y6: =IFERROR((P6+Q6/B6),0) -> 234.207
A7: =_xlfn.CONCAT('Com1&Colr'!A7) -> Eau plate (1X12) 1L | B7: ='Com1&Colr'!B7 -> 5 | C7: ='Com1&Colr'!C7 -> 8.66 | D7: =IF(X7=0.06,C7*B7,0) -> 43.3 | E7: =IF(X7=0.21,C7*B7,0) -> 0 | F7: =IF(X7=0.06,D7*X7,0) -> 2.598 | G7: =IF(X7=0.21,E7*X7,0) -> 0 | H7: =SUM(D7+F7) -> 45.898 | I7: =SUM(E7+G7) -> 0 | J7: =IF(A7="",0,VLOOKUP(A7,BDCom1!$A$3:$E$100,4,FALSE)*B7) -> 0.85 | K7: =IF(A7="",0,VLOOKUP(A7,BDCom1!$A$3:$E$100,5,FALSE)*B7) -> 0 | L7: =SUM(J7*X7) -> 0.051 | M7: =SUM(K7*X7) -> 0 | N7: =SUM(J7+L7) -> 0.901 | O7: =SUM(K7+M7) -> 0 | P7: =IFERROR(H7+N7,0) -> 46.799 | Q7: =IFERROR(I7+O7,0) -> 0 | R7: ='Com1&Colr'!G7 -> 22.5 | S7: =IFERROR((P7+Q7+R7),0) -> 69.299 | T7: ='Com1&Colr'!K7 -> 240 | U7: =IFERROR((P7+Q7)/(T7),0) -> 0.19499583 | V7: ='Com1&Colr'!Z6 -> 0 | X7: =IFERROR(ROUNDDOWN(VLOOKUP('Com1&Colr'!A7,BDCom1!$A$3:$C$100,3,FALSE),2),0) -> 0.06 | Y7: =IFERROR((P7+Q7/B7),0) -> 46.799
A8: =_xlfn.CONCAT('Com1&Colr'!A8) -> Eau Gazeuse (1X12) 1L | B8: ='Com1&Colr'!B8 -> 5 | C8: ='Com1&Colr'!C8 -> 8.66 | D8: =IF(X8=0.06,C8*B8,0) -> 43.3 | E8: =IF(X8=0.21,C8*B8,0) -> 0 | F8: =IF(X8=0.06,D8*X8,0) -> 2.598 | G8: =IF(X8=0.21,E8*X8,0) -> 0 | H8: =SUM(D8+F8) -> 45.898 | I8: =SUM(E8+G8) -> 0 | J8: =IF(A8="",0,VLOOKUP(A8,BDCom1!$A$3:$E$100,4,FALSE)*B8) -> 0.85 | K8: =IF(A8="",0,VLOOKUP(A8,BDCom1!$A$3:$E$100,5,FALSE)*B8) -> 0 | L8: =SUM(J8*X8) -> 0.051 | M8: =SUM(K8*X8) -> 0 | N8: =SUM(J8+L8) -> 0.901 | O8: =SUM(K8+M8) -> 0 | P8: =IFERROR(H8+N8,0) -> 46.799 | Q8: =IFERROR(I8+O8,0) -> 0 | R8: ='Com1&Colr'!G8 -> 22.5 | S8: =IFERROR((P8+Q8+R8),0) -> 69.299 | T8: ='Com1&Colr'!K8 -> 240 | U8: =IFERROR((P8+Q8)/(T8),0) -> 0.19499583 | V8: ='Com1&Colr'!Z7 -> Taxe | X8: =IFERROR(ROUNDDOWN(VLOOKUP('Com1&Colr'!A8,BDCom1!$A$3:$C$100,3,FALSE),2),0) -> 0.06 | Y8: =IFERROR((P8+Q8/B8),0) -> 46.799
A9: =_xlfn.CONCAT('Com1&Colr'!A9) -> Karmeliet Triple (1X24) 33 cl | B9: ='Com1&Colr'!B9 -> 4 | C9: ='Com1&Colr'!C9 -> 37.09 | D9: =IF(X9=0.06,C9*B9,0) -> 0 | E9: =IF(X9=0.21,C9*B9,0) -> 148.36 | F9: =IF(X9=0.06,D9*X9,0) -> 0 | G9: =IF(X9=0.21,E9*X9,0) -> 31.1556 | H9: =SUM(D9+F9) -> 0 | I9: =SUM(E9+G9) -> 179.5156 | J9: =IF(A9="",0,VLOOKUP(A9,BDCom1!$A$3:$E$100,4,FALSE)*B9) -> 0 | K9: =IF(A9="",0,VLOOKUP(A9,BDCom1!$A$3:$E$100,5,FALSE)*B9) -> 13.16 | L9: =SUM(J9*X9) -> 0 | M9: =SUM(K9*X9) -> 2.7636 | N9: =SUM(J9+L9) -> 0 | O9: =SUM(K9+M9) -> 15.9236 | P9: =IFERROR(H9+N9,0) -> 0 | Q9: =IFERROR(I9+O9,0) -> 195.4392 | R9: ='Com1&Colr'!G9 -> 18 | S9: =IFERROR((P9+Q9+R9),0) -> 213.4392 | T9: ='Com1&Colr'!K9 -> 96 | U9: =IFERROR((P9+Q9)/(T9),0) -> 2.035825 | V9: ='Com1&Colr'!Z8 -> 13.12 | X9: =IFERROR(ROUNDDOWN(VLOOKUP('Com1&Colr'!A9,BDCom1!$A$3:$C$100,3,FALSE),2),0) -> 0.21 | Y9: =IFERROR((P9+Q9/B9),0) -> 48.8598
A10: =_xlfn.CONCAT('Com1&Colr'!A10) -> Coca-Cola Zéro (1X6) 1L | B10: ='Com1&Colr'!B10 -> 12 | C10: ='Com1&Colr'!C10 -> 13.49 | D10: =IF(X10=0.06,C10*B10,0) -> 161.88 | E10: =IF(X10=0.21,C10*B10,0) -> 0 | F10: =IF(X10=0.06,D10*X10,0) -> 9.7128 | G10: =IF(X10=0.21,E10*X10,0) -> 0 | H10: =SUM(D10+F10) -> 171.5928 | I10: =SUM(E10+G10) -> 0 | J10: =IF(A10="",0,VLOOKUP(A10,BDCom1!$A$3:$E$100,4,FALSE)*B10) -> 9.6 | K10: =IF(A10="",0,VLOOKUP(A10,BDCom1!$A$3:$E$100,5,FALSE)*B10) -> 0 | L10: =SUM(J10*X10) -> 0.576 | M10: =SUM(K10*X10) -> 0 | N10: =SUM(J10+L10) -> 10.176 | O10: =SUM(K10+M10) -> 0 | P10: =IFERROR(H10+N10,0) -> 181.7688 | Q10: =IFERROR(I10+O10,0) -> 0 | R10: ='Com1&Colr'!G10 -> 42 | S10: =IFERROR((P10+Q10+R10),0) -> 223.7688 | T10: ='Com1&Colr'!K10 -> 288 | U10: =IFERROR((P10+Q10)/(T10),0) -> 0.63114167 | V10: ='Com1&Colr'!Z9 -> 7.22 | X10: =IFERROR(ROUNDDOWN(VLOOKUP('Com1&Colr'!A10,BDCom1!$A$3:$C$100,3,FALSE),2),0) -> 0.06 | Y10: =IFERROR((P10+Q10/B10),0) -> 181.7688
