Workbook

Sheet Com1&Colr
A1: Com Fournisseur 1 | B1: Quant. | C1: P.U HTVA | D1: Tot HTVA | E1: Taxe HTVA | F1: T.T. HTVA | G1: Consi | H1: Check | I1: P.U. V | J1: P.U. A | K1: Prévi | M1: Com 1 Colruyt & Autres | N1: Quant. | O1: P.U TTC | P1: Tot TTC | Q1: Consi | R1: Check | S1: P.U. V | T1: P.U. A | U1: Prévi | W1: =$A$1 -> Com Fournisseur 1
A2: Gaz Carbonique (1) | B2: 2 | C2: 47.87 | D2: =IF(B2="","",B2*C2) -> 95.74 | E2: =IF(A2="","",VLOOKUP(A2,BDCom1!$A$2:$N$100,14,FALSE)) -> 0 | F2: =IFERROR((E2*B2),"") -> 0 | G2: =IF(A2="","",VLOOKUP(A2,BDCom1!$A$3:$F$100,6,FALSE)*B2) -> 160 | I2: =IF(A2="","",VLOOKUP(A2,BDCom1!$A$3:$H$100,8,FALSE)) -> 0 | J2: =IF(A2="","",VLOOKUP(A2,VentilCom1!$A$2:$Z$39,21,FALSE)) -> 0 | K2: =IF(A2="","",VLOOKUP(A2,BDCom1!$A$3:$G$100,7,FALSE)*B2) -> 0 | M2: Fanta (1X6) 1,5L | N2: 12 | O2: 1.99 | P2: =IF(N2="","",N2*O2) -> 23.88 | Q2: =IF(ISNA(VLOOKUP(M2,BDCom1!$A$3:$F$100,6,FALSE)*N2),"",VLOOKUP(M2,BDCom1!$A$3:$F$100,6,FALSE)*N2) -> 0 | S2: =IF(ISNA(VLOOKUP(M2,BDCom1!$A$3:$H$100,8,FALSE)),"",VLOOKUP(M2,BDCom1!$A$3:$H$100,8,FALSE)) -> 2 | T2: =IFERROR(IF(N2="","",P2/U2),"") -> 0.33166667 | U2: =IF(ISNA(VLOOKUP(M2,BDColr!$B$3:$F$100,5,FALSE)*N2),"",VLOOKUP(M2,BDColr!$B$3:$F$100,5,FALSE)*N2) -> 72 | W2: Acompte : | X2: =B40 -> TVA | Y2: =C40 -> Brut | Z2: =D40 -> Taxe | AA2: =E40 -> Tot. HTVA | AB2: =F40 -> TVA | AC2: =G40 -> Vidange | AD2: Prévi
A3: Fut Jupiler (1X50 L) | B3: 3 | C3: 142.58 | D3: =IF(B3="","",B3*C3) -> 427.74 | E3: =IF(A3="","",VLOOKUP(A3,BDCom1!$A$2:$N$100,14,FALSE)) -> 12.03 | F3: =IFERROR((E3*B3),"") -> 36.09 | G3: =IF(A3="","",VLOOKUP(A3,BDCom1!$A$3:$F$100,6,FALSE)*B3) -> 90 | I3: =IF(A3="","",VLOOKUP(A3,BDCom1!$A$3:$H$100,8,FALSE)) -> 2 | J3: =IF(A3="","",VLOOKUP(A3,VentilCom1!$A$2:$Z$39,21,FALSE)) -> 0.98462158 | K3: =IF(A3="","",VLOOKUP(A3,BDCom1!$A$3:$G$100,7,FALSE)*B3) -> 570 | M3: Blanche (1X24) 25 cl | N3: 4 | O3: 22.3 | P3: =IF(N3="","",N3*O3) -> 89.2 | Q3: =IF(ISNA(VLOOKUP(M3,BDCom1!$A$3:$F$100,6,FALSE)*N3),"",VLOOKUP(M3,BDCom1!$A$3:$F$100,6,FALSE)*N3) -> 18 | S3: =IF(ISNA(VLOOKUP(M3,BDCom1!$A$3:$H$100,8,FALSE)),"",VLOOKUP(M3,BDCom1!$A$3:$H$100,8,FALSE)) -> 3 | T3: =IFERROR(IF(N3="","",P3/U3),"") -> 0.92916667 | U3: =IF(ISNA(VLOOKUP(M3,BDColr!$B$3:$F$100,5,FALSE)*N3),"",VLOOKUP(M3,BDColr!$B$3:$F$100,5,FALSE)*N3) -> 96 | W3: 2250 | X3: =B41 -> 6 | Y3: =C41 -> 881.01 | Z3: =D41 -> 36.69 | AA3: =E41 -> 917.7 | AB3: =F41 -> 55.062 | AC3: =G41 -> 649 | AD3: =$K$41 -> 3338
A4: Fut Jupiler (1X30 L) | B4: 1 | C4: 89.18 | D4: =IF(B4="","",B4*C4) -> 89.18 | E4: =IF(A4="","",VLOOKUP(A4,BDCom1!$A$2:$N$100,14,FALSE)) -> 7.22 | F4: =IF(B4="","",E4*B4) -> 7.22 | G4: =IF(A4="","",VLOOKUP(A4,BDCom1!$A$3:$F$100,6,FALSE)*B4) -> 30 | I4: =IF(A4="","",VLOOKUP(A4,BDCom1!$A$3:$H$100,8,FALSE)) -> 2 | J4: =IF(A4="","",VLOOKUP(A4,VentilCom1!$A$2:$Z$39,21,FALSE)) -> 1.023193 | K4: =IF(A4="","",VLOOKUP(A4,BDCom1!$A$3:$G$100,7,FALSE)*B4) -> 114 | M4: Eau plate (1X6) 1,5L | N4: 72 | O4: 0.381 | P4: =IF(N4="","",N4*O4) -> 27.432 | Q4: =IF(ISNA(VLOOKUP(M4,BDCom1!$A$3:$F$100,6,FALSE)*N4),"",VLOOKUP(M4,BDCom1!$A$3:$F$100,6,FALSE)*N4) -> 0 | S4: =IF(ISNA(VLOOKUP(M4,BDCom1!$A$3:$H$100,8,FALSE)),"",VLOOKUP(M4,BDCom1!$A$3:$H$100,8,FALSE)) -> 1 | T4: =IFERROR(IF(N4="","",P4/U4),"") -> 0.0635 | U4: =IF(ISNA(VLOOKUP(M4,BDColr!$B$3:$F$100,5,FALSE)*N4),"",VLOOKUP(M4,BDColr!$B$3:$F$100,5,FALSE)*N4) -> 432 | X4: =B42 -> 21 | Y4: =C42 -> 2264.82 | Z4: =D42 -> 108.82 | AA4: =E42 -> 2373.64 | AB4: =F42 -> 498.4644 | AC4: =G43 -> Total TTC
A5: Fut Kriek (1X20 L) | B5: 2 | C5: 76.83 | D5: =IF(B5="","",B5*C5) -> 153.66 | E5: =IF(A5="","",VLOOKUP(A5,BDCom1!$A$2:$N$100,14,FALSE)) -> 5.54 | F5: =IF(B5="","",E5*B5) -> 11.08 | G5: =IF(A5="","",VLOOKUP(A5,BDCom1!$A$3:$F$100,6,FALSE)*B5) -> 60 | I5: =IF(A5="","",VLOOKUP(A5,BDCom1!$A$3:$H$100,8,FALSE)) -> 3 | J5: =IF(A5="","",VLOOKUP(A5,VentilCom1!$A$2:$Z$39,21,FALSE)) -> 1.3114171 | K5: =IF(A5="","",VLOOKUP(A5,BDCom1!$A$3:$G$100,7,FALSE)*B5) -> 152 | M5: Grenadine (1X1) 1L | N5: 6 | O5: 1.89 | P5: =IF(N5="","",N5*O5) -> 11.34 | Q5: =IF(ISNA(VLOOKUP(M5,BDCom1!$A$3:$F$100,6,FALSE)*N5),"",VLOOKUP(M5,BDCom1!$A$3:$F$100,6,FALSE)*N5) | S5: =IF(ISNA(VLOOKUP(M5,BDCom1!$A$3:$H$100,8,FALSE)),"",VLOOKUP(M5,BDCom1!$A$3:$H$100,8,FALSE)) | T5: =IFERROR(IF(N5="","",P5/U5),"") -> 1.89 | U5: =IF(ISNA(VLOOKUP(M5,BDColr!$B$3:$F$100,5,FALSE)*N5),"",VLOOKUP(M5,BDColr!$B$3:$F$100,5,FALSE)*N5) -> 6 | Y5: =C44 -> 3145.83 | Z5: =D44 -> 145.51 | AA5: =E44 -> 3291.34 | AB5: =F44 -> 553.5264 | AC5: =G44 -> 4493.8664 | AD5: =$K$41 -> 3338
A6: Coca-Cola Normal (1X6) 1L | B6: 15 | C6: 13.93 | D6: =IF(B6="","",B6*C6) -> 208.95 | E6: =IF(A6="","",VLOOKUP(A6,BDCom1!$A$2:$N$100,14,FALSE)) -> 0.8 | F6: =IF(B6="","",E6*B6) -> 12 | G6: =IF(A6="","",VLOOKUP(A6,BDCom1!$A$3:$F$100,6,FALSE)*B6) -> 52.5 | I6: =IF(A6="","",VLOOKUP(A6,BDCom1!$A$3:$H$100,8,FALSE)) -> 2 | J6: =IF(A6="","",VLOOKUP(A6,VentilCom1!$A$2:$Z$39,21,FALSE)) -> 0.650575 | K6: =IF(A6="","",VLOOKUP(A6,BDCom1!$A$3:$G$100,7,FALSE)*B6) -> 360 | Q6: =IF(ISNA(VLOOKUP(M6,BDCom1!$A$3:$F$100,6,FALSE)*N6),"",VLOOKUP(M6,BDCom1!$A$3:$F$100,6,FALSE)*N6) | S6: =IF(ISNA(VLOOKUP(M6,BDCom1!$A$3:$H$100,8,FALSE)),"",VLOOKUP(M6,BDCom1!$A$3:$H$100,8,FALSE)) | T6: =IFERROR(IF(N6="","",P6/U6),"") | U6: =IF(ISNA(VLOOKUP(M6,BDColr!$B$3:$F$100,5,FALSE)*N6),"",VLOOKUP(M6,BDColr!$B$3:$F$100,5,FALSE)*N6) | W6: =$A$47 -> Com Fournisseur 1 Ajout
A7: Eau plate (1X12) 1L | B7: 5 | C7: 8.66 | D7: =IF(B7="","",B7*C7) -> 43.3 | E7: =IF(A7="","",VLOOKUP(A7,BDCom1!$A$2:$N$100,14,FALSE)) -> 0.17 | F7: =IF(B7="","",E7*B7) -> 0.85 | G7: =IF(A7="","",VLOOKUP(A7,BDCom1!$A$3:$F$100,6,FALSE)*B7) -> 22.5 | I7: =IF(A7="","",VLOOKUP(A7,BDCom1!$A$3:$H$100,8,FALSE)) -> 1 | J7: =IF(A7="","",VLOOKUP(A7,VentilCom1!$A$2:$Z$39,21,FALSE)) -> 0.19499583 | K7: =IF(A7="","",VLOOKUP(A7,BDCom1!$A$3:$G$100,7,FALSE)*B7) -> 240 | P7: =IF(N7="","",N7*O7) | Q7: =IF(ISNA(VLOOKUP(M7,BDCom1!$A$3:$F$100,6,FALSE)*N7),"",VLOOKUP(M7,BDCom1!$A$3:$F$100,6,FALSE)*N7) | S7: =IF(ISNA(VLOOKUP(M7,BDCom1!$A$3:$H$100,8,FALSE)),"",VLOOKUP(M7,BDCom1!$A$3:$H$100,8,FALSE)) | T7: =IFERROR(IF(N7="","",P7/U7),"") | U7: =IF(ISNA(VLOOKUP(M7,BDColr!$B$3:$F$100,5,FALSE)*N7),"",VLOOKUP(M7,BDColr!$B$3:$F$100,5,FALSE)*N7) | X7: =B61 -> TVA | Y7: =C61 -> Brut | Z7: =D61 -> Taxe | AA7: =E61 -> Tot. HTVA | AB7: =F61 -> TVA | AC7: =G61 -> Vidange | AD7: =K61 -> Prévi
A8: Eau Gazeuse (1X12) 1L | B8: 5 | C8: 8.66 | D8: =IF(B8="","",B8*C8) -> 43.3 | E8: =IF(A8="","",VLOOKUP(A8,BDCom1!$A$2:$N$100,14,FALSE)) -> 0.17 | F8: =IF(B8="","",E8*B8) -> 0.85 | G8: =IF(A8="","",VLOOKUP(A8,BDCom1!$A$3:$F$100,6,FALSE)*B8) -> 22.5 | I8: =IF(A8="","",VLOOKUP(A8,BDCom1!$A$3:$H$100,8,FALSE)) -> 2 | J8: =IF(A8="","",VLOOKUP(A8,VentilCom1!$A$2:$Z$39,21,FALSE)) -> 0.19499583 | K8: =IF(A8="","",VLOOKUP(A8,BDCom1!$A$3:$G$100,7,FALSE)*B8) -> 240 | P8: =IF(N8="","",N8*O8) | Q8: =IF(ISNA(VLOOKUP(M8,BDCom1!$A$3:$F$100,6,FALSE)*N8),"",VLOOKUP(M8,BDCom1!$A$3:$F$100,6,FALSE)*N8) | S8: =IF(ISNA(VLOOKUP(M8,BDCom1!$A$3:$H$100,8,FALSE)),"",VLOOKUP(M8,BDCom1!$A$3:$H$100,8,FALSE)) | T8: =IFERROR(IF(N8="","",P8/U8),"") | U8: =IF(ISNA(VLOOKUP(M8,BDColr!$B$3:$F$100,5,FALSE)*N8),"",VLOOKUP(M8,BDColr!$B$3:$F$100,5,FALSE)*N8) | X8: =B62 -> 6 | Y8: =C62 -> 316.13 | Z8: =D62 -> 13.12 | AA8: =E62 -> 329.25 | AB8: =F62 -> 19.755 | AC8: =G62 -> 147.5 | AD8: =K62 -> 1194
A9: Karmeliet Triple (1X24) 33 cl | B9: 4 | C9: 37.09 | D9: =IF(B9="","",B9*C9) -> 148.36 | E9: =IF(A9="","",VLOOKUP(A9,BDCom1!$A$2:$N$100,14,FALSE)) -> 3.29 | F9: =IF(B9="","",E9*B9) -> 13.16 | G9: =IF(A9="","",VLOOKUP(A9,BDCom1!$A$3:$F$100,6,FALSE)*B9) -> 18 | I9: =IF(A9="","",VLOOKUP(A9,BDCom1!$A$3:$H$100,8,FALSE)) -> 4 | J9: =IF(A9="","",VLOOKUP(A9,VentilCom1!$A$2:$Z$39,21,FALSE)) -> 2.035825 | K9: =IF(A9="","",VLOOKUP(A9,BDCom1!$A$3:$G$100,7,FALSE)*B9) -> 96 | P9: =IF(N9="","",N9*O9) | Q9: =IF(ISNA(VLOOKUP(M9,BDCom1!$A$3:$F$100,6,FALSE)*N9),"",VLOOKUP(M9,BDCom1!$A$3:$F$100,6,FALSE)*N9) | S9: =IF(ISNA(VLOOKUP(M9,BDCom1!$A$3:$H$100,8,FALSE)),"",VLOOKUP(M9,BDCom1!$A$3:$H$100,8,FALSE)) | T9: =IFERROR(IF(N9="","",P9/U9),"") | U9: =IF(ISNA(VLOOKUP(M9,BDColr!$B$3:$F$100,5,FALSE)*N9),"",VLOOKUP(M9,BDColr!$B$3:$F$100,5,FALSE)*N9) | X9: =B63 -> 21 | Y9: =C63 -> 89.18 | Z9: =D63 -> 7.22 | AA9: =E63 -> 96.4 | AB9: =F63 -> 20.244 | AC9: =G64 -> Total TTC
A10: Coca-Cola Zéro (1X6) 1L | B10: 12 | C10: 13.49 | D10: =IF(B10="","",B10*C10) -> 161.88 | E10: =IF(A10="","",VLOOKUP(A10,BDCom1!$A$2:$N$100,14,FALSE)) -> 0.8 | F10: =IF(B10="","",E10*B10) -> 9.6 | G10: =IF(A10="","",VLOOKUP(A10,BDCom1!$A$3:$F$100,6,FALSE)*B10) -> 42 | I10: =IF(A10="","",VLOOKUP(A10,BDCom1!$A$3:$H$100,8,FALSE)) -> 2 | J10: =IF(A10="","",VLOOKUP(A10,VentilCom1!$A$2:$Z$39,21,FALSE)) -> 0.63114167 | K10: =IF(A10="","",VLOOKUP(A10,BDCom1!$A$3:$G$100,7,FALSE)*B10) -> 288 | P10: =IF(N10="","",N10*O10) | Q10: =IF(ISNA(VLOOKUP(M10,BDCom1!$A$3:$F$100,6,FALSE)*N10),"",VLOOKUP(M10,BDCom1!$A$3:$F$100,6,FALSE)*N10) | S10: =IF(ISNA(VLOOKUP(M10,BDCom1!$A$3:$H$100,8,FALSE)),"",VLOOKUP(M10,BDCom1!$A$3:$H$100,8,FALSE)) | T10: =IFERROR(IF(N10="","",P10/U10),"") | U10: =IF(ISNA(VLOOKUP(M10,BDColr!$B$3:$F$100,5,FALSE)*N10),"",VLOOKUP(M10,BDColr!$B$3:$F$100,5,FALSE)*N10) | Y10: =C65 -> 405.31 | Z10: =D65 -> 20.34 | AA10: =E65 -> 425.65 | AB10: =F65 -> 39.999 | AC10: =G65 -> 613.149 | AD10: =K65 -> 4532
A11: Jupiler Zéro (1X24) 25 cl | B11: 5 | C11: 24.36 | D11: =IF(B11="","",B11*C11) -> 121.8 | E11: =IF(A11="","",VLOOKUP(A11,BDCom1!$A$2:$N$100,14,FALSE)) -> 0.31 | F11: =IF(B11="","",E11*B11) -> 1.55 | G11: =IF(A11="","",VLOOKUP(A11,BDCom1!$A$3:$F$100,6,FALSE)*B11) -> 22.5 | I11: =IF(A11="","",VLOOKUP(A11,BDCom1!$A$3:$H$100,8,FALSE)) -> 2 | J11: =IF(A11="","",VLOOKUP(A11,VentilCom1!$A$2:$Z$39,21,FALSE)) -> 1.0895917 | K11: =IF(A11="","",VLOOKUP(A11,BDCom1!$A$3:$G$100,7,FALSE)*B11) -> 120 | P11: =IF(N11="","",N11*O11) | Q11: =IF(ISNA(VLOOKUP(M11,BDCom1!$A$3:$F$100,6,FALSE)*N11),"",VLOOKUP(M11,BDCom1!$A$3:$F$100,6,FALSE)*N11) | S11: =IF(ISNA(VLOOKUP(M11,BDCom1!$A$3:$H$100,8,FALSE)),"",VLOOKUP(M11,BDCom1!$A$3:$H$100,8,FALSE)) | T11: =IFERROR(IF(N11="","",P11/U11),"") | U11: =IF(ISNA(VLOOKUP(M11,BDColr!$B$3:$F$100,5,FALSE)*N11),"",VLOOKUP(M11,BDColr!$B$3:$F$100,5,FALSE)*N11) | W11: =$A$68 -> Com Fournisseur 2 | Z11: Report | AA11: =SUM(AC5+AC10) -> 5107.0154
A12: Blanche (1X24) 25 cl | B12: 3 | C12: 22.84 | D12: =IF(B12="","",B12*C12) -> 68.52 | E12: =IF(A12="","",VLOOKUP(A12,BDCom1!$A$2:$N$100,14,FALSE)) -> 1.53 | F12: =IF(B12="","",E12*B12) -> 4.59 | G12: =IF(A12="","",VLOOKUP(A12,BDCom1!$A$3:$F$100,6,FALSE)*B12) -> 13.5 | I12: =IF(A12="","",VLOOKUP(A12,BDCom1!$A$3:$H$100,8,FALSE)) -> 3 | J12: =IF(A12="","",VLOOKUP(A12,VentilCom1!$A$2:$Z$39,21,FALSE)) -> 1.2286542 | K12: =IF(A12="","",VLOOKUP(A12,BDCom1!$A$3:$G$100,7,FALSE)*B12) -> 72 | P12: =IF(N12="","",N12*O12) | Q12: =IF(ISNA(VLOOKUP(M12,BDCom1!$A$3:$F$100,6,FALSE)*N12),"",VLOOKUP(M12,BDCom1!$A$3:$F$100,6,FALSE)*N12) | S12: =IF(ISNA(VLOOKUP(M12,BDCom1!$A$3:$H$100,8,FALSE)),"",VLOOKUP(M12,BDCom1!$A$3:$H$100,8,FALSE)) | T12: =IFERROR(IF(N12="","",P12/U12),"") | U12: =IF(ISNA(VLOOKUP(M12,BDColr!$B$3:$F$100,5,FALSE)*N12),"",VLOOKUP(M12,BDColr!$B$3:$F$100,5,FALSE)*N12) | X12: =B107 -> TVA | Y12: =C107 -> Brut | Z12: =D107 -> Taxe | AA12: =E107 -> Tot. HTVA | AB12: =F107 -> TVA | AC12: =G107 -> Vidange | AD12: =K107 -> Prévi
A13: Jus d’orange (1x6) 1L | B13: 2 | C13: 28.08 | D13: =IF(B13="","",B13*C13) -> 56.16 | E13: =IF(A13="","",VLOOKUP(A13,BDCom1!$A$2:$N$100,14,FALSE)) -> 0.08 | F13: =IF(B13="","",E13*B13) -> 0.16 | G13: =IF(A13="","",VLOOKUP(A13,BDCom1!$A$3:$F$100,6,FALSE)*B13) -> 7 | I13: =IF(A13="","",VLOOKUP(A13,BDCom1!$A$3:$H$100,8,FALSE)) -> 2 | J13: =IF(A13="","",VLOOKUP(A13,VentilCom1!$A$2:$Z$39,21,FALSE)) -> 1.2437333 | K13: =IF(A13="","",VLOOKUP(A13,BDCom1!$A$3:$G$100,7,FALSE)*B13) -> 48 | P13: =IF(N13="","",N13*O13) | Q13: =IF(ISNA(VLOOKUP(M13,BDCom1!$A$3:$F$100,6,FALSE)*N13),"",VLOOKUP(M13,BDCom1!$A$3:$F$100,6,FALSE)*N13) | S13: =IF(ISNA(VLOOKUP(M13,BDCom1!$A$3:$H$100,8,FALSE)),"",VLOOKUP(M13,BDCom1!$A$3:$H$100,8,FALSE)) | T13: =IFERROR(IF(N13="","",P13/U13),"") | U13: =IF(ISNA(VLOOKUP(M13,BDColr!$B$3:$F$100,5,FALSE)*N13),"",VLOOKUP(M13,BDColr!$B$3:$F$100,5,FALSE)*N13) | X13: =B108 -> 6 | Y13: =C108 -> 0 | Z13: =D108 -> 0 | AA13: =E108 -> 0 | AB13: =F108 -> 0 | AC13: =G108 -> 0 | AD13: =K108 -> 0
A14: Pomme-Cerise (1X24) 20 cl | B14: 2 | C14: 19.98 | D14: =IF(B14="","",B14*C14) -> 39.96 | E14: =IF(A14="","",VLOOKUP(A14,BDCom1!$A$2:$N$100,14,FALSE)) -> 0.64 | F14: =IF(B14="","",E14*B14) -> 1.28 | G14: =IF(A14="","",VLOOKUP(A14,BDCom1!$A$3:$F$100,6,FALSE)*B14) -> 9 | I14: =IF(A14="","",VLOOKUP(A14,BDCom1!$A$3:$H$100,8,FALSE)) -> 2 | J14: =IF(A14="","",VLOOKUP(A14,VentilCom1!$A$2:$Z$39,21,FALSE)) -> 0.91071667 | K14: =IF(A14="","",VLOOKUP(A14,BDCom1!$A$3:$G$100,7,FALSE)*B14) -> 48 | P14: =IF(N14="","",N14*O14) | Q14: =IF(ISNA(VLOOKUP(M14,BDCom1!$A$3:$F$100,6,FALSE)*N14),"",VLOOKUP(M14,BDCom1!$A$3:$F$100,6,FALSE)*N14) | S14: =IF(ISNA(VLOOKUP(M14,BDCom1!$A$3:$H$100,8,FALSE)),"",VLOOKUP(M14,BDCom1!$A$3:$H$100,8,FALSE)) | T14: =IFERROR(IF(N14="","",P14/U14),"") | U14: =IF(ISNA(VLOOKUP(M14,BDColr!$B$3:$F$100,5,FALSE)*N14),"",VLOOKUP(M14,BDColr!$B$3:$F$100,5,FALSE)*N14) | X14: =B109 -> 21 | Y14: =C109 -> 0 | Z14: =D109 -> 0 | AA14: =E109 -> 0 | AB14: =F109 -> 0 | AC14: =G110 -> Total TTC
A15: Westmalle Triple (1x24) 33 cl | B15: 2 | C15: 35.59 | D15: =IF(B15="","",B15*C15) -> 71.18 | E15: =IF(A15="","",VLOOKUP(A15,BDCom1!$A$2:$N$100,14,FALSE)) -> 3.24 | F15: =IF(B15="","",E15*B15) -> 6.48 | G15: =IF(A15="","",VLOOKUP(A15,BDCom1!$A$3:$F$100,6,FALSE)*B15) -> 9 | I15: =IF(A15="","",VLOOKUP(A15,BDCom1!$A$3:$H$100,8,FALSE)) -> 4 | J15: =IF(A15="","",VLOOKUP(A15,VentilCom1!$A$2:$Z$39,21,FALSE)) -> 1.9576792 | K15: =IF(A15="","",VLOOKUP(A15,BDCom1!$A$3:$G$100,7,FALSE)*B15) -> 48 | P15: =IF(N15="","",N15*O15) | Q15: =IF(ISNA(VLOOKUP(M15,BDCom1!$A$3:$F$100,6,FALSE)*N15),"",VLOOKUP(M15,BDCom1!$A$3:$F$100,6,FALSE)*N15) | S15: =IF(ISNA(VLOOKUP(M15,BDCom1!$A$3:$H$100,8,FALSE)),"",VLOOKUP(M15,BDCom1!$A$3:$H$100,8,FALSE)) | T15: =IFERROR(IF(N15="","",P15/U15),"") | U15: =IF(ISNA(VLOOKUP(M15,BDColr!$B$3:$F$100,5,FALSE)*N15),"",VLOOKUP(M15,BDColr!$B$3:$F$100,5,FALSE)*N15) | Y15: =C111 -> 0 | Z15: =D111 -> 0 | AA15: =E111 -> 0 | AB15: =F111 -> 0 | AC15: =G111 -> 0 | AD15: =$K$111 -> 4532
A16: Fanta (1X6) 1L | B16: 7 | C16: 17.44 | D16: =IF(B16="","",B16*C16) -> 122.08 | E16: =IF(A16="","",VLOOKUP(A16,BDCom1!$A$2:$N$100,14,FALSE)) -> 0.8 | F16: =IF(B16="","",E16*B16) -> 5.6 | G16: =IF(A16="","",VLOOKUP(A16,BDCom1!$A$3:$F$100,6,FALSE)*B16) -> 24.5 | I16: =IF(A16="","",VLOOKUP(A16,BDCom1!$A$3:$H$100,8,FALSE)) -> 2 | J16: =IF(A16="","",VLOOKUP(A16,VentilCom1!$A$2:$Z$39,21,FALSE)) -> 0.8056 | K16: =IF(A16="","",VLOOKUP(A16,BDCom1!$A$3:$G$100,7,FALSE)*B16) -> 168 | P16: =IF(N16="","",N16*O16) | Q16: =IF(ISNA(VLOOKUP(M16,BDCom1!$A$3:$F$100,6,FALSE)*N16),"",VLOOKUP(M16,BDCom1!$A$3:$F$100,6,FALSE)*N16) | S16: =IF(ISNA(VLOOKUP(M16,BDCom1!$A$3:$H$100,8,FALSE)),"",VLOOKUP(M16,BDCom1!$A$3:$H$100,8,FALSE)) | T16: =IFERROR(IF(N16="","",P16/U16),"") | U16: =IF(ISNA(VLOOKUP(M16,BDColr!$B$3:$F$100,5,FALSE)*N16),"",VLOOKUP(M16,BDColr!$B$3:$F$100,5,FALSE)*N16) | W16: =$A$114 -> Com Fournisseur 2 Ajout | Z16: Report | AA16: =SUM(AA11+AC15) -> 5107.0154
A17: Kriek (1X24) 25 cl | B17: 1 | C17: 27.58 | D17: =IF(B17="","",B17*C17) -> 27.58 | E17: =IF(A17="","",VLOOKUP(A17,BDCom1!$A$2:$N$100,14,FALSE)) -> 1.28 | F17: =IF(B17="","",E17*B17) -> 1.28 | G17: =IF(A17="","",VLOOKUP(A17,BDCom1!$A$3:$F$100,6,FALSE)*B17) -> 4.5 | I17: =IF(A17="","",VLOOKUP(A17,BDCom1!$A$3:$H$100,8,FALSE)) -> 3 | J17: =IF(A17="","",VLOOKUP(A17,VentilCom1!$A$2:$Z$39,21,FALSE)) -> 1.455025 | K17: =IF(A17="","",VLOOKUP(A17,BDCom1!$A$3:$G$100,7,FALSE)*B17) -> 24 | P17: =IF(N17="","",N17*O17) | Q17: =IF(ISNA(VLOOKUP(M17,BDCom1!$A$3:$F$100,6,FALSE)*N17),"",VLOOKUP(M17,BDCom1!$A$3:$F$100,6,FALSE)*N17) | S17: =IF(ISNA(VLOOKUP(M17,BDCom1!$A$3:$H$100,8,FALSE)),"",VLOOKUP(M17,BDCom1!$A$3:$H$100,8,FALSE)) | T17: =IFERROR(IF(N17="","",P17/U17),"") | U17: =IF(ISNA(VLOOKUP(M17,BDColr!$B$3:$F$100,5,FALSE)*N17),"",VLOOKUP(M17,BDColr!$B$3:$F$100,5,FALSE)*N17) | X17: =B128 -> TVA | Y17: =C128 -> Brut | Z17: =D128 -> Taxe | AA17: =E128 -> Tot. HTVA | AB17: =F128 -> TVA | AC17: =G128 -> Vidange | AD17: =K128 -> Prévi
A18: Ice-Tea Lipton (1X6) 1L | B18: 6 | C18: 13.93 | D18: =IF(B18="","",B18*C18) -> 83.58 | E18: =IF(A18="","",VLOOKUP(A18,BDCom1!$A$2:$N$100,14,FALSE)) -> 0.8 | F18: =IF(B18="","",E18*B18) -> 4.8 | G18: =IF(A18="","",VLOOKUP(A18,BDCom1!$A$3:$F$100,6,FALSE)*B18) -> 21 | I18: =IF(A18="","",VLOOKUP(A18,BDCom1!$A$3:$H$100,8,FALSE)) -> 2 | J18: =IF(A18="","",VLOOKUP(A18,VentilCom1!$A$2:$Z$39,21,FALSE)) -> 0.650575 | K18: =IF(A18="","",VLOOKUP(A18,BDCom1!$A$3:$G$100,7,FALSE)*B18) -> 144 | P18: =IF(N18="","",N18*O18) | Q18: =IF(ISNA(VLOOKUP(M18,BDCom1!$A$3:$F$100,6,FALSE)*N18),"",VLOOKUP(M18,BDCom1!$A$3:$F$100,6,FALSE)*N18) | S18: =IF(ISNA(VLOOKUP(M18,BDCom1!$A$3:$H$100,8,FALSE)),"",VLOOKUP(M18,BDCom1!$A$3:$H$100,8,FALSE)) | T18: =IFERROR(IF(N18="","",P18/U18),"") | U18: =IF(ISNA(VLOOKUP(M18,BDColr!$B$3:$F$100,5,FALSE)*N18),"",VLOOKUP(M18,BDColr!$B$3:$F$100,5,FALSE)*N18) | X18: =B129 -> 6 | Y18: =C129 -> 0 | Z18: =D129 -> 0 | AA18: =E129 -> 0 | AB18: =F129 -> 0 | AC18: =G129 -> 0 | AD18: =K129 -> 0
A19: St Feullien Blonde (1X24) 33 cl | B19: 7 | C19: 35.58 | D19: =IF(B19="","",B19*C19) -> 249.06 | E19: =IF(A19="","",VLOOKUP(A19,BDCom1!$A$2:$N$100,14,FALSE)) -> 2.54 | F19: =IF(B19="","",E19*B19) -> 17.78 | G19: =IF(A19="","",VLOOKUP(A19,BDCom1!$A$3:$F$100,6,FALSE)*B19) -> 31.5 | I19: =IF(A19="","",VLOOKUP(A19,BDCom1!$A$3:$H$100,8,FALSE)) -> 4 | J19: =IF(A19="","",VLOOKUP(A19,VentilCom1!$A$2:$Z$39,21,FALSE)) -> 1.9218833 | K19: =IF(A19="","",VLOOKUP(A19,BDCom1!$A$3:$G$100,7,FALSE)*B19) -> 168 | P19: =IF(N19="","",N19*O19) | Q19: =IF(ISNA(VLOOKUP(M19,BDCom1!$A$3:$F$100,6,FALSE)*N19),"",VLOOKUP(M19,BDCom1!$A$3:$F$100,6,FALSE)*N19) | S19: =IF(ISNA(VLOOKUP(M19,BDCom1!$A$3:$H$100,8,FALSE)),"",VLOOKUP(M19,BDCom1!$A$3:$H$100,8,FALSE)) | T19: =IFERROR(IF(N19="","",P19/U19),"") | U19: =IF(ISNA(VLOOKUP(M19,BDColr!$B$3:$F$100,5,FALSE)*N19),"",VLOOKUP(M19,BDColr!$B$3:$F$100,5,FALSE)*N19) | X19: =B130 -> 21 | Y19: =C130 -> 0 | Z19: =D130 -> 0 | AA19: =E130 -> 0 | AB19: =F130 -> 0 | AC19: =G131 -> Total TTC
A20: St Feullien Brune (1X24) 33 cl | B20: 2 | C20: 35.57 | D20: =IF(B20="","",B20*C20) -> 71.14 | E20: =IF(A20="","",VLOOKUP(A20,BDCom1!$A$2:$N$100,14,FALSE)) -> 2.84 | F20: =IF(B20="","",E20*B20) -> 5.68 | G20: =IF(A20="","",VLOOKUP(A20,BDCom1!$A$3:$F$100,6,FALSE)*B20) -> 9 | I20: =IF(A20="","",VLOOKUP(A20,BDCom1!$A$3:$H$100,8,FALSE)) -> 4 | J20: =IF(A20="","",VLOOKUP(A20,VentilCom1!$A$2:$Z$39,21,FALSE)) -> 1.9365042 | K20: =IF(A20="","",VLOOKUP(A20,BDCom1!$A$3:$G$100,7,FALSE)*B20) -> 48 | P20: =IF(N20="","",N20*O20) | Q20: =IF(ISNA(VLOOKUP(M20,BDCom1!$A$3:$F$100,6,FALSE)*N20),"",VLOOKUP(M20,BDCom1!$A$3:$F$100,6,FALSE)*N20) | S20: =IF(ISNA(VLOOKUP(M20,BDCom1!$A$3:$H$100,8,FALSE)),"",VLOOKUP(M20,BDCom1!$A$3:$H$100,8,FALSE)) | T20: =IFERROR(IF(N20="","",P20/U20),"") | U20: =IF(ISNA(VLOOKUP(M20,BDColr!$B$3:$F$100,5,FALSE)*N20),"",VLOOKUP(M20,BDColr!$B$3:$F$100,5,FALSE)*N20) | Y20: =C132 -> 0 | Z20: =D132 -> 0 | AA20: =E132 -> 0 | AB20: =F132 -> 0 | AC20: =G132 -> 0 | AD20: =K132 -> 4532
A21: Vin Blanc (1X6) 75 cl | B21: 5 | C21: 38.22 | D21: =IF(B21="","",B21*C21) -> 191.1 | E21: =IF(A21="","",VLOOKUP(A21,BDCom1!$A$2:$N$100,14,FALSE)) -> 0.42 | F21: =IF(B21="","",E21*B21) -> 2.1 | G21: =IF(A21="","",VLOOKUP(A21,BDCom1!$A$3:$F$100,6,FALSE)*B21) -> 0 | I21: =IF(A21="","",VLOOKUP(A21,BDCom1!$A$3:$H$100,8,FALSE)) -> 3 | J21: =IF(A21="","",VLOOKUP(A21,VentilCom1!$A$2:$Z$39,21,FALSE)) -> 1.55848 | K21: =IF(A21="","",VLOOKUP(A21,BDCom1!$A$3:$G$100,7,FALSE)*B21) -> 150 | P21: =IF(N21="","",N21*O21) | Q21: =IF(ISNA(VLOOKUP(M21,BDCom1!$A$3:$F$100,6,FALSE)*N21),"",VLOOKUP(M21,BDCom1!$A$3:$F$100,6,FALSE)*N21) | S21: =IF(ISNA(VLOOKUP(M21,BDCom1!$A$3:$H$100,8,FALSE)),"",VLOOKUP(M21,BDCom1!$A$3:$H$100,8,FALSE)) | T21: =IFERROR(IF(N21="","",P21/U21),"") | U21: =IF(ISNA(VLOOKUP(M21,BDColr!$B$3:$F$100,5,FALSE)*N21),"",VLOOKUP(M21,BDColr!$B$3:$F$100,5,FALSE)*N21) | W21: =$M$1 -> Com 1 Colruyt & Autres
A22: Vin rosé (1X6) 75 cl | B22: 5 | C22: 35.64 | D22: =IF(B22="","",B22*C22) -> 178.2 | E22: =IF(A22="","",VLOOKUP(A22,BDCom1!$A$2:$N$100,14,FALSE)) -> 0.42 | F22: =IF(B22="","",E22*B22) -> 2.1 | G22: =IF(A22="","",VLOOKUP(A22,BDCom1!$A$3:$F$100,6,FALSE)*B22) -> 0 | I22: =IF(A22="","",VLOOKUP(A22,BDCom1!$A$3:$H$100,8,FALSE)) -> 3 | J22: =IF(A22="","",VLOOKUP(A22,VentilCom1!$A$2:$Z$39,21,FALSE)) -> 1.45442 | K22: =IF(A22="","",VLOOKUP(A22,BDCom1!$A$3:$G$100,7,FALSE)*B22) -> 150 | P22: =IF(N22="","",N22*O22) | Q22: =IF(ISNA(VLOOKUP(M22,BDCom1!$A$3:$F$100,6,FALSE)*N22),"",VLOOKUP(M22,BDCom1!$A$3:$F$100,6,FALSE)*N22) | S22: =IF(ISNA(VLOOKUP(M22,BDCom1!$A$3:$H$100,8,FALSE)),"",VLOOKUP(M22,BDCom1!$A$3:$H$100,8,FALSE)) | T22: =IFERROR(IF(N22="","",P22/U22),"") | U22: =IF(ISNA(VLOOKUP(M22,BDColr!$B$3:$F$100,5,FALSE)*N22),"",VLOOKUP(M22,BDColr!$B$3:$F$100,5,FALSE)*N22) | Z22: Report | AA22: =SUM(AA16+AC20) -> 5107.0154
A23: Vin rouge (1X6) 75 cl | B23: 3 | C23: 36.12 | D23: =IF(B23="","",B23*C23) -> 108.36 | E23: =IF(A23="","",VLOOKUP(A23,BDCom1!$A$2:$N$100,14,FALSE)) -> 0.42 | F23: =IF(B23="","",E23*B23) -> 1.26 | G23: =IF(A23="","",VLOOKUP(A23,BDCom1!$A$3:$F$100,6,FALSE)*B23) -> 0 | I23: =IF(A23="","",VLOOKUP(A23,BDCom1!$A$3:$H$100,8,FALSE)) -> 3 | J23: =IF(A23="","",VLOOKUP(A23,VentilCom1!$A$2:$Z$39,21,FALSE)) -> 1.47378 | K23: =IF(A23="","",VLOOKUP(A23,BDCom1!$A$3:$G$100,7,FALSE)*B23) -> 90 | P23: =IF(N23="","",N23*O23) | Q23: =IF(ISNA(VLOOKUP(M23,BDCom1!$A$3:$F$100,6,FALSE)*N23),"",VLOOKUP(M23,BDCom1!$A$3:$F$100,6,FALSE)*N23) | S23: =IF(ISNA(VLOOKUP(M23,BDCom1!$A$3:$H$100,8,FALSE)),"",VLOOKUP(M23,BDCom1!$A$3:$H$100,8,FALSE)) | T23: =IFERROR(IF(N23="","",P23/U23),"") | U23: =IF(ISNA(VLOOKUP(M23,BDColr!$B$3:$F$100,5,FALSE)*N23),"",VLOOKUP(M23,BDColr!$B$3:$F$100,5,FALSE)*N23) | X23: =N40 -> TVA | Y23: =O40 -> Tot HTVA | Z23: =P40 -> TVA | AA23: =Q40 -> TVAC | AC23: =R40 -> Vidange | AD23: =$U$40 -> Prévi
A24: Pompes 2 Têtes (1) | B24: 1 | C24: 45 | D24: =IF(B24="","",B24*C24) -> 45 | E24: =IF(A24="","",VLOOKUP(A24,BDCom1!$A$2:$N$100,14,FALSE)) -> 0 | F24: =IF(B24="","",E24*B24) -> 0 | G24: =IF(A24="","",VLOOKUP(A24,BDCom1!$A$3:$F$100,6,FALSE)*B24) -> 0 | I24: =IF(A24="","",VLOOKUP(A24,BDCom1!$A$3:$H$100,8,FALSE)) -> 0 | J24: =IF(A24="","",VLOOKUP(A24,VentilCom1!$A$2:$Z$39,21,FALSE)) -> 0 | K24: =IF(A24="","",VLOOKUP(A24,BDCom1!$A$3:$G$100,7,FALSE)*B24) -> 0 | P24: =IF(N24="","",N24*O24) | Q24: =IF(ISNA(VLOOKUP(M24,BDCom1!$A$3:$F$100,6,FALSE)*N24),"",VLOOKUP(M24,BDCom1!$A$3:$F$100,6,FALSE)*N24) | S24: =IF(ISNA(VLOOKUP(M24,BDCom1!$A$3:$H$100,8,FALSE)),"",VLOOKUP(M24,BDCom1!$A$3:$H$100,8,FALSE)) | T24: =IFERROR(IF(N24="","",P24/U24),"") | U24: =IF(ISNA(VLOOKUP(M24,BDColr!$B$3:$F$100,5,FALSE)*N24),"",VLOOKUP(M24,BDColr!$B$3:$F$100,5,FALSE)*N24) | X24: =N41 -> 6 | Y24: =O41 -> 59.10566 | Z24: =P41 -> 3.5463396 | AA24: =Q41 -> 62.652 | AC24: =R41 -> 18 | AD24: =$U$41 -> 606
A25: Transport (1) | B25: 1 | C25: 75 | D25: =IF(B25="","",B25*C25) -> 75 | E25: =IF(A25="","",VLOOKUP(A25,BDCom1!$A$2:$N$100,14,FALSE)) -> 0 | F25: =IF(B25="","",E25*B25) -> 0 | G25: =IF(A25="","",VLOOKUP(A25,BDCom1!$A$3:$F$100,6,FALSE)*B25) -> 0 | I25: =IF(A25="","",VLOOKUP(A25,BDCom1!$A$3:$H$100,8,FALSE)) -> 0 | J25: =IF(A25="","",VLOOKUP(A25,VentilCom1!$A$2:$Z$39,21,FALSE)) -> 0 | K25: =IF(A25="","",VLOOKUP(A25,BDCom1!$A$3:$G$100,7,FALSE)*B25) -> 0 | P25: =IF(N25="","",N25*O25) | Q25: =IF(ISNA(VLOOKUP(M25,BDCom1!$A$3:$F$100,6,FALSE)*N25),"",VLOOKUP(M25,BDCom1!$A$3:$F$100,6,FALSE)*N25) | S25: =IF(ISNA(VLOOKUP(M25,BDCom1!$A$3:$H$100,8,FALSE)),"",VLOOKUP(M25,BDCom1!$A$3:$H$100,8,FALSE)) | T25: =IFERROR(IF(N25="","",P25/U25),"") | U25: =IF(ISNA(VLOOKUP(M25,BDColr!$B$3:$F$100,5,FALSE)*N25),"",VLOOKUP(M25,BDColr!$B$3:$F$100,5,FALSE)*N25) | X25: =N42 -> 21 | Y25: =O42 -> 73.719008 | Z25: =P42 -> 15.480992 | AA25: =Q42 -> 89.2 | AC25: =S43 -> Total TTC
A26: Verres Pils (1X36) | B26: 4 | C26: 10 | D26: =IF(B26="","",B26*C26) -> 40 | E26: =IF(A26="","",VLOOKUP(A26,BDCom1!$A$2:$N$100,14,FALSE)) -> 0 | F26: =IF(B26="","",E26*B26) -> 0 | G26: =IF(A26="","",VLOOKUP(A26,BDCom1!$A$3:$F$100,6,FALSE)*B26) -> 0 | I26: =IF(A26="","",VLOOKUP(A26,BDCom1!$A$3:$H$100,8,FALSE)) -> 0 | J26: =IF(A26="","",VLOOKUP(A26,VentilCom1!$A$2:$Z$39,21,FALSE)) -> 0 | K26: =IF(A26="","",VLOOKUP(A26,BDCom1!$A$3:$G$100,7,FALSE)*B26) -> 0 | P26: =IF(N26="","",N26*O26) | Q26: =IF(ISNA(VLOOKUP(M26,BDCom1!$A$3:$F$100,6,FALSE)*N26),"",VLOOKUP(M26,BDCom1!$A$3:$F$100,6,FALSE)*N26) | S26: =IF(ISNA(VLOOKUP(M26,BDCom1!$A$3:$H$100,8,FALSE)),"",VLOOKUP(M26,BDCom1!$A$3:$H$100,8,FALSE)) | T26: =IFERROR(IF(N26="","",P26/U26),"") | U26: =IF(ISNA(VLOOKUP(M26,BDColr!$B$3:$F$100,5,FALSE)*N26),"",VLOOKUP(M26,BDColr!$B$3:$F$100,5,FALSE)*N26) | AA26: =Q44 -> 151.852 | AC26: =S44 -> 169.852 | AD26: =$U$41 -> 606
A27: Verres Spécial (1X20) | B27: 3 | C27: 5 | D27: =IF(B27="","",B27*C27) -> 15 | E27: =IF(A27="","",VLOOKUP(A27,BDCom1!$A$2:$N$100,14,FALSE)) -> 0 | F27: =IF(B27="","",E27*B27) -> 0 | G27: =IF(A27="","",VLOOKUP(A27,BDCom1!$A$3:$F$100,6,FALSE)*B27) -> 0 | I27: =IF(A27="","",VLOOKUP(A27,BDCom1!$A$3:$H$100,8,FALSE)) -> 0 | J27: =IF(A27="","",VLOOKUP(A27,VentilCom1!$A$2:$Z$39,21,FALSE)) -> 0 | K27: =IF(A27="","",VLOOKUP(A27,BDCom1!$A$3:$G$100,7,FALSE)*B27) -> 0 | P27: =IF(N27="","",N27*O27) | Q27: =IF(ISNA(VLOOKUP(M27,BDCom1!$A$3:$F$100,6,FALSE)*N27),"",VLOOKUP(M27,BDCom1!$A$3:$F$100,6,FALSE)*N27) | S27: =IF(ISNA(VLOOKUP(M27,BDCom1!$A$3:$H$100,8,FALSE)),"",VLOOKUP(M27,BDCom1!$A$3:$H$100,8,FALSE)) | T27: =IFERROR(IF(N27="","",P27/U27),"") | U27: =IF(ISNA(VLOOKUP(M27,BDColr!$B$3:$F$100,5,FALSE)*N27),"",VLOOKUP(M27,BDColr!$B$3:$F$100,5,FALSE)*N27) | W27: =$M$47 -> Com 1 Colruyt & Autres Ajout | Z27: Report | AA27: =SUM(AA22+AC26) -> 5276.8674
A28: Verres Fruitées (1X30) | B28: 3 | C28: 10 | D28: =IF(B28="","",B28*C28) -> 30 | E28: =IF(A28="","",VLOOKUP(A28,BDCom1!$A$2:$N$100,14,FALSE)) -> 0 | F28: =IF(B28="","",E28*B28) -> 0 | G28: =IF(A28="","",VLOOKUP(A28,BDCom1!$A$3:$F$100,6,FALSE)*B28) -> 0 | I28: =IF(A28="","",VLOOKUP(A28,BDCom1!$A$3:$H$100,8,FALSE)) -> 0 | J28: =IF(A28="","",VLOOKUP(A28,VentilCom1!$A$2:$Z$39,21,FALSE)) -> 0 | K28: =IF(A28="","",VLOOKUP(A28,BDCom1!$A$3:$G$100,7,FALSE)*B28) -> 0 | P28: =IF(N28="","",N28*O28) | Q28: =IF(ISNA(VLOOKUP(M28,BDCom1!$A$3:$F$100,6,FALSE)*N28),"",VLOOKUP(M28,BDCom1!$A$3:$F$100,6,FALSE)*N28) | S28: =IF(ISNA(VLOOKUP(M28,BDCom1!$A$3:$H$100,8,FALSE)),"",VLOOKUP(M28,BDCom1!$A$3:$H$100,8,FALSE)) | T28: =IFERROR(IF(N28="","",P28/U28),"") | U28: =IF(ISNA(VLOOKUP(M28,BDColr!$B$3:$F$100,5,FALSE)*N28),"",VLOOKUP(M28,BDColr!$B$3:$F$100,5,FALSE)*N28) | X28: =N61 -> TVA | Y28: =O61 -> Tot HTVA | Z28: =P61 -> TVA | AA28: =Q61 -> TVAC | AC28: =R61 -> Vidange | AD28: =U47 -> Prévi
A29: Tables (1) | B29: 10 | C29: 3 | D29: =IF(B29="","",B29*C29) -> 30 | E29: =IF(A29="","",VLOOKUP(A29,BDCom1!$A$2:$N$100,14,FALSE)) -> 0 | F29: =IF(B29="","",E29*B29) -> 0 | G29: =IF(A29="","",VLOOKUP(A29,BDCom1!$A$3:$F$100,6,FALSE)*B29) -> 0 | I29: =IF(A29="","",VLOOKUP(A29,BDCom1!$A$3:$H$100,8,FALSE)) -> 0 | J29: =IF(A29="","",VLOOKUP(A29,VentilCom1!$A$2:$Z$39,21,FALSE)) -> 0 | K29: =IF(A29="","",VLOOKUP(A29,BDCom1!$A$3:$G$100,7,FALSE)*B29) -> 0 | P29: =IF(N29="","",N29*O29) | Q29: =IF(ISNA(VLOOKUP(M29,BDCom1!$A$3:$F$100,6,FALSE)*N29),"",VLOOKUP(M29,BDCom1!$A$3:$F$100,6,FALSE)*N29) | S29: =IF(ISNA(VLOOKUP(M29,BDCom1!$A$3:$H$100,8,FALSE)),"",VLOOKUP(M29,BDCom1!$A$3:$H$100,8,FALSE)) | T29: =IFERROR(IF(N29="","",P29/U29),"") | U29: =IF(ISNA(VLOOKUP(M29,BDColr!$B$3:$F$100,5,FALSE)*N29),"",VLOOKUP(M29,BDColr!$B$3:$F$100,5,FALSE)*N29) | X29: =N62 -> 6 | Y29: =O62 -> 0 | Z29: =P62 -> 0 | AA29: =Q62 -> 0 | AC29: =R62 -> 0 | AD29: =U48
A30: Bancs (1) | B30: 20 | C30: 1.5 | D30: =IF(B30="","",B30*C30) -> 30 | E30: =IF(A30="","",VLOOKUP(A30,BDCom1!$A$2:$N$100,14,FALSE)) -> 0 | F30: =IF(B30="","",E30*B30) -> 0 | G30: =IF(A30="","",VLOOKUP(A30,BDCom1!$A$3:$F$100,6,FALSE)*B30) -> 0 | I30: =IF(A30="","",VLOOKUP(A30,BDCom1!$A$3:$H$100,8,FALSE)) -> 0 | J30: =IF(A30="","",VLOOKUP(A30,VentilCom1!$A$2:$Z$39,21,FALSE)) -> 0 | K30: =IF(A30="","",VLOOKUP(A30,BDCom1!$A$3:$G$100,7,FALSE)*B30) -> 0 | P30: =IF(N30="","",N30*O30) | Q30: =IF(ISNA(VLOOKUP(M30,BDCom1!$A$3:$F$100,6,FALSE)*N30),"",VLOOKUP(M30,BDCom1!$A$3:$F$100,6,FALSE)*N30) | S30: =IF(ISNA(VLOOKUP(M30,BDCom1!$A$3:$H$100,8,FALSE)),"",VLOOKUP(M30,BDCom1!$A$3:$H$100,8,FALSE)) | T30: =IFERROR(IF(N30="","",P30/U30),"") | U30: =IF(ISNA(VLOOKUP(M30,BDColr!$B$3:$F$100,5,FALSE)*N30),"",VLOOKUP(M30,BDColr!$B$3:$F$100,5,FALSE)*N30) | X30: =N63 -> 21 | Y30: =O63 -> 0 | Z30: =P63 -> 0 | AA30: =Q63 -> 0 | AC30: =S64 -> Total TTC
A31: Frigos (1) | B31: 3 | C31: 40 | D31: =IF(B31="","",B31*C31) -> 120 | E31: =IF(A31="","",VLOOKUP(A31,BDCom1!$A$2:$N$100,14,FALSE)) -> 0 | F31: =IF(B31="","",E31*B31) -> 0 | G31: =IF(A31="","",VLOOKUP(A31,BDCom1!$A$3:$F$100,6,FALSE)*B31) -> 0 | I31: =IF(A31="","",VLOOKUP(A31,BDCom1!$A$3:$H$100,8,FALSE)) -> 0 | J31: =IF(A31="","",VLOOKUP(A31,VentilCom1!$A$2:$Z$39,21,FALSE)) -> 0 | K31: =IF(A31="","",VLOOKUP(A31,BDCom1!$A$3:$G$100,7,FALSE)*B31) -> 0 | P31: =IF(N31="","",N31*O31) | Q31: =IF(ISNA(VLOOKUP(M31,BDCom1!$A$3:$F$100,6,FALSE)*N31),"",VLOOKUP(M31,BDCom1!$A$3:$F$100,6,FALSE)*N31) | S31: =IF(ISNA(VLOOKUP(M31,BDCom1!$A$3:$H$100,8,FALSE)),"",VLOOKUP(M31,BDCom1!$A$3:$H$100,8,FALSE)) | T31: =IFERROR(IF(N31="","",P31/U31),"") | U31: =IF(ISNA(VLOOKUP(M31,BDColr!$B$3:$F$100,5,FALSE)*N31),"",VLOOKUP(M31,BDColr!$B$3:$F$100,5,FALSE)*N31) | AA31: =Q65 -> 0 | AC31: =S65 -> 0 | AD31: =$U$65 -> 606
D32: =IF(B32="","",B32*C32) | E32: =IF(A32="","",VLOOKUP(A32,BDCom1!$A$2:$N$100,14,FALSE)) | F32: =IF(B32="","",E32*B32) | G32: =IF(A32="","",VLOOKUP(A32,BDCom1!$A$3:$F$100,6,FALSE)*B32) | I32: =IF(A32="","",VLOOKUP(A32,BDCom1!$A$3:$H$100,8,FALSE)) | J32: =IF(A32="","",VLOOKUP(A32,VentilCom1!$A$2:$Z$39,21,FALSE)) | K32: =IF(A32="","",VLOOKUP(A32,BDCom1!$A$3:$G$100,7,FALSE)*B32) | P32: =IF(N32="","",N32*O32) | Q32: =IF(ISNA(VLOOKUP(M32,BDCom1!$A$3:$F$100,6,FALSE)*N32),"",VLOOKUP(M32,BDCom1!$A$3:$F$100,6,FALSE)*N32) | S32: =IF(ISNA(VLOOKUP(M32,BDCom1!$A$3:$H$100,8,FALSE)),"",VLOOKUP(M32,BDCom1!$A$3:$H$100,8,FALSE)) | T32: =IFERROR(IF(N32="","",P32/U32),"") | U32: =IF(ISNA(VLOOKUP(M32,BDColr!$B$3:$F$100,5,FALSE)*N32),"",VLOOKUP(M32,BDColr!$B$3:$F$100,5,FALSE)*N32) | W32: =$M$68 -> Com 2 Colruyt & Autres | Z32: Report | AA32: =SUM(AA27+AC31) -> 5276.8674
D33: =IF(B33="","",B33*C33) | E33: =IF(A33="","",VLOOKUP(A33,BDCom1!$A$2:$N$100,14,FALSE)) | F33: =IF(B33="","",E33*B33) | G33: =IF(A33="","",VLOOKUP(A33,BDCom1!$A$3:$F$100,6,FALSE)*B33) | I33: =IF(A33="","",VLOOKUP(A33,BDCom1!$A$3:$H$100,8,FALSE)) | J33: =IF(A33="","",VLOOKUP(A33,VentilCom1!$A$2:$Z$39,21,FALSE)) | K33: =IF(A33="","",VLOOKUP(A33,BDCom1!$A$3:$G$100,7,FALSE)*B33) | P33: =IF(N33="","",N33*O33) | Q33: =IF(ISNA(VLOOKUP(M33,BDCom1!$A$3:$F$100,6,FALSE)*N33),"",VLOOKUP(M33,BDCom1!$A$3:$F$100,6,FALSE)*N33) | S33: =IF(ISNA(VLOOKUP(M33,BDCom1!$A$3:$H$100,8,FALSE)),"",VLOOKUP(M33,BDCom1!$A$3:$H$100,8,FALSE)) | T33: =IFERROR(IF(N33="","",P33/U33),"") | U33: =IF(ISNA(VLOOKUP(M33,BDColr!$B$3:$F$100,5,FALSE)*N33),"",VLOOKUP(M33,BDColr!$B$3:$F$100,5,FALSE)*N33) | X33: =N107 -> TVA | Y33: =O107 -> Tot HTVA | Z33: =P107 -> TVA | AA33: =Q107 -> TVAC | AC33: =R107 -> Vidange | AD33: =U107 -> Prévi
D34: =IF(B34="","",B34*C34) | E34: =IF(A34="","",VLOOKUP(A34,BDCom1!$A$2:$N$100,14,FALSE)) | F34: =IF(B34="","",E34*B34) | G34: =IF(A34="","",VLOOKUP(A34,BDCom1!$A$3:$F$100,6,FALSE)*B34) | I34: =IF(A34="","",VLOOKUP(A34,BDCom1!$A$3:$H$100,8,FALSE)) | J34: =IF(A34="","",VLOOKUP(A34,VentilCom1!$A$2:$Z$39,21,FALSE)) | K34: =IF(A34="","",VLOOKUP(A34,BDCom1!$A$3:$G$100,7,FALSE)*B34) | P34: =IF(N34="","",N34*O34) | Q34: =IF(ISNA(VLOOKUP(M34,BDCom1!$A$3:$F$100,6,FALSE)*N34),"",VLOOKUP(M34,BDCom1!$A$3:$F$100,6,FALSE)*N34) | S34: =IF(ISNA(VLOOKUP(M34,BDCom1!$A$3:$H$100,8,FALSE)),"",VLOOKUP(M34,BDCom1!$A$3:$H$100,8,FALSE)) | T34: =IFERROR(IF(N34="","",P34/U34),"") | U34: =IF(ISNA(VLOOKUP(M34,BDColr!$B$3:$F$100,5,FALSE)*N34),"",VLOOKUP(M34,BDColr!$B$3:$F$100,5,FALSE)*N34) | X34: =N108 -> 6 | Y34: =O108 -> 0 | Z34: =P108 -> 0 | AA34: =Q108 -> 0 | AC34: =R108 -> 0 | AD34: =U108 -> 0
D35: =IF(B35="","",B35*C35) | E35: =IF(A35="","",VLOOKUP(A35,BDCom1!$A$2:$N$100,14,FALSE)) | F35: =IF(B35="","",E35*B35) | G35: =IF(A35="","",VLOOKUP(A35,BDCom1!$A$3:$F$100,6,FALSE)*B35) | I35: =IF(A35="","",VLOOKUP(A35,BDCom1!$A$3:$H$100,8,FALSE)) | J35: =IF(A35="","",VLOOKUP(A35,VentilCom1!$A$2:$Z$39,21,FALSE)) | K35: =IF(A35="","",VLOOKUP(A35,BDCom1!$A$3:$G$100,7,FALSE)*B35) | P35: =IF(N35="","",N35*O35) | Q35: =IF(ISNA(VLOOKUP(M35,BDCom1!$A$3:$F$100,6,FALSE)*N35),"",VLOOKUP(M35,BDCom1!$A$3:$F$100,6,FALSE)*N35) | S35: =IF(ISNA(VLOOKUP(M35,BDCom1!$A$3:$H$100,8,FALSE)),"",VLOOKUP(M35,BDCom1!$A$3:$H$100,8,FALSE)) | T35: =IFERROR(IF(N35="","",P35/U35),"") | U35: =IF(ISNA(VLOOKUP(M35,BDColr!$B$3:$F$100,5,FALSE)*N35),"",VLOOKUP(M35,BDColr!$B$3:$F$100,5,FALSE)*N35) | X35: =N109 -> 21 | Y35: =O109 -> 0 | Z35: =P109 -> 0 | AA35: =Q109 -> 0 | AC35: =S110 -> Total TTC
D36: =IF(B36="","",B36*C36) | E36: =IF(A36="","",VLOOKUP(A36,BDCom1!$A$2:$N$100,14,FALSE)) | F36: =IF(B36="","",E36*B36) | G36: =IF(A36="","",VLOOKUP(A36,BDCom1!$A$3:$F$100,6,FALSE)*B36) | I36: =IF(A36="","",VLOOKUP(A36,BDCom1!$A$3:$H$100,8,FALSE)) | J36: =IF(A36="","",VLOOKUP(A36,VentilCom1!$A$2:$Z$39,21,FALSE)) | K36: =IF(A36="","",VLOOKUP(A36,BDCom1!$A$3:$G$100,7,FALSE)*B36) | P36: =IF(N36="","",N36*O36) | Q36: =IF(ISNA(VLOOKUP(M36,BDCom1!$A$3:$F$100,6,FALSE)*N36),"",VLOOKUP(M36,BDCom1!$A$3:$F$100,6,FALSE)*N36) | S36: =IF(ISNA(VLOOKUP(M36,BDCom1!$A$3:$H$100,8,FALSE)),"",VLOOKUP(M36,BDCom1!$A$3:$H$100,8,FALSE)) | T36: =IFERROR(IF(N36="","",P36/U36),"") | U36: =IF(ISNA(VLOOKUP(M36,BDColr!$B$3:$F$100,5,FALSE)*N36),"",VLOOKUP(M36,BDColr!$B$3:$F$100,5,FALSE)*N36) | AA36: =Q111 -> 0 | AC36: =S111 -> 0 | AD36: =$U$111 -> 606
D37: =IF(B37="","",B37*C37) | E37: =IF(A37="","",VLOOKUP(A37,BDCom1!$A$2:$N$100,14,FALSE)) | F37: =IF(B37="","",E37*B37) | G37: =IF(A37="","",VLOOKUP(A37,BDCom1!$A$3:$F$100,6,FALSE)*B37) | I37: =IF(A37="","",VLOOKUP(A37,BDCom1!$A$3:$H$100,8,FALSE)) | J37: =IF(A37="","",VLOOKUP(A37,VentilCom1!$A$2:$Z$39,21,FALSE)) | K37: =IF(A37="","",VLOOKUP(A37,BDCom1!$A$3:$G$100,7,FALSE)*B37) | P37: =IF(N37="","",N37*O37) | Q37: =IF(ISNA(VLOOKUP(M37,BDCom1!$A$3:$F$100,6,FALSE)*N37),"",VLOOKUP(M37,BDCom1!$A$3:$F$100,6,FALSE)*N37) | S37: =IF(ISNA(VLOOKUP(M37,BDCom1!$A$3:$H$100,8,FALSE)),"",VLOOKUP(M37,BDCom1!$A$3:$H$100,8,FALSE)) | T37: =IFERROR(IF(N37="","",P37/U37),"") | U37: =IF(ISNA(VLOOKUP(M37,BDColr!$B$3:$F$100,5,FALSE)*N37),"",VLOOKUP(M37,BDColr!$B$3:$F$100,5,FALSE)*N37) | W37: =$M$114 -> Com 2 Colruyt & Autres Ajout | Z37: Report | AA37: =SUM(AA32+AC36) -> 5276.8674
D38: =IF(B38="","",B38*C38) | E38: =IF(A38="","",VLOOKUP(A38,BDCom1!$A$2:$N$100,14,FALSE)) | F38: =IF(B38="","",E38*B38) | G38: =IF(A38="","",VLOOKUP(A38,BDCom1!$A$3:$F$100,6,FALSE)*B38) | I38: =IF(A38="","",VLOOKUP(A38,BDCom1!$A$3:$H$100,8,FALSE)) | J38: =IF(A38="","",VLOOKUP(A38,VentilCom1!$A$2:$Z$39,21,FALSE)) | K38: =IF(A38="","",VLOOKUP(A38,BDCom1!$A$3:$G$100,7,FALSE)*B38) | P38: =IF(N38="","",N38*O38) | Q38: =IF(ISNA(VLOOKUP(M38,BDCom1!$A$3:$F$100,6,FALSE)*N38),"",VLOOKUP(M38,BDCom1!$A$3:$F$100,6,FALSE)*N38) | S38: =IF(ISNA(VLOOKUP(M38,BDCom1!$A$3:$H$100,8,FALSE)),"",VLOOKUP(M38,BDCom1!$A$3:$H$100,8,FALSE)) | T38: =IFERROR(IF(N38="","",P38/U38),"") | U38: =IF(ISNA(VLOOKUP(M38,BDColr!$B$3:$F$100,5,FALSE)*N38),"",VLOOKUP(M38,BDColr!$B$3:$F$100,5,FALSE)*N38) | X38: =N128 -> TVA | Y38: =O128 -> Tot HTVA | Z38: =P128 -> TVA | AA38: =Q128 -> TVAC | AC38: =R128 -> Vidange | AD38: =U128 -> Prévi
D39: =IF(B39="","",B39*C39) | E39: =IF(A39="","",VLOOKUP(A39,BDCom1!$A$2:$N$100,14,FALSE)) | F39: =IF(B39="","",E39*B39) | G39: =IF(A39="","",VLOOKUP(A39,BDCom1!$A$3:$F$100,6,FALSE)*B39) | I39: =IF(A39="","",VLOOKUP(A39,BDCom1!$A$3:$H$100,8,FALSE)) | J39: =IF(A39="","",VLOOKUP(A39,VentilCom1!$A$2:$Z$39,21,FALSE)) | K39: =IF(A39="","",VLOOKUP(A39,BDCom1!$A$3:$G$100,7,FALSE)*B39) | P39: =IF(N39="","",N39*O39) | Q39: =IF(ISNA(VLOOKUP(M39,BDCom1!$A$3:$F$100,6,FALSE)*N39),"",VLOOKUP(M39,BDCom1!$A$3:$F$100,6,FALSE)*N39) | S39: =IF(ISNA(VLOOKUP(M39,BDCom1!$A$3:$H$100,8,FALSE)),"",VLOOKUP(M39,BDCom1!$A$3:$H$100,8,FALSE)) | T39: =IFERROR(IF(N39="","",P39/U39),"") | U39: =IF(ISNA(VLOOKUP(M39,BDColr!$B$3:$F$100,5,FALSE)*N39),"",VLOOKUP(M39,BDColr!$B$3:$F$100,5,FALSE)*N39) | X39: =N129 -> 6 | Y39: =O129 -> 0 | Z39: =P129 -> 0 | AA39: =Q129 -> 0 | AC39: =R129 -> 0 | AD39: =U129 -> 0
A40: Nom du Fournisseur : | B40: TVA | C40: Brut | D40: Taxe | E40: Tot. HTVA | F40: TVA | G40: Vidange | K40: Prévi | N40: TVA | O40: Tot HTVA | P40: TVA | Q40: TVAC | R40: Vidange | U40: Prévi | X40: =N130 -> 21 | Y40: =O130 -> 0 | Z40: =P130 -> 0 | AA40: =Q130 -> 0 | AC40: =S131 -> Total TTC
A41: Delsart | B41: 6 | C41: =SUM(VentilCom1!D40) -> 881.01 | D41: =SUM(VentilCom1!J40) -> 36.69 | E41: =SUM(C41+D41) -> 917.7 | F41: =SUM(E41*0.06) -> 55.062 | G41: =SUM(G2:G39) -> 649 | K41: =SUM(K2:K39) -> 3338 | N41: 6 | O41: =SUM(VentilColr!H42) -> 59.10566 | P41: =SUM(VentilColr!J42) -> 3.5463396 | Q41: =SUM(O41:P41) -> 62.652 | R41: =SUM(Q2:Q39) -> 18 | U41: =SUM(U2:U39) -> 606 | AA41: =Q132 -> 0 | AC41: =S132 -> 0 | AD41: =$U$132 -> 606
B42: 21 | C42: =SUM(VentilCom1!E40) -> 2264.82 | D42: =SUM(VentilCom1!K40) -> 108.82 | E42: =SUM(C42+D42) -> 2373.64 | F42: =SUM(E42*0.21) -> 498.4644 | N42: 21 | O42: =SUM(VentilColr!I42) -> 73.719008 | P42: =SUM(VentilColr!K42) -> 15.480992 | Q42: =SUM(O42:P42) -> 89.2 | Y42: TOTAL FULL | AA42: =SUM(AA37+AC41) -> 5276.8674
A43: Acompte : | G43: Total TTC | S43: Total TTC | Y43: TOTAL FULL | AA43: =AA42 -> 5276.8674
A44: 2250 | C44: =SUM(C41+C42) -> 3145.83 | D44: =SUM(D41+D42) -> 145.51 | E44: =SUM(E41+E42) -> 3291.34 | F44: =SUM(F41+F42) -> 553.5264 | G44: =SUM(E44+F44+G41) -> 4493.8664 | Q44: =SUM(P2:P39) -> 151.852 | S44: =SUM(Q41+Q42+R41) -> 169.852
A47: Com Fournisseur 1 Ajout | B47: Quant. | C47: P.U HTVA | D47: Tot HTVA | E47: Taxe HTVA | F47: T.T. HTVA | G47: Consi | H47: Check | I47: P.U. V | J47: P.U. A | K47: Prévi | M47: Com 1 Colruyt & Autres Ajout | N47: Quant. | O47: P.U TTC | P47: Tot TTC | Q47: Consi | R47: Check | S47: P.U. V | T47: P.U. A | U47: Prévi
A48: Fut Jupiler (1X30 L) | B48: 1 | C48: 89.18 | D48: =IF(B48="","",B48*C48) -> 89.18 | E48: =IF(A48="","",VLOOKUP(A48,BDCom1!$A$2:$N$100,14,FALSE)) -> 7.22 | F48: =IFERROR((E48*B48),"") -> 7.22 | G48: =IF(A48="","",VLOOKUP(A48,BDCom1!$A$3:$F$100,6,FALSE)*B48) -> 30 | I48: =IF(A48="","",VLOOKUP(A48,BDCom1!$A$3:$H$100,8,FALSE)) -> 2 | J48: =IF(A48="","",VLOOKUP(A48,VentilCom1!$A$47:$Z$59,21,FALSE)) -> 1.023193 | K48: =IF(A48="","",VLOOKUP(A48,BDCom1!$A$3:$G$100,7,FALSE)*B48) -> 114 | P48: =IF(N48="","",N48*O48) | Q48: =IF(ISNA(VLOOKUP(M48,BDCom1!$A$3:$F$100,6,FALSE)*N48),"",VLOOKUP(M48,BDCom1!$A$3:$F$100,6,FALSE)*N48) | S48: =IF(ISNA(VLOOKUP(M48,BDCom1!$A$3:$H$100,8,FALSE)),"",VLOOKUP(M48,BDCom1!$A$3:$H$100,8,FALSE)) | T48: =IFERROR(IF(N48="","",P48/U48),"") | U48: =IF(ISNA(VLOOKUP(M48,BDColr!$B$3:$F$100,5,FALSE)*N48),"",VLOOKUP(M48,BDColr!$B$3:$F$100,5,FALSE)*N48)
A49: Coca-Cola Normal (1X6) 1L | B49: 5 | C49: 13.93 | D49: =IF(B49="","",B49*C49) -> 69.65 | E49: =IF(A49="","",VLOOKUP(A49,BDCom1!$A$2:$N$100,14,FALSE)) -> 0.8 | F49: =IFERROR((E49*B49),"") -> 4 | G49: =IF(A49="","",VLOOKUP(A49,BDCom1!$A$3:$F$100,6,FALSE)*B49) -> 17.5 | I49: =IF(A49="","",VLOOKUP(A49,BDCom1!$A$3:$H$100,8,FALSE)) -> 2 | J49: =IF(A49="","",VLOOKUP(A49,VentilCom1!$A$47:$Z$59,21,FALSE)) -> 0.650575 | K49: =IF(A49="","",VLOOKUP(A49,BDCom1!$A$3:$G$100,7,FALSE)*B49) -> 120
A50: Eau plate (1X12) 1L | B50: 8 | C50: 8.66 | D50: =IF(B50="","",B50*C50) -> 69.28 | E50: =IF(A50="","",VLOOKUP(A50,BDCom1!$A$2:$N$100,14,FALSE)) -> 0.17 | F50: =IFERROR((E50*B50),"") -> 1.36 | G50: =IF(A50="","",VLOOKUP(A50,BDCom1!$A$3:$F$100,6,FALSE)*B50) -> 36 | I50: =IF(A50="","",VLOOKUP(A50,BDCom1!$A$3:$H$100,8,FALSE)) -> 1 | J50: =IF(A50="","",VLOOKUP(A50,VentilCom1!$A$47:$Z$59,21,FALSE)) -> 0.19499583 | K50: =IF(A50="","",VLOOKUP(A50,BDCom1!$A$3:$G$100,7,FALSE)*B50) -> 384
A51: Eau Gazeuse (1X12) 1L | B51: 8 | C51: 8.66 | D51: =IF(B51="","",B51*C51) -> 69.28 | E51: =IF(A51="","",VLOOKUP(A51,BDCom1!$A$2:$N$100,14,FALSE)) -> 0.17 | F51: =IFERROR((E51*B51),"") -> 1.36 | G51: =IF(A51="","",VLOOKUP(A51,BDCom1!$A$3:$F$100,6,FALSE)*B51) -> 36 | I51: =IF(A51="","",VLOOKUP(A51,BDCom1!$A$3:$H$100,8,FALSE)) -> 2 | J51: =IF(A51="","",VLOOKUP(A51,VentilCom1!$A$47:$Z$59,21,FALSE)) -> 0.19499583 | K51: =IF(A51="","",VLOOKUP(A51,BDCom1!$A$3:$G$100,7,FALSE)*B51) -> 384 | P51: =IF(N51="","",N51*O51) | Q51: =IF(ISNA(VLOOKUP(M51,BDCom1!$A$3:$F$100,6,FALSE)*N51),"",VLOOKUP(M51,BDCom1!$A$3:$F$100,6,FALSE)*N51) | S51: =IF(ISNA(VLOOKUP(M51,BDCom1!$A$3:$H$100,8,FALSE)),"",VLOOKUP(M51,BDCom1!$A$3:$H$100,8,FALSE)) | T51: =IFERROR(IF(N51="","",P51/U51),"") | U51: =IF(ISNA(VLOOKUP(M51,BDColr!$B$3:$F$100,5,FALSE)*N51),"",VLOOKUP(M51,BDColr!$B$3:$F$100,5,FALSE)*N51)
A52: Coca-Cola Zéro (1X6) 1L | B52: 8 | C52: 13.49 | D52: =IF(B52="","",B52*C52) -> 107.92 | E52: =IF(A52="","",VLOOKUP(A52,BDCom1!$A$2:$N$100,14,FALSE)) -> 0.8 | F52: =IFERROR((E52*B52),"") -> 6.4 | G52: =IF(A52="","",VLOOKUP(A52,BDCom1!$A$3:$F$100,6,FALSE)*B52) -> 28 | I52: =IF(A52="","",VLOOKUP(A52,BDCom1!$A$3:$H$100,8,FALSE)) -> 2 | J52: =IF(A52="","",VLOOKUP(A52,VentilCom1!$A$47:$Z$59,21,FALSE)) -> 0.63114167 | K52: =IF(A52="","",VLOOKUP(A52,BDCom1!$A$3:$G$100,7,FALSE)*B52) -> 192 | P52: =IF(N52="","",N52*O52) | Q52: =IF(ISNA(VLOOKUP(M52,BDCom1!$A$3:$F$100,6,FALSE)*N52),"",VLOOKUP(M52,BDCom1!$A$3:$F$100,6,FALSE)*N52) | S52: =IF(ISNA(VLOOKUP(M52,BDCom1!$A$3:$H$100,8,FALSE)),"",VLOOKUP(M52,BDCom1!$A$3:$H$100,8,FALSE)) | T52: =IFERROR(IF(N52="","",P52/U52),"") | U52: =IF(ISNA(VLOOKUP(M52,BDColr!$B$3:$F$100,5,FALSE)*N52),"",VLOOKUP(M52,BDColr!$B$3:$F$100,5,FALSE)*N52)
D53: =IF(B53="","",B53*C53) | E53: =IF(A53="","",VLOOKUP(A53,BDCom1!$A$2:$N$100,14,FALSE)) | F53: =IFERROR((E53*B53),"") | G53: =IF(A53="","",VLOOKUP(A53,BDCom1!$A$3:$F$100,6,FALSE)*B53) | I53: =IF(A53="","",VLOOKUP(A53,BDCom1!$A$3:$H$100,8,FALSE)) | J53: =IF(A53="","",VLOOKUP(A53,VentilCom1!$A$47:$Z$59,21,FALSE)) | K53: =IF(A53="","",VLOOKUP(A53,BDCom1!$A$3:$G$100,7,FALSE)*B53) | P53: =IF(N53="","",N53*O53) | Q53: =IF(ISNA(VLOOKUP(M53,BDCom1!$A$3:$F$100,6,FALSE)*N53),"",VLOOKUP(M53,BDCom1!$A$3:$F$100,6,FALSE)*N53) | S53: =IF(ISNA(VLOOKUP(M53,BDCom1!$A$3:$H$100,8,FALSE)),"",VLOOKUP(M53,BDCom1!$A$3:$H$100,8,FALSE)) | T53: =IFERROR(IF(N53="","",P53/U53),"") | U53: =IF(ISNA(VLOOKUP(M53,BDColr!$B$3:$F$100,5,FALSE)*N53),"",VLOOKUP(M53,BDColr!$B$3:$F$100,5,FALSE)*N53)
D54: =IF(B54="","",B54*C54) | E54: =IF(A54="","",VLOOKUP(A54,BDCom1!$A$2:$N$100,14,FALSE)) | F54: =IFERROR((E54*B54),"") | G54: =IF(A54="","",VLOOKUP(A54,BDCom1!$A$3:$F$100,6,FALSE)*B54) | I54: =IF(A54="","",VLOOKUP(A54,BDCom1!$A$3:$H$100,8,FALSE)) | J54: =IF(A54="","",VLOOKUP(A54,VentilCom1!$A$47:$Z$59,21,FALSE)) | K54: =IF(A54="","",VLOOKUP(A54,BDCom1!$A$3:$G$100,7,FALSE)*B54) | P54: =IF(N54="","",N54*O54) | Q54: =IF(ISNA(VLOOKUP(M54,BDCom1!$A$3:$F$100,6,FALSE)*N54),"",VLOOKUP(M54,BDCom1!$A$3:$F$100,6,FALSE)*N54) | S54: =IF(ISNA(VLOOKUP(M54,BDCom1!$A$3:$H$100,8,FALSE)),"",VLOOKUP(M54,BDCom1!$A$3:$H$100,8,FALSE)) | T54: =IFERROR(IF(N54="","",P54/U54),"") | U54: =IF(ISNA(VLOOKUP(M54,BDColr!$B$3:$F$100,5,FALSE)*N54),"",VLOOKUP(M54,BDColr!$B$3:$F$100,5,FALSE)*N54)
D55: =IF(B55="","",B55*C55) | E55: =IF(A55="","",VLOOKUP(A55,BDCom1!$A$2:$N$100,14,FALSE)) | F55: =IFERROR((E55*B55),"") | G55: =IF(A55="","",VLOOKUP(A55,BDCom1!$A$3:$F$100,6,FALSE)*B55) | I55: =IF(A55="","",VLOOKUP(A55,BDCom1!$A$3:$H$100,8,FALSE)) | J55: =IF(A55="","",VLOOKUP(A55,VentilCom1!$A$47:$Z$59,21,FALSE)) | K55: =IF(A55="","",VLOOKUP(A55,BDCom1!$A$3:$G$100,7,FALSE)*B55) | P55: =IF(N55="","",N55*O55) | Q55: =IF(ISNA(VLOOKUP(M55,BDCom1!$A$3:$F$100,6,FALSE)*N55),"",VLOOKUP(M55,BDCom1!$A$3:$F$100,6,FALSE)*N55) | S55: =IF(ISNA(VLOOKUP(M55,BDCom1!$A$3:$H$100,8,FALSE)),"",VLOOKUP(M55,BDCom1!$A$3:$H$100,8,FALSE)) | T55: =IFERROR(IF(N55="","",P55/U55),"") | U55: =IF(ISNA(VLOOKUP(M55,BDColr!$B$3:$F$100,5,FALSE)*N55),"",VLOOKUP(M55,BDColr!$B$3:$F$100,5,FALSE)*N55)
D56: =IF(B56="","",B56*C56) | E56: =IF(A56="","",VLOOKUP(A56,BDCom1!$A$2:$N$100,14,FALSE)) | F56: =IFERROR((E56*B56),"") | G56: =IF(A56="","",VLOOKUP(A56,BDCom1!$A$3:$F$100,6,FALSE)*B56) | I56: =IF(A56="","",VLOOKUP(A56,BDCom1!$A$3:$H$100,8,FALSE)) | J56: =IF(A56="","",VLOOKUP(A56,VentilCom1!$A$47:$Z$59,21,FALSE)) | K56: =IF(A56="","",VLOOKUP(A56,BDCom1!$A$3:$G$100,7,FALSE)*B56) | P56: =IF(N56="","",N56*O56) | Q56: =IF(ISNA(VLOOKUP(M56,BDCom1!$A$3:$F$100,6,FALSE)*N56),"",VLOOKUP(M56,BDCom1!$A$3:$F$100,6,FALSE)*N56) | S56: =IF(ISNA(VLOOKUP(M56,BDCom1!$A$3:$H$100,8,FALSE)),"",VLOOKUP(M56,BDCom1!$A$3:$H$100,8,FALSE)) | T56: =IFERROR(IF(N56="","",P56/U56),"") | U56: =IF(ISNA(VLOOKUP(M56,BDColr!$B$3:$F$100,5,FALSE)*N56),"",VLOOKUP(M56,BDColr!$B$3:$F$100,5,FALSE)*N56)
D57: =IF(B57="","",B57*C57) | E57: =IF(A57="","",VLOOKUP(A57,BDCom1!$A$2:$N$100,14,FALSE)) | F57: =IFERROR((E57*B57),"") | G57: =IF(A57="","",VLOOKUP(A57,BDCom1!$A$3:$F$100,6,FALSE)*B57) | I57: =IF(A57="","",VLOOKUP(A57,BDCom1!$A$3:$H$100,8,FALSE)) | J57: =IF(A57="","",VLOOKUP(A57,VentilCom1!$A$47:$Z$59,21,FALSE)) | K57: =IF(A57="","",VLOOKUP(A57,BDCom1!$A$3:$G$100,7,FALSE)*B57) | P57: =IF(N57="","",N57*O57) | Q57: =IF(ISNA(VLOOKUP(M57,BDCom1!$A$3:$F$100,6,FALSE)*N57),"",VLOOKUP(M57,BDCom1!$A$3:$F$100,6,FALSE)*N57) | S57: =IF(ISNA(VLOOKUP(M57,BDCom1!$A$3:$H$100,8,FALSE)),"",VLOOKUP(M57,BDCom1!$A$3:$H$100,8,FALSE)) | T57: =IFERROR(IF(N57="","",P57/U57),"") | U57: =IF(ISNA(VLOOKUP(M57,BDColr!$B$3:$F$100,5,FALSE)*N57),"",VLOOKUP(M57,BDColr!$B$3:$F$100,5,FALSE)*N57)
D58: =IF(B58="","",B58*C58) | E58: =IF(A58="","",VLOOKUP(A58,BDCom1!$A$2:$N$100,14,FALSE)) | F58: =IFERROR((E58*B58),"") | G58: =IF(A58="","",VLOOKUP(A58,BDCom1!$A$3:$F$100,6,FALSE)*B58) | I58: =IF(A58="","",VLOOKUP(A58,BDCom1!$A$3:$H$100,8,FALSE)) | J58: =IF(A58="","",VLOOKUP(A58,VentilCom1!$A$47:$Z$59,21,FALSE)) | K58: =IF(A58="","",VLOOKUP(A58,BDCom1!$A$3:$G$100,7,FALSE)*B58) | P58: =IF(N58="","",N58*O58) | Q58: =IF(ISNA(VLOOKUP(M58,BDCom1!$A$3:$F$100,6,FALSE)*N58),"",VLOOKUP(M58,BDCom1!$A$3:$F$100,6,FALSE)*N58) | S58: =IF(ISNA(VLOOKUP(M58,BDCom1!$A$3:$H$100,8,FALSE)),"",VLOOKUP(M58,BDCom1!$A$3:$H$100,8,FALSE)) | T58: =IFERROR(IF(N58="","",P58/U58),"") | U58: =IF(ISNA(VLOOKUP(M58,BDColr!$B$3:$F$100,5,FALSE)*N58),"",VLOOKUP(M58,BDColr!$B$3:$F$100,5,FALSE)*N58)
D59: =IF(B59="","",B59*C59) | E59: =IF(A59="","",VLOOKUP(A59,BDCom1!$A$2:$N$100,14,FALSE)) | F59: =IFERROR((E59*B59),"") | G59: =IF(A59="","",VLOOKUP(A59,BDCom1!$A$3:$F$100,6,FALSE)*B59) | I59: =IF(A59="","",VLOOKUP(A59,BDCom1!$A$3:$H$100,8,FALSE)) | J59: =IF(A59="","",VLOOKUP(A59,VentilCom1!$A$47:$Z$59,21,FALSE)) | K59: =IF(A59="","",VLOOKUP(A59,BDCom1!$A$3:$G$100,7,FALSE)*B59) | P59: =IF(N59="","",N59*O59) | Q59: =IF(ISNA(VLOOKUP(M59,BDCom1!$A$3:$F$100,6,FALSE)*N59),"",VLOOKUP(M59,BDCom1!$A$3:$F$100,6,FALSE)*N59) | S59: =IF(ISNA(VLOOKUP(M59,BDCom1!$A$3:$H$100,8,FALSE)),"",VLOOKUP(M59,BDCom1!$A$3:$H$100,8,FALSE)) | T59: =IFERROR(IF(N59="","",P59/U59),"") | U59: =IF(ISNA(VLOOKUP(M59,BDColr!$B$3:$F$100,5,FALSE)*N59),"",VLOOKUP(M59,BDColr!$B$3:$F$100,5,FALSE)*N59)
D60: =IF(B60="","",B60*C60) | E60: =IF(A60="","",VLOOKUP(A60,BDCom1!$A$2:$N$100,14,FALSE)) | F60: =IFERROR((E60*B60),"") | G60: =IF(A60="","",VLOOKUP(A60,BDCom1!$A$3:$F$100,6,FALSE)*B60) | I60: =IF(A60="","",VLOOKUP(A60,BDCom1!$A$3:$H$100,8,FALSE)) | J60: =IF(A60="","",VLOOKUP(A60,VentilCom1!$A$47:$Z$59,21,FALSE)) | K60: =IF(A60="","",VLOOKUP(A60,BDCom1!$A$3:$G$100,7,FALSE)*B60) | P60: =IF(N60="","",N60*O60) | Q60: =IF(ISNA(VLOOKUP(M60,BDCom1!$A$3:$F$100,6,FALSE)*N60),"",VLOOKUP(M60,BDCom1!$A$3:$F$100,6,FALSE)*N60) | S60: =IF(ISNA(VLOOKUP(M60,BDCom1!$A$3:$H$100,8,FALSE)),"",VLOOKUP(M60,BDCom1!$A$3:$H$100,8,FALSE)) | T60: =IFERROR(IF(N60="","",P60/U60),"") | U60: =IF(ISNA(VLOOKUP(M60,BDColr!$B$3:$F$100,5,FALSE)*N60),"",VLOOKUP(M60,BDColr!$B$3:$F$100,5,FALSE)*N60)
B61: TVA | C61: Brut | D61: Taxe | E61: Tot. HTVA | F61: TVA | G61: Vidange | K61: Prévi | N61: TVA | O61: Tot HTVA | P61: TVA | Q61: TVAC | R61: Vidange | U61: Prévi
B62: 6 | C62: =SUM(VentilCom1!D61) -> 316.13 | D62: =SUM(VentilCom1!J61) -> 13.12 | E62: =SUM(C62+D62) -> 329.25 | F62: =SUM(E62*0.06) -> 19.755 | G62: =SUM(G48:G60) -> 147.5 | K62: =SUM(K48:K60) -> 1194 | N62: 6 | O62: =SUM(VentilColr!H60) -> 0 | P62: =SUM(VentilColr!J60) -> 0 | Q62: =SUM(O62:P62) -> 0 | R62: =SUM(Q48:Q60) -> 0 | U62: =SUM(U48:U60) -> 0
B63: 21 | C63: =SUM(VentilCom1!E61) -> 89.18 | D63: =SUM(VentilCom1!K61) -> 7.22 | E63: =SUM(C63+D63) -> 96.4 | F63: =SUM(E63*0.21) -> 20.244 | N63: 21 | O63: =SUM(VentilColr!I60) -> 0 | P63: =SUM(VentilColr!K60) -> 0 | Q63: =SUM(O63:P63) -> 0
G64: Total TTC | S64: Total TTC
C65: =SUM(C62+C63) -> 405.31 | D65: =SUM(D62+D63) -> 20.34 | E65: =SUM(E62+E63) -> 425.65 | F65: =SUM(F62+F63) -> 39.999 | G65: =SUM(E65+F65+G62) -> 613.149 | K65: =SUM(K41+K62) -> 4532 | Q65: =SUM(P48:P60) -> 0 | S65: =SUM(Q62+Q63+R62) -> 0 | U65: =SUM(U41+U62) -> 606
A68: Com Fournisseur 2 | B68: Quant. | C68: P.U HTVA | D68: Tot HTVA | E68: Taxe HTVA | F68: T.T. HTVA | G68: Consi | H68: Check | I68: P.U. V | J68: P.U. A | K68: Prévi | M68: Com 2 Colruyt & Autres | N68: Quant. | O68: P.U TTC | P68: Tot TTC | Q68: Consi | R68: Check | S68: P.U. V | T68: P.U. A | U68: Prévi
D69: =IF(B69="","",B69*C69) | E69: =IF(A69="","",VLOOKUP(A69,BDCom1!$A$2:$N$100,14,FALSE)) | F69: =IFERROR((E69*B69),"") | G69: =IF(A69="","",VLOOKUP(A69,BDCom1!$A$3:$F$100,6,FALSE)*B69) | I69: =IF(A69="","",VLOOKUP(A69,BDCom1!$A$3:$H$100,8,FALSE)) | J69: =IF(A69="","",VLOOKUP(A69,VentilCom1!$A$69:$Z$106,21,FALSE)) | K69: =IF(A69="","",VLOOKUP(A69,BDCom1!$A$3:$G$100,7,FALSE)*B69) | P69: =IF(N69="","",N69*O69) | Q69: =IF(ISNA(VLOOKUP(M69,BDCom1!$A$3:$F$100,6,FALSE)*N69),"",VLOOKUP(M69,BDCom1!$A$3:$F$100,6,FALSE)*N69) | S69: =IF(ISNA(VLOOKUP(M69,BDCom1!$A$3:$H$100,8,FALSE)),"",VLOOKUP(M69,BDCom1!$A$3:$H$100,8,FALSE)) | T69: =IFERROR(IF(N69="","",P69/U69),"") | U69: =IF(ISNA(VLOOKUP(M69,BDColr!$B$3:$F$100,5,FALSE)*N69),"",VLOOKUP(M69,BDColr!$B$3:$F$100,5,FALSE)*N69)
D70: =IF(B70="","",B70*C70) | E70: =IF(A70="","",VLOOKUP(A70,BDCom1!$A$2:$N$100,14,FALSE)) | F70: =IFERROR((E70*B70),"") | G70: =IF(A70="","",VLOOKUP(A70,BDCom1!$A$3:$F$100,6,FALSE)*B70) | I70: =IF(A70="","",VLOOKUP(A70,BDCom1!$A$3:$H$100,8,FALSE)) | J70: =IF(A70="","",VLOOKUP(A70,VentilCom1!$A$69:$Z$106,21,FALSE)) | K70: =IF(A70="","",VLOOKUP(A70,BDCom1!$A$3:$G$100,7,FALSE)*B70)
D71: =IF(B71="","",B71*C71) | E71: =IF(A71="","",VLOOKUP(A71,BDCom1!$A$2:$N$100,14,FALSE)) | F71: =IF(B71="","",E71*B71) | G71: =IF(A71="","",VLOOKUP(A71,BDCom1!$A$3:$F$100,6,FALSE)*B71) | I71: =IF(A71="","",VLOOKUP(A71,BDCom1!$A$3:$H$100,8,FALSE)) | J71: =IF(A71="","",VLOOKUP(A71,VentilCom1!$A$69:$Z$106,21,FALSE)) | K71: =IF(A71="","",VLOOKUP(A71,BDCom1!$A$3:$G$100,7,FALSE)*B71)
D72: =IF(B72="","",B72*C72) | E72: =IF(A72="","",VLOOKUP(A72,BDCom1!$A$2:$N$100,14,FALSE)) | F72: =IF(B72="","",E72*B72) | G72: =IF(A72="","",VLOOKUP(A72,BDCom1!$A$3:$F$100,6,FALSE)*B72) | I72: =IF(A72="","",VLOOKUP(A72,BDCom1!$A$3:$H$100,8,FALSE)) | J72: =IF(A72="","",VLOOKUP(A72,VentilCom1!$A$69:$Z$106,21,FALSE)) | K72: =IF(A72="","",VLOOKUP(A72,BDCom1!$A$3:$G$100,7,FALSE)*B72)
D73: =IF(B73="","",B73*C73) | E73: =IF(A73="","",VLOOKUP(A73,BDCom1!$A$2:$N$100,14,FALSE)) | F73: =IF(B73="","",E73*B73) | G73: =IF(A73="","",VLOOKUP(A73,BDCom1!$A$3:$F$100,6,FALSE)*B73) | I73: =IF(A73="","",VLOOKUP(A73,BDCom1!$A$3:$H$100,8,FALSE)) | J73: =IF(A73="","",VLOOKUP(A73,VentilCom1!$A$69:$Z$106,21,FALSE)) | K73: =IF(A73="","",VLOOKUP(A73,BDCom1!$A$3:$G$100,7,FALSE)*B73)
D74: =IF(B74="","",B74*C74) | E74: =IF(A74="","",VLOOKUP(A74,BDCom1!$A$2:$N$100,14,FALSE)) | F74: =IF(B74="","",E74*B74) | G74: =IF(A74="","",VLOOKUP(A74,BDCom1!$A$3:$F$100,6,FALSE)*B74) | I74: =IF(A74="","",VLOOKUP(A74,BDCom1!$A$3:$H$100,8,FALSE)) | J74: =IF(A74="","",VLOOKUP(A74,VentilCom1!$A$69:$Z$106,21,FALSE)) | K74: =IF(A74="","",VLOOKUP(A74,BDCom1!$A$3:$G$100,7,FALSE)*B74) | P74: =IF(N74="","",N74*O74) | Q74: =IF(ISNA(VLOOKUP(M74,BDCom1!$A$3:$F$100,6,FALSE)*N74),"",VLOOKUP(M74,BDCom1!$A$3:$F$100,6,FALSE)*N74) | S74: =IF(ISNA(VLOOKUP(M74,BDCom1!$A$3:$H$100,8,FALSE)),"",VLOOKUP(M74,BDCom1!$A$3:$H$100,8,FALSE)) | T74: =IFERROR(IF(N74="","",P74/U74),"") | U74: =IF(ISNA(VLOOKUP(M74,BDColr!$B$3:$F$100,5,FALSE)*N74),"",VLOOKUP(M74,BDColr!$B$3:$F$100,5,FALSE)*N74)
D75: =IF(B75="","",B75*C75) | E75: =IF(A75="","",VLOOKUP(A75,BDCom1!$A$2:$N$100,14,FALSE)) | F75: =IF(B75="","",E75*B75) | G75: =IF(A75="","",VLOOKUP(A75,BDCom1!$A$3:$F$100,6,FALSE)*B75) | I75: =IF(A75="","",VLOOKUP(A75,BDCom1!$A$3:$H$100,8,FALSE)) | J75: =IF(A75="","",VLOOKUP(A75,VentilCom1!$A$69:$Z$106,21,FALSE)) | K75: =IF(A75="","",VLOOKUP(A75,BDCom1!$A$3:$G$100,7,FALSE)*B75) | P75: =IF(N75="","",N75*O75) | Q75: =IF(ISNA(VLOOKUP(M75,BDCom1!$A$3:$F$100,6,FALSE)*N75),"",VLOOKUP(M75,BDCom1!$A$3:$F$100,6,FALSE)*N75) | S75: =IF(ISNA(VLOOKUP(M75,BDCom1!$A$3:$H$100,8,FALSE)),"",VLOOKUP(M75,BDCom1!$A$3:$H$100,8,FALSE)) | T75: =IFERROR(IF(N75="","",P75/U75),"") | U75: =IF(ISNA(VLOOKUP(M75,BDColr!$B$3:$F$100,5,FALSE)*N75),"",VLOOKUP(M75,BDColr!$B$3:$F$100,5,FALSE)*N75)
D76: =IF(B76="","",B76*C76) | E76: =IF(A76="","",VLOOKUP(A76,BDCom1!$A$2:$N$100,14,FALSE)) | F76: =IF(B76="","",E76*B76) | G76: =IF(A76="","",VLOOKUP(A76,BDCom1!$A$3:$F$100,6,FALSE)*B76) | I76: =IF(A76="","",VLOOKUP(A76,BDCom1!$A$3:$H$100,8,FALSE)) | J76: =IF(A76="","",VLOOKUP(A76,VentilCom1!$A$69:$Z$106,21,FALSE)) | K76: =IF(A76="","",VLOOKUP(A76,BDCom1!$A$3:$G$100,7,FALSE)*B76) | P76: =IF(N76="","",N76*O76) | Q76: =IF(ISNA(VLOOKUP(M76,BDCom1!$A$3:$F$100,6,FALSE)*N76),"",VLOOKUP(M76,BDCom1!$A$3:$F$100,6,FALSE)*N76) | S76: =IF(ISNA(VLOOKUP(M76,BDCom1!$A$3:$H$100,8,FALSE)),"",VLOOKUP(M76,BDCom1!$A$3:$H$100,8,FALSE)) | T76: =IFERROR(IF(N76="","",P76/U76),"") | U76: =IF(ISNA(VLOOKUP(M76,BDColr!$B$3:$F$100,5,FALSE)*N76),"",VLOOKUP(M76,BDColr!$B$3:$F$100,5,FALSE)*N76)
D77: =IF(B77="","",B77*C77) | E77: =IF(A77="","",VLOOKUP(A77,BDCom1!$A$2:$N$100,14,FALSE)) | F77: =IF(B77="","",E77*B77) | G77: =IF(A77="","",VLOOKUP(A77,BDCom1!$A$3:$F$100,6,FALSE)*B77) | I77: =IF(A77="","",VLOOKUP(A77,BDCom1!$A$3:$H$100,8,FALSE)) | J77: =IF(A77="","",VLOOKUP(A77,VentilCom1!$A$69:$Z$106,21,FALSE)) | K77: =IF(A77="","",VLOOKUP(A77,BDCom1!$A$3:$G$100,7,FALSE)*B77) | P77: =IF(N77="","",N77*O77) | Q77: =IF(ISNA(VLOOKUP(M77,BDCom1!$A$3:$F$100,6,FALSE)*N77),"",VLOOKUP(M77,BDCom1!$A$3:$F$100,6,FALSE)*N77) | S77: =IF(ISNA(VLOOKUP(M77,BDCom1!$A$3:$H$100,8,FALSE)),"",VLOOKUP(M77,BDCom1!$A$3:$H$100,8,FALSE)) | T77: =IFERROR(IF(N77="","",P77/U77),"") | U77: =IF(ISNA(VLOOKUP(M77,BDColr!$B$3:$F$100,5,FALSE)*N77),"",VLOOKUP(M77,BDColr!$B$3:$F$100,5,FALSE)*N77)
D78: =IF(B78="","",B78*C78) | E78: =IF(A78="","",VLOOKUP(A78,BDCom1!$A$2:$N$100,14,FALSE)) | F78: =IF(B78="","",E78*B78) | G78: =IF(A78="","",VLOOKUP(A78,BDCom1!$A$3:$F$100,6,FALSE)*B78) | I78: =IF(A78="","",VLOOKUP(A78,BDCom1!$A$3:$H$100,8,FALSE)) | J78: =IF(A78="","",VLOOKUP(A78,VentilCom1!$A$69:$Z$106,21,FALSE)) | K78: =IF(A78="","",VLOOKUP(A78,BDCom1!$A$3:$G$100,7,FALSE)*B78) | P78: =IF(N78="","",N78*O78) | Q78: =IF(ISNA(VLOOKUP(M78,BDCom1!$A$3:$F$100,6,FALSE)*N78),"",VLOOKUP(M78,BDCom1!$A$3:$F$100,6,FALSE)*N78) | S78: =IF(ISNA(VLOOKUP(M78,BDCom1!$A$3:$H$100,8,FALSE)),"",VLOOKUP(M78,BDCom1!$A$3:$H$100,8,FALSE)) | T78: =IFERROR(IF(N78="","",P78/U78),"") | U78: =IF(ISNA(VLOOKUP(M78,BDColr!$B$3:$F$100,5,FALSE)*N78),"",VLOOKUP(M78,BDColr!$B$3:$F$100,5,FALSE)*N78)
D79: =IF(B79="","",B79*C79) | E79: =IF(A79="","",VLOOKUP(A79,BDCom1!$A$2:$N$100,14,FALSE)) | F79: =IF(B79="","",E79*B79) | G79: =IF(A79="","",VLOOKUP(A79,BDCom1!$A$3:$F$100,6,FALSE)*B79) | I79: =IF(A79="","",VLOOKUP(A79,BDCom1!$A$3:$H$100,8,FALSE)) | J79: =IF(A79="","",VLOOKUP(A79,VentilCom1!$A$69:$Z$106,21,FALSE)) | K79: =IF(A79="","",VLOOKUP(A79,BDCom1!$A$3:$G$100,7,FALSE)*B79) | P79: =IF(N79="","",N79*O79) | Q79: =IF(ISNA(VLOOKUP(M79,BDCom1!$A$3:$F$100,6,FALSE)*N79),"",VLOOKUP(M79,BDCom1!$A$3:$F$100,6,FALSE)*N79) | S79: =IF(ISNA(VLOOKUP(M79,BDCom1!$A$3:$H$100,8,FALSE)),"",VLOOKUP(M79,BDCom1!$A$3:$H$100,8,FALSE)) | T79: =IFERROR(IF(N79="","",P79/U79),"") | U79: =IF(ISNA(VLOOKUP(M79,BDColr!$B$3:$F$100,5,FALSE)*N79),"",VLOOKUP(M79,BDColr!$B$3:$F$100,5,FALSE)*N79)
D80: =IF(B80="","",B80*C80) | E80: =IF(A80="","",VLOOKUP(A80,BDCom1!$A$2:$N$100,14,FALSE)) | F80: =IF(B80="","",E80*B80) | G80: =IF(A80="","",VLOOKUP(A80,BDCom1!$A$3:$F$100,6,FALSE)*B80) | I80: =IF(A80="","",VLOOKUP(A80,BDCom1!$A$3:$H$100,8,FALSE)) | J80: =IF(A80="","",VLOOKUP(A80,VentilCom1!$A$69:$Z$106,21,FALSE)) | K80: =IF(A80="","",VLOOKUP(A80,BDCom1!$A$3:$G$100,7,FALSE)*B80) | P80: =IF(N80="","",N80*O80) | Q80: =IF(ISNA(VLOOKUP(M80,BDCom1!$A$3:$F$100,6,FALSE)*N80),"",VLOOKUP(M80,BDCom1!$A$3:$F$100,6,FALSE)*N80) | S80: =IF(ISNA(VLOOKUP(M80,BDCom1!$A$3:$H$100,8,FALSE)),"",VLOOKUP(M80,BDCom1!$A$3:$H$100,8,FALSE)) | T80: =IFERROR(IF(N80="","",P80/U80),"") | U80: =IF(ISNA(VLOOKUP(M80,BDColr!$B$3:$F$100,5,FALSE)*N80),"",VLOOKUP(M80,BDColr!$B$3:$F$100,5,FALSE)*N80)
D81: =IF(B81="","",B81*C81) | E81: =IF(A81="","",VLOOKUP(A81,BDCom1!$A$2:$N$100,14,FALSE)) | F81: =IF(B81="","",E81*B81) | G81: =IF(A81="","",VLOOKUP(A81,BDCom1!$A$3:$F$100,6,FALSE)*B81) | I81: =IF(A81="","",VLOOKUP(A81,BDCom1!$A$3:$H$100,8,FALSE)) | J81: =IF(A81="","",VLOOKUP(A81,VentilCom1!$A$69:$Z$106,21,FALSE)) | K81: =IF(A81="","",VLOOKUP(A81,BDCom1!$A$3:$G$100,7,FALSE)*B81) | P81: =IF(N81="","",N81*O81) | Q81: =IF(ISNA(VLOOKUP(M81,BDCom1!$A$3:$F$100,6,FALSE)*N81),"",VLOOKUP(M81,BDCom1!$A$3:$F$100,6,FALSE)*N81) | S81: =IF(ISNA(VLOOKUP(M81,BDCom1!$A$3:$H$100,8,FALSE)),"",VLOOKUP(M81,BDCom1!$A$3:$H$100,8,FALSE)) | T81: =IFERROR(IF(N81="","",P81/U81),"") | U81: =IF(ISNA(VLOOKUP(M81,BDColr!$B$3:$F$100,5,FALSE)*N81),"",VLOOKUP(M81,BDColr!$B$3:$F$100,5,FALSE)*N81)
D82: =IF(B82="","",B82*C82) | E82: =IF(A82="","",VLOOKUP(A82,BDCom1!$A$2:$N$100,14,FALSE)) | F82: =IF(B82="","",E82*B82) | G82: =IF(A82="","",VLOOKUP(A82,BDCom1!$A$3:$F$100,6,FALSE)*B82) | I82: =IF(A82="","",VLOOKUP(A82,BDCom1!$A$3:$H$100,8,FALSE)) | J82: =IF(A82="","",VLOOKUP(A82,VentilCom1!$A$69:$Z$106,21,FALSE)) | K82: =IF(A82="","",VLOOKUP(A82,BDCom1!$A$3:$G$100,7,FALSE)*B82) | P82: =IF(N82="","",N82*O82) | Q82: =IF(ISNA(VLOOKUP(M82,BDCom1!$A$3:$F$100,6,FALSE)*N82),"",VLOOKUP(M82,BDCom1!$A$3:$F$100,6,FALSE)*N82) | S82: =IF(ISNA(VLOOKUP(M82,BDCom1!$A$3:$H$100,8,FALSE)),"",VLOOKUP(M82,BDCom1!$A$3:$H$100,8,FALSE)) | T82: =IFERROR(IF(N82="","",P82/U82),"") | U82: =IF(ISNA(VLOOKUP(M82,BDColr!$B$3:$F$100,5,FALSE)*N82),"",VLOOKUP(M82,BDColr!$B$3:$F$100,5,FALSE)*N82)
D83: =IF(B83="","",B83*C83) | E83: =IF(A83="","",VLOOKUP(A83,BDCom1!$A$2:$N$100,14,FALSE)) | F83: =IF(B83="","",E83*B83) | G83: =IF(A83="","",VLOOKUP(A83,BDCom1!$A$3:$F$100,6,FALSE)*B83) | I83: =IF(A83="","",VLOOKUP(A83,BDCom1!$A$3:$H$100,8,FALSE)) | J83: =IF(A83="","",VLOOKUP(A83,VentilCom1!$A$69:$Z$106,21,FALSE)) | K83: =IF(A83="","",VLOOKUP(A83,BDCom1!$A$3:$G$100,7,FALSE)*B83) | P83: =IF(N83="","",N83*O83) | Q83: =IF(ISNA(VLOOKUP(M83,BDCom1!$A$3:$F$100,6,FALSE)*N83),"",VLOOKUP(M83,BDCom1!$A$3:$F$100,6,FALSE)*N83) | S83: =IF(ISNA(VLOOKUP(M83,BDCom1!$A$3:$H$100,8,FALSE)),"",VLOOKUP(M83,BDCom1!$A$3:$H$100,8,FALSE)) | T83: =IFERROR(IF(N83="","",P83/U83),"") | U83: =IF(ISNA(VLOOKUP(M83,BDColr!$B$3:$F$100,5,FALSE)*N83),"",VLOOKUP(M83,BDColr!$B$3:$F$100,5,FALSE)*N83)
D84: =IF(B84="","",B84*C84) | E84: =IF(A84="","",VLOOKUP(A84,BDCom1!$A$2:$N$100,14,FALSE)) | F84: =IF(B84="","",E84*B84) | G84: =IF(A84="","",VLOOKUP(A84,BDCom1!$A$3:$F$100,6,FALSE)*B84) | I84: =IF(A84="","",VLOOKUP(A84,BDCom1!$A$3:$H$100,8,FALSE)) | J84: =IF(A84="","",VLOOKUP(A84,VentilCom1!$A$69:$Z$106,21,FALSE)) | K84: =IF(A84="","",VLOOKUP(A84,BDCom1!$A$3:$G$100,7,FALSE)*B84) | P84: =IF(N84="","",N84*O84) | Q84: =IF(ISNA(VLOOKUP(M84,BDCom1!$A$3:$F$100,6,FALSE)*N84),"",VLOOKUP(M84,BDCom1!$A$3:$F$100,6,FALSE)*N84) | S84: =IF(ISNA(VLOOKUP(M84,BDCom1!$A$3:$H$100,8,FALSE)),"",VLOOKUP(M84,BDCom1!$A$3:$H$100,8,FALSE)) | T84: =IFERROR(IF(N84="","",P84/U84),"") | U84: =IF(ISNA(VLOOKUP(M84,BDColr!$B$3:$F$100,5,FALSE)*N84),"",VLOOKUP(M84,BDColr!$B$3:$F$100,5,FALSE)*N84)
D85: =IF(B85="","",B85*C85) | E85: =IF(A85="","",VLOOKUP(A85,BDCom1!$A$2:$N$100,14,FALSE)) | F85: =IF(B85="","",E85*B85) | G85: =IF(A85="","",VLOOKUP(A85,BDCom1!$A$3:$F$100,6,FALSE)*B85) | I85: =IF(A85="","",VLOOKUP(A85,BDCom1!$A$3:$H$100,8,FALSE)) | J85: =IF(A85="","",VLOOKUP(A85,VentilCom1!$A$69:$Z$106,21,FALSE)) | K85: =IF(A85="","",VLOOKUP(A85,BDCom1!$A$3:$G$100,7,FALSE)*B85) | P85: =IF(N85="","",N85*O85) | Q85: =IF(ISNA(VLOOKUP(M85,BDCom1!$A$3:$F$100,6,FALSE)*N85),"",VLOOKUP(M85,BDCom1!$A$3:$F$100,6,FALSE)*N85) | S85: =IF(ISNA(VLOOKUP(M85,BDCom1!$A$3:$H$100,8,FALSE)),"",VLOOKUP(M85,BDCom1!$A$3:$H$100,8,FALSE)) | T85: =IFERROR(IF(N85="","",P85/U85),"") | U85: =IF(ISNA(VLOOKUP(M85,BDColr!$B$3:$F$100,5,FALSE)*N85),"",VLOOKUP(M85,BDColr!$B$3:$F$100,5,FALSE)*N85)
... D106: =IF(B106="","",B106*C106) | E106: =IF(A106="","",VLOOKUP(A106,BDCom1!$A$2:$N$100,14,FALSE)) | F106: =IF(B106="","",E106*B106) | G106: =IF(A106="","",VLOOKUP(A106,BDCom1!$A$3:$F$100,6,FALSE)*B106) | I106: =IF(A106="","",VLOOKUP(A106,BDCom1!$A$3:$H$100,8,FALSE)) | J106: =IF(A106="","",VLOOKUP(A106,VentilCom1!$A$69:$Z$106,21,FALSE)) | K106: =IF(A106="","",VLOOKUP(A106,BDCom1!$A$3:$G$100,7,FALSE)*B106) | P106: =IF(N106="","",N106*O106) | Q106: =IF(ISNA(VLOOKUP(M106,BDCom1!$A$3:$F$100,6,FALSE)*N106),"",VLOOKUP(M106,BDCom1!$A$3:$F$100,6,FALSE)*N106) | S106: =IF(ISNA(VLOOKUP(M106,BDCom1!$A$3:$H$100,8,FALSE)),"",VLOOKUP(M106,BDCom1!$A$3:$H$100,8,FALSE)) | T106: =IFERROR(IF(N106="","",P106/U106),"") | U106: =IF(ISNA(VLOOKUP(M106,BDColr!$B$3:$F$100,5,FALSE)*N106),"",VLOOKUP(M106,BDColr!$B$3:$F$100,5,FALSE)*N106)
B107: TVA | C107: Brut | D107: Taxe | E107: Tot. HTVA | F107: TVA | G107: Vidange | K107: Prévi | N107: TVA | O107: Tot HTVA | P107: TVA | Q107: TVAC | R107: Vidange | U107: Prévi
B108: 6 | C108: =SUM(VentilCom1!D107) -> 0 | D108: =SUM(VentilCom1!J107) -> 0 | E108: =SUM(C108+D108) -> 0 | F108: =SUM(E108*0.06) -> 0 | G108: =SUM(G69:G106) -> 0 | K108: =SUM(K69:K106) -> 0 | N108: 6 | O108: =SUM(VentilColr!H103) -> 0 | P108: =SUM(VentilColr!J103) -> 0 | Q108: =SUM(O108:P108) -> 0 | R108: =SUM(Q69:Q106) -> 0 | U108: =SUM(U69:U106) -> 0
B109: 21 | C109: =SUM(VentilCom1!E107) -> 0 | D109: =SUM(VentilCom1!K107) -> 0 | E109: =SUM(C109+D109) -> 0 | F109: =SUM(E109*0.21) -> 0 | N109: 21 | O109: =SUM(VentilColr!I103) -> 0 | P109: =SUM(VentilColr!K103) -> 0 | Q109: =SUM(O109:P109) -> 0
G110: Total TTC | S110: Total TTC
C111: =SUM(C108+C109) -> 0 | D111: =SUM(D108+D109) -> 0 | E111: =SUM(E108+E109) -> 0 | F111: =SUM(F108+F109) -> 0 | G111: =SUM(E111+F111+G108) -> 0 | K111: =SUM(K65+K108) -> 4532 | Q111: =SUM(P69:P106) -> 0 | S111: =SUM(Q108+Q109+R108) -> 0 | U111: =SUM(U65+U108) -> 606
A114: Com Fournisseur 2 Ajout | B114: Quant. | C114: P.U HTVA | D114: Tot HTVA | E114: Taxe HTVA | F114: T.T. HTVA | G114: Consi | H114: Check | I114: P.U. V | J114: P.U. A | K114: Prévi | M114: Com 2 Colruyt & Autres Ajout | N114: Quant. | O114: P.U TTC | P114: Tot TTC | Q114: Consi | R114: Check | S114: P.U. V | T114: P.U. A
D115: =IF(B115="","",B115*C115) | E115: =IF(A115="","",VLOOKUP(A115,BDCom1!$A$2:$N$100,14,FALSE)) | F115: =IFERROR((E115*B115),"") | G115: =IF(A115="","",VLOOKUP(A115,BDCom1!$A$3:$F$100,6,FALSE)*B115) | I115: =IF(A115="","",VLOOKUP(A115,BDCom1!$A$3:$H$100,8,FALSE)) | J115: =IF(A115="","",VLOOKUP(A115,VentilCom1!$A$115:$Z$127,21,FALSE)) | K115: =IF(A115="","",VLOOKUP(A115,BDCom1!$A$3:$G$100,7,FALSE)*B115) | P115: =IF(N115="","",N115*O115) | Q115: =IF(ISNA(VLOOKUP(M115,BDCom1!$A$3:$F$100,6,FALSE)*N115),"",VLOOKUP(M115,BDCom1!$A$3:$F$100,6,FALSE)*N115) | S115: =IF(ISNA(VLOOKUP(M115,BDCom1!$A$3:$H$100,8,FALSE)),"",VLOOKUP(M115,BDCom1!$A$3:$H$100,8,FALSE)) | T115: =IFERROR(IF(N115="","",P115/U115),"") | U115: =IF(ISNA(VLOOKUP(M115,BDColr!$B$3:$F$100,5,FALSE)*N115),"",VLOOKUP(M115,BDColr!$B$3:$F$100,5,FALSE)*N115)
D116: =IF(B116="","",B116*C116) | E116: =IF(A116="","",VLOOKUP(A116,BDCom1!$A$2:$N$100,14,FALSE)) | F116: =IFERROR((E116*B116),"") | G116: =IF(A116="","",VLOOKUP(A116,BDCom1!$A$3:$F$100,6,FALSE)*B116) | I116: =IF(A116="","",VLOOKUP(A116,BDCom1!$A$3:$H$100,8,FALSE)) | J116: =IF(A116="","",VLOOKUP(A116,VentilCom1!$A$115:$Z$127,21,FALSE)) | K116: =IF(A116="","",VLOOKUP(A116,BDCom1!$A$3:$G$100,7,FALSE)*B116) | Q116: =IF(M116="","",VLOOKUP(M116,BDCom1!$A$2:$N$100,14,FALSE)) | R116: =IFERROR((Q116*N116),"") | S116: =IF(M116="","",VLOOKUP(M116,BDCom1!$A$3:$F$100,6,FALSE)*N116) | U116: =IF(M116="","",VLOOKUP(M116,VentilCom1!$A$47:$Z$59,21,FALSE))
D117: =IF(B117="","",B117*C117) | E117: =IF(A117="","",VLOOKUP(A117,BDCom1!$A$2:$N$100,14,FALSE)) | F117: =IFERROR((E117*B117),"") | G117: =IF(A117="","",VLOOKUP(A117,BDCom1!$A$3:$F$100,6,FALSE)*B117) | I117: =IF(A117="","",VLOOKUP(A117,BDCom1!$A$3:$H$100,8,FALSE)) | J117: =IF(A117="","",VLOOKUP(A117,VentilCom1!$A$115:$Z$127,21,FALSE)) | K117: =IF(A117="","",VLOOKUP(A117,BDCom1!$A$3:$G$100,7,FALSE)*B117) | Q117: =IF(M117="","",VLOOKUP(M117,BDCom1!$A$2:$N$100,14,FALSE)) | R117: =IFERROR((Q117*N117),"") | S117: =IF(M117="","",VLOOKUP(M117,BDCom1!$A$3:$F$100,6,FALSE)*N117) | U117: =IF(M117="","",VLOOKUP(M117,VentilCom1!$A$47:$Z$59,21,FALSE))
D118: =IF(B118="","",B118*C118) | E118: =IF(A118="","",VLOOKUP(A118,BDCom1!$A$2:$N$100,14,FALSE)) | F118: =IFERROR((E118*B118),"") | G118: =IF(A118="","",VLOOKUP(A118,BDCom1!$A$3:$F$100,6,FALSE)*B118) | I118: =IF(A118="","",VLOOKUP(A118,BDCom1!$A$3:$H$100,8,FALSE)) | J118: =IF(A118="","",VLOOKUP(A118,VentilCom1!$A$115:$Z$127,21,FALSE)) | K118: =IF(A118="","",VLOOKUP(A118,BDCom1!$A$3:$G$100,7,FALSE)*B118) | Q118: =IF(M118="","",VLOOKUP(M118,BDCom1!$A$2:$N$100,14,FALSE)) | R118: =IFERROR((Q118*N118),"") | S118: =IF(M118="","",VLOOKUP(M118,BDCom1!$A$3:$F$100,6,FALSE)*N118) | U118: =IF(M118="","",VLOOKUP(M118,VentilCom1!$A$47:$Z$59,21,FALSE))
D119: =IF(B119="","",B119*C119) | E119: =IF(A119="","",VLOOKUP(A119,BDCom1!$A$2:$N$100,14,FALSE)) | F119: =IFERROR((E119*B119),"") | G119: =IF(A119="","",VLOOKUP(A119,BDCom1!$A$3:$F$100,6,FALSE)*B119) | I119: =IF(A119="","",VLOOKUP(A119,BDCom1!$A$3:$H$100,8,FALSE)) | J119: =IF(A119="","",VLOOKUP(A119,VentilCom1!$A$115:$Z$127,21,FALSE)) | K119: =IF(A119="","",VLOOKUP(A119,BDCom1!$A$3:$G$100,7,FALSE)*B119) | Q119: =IF(M119="","",VLOOKUP(M119,BDCom1!$A$2:$N$100,14,FALSE)) | R119: =IFERROR((Q119*N119),"") | S119: =IF(M119="","",VLOOKUP(M119,BDCom1!$A$3:$F$100,6,FALSE)*N119) | U119: =IF(M119="","",VLOOKUP(M119,VentilCom1!$A$47:$Z$59,21,FALSE))
D120: =IF(B120="","",B120*C120) | E120: =IF(A120="","",VLOOKUP(A120,BDCom1!$A$2:$N$100,14,FALSE)) | F120: =IFERROR((E120*B120),"") | G120: =IF(A120="","",VLOOKUP(A120,BDCom1!$A$3:$F$100,6,FALSE)*B120) | I120: =IF(A120="","",VLOOKUP(A120,BDCom1!$A$3:$H$100,8,FALSE)) | J120: =IF(A120="","",VLOOKUP(A120,VentilCom1!$A$115:$Z$127,21,FALSE)) | K120: =IF(A120="","",VLOOKUP(A120,BDCom1!$A$3:$G$100,7,FALSE)*B120) | P120: =IF(N120="","",N120*O120) | Q120: =IF(M120="","",VLOOKUP(M120,BDCom1!$A$2:$N$100,14,FALSE)) | R120: =IFERROR((Q120*N120),"") | S120: =IF(M120="","",VLOOKUP(M120,BDCom1!$A$3:$F$100,6,FALSE)*N120) | U120: =IF(M120="","",VLOOKUP(M120,VentilCom1!$A$47:$Z$59,21,FALSE))
D121: =IF(B121="","",B121*C121) | E121: =IF(A121="","",VLOOKUP(A121,BDCom1!$A$2:$N$100,14,FALSE)) | F121: =IFERROR((E121*B121),"") | G121: =IF(A121="","",VLOOKUP(A121,BDCom1!$A$3:$F$100,6,FALSE)*B121) | I121: =IF(A121="","",VLOOKUP(A121,BDCom1!$A$3:$H$100,8,FALSE)) | J121: =IF(A121="","",VLOOKUP(A121,VentilCom1!$A$115:$Z$127,21,FALSE)) | K121: =IF(A121="","",VLOOKUP(A121,BDCom1!$A$3:$G$100,7,FALSE)*B121) | P121: =IF(N121="","",N121*O121) | Q121: =IF(M121="","",VLOOKUP(M121,BDCom1!$A$2:$N$100,14,FALSE)) | R121: =IFERROR((Q121*N121),"") | S121: =IF(M121="","",VLOOKUP(M121,BDCom1!$A$3:$F$100,6,FALSE)*N121) | U121: =IF(M121="","",VLOOKUP(M121,VentilCom1!$A$47:$Z$59,21,FALSE))
D122: =IF(B122="","",B122*C122) | E122: =IF(A122="","",VLOOKUP(A122,BDCom1!$A$2:$N$100,14,FALSE)) | F122: =IFERROR((E122*B122),"") | G122: =IF(A122="","",VLOOKUP(A122,BDCom1!$A$3:$F$100,6,FALSE)*B122) | I122: =IF(A122="","",VLOOKUP(A122,BDCom1!$A$3:$H$100,8,FALSE)) | J122: =IF(A122="","",VLOOKUP(A122,VentilCom1!$A$115:$Z$127,21,FALSE)) | K122: =IF(A122="","",VLOOKUP(A122,BDCom1!$A$3:$G$100,7,FALSE)*B122) | P122: =IF(N122="","",N122*O122) | Q122: =IF(M122="","",VLOOKUP(M122,BDCom1!$A$2:$N$100,14,FALSE)) | R122: =IFERROR((Q122*N122),"") | S122: =IF(M122="","",VLOOKUP(M122,BDCom1!$A$3:$F$100,6,FALSE)*N122) | U122: =IF(M122="","",VLOOKUP(M122,VentilCom1!$A$47:$Z$59,21,FALSE))
D123: =IF(B123="","",B123*C123) | E123: =IF(A123="","",VLOOKUP(A123,BDCom1!$A$2:$N$100,14,FALSE)) | F123: =IFERROR((E123*B123),"") | G123: =IF(A123="","",VLOOKUP(A123,BDCom1!$A$3:$F$100,6,FALSE)*B123) | I123: =IF(A123="","",VLOOKUP(A123,BDCom1!$A$3:$H$100,8,FALSE)) | J123: =IF(A123="","",VLOOKUP(A123,VentilCom1!$A$115:$Z$127,21,FALSE)) | K123: =IF(A123="","",VLOOKUP(A123,BDCom1!$A$3:$G$100,7,FALSE)*B123) | P123: =IF(N123="","",N123*O123) | Q123: =IF(M123="","",VLOOKUP(M123,BDCom1!$A$2:$N$100,14,FALSE)) | R123: =IFERROR((Q123*N123),"") | S123: =IF(M123="","",VLOOKUP(M123,BDCom1!$A$3:$F$100,6,FALSE)*N123) | U123: =IF(M123="","",VLOOKUP(M123,VentilCom1!$A$47:$Z$59,21,FALSE))
D124: =IF(B124="","",B124*C124) | E124: =IF(A124="","",VLOOKUP(A124,BDCom1!$A$2:$N$100,14,FALSE)) | F124: =IFERROR((E124*B124),"") | G124: =IF(A124="","",VLOOKUP(A124,BDCom1!$A$3:$F$100,6,FALSE)*B124) | I124: =IF(A124="","",VLOOKUP(A124,BDCom1!$A$3:$H$100,8,FALSE)) | J124: =IF(A124="","",VLOOKUP(A124,VentilCom1!$A$115:$Z$127,21,FALSE)) | K124: =IF(A124="","",VLOOKUP(A124,BDCom1!$A$3:$G$100,7,FALSE)*B124) | P124: =IF(N124="","",N124*O124) | Q124: =IF(M124="","",VLOOKUP(M124,BDCom1!$A$2:$N$100,14,FALSE)) | R124: =IFERROR((Q124*N124),"") | S124: =IF(M124="","",VLOOKUP(M124,BDCom1!$A$3:$F$100,6,FALSE)*N124) | U124: =IF(M124="","",VLOOKUP(M124,VentilCom1!$A$47:$Z$59,21,FALSE))
D125: =IF(B125="","",B125*C125) | E125: =IF(A125="","",VLOOKUP(A125,BDCom1!$A$2:$N$100,14,FALSE)) | F125: =IFERROR((E125*B125),"") | G125: =IF(A125="","",VLOOKUP(A125,BDCom1!$A$3:$F$100,6,FALSE)*B125) | I125: =IF(A125="","",VLOOKUP(A125,BDCom1!$A$3:$H$100,8,FALSE)) | J125: =IF(A125="","",VLOOKUP(A125,VentilCom1!$A$115:$Z$127,21,FALSE)) | K125: =IF(A125="","",VLOOKUP(A125,BDCom1!$A$3:$G$100,7,FALSE)*B125) | P125: =IF(N125="","",N125*O125) | Q125: =IF(M125="","",VLOOKUP(M125,BDCom1!$A$2:$N$100,14,FALSE)) | R125: =IFERROR((Q125*N125),"") | S125: =IF(M125="","",VLOOKUP(M125,BDCom1!$A$3:$F$100,6,FALSE)*N125) | U125: =IF(M125="","",VLOOKUP(M125,VentilCom1!$A$47:$Z$59,21,FALSE))
D126: =IF(B126="","",B126*C126) | E126: =IF(A126="","",VLOOKUP(A126,BDCom1!$A$2:$N$100,14,FALSE)) | F126: =IFERROR((E126*B126),"") | G126: =IF(A126="","",VLOOKUP(A126,BDCom1!$A$3:$F$100,6,FALSE)*B126) | I126: =IF(A126="","",VLOOKUP(A126,BDCom1!$A$3:$H$100,8,FALSE)) | J126: =IF(A126="","",VLOOKUP(A126,VentilCom1!$A$115:$Z$127,21,FALSE)) | K126: =IF(A126="","",VLOOKUP(A126,BDCom1!$A$3:$G$100,7,FALSE)*B126) | P126: =IF(N126="","",N126*O126) | Q126: =IF(M126="","",VLOOKUP(M126,BDCom1!$A$2:$N$100,14,FALSE)) | R126: =IFERROR((Q126*N126),"") | S126: =IF(M126="","",VLOOKUP(M126,BDCom1!$A$3:$F$100,6,FALSE)*N126) | U126: =IF(M126="","",VLOOKUP(M126,VentilCom1!$A$47:$Z$59,21,FALSE))
...

Sheet Retour
A1: ='Com1&Colr'!A1 -> Com Fournisseur 1 | B1: Retour | C1: ='Com1&Colr'!B1 -> Quant. | D1: Stock | E1: ='Com1&Colr'!C1 -> P.U HTVA | F1: ='Com1&Colr'!D1 -> Tot HTVA | G1: ='Com1&Colr'!E1 -> Taxe HTVA | H1: ='Com1&Colr'!F1 -> T.T. HTVA | I1: ='Com1&Colr'!G1 -> Consi | J1: ='Com1&Colr'!H1 -> Check | K1: ='Com1&Colr'!I1 -> P.U. V | L1: ='Com1&Colr'!J1 -> P.U. A | M1: Vendu | N1: A Facturer
C2: =SUMPRODUCT(('Com1&Colr'!$A$2:$A$39=Retour!$A2)*('Com1&Colr'!$B$2:$B$39))+SUMPRODUCT((('Com1&Colr'!$A$48:$A$60=Retour!A2)*('Com1&Colr'!$B$48:$B$60))) -> 0 | E2: =IFERROR(VLOOKUP(A2,'Com1&Colr'!$A$2:$C$39,3,FALSE),"") | F2: =IFERROR((C2-B2)*E2,"") | G2: =IFERROR(VLOOKUP(A2,BDCom1!$A$2:$N$100,14,FALSE),"") | H2: =IFERROR((C2-B2)*(G2),"") | I2: =IFERROR(VLOOKUP(A2,BDCom1!$A$3:$F$100,6,FALSE)*(C2-B2),"") | K2: =IF(A2="","",VLOOKUP(A2,BDCom1!$A$3:$H$100,8,FALSE)) | L2: =IFERROR(VLOOKUP(A2,VentilCom1!$A$2:$Z$39,21,FALSE),"") | M2: =IFERROR(VLOOKUP(A2,BDCom1!$A$3:$G$100,7,FALSE)*(C2-B2)-(D2),"") | N2: =A2 -> 0 | O2: =SUM(C2-B2) -> 0
C3: =SUMPRODUCT(('Com1&Colr'!$A$2:$A$39=Retour!$A3)*('Com1&Colr'!$B$2:$B$39))+SUMPRODUCT((('Com1&Colr'!$A$48:$A$60=Retour!A3)*('Com1&Colr'!$B$48:$B$60))) -> 0 | E3: =IFERROR(VLOOKUP(A3,'Com1&Colr'!$A$2:$C$39,3,FALSE),"") | F3: =IFERROR((C3-B3)*E3,"") | G3: =IFERROR(VLOOKUP(A3,BDCom1!$A$2:$N$100,14,FALSE),"") | H3: =IFERROR((C3-B3)*(G3),"") | I3: =IFERROR(VLOOKUP(A3,BDCom1!$A$3:$F$100,6,FALSE)*(C3-B3),"") | K3: =IF(A3="","",VLOOKUP(A3,BDCom1!$A$3:$H$100,8,FALSE)) | L3: =IFERROR(VLOOKUP(A3,VentilCom1!$A$2:$Z$39,21,FALSE),"") | M3: =IFERROR(VLOOKUP(A3,BDCom1!$A$3:$G$100,7,FALSE)*(C3-B3)-(D3),"") | N3: =A3 -> 0 | O3: =SUM(C3-B3) -> 0
C4: =SUMPRODUCT(('Com1&Colr'!$A$2:$A$39=Retour!$A4)*('Com1&Colr'!$B$2:$B$39))+SUMPRODUCT((('Com1&Colr'!$A$48:$A$60=Retour!A4)*('Com1&Colr'!$B$48:$B$60))) -> 0 | E4: =IFERROR(VLOOKUP(A4,'Com1&Colr'!$A$2:$C$39,3,FALSE),"") | F4: =IFERROR((C4-B4)*E4,"") | G4: =IFERROR(VLOOKUP(A4,BDCom1!$A$2:$N$100,14,FALSE),"") | H4: =IFERROR((C4-B4)*(G4),"") | I4: =IFERROR(VLOOKUP(A4,BDCom1!$A$3:$F$100,6,FALSE)*(C4-B4),"") | K4: =IF(A4="","",VLOOKUP(A4,BDCom1!$A$3:$H$100,8,FALSE)) | L4: =IFERROR(VLOOKUP(A4,VentilCom1!$A$2:$Z$39,21,FALSE),"") | M4: =IFERROR(VLOOKUP(A4,BDCom1!$A$3:$G$100,7,FALSE)*(C4-B4)-(D4),"") | N4: =A4 -> 0 | O4: =SUM(C4-B4) -> 0
C5: =SUMPRODUCT(('Com1&Colr'!$A$2:$A$39=Retour!$A5)*('Com1&Colr'!$B$2:$B$39))+SUMPRODUCT((('Com1&Colr'!$A$48:$A$60=Retour!A5)*('Com1&Colr'!$B$48:$B$60))) -> 0 | E5: =IFERROR(VLOOKUP(A5,'Com1&Colr'!$A$2:$C$39,3,FALSE),"") | F5: =IFERROR((C5-B5)*E5,"") | G5: =IFERROR(VLOOKUP(A5,BDCom1!$A$2:$N$100,14,FALSE),"") | H5: =IFERROR((C5-B5)*(G5),"") | I5: =IFERROR(VLOOKUP(A5,BDCom1!$A$3:$F$100,6,FALSE)*(C5-B5),"") | K5: =IF(A5="","",VLOOKUP(A5,BDCom1!$A$3:$H$100,8,FALSE)) | L5: =IFERROR(VLOOKUP(A5,VentilCom1!$A$2:$Z$39,21,FALSE),"") | M5: =IFERROR(VLOOKUP(A5,BDCom1!$A$3:$G$100,7,FALSE)*(C5-B5)-(D5),"") | N5: =A5 -> 0 | O5: =SUM(C5-B5) -> 0
C6: =SUMPRODUCT(('Com1&Colr'!$A$2:$A$39=Retour!$A6)*('Com1&Colr'!$B$2:$B$39))+SUMPRODUCT((('Com1&Colr'!$A$48:$A$60=Retour!A6)*('Com1&Colr'!$B$48:$B$60))) -> 0 | E6: =IFERROR(VLOOKUP(A6,'Com1&Colr'!$A$2:$C$39,3,FALSE),"") | F6: =IFERROR((C6-B6)*E6,"") | G6: =IFERROR(VLOOKUP(A6,BDCom1!$A$2:$N$100,14,FALSE),"") | H6: =IFERROR((C6-B6)*(G6),"") | I6: =IFERROR(VLOOKUP(A6,BDCom1!$A$3:$F$100,6,FALSE)*(C6-B6),"") | K6: =IF(A6="","",VLOOKUP(A6,BDCom1!$A$3:$H$100,8,FALSE)) | L6: =IFERROR(VLOOKUP(A6,VentilCom1!$A$2:$Z$39,21,FALSE),"") | M6: =IFERROR(VLOOKUP(A6,BDCom1!$A$3:$G$100,7,FALSE)*(C6-B6)-(D6),"") | N6: =A6 -> 0 | O6: =SUM(C6-B6) -> 0
C7: =SUMPRODUCT(('Com1&Colr'!$A$2:$A$39=Retour!$A7)*('Com1&Colr'!$B$2:$B$39))+SUMPRODUCT((('Com1&Colr'!$A$48:$A$60=Retour!A7)*('Com1&Colr'!$B$48:$B$60))) -> 0 | E7: =IFERROR(VLOOKUP(A7,'Com1&Colr'!$A$2:$C$39,3,FALSE),"") | F7: =IFERROR((C7-B7)*E7,"") | G7: =IFERROR(VLOOKUP(A7,BDCom1!$A$2:$N$100,14,FALSE),"") | H7: =IFERROR((C7-B7)*(G7),"") | I7: =IFERROR(VLOOKUP(A7,BDCom1!$A$3:$F$100,6,FALSE)*(C7-B7),"") | K7: =IF(A7="","",VLOOKUP(A7,BDCom1!$A$3:$H$100,8,FALSE)) | L7: =IFERROR(VLOOKUP(A7,VentilCom1!$A$2:$Z$39,21,FALSE),"") | M7: =IFERROR(VLOOKUP(A7,BDCom1!$A$3:$G$100,7,FALSE)*(C7-B7)-(D7),"") | N7: =A7 -> 0 | O7: =SUM(C7-B7) -> 0
C8: =SUMPRODUCT(('Com1&Colr'!$A$2:$A$39=Retour!$A8)*('Com1&Colr'!$B$2:$B$39))+SUMPRODUCT((('Com1&Colr'!$A$48:$A$60=Retour!A8)*('Com1&Colr'!$B$48:$B$60))) -> 0 | E8: =IFERROR(VLOOKUP(A8,'Com1&Colr'!$A$2:$C$39,3,FALSE),"") | F8: =IFERROR((C8-B8)*E8,"") | G8: =IFERROR(VLOOKUP(A8,BDCom1!$A$2:$N$100,14,FALSE),"") | H8: =IFERROR((C8-B8)*(G8),"") | I8: =IFERROR(VLOOKUP(A8,BDCom1!$A$3:$F$100,6,FALSE)*(C8-B8),"") | K8: =IF(A8="","",VLOOKUP(A8,BDCom1!$A$3:$H$100,8,FALSE)) | L8: =IFERROR(VLOOKUP(A8,VentilCom1!$A$2:$Z$39,21,FALSE),"") | M8: =IFERROR(VLOOKUP(A8,BDCom1!$A$3:$G$100,7,FALSE)*(C8-B8)-(D8),"") | N8: =A8 -> 0 | O8: =SUM(C8-B8) -> 0
C9: =SUMPRODUCT(('Com1&Colr'!$A$2:$A$39=Retour!$A9)*('Com1&Colr'!$B$2:$B$39))+SUMPRODUCT((('Com1&Colr'!$A$48:$A$60=Retour!A9)*('Com1&Colr'!$B$48:$B$60))) -> 0 | E9: =IFERROR(VLOOKUP(A9,'Com1&Colr'!$A$2:$C$39,3,FALSE),"") | F9: =IFERROR((C9-B9)*E9,"") | G9: =IFERROR(VLOOKUP(A9,BDCom1!$A$2:$N$100,14,FALSE),"") | H9: =IFERROR((C9-B9)*(G9),"") | I9: =IFERROR(VLOOKUP(A9,BDCom1!$A$3:$F$100,6,FALSE)*(C9-B9),"") | K9: =IF(A9="","",VLOOKUP(A9,BDCom1!$A$3:$H$100,8,FALSE)) | L9: =IFERROR(VLOOKUP(A9,VentilCom1!$A$2:$Z$39,21,FALSE),"") | M9: =IFERROR(VLOOKUP(A9,BDCom1!$A$3:$G$100,7,FALSE)*(C9-B9)-(D9),"") | N9: =A9 -> 0 | O9: =SUM(C9-B9) -> 0
C10: =SUMPRODUCT(('Com1&Colr'!$A$2:$A$39=Retour!$A10)*('Com1&Colr'!$B$2:$B$39))+SUMPRODUCT((('Com1&Colr'!$A$48:$A$60=Retour!A10)*('Com1&Colr'!$B$48:$B$60))) -> 0 | E10: =IFERROR(VLOOKUP(A10,'Com1&Colr'!$A$2:$C$39,3,FALSE),"") | F10: =IFERROR((C10-B10)*E10,"") | G10: =IFERROR(VLOOKUP(A10,BDCom1!$A$2:$N$100,14,FALSE),"") | H10: =IFERROR((C10-B10)*(G10),"") | I10: =IFERROR(VLOOKUP(A10,BDCom1!$A$3:$F$100,6,FALSE)*(C10-B10),"") | K10: =IF(A10="","",VLOOKUP(A10,BDCom1!$A$3:$H$100,8,FALSE)) | L10: =IFERROR(VLOOKUP(A10,VentilCom1!$A$2:$Z$39,21,FALSE),"") | M10: =IFERROR(VLOOKUP(A10,BDCom1!$A$3:$G$100,7,FALSE)*(C10-B10)-(D10),"") | N10: =A10 -> 0 | O10: =SUM(C10-B10) -> 0
C11: =SUMPRODUCT(('Com1&Colr'!$A$2:$A$39=Retour!$A11)*('Com1&Colr'!$B$2:$B$39))+SUMPRODUCT((('Com1&Colr'!$A$48:$A$60=Retour!A11)*('Com1&Colr'!$B$48:$B$60))) -> 0 | E11: =IFERROR(VLOOKUP(A11,'Com1&Colr'!$A$2:$C$39,3,FALSE),"") | F11: =IFERROR((C11-B11)*E11,"") | G11: =IFERROR(VLOOKUP(A11,BDCom1!$A$2:$N$100,14,FALSE),"") | H11: =IFERROR((C11-B11)*(G11),"") | I11: =IFERROR(VLOOKUP(A11,BDCom1!$A$3:$F$100,6,FALSE)*(C11-B11),"") | K11: =IF(A11="","",VLOOKUP(A11,BDCom1!$A$3:$H$100,8,FALSE)) | L11: =IFERROR(VLOOKUP(A11,VentilCom1!$A$2:$Z$39,21,FALSE),"") | M11: =IFERROR(VLOOKUP(A11,BDCom1!$A$3:$G$100,7,FALSE)*(C11-B11),"") | N11: =A11 -> 0 | O11: =SUM(C11-B11) -> 0
C12: =SUMPRODUCT(('Com1&Colr'!$A$2:$A$39=Retour!$A12)*('Com1&Colr'!$B$2:$B$39))+SUMPRODUCT((('Com1&Colr'!$A$48:$A$60=Retour!A12)*('Com1&Colr'!$B$48:$B$60))) -> 0 | E12: =IFERROR(VLOOKUP(A12,'Com1&Colr'!$A$2:$C$39,3,FALSE),"") | F12: =IFERROR((C12-B12)*E12,"") | G12: =IFERROR(VLOOKUP(A12,BDCom1!$A$2:$N$100,14,FALSE),"") | H12: =IFERROR((C12-B12)*(G12),"") | I12: =IFERROR(VLOOKUP(A12,BDCom1!$A$3:$F$100,6,FALSE)*(C12-B12),"") | K12: =IF(A12="","",VLOOKUP(A12,BDCom1!$A$3:$H$100,8,FALSE)) | L12: =IFERROR(VLOOKUP(A12,VentilCom1!$A$2:$Z$39,21,FALSE),"") | M12: =IFERROR(VLOOKUP(A12,BDCom1!$A$3:$G$100,7,FALSE)*(C12-B12),"") | N12: =A12 -> 0 | O12: =SUM(C12-B12) -> 0
C13: =SUMPRODUCT(('Com1&Colr'!$A$2:$A$39=Retour!$A13)*('Com1&Colr'!$B$2:$B$39))+SUMPRODUCT((('Com1&Colr'!$A$48:$A$60=Retour!A13)*('Com1&Colr'!$B$48:$B$60))) -> 0 | E13: =IFERROR(VLOOKUP(A13,'Com1&Colr'!$A$2:$C$39,3,FALSE),"") | F13: =IFERROR((C13-B13)*E13,"") | G13: =IFERROR(VLOOKUP(A13,BDCom1!$A$2:$N$100,14,FALSE),"") | H13: =IFERROR((C13-B13)*(G13),"") | I13: =IFERROR(VLOOKUP(A13,BDCom1!$A$3:$F$100,6,FALSE)*(C13-B13),"") | K13: =IF(A13="","",VLOOKUP(A13,BDCom1!$A$3:$H$100,8,FALSE)) | L13: =IFERROR(VLOOKUP(A13,VentilCom1!$A$2:$Z$39,21,FALSE),"") | M13: =IFERROR(VLOOKUP(A13,BDCom1!$A$3:$G$100,7,FALSE)*(C13-B13),"") | N13: =A13 -> 0 | O13: =SUM(C13-B13) -> 0
C14: =SUMPRODUCT(('Com1&Colr'!$A$2:$A$39=Retour!$A14)*('Com1&Colr'!$B$2:$B$39))+SUMPRODUCT((('Com1&Colr'!$A$48:$A$60=Retour!A14)*('Com1&Colr'!$B$48:$B$60))) -> 0 | E14: =IFERROR(VLOOKUP(A14,'Com1&Colr'!$A$2:$C$39,3,FALSE),"") | F14: =IFERROR((C14-B14)*E14,"") | G14: =IFERROR(VLOOKUP(A14,BDCom1!$A$2:$N$100,14,FALSE),"") | H14: =IFERROR((C14-B14)*(G14),"") | I14: =IFERROR(VLOOKUP(A14,BDCom1!$A$3:$F$100,6,FALSE)*(C14-B14),"") | K14: =IF(A14="","",VLOOKUP(A14,BDCom1!$A$3:$H$100,8,FALSE)) | L14: =IFERROR(VLOOKUP(A14,VentilCom1!$A$2:$Z$39,21,FALSE),"") | M14: =IFERROR(VLOOKUP(A14,BDCom1!$A$3:$G$100,7,FALSE)*(C14-B14),"") | N14: =A14 -> 0 | O14: =SUM(C14-B14) -> 0
C15: =SUMPRODUCT(('Com1&Colr'!$A$2:$A$39=Retour!$A15)*('Com1&Colr'!$B$2:$B$39))+SUMPRODUCT((('Com1&Colr'!$A$48:$A$60=Retour!A15)*('Com1&Colr'!$B$48:$B$60))) -> 0 | E15: =IFERROR(VLOOKUP(A15,'Com1&Colr'!$A$2:$C$39,3,FALSE),"") | F15: =IFERROR((C15-B15)*E15,"") | G15: =IFERROR(VLOOKUP(A15,BDCom1!$A$2:$N$100,14,FALSE),"") | H15: =IFERROR((C15-B15)*(G15),"") | I15: =IFERROR(VLOOKUP(A15,BDCom1!$A$3:$F$100,6,FALSE)*(C15-B15),"") | K15: =IF(A15="","",VLOOKUP(A15,BDCom1!$A$3:$H$100,8,FALSE)) | L15: =IFERROR(VLOOKUP(A15,VentilCom1!$A$2:$Z$39,21,FALSE),"") | M15: =IFERROR(VLOOKUP(A15,BDCom1!$A$3:$G$100,7,FALSE)*(C15-B15),"") | N15: =A15 -> 0 | O15: =SUM(C15-B15) -> 0
C16: =SUMPRODUCT(('Com1&Colr'!$A$2:$A$39=Retour!$A16)*('Com1&Colr'!$B$2:$B$39))+SUMPRODUCT((('Com1&Colr'!$A$48:$A$60=Retour!A16)*('Com1&Colr'!$B$48:$B$60))) -> 0 | E16: =IFERROR(VLOOKUP(A16,'Com1&Colr'!$A$2:$C$39,3,FALSE),"") | F16: =IFERROR((C16-B16)*E16,"") | G16: =IFERROR(VLOOKUP(A16,BDCom1!$A$2:$N$100,14,FALSE),"") | H16: =IFERROR((C16-B16)*(G16),"") | I16: =IFERROR(VLOOKUP(A16,BDCom1!$A$3:$F$100,6,FALSE)*(C16-B16),"") | K16: =IF(A16="","",VLOOKUP(A16,BDCom1!$A$3:$H$100,8,FALSE)) | L16: =IFERROR(VLOOKUP(A16,VentilCom1!$A$2:$Z$39,21,FALSE),"") | M16: =IFERROR(VLOOKUP(A16,BDCom1!$A$3:$G$100,7,FALSE)*(C16-B16),"") | N16: =A16 -> 0 | O16: =SUM(C16-B16) -> 0
C17: =SUMPRODUCT(('Com1&Colr'!$A$2:$A$39=Retour!$A17)*('Com1&Colr'!$B$2:$B$39))+SUMPRODUCT((('Com1&Colr'!$A$48:$A$60=Retour!A17)*('Com1&Colr'!$B$48:$B$60))) -> 0 | E17: =IFERROR(VLOOKUP(A17,'Com1&Colr'!$A$2:$C$39,3,FALSE),"") | F17: =IFERROR((C17-B17)*E17,"") | G17: =IFERROR(VLOOKUP(A17,BDCom1!$A$2:$N$100,14,FALSE),"") | H17: =IFERROR((C17-B17)*(G17),"") | I17: =IFERROR(VLOOKUP(A17,BDCom1!$A$3:$F$100,6,FALSE)*(C17-B17),"") | K17: =IF(A17="","",VLOOKUP(A17,BDCom1!$A$3:$H$100,8,FALSE)) | L17: =IFERROR(VLOOKUP(A17,VentilCom1!$A$2:$Z$39,21,FALSE),"") | M17: =IFERROR(VLOOKUP(A17,BDCom1!$A$3:$G$100,7,FALSE)*(C17-B17),"") | N17: =A17 -> 0 | O17: =SUM(C17-B17) -> 0
C18: =SUMPRODUCT(('Com1&Colr'!$A$2:$A$39=Retour!$A18)*('Com1&Colr'!$B$2:$B$39))+SUMPRODUCT((('Com1&Colr'!$A$48:$A$60=Retour!A18)*('Com1&Colr'!$B$48:$B$60))) -> 0 | E18: =IFERROR(VLOOKUP(A18,'Com1&Colr'!$A$2:$C$39,3,FALSE),"") | F18: =IFERROR((C18-B18)*E18,"") | G18: =IFERROR(VLOOKUP(A18,BDCom1!$A$2:$N$100,14,FALSE),"") | H18: =IFERROR((C18-B18)*(G18),"") | I18: =IFERROR(VLOOKUP(A18,BDCom1!$A$3:$F$100,6,FALSE)*(C18-B18),"") | K18: =IF(A18="","",VLOOKUP(A18,BDCom1!$A$3:$H$100,8,FALSE)) | L18: =IFERROR(VLOOKUP(A18,VentilCom1!$A$2:$Z$39,21,FALSE),"") | M18: =IFERROR(VLOOKUP(A18,BDCom1!$A$3:$G$100,7,FALSE)*(C18-B18),"") | N18: =A18 -> 0 | O18: =SUM(C18-B18) -> 0
C19: =SUMPRODUCT(('Com1&Colr'!$A$2:$A$39=Retour!$A19)*('Com1&Colr'!$B$2:$B$39))+SUMPRODUCT((('Com1&Colr'!$A$48:$A$60=Retour!A19)*('Com1&Colr'!$B$48:$B$60))) -> 0 | E19: =IFERROR(VLOOKUP(A19,'Com1&Colr'!$A$2:$C$39,3,FALSE),"") | F19: =IFERROR((C19-B19)*E19,"") | G19: =IFERROR(VLOOKUP(A19,BDCom1!$A$2:$N$100,14,FALSE),"") | H19: =IFERROR((C19-B19)*(G19),"") | I19: =IFERROR(VLOOKUP(A19,BDCom1!$A$3:$F$100,6,FALSE)*(C19-B19),"") | K19: =IF(A19="","",VLOOKUP(A19,BDCom1!$A$3:$H$100,8,FALSE)) | L19: =IFERROR(VLOOKUP(A19,VentilCom1!$A$2:$Z$39,21,FALSE),"") | M19: =IFERROR(VLOOKUP(A19,BDCom1!$A$3:$G$100,7,FALSE)*(C19-B19),"") | N19: =A19 -> 0 | O19: =SUM(C19-B19) -> 0
C20: =SUMPRODUCT(('Com1&Colr'!$A$2:$A$39=Retour!$A20)*('Com1&Colr'!$B$2:$B$39))+SUMPRODUCT((('Com1&Colr'!$A$48:$A$60=Retour!A20)*('Com1&Colr'!$B$48:$B$60))) -> 0 | E20: =IFERROR(VLOOKUP(A20,'Com1&Colr'!$A$2:$C$39,3,FALSE),"") | F20: =IFERROR((C20-B20)*E20,"") | G20: =IFERROR(VLOOKUP(A20,BDCom1!$A$2:$N$100,14,FALSE),"") | H20: =IFERROR((C20-B20)*(G20),"") | I20: =IFERROR(VLOOKUP(A20,BDCom1!$A$3:$F$100,6,FALSE)*(C20-B20),"") | K20: =IF(A20="","",VLOOKUP(A20,BDCom1!$A$3:$H$100,8,FALSE)) | L20: =IFERROR(VLOOKUP(A20,VentilCom1!$A$2:$Z$39,21,FALSE),"") | M20: =IFERROR(VLOOKUP(A20,BDCom1!$A$3:$G$100,7,FALSE)*(C20-B20),"") | N20: =A20 -> 0 | O20: =SUM(C20-B20) -> 0
C21: =SUMPRODUCT(('Com1&Colr'!$A$2:$A$39=Retour!$A21)*('Com1&Colr'!$B$2:$B$39))+SUMPRODUCT((('Com1&Colr'!$A$48:$A$60=Retour!A21)*('Com1&Colr'!$B$48:$B$60))) -> 0 | E21: =IFERROR(VLOOKUP(A21,'Com1&Colr'!$A$2:$C$39,3,FALSE),"") | F21: =IFERROR((C21-B21)*E21,"") | G21: =IFERROR(VLOOKUP(A21,BDCom1!$A$2:$N$100,14,FALSE),"") | H21: =IFERROR((C21-B21)*(G21),"") | I21: =IFERROR(VLOOKUP(A21,BDCom1!$A$3:$F$100,6,FALSE)*(C21-B21),"") | K21: =IF(A21="","",VLOOKUP(A21,BDCom1!$A$3:$H$100,8,FALSE)) | L21: =IFERROR(VLOOKUP(A21,VentilCom1!$A$2:$Z$39,21,FALSE),"") | M21: =IFERROR(VLOOKUP(A21,BDCom1!$A$3:$G$100,7,FALSE)*(C21-B21),"") | N21: =A21 -> 0 | O21: =SUM(C21-B21) -> 0
C22: =SUMPRODUCT(('Com1&Colr'!$A$2:$A$39=Retour!$A22)*('Com1&Colr'!$B$2:$B$39))+SUMPRODUCT((('Com1&Colr'!$A$48:$A$60=Retour!A22)*('Com1&Colr'!$B$48:$B$60))) -> 0 | E22: =IFERROR(VLOOKUP(A22,'Com1&Colr'!$A$2:$C$39,3,FALSE),"") | F22: =IFERROR((C22-B22)*E22,"") | G22: =IFERROR(VLOOKUP(A22,BDCom1!$A$2:$N$100,14,FALSE),"") | H22: =IFERROR((C22-B22)*(G22),"") | I22: =IFERROR(VLOOKUP(A22,BDCom1!$A$3:$F$100,6,FALSE)*(C22-B22),"") | K22: =IF(A22="","",VLOOKUP(A22,BDCom1!$A$3:$H$100,8,FALSE)) | L22: =IFERROR(VLOOKUP(A22,VentilCom1!$A$2:$Z$39,21,FALSE),"") | M22: =IFERROR(VLOOKUP(A22,BDCom1!$A$3:$G$100,7,FALSE)*(C22-B22),"") | N22: =A22 -> 0 | O22: =SUM(C22-B22) -> 0

Sheet VentilCom1
A1: =_xlfn.CONCAT('Com1&Colr'!A1) -> Com Fournisseur 1 | B1: Quant. | C1: P.U H.T | D1: Tot. H.T 6% | E1: Tot H.T 21% | F1: TVA 6% | G1: TVA 21% | H1: Tot.TVAC 6 | I1: Tot. TVAC 21 | J1: H.Taxe 6% | K1: H.Taxe 21% | L1: Taxe 6% | M1: Taxe 21% | N1: Ttc Taxe 6% | O1: Ttc Taxe 21% | P1: TOT TTC 6 % | Q1: TOT TTC 21% | R1: Consigne | S1: Tot + Cons | T1: Prévision | U1: P.U TTC | V1: P.U.V. | W1: BNet | X1: TVA | Y1: P.U TTC
A2: =_xlfn.CONCAT('Com1&Colr'!A2) -> Gaz Carbonique (1) | B2: ='Com1&Colr'!B2 -> 2 | C2: ='Com1&Colr'!C2 -> 47.87 | D2: =IF(X2=0.06,C2*B2,0) -> 0 | E2: =IF(X2=0.21,C2*B2,0) -> 95.74 | F2: =IF(X2=0.06,D2*X2,0) -> 0 | G2: =IF(X2=0.21,E2*X2,0) -> 20.1054 | H2: =SUM(D2+F2) -> 0 | I2: =SUM(E2+G2) -> 115.8454 | J2: =IF(A2="",0,VLOOKUP(A2,BDCom1!$A$3:$E$100,4,FALSE)*B2) -> 0 | K2: =IF(A2="",0,VLOOKUP(A2,BDCom1!$A$3:$E$100,5,FALSE)*B2) -> 0 | L2: =SUM(J2*X2) -> 0 | M2: =SUM(K2*X2) -> 0 | N2: =SUM(J2+L2) -> 0 | O2: =SUM(K2+M2) -> 0 | P2: =IFERROR(H2+N2,0) -> 0 | Q2: =IFERROR(I2+O2,0) -> 115.8454 | R2: ='Com1&Colr'!G2 -> 160 | S2: =IFERROR((P2+Q2+R2),0) -> 275.8454 | T2: ='Com1&Colr'!K2 -> 0 | U2: =IFERROR((P2+Q2)/(T2),0) -> 0 | V2: ='Com1&Colr'!C48 -> 89.18 | X2: =IFERROR(ROUNDDOWN(VLOOKUP('Com1&Colr'!A2,BDCom1!$A$3:$C$100,3,FALSE),2),0) -> 0.21 | Y2: =IFERROR((P2+Q2/B2),0) -> 57.9227
A3: =_xlfn.CONCAT('Com1&Colr'!A3) -> Fut Jupiler (1X50 L) | B3: ='Com1&Colr'!B3 -> 3 | C3: ='Com1&Colr'!C3 -> 142.58 | D3: =IF(X3=0.06,C3*B3,0) -> 0 | E3: =IF(X3=0.21,C3*B3,0) -> 427.74 | F3: =IF(X3=0.06,D3*X3,0) -> 0 | G3: =IF(X3=0.21,E3*X3,0) -> 89.8254 | H3: =SUM(D3+F3) -> 0 | I3: =SUM(E3+G3) -> 517.5654 | J3: =IF(A3="",0,VLOOKUP(A3,BDCom1!$A$3:$E$100,4,FALSE)*B3) -> 0 | K3: =IF(A3="",0,VLOOKUP(A3,BDCom1!$A$3:$E$100,5,FALSE)*B3) -> 36.09 | L3: =SUM(J3*X3) -> 0 | M3: =SUM(K3*X3) -> 7.5789 | N3: =SUM(J3+L3) -> 0 | O3: =SUM(K3+M3) -> 43.6689 | P3: =IFERROR(H3+N3,0) -> 0 | Q3: =IFERROR(I3+O3,0) -> 561.2343 | R3: ='Com1&Colr'!G3 -> 90 | S3: =IFERROR((P3+Q3+R3),0) -> 651.2343 | T3: ='Com1&Colr'!K3 -> 570 | U3: =IFERROR((P3+Q3)/(T3),0) -> 0.98462158 | V3: ='Com1&Colr'!C49 -> 13.93 | X3: =IFERROR(ROUNDDOWN(VLOOKUP('Com1&Colr'!A3,BDCom1!$A$3:$C$100,3,FALSE),2),0) -> 0.21 | Y3: =IFERROR((P3+Q3/B3),0) -> 187.0781
A4: =_xlfn.CONCAT('Com1&Colr'!A4) -> Fut Jupiler (1X30 L) | B4: ='Com1&Colr'!B4 -> 1 | C4: ='Com1&Colr'!C4 -> 89.18 | D4: =IF(X4=0.06,C4*B4,0) -> 0 | E4: =IF(X4=0.21,C4*B4,0) -> 89.18 | F4: =IF(X4=0.06,D4*X4,0) -> 0 | G4: =IF(X4=0.21,E4*X4,0) -> 18.7278 | H4: =SUM(D4+F4) -> 0 | I4: =SUM(E4+G4) -> 107.9078 | J4: =IF(A4="",0,VLOOKUP(A4,BDCom1!$A$3:$E$100,4,FALSE)*B4) -> 0 | K4: =IF(A4="",0,VLOOKUP(A4,BDCom1!$A$3:$E$100,5,FALSE)*B4) -> 7.22 | L4: =SUM(J4*X4) -> 0 | M4: =SUM(K4*X4) -> 1.5162 | N4: =SUM(J4+L4) -> 0 | O4: =SUM(K4+M4) -> 8.7362 | P4: =IFERROR(H4+N4,0) -> 0 | Q4: =IFERROR(I4+O4,0) -> 116.644 | R4: ='Com1&Colr'!G4 -> 30 | S4: =IFERROR((P4+Q4+R4),0) -> 146.644 | T4: ='Com1&Colr'!K4 -> 114 | U4: =IFERROR((P4+Q4)/(T4),0) -> 1.023193 | V4: ='Com1&Colr'!C50 -> 8.66 | X4: =IFERROR(ROUNDDOWN(VLOOKUP('Com1&Colr'!A4,BDCom1!$A$3:$C$100,3,FALSE),2),0) -> 0.21 | Y4: =IFERROR((P4+Q4/B4),0) -> 116.644
A5: =_xlfn.CONCAT('Com1&Colr'!A5) -> Fut Kriek (1X20 L) | B5: ='Com1&Colr'!B5 -> 2 | C5: ='Com1&Colr'!C5 -> 76.83 | D5: =IF(X5=0.06,C5*B5,0) -> 0 | E5: =IF(X5=0.21,C5*B5,0) -> 153.66 | F5: =IF(X5=0.06,D5*X5,0) -> 0 | G5: =IF(X5=0.21,E5*X5,0) -> 32.2686 | H5: =SUM(D5+F5) -> 0 | I5: =SUM(E5+G5) -> 185.9286 | J5: =IF(A5="",0,VLOOKUP(A5,BDCom1!$A$3:$E$100,4,FALSE)*B5) -> 0 | K5: =IF(A5="",0,VLOOKUP(A5,BDCom1!$A$3:$E$100,5,FALSE)*B5) -> 11.08 | L5: =SUM(J5*X5) -> 0 | M5: =SUM(K5*X5) -> 2.3268 | N5: =SUM(J5+L5) -> 0 | O5: =SUM(K5+M5) -> 13.4068 | P5: =IFERROR(H5+N5,0) -> 0 | Q5: =IFERROR(I5+O5,0) -> 199.3354 | R5: ='Com1&Colr'!G5 -> 60 | S5: =IFERROR((P5+Q5+R5),0) -> 259.3354 | T5: ='Com1&Colr'!K5 -> 152 | U5: =IFERROR((P5+Q5)/(T5),0) -> 1.3114171 | V5: ='Com1&Colr'!#REF! -> #REF! | X5: =IFERROR(ROUNDDOWN(VLOOKUP('Com1&Colr'!A5,BDCom1!$A$3:$C$100,3,FALSE),2),0) -> 0.21 | Y5: =IFERROR((P5+Q5/B5),0) -> 99.6677
A6: =_xlfn.CONCAT('Com1&Colr'!A6) -> Coca-Cola Normal (1X6) 1L | B6: ='Com1&Colr'!B6 -> 15 | C6: ='Com1&Colr'!C6 -> 13.93 | D6: =IF(X6=0.06,C6*B6,0) -> 208.95 | E6: =IF(X6=0.21,C6*B6,0) -> 0 | F6: =IF(X6=0.06,D6*X6,0) -> 12.537 | G6: =IF(X6=0.21,E6*X6,0) -> 0 | H6: =SUM(D6+F6) -> 221.487 | I6: =SUM(E6+G6) -> 0 | J6: =IF(A6="",0,VLOOKUP(A6,BDCom1!$A$3:$E$100,4,FALSE)*B6) -> 12 | K6: =IF(A6="",0,VLOOKUP(A6,BDCom1!$A$3:$E$100,5,FALSE)*B6) -> 0 | L6: =SUM(J6*X6) -> 0.72 | M6: =SUM(K6*X6) -> 0 | N6: =SUM(J6+L6) -> 12.72 | O6: =SUM(K6+M6) -> 0 | P6: =IFERROR(H6+N6,0) -> 234.207 | Q6: =IFERROR(I6+O6,0) -> 0 | R6: ='Com1&Colr'!G6 -> 52.5 | S6: =IFERROR((P6+Q6+R6),0) -> 286.707 | T6: ='Com1&Colr'!K6 -> 360 | U6: =IFERROR((P6+Q6)/(T6),0) -> 0.650575 | V6: ='Com1&Colr'!Z5 -> 145.51 | X6: =IFERROR(ROUNDDOWN(VLOOKUP('Com1&Colr'!A6,BDCom1!$A$3:$C$100,3,FALSE),2),0) -> 0.06 | Y6: =IFERROR((P6+Q6/B6),0) -> 234.207
A7: =_xlfn.CONCAT('Com1&Colr'!A7) -> Eau plate (1X12) 1L | B7: ='Com1&Colr'!B7 -> 5 | C7: ='Com1&Colr'!C7 -> 8.66 | D7: =IF(X7=0.06,C7*B7,0) -> 43.3 | E7: =IF(X7=0.21,C7*B7,0) -> 0 | F7: =IF(X7=0.06,D7*X7,0) -> 2.598 | G7: =IF(X7=0.21,E7*X7,0) -> 0 | H7: =SUM(D7+F7) -> 45.898 | I7: =SUM(E7+G7) -> 0 | J7: =IF(A7="",0,VLOOKUP(A7,BDCom1!$A$3:$E$100,4,FALSE)*B7) -> 0.85 | K7: =IF(A7="",0,VLOOKUP(A7,BDCom1!$A$3:$E$100,5,FALSE)*B7) -> 0 | L7: =SUM(J7*X7) -> 0.051 | M7: =SUM(K7*X7) -> 0 | N7: =SUM(J7+L7) -> 0.901 | O7: =SUM(K7+M7) -> 0 | P7: =IFERROR(H7+N7,0) -> 46.799 | Q7: =IFERROR(I7+O7,0) -> 0 | R7: ='Com1&Colr'!G7 -> 22.5 | S7: =IFERROR((P7+Q7+R7),0) -> 69.299 | T7: ='Com1&Colr'!K7 -> 240 | U7: =IFERROR((P7+Q7)/(T7),0) -> 0.19499583 | V7: ='Com1&Colr'!Z6 -> 0 | X7: =IFERROR(ROUNDDOWN(VLOOKUP('Com1&Colr'!A7,BDCom1!$A$3:$C$100,3,FALSE),2),0) -> 0.06 | Y7: =IFERROR((P7+Q7/B7),0) -> 46.799
A8: =_xlfn.CONCAT('Com1&Colr'!A8) -> Eau Gazeuse (1X12) 1L | B8: ='Com1&Colr'!B8 -> 5 | C8: ='Com1&Colr'!C8 -> 8.66 | D8: =IF(X8=0.06,C8*B8,0) -> 43.3 | E8: =IF(X8=0.21,C8*B8,0) -> 0 | F8: =IF(X8=0.06,D8*X8,0) -> 2.598 | G8: =IF(X8=0.21,E8*X8,0) -> 0 | H8: =SUM(D8+F8) -> 45.898 | I8: =SUM(E8+G8) -> 0 | J8: =IF(A8="",0,VLOOKUP(A8,BDCom1!$A$3:$E$100,4,FALSE)*B8) -> 0.85 | K8: =IF(A8="",0,VLOOKUP(A8,BDCom1!$A$3:$E$100,5,FALSE)*B8) -> 0 | L8: =SUM(J8*X8) -> 0.051 | M8: =SUM(K8*X8) -> 0 | N8: =SUM(J8+L8) -> 0.901 | O8: =SUM(K8+M8) -> 0 | P8: =IFERROR(H8+N8,0) -> 46.799 | Q8: =IFERROR(I8+O8,0) -> 0 | R8: ='Com1&Colr'!G8 -> 22.5 | S8: =IFERROR((P8+Q8+R8),0) -> 69.299 | T8: ='Com1&Colr'!K8 -> 240 | U8: =IFERROR((P8+Q8)/(T8),0) -> 0.19499583 | V8: ='Com1&Colr'!Z7 -> Taxe | X8: =IFERROR(ROUNDDOWN(VLOOKUP('Com1&Colr'!A8,BDCom1!$A$3:$C$100,3,FALSE),2),0) -> 0.06 | Y8: =IFERROR((P8+Q8/B8),0) -> 46.799
A9: =_xlfn.CONCAT('Com1&Colr'!A9) -> Karmeliet Triple (1X24) 33 cl | B9: ='Com1&Colr'!B9 -> 4 | C9: ='Com1&Colr'!C9 -> 37.09 | D9: =IF(X9=0.06,C9*B9,0) -> 0 | E9: =IF(X9=0.21,C9*B9,0) -> 148.36 | F9: =IF(X9=0.06,D9*X9,0) -> 0 | G9: =IF(X9=0.21,E9*X9,0) -> 31.1556 | H9: =SUM(D9+F9) -> 0 | I9: =SUM(E9+G9) -> 179.5156 | J9: =IF(A9="",0,VLOOKUP(A9,BDCom1!$A$3:$E$100,4,FALSE)*B9) -> 0 | K9: =IF(A9="",0,VLOOKUP(A9,BDCom1!$A$3:$E$100,5,FALSE)*B9) -> 13.16 | L9: =SUM(J9*X9) -> 0 | M9: =SUM(K9*X9) -> 2.7636 | N9: =SUM(J9+L9) -> 0 | O9: =SUM(K9+M9) -> 15.9236 | P9: =IFERROR(H9+N9,0) -> 0 | Q9: =IFERROR(I9+O9,0) -> 195.4392 | R9: ='Com1&Colr'!G9 -> 18 | S9: =IFERROR((P9+Q9+R9),0) -> 213.4392 | T9: ='Com1&Colr'!K9 -> 96 | U9: =IFERROR((P9+Q9)/(T9),0) -> 2.035825 | V9: ='Com1&Colr'!Z8 -> 13.12 | X9: =IFERROR(ROUNDDOWN(VLOOKUP('Com1&Colr'!A9,BDCom1!$A$3:$C$100,3,FALSE),2),0) -> 0.21 | Y9: =IFERROR((P9+Q9/B9),0) -> 48.8598
A10: =_xlfn.CONCAT('Com1&Colr'!A10) -> Coca-Cola Zéro (1X6) 1L | B10: ='Com1&Colr'!B10 -> 12 | C10: ='Com1&Colr'!C10 -> 13.49 | D10: =IF(X10=0.06,C10*B10,0) -> 161.88 | E10: =IF(X10=0.21,C10*B10,0) -> 0 | F10: =IF(X10=0.06,D10*X10,0) -> 9.7128 | G10: =IF(X10=0.21,E10*X10,0) -> 0 | H10: =SUM(D10+F10) -> 171.5928 | I10: =SUM(E10+G10) -> 0 | J10: =IF(A10="",0,VLOOKUP(A10,BDCom1!$A$3:$E$100,4,FALSE)*B10) -> 9.6 | K10: =IF(A10="",0,VLOOKUP(A10,BDCom1!$A$3:$E$100,5,FALSE)*B10) -> 0 | L10: =SUM(J10*X10) -> 0.576 | M10: =SUM(K10*X10) -> 0 | N10: =SUM(J10+L10) -> 10.176 | O10: =SUM(K10+M10) -> 0 | P10: =IFERROR(H10+N10,0) -> 181.7688 | Q10: =IFERROR(I10+O10,0) -> 0 | R10: ='Com1&Colr'!G10 -> 42 | S10: =IFERROR((P10+Q10+R10),0) -> 223.7688 | T10: ='Com1&Colr'!K10 -> 288 | U10: =IFERROR((P10+Q10)/(T10),0) -> 0.63114167 | V10: ='Com1&Colr'!Z9 -> 7.22 | X10: =IFERROR(ROUNDDOWN(VLOOKUP('Com1&Colr'!A10,BDCom1!$A$3:$C$100,3,FALSE),2),0) -> 0.06 | Y10: =IFERROR((P10+Q10/B10),0) -> 181.7688
A11: =_xlfn.CONCAT('Com1&Colr'!A11) -> Jupiler Zéro (1X24) 25 cl | B11: ='Com1&Colr'!B11 -> 5 | C11: ='Com1&Colr'!C11 -> 24.36 | D11: =IF(X11=0.06,C11*B11,0) -> 121.8 | E11: =IF(X11=0.21,C11*B11,0) -> 0 | F11: =IF(X11=0.06,D11*X11,0) -> 7.308 | G11: =IF(X11=0.21,E11*X11,0) -> 0 | H11: =SUM(D11+F11) -> 129.108 | I11: =SUM(E11+G11) -> 0 | J11: =IF(A11="",0,VLOOKUP(A11,BDCom1!$A$3:$E$100,4,FALSE)*B11) -> 1.55 | K11: =IF(A11="",0,VLOOKUP(A11,BDCom1!$A$3:$E$100,5,FALSE)*B11) -> 0 | L11: =SUM(J11*X11) -> 0.093 | M11: =SUM(K11*X11) -> 0 | N11: =SUM(J11+L11) -> 1.643 | O11: =SUM(K11+M11) -> 0 | P11: =IFERROR(H11+N11,0) -> 130.751 | Q11: =IFERROR(I11+O11,0) -> 0 | R11: ='Com1&Colr'!G11 -> 22.5 | S11: =IFERROR((P11+Q11+R11),0) -> 153.251 | T11: ='Com1&Colr'!K11 -> 120 | U11: =IFERROR((P11+Q11)/(T11),0) -> 1.0895917 | V11: ='Com1&Colr'!#REF! -> #REF! | X11: =IFERROR(ROUNDDOWN(VLOOKUP('Com1&Colr'!A11,BDCom1!$A$3:$C$100,3,FALSE),2),0) -> 0.06 | Y11: =IFERROR((P11+Q11/B11),0) -> 130.751
A12: =_xlfn.CONCAT('Com1&Colr'!A12) -> Blanche (1X24) 25 cl | B12: ='Com1&Colr'!B12 -> 3 | C12: ='Com1&Colr'!C12 -> 22.84 | D12: =IF(X12=0.06,C12*B12,0) -> 0 | E12: =IF(X12=0.21,C12*B12,0) -> 68.52 | F12: =IF(X12=0.06,D12*X12,0) -> 0 | G12: =IF(X12=0.21,E12*X12,0) -> 14.3892 | H12: =SUM(D12+F12) -> 0 | I12: =SUM(E12+G12) -> 82.9092 | J12: =IF(A12="",0,VLOOKUP(A12,BDCom1!$A$3:$E$100,4,FALSE)*B12) -> 0 | K12: =IF(A12="",0,VLOOKUP(A12,BDCom1!$A$3:$E$100,5,FALSE)*B12) -> 4.59 | L12: =SUM(J12*X12) -> 0 | M12: =SUM(K12*X12) -> 0.9639 | N12: =SUM(J12+L12) -> 0 | O12: =SUM(K12+M12) -> 5.5539 | P12: =IFERROR(H12+N12,0) -> 0 | Q12: =IFERROR(I12+O12,0) -> 88.4631 | R12: ='Com1&Colr'!G12 -> 13.5 | S12: =IFERROR((P12+Q12+R12),0) -> 101.9631 | T12: ='Com1&Colr'!K12 -> 72 | U12: =IFERROR((P12+Q12)/(T12),0) -> 1.2286542 | V12: ='Com1&Colr'!Z10 -> 20.34 | X12: =IFERROR(ROUNDDOWN(VLOOKUP('Com1&Colr'!A12,BDCom1!$A$3:$C$100,3,FALSE),2),0) -> 0.21 | Y12: =IFERROR((P12+Q12/B12),0) -> 29.4877
A13: =_xlfn.CONCAT('Com1&Colr'!A13) -> Jus d’orange (1x6) 1L | B13: ='Com1&Colr'!B13 -> 2 | C13: ='Com1&Colr'!C13 -> 28.08 | D13: =IF(X13=0.06,C13*B13,0) -> 56.16 | E13: =IF(X13=0.21,C13*B13,0) -> 0 | F13: =IF(X13=0.06,D13*X13,0) -> 3.3696 | G13: =IF(X13=0.21,E13*X13,0) -> 0 | H13: =SUM(D13+F13) -> 59.5296 | I13: =SUM(E13+G13) -> 0 | J13: =IF(A13="",0,VLOOKUP(A13,BDCom1!$A$3:$E$100,4,FALSE)*B13) -> 0.16 | K13: =IF(A13="",0,VLOOKUP(A13,BDCom1!$A$3:$E$100,5,FALSE)*B13) -> 0 | L13: =SUM(J13*X13) -> 0.0096 | M13: =SUM(K13*X13) -> 0 | N13: =SUM(J13+L13) -> 0.1696 | O13: =SUM(K13+M13) -> 0 | P13: =IFERROR(H13+N13,0) -> 59.6992 | Q13: =IFERROR(I13+O13,0) -> 0 | R13: ='Com1&Colr'!G13 -> 7 | S13: =IFERROR((P13+Q13+R13),0) -> 66.6992 | T13: ='Com1&Colr'!K13 -> 48 | U13: =IFERROR((P13+Q13)/(T13),0) -> 1.2437333 | V13: ='Com1&Colr'!#REF! -> #REF! | X13: =IFERROR(ROUNDDOWN(VLOOKUP('Com1&Colr'!A13,BDCom1!$A$3:$C$100,3,FALSE),2),0) -> 0.06 | Y13: =IFERROR((P13+Q13/B13),0) -> 59.6992
A14: =_xlfn.CONCAT('Com1&Colr'!A14) -> Pomme-Cerise (1X24) 20 cl | B14: ='Com1&Colr'!B14 -> 2 | C14: ='Com1&Colr'!C14 -> 19.98 | D14: =IF(X14=0.06,C14*B14,0) -> 39.96 | E14: =IF(X14=0.21,C14*B14,0) -> 0 | F14: =IF(X14=0.06,D14*X14,0) -> 2.3976 | G14: =IF(X14=0.21,E14*X14,0) -> 0 | H14: =SUM(D14+F14) -> 42.3576 | I14: =SUM(E14+G14) -> 0 | J14: =IF(A14="",0,VLOOKUP(A14,BDCom1!$A$3:$E$100,4,FALSE)*B14) -> 1.28 | K14: =IF(A14="",0,VLOOKUP(A14,BDCom1!$A$3:$E$100,5,FALSE)*B14) -> 0 | L14: =SUM(J14*X14) -> 0.0768 | M14: =SUM(K14*X14) -> 0 | N14: =SUM(J14+L14) -> 1.3568 | O14: =SUM(K14+M14) -> 0 | P14: =IFERROR(H14+N14,0) -> 43.7144 | Q14: =IFERROR(I14+O14,0) -> 0 | R14: ='Com1&Colr'!G14 -> 9 | S14: =IFERROR((P14+Q14+R14),0) -> 52.7144 | T14: ='Com1&Colr'!K14 -> 48 | U14: =IFERROR((P14+Q14)/(T14),0) -> 0.91071667 | V14: ='Com1&Colr'!Z12 -> Taxe | X14: =IFERROR(ROUNDDOWN(VLOOKUP('Com1&Colr'!A14,BDCom1!$A$3:$C$100,3,FALSE),2),0) -> 0.06 | Y14: =IFERROR((P14+Q14/B14),0) -> 43.7144
A15: =_xlfn.CONCAT('Com1&Colr'!A15) -> Westmalle Triple (1x24) 33 cl | B15: ='Com1&Colr'!B15 -> 2 | C15: ='Com1&Colr'!C15 -> 35.59 | D15: =IF(X15=0.06,C15*B15,0) -> 0 | E15: =IF(X15=0.21,C15*B15,0) -> 71.18 | F15: =IF(X15=0.06,D15*X15,0) -> 0 | G15: =IF(X15=0.21,E15*X15,0) -> 14.9478 | H15: =SUM(D15+F15) -> 0 | I15: =SUM(E15+G15) -> 86.1278 | J15: =IF(A15="",0,VLOOKUP(A15,BDCom1!$A$3:$E$100,4,FALSE)*B15) -> 0 | K15: =IF(A15="",0,VLOOKUP(A15,BDCom1!$A$3:$E$100,5,FALSE)*B15) -> 6.48 | L15: =SUM(J15*X15) -> 0 | M15: =SUM(K15*X15) -> 1.3608 | N15: =SUM(J15+L15) -> 0 | O15: =SUM(K15+M15) -> 7.8408 | P15: =IFERROR(H15+N15,0) -> 0 | Q15: =IFERROR(I15+O15,0) -> 93.9686 | R15: ='Com1&Colr'!G15 -> 9 | S15: =IFERROR((P15+Q15+R15),0) -> 102.9686 | T15: ='Com1&Colr'!K15 -> 48 | U15: =IFERROR((P15+Q15)/(T15),0) -> 1.9576792 | V15: ='Com1&Colr'!Z13 -> 0 | X15: =IFERROR(ROUNDDOWN(VLOOKUP('Com1&Colr'!A15,BDCom1!$A$3:$C$100,3,FALSE),2),0) -> 0.21 | Y15: =IFERROR((P15+Q15/B15),0) -> 46.9843
A16: =_xlfn.CONCAT('Com1&Colr'!A16) -> Fanta (1X6) 1L | B16: ='Com1&Colr'!B16 -> 7 | C16: ='Com1&Colr'!C16 -> 17.44 | D16: =IF(X16=0.06,C16*B16,0) -> 122.08 | E16: =IF(X16=0.21,C16*B16,0) -> 0 | F16: =IF(X16=0.06,D16*X16,0) -> 7.3248 | G16: =IF(X16=0.21,E16*X16,0) -> 0 | H16: =SUM(D16+F16) -> 129.4048 | I16: =SUM(E16+G16) -> 0 | J16: =IF(A16="",0,VLOOKUP(A16,BDCom1!$A$3:$E$100,4,FALSE)*B16) -> 5.6 | K16: =IF(A16="",0,VLOOKUP(A16,BDCom1!$A$3:$E$100,5,FALSE)*B16) -> 0 | L16: =SUM(J16*X16) -> 0.336 | M16: =SUM(K16*X16) -> 0 | N16: =SUM(J16+L16) -> 5.936 | O16: =SUM(K16+M16) -> 0 | P16: =IFERROR(H16+N16,0) -> 135.3408 | Q16: =IFERROR(I16+O16,0) -> 0 | R16: ='Com1&Colr'!G16 -> 24.5 | S16: =IFERROR((P16+Q16+R16),0) -> 159.8408 | T16: ='Com1&Colr'!K16 -> 168 | U16: =IFERROR((P16+Q16)/(T16),0) -> 0.8056 | V16: ='Com1&Colr'!Z14 -> 0 | X16: =IFERROR(ROUNDDOWN(VLOOKUP('Com1&Colr'!A16,BDCom1!$A$3:$C$100,3,FALSE),2),0) -> 0.06 | Y16: =IFERROR((P16+Q16/B16),0) -> 135.3408
A17: =_xlfn.CONCAT('Com1&Colr'!A17) -> Kriek (1X24) 25 cl | B17: ='Com1&Colr'!B17 -> 1 | C17: ='Com1&Colr'!C17 -> 27.58 | D17: =IF(X17=0.06,C17*B17,0) -> 0 | E17: =IF(X17=0.21,C17*B17,0) -> 27.58 | F17: =IF(X17=0.06,D17*X17,0) -> 0 | G17: =IF(X17=0.21,E17*X17,0) -> 5.7918 | H17: =SUM(D17+F17) -> 0 | I17: =SUM(E17+G17) -> 33.3718 | J17: =IF(A17="",0,VLOOKUP(A17,BDCom1!$A$3:$E$100,4,FALSE)*B17) -> 0 | K17: =IF(A17="",0,VLOOKUP(A17,BDCom1!$A$3:$E$100,5,FALSE)*B17) -> 1.28 | L17: =SUM(J17*X17) -> 0 | M17: =SUM(K17*X17) -> 0.2688 | N17: =SUM(J17+L17) -> 0 | O17: =SUM(K17+M17) -> 1.5488 | P17: =IFERROR(H17+N17,0) -> 0 | Q17: =IFERROR(I17+O17,0) -> 34.9206 | R17: ='Com1&Colr'!G17 -> 4.5 | S17: =IFERROR((P17+Q17+R17),0) -> 39.4206 | T17: ='Com1&Colr'!K17 -> 24 | U17: =IFERROR((P17+Q17)/(T17),0) -> 1.455025 | V17: ='Com1&Colr'!#REF! -> #REF! | X17: =IFERROR(ROUNDDOWN(VLOOKUP('Com1&Colr'!A17,BDCom1!$A$3:$C$100,3,FALSE),2),0) -> 0.21 | Y17: =IFERROR((P17+Q17/B17),0) -> 34.9206
A18: =_xlfn.CONCAT('Com1&Colr'!A18) -> Ice-Tea Lipton (1X6) 1L | B18: ='Com1&Colr'!B18 -> 6 | C18: ='Com1&Colr'!C18 -> 13.93 | D18: =IF(X18=0.06,C18*B18,0) -> 83.58 | E18: =IF(X18=0.21,C18*B18,0) -> 0 | F18: =IF(X18=0.06,D18*X18,0) -> 5.0148 | G18: =IF(X18=0.21,E18*X18,0) -> 0 | H18: =SUM(D18+F18) -> 88.5948 | I18: =SUM(E18+G18) -> 0 | J18: =IF(A18="",0,VLOOKUP(A18,BDCom1!$A$3:$E$100,4,FALSE)*B18) -> 4.8 | K18: =IF(A18="",0,VLOOKUP(A18,BDCom1!$A$3:$E$100,5,FALSE)*B18) -> 0 | L18: =SUM(J18*X18) -> 0.288 | M18: =SUM(K18*X18) -> 0 | N18: =SUM(J18+L18) -> 5.088 | O18: =SUM(K18+M18) -> 0 | P18: =IFERROR(H18+N18,0) -> 93.6828 | Q18: =IFERROR(I18+O18,0) -> 0 | R18: ='Com1&Colr'!G18 -> 21 | S18: =IFERROR((P18+Q18+R18),0) -> 114.6828 | T18: ='Com1&Colr'!K18 -> 144 | U18: =IFERROR((P18+Q18)/(T18),0) -> 0.650575 | V18: ='Com1&Colr'!Z15 -> 0 | X18: =IFERROR(ROUNDDOWN(VLOOKUP('Com1&Colr'!A18,BDCom1!$A$3:$C$100,3,FALSE),2),0) -> 0.06 | Y18: =IFERROR((P18+Q18/B18),0) -> 93.6828
A19: =_xlfn.CONCAT('Com1&Colr'!A19) -> St Feullien Blonde (1X24) 33 cl | B19: ='Com1&Colr'!B19 -> 7 | C19: ='Com1&Colr'!C19 -> 35.58 | D19: =IF(X19=0.06,C19*B19,0) -> 0 | E19: =IF(X19=0.21,C19*B19,0) -> 249.06 | F19: =IF(X19=0.06,D19*X19,0) -> 0 | G19: =IF(X19=0.21,E19*X19,0) -> 52.3026 | H19: =SUM(D19+F19) -> 0 | I19: =SUM(E19+G19) -> 301.3626 | J19: =IF(A19="",0,VLOOKUP(A19,BDCom1!$A$3:$E$100,4,FALSE)*B19) -> 0 | K19: =IF(A19="",0,VLOOKUP(A19,BDCom1!$A$3:$E$100,5,FALSE)*B19) -> 17.78 | L19: =SUM(J19*X19) -> 0 | M19: =SUM(K19*X19) -> 3.7338 | N19: =SUM(J19+L19) -> 0 | O19: =SUM(K19+M19) -> 21.5138 | P19: =IFERROR(H19+N19,0) -> 0 | Q19: =IFERROR(I19+O19,0) -> 322.8764 | R19: ='Com1&Colr'!G19 -> 31.5 | S19: =IFERROR((P19+Q19+R19),0) -> 354.3764 | T19: ='Com1&Colr'!K19 -> 168 | U19: =IFERROR((P19+Q19)/(T19),0) -> 1.9218833 | V19: ='Com1&Colr'!#REF! -> #REF! | X19: =IFERROR(ROUNDDOWN(VLOOKUP('Com1&Colr'!A19,BDCom1!$A$3:$C$100,3,FALSE),2),0) -> 0.21 | Y19: =IFERROR((P19+Q19/B19),0) -> 46.1252
A20: =_xlfn.CONCAT('Com1&Colr'!A20) -> St Feullien Brune (1X24) 33 cl | B20: ='Com1&Colr'!B20 -> 2 | C20: ='Com1&Colr'!C20 -> 35.57 | D20: =IF(X20=0.06,C20*B20,0) -> 0 | E20: =IF(X20=0.21,C20*B20,0) -> 71.14 | F20: =IF(X20=0.06,D20*X20,0) -> 0 | G20: =IF(X20=0.21,E20*X20,0) -> 14.9394 | H20: =SUM(D20+F20) -> 0 | I20: =SUM(E20+G20) -> 86.0794 | J20: =IF(A20="",0,VLOOKUP(A20,BDCom1!$A$3:$E$100,4,FALSE)*B20) -> 0 | K20: =IF(A20="",0,VLOOKUP(A20,BDCom1!$A$3:$E$100,5,FALSE)*B20) -> 5.68 | L20: =SUM(J20*X20) -> 0 | M20: =SUM(K20*X20) -> 1.1928 | N20: =SUM(J20+L20) -> 0 | O20: =SUM(K20+M20) -> 6.8728 | P20: =IFERROR(H20+N20,0) -> 0 | Q20: =IFERROR(I20+O20,0) -> 92.9522 | R20: ='Com1&Colr'!G20 -> 9 | S20: =IFERROR((P20+Q20+R20),0) -> 101.9522 | T20: ='Com1&Colr'!K20 -> 48 | U20: =IFERROR((P20+Q20)/(T20),0) -> 1.9365042 | V20: ='Com1&Colr'!Z17 -> Taxe | X20: =IFERROR(ROUNDDOWN(VLOOKUP('Com1&Colr'!A20,BDCom1!$A$3:$C$100,3,FALSE),2),0) -> 0.21 | Y20: =IFERROR((P20+Q20/B20),0) -> 46.4761
A21: =_xlfn.CONCAT('Com1&Colr'!A21) -> Vin Blanc (1X6) 75 cl | B21: ='Com1&Colr'!B21 -> 5 | C21: ='Com1&Colr'!C21 -> 38.22 | D21: =IF(X21=0.06,C21*B21,0) -> 0 | E21: =IF(X21=0.21,C21*B21,0) -> 191.1 | F21: =IF(X21=0.06,D21*X21,0) -> 0 | G21: =IF(X21=0.21,E21*X21,0) -> 40.131 | H21: =SUM(D21+F21) -> 0 | I21: =SUM(E21+G21) -> 231.231 | J21: =IF(A21="",0,VLOOKUP(A21,BDCom1!$A$3:$E$100,4,FALSE)*B21) -> 0 | K21: =IF(A21="",0,VLOOKUP(A21,BDCom1!$A$3:$E$100,5,FALSE)*B21) -> 2.1 | L21: =SUM(J21*X21) -> 0 | M21: =SUM(K21*X21) -> 0.441 | N21: =SUM(J21+L21) -> 0 | O21: =SUM(K21+M21) -> 2.541 | P21: =IFERROR(H21+N21,0) -> 0 | Q21: =IFERROR(I21+O21,0) -> 233.772 | R21: ='Com1&Colr'!G21 -> 0 | S21: =IFERROR((P21+Q21+R21),0) -> 233.772 | T21: ='Com1&Colr'!K21 -> 150 | U21: =IFERROR((P21+Q21)/(T21),0) -> 1.55848 | V21: ='Com1&Colr'!Z18 -> 0 | X21: =IFERROR(ROUNDDOWN(VLOOKUP('Com1&Colr'!A21,BDCom1!$A$3:$C$100,3,FALSE),2),0) -> 0.21 | Y21: =IFERROR((P21+Q21/B21),0) -> 46.7544
A22: =_xlfn.CONCAT('Com1&Colr'!A22) -> Vin rosé (1X6) 75 cl | B22: ='Com1&Colr'!B22 -> 5 | C22: ='Com1&Colr'!C22 -> 35.64 | D22: =IF(X22=0.06,C22*B22,0) -> 0 | E22: =IF(X22=0.21,C22*B22,0) -> 178.2 | F22: =IF(X22=0.06,D22*X22,0) -> 0 | G22: =IF(X22=0.21,E22*X22,0) -> 37.422 | H22: =SUM(D22+F22) -> 0 | I22: =SUM(E22+G22) -> 215.622 | J22: =IF(A22="",0,VLOOKUP(A22,BDCom1!$A$3:$E$100,4,FALSE)*B22) -> 0 | K22: =IF(A22="",0,VLOOKUP(A22,BDCom1!$A$3:$E$100,5,FALSE)*B22) -> 2.1 | L22: =SUM(J22*X22) -> 0 | M22: =SUM(K22*X22) -> 0.441 | N22: =SUM(J22+L22) -> 0 | O22: =SUM(K22+M22) -> 2.541 | P22: =IFERROR(H22+N22,0) -> 0 | Q22: =IFERROR(I22+O22,0) -> 218.163 | R22: ='Com1&Colr'!G22 -> 0 | S22: =IFERROR((P22+Q22+R22),0) -> 218.163 | T22: ='Com1&Colr'!K22 -> 150 | U22: =IFERROR((P22+Q22)/(T22),0) -> 1.45442 | V22: ='Com1&Colr'!Z19 -> 0 | X22: =IFERROR(ROUNDDOWN(VLOOKUP('Com1&Colr'!A22,BDCom1!$A$3:$C$100,3,FALSE),2),0) -> 0.21 | Y22: =IFERROR((P22+Q22/B22),0) -> 43.6326
A23: =_xlfn.CONCAT('Com1&Colr'!A23) -> Vin rouge (1X6) 75 cl | B23: ='Com1&Colr'!B23 -> 3 | C23: ='Com1&Colr'!C23 -> 36.12 | D23: =IF(X23=0.06,C23*B23,0) -> 0 | E23: =IF(X23=0.21,C23*B23,0) -> 108.36 | F23: =IF(X23=0.06,D23*X23,0) -> 0 | G23: =IF(X23=0.21,E23*X23,0) -> 22.7556 | H23: =SUM(D23+F23) -> 0 | I23: =SUM(E23+G23) -> 131.1156 | J23: =IF(A23="",0,VLOOKUP(A23,BDCom1!$A$3:$E$100,4,FALSE)*B23) -> 0 | K23: =IF(A23="",0,VLOOKUP(A23,BDCom1!$A$3:$E$100,5,FALSE)*B23) -> 1.26 | L23: =SUM(J23*X23) -> 0 | M23: =SUM(K23*X23) -> 0.2646 | N23: =SUM(J23+L23) -> 0 | O23: =SUM(K23+M23) -> 1.5246 | P23: =IFERROR(H23+N23,0) -> 0 | Q23: =IFERROR(I23+O23,0) -> 132.6402 | R23: ='Com1&Colr'!G23 -> 0 | S23: =IFERROR((P23+Q23+R23),0) -> 132.6402 | T23: ='Com1&Colr'!K23 -> 90 | U23: =IFERROR((P23+Q23)/(T23),0) -> 1.47378 | V23: ='Com1&Colr'!Z24 -> 3.5463396 | X23: =IFERROR(ROUNDDOWN(VLOOKUP('Com1&Colr'!A23,BDCom1!$A$3:$C$100,3,FALSE),2),0) -> 0.21 | Y23: =IFERROR((P23+Q23/B23),0) -> 44.2134
A24: =_xlfn.CONCAT('Com1&Colr'!A24) -> Pompes 2 Têtes (1) | B24: ='Com1&Colr'!B24 -> 1 | C24: ='Com1&Colr'!C24 -> 45 | D24: =IF(X24=0.06,C24*B24,0) -> 0 | E24: =IF(X24=0.21,C24*B24,0) -> 45 | F24: =IF(X24=0.06,D24*X24,0) -> 0 | G24: =IF(X24=0.21,E24*X24,0) -> 9.45 | H24: =SUM(D24+F24) -> 0 | I24: =SUM(E24+G24) -> 54.45 | J24: =IF(A24="",0,VLOOKUP(A24,BDCom1!$A$3:$E$100,4,FALSE)*B24) -> 0 | K24: =IF(A24="",0,VLOOKUP(A24,BDCom1!$A$3:$E$100,5,FALSE)*B24) -> 0 | L24: =SUM(J24*X24) -> 0 | M24: =SUM(K24*X24) -> 0 | N24: =SUM(J24+L24) -> 0 | O24: =SUM(K24+M24) -> 0 | P24: =IFERROR(H24+N24,0) -> 0 | Q24: =IFERROR(I24+O24,0) -> 54.45 | R24: ='Com1&Colr'!G24 -> 0 | S24: =IFERROR((P24+Q24+R24),0) -> 54.45 | T24: ='Com1&Colr'!K24 -> 0 | U24: =IFERROR((P24+Q24)/(T24),0) -> 0 | V24: ='Com1&Colr'!Z20 -> 0 | X24: =IFERROR(ROUNDDOWN(VLOOKUP('Com1&Colr'!A24,BDCom1!$A$3:$C$100,3,FALSE),2),0) -> 0.21 | Y24: =IFERROR((P24+Q24/B24),0) -> 54.45
A25: =_xlfn.CONCAT('Com1&Colr'!A25) -> Transport (1) | B25: ='Com1&Colr'!B25 -> 1 | C25: ='Com1&Colr'!C25 -> 75 | D25: =IF(X25=0.06,C25*B25,0) -> 0 | E25: =IF(X25=0.21,C25*B25,0) -> 75 | F25: =IF(X25=0.06,D25*X25,0) -> 0 | G25: =IF(X25=0.21,E25*X25,0) -> 15.75 | H25: =SUM(D25+F25) -> 0 | I25: =SUM(E25+G25) -> 90.75 | J25: =IF(A25="",0,VLOOKUP(A25,BDCom1!$A$3:$E$100,4,FALSE)*B25) -> 0 | K25: =IF(A25="",0,VLOOKUP(A25,BDCom1!$A$3:$E$100,5,FALSE)*B25) -> 0 | L25: =SUM(J25*X25) -> 0 | M25: =SUM(K25*X25) -> 0 | N25: =SUM(J25+L25) -> 0 | O25: =SUM(K25+M25) -> 0 | P25: =IFERROR(H25+N25,0) -> 0 | Q25: =IFERROR(I25+O25,0) -> 90.75 | R25: ='Com1&Colr'!G25 -> 0 | S25: =IFERROR((P25+Q25+R25),0) -> 90.75 | T25: ='Com1&Colr'!K25 -> 0 | U25: =IFERROR((P25+Q25)/(T25),0) -> 0 | V25: ='Com1&Colr'!Z22 -> Report | X25: =IFERROR(ROUNDDOWN(VLOOKUP('Com1&Colr'!A25,BDCom1!$A$3:$C$100,3,FALSE),2),0) -> 0.21 | Y25: =IFERROR((P25+Q25/B25),0) -> 90.75
A26: =_xlfn.CONCAT('Com1&Colr'!A26) -> Verres Pils (1X36) | B26: ='Com1&Colr'!B26 -> 4 | C26: ='Com1&Colr'!C26 -> 10 | D26: =IF(X26=0.06,C26*B26,0) -> 0 | E26: =IF(X26=0.21,C26*B26,0) -> 40 | F26: =IF(X26=0.06,D26*X26,0) -> 0 | G26: =IF(X26=0.21,E26*X26,0) -> 8.4 | H26: =SUM(D26+F26) -> 0 | I26: =SUM(E26+G26) -> 48.4 | J26: =IF(A26="",0,VLOOKUP(A26,BDCom1!$A$3:$E$100,4,FALSE)*B26) -> 0 | K26: =IF(A26="",0,VLOOKUP(A26,BDCom1!$A$3:$E$100,5,FALSE)*B26) -> 0 | L26: =SUM(J26*X26) -> 0 | M26: =SUM(K26*X26) -> 0 | N26: =SUM(J26+L26) -> 0 | O26: =SUM(K26+M26) -> 0 | P26: =IFERROR(H26+N26,0) -> 0 | Q26: =IFERROR(I26+O26,0) -> 48.4 | R26: ='Com1&Colr'!G26 -> 0 | S26: =IFERROR((P26+Q26+R26),0) -> 48.4 | T26: ='Com1&Colr'!K26 -> 0 | U26: =IFERROR((P26+Q26)/(T26),0) -> 0 | V26: ='Com1&Colr'!Z27 -> Report | X26: =IFERROR(ROUNDDOWN(VLOOKUP('Com1&Colr'!A26,BDCom1!$A$3:$C$100,3,FALSE),2),0) -> 0.21 | Y26: =IFERROR((P26+Q26/B26),0) -> 12.1
A27: =_xlfn.CONCAT('Com1&Colr'!A27) -> Verres Spécial (1X20) | B27: ='Com1&Colr'!B27 -> 3 | C27: ='Com1&Colr'!C27 -> 5 | D27: =IF(X27=0.06,C27*B27,0) -> 0 | E27: =IF(X27=0.21,C27*B27,0) -> 15 | F27: =IF(X27=0.06,D27*X27,0) -> 0 | G27: =IF(X27=0.21,E27*X27,0) -> 3.15 | H27: =SUM(D27+F27) -> 0 | I27: =SUM(E27+G27) -> 18.15 | J27: =IF(A27="",0,VLOOKUP(A27,BDCom1!$A$3:$E$100,4,FALSE)*B27) -> 0 | K27: =IF(A27="",0,VLOOKUP(A27,BDCom1!$A$3:$E$100,5,FALSE)*B27) -> 0 | L27: =SUM(J27*X27) -> 0 | M27: =SUM(K27*X27) -> 0 | N27: =SUM(J27+L27) -> 0 | O27: =SUM(K27+M27) -> 0 | P27: =IFERROR(H27+N27,0) -> 0 | Q27: =IFERROR(I27+O27,0) -> 18.15 | R27: ='Com1&Colr'!G27 -> 0 | S27: =IFERROR((P27+Q27+R27),0) -> 18.15 | T27: ='Com1&Colr'!K27 -> 0 | U27: =IFERROR((P27+Q27)/(T27),0) -> 0 | V27: ='Com1&Colr'!Z28 -> TVA | X27: =IFERROR(ROUNDDOWN(VLOOKUP('Com1&Colr'!A27,BDCom1!$A$3:$C$100,3,FALSE),2),0) -> 0.21 | Y27: =IFERROR((P27+Q27/B27),0) -> 6.05
A28: =_xlfn.CONCAT('Com1&Colr'!A28) -> Verres Fruitées (1X30) | B28: ='Com1&Colr'!B28 -> 3 | C28: ='Com1&Colr'!C28 -> 10 | D28: =IF(X28=0.06,C28*B28,0) -> 0 | E28: =IF(X28=0.21,C28*B28,0) -> 30 | F28: =IF(X28=0.06,D28*X28,0) -> 0 | G28: =IF(X28=0.21,E28*X28,0) -> 6.3 | H28: =SUM(D28+F28) -> 0 | I28: =SUM(E28+G28) -> 36.3 | J28: =IF(A28="",0,VLOOKUP(A28,BDCom1!$A$3:$E$100,4,FALSE)*B28) -> 0 | K28: =IF(A28="",0,VLOOKUP(A28,BDCom1!$A$3:$E$100,5,FALSE)*B28) -> 0 | L28: =SUM(J28*X28) -> 0 | M28: =SUM(K28*X28) -> 0 | N28: =SUM(J28+L28) -> 0 | O28: =SUM(K28+M28) -> 0 | P28: =IFERROR(H28+N28,0) -> 0 | Q28: =IFERROR(I28+O28,0) -> 36.3 | R28: ='Com1&Colr'!G28 -> 0 | S28: =IFERROR((P28+Q28+R28),0) -> 36.3 | T28: ='Com1&Colr'!K28 -> 0 | U28: =IFERROR((P28+Q28)/(T28),0) -> 0 | V28: ='Com1&Colr'!Z29 -> 0 | X28: =IFERROR(ROUNDDOWN(VLOOKUP('Com1&Colr'!A28,BDCom1!$A$3:$C$100,3,FALSE),2),0) -> 0.21 | Y28: =IFERROR((P28+Q28/B28),0) -> 12.1
A29: =_xlfn.CONCAT('Com1&Colr'!A29) -> Tables (1) | B29: ='Com1&Colr'!B29 -> 10 | C29: ='Com1&Colr'!C29 -> 3 | D29: =IF(X29=0.06,C29*B29,0) -> 0 | E29: =IF(X29=0.21,C29*B29,0) -> 30 | F29: =IF(X29=0.06,D29*X29,0) -> 0 | G29: =IF(X29=0.21,E29*X29,0) -> 6.3 | H29: =SUM(D29+F29) -> 0 | I29: =SUM(E29+G29) -> 36.3 | J29: =IF(A29="",0,VLOOKUP(A29,BDCom1!$A$3:$E$100,4,FALSE)*B29) -> 0 | K29: =IF(A29="",0,VLOOKUP(A29,BDCom1!$A$3:$E$100,5,FALSE)*B29) -> 0 | L29: =SUM(J29*X29) -> 0 | M29: =SUM(K29*X29) -> 0 | N29: =SUM(J29+L29) -> 0 | O29: =SUM(K29+M29) -> 0 | P29: =IFERROR(H29+N29,0) -> 0 | Q29: =IFERROR(I29+O29,0) -> 36.3 | R29: ='Com1&Colr'!G29 -> 0 | S29: =IFERROR((P29+Q29+R29),0) -> 36.3 | T29: ='Com1&Colr'!K29 -> 0 | U29: =IFERROR((P29+Q29)/(T29),0) -> 0 | V29: ='Com1&Colr'!Z30 -> 0 | X29: =IFERROR(ROUNDDOWN(VLOOKUP('Com1&Colr'!A29,BDCom1!$A$3:$C$100,3,FALSE),2),0) -> 0.21 | Y29: =IFERROR((P29+Q29/B29),0) -> 3.63
A30: =_xlfn.CONCAT('Com1&Colr'!A30) -> Bancs (1) | B30: ='Com1&Colr'!B30 -> 20 | C30: ='Com1&Colr'!C30 -> 1.5 | D30: =IF(X30=0.06,C30*B30,0) -> 0 | E30: =IF(X30=0.21,C30*B30,0) -> 30 | F30: =IF(X30=0.06,D30*X30,0) -> 0 | G30: =IF(X30=0.21,E30*X30,0) -> 6.3 | H30: =SUM(D30+F30) -> 0 | I30: =SUM(E30+G30) -> 36.3 | J30: =IF(A30="",0,VLOOKUP(A30,BDCom1!$A$3:$E$100,4,FALSE)*B30) -> 0 | K30: =IF(A30="",0,VLOOKUP(A30,BDCom1!$A$3:$E$100,5,FALSE)*B30) -> 0 | L30: =SUM(J30*X30) -> 0 | M30: =SUM(K30*X30) -> 0 | N30: =SUM(J30+L30) -> 0 | O30: =SUM(K30+M30) -> 0 | P30: =IFERROR(H30+N30,0) -> 0 | Q30: =IFERROR(I30+O30,0) -> 36.3 | R30: ='Com1&Colr'!G30 -> 0 | S30: =IFERROR((P30+Q30+R30),0) -> 36.3 | T30: ='Com1&Colr'!K30 -> 0 | U30: =IFERROR((P30+Q30)/(T30),0) -> 0 | V30: ='Com1&Colr'!Z31 -> 0 | X30: =IFERROR(ROUNDDOWN(VLOOKUP('Com1&Colr'!A30,BDCom1!$A$3:$C$100,3,FALSE),2),0) -> 0.21 | Y30: =IFERROR((P30+Q30/B30),0) -> 1.815
A31: =_xlfn.CONCAT('Com1&Colr'!A31) -> Frigos (1) | B31: ='Com1&Colr'!B31 -> 3 | C31: ='Com1&Colr'!C31 -> 40 | D31: =IF(X31=0.06,C31*B31,0) -> 0 | E31: =IF(X31=0.21,C31*B31,0) -> 120 | F31: =IF(X31=0.06,D31*X31,0) -> 0 | G31: =IF(X31=0.21,E31*X31,0) -> 25.2 | H31: =SUM(D31+F31) -> 0 | I31: =SUM(E31+G31) -> 145.2 | J31: =IF(A31="",0,VLOOKUP(A31,BDCom1!$A$3:$E$100,4,FALSE)*B31) -> 0 | K31: =IF(A31="",0,VLOOKUP(A31,BDCom1!$A$3:$E$100,5,FALSE)*B31) -> 0 | L31: =SUM(J31*X31) -> 0 | M31: =SUM(K31*X31) -> 0 | N31: =SUM(J31+L31) -> 0 | O31: =SUM(K31+M31) -> 0 | P31: =IFERROR(H31+N31,0) -> 0 | Q31: =IFERROR(I31+O31,0) -> 145.2 | R31: ='Com1&Colr'!G31 -> 0 | S31: =IFERROR((P31+Q31+R31),0) -> 145.2 | T31: ='Com1&Colr'!K31 -> 0 | U31: =IFERROR((P31+Q31)/(T31),0) -> 0 | V31: ='Com1&Colr'!Z32 -> Report | X31: =IFERROR(ROUNDDOWN(VLOOKUP('Com1&Colr'!A31,BDCom1!$A$3:$C$100,3,FALSE),2),0) -> 0.21 | Y31: =IFERROR((P31+Q31/B31),0) -> 48.4
A32: =_xlfn.CONCAT('Com1&Colr'!A32) | B32: ='Com1&Colr'!B32 -> 0 | C32: ='Com1&Colr'!C32 -> 0 | D32: =IF(X32=0.06,C32*B32,0) -> 0 | E32: =IF(X32=0.21,C32*B32,0) -> 0 | F32: =IF(X32=0.06,D32*X32,0) -> 0 | G32: =IF(X32=0.21,E32*X32,0) -> 0 | H32: =SUM(D32+F32) -> 0 | I32: =SUM(E32+G32) -> 0 | J32: =IF(A32="",0,VLOOKUP(A32,BDCom1!$A$3:$E$100,4,FALSE)*B32) -> 0 | K32: =IF(A32="",0,VLOOKUP(A32,BDCom1!$A$3:$E$100,5,FALSE)*B32) -> 0 | L32: =SUM(J32*X32) -> 0 | M32: =SUM(K32*X32) -> 0 | N32: =SUM(J32+L32) -> 0 | O32: =SUM(K32+M32) -> 0 | P32: =IFERROR(H32+N32,0) -> 0 | Q32: =IFERROR(I32+O32,0) -> 0 | R32: ='Com1&Colr'!G32 | S32: =IFERROR((P32+Q32+R32),0) -> 0 | T32: ='Com1&Colr'!K32 | U32: =IFERROR((P32+Q32)/(T32),0) -> 0 | V32: ='Com1&Colr'!Z33 -> TVA | X32: =IFERROR(ROUNDDOWN(VLOOKUP('Com1&Colr'!A32,BDCom1!$A$3:$C$100,3,FALSE),2),0) -> 0 | Y32: =IFERROR((P32+Q32/B32),0) -> 0
A33: =_xlfn.CONCAT('Com1&Colr'!A33) | B33: ='Com1&Colr'!B33 -> 0 | C33: ='Com1&Colr'!C33 -> 0 | D33: =IF(X33=0.06,C33*B33,0) -> 0 | E33: =IF(X33=0.21,C33*B33,0) -> 0 | F33: =IF(X33=0.06,D33*X33,0) -> 0 | G33: =IF(X33=0.21,E33*X33,0) -> 0 | H33: =SUM(D33+F33) -> 0 | I33: =SUM(E33+G33) -> 0 | J33: =IF(A33="",0,VLOOKUP(A33,BDCom1!$A$3:$E$100,4,FALSE)*B33) -> 0 | K33: =IF(A33="",0,VLOOKUP(A33,BDCom1!$A$3:$E$100,5,FALSE)*B33) -> 0 | L33: =SUM(J33*X33) -> 0 | M33: =SUM(K33*X33) -> 0 | N33: =SUM(J33+L33) -> 0 | O33: =SUM(K33+M33) -> 0 | P33: =IFERROR(H33+N33,0) -> 0 | Q33: =IFERROR(I33+O33,0) -> 0 | R33: ='Com1&Colr'!G33 | S33: =IFERROR((P33+Q33+R33),0) -> 0 | T33: ='Com1&Colr'!K33 | U33: =IFERROR((P33+Q33)/(T33),0) -> 0 | V33: ='Com1&Colr'!Z34 -> 0 | X33: =IFERROR(ROUNDDOWN(VLOOKUP('Com1&Colr'!A33,BDCom1!$A$3:$C$100,3,FALSE),2),0) -> 0 | Y33: =IFERROR((P33+Q33/B33),0) -> 0
A34: =_xlfn.CONCAT('Com1&Colr'!A34) | B34: ='Com1&Colr'!B34 -> 0 | C34: ='Com1&Colr'!C34 -> 0 | D34: =IF(X34=0.06,C34*B34,0) -> 0 | E34: =IF(X34=0.21,C34*B34,0) -> 0 | F34: =IF(X34=0.06,D34*X34,0) -> 0 | G34: =IF(X34=0.21,E34*X34,0) -> 0 | H34: =SUM(D34+F34) -> 0 | I34: =SUM(E34+G34) -> 0 | J34: =IF(A34="",0,VLOOKUP(A34,BDCom1!$A$3:$E$100,4,FALSE)*B34) -> 0 | K34: =IF(A34="",0,VLOOKUP(A34,BDCom1!$A$3:$E$100,5,FALSE)*B34) -> 0 | L34: =SUM(J34*X34) -> 0 | M34: =SUM(K34*X34) -> 0 | N34: =SUM(J34+L34) -> 0 | O34: =SUM(K34+M34) -> 0 | P34: =IFERROR(H34+N34,0) -> 0 | Q34: =IFERROR(I34+O34,0) -> 0 | R34: ='Com1&Colr'!G34 | S34: =IFERROR((P34+Q34+R34),0) -> 0 | T34: ='Com1&Colr'!K34 | U34: =IFERROR((P34+Q34)/(T34),0) -> 0 | V34: ='Com1&Colr'!Z35 -> 0 | X34: =IFERROR(ROUNDDOWN(VLOOKUP('Com1&Colr'!A34,BDCom1!$A$3:$C$100,3,FALSE),2),0) -> 0 | Y34: =IFERROR((P34+Q34/B34),0) -> 0
A35: =_xlfn.CONCAT('Com1&Colr'!A35) | B35: ='Com1&Colr'!B35 -> 0 | C35: ='Com1&Colr'!C35 -> 0 | D35: =IF(X35=0.06,C35*B35,0) -> 0 | E35: =IF(X35=0.21,C35*B35,0) -> 0 | F35: =IF(X35=0.06,D35*X35,0) -> 0 | G35: =IF(X35=0.21,E35*X35,0) -> 0 | H35: =SUM(D35+F35) -> 0 | I35: =SUM(E35+G35) -> 0 | J35: =IF(A35="",0,VLOOKUP(A35,BDCom1!$A$3:$E$100,4,FALSE)*B35) -> 0 | K35: =IF(A35="",0,VLOOKUP(A35,BDCom1!$A$3:$E$100,5,FALSE)*B35) -> 0 | L35: =SUM(J35*X35) -> 0 | M35: =SUM(K35*X35) -> 0 | N35: =SUM(J35+L35) -> 0 | O35: =SUM(K35+M35) -> 0 | P35: =IFERROR(H35+N35,0) -> 0 | Q35: =IFERROR(I35+O35,0) -> 0 | R35: ='Com1&Colr'!G35 | S35: =IFERROR((P35+Q35+R35),0) -> 0 | T35: ='Com1&Colr'!K35 | U35: =IFERROR((P35+Q35)/(T35),0) -> 0 | V35: ='Com1&Colr'!Z36 -> 0 | X35: =IFERROR(ROUNDDOWN(VLOOKUP('Com1&Colr'!A35,BDCom1!$A$3:$C$100,3,FALSE),2),0) -> 0 | Y35: =IFERROR((P35+Q35/B35),0) -> 0
A36: =_xlfn.CONCAT('Com1&Colr'!A36) | B36: ='Com1&Colr'!B36 -> 0 | C36: ='Com1&Colr'!C36 -> 0 | D36: =IF(X36=0.06,C36*B36,0) -> 0 | E36: =IF(X36=0.21,C36*B36,0) -> 0 | F36: =IF(X36=0.06,D36*X36,0) -> 0 | G36: =IF(X36=0.21,E36*X36,0) -> 0 | H36: =SUM(D36+F36) -> 0 | I36: =SUM(E36+G36) -> 0 | J36: =IF(A36="",0,VLOOKUP(A36,BDCom1!$A$3:$E$100,4,FALSE)*B36) -> 0 | K36: =IF(A36="",0,VLOOKUP(A36,BDCom1!$A$3:$E$100,5,FALSE)*B36) -> 0 | L36: =SUM(J36*X36) -> 0 | M36: =SUM(K36*X36) -> 0 | N36: =SUM(J36+L36) -> 0 | O36: =SUM(K36+M36) -> 0 | P36: =IFERROR(H36+N36,0) -> 0 | Q36: =IFERROR(I36+O36,0) -> 0 | R36: ='Com1&Colr'!G36 | S36: =IFERROR((P36+Q36+R36),0) -> 0 | T36: ='Com1&Colr'!K36 | U36: =IFERROR((P36+Q36)/(T36),0) -> 0 | V36: ='Com1&Colr'!Z37 -> Report | X36: =IFERROR(ROUNDDOWN(VLOOKUP('Com1&Colr'!A36,BDCom1!$A$3:$C$100,3,FALSE),2),0) -> 0 | Y36: =IFERROR((P36+Q36/B36),0) -> 0
A37: =_xlfn.CONCAT('Com1&Colr'!A37) | B37: ='Com1&Colr'!B37 -> 0 | C37: ='Com1&Colr'!C37 -> 0 | D37: =IF(X37=0.06,C37*B37,0) -> 0 | E37: =IF(X37=0.21,C37*B37,0) -> 0 | F37: =IF(X37=0.06,D37*X37,0) -> 0 | G37: =IF(X37=0.21,E37*X37,0) -> 0 | H37: =SUM(D37+F37) -> 0 | I37: =SUM(E37+G37) -> 0 | J37: =IF(A37="",0,VLOOKUP(A37,BDCom1!$A$3:$E$100,4,FALSE)*B37) -> 0 | K37: =IF(A37="",0,VLOOKUP(A37,BDCom1!$A$3:$E$100,5,FALSE)*B37) -> 0 | L37: =SUM(J37*X37) -> 0 | M37: =SUM(K37*X37) -> 0 | N37: =SUM(J37+L37) -> 0 | O37: =SUM(K37+M37) -> 0 | P37: =IFERROR(H37+N37,0) -> 0 | Q37: =IFERROR(I37+O37,0) -> 0 | R37: ='Com1&Colr'!G37 | S37: =IFERROR((P37+Q37+R37),0) -> 0 | T37: ='Com1&Colr'!K37 | U37: =IFERROR((P37+Q37)/(T37),0) -> 0 | V37: ='Com1&Colr'!Z38 -> TVA | X37: =IFERROR(ROUNDDOWN(VLOOKUP('Com1&Colr'!A37,BDCom1!$A$3:$C$100,3,FALSE),2),0) -> 0 | Y37: =IFERROR((P37+Q37/B37),0) -> 0
... A39: =_xlfn.CONCAT('Com1&Colr'!A39) | B39: ='Com1&Colr'!B39 -> 0 | C39: ='Com1&Colr'!C39 -> 0 | D39: =IF(X39=0.06,C39*B39,0) -> 0 | E39: =IF(X39=0.21,C39*B39,0) -> 0 | F39: =IF(X39=0.06,D39*X39,0) -> 0 | G39: =IF(X39=0.21,E39*X39,0) -> 0 | H39: =SUM(D39+F39) -> 0 | I39: =SUM(E39+G39) -> 0 | J39: =IF(A39="",0,VLOOKUP(A39,BDCom1!$A$3:$E$100,4,FALSE)*B39) -> 0 | K39: =IF(A39="",0,VLOOKUP(A39,BDCom1!$A$3:$E$100,5,FALSE)*B39) -> 0 | L39: =SUM(J39*X39) -> 0 | M39: =SUM(K39*X39) -> 0 | N39: =SUM(J39+L39) -> 0 | O39: =SUM(K39+M39) -> 0 | P39: =IFERROR(H39+N39,0) -> 0 | Q39: =IFERROR(I39+O39,0) -> 0 | R39: ='Com1&Colr'!G39 | S39: =IFERROR((P39+Q39+R39),0) -> 0 | T39: ='Com1&Colr'!K39 | U39: =IFERROR((P39+Q39)/(T39),0) -> 0 | V39: ='Com1&Colr'!Z40 -> 0 | X39: =IFERROR(ROUNDDOWN(VLOOKUP('Com1&Colr'!A39,BDCom1!$A$3:$C$100,3,FALSE),2),0) -> 0 | Y39: =IFERROR((P39+Q39/B39),0) -> 0
D40: =SUM(D2:D39) -> 881.01 | E40: =SUM(E2:E39) -> 2264.82 | F40: =SUM(F2:F39) -> 52.8606 | G40: =SUM(G2:G39) -> 475.6122 | H40: =SUM(H2:H39) -> 933.8706 | I40: =SUM(I2:I39) -> 2740.4322 | J40: =SUM(J2:J39) -> 36.69 | K40: =SUM(K2:K39) -> 108.82 | ... T40: =SUM(T2:T39) -> 3338
D41: =SUM(D40+E40) -> 3145.83 | F41: =SUM(F40+G40) -> 528.4728 | H41: =SUM(H40+I40) -> 3674.3028 | J41: =SUM(J40+K40) -> 145.51 | L41: =SUM(L40+M40) -> 25.0536 | N41: =SUM(N40+O40) -> 170.5636 | P41: =SUM(P40+Q40) -> 3844.8664
A47: =_xlfn.CONCAT('Com1&Colr'!A47) -> Com Fournisseur 1 Ajout | B47: Quant. | C47: P.U H.T | D47: Tot. H.T 6% | E47: Tot H.T 21% | F47: TVA 6% | G47: TVA 21% | H47: Tot.TVAC 6 | I47: Tot. TVAC 21 | J47: H.Taxe 6% | K47: H.Taxe 21% | L47: Taxe 6% | M47: Taxe 21% | N47: Ttc Taxe 6% | O47: Ttc Taxe 21% | P47: TOT TTC 6 % | Q47: TOT TTC 21% | R47: Consigne | S47: Tot + Cons | T47: Prévision | U47: P.U TTC | V47: P.U.V. | W47: BNet | X47: TVA | Y47: P.U TTC
A48: =_xlfn.CONCAT('Com1&Colr'!A48) -> Fut Jupiler (1X30 L) | B48: ='Com1&Colr'!B48 -> 1 | C48: ='Com1&Colr'!C48 -> 89.18 | D48: =IF(X48=0.06,C48*B48,0) -> 0 | E48: =IF(X48=0.21,C48*B48,0) -> 89.18 | F48: =IF(X48=0.06,D48*X48,0) -> 0 | G48: =IF(X48=0.21,E48*X48,0) -> 18.7278 | H48: =SUM(D48+F48) -> 0 | I48: =SUM(E48+G48) -> 107.9078 | J48: =IF(A48="",0,VLOOKUP(A48,BDCom1!$A$3:$E$100,4,FALSE)*B48) -> 0 | K48: =IF(A48="",0,VLOOKUP(A48,BDCom1!$A$3:$E$100,5,FALSE)*B48) -> 7.22 | L48: =SUM(J48*X48) -> 0 | M48: =SUM(K48*X48) -> 1.5162 | N48: =SUM(J48+L48) -> 0 | O48: =SUM(K48+M48) -> 8.7362 | P48: =IFERROR(H48+N48,0) -> 0 | Q48: =IFERROR(I48+O48,0) -> 116.644 | R48: ='Com1&Colr'!G48 -> 30 | S48: =IFERROR((P48+Q48+R48),0) -> 146.644 | T48: ='Com1&Colr'!K48 -> 114 | U48: =IFERROR((P48+Q48)/(T48),0) -> 1.023193 | V48: ='Com1&Colr'!C93 -> 0 | X48: =IFERROR(ROUNDDOWN(VLOOKUP('Com1&Colr'!A48,BDCom1!$A$3:$C$100,3,FALSE),2),0) -> 0.21 | Y48: =IFERROR((P48+Q48/B48),0) -> 116.644
A49: =_xlfn.CONCAT('Com1&Colr'!A49) -> Coca-Cola Normal (1X6) 1L | B49: ='Com1&Colr'!B49 -> 5 | C49: ='Com1&Colr'!C49 -> 13.93 | D49: =IF(X49=0.06,C49*B49,0) -> 69.65 | E49: =IF(X49=0.21,C49*B49,0) -> 0 | F49: =IF(X49=0.06,D49*X49,0) -> 4.179 | G49: =IF(X49=0.21,E49*X49,0) -> 0 | H49: =SUM(D49+F49) -> 73.829 | I49: =SUM(E49+G49) -> 0 | J49: =IF(A49="",0,VLOOKUP(A49,BDCom1!$A$3:$E$100,4,FALSE)*B49) -> 4 | K49: =IF(A49="",0,VLOOKUP(A49,BDCom1!$A$3:$E$100,5,FALSE)*B49) -> 0 | L49: =SUM(J49*X49) -> 0.24 | M49: =SUM(K49*X49) -> 0 | N49: =SUM(J49+L49) -> 4.24 | O49: =SUM(K49+M49) -> 0 | P49: =IFERROR(H49+N49,0) -> 78.069 | Q49: =IFERROR(I49+O49,0) -> 0 | R49: ='Com1&Colr'!G49 -> 17.5 | S49: =IFERROR((P49+Q49+R49),0) -> 95.569 | T49: ='Com1&Colr'!K49 -> 120 | U49: =IFERROR((P49+Q49)/(T49),0) -> 0.650575 | V49: ='Com1&Colr'!C94 -> 0 | X49: =IFERROR(ROUNDDOWN(VLOOKUP('Com1&Colr'!A49,BDCom1!$A$3:$C$100,3,FALSE),2),0) -> 0.06 | Y49: =IFERROR((P49+Q49/B49),0) -> 78.069
A50: =_xlfn.CONCAT('Com1&Colr'!A50) -> Eau plate (1X12) 1L | B50: ='Com1&Colr'!B50 -> 8 | C50: ='Com1&Colr'!C50 -> 8.66 | D50: =IF(X50=0.06,C50*B50,0) -> 69.28 | E50: =IF(X50=0.21,C50*B50,0) -> 0 | F50: =IF(X50=0.06,D50*X50,0) -> 4.1568 | G50: =IF(X50=0.21,E50*X50,0) -> 0 | H50: =SUM(D50+F50) -> 73.4368 | I50: =SUM(E50+G50) -> 0 | J50: =IF(A50="",0,VLOOKUP(A50,BDCom1!$A$3:$E$100,4,FALSE)*B50) -> 1.36 | K50: =IF(A50="",0,VLOOKUP(A50,BDCom1!$A$3:$E$100,5,FALSE)*B50) -> 0 | L50: =SUM(J50*X50) -> 0.0816 | M50: =SUM(K50*X50) -> 0 | N50: =SUM(J50+L50) -> 1.4416 | O50: =SUM(K50+M50) -> 0 | P50: =IFERROR(H50+N50,0) -> 74.8784 | Q50: =IFERROR(I50+O50,0) -> 0 | R50: ='Com1&Colr'!G50 -> 36 | S50: =IFERROR((P50+Q50+R50),0) -> 110.8784 | T50: ='Com1&Colr'!K50 -> 384 | U50: =IFERROR((P50+Q50)/(T50),0) -> 0.19499583 | V50: ='Com1&Colr'!C95 -> 0 | X50: =IFERROR(ROUNDDOWN(VLOOKUP('Com1&Colr'!A50,BDCom1!$A$3:$C$100,3,FALSE),2),0) -> 0.06 | Y50: =IFERROR((P50+Q50/B50),0) -> 74.8784
A51: =_xlfn.CONCAT('Com1&Colr'!A51) -> Eau Gazeuse (1X12) 1L | B51: ='Com1&Colr'!B51 -> 8 | C51: ='Com1&Colr'!C51 -> 8.66 | D51: =IF(X51=0.06,C51*B51,0) -> 69.28 | E51: =IF(X51=0.21,C51*B51,0) -> 0 | F51: =IF(X51=0.06,D51*X51,0) -> 4.1568 | G51: =IF(X51=0.21,E51*X51,0) -> 0 | H51: =SUM(D51+F51) -> 73.4368 | I51: =SUM(E51+G51) -> 0 | J51: =IF(A51="",0,VLOOKUP(A51,BDCom1!$A$3:$E$100,4,FALSE)*B51) -> 1.36 | K51: =IF(A51="",0,VLOOKUP(A51,BDCom1!$A$3:$E$100,5,FALSE)*B51) -> 0 | L51: =SUM(J51*X51) -> 0.0816 | M51: =SUM(K51*X51) -> 0 | N51: =SUM(J51+L51) -> 1.4416 | O51: =SUM(K51+M51) -> 0 | P51: =IFERROR(H51+N51,0) -> 74.8784 | Q51: =IFERROR(I51+O51,0) -> 0 | R51: ='Com1&Colr'!G51 -> 36 | S51: =IFERROR((P51+Q51+R51),0) -> 110.8784 | T51: ='Com1&Colr'!K51 -> 384 | U51: =IFERROR((P51+Q51)/(T51),0) -> 0.19499583 | V51: ='Com1&Colr'!C96 -> 0 | X51: =IFERROR(ROUNDDOWN(VLOOKUP('Com1&Colr'!A51,BDCom1!$A$3:$C$100,3,FALSE),2),0) -> 0.06 | Y51: =IFERROR((P51+Q51/B51),0) -> 74.8784
A52: =_xlfn.CONCAT('Com1&Colr'!A52) -> Coca-Cola Zéro (1X6) 1L | B52: ='Com1&Colr'!B52 -> 8 | C52: ='Com1&Colr'!C52 -> 13.49 | D52: =IF(X52=0.06,C52*B52,0) -> 107.92 | E52: =IF(X52=0.21,C52*B52,0) -> 0 | F52: =IF(X52=0.06,D52*X52,0) -> 6.4752 | G52: =IF(X52=0.21,E52*X52,0) -> 0 | H52: =SUM(D52+F52) -> 114.3952 | I52: =SUM(E52+G52) -> 0 | J52: =IF(A52="",0,VLOOKUP(A52,BDCom1!$A$3:$E$100,4,FALSE)*B52) -> 6.4 | K52: =IF(A52="",0,VLOOKUP(A52,BDCom1!$A$3:$E$100,5,FALSE)*B52) -> 0 | L52: =SUM(J52*X52) -> 0.384 | M52: =SUM(K52*X52) -> 0 | N52: =SUM(J52+L52) -> 6.784 | O52: =SUM(K52+M52) -> 0 | P52: =IFERROR(H52+N52,0) -> 121.1792 | Q52: =IFERROR(I52+O52,0) -> 0 | R52: ='Com1&Colr'!G52 -> 28 | S52: =IFERROR((P52+Q52+R52),0) -> 149.1792 | T52: ='Com1&Colr'!K52 -> 192 | U52: =IFERROR((P52+Q52)/(T52),0) -> 0.63114167 | V52: ='Com1&Colr'!C97 -> 0 | X52: =IFERROR(ROUNDDOWN(VLOOKUP('Com1&Colr'!A52,BDCom1!$A$3:$C$100,3,FALSE),2),0) -> 0.06 | Y52: =IFERROR((P52+Q52/B52),0) -> 121.1792
A53: =_xlfn.CONCAT('Com1&Colr'!A53) | B53: ='Com1&Colr'!B53 -> 0 | C53: ='Com1&Colr'!C53 -> 0 | D53: =IF(X53=0.06,C53*B53,0) -> 0 | E53: =IF(X53=0.21,C53*B53,0) -> 0 | F53: =IF(X53=0.06,D53*X53,0) -> 0 | G53: =IF(X53=0.21,E53*X53,0) -> 0 | H53: =SUM(D53+F53) -> 0 | I53: =SUM(E53+G53) -> 0 | J53: =IF(A53="",0,VLOOKUP(A53,BDCom1!$A$3:$E$100,4,FALSE)*B53) -> 0 | K53: =IF(A53="",0,VLOOKUP(A53,BDCom1!$A$3:$E$100,5,FALSE)*B53) -> 0 | L53: =SUM(J53*X53) -> 0 | M53: =SUM(K53*X53) -> 0 | N53: =SUM(J53+L53) -> 0 | O53: =SUM(K53+M53) -> 0 | P53: =IFERROR(H53+N53,0) -> 0 | Q53: =IFERROR(I53+O53,0) -> 0 | R53: ='Com1&Colr'!G53 | S53: =IFERROR((P53+Q53+R53),0) -> 0 | T53: ='Com1&Colr'!K53 | U53: =IFERROR((P53+Q53)/(T53),0) -> 0 | V53: ='Com1&Colr'!C98 -> 0 | X53: =IFERROR(ROUNDDOWN(VLOOKUP('Com1&Colr'!A53,BDCom1!$A$3:$C$100,3,FALSE),2),0) -> 0 | Y53: =IFERROR((P53+Q53/B53),0) -> 0
A54: =_xlfn.CONCAT('Com1&Colr'!A54) | B54: ='Com1&Colr'!B54 -> 0 | C54: ='Com1&Colr'!C54 -> 0 | D54: =IF(X54=0.06,C54*B54,0) -> 0 | E54: =IF(X54=0.21,C54*B54,0) -> 0 | F54: =IF(X54=0.06,D54*X54,0) -> 0 | G54: =IF(X54=0.21,E54*X54,0) -> 0 | H54: =SUM(D54+F54) -> 0 | I54: =SUM(E54+G54) -> 0 | J54: =IF(A54="",0,VLOOKUP(A54,BDCom1!$A$3:$E$100,4,FALSE)*B54) -> 0 | K54: =IF(A54="",0,VLOOKUP(A54,BDCom1!$A$3:$E$100,5,FALSE)*B54) -> 0 | L54: =SUM(J54*X54) -> 0 | M54: =SUM(K54*X54) -> 0 | N54: =SUM(J54+L54) -> 0 | O54: =SUM(K54+M54) -> 0 | P54: =IFERROR(H54+N54,0) -> 0 | Q54: =IFERROR(I54+O54,0) -> 0 | R54: ='Com1&Colr'!G54 | S54: =IFERROR((P54+Q54+R54),0) -> 0 | T54: ='Com1&Colr'!K54 | U54: =IFERROR((P54+Q54)/(T54),0) -> 0 | V54: ='Com1&Colr'!C99 -> 0 | X54: =IFERROR(ROUNDDOWN(VLOOKUP('Com1&Colr'!A54,BDCom1!$A$3:$C$100,3,FALSE),2),0) -> 0 | Y54: =IFERROR((P54+Q54/B54),0) -> 0
A55: =_xlfn.CONCAT('Com1&Colr'!A55) | B55: ='Com1&Colr'!B55 -> 0 | C55: ='Com1&Colr'!C55 -> 0 | D55: =IF(X55=0.06,C55*B55,0) -> 0 | E55: =IF(X55=0.21,C55*B55,0) -> 0 | F55: =IF(X55=0.06,D55*X55,0) -> 0 | G55: =IF(X55=0.21,E55*X55,0) -> 0 | H55: =SUM(D55+F55) -> 0 | I55: =SUM(E55+G55) -> 0 | J55: =IF(A55="",0,VLOOKUP(A55,BDCom1!$A$3:$E$100,4,FALSE)*B55) -> 0 | K55: =IF(A55="",0,VLOOKUP(A55,BDCom1!$A$3:$E$100,5,FALSE)*B55) -> 0 | L55: =SUM(J55*X55) -> 0 | M55: =SUM(K55*X55) -> 0 | N55: =SUM(J55+L55) -> 0 | O55: =SUM(K55+M55) -> 0 | P55: =IFERROR(H55+N55,0) -> 0 | Q55: =IFERROR(I55+O55,0) -> 0 | R55: ='Com1&Colr'!G55 | S55: =IFERROR((P55+Q55+R55),0) -> 0 | T55: ='Com1&Colr'!K55 | U55: =IFERROR((P55+Q55)/(T55),0) -> 0 | V55: ='Com1&Colr'!C100 -> 0 | X55: =IFERROR(ROUNDDOWN(VLOOKUP('Com1&Colr'!A55,BDCom1!$A$3:$C$100,3,FALSE),2),0) -> 0 | Y55: =IFERROR((P55+Q55/B55),0) -> 0
A56: =_xlfn.CONCAT('Com1&Colr'!A56) | B56: ='Com1&Colr'!B56 -> 0 | C56: ='Com1&Colr'!C56 -> 0 | D56: =IF(X56=0.06,C56*B56,0) -> 0 | E56: =IF(X56=0.21,C56*B56,0) -> 0 | F56: =IF(X56=0.06,D56*X56,0) -> 0 | G56: =IF(X56=0.21,E56*X56,0) -> 0 | H56: =SUM(D56+F56) -> 0 | I56: =SUM(E56+G56) -> 0 | J56: =IF(A56="",0,VLOOKUP(A56,BDCom1!$A$3:$E$100,4,FALSE)*B56) -> 0 | K56: =IF(A56="",0,VLOOKUP(A56,BDCom1!$A$3:$E$100,5,FALSE)*B56) -> 0 | L56: =SUM(J56*X56) -> 0 | M56: =SUM(K56*X56) -> 0 | N56: =SUM(J56+L56) -> 0 | O56: =SUM(K56+M56) -> 0 | P56: =IFERROR(H56+N56,0) -> 0 | Q56: =IFERROR(I56+O56,0) -> 0 | R56: ='Com1&Colr'!G56 | S56: =IFERROR((P56+Q56+R56),0) -> 0 | T56: ='Com1&Colr'!K56 | U56: =IFERROR((P56+Q56)/(T56),0) -> 0 | V56: ='Com1&Colr'!C101 -> 0 | X56: =IFERROR(ROUNDDOWN(VLOOKUP('Com1&Colr'!A56,BDCom1!$A$3:$C$100,3,FALSE),2),0) -> 0 | Y56: =IFERROR((P56+Q56/B56),0) -> 0
A57: =_xlfn.CONCAT('Com1&Colr'!A57) | B57: ='Com1&Colr'!B57 -> 0 | C57: ='Com1&Colr'!C57 -> 0 | D57: =IF(X57=0.06,C57*B57,0) -> 0 | E57: =IF(X57=0.21,C57*B57,0) -> 0 | F57: =IF(X57=0.06,D57*X57,0) -> 0 | G57: =IF(X57=0.21,E57*X57,0) -> 0 | H57: =SUM(D57+F57) -> 0 | I57: =SUM(E57+G57) -> 0 | J57: =IF(A57="",0,VLOOKUP(A57,BDCom1!$A$3:$E$100,4,FALSE)*B57) -> 0 | K57: =IF(A57="",0,VLOOKUP(A57,BDCom1!$A$3:$E$100,5,FALSE)*B57) -> 0 | L57: =SUM(J57*X57) -> 0 | M57: =SUM(K57*X57) -> 0 | N57: =SUM(J57+L57) -> 0 | O57: =SUM(K57+M57) -> 0 | P57: =IFERROR(H57+N57,0) -> 0 | Q57: =IFERROR(I57+O57,0) -> 0 | R57: ='Com1&Colr'!G57 | S57: =IFERROR((P57+Q57+R57),0) -> 0 | T57: ='Com1&Colr'!K57 | U57: =IFERROR((P57+Q57)/(T57),0) -> 0 | V57: ='Com1&Colr'!C102 -> 0 | X57: =IFERROR(ROUNDDOWN(VLOOKUP('Com1&Colr'!A57,BDCom1!$A$3:$C$100,3,FALSE),2),0) -> 0 | Y57: =IFERROR((P57+Q57/B57),0) -> 0
A58: =_xlfn.CONCAT('Com1&Colr'!A58) | B58: ='Com1&Colr'!B58 -> 0 | C58: ='Com1&Colr'!C58 -> 0 | D58: =IF(X58=0.06,C58*B58,0) -> 0 | E58: =IF(X58=0.21,C58*B58,0) -> 0 | F58: =IF(X58=0.06,D58*X58,0) -> 0 | G58: =IF(X58=0.21,E58*X58,0) -> 0 | H58: =SUM(D58+F58) -> 0 | I58: =SUM(E58+G58) -> 0 | J58: =IF(A58="",0,VLOOKUP(A58,BDCom1!$A$3:$E$100,4,FALSE)*B58) -> 0 | K58: =IF(A58="",0,VLOOKUP(A58,BDCom1!$A$3:$E$100,5,FALSE)*B58) -> 0 | L58: =SUM(J58*X58) -> 0 | M58: =SUM(K58*X58) -> 0 | N58: =SUM(J58+L58) -> 0 | O58: =SUM(K58+M58) -> 0 | P58: =IFERROR(H58+N58,0) -> 0 | Q58: =IFERROR(I58+O58,0) -> 0 | R58: ='Com1&Colr'!G58 | S58: =IFERROR((P58+Q58+R58),0) -> 0 | T58: ='Com1&Colr'!K58 | U58: =IFERROR((P58+Q58)/(T58),0) -> 0 | V58: ='Com1&Colr'!C103 -> 0 | X58: =IFERROR(ROUNDDOWN(VLOOKUP('Com1&Colr'!A58,BDCom1!$A$3:$C$100,3,FALSE),2),0) -> 0 | Y58: =IFERROR((P58+Q58/B58),0) -> 0
A59: =_xlfn.CONCAT('Com1&Colr'!A59) | B59: ='Com1&Colr'!B59 -> 0 | C59: ='Com1&Colr'!C59 -> 0 | D59: =IF(X59=0.06,C59*B59,0) -> 0 | E59: =IF(X59=0.21,C59*B59,0) -> 0 | F59: =IF(X59=0.06,D59*X59,0) -> 0 | G59: =IF(X59=0.21,E59*X59,0) -> 0 | H59: =SUM(D59+F59) -> 0 | I59: =SUM(E59+G59) -> 0 | J59: =IF(A59="",0,VLOOKUP(A59,BDCom1!$A$3:$E$100,4,FALSE)*B59) -> 0 | K59: =IF(A59="",0,VLOOKUP(A59,BDCom1!$A$3:$E$100,5,FALSE)*B59) -> 0 | L59: =SUM(J59*X59) -> 0 | M59: =SUM(K59*X59) -> 0 | N59: =SUM(J59+L59) -> 0 | O59: =SUM(K59+M59) -> 0 | P59: =IFERROR(H59+N59,0) -> 0 | Q59: =IFERROR(I59+O59,0) -> 0 | R59: ='Com1&Colr'!G59 | S59: =IFERROR((P59+Q59+R59),0) -> 0 | T59: ='Com1&Colr'!K59 | U59: =IFERROR((P59+Q59)/(T59),0) -> 0 | V59: ='Com1&Colr'!C104 -> 0 | X59: =IFERROR(ROUNDDOWN(VLOOKUP('Com1&Colr'!A59,BDCom1!$A$3:$C$100,3,FALSE),2),0) -> 0 | Y59: =IFERROR((P59+Q59/B59),0) -> 0
A60: =_xlfn.CONCAT('Com1&Colr'!A60) | B60: ='Com1&Colr'!B60 -> 0 | C60: ='Com1&Colr'!C60 -> 0 | D60: =IF(X60=0.06,C60*B60,0) -> 0 | E60: =IF(X60=0.21,C60*B60,0) -> 0 | F60: =IF(X60=0.06,D60*X60,0) -> 0 | G60: =IF(X60=0.21,E60*X60,0) -> 0 | H60: =SUM(D60+F60) -> 0 | I60: =SUM(E60+G60) -> 0 | J60: =IF(A60="",0,VLOOKUP(A60,BDCom1!$A$3:$E$100,4,FALSE)*B60) -> 0 | K60: =IF(A60="",0,VLOOKUP(A60,BDCom1!$A$3:$E$100,5,FALSE)*B60) -> 0 | L60: =SUM(J60*X60) -> 0 | M60: =SUM(K60*X60) -> 0 | N60: =SUM(J60+L60) -> 0 | O60: =SUM(K60+M60) -> 0 | P60: =IFERROR(H60+N60,0) -> 0 | Q60: =IFERROR(I60+O60,0) -> 0 | R60: ='Com1&Colr'!G60 | S60: =IFERROR((P60+Q60+R60),0) -> 0 | T60: ='Com1&Colr'!K60 | U60: =IFERROR((P60+Q60)/(T60),0) -> 0 | V60: ='Com1&Colr'!C105 -> 0 | X60: =IFERROR(ROUNDDOWN(VLOOKUP('Com1&Colr'!A60,BDCom1!$A$3:$C$100,3,FALSE),2),0) -> 0 | Y60: =IFERROR((P60+Q60/B60),0) -> 0
D61: =SUM(D48:D60) -> 316.13 | E61: =SUM(E48:E60) -> 89.18 | F61: =SUM(F48:F60) -> 18.9678 | G61: =SUM(G48:G60) -> 18.7278 | H61: =SUM(H48:H60) -> 335.0978 | I61: =SUM(I48:I60) -> 107.9078 | J61: =SUM(J48:J60) -> 13.12 | K61: =SUM(K48:K60) -> 7.22 | ... T61: =SUM(T48:T60) -> 1194
D62: =SUM(D61+E61) -> 405.31 | F62: =SUM(F61+G61) -> 37.6956 | H62: =SUM(H61+I61) -> 443.0056 | J62: =SUM(J61+K61) -> 20.34 | L62: =SUM(L61+M61) -> 2.3034 | N62: =SUM(N61+O61) -> 22.6434 | P62: =SUM(P61+Q61) -> 465.649
A68: =_xlfn.CONCAT('Com1&Colr'!A68) -> Com Fournisseur 2 | B68: Quant. | C68: P.U H.T | D68: Tot. H.T 6% | E68: Tot H.T 21% | F68: TVA 6% | G68: TVA 21% | H68: Tot.TVAC 6 | I68: Tot. TVAC 21 | J68: H.Taxe 6% | K68: H.Taxe 21% | L68: Taxe 6% | M68: Taxe 21% | N68: Ttc Taxe 6% | O68: Ttc Taxe 21% | P68: TOT TTC 6 % | Q68: TOT TTC 21% | R68: Consigne | S68: Tot + Cons | T68: Prévision | U68: P.U TTC | V68: P.U.V. | W68: BNet | X68: TVA | Y68: P.U TTC
A69: =_xlfn.CONCAT('Com1&Colr'!A69) | B69: ='Com1&Colr'!B69 -> 0 | C69: ='Com1&Colr'!C69 -> 0 | D69: =IF(X69=0.06,C69*B69,0) -> 0 | E69: =IF(X69=0.21,C69*B69,0) -> 0 | F69: =IF(X69=0.06,D69*X69,0) -> 0 | G69: =IF(X69=0.21,E69*X69,0) -> 0 | H69: =SUM(D69+F69) -> 0 | I69: =SUM(E69+G69) -> 0 | J69: =IF(A69="",0,VLOOKUP(A69,BDCom1!$A$3:$E$100,4,FALSE)*B69) -> 0 | K69: =IF(A69="",0,VLOOKUP(A69,BDCom1!$A$3:$E$100,5,FALSE)*B69) -> 0 | L69: =SUM(J69*X69) -> 0 | M69: =SUM(K69*X69) -> 0 | N69: =SUM(J69+L69) -> 0 | O69: =SUM(K69+M69) -> 0 | P69: =IFERROR(H69+N69,0) -> 0 | Q69: =IFERROR(I69+O69,0) -> 0 | R69: ='Com1&Colr'!G69 | S69: =IFERROR((P69+Q69+R69),0) -> 0 | T69: ='Com1&Colr'!K69 | U69: =IFERROR((P69+Q69)/(T69),0) -> 0 | V69: ='Com1&Colr'!C69 -> 0 | X69: =IFERROR(ROUNDDOWN(VLOOKUP('Com1&Colr'!A69,BDCom1!$A$3:$C$100,3,FALSE),2),0) -> 0 | Y69: =IFERROR((P69+Q69/B69),0) -> 0
A70: =_xlfn.CONCAT('Com1&Colr'!A70) | B70: ='Com1&Colr'!B70 -> 0 | C70: ='Com1&Colr'!C70 -> 0 | D70: =IF(X70=0.06,C70*B70,0) -> 0 | E70: =IF(X70=0.21,C70*B70,0) -> 0 | F70: =IF(X70=0.06,D70*X70,0) -> 0 | G70: =IF(X70=0.21,E70*X70,0) -> 0 | H70: =SUM(D70+F70) -> 0 | I70: =SUM(E70+G70) -> 0 | J70: =IF(A70="",0,VLOOKUP(A70,BDCom1!$A$3:$E$100,4,FALSE)*B70) -> 0 | K70: =IF(A70="",0,VLOOKUP(A70,BDCom1!$A$3:$E$100,5,FALSE)*B70) -> 0 | L70: =SUM(J70*X70) -> 0 | M70: =SUM(K70*X70) -> 0 | N70: =SUM(J70+L70) -> 0 | O70: =SUM(K70+M70) -> 0 | P70: =IFERROR(H70+N70,0) -> 0 | Q70: =IFERROR(I70+O70,0) -> 0 | R70: ='Com1&Colr'!G70 | S70: =IFERROR((P70+Q70+R70),0) -> 0 | T70: ='Com1&Colr'!K70 | U70: =IFERROR((P70+Q70)/(T70),0) -> 0 | V70: ='Com1&Colr'!C70 -> 0 | X70: =IFERROR(ROUNDDOWN(VLOOKUP('Com1&Colr'!A70,BDCom1!$A$3:$C$100,3,FALSE),2),0) -> 0 | Y70: =IFERROR((P70+Q70/B70),0) -> 0
A71: =_xlfn.CONCAT('Com1&Colr'!A71) | B71: ='Com1&Colr'!B71 -> 0 | C71: ='Com1&Colr'!C71 -> 0 | D71: =IF(X71=0.06,C71*B71,0) -> 0 | E71: =IF(X71=0.21,C71*B71,0) -> 0 | F71: =IF(X71=0.06,D71*X71,0) -> 0 | G71: =IF(X71=0.21,E71*X71,0) -> 0 | H71: =SUM(D71+F71) -> 0 | I71: =SUM(E71+G71) -> 0 | J71: =IF(A71="",0,VLOOKUP(A71,BDCom1!$A$3:$E$100,4,FALSE)*B71) -> 0 | K71: =IF(A71="",0,VLOOKUP(A71,BDCom1!$A$3:$E$100,5,FALSE)*B71) -> 0 | L71: =SUM(J71*X71) -> 0 | M71: =SUM(K71*X71) -> 0 | N71: =SUM(J71+L71) -> 0 | O71: =SUM(K71+M71) -> 0 | P71: =IFERROR(H71+N71,0) -> 0 | Q71: =IFERROR(I71+O71,0) -> 0 | R71: ='Com1&Colr'!G71 | S71: =IFERROR((P71+Q71+R71),0) -> 0 | T71: ='Com1&Colr'!K71 | U71: =IFERROR((P71+Q71)/(T71),0) -> 0 | V71: ='Com1&Colr'!C71 -> 0 | X71: =IFERROR(ROUNDDOWN(VLOOKUP('Com1&Colr'!A71,BDCom1!$A$3:$C$100,3,FALSE),2),0) -> 0 | Y71: =IFERROR((P71+Q71/B71),0) -> 0
A72: =_xlfn.CONCAT('Com1&Colr'!A72) | B72: ='Com1&Colr'!B72 -> 0 | C72: ='Com1&Colr'!C72 -> 0 | D72: =IF(X72=0.06,C72*B72,0) -> 0 | E72: =IF(X72=0.21,C72*B72,0) -> 0 | F72: =IF(X72=0.06,D72*X72,0) -> 0 | G72: =IF(X72=0.21,E72*X72,0) -> 0 | H72: =SUM(D72+F72) -> 0 | I72: =SUM(E72+G72) -> 0 | J72: =IF(A72="",0,VLOOKUP(A72,BDCom1!$A$3:$E$100,4,FALSE)*B72) -> 0 | K72: =IF(A72="",0,VLOOKUP(A72,BDCom1!$A$3:$E$100,5,FALSE)*B72) -> 0 | L72: =SUM(J72*X72) -> 0 | M72: =SUM(K72*X72) -> 0 | N72: =SUM(J72+L72) -> 0 | O72: =SUM(K72+M72) -> 0 | P72: =IFERROR(H72+N72,0) -> 0 | Q72: =IFERROR(I72+O72,0) -> 0 | R72: ='Com1&Colr'!G72 | S72: =IFERROR((P72+Q72+R72),0) -> 0 | T72: ='Com1&Colr'!K72 | U72: =IFERROR((P72+Q72)/(T72),0) -> 0 | V72: ='Com1&Colr'!C72 -> 0 | X72: =IFERROR(ROUNDDOWN(VLOOKUP('Com1&Colr'!A72,BDCom1!$A$3:$C$100,3,FALSE),2),0) -> 0 | Y72: =IFERROR((P72+Q72/B72),0) -> 0
A73: =_xlfn.CONCAT('Com1&Colr'!A73) | B73: ='Com1&Colr'!B73 -> 0 | C73: ='Com1&Colr'!C73 -> 0 | D73: =IF(X73=0.06,C73*B73,0) -> 0 | E73: =IF(X73=0.21,C73*B73,0) -> 0 | F73: =IF(X73=0.06,D73*X73,0) -> 0 | G73: =IF(X73=0.21,E73*X73,0) -> 0 | H73: =SUM(D73+F73) -> 0 | I73: =SUM(E73+G73) -> 0 | J73: =IF(A73="",0,VLOOKUP(A73,BDCom1!$A$3:$E$100,4,FALSE)*B73) -> 0 | K73: =IF(A73="",0,VLOOKUP(A73,BDCom1!$A$3:$E$100,5,FALSE)*B73) -> 0 | L73: =SUM(J73*X73) -> 0 | M73: =SUM(K73*X73) -> 0 | N73: =SUM(J73+L73) -> 0 | O73: =SUM(K73+M73) -> 0 | P73: =IFERROR(H73+N73,0) -> 0 | Q73: =IFERROR(I73+O73,0) -> 0 | R73: ='Com1&Colr'!G73 | S73: =IFERROR((P73+Q73+R73),0) -> 0 | T73: ='Com1&Colr'!K73 | U73: =IFERROR((P73+Q73)/(T73),0) -> 0 | V73: ='Com1&Colr'!C73 -> 0 | X73: =IFERROR(ROUNDDOWN(VLOOKUP('Com1&Colr'!A73,BDCom1!$A$3:$C$100,3,FALSE),2),0) -> 0 | Y73: =IFERROR((P73+Q73/B73),0) -> 0
A74: =_xlfn.CONCAT('Com1&Colr'!A74) | B74: ='Com1&Colr'!B74 -> 0 | C74: ='Com1&Colr'!C74 -> 0 | D74: =IF(X74=0.06,C74*B74,0) -> 0 | E74: =IF(X74=0.21,C74*B74,0) -> 0 | F74: =IF(X74=0.06,D74*X74,0) -> 0 | G74: =IF(X74=0.21,E74*X74,0) -> 0 | H74: =SUM(D74+F74) -> 0 | I74: =SUM(E74+G74) -> 0 | J74: =IF(A74="",0,VLOOKUP(A74,BDCom1!$A$3:$E$100,4,FALSE)*B74) -> 0 | K74: =IF(A74="",0,VLOOKUP(A74,BDCom1!$A$3:$E$100,5,FALSE)*B74) -> 0 | L74: =SUM(J74*X74) -> 0 | M74: =SUM(K74*X74) -> 0 | N74: =SUM(J74+L74) -> 0 | O74: =SUM(K74+M74) -> 0 | P74: =IFERROR(H74+N74,0) -> 0 | Q74: =IFERROR(I74+O74,0) -> 0 | R74: ='Com1&Colr'!G74 | S74: =IFERROR((P74+Q74+R74),0) -> 0 | T74: ='Com1&Colr'!K74 | U74: =IFERROR((P74+Q74)/(T74),0) -> 0 | V74: ='Com1&Colr'!C74 -> 0 | X74: =IFERROR(ROUNDDOWN(VLOOKUP('Com1&Colr'!A74,BDCom1!$A$3:$C$100,3,FALSE),2),0) -> 0 | Y74: =IFERROR((P74+Q74/B74),0) -> 0
A75: =_xlfn.CONCAT('Com1&Colr'!A75) | B75: ='Com1&Colr'!B75 -> 0 | C75: ='Com1&Colr'!C75 -> 0 | D75: =IF(X75=0.06,C75*B75,0) -> 0 | E75: =IF(X75=0.21,C75*B75,0) -> 0 | F75: =IF(X75=0.06,D75*X75,0) -> 0 | G75: =IF(X75=0.21,E75*X75,0) -> 0 | H75: =SUM(D75+F75) -> 0 | I75: =SUM(E75+G75) -> 0 | J75: =IF(A75="",0,VLOOKUP(A75,BDCom1!$A$3:$E$100,4,FALSE)*B75) -> 0 | K75: =IF(A75="",0,VLOOKUP(A75,BDCom1!$A$3:$E$100,5,FALSE)*B75) -> 0 | L75: =SUM(J75*X75) -> 0 | M75: =SUM(K75*X75) -> 0 | N75: =SUM(J75+L75) -> 0 | O75: =SUM(K75+M75) -> 0 | P75: =IFERROR(H75+N75,0) -> 0 | Q75: =IFERROR(I75+O75,0) -> 0 | R75: ='Com1&Colr'!G75 | S75: =IFERROR((P75+Q75+R75),0) -> 0 | T75: ='Com1&Colr'!K75 | U75: =IFERROR((P75+Q75)/(T75),0) -> 0 | V75: ='Com1&Colr'!C75 -> 0 | X75: =IFERROR(ROUNDDOWN(VLOOKUP('Com1&Colr'!A75,BDCom1!$A$3:$C$100,3,FALSE),2),0) -> 0 | Y75: =IFERROR((P75+Q75/B75),0) -> 0
A76: =_xlfn.CONCAT('Com1&Colr'!A76) | B76: ='Com1&Colr'!B76 -> 0 | C76: ='Com1&Colr'!C76 -> 0 | D76: =IF(X76=0.06,C76*B76,0) -> 0 | E76: =IF(X76=0.21,C76*B76,0) -> 0 | F76: =IF(X76=0.06,D76*X76,0) -> 0 | G76: =IF(X76=0.21,E76*X76,0) -> 0 | H76: =SUM(D76+F76) -> 0 | I76: =SUM(E76+G76) -> 0 | J76: =IF(A76="",0,VLOOKUP(A76,BDCom1!$A$3:$E$100,4,FALSE)*B76) -> 0 | K76: =IF(A76="",0,VLOOKUP(A76,BDCom1!$A$3:$E$100,5,FALSE)*B76) -> 0 | L76: =SUM(J76*X76) -> 0 | M76: =SUM(K76*X76) -> 0 | N76: =SUM(J76+L76) -> 0 | O76: =SUM(K76+M76) -> 0 | P76: =IFERROR(H76+N76,0) -> 0 | Q76: =IFERROR(I76+O76,0) -> 0 | R76: ='Com1&Colr'!G76 | S76: =IFERROR((P76+Q76+R76),0) -> 0 | T76: ='Com1&Colr'!K76 | U76: =IFERROR((P76+Q76)/(T76),0) -> 0 | V76: ='Com1&Colr'!C76 -> 0 | X76: =IFERROR(ROUNDDOWN(VLOOKUP('Com1&Colr'!A76,BDCom1!$A$3:$C$100,3,FALSE),2),0) -> 0 | Y76: =IFERROR((P76+Q76/B76),0) -> 0
A77: =_xlfn.CONCAT('Com1&Colr'!A77) | B77: ='Com1&Colr'!B77 -> 0 | C77: ='Com1&Colr'!C77 -> 0 | D77: =IF(X77=0.06,C77*B77,0) -> 0 | E77: =IF(X77=0.21,C77*B77,0) -> 0 | F77: =IF(X77=0.06,D77*X77,0) -> 0 | G77: =IF(X77=0.21,E77*X77,0) -> 0 | H77: =SUM(D77+F77) -> 0 | I77: =SUM(E77+G77) -> 0 | J77: =IF(A77="",0,VLOOKUP(A77,BDCom1!$A$3:$E$100,4,FALSE)*B77) -> 0 | K77: =IF(A77="",0,VLOOKUP(A77,BDCom1!$A$3:$E$100,5,FALSE)*B77) -> 0 | L77: =SUM(J77*X77) -> 0 | M77: =SUM(K77*X77) -> 0 | N77: =SUM(J77+L77) -> 0 | O77: =SUM(K77+M77) -> 0 | P77: =IFERROR(H77+N77,0) -> 0 | Q77: =IFERROR(I77+O77,0) -> 0 | R77: ='Com1&Colr'!G77 | S77: =IFERROR((P77+Q77+R77),0) -> 0 | T77: ='Com1&Colr'!K77 | U77: =IFERROR((P77+Q77)/(T77),0) -> 0 | V77: ='Com1&Colr'!C77 -> 0 | X77: =IFERROR(ROUNDDOWN(VLOOKUP('Com1&Colr'!A77,BDCom1!$A$3:$C$100,3,FALSE),2),0) -> 0 | Y77: =IFERROR((P77+Q77/B77),0) -> 0
A78: =_xlfn.CONCAT('Com1&Colr'!A78) | B78: ='Com1&Colr'!B78 -> 0 | C78: ='Com1&Colr'!C78 -> 0 | D78: =IF(X78=0.06,C78*B78,0) -> 0 | E78: =IF(X78=0.21,C78*B78,0) -> 0 | F78: =IF(X78=0.06,D78*X78,0) -> 0 | G78: =IF(X78=0.21,E78*X78,0) -> 0 | H78: =SUM(D78+F78) -> 0 | I78: =SUM(E78+G78) -> 0 | J78: =IF(A78="",0,VLOOKUP(A78,BDCom1!$A$3:$E$100,4,FALSE)*B78) -> 0 | K78: =IF(A78="",0,VLOOKUP(A78,BDCom1!$A$3:$E$100,5,FALSE)*B78) -> 0 | L78: =SUM(J78*X78) -> 0 | M78: =SUM(K78*X78) -> 0 | N78: =SUM(J78+L78) -> 0 | O78: =SUM(K78+M78) -> 0 | P78: =IFERROR(H78+N78,0) -> 0 | Q78: =IFERROR(I78+O78,0) -> 0 | R78: ='Com1&Colr'!G78 | S78: =IFERROR((P78+Q78+R78),0) -> 0 | T78: ='Com1&Colr'!K78 | U78: =IFERROR((P78+Q78)/(T78),0) -> 0 | V78: ='Com1&Colr'!C78 -> 0 | X78: =IFERROR(ROUNDDOWN(VLOOKUP('Com1&Colr'!A78,BDCom1!$A$3:$C$100,3,FALSE),2),0) -> 0 | Y78: =IFERROR((P78+Q78/B78),0) -> 0
A79: =_xlfn.CONCAT('Com1&Colr'!A79) | B79: ='Com1&Colr'!B79 -> 0 | C79: ='Com1&Colr'!C79 -> 0 | D79: =IF(X79=0.06,C79*B79,0) -> 0 | E79: =IF(X79=0.21,C79*B79,0) -> 0 | F79: =IF(X79=0.06,D79*X79,0) -> 0 | G79: =IF(X79=0.21,E79*X79,0) -> 0 | H79: =SUM(D79+F79) -> 0 | I79: =SUM(E79+G79) -> 0 | J79: =IF(A79="",0,VLOOKUP(A79,BDCom1!$A$3:$E$100,4,FALSE)*B79) -> 0 | K79: =IF(A79="",0,VLOOKUP(A79,BDCom1!$A$3:$E$100,5,FALSE)*B79) -> 0 | L79: =SUM(J79*X79) -> 0 | M79: =SUM(K79*X79) -> 0 | N79: =SUM(J79+L79) -> 0 | O79: =SUM(K79+M79) -> 0 | P79: =IFERROR(H79+N79,0) -> 0 | Q79: =IFERROR(I79+O79,0) -> 0 | R79: ='Com1&Colr'!G79 | S79: =IFERROR((P79+Q79+R79),0) -> 0 | T79: ='Com1&Colr'!K79 | U79: =IFERROR((P79+Q79)/(T79),0) -> 0 | V79: ='Com1&Colr'!C79 -> 0 | X79: =IFERROR(ROUNDDOWN(VLOOKUP('Com1&Colr'!A79,BDCom1!$A$3:$C$100,3,FALSE),2),0) -> 0 | Y79: =IFERROR((P79+Q79/B79),0) -> 0
A80: =_xlfn.CONCAT('Com1&Colr'!A80) | B80: ='Com1&Colr'!B80 -> 0 | C80: ='Com1&Colr'!C80 -> 0 | D80: =IF(X80=0.06,C80*B80,0) -> 0 | E80: =IF(X80=0.21,C80*B80,0) -> 0 | F80: =IF(X80=0.06,D80*X80,0) -> 0 | G80: =IF(X80=0.21,E80*X80,0) -> 0 | H80: =SUM(D80+F80) -> 0 | I80: =SUM(E80+G80) -> 0 | J80: =IF(A80="",0,VLOOKUP(A80,BDCom1!$A$3:$E$100,4,FALSE)*B80) -> 0 | K80: =IF(A80="",0,VLOOKUP(A80,BDCom1!$A$3:$E$100,5,FALSE)*B80) -> 0 | L80: =SUM(J80*X80) -> 0 | M80: =SUM(K80*X80) -> 0 | N80: =SUM(J80+L80) -> 0 | O80: =SUM(K80+M80) -> 0 | P80: =IFERROR(H80+N80,0) -> 0 | Q80: =IFERROR(I80+O80,0) -> 0 | R80: ='Com1&Colr'!G80 | S80: =IFERROR((P80+Q80+R80),0) -> 0 | T80: ='Com1&Colr'!K80 | U80: =IFERROR((P80+Q80)/(T80),0) -> 0 | V80: ='Com1&Colr'!C80 -> 0 | X80: =IFERROR(ROUNDDOWN(VLOOKUP('Com1&Colr'!A80,BDCom1!$A$3:$C$100,3,FALSE),2),0) -> 0 | Y80: =IFERROR((P80+Q80/B80),0) -> 0
... A106: =_xlfn.CONCAT('Com1&Colr'!A106) | B106: ='Com1&Colr'!B106 -> 0 | C106: ='Com1&Colr'!C106 -> 0 | D106: =IF(X106=0.06,C106*B106,0) -> 0 | E106: =IF(X106=0.21,C106*B106,0) -> 0 | F106: =IF(X106=0.06,D106*X106,0) -> 0 | G106: =IF(X106=0.21,E106*X106,0) -> 0 | H106: =SUM(D106+F106) -> 0 | I106: =SUM(E106+G106) -> 0 | J106: =IF(A106="",0,VLOOKUP(A106,BDCom1!$A$3:$E$100,4,FALSE)*B106) -> 0 | K106: =IF(A106="",0,VLOOKUP(A106,BDCom1!$A$3:$E$100,5,FALSE)*B106) -> 0 | L106: =SUM(J106*X106) -> 0 | M106: =SUM(K106*X106) -> 0 | N106: =SUM(J106+L106) -> 0 | O106: =SUM(K106+M106) -> 0 | P106: =IFERROR(H106+N106,0) -> 0 | Q106: =IFERROR(I106+O106,0) -> 0 | R106: ='Com1&Colr'!G106 | S106: =IFERROR((P106+Q106+R106),0) -> 0 | T106: ='Com1&Colr'!K106 | U106: =IFERROR((P106+Q106)/(T106),0) -> 0 | V106: ='Com1&Colr'!C106 -> 0 | X106: =IFERROR(ROUNDDOWN(VLOOKUP('Com1&Colr'!A106,BDCom1!$A$3:$C$100,3,FALSE),2),0) -> 0 | Y106: =IFERROR((P106+Q106/B106),0) -> 0
D107: =SUM(D69:D106) -> 0 | E107: =SUM(E69:E106) -> 0 | F107: =SUM(F69:F106) -> 0 | G107: =SUM(G69:G106) -> 0 | H107: =SUM(H69:H106) -> 0 | I107: =SUM(I69:I106) -> 0 | J107: =SUM(J69:J106) -> 0 | K107: =SUM(K69:K106) -> 0 | ... T107: =SUM(T69:T106) -> 0
D108: =SUM(D107+E107) -> 0 | F108: =SUM(F107+G107) -> 0 | H108: =SUM(H107+I107) -> 0 | J108: =SUM(J107+K107) -> 0 | L108: =SUM(L107+M107) -> 0 | N108: =SUM(N107+O107) -> 0 | P108: =SUM(P107+Q107) -> 0
A114: =_xlfn.CONCAT('Com1&Colr'!A114) -> Com Fournisseur 2 Ajout | B114: Quant. | C114: P.U H.T | D114: Tot. H.T 6% | E114: Tot H.T 21% | F114: TVA 6% | G114: TVA 21% | H114: Tot.TVAC 6 | I114: Tot. TVAC 21 | J114: H.Taxe 6% | K114: H.Taxe 21% | L114: Taxe 6% | M114: Taxe 21% | N114: Ttc Taxe 6% | O114: Ttc Taxe 21% | P114: TOT TTC 6 % | Q114: TOT TTC 21% | R114: Consigne | S114: Tot + Cons | T114: Prévision | U114: P.U TTC | V114: P.U.V. | W114: BNet | X114: TVA | Y114: P.U TTC
A115: =_xlfn.CONCAT('Com1&Colr'!A115) | B115: ='Com1&Colr'!B115 -> 0 | C115: ='Com1&Colr'!C115 -> 0 | D115: =IF(X115=0.06,C115*B115,0) -> 0 | E115: =IF(X115=0.21,C115*B115,0) -> 0 | F115: =IF(X115=0.06,D115*X115,0) -> 0 | G115: =IF(X115=0.21,E115*X115,0) -> 0 | H115: =SUM(D115+F115) -> 0 | I115: =SUM(E115+G115) -> 0 | J115: =IF(A115="",0,VLOOKUP(A115,BDCom1!$A$3:$E$100,4,FALSE)*B115) -> 0 | K115: =IF(A115="",0,VLOOKUP(A115,BDCom1!$A$3:$E$100,5,FALSE)*B115) -> 0 | L115: =SUM(J115*X115) -> 0 | M115: =SUM(K115*X115) -> 0 | N115: =SUM(J115+L115) -> 0 | O115: =SUM(K115+M115) -> 0 | P115: =IFERROR(H115+N115,0) -> 0 | Q115: =IFERROR(I115+O115,0) -> 0 | R115: ='Com1&Colr'!G115 | S115: =IFERROR((P115+Q115+R115),0) -> 0 | T115: ='Com1&Colr'!K115 | U115: =IFERROR((P115+Q115)/(T115),0) -> 0 | V115: ='Com1&Colr'!C160 -> 0 | X115: =IFERROR(ROUNDDOWN(VLOOKUP('Com1&Colr'!A115,BDCom1!$A$3:$C$100,3,FALSE),2),0) -> 0 | Y115: =IFERROR((P115+Q115/B115),0) -> 0
A116: =_xlfn.CONCAT('Com1&Colr'!A116) | B116: ='Com1&Colr'!B116 -> 0 | C116: ='Com1&Colr'!C116 -> 0 | D116: =IF(X116=0.06,C116*B116,0) -> 0 | E116: =IF(X116=0.21,C116*B116,0) -> 0 | F116: =IF(X116=0.06,D116*X116,0) -> 0 | G116: =IF(X116=0.21,E116*X116,0) -> 0 | H116: =SUM(D116+F116) -> 0 | I116: =SUM(E116+G116) -> 0 | J116: =IF(A116="",0,VLOOKUP(A116,BDCom1!$A$3:$E$100,4,FALSE)*B116) -> 0 | K116: =IF(A116="",0,VLOOKUP(A116,BDCom1!$A$3:$E$100,5,FALSE)*B116) -> 0 | L116: =SUM(J116*X116) -> 0 | M116: =SUM(K116*X116) -> 0 | N116: =SUM(J116+L116) -> 0 | O116: =SUM(K116+M116) -> 0 | P116: =IFERROR(H116+N116,0) -> 0 | Q116: =IFERROR(I116+O116,0) -> 0 | R116: ='Com1&Colr'!G116 | S116: =IFERROR((P116+Q116+R116),0) -> 0 | T116: ='Com1&Colr'!K116 | U116: =IFERROR((P116+Q116)/(T116),0) -> 0 | V116: ='Com1&Colr'!C161 -> 0 | X116: =IFERROR(ROUNDDOWN(VLOOKUP('Com1&Colr'!A116,BDCom1!$A$3:$C$100,3,FALSE),2),0) -> 0 | Y116: =IFERROR((P116+Q116/B116),0) -> 0
A117: =_xlfn.CONCAT('Com1&Colr'!A117) | B117: ='Com1&Colr'!B117 -> 0 | C117: ='Com1&Colr'!C117 -> 0 | D117: =IF(X117=0.06,C117*B117,0) -> 0 | E117: =IF(X117=0.21,C117*B117,0) -> 0 | F117: =IF(X117=0.06,D117*X117,0) -> 0 | G117: =IF(X117=0.21,E117*X117,0) -> 0 | H117: =SUM(D117+F117) -> 0 | I117: =SUM(E117+G117) -> 0 | J117: =IF(A117="",0,VLOOKUP(A117,BDCom1!$A$3:$E$100,4,FALSE)*B117) -> 0 | K117: =IF(A117="",0,VLOOKUP(A117,BDCom1!$A$3:$E$100,5,FALSE)*B117) -> 0 | L117: =SUM(J117*X117) -> 0 | M117: =SUM(K117*X117) -> 0 | N117: =SUM(J117+L117) -> 0 | O117: =SUM(K117+M117) -> 0 | P117: =IFERROR(H117+N117,0) -> 0 | Q117: =IFERROR(I117+O117,0) -> 0 | R117: ='Com1&Colr'!G117 | S117: =IFERROR((P117+Q117+R117),0) -> 0 | T117: ='Com1&Colr'!K117 | U117: =IFERROR((P117+Q117)/(T117),0) -> 0 | V117: ='Com1&Colr'!C162 -> 0 | X117: =IFERROR(ROUNDDOWN(VLOOKUP('Com1&Colr'!A117,BDCom1!$A$3:$C$100,3,FALSE),2),0) -> 0 | Y117: =IFERROR((P117+Q117/B117),0) -> 0
A118: =_xlfn.CONCAT('Com1&Colr'!A118) | B118: ='Com1&Colr'!B118 -> 0 | C118: ='Com1&Colr'!C118 -> 0 | D118: =IF(X118=0.06,C118*B118,0) -> 0 | E118: =IF(X118=0.21,C118*B118,0) -> 0 | F118: =IF(X118=0.06,D118*X118,0) -> 0 | G118: =IF(X118=0.21,E118*X118,0) -> 0 | H118: =SUM(D118+F118) -> 0 | I118: =SUM(E118+G118) -> 0 | J118: =IF(A118="",0,VLOOKUP(A118,BDCom1!$A$3:$E$100,4,FALSE)*B118) -> 0 | K118: =IF(A118="",0,VLOOKUP(A118,BDCom1!$A$3:$E$100,5,FALSE)*B118) -> 0 | L118: =SUM(J118*X118) -> 0 | M118: =SUM(K118*X118) -> 0 | N118: =SUM(J118+L118) -> 0 | O118: =SUM(K118+M118) -> 0 | P118: =IFERROR(H118+N118,0) -> 0 | Q118: =IFERROR(I118+O118,0) -> 0 | R118: ='Com1&Colr'!G118 | S118: =IFERROR((P118+Q118+R118),0) -> 0 | T118: ='Com1&Colr'!K118 | U118: =IFERROR((P118+Q118)/(T118),0) -> 0 | V118: ='Com1&Colr'!C163 -> 0 | X118: =IFERROR(ROUNDDOWN(VLOOKUP('Com1&Colr'!A118,BDCom1!$A$3:$C$100,3,FALSE),2),0) -> 0 | Y118: =IFERROR((P118+Q118/B118),0) -> 0
A119: =_xlfn.CONCAT('Com1&Colr'!A119) | B119: ='Com1&Colr'!B119 -> 0 | C119: ='Com1&Colr'!C119 -> 0 | D119: =IF(X119=0.06,C119*B119,0) -> 0 | E119: =IF(X119=0.21,C119*B119,0) -> 0 | F119: =IF(X119=0.06,D119*X119,0) -> 0 | G119: =IF(X119=0.21,E119*X119,0) -> 0 | H119: =SUM(D119+F119) -> 0 | I119: =SUM(E119+G119) -> 0 | J119: =IF(A119="",0,VLOOKUP(A119,BDCom1!$A$3:$E$100,4,FALSE)*B119) -> 0 | K119: =IF(A119="",0,VLOOKUP(A119,BDCom1!$A$3:$E$100,5,FALSE)*B119) -> 0 | L119: =SUM(J119*X119) -> 0 | M119: =SUM(K119*X119) -> 0 | N119: =SUM(J119+L119) -> 0 | O119: =SUM(K119+M119) -> 0 | P119: =IFERROR(H119+N119,0) -> 0 | Q119: =IFERROR(I119+O119,0) -> 0 | R119: ='Com1&Colr'!G119 | S119: =IFERROR((P119+Q119+R119),0) -> 0 | T119: ='Com1&Colr'!K119 | U119: =IFERROR((P119+Q119)/(T119),0) -> 0 | V119: ='Com1&Colr'!C164 -> 0 | X119: =IFERROR(ROUNDDOWN(VLOOKUP('Com1&Colr'!A119,BDCom1!$A$3:$C$100,3,FALSE),2),0) -> 0 | Y119: =IFERROR((P119+Q119/B119),0) -> 0
A120: =_xlfn.CONCAT('Com1&Colr'!A120) | B120: ='Com1&Colr'!B120 -> 0 | C120: ='Com1&Colr'!C120 -> 0 | D120: =IF(X120=0.06,C120*B120,0) -> 0 | E120: =IF(X120=0.21,C120*B120,0) -> 0 | F120: =IF(X120=0.06,D120*X120,0) -> 0 | G120: =IF(X120=0.21,E120*X120,0) -> 0 | H120: =SUM(D120+F120) -> 0 | I120: =SUM(E120+G120) -> 0 | J120: =IF(A120="",0,VLOOKUP(A120,BDCom1!$A$3:$E$100,4,FALSE)*B120) -> 0 | K120: =IF(A120="",0,VLOOKUP(A120,BDCom1!$A$3:$E$100,5,FALSE)*B120) -> 0 | L120: =SUM(J120*X120) -> 0 | M120: =SUM(K120*X120) -> 0 | N120: =SUM(J120+L120) -> 0 | O120: =SUM(K120+M120) -> 0 | P120: =IFERROR(H120+N120,0) -> 0 | Q120: =IFERROR(I120+O120,0) -> 0 | R120: ='Com1&Colr'!G120 | S120: =IFERROR((P120+Q120+R120),0) -> 0 | T120: ='Com1&Colr'!K120 | U120: =IFERROR((P120+Q120)/(T120),0) -> 0 | V120: ='Com1&Colr'!C165 -> 0 | X120: =IFERROR(ROUNDDOWN(VLOOKUP('Com1&Colr'!A120,BDCom1!$A$3:$C$100,3,FALSE),2),0) -> 0 | Y120: =IFERROR((P120+Q120/B120),0) -> 0
A121: =_xlfn.CONCAT('Com1&Colr'!A121) | B121: ='Com1&Colr'!B121 -> 0 | C121: ='Com1&Colr'!C121 -> 0 | D121: =IF(X121=0.06,C121*B121,0) -> 0 | E121: =IF(X121=0.21,C121*B121,0) -> 0 | F121: =IF(X121=0.06,D121*X121,0) -> 0 | G121: =IF(X121=0.21,E121*X121,0) -> 0 | H121: =SUM(D121+F121) -> 0 | I121: =SUM(E121+G121) -> 0 | J121: =IF(A121="",0,VLOOKUP(A121,BDCom1!$A$3:$E$100,4,FALSE)*B121) -> 0 | K121: =IF(A121="",0,VLOOKUP(A121,BDCom1!$A$3:$E$100,5,FALSE)*B121) -> 0 | L121: =SUM(J121*X121) -> 0 | M121: =SUM(K121*X121) -> 0 | N121: =SUM(J121+L121) -> 0 | O121: =SUM(K121+M121) -> 0 | P121: =IFERROR(H121+N121,0) -> 0 | Q121: =IFERROR(I121+O121,0) -> 0 | R121: ='Com1&Colr'!G121 | S121: =IFERROR((P121+Q121+R121),0) -> 0 | T121: ='Com1&Colr'!K121 | U121: =IFERROR((P121+Q121)/(T121),0) -> 0 | V121: ='Com1&Colr'!C166 -> 0 | X121: =IFERROR(ROUNDDOWN(VLOOKUP('Com1&Colr'!A121,BDCom1!$A$3:$C$100,3,FALSE),2),0) -> 0 | Y121: =IFERROR((P121+Q121/B121),0) -> 0
A122: =_xlfn.CONCAT('Com1&Colr'!A122) | B122: ='Com1&Colr'!B122 -> 0 | C122: ='Com1&Colr'!C122 -> 0 | D122: =IF(X122=0.06,C122*B122,0) -> 0 | E122: =IF(X122=0.21,C122*B122,0) -> 0 | F122: =IF(X122=0.06,D122*X122,0) -> 0 | G122: =IF(X122=0.21,E122*X122,0) -> 0 | H122: =SUM(D122+F122) -> 0 | I122: =SUM(E122+G122) -> 0 | J122: =IF(A122="",0,VLOOKUP(A122,BDCom1!$A$3:$E$100,4,FALSE)*B122) -> 0 | K122: =IF(A122="",0,VLOOKUP(A122,BDCom1!$A$3:$E$100,5,FALSE)*B122) -> 0 | L122: =SUM(J122*X122) -> 0 | M122: =SUM(K122*X122) -> 0 | N122: =SUM(J122+L122) -> 0 | O122: =SUM(K122+M122) -> 0 | P122: =IFERROR(H122+N122,0) -> 0 | Q122: =IFERROR(I122+O122,0) -> 0 | R122: ='Com1&Colr'!G122 | S122: =IFERROR((P122+Q122+R122),0) -> 0 | T122: ='Com1&Colr'!K122 | U122: =IFERROR((P122+Q122)/(T122),0) -> 0 | V122: ='Com1&Colr'!C167 -> 0 | X122: =IFERROR(ROUNDDOWN(VLOOKUP('Com1&Colr'!A122,BDCom1!$A$3:$C$100,3,FALSE),2),0) -> 0 | Y122: =IFERROR((P122+Q122/B122),0) -> 0
A123: =_xlfn.CONCAT('Com1&Colr'!A123) | B123: ='Com1&Colr'!B123 -> 0 | C123: ='Com1&Colr'!C123 -> 0 | D123: =IF(X123=0.06,C123*B123,0) -> 0 | E123: =IF(X123=0.21,C123*B123,0) -> 0 | F123: =IF(X123=0.06,D123*X123,0) -> 0 | G123: =IF(X123=0.21,E123*X123,0) -> 0 | H123: =SUM(D123+F123) -> 0 | I123: =SUM(E123+G123) -> 0 | J123: =IF(A123="",0,VLOOKUP(A123,BDCom1!$A$3:$E$100,4,FALSE)*B123) -> 0 | K123: =IF(A123="",0,VLOOKUP(A123,BDCom1!$A$3:$E$100,5,FALSE)*B123) -> 0 | L123: =SUM(J123*X123) -> 0 | M123: =SUM(K123*X123) -> 0 | N123: =SUM(J123+L123) -> 0 | O123: =SUM(K123+M123) -> 0 | P123: =IFERROR(H123+N123,0) -> 0 | Q123: =IFERROR(I123+O123,0) -> 0 | R123: ='Com1&Colr'!G123 | S123: =IFERROR((P123+Q123+R123),0) -> 0 | T123: ='Com1&Colr'!K123 | U123: =IFERROR((P123+Q123)/(T123),0) -> 0 | V123: ='Com1&Colr'!C168 -> 0 | X123: =IFERROR(ROUNDDOWN(VLOOKUP('Com1&Colr'!A123,BDCom1!$A$3:$C$100,3,FALSE),2),0) -> 0 | Y123: =IFERROR((P123+Q123/B123),0) -> 0
A124: =_xlfn.CONCAT('Com1&Colr'!A124) | B124: ='Com1&Colr'!B124 -> 0 | C124: ='Com1&Colr'!C124 -> 0 | D124: =IF(X124=0.06,C124*B124,0) -> 0 | E124: =IF(X124=0.21,C124*B124,0) -> 0 | F124: =IF(X124=0.06,D124*X124,0) -> 0 | G124: =IF(X124=0.21,E124*X124,0) -> 0 | H124: =SUM(D124+F124) -> 0 | I124: =SUM(E124+G124) -> 0 | J124: =IF(A124="",0,VLOOKUP(A124,BDCom1!$A$3:$E$100,4,FALSE)*B124) -> 0 | K124: =IF(A124="",0,VLOOKUP(A124,BDCom1!$A$3:$E$100,5,FALSE)*B124) -> 0 | L124: =SUM(J124*X124) -> 0 | M124: =SUM(K124*X124) -> 0 | N124: =SUM(J124+L124) -> 0 | O124: =SUM(K124+M124) -> 0 | P124: =IFERROR(H124+N124,0) -> 0 | Q124: =IFERROR(I124+O124,0) -> 0 | R124: ='Com1&Colr'!G124 | S124: =IFERROR((P124+Q124+R124),0) -> 0 | T124: ='Com1&Colr'!K124 | U124: =IFERROR((P124+Q124)/(T124),0) -> 0 | V124: ='Com1&Colr'!C169 -> 0 | X124: =IFERROR(ROUNDDOWN(VLOOKUP('Com1&Colr'!A124,BDCom1!$A$3:$C$100,3,FALSE),2),0) -> 0 | Y124: =IFERROR((P124+Q124/B124),0) -> 0
A125: =_xlfn.CONCAT('Com1&Colr'!A125) | B125: ='Com1&Colr'!B125 -> 0 | C125: ='Com1&Colr'!C125 -> 0 | D125: =IF(X125=0.06,C125*B125,0) -> 0 | E125: =IF(X125=0.21,C125*B125,0) -> 0 | F125: =IF(X125=0.06,D125*X125,0) -> 0 | G125: =IF(X125=0.21,E125*X125,0) -> 0 | H125: =SUM(D125+F125) -> 0 | I125: =SUM(E125+G125) -> 0 | J125: =IF(A125="",0,VLOOKUP(A125,BDCom1!$A$3:$E$100,4,FALSE)*B125) -> 0 | K125: =IF(A125="",0,VLOOKUP(A125,BDCom1!$A$3:$E$100,5,FALSE)*B125) -> 0 | L125: =SUM(J125*X125) -> 0 | M125: =SUM(K125*X125) -> 0 | N125: =SUM(J125+L125) -> 0 | O125: =SUM(K125+M125) -> 0 | P125: =IFERROR(H125+N125,0) -> 0 | Q125: =IFERROR(I125+O125,0) -> 0 | R125: ='Com1&Colr'!G125 | S125: =IFERROR((P125+Q125+R125),0) -> 0 | T125: ='Com1&Colr'!K125 | U125: =IFERROR((P125+Q125)/(T125),0) -> 0 | V125: ='Com1&Colr'!C170 -> 0 | X125: =IFERROR(ROUNDDOWN(VLOOKUP('Com1&Colr'!A125,BDCom1!$A$3:$C$100,3,FALSE),2),0) -> 0 | Y125: =IFERROR((P125+Q125/B125),0) -> 0
A126: =_xlfn.CONCAT('Com1&Colr'!A126) | B126: ='Com1&Colr'!B126 -> 0 | C126: ='Com1&Colr'!C126 -> 0 | D126: =IF(X126=0.06,C126*B126,0) -> 0 | E126: =IF(X126=0.21,C126*B126,0) -> 0 | F126: =IF(X126=0.06,D126*X126,0) -> 0 | G126: =IF(X126=0.21,E126*X126,0) -> 0 | H126: =SUM(D126+F126) -> 0 | I126: =SUM(E126+G126) -> 0 | J126: =IF(A126="",0,VLOOKUP(A126,BDCom1!$A$3:$E$100,4,FALSE)*B126) -> 0 | K126: =IF(A126="",0,VLOOKUP(A126,BDCom1!$A$3:$E$100,5,FALSE)*B126) -> 0 | L126: =SUM(J126*X126) -> 0 | M126: =SUM(K126*X126) -> 0 | N126: =SUM(J126+L126) -> 0 | O126: =SUM(K126+M126) -> 0 | P126: =IFERROR(H126+N126,0) -> 0 | Q126: =IFERROR(I126+O126,0) -> 0 | R126: ='Com1&Colr'!G126 | S126: =IFERROR((P126+Q126+R126),0) -> 0 | T126: ='Com1&Colr'!K126 | U126: =IFERROR((P126+Q126)/(T126),0) -> 0 | V126: ='Com1&Colr'!C171 -> 0 | X126: =IFERROR(ROUNDDOWN(VLOOKUP('Com1&Colr'!A126,BDCom1!$A$3:$C$100,3,FALSE),2),0) -> 0 | Y126: =IFERROR((P126+Q126/B126),0) -> 0
A127: =_xlfn.CONCAT('Com1&Colr'!A127) | B127: ='Com1&Colr'!B127 -> 0 | C127: ='Com1&Colr'!C127 -> 0 | D127: =IF(X127=0.06,C127*B127,0) -> 0 | E127: =IF(X127=0.21,C127*B127,0) -> 0 | F127: =IF(X127=0.06,D127*X127,0) -> 0 | G127: =IF(X127=0.21,E127*X127,0) -> 0 | H127: =SUM(D127+F127) -> 0 | I127: =SUM(E127+G127) -> 0 | J127: =IF(A127="",0,VLOOKUP(A127,BDCom1!$A$3:$E$100,4,FALSE)*B127) -> 0 | K127: =IF(A127="",0,VLOOKUP(A127,BDCom1!$A$3:$E$100,5,FALSE)*B127) -> 0 | L127: =SUM(J127*X127) -> 0 | M127: =SUM(K127*X127) -> 0 | N127: =SUM(J127+L127) -> 0 | O127: =SUM(K127+M127) -> 0 | P127: =IFERROR(H127+N127,0) -> 0 | Q127: =IFERROR(I127+O127,0) -> 0 | R127: ='Com1&Colr'!G127 | S127: =IFERROR((P127+Q127+R127),0) -> 0 | T127: ='Com1&Colr'!K127 | U127: =IFERROR((P127+Q127)/(T127),0) -> 0 | V127: ='Com1&Colr'!C172 -> 0 | X127: =IFERROR(ROUNDDOWN(VLOOKUP('Com1&Colr'!A127,BDCom1!$A$3:$C$100,3,FALSE),2),0) -> 0 | Y127: =IFERROR((P127+Q127/B127),0) -> 0
D128: =SUM(D115:D127) -> 0 | E128: =SUM(E115:E127) -> 0 | F128: =SUM(F115:F127) -> 0 | G128: =SUM(G115:G127) -> 0 | H128: =SUM(H115:H127) -> 0 | I128: =SUM(I115:I127) -> 0 | J128: =SUM(J115:J127) -> 0 | K128: =SUM(K115:K127) -> 0 | ... T128: =SUM(T115:T127) -> 0
D129: =SUM(D128+E128) -> 0 | F129: =SUM(F128+G128) -> 0 | H129: =SUM(H128+I128) -> 0 | J129: =SUM(J128+K128) -> 0 | L129: =SUM(L128+M128) -> 0 | N129: =SUM(N128+O128) -> 0 | P129: =SUM(P128+Q128) -> 0

Sheet BDCom1
A2: Article | B2: Colis | C2: TVA | D2: Eco/Acc 6 | E2: Eco/Acc 21 | F2: Caut | G2: Prévision | H2: P.U Vente | I2: Consigne U | J2: Eco/Acc 6 U | K2: Eco/Acc 21 U | N2: Somme Taxe
A3: Fut Jupiler (1X50 L) | B3: 1 | C3: 0.21 | E3: 12.03 | F3: 30 | G3: 190 | H3: 2 | I3: 30 | J3: =SUM(D3/B3) -> 0 | K3: =SUM(E3/B3) -> 12.03 | N3: =SUM((J3+K3)*B3) -> 12.03
A4: Fut Jupiler (1X30 L) | B4: 1 | C4: 0.21 | E4: 7.22 | F4: 30 | G4: 114 | H4: 2 | I4: 30 | J4: =SUM(D4/B4) -> 0 | K4: =SUM(E4/B4) -> 7.22 | N4: =SUM((J4+K4)*B4) -> 7.22
A5: Fut Kriek (1X50 L) | B5: 1 | C5: 0.21 | F5: 30 | G5: 190 | H5: 3 | I5: 30 | J5: =SUM(D5/B5) -> 0 | K5: =SUM(E5/B5) -> 0 | N5: =SUM((J5+K5)*B5) -> 0
A6: Fut Kriek (1X20 L) | B6: 1 | C6: 0.21 | E6: 5.54 | F6: 30 | G6: 76 | H6: 3 | I6: 30 | J6: =SUM(D6/B6) -> 0 | K6: =SUM(E6/B6) -> 5.54 | N6: =SUM((J6+K6)*B6) -> 5.54 | R6: =IF(T6=0.06,'Com1&Colr'!D5*BDCom1!T6,"") | S6: =IF(T6=0.21,'Com1&Colr'!D5*BDCom1!T6,"") -> 32.2686 | T6: =IFERROR(ROUNDDOWN(VLOOKUP('Com1&Colr'!A5,$A$3:$C$100,3,FALSE),2)," ") -> 0.21 | U6: =IF('Com1&Colr'!A5="","",VLOOKUP('Com1&Colr'!A5,$A$3:$E$100,4,FALSE)*'Com1&Colr'!B5) -> 0 | V6: =IF('Com1&Colr'!A5="","",VLOOKUP('Com1&Colr'!A5,$A$3:$E$100,5,FALSE)*'Com1&Colr'!B5) -> 11.08
A7: Fut Blanche (1X50L) | B7: 1 | C7: 0.21 | F7: 30 | G7: 190 | H7: 3 | I7: 30 | J7: =SUM(D7/B7) -> 0 | K7: =SUM(E7/B7) -> 0 | N7: =SUM((J7+K7)*B7) -> 0 | R7: =IF(T7=0.06,'Com1&Colr'!D6*BDCom1!T7,"") -> 12.537 | S7: =IF(T7=0.21,'Com1&Colr'!D6*BDCom1!T7,"") | T7: =IFERROR(ROUNDDOWN(VLOOKUP('Com1&Colr'!A6,$A$3:$C$100,3,FALSE),2)," ") -> 0.06 | U7: =IF('Com1&Colr'!A6="","",VLOOKUP('Com1&Colr'!A6,$A$3:$E$100,4,FALSE)*'Com1&Colr'!B6) -> 12 | V7: =IF('Com1&Colr'!A6="","",VLOOKUP('Com1&Colr'!A6,$A$3:$E$100,5,FALSE)*'Com1&Colr'!B6) -> 0
A8: Fut Blanche (1X20L) | B8: 1 | C8: 0.21 | F8: 30 | G8: 76 | H8: 3 | I8: 30 | J8: =SUM(D8/B8) -> 0 | K8: =SUM(E8/B8) -> 0 | N8: =SUM((J8+K8)*B8) -> 0 | R8: =IF(T8=0.06,'Com1&Colr'!D7*BDCom1!T8,"") -> 2.598 | S8: =IF(T8=0.21,'Com1&Colr'!D7*BDCom1!T8,"") | T8: =IFERROR(ROUNDDOWN(VLOOKUP('Com1&Colr'!A7,$A$3:$C$100,3,FALSE),2)," ") -> 0.06 | U8: =IF('Com1&Colr'!A7="","",VLOOKUP('Com1&Colr'!A7,$A$3:$E$100,4,FALSE)*'Com1&Colr'!B7) -> 0.85 | V8: =IF('Com1&Colr'!A7="","",VLOOKUP('Com1&Colr'!A7,$A$3:$E$100,5,FALSE)*'Com1&Colr'!B7) -> 0
N9: =SUM((J9+K9)*B9) -> 0 | R9: =IF(T9=0.06,'Com1&Colr'!D8*BDCom1!T9,"") -> 2.598 | S9: =IF(T9=0.21,'Com1&Colr'!D8*BDCom1!T9,"") | T9: =IFERROR(ROUNDDOWN(VLOOKUP('Com1&Colr'!A8,$A$3:$C$100,3,FALSE),2)," ") -> 0.06 | U9: =IF('Com1&Colr'!A8="","",VLOOKUP('Com1&Colr'!A8,$A$3:$E$100,4,FALSE)*'Com1&Colr'!B8) -> 0.85 | V9: =IF('Com1&Colr'!A8="","",VLOOKUP('Com1&Colr'!A8,$A$3:$E$100,5,FALSE)*'Com1&Colr'!B8) -> 0
A10: Jupiler (1X24) 25 cl | B10: 24 | C10: 0.21 | F10: 4.5 | G10: 24 | H10: 2 | I10: 0.1 | J10: =SUM(D10/B10) -> 0 | K10: =SUM(E10/B10) -> 0 | N10: =SUM((J10+K10)*B10) -> 0 | R10: =IF(T10=0.06,'Com1&Colr'!D9*BDCom1!T10,"") | S10: =IF(T10=0.21,'Com1&Colr'!D9*BDCom1!T10,"") -> 31.1556 | T10: =IFERROR(ROUNDDOWN(VLOOKUP('Com1&Colr'!A9,$A$3:$C$100,3,FALSE),2)," ") -> 0.21 | U10: =IF('Com1&Colr'!A9="","",VLOOKUP('Com1&Colr'!A9,$A$3:$E$100,4,FALSE)*'Com1&Colr'!B9) -> 0 | V10: =IF('Com1&Colr'!A9="","",VLOOKUP('Com1&Colr'!A9,$A$3:$E$100,5,FALSE)*'Com1&Colr'!B9) -> 13.16
A11: Jupiler Zéro (1X24) 25 cl | B11: 24 | C11: 0.06 | D11: 0.31 | F11: 4.5 | G11: 24 | H11: 2 | I11: 0.1 | J11: =SUM(D11/B11) -> 0.012916667 | K11: =SUM(E11/B11) -> 0 | N11: =SUM((J11+K11)*B11) -> 0.31 | R11: =IF(T11=0.06,'Com1&Colr'!D10*BDCom1!T11,"") -> 9.7128 | S11: =IF(T11=0.21,'Com1&Colr'!D10*BDCom1!T11,"") | T11: =IFERROR(ROUNDDOWN(VLOOKUP('Com1&Colr'!A10,$A$3:$C$100,3,FALSE),2)," ") -> 0.06 | U11: =IF('Com1&Colr'!A10="","",VLOOKUP('Com1&Colr'!A10,$A$3:$E$100,4,FALSE)*'Com1&Colr'!B10) -> 9.6 | V11: =IF('Com1&Colr'!A10="","",VLOOKUP('Com1&Colr'!A10,$A$3:$E$100,5,FALSE)*'Com1&Colr'!B10) -> 0
A12: Blanche (1X24) 25 cl | B12: 24 | C12: 0.21 | E12: 1.53 | F12: 4.5 | G12: 24 | H12: 3 | I12: 0.1 | J12: =SUM(D12/B12) -> 0 | K12: =SUM(E12/B12) -> 0.06375 | N12: =SUM((J12+K12)*B12) -> 1.53 | R12: =IF(T12=0.06,'Com1&Colr'!D11*BDCom1!T12,"") -> 7.308 | S12: =IF(T12=0.21,'Com1&Colr'!D11*BDCom1!T12,"") | T12: =IFERROR(ROUNDDOWN(VLOOKUP('Com1&Colr'!A11,$A$3:$C$100,3,FALSE),2)," ") -> 0.06 | U12: =IF('Com1&Colr'!A11="","",VLOOKUP('Com1&Colr'!A11,$A$3:$E$100,4,FALSE)*'Com1&Colr'!B11) -> 1.55 | V12: =IF('Com1&Colr'!A11="","",VLOOKUP('Com1&Colr'!A11,$A$3:$E$100,5,FALSE)*'Com1&Colr'!B11) -> 0
A13: Kriek (1X24) 25 cl | B13: 24 | C13: 0.21 | E13: 1.28 | F13: 4.5 | G13: 24 | H13: 3 | I13: 0.1 | J13: =SUM(D13/B13) -> 0 | K13: =SUM(E13/B13) -> 0.053333333 | N13: =SUM((J13+K13)*B13) -> 1.28 | R13: =IF(T13=0.06,'Com1&Colr'!D12*BDCom1!T13,"") | S13: =IF(T13=0.21,'Com1&Colr'!D12*BDCom1!T13,"") -> 14.3892 | T13: =IFERROR(ROUNDDOWN(VLOOKUP('Com1&Colr'!A12,$A$3:$C$100,3,FALSE),2)," ") -> 0.21 | U13: =IF('Com1&Colr'!A12="","",VLOOKUP('Com1&Colr'!A12,$A$3:$E$100,4,FALSE)*'Com1&Colr'!B12) -> 0 | V13: =IF('Com1&Colr'!A12="","",VLOOKUP('Com1&Colr'!A12,$A$3:$E$100,5,FALSE)*'Com1&Colr'!B12) -> 4.59
A14: St Feullien Blonde (1X24) 33 cl | B14: 24 | C14: 0.21 | E14: 2.54 | F14: 4.5 | G14: 24 | H14: 4 | I14: 0.1 | J14: =SUM(D14/B14) -> 0 | K14: =SUM(E14/B14) -> 0.10583333 | N14: =SUM((J14+K14)*B14) -> 2.54 | R14: =IF(T14=0.06,'Com1&Colr'!D13*BDCom1!T14,"") -> 3.3696 | S14: =IF(T14=0.21,'Com1&Colr'!D13*BDCom1!T14,"") | T14: =IFERROR(ROUNDDOWN(VLOOKUP('Com1&Colr'!A13,$A$3:$C$100,3,FALSE),2)," ") -> 0.06 | U14: =IF('Com1&Colr'!A13="","",VLOOKUP('Com1&Colr'!A13,$A$3:$E$100,4,FALSE)*'Com1&Colr'!B13) -> 0.16 | V14: =IF('Com1&Colr'!A13="","",VLOOKUP('Com1&Colr'!A13,$A$3:$E$100,5,FALSE)*'Com1&Colr'!B13) -> 0
A15: St Feullien Brune (1X24) 33 cl | B15: 24 | C15: 0.21 | E15: 2.84 | F15: 4.5 | G15: 24 | H15: 4 | I15: 0.1 | J15: =SUM(D15/B15) -> 0 | K15: =SUM(E15/B15) -> 0.11833333 | N15: =SUM((J15+K15)*B15) -> 2.84 | R15: =IF(T15=0.06,'Com1&Colr'!D14*BDCom1!T15,"") -> 2.3976 | S15: =IF(T15=0.21,'Com1&Colr'!D14*BDCom1!T15,"") | T15: =IFERROR(ROUNDDOWN(VLOOKUP('Com1&Colr'!A14,$A$3:$C$100,3,FALSE),2)," ") -> 0.06 | U15: =IF('Com1&Colr'!A14="","",VLOOKUP('Com1&Colr'!A14,$A$3:$E$100,4,FALSE)*'Com1&Colr'!B14) -> 1.28 | V15: =IF('Com1&Colr'!A14="","",VLOOKUP('Com1&Colr'!A14,$A$3:$E$100,5,FALSE)*'Com1&Colr'!B14) -> 0
A16: Westmalle Triple (1x24) 33 cl | B16: 24 | C16: 0.21 | E16: 3.24 | F16: 4.5 | G16: 24 | H16: 4 | I16: 0.1 | J16: =SUM(D16/B16) -> 0 | K16: =SUM(E16/B16) -> 0.135 | N16: =SUM((J16+K16)*B16) -> 3.24 | R16: =IF(T16=0.06,'Com1&Colr'!D15*BDCom1!T16,"") | S16: =IF(T16=0.21,'Com1&Colr'!D15*BDCom1!T16,"") -> 14.9478 | T16: =IFERROR(ROUNDDOWN(VLOOKUP('Com1&Colr'!A15,$A$3:$C$100,3,FALSE),2)," ") -> 0.21 | U16: =IF('Com1&Colr'!A15="","",VLOOKUP('Com1&Colr'!A15,$A$3:$E$100,4,FALSE)*'Com1&Colr'!B15) -> 0 | V16: =IF('Com1&Colr'!A15="","",VLOOKUP('Com1&Colr'!A15,$A$3:$E$100,5,FALSE)*'Com1&Colr'!B15) -> 6.48
A17: Karmeliet Triple (1X24) 33 cl | B17: 24 | C17: 0.21 | E17: 3.29 | F17: 4.5 | G17: 24 | H17: 4 | I17: 0.1 | J17: =SUM(D17/B17) -> 0 | K17: =SUM(E17/B17) -> 0.13708333 | N17: =SUM((J17+K17)*B17) -> 3.29 | R17: =IF(T17=0.06,'Com1&Colr'!D16*BDCom1!T17,"") -> 7.3248 | S17: =IF(T17=0.21,'Com1&Colr'!D16*BDCom1!T17,"") | T17: =IFERROR(ROUNDDOWN(VLOOKUP('Com1&Colr'!A16,$A$3:$C$100,3,FALSE),2)," ") -> 0.06 | U17: =IF('Com1&Colr'!A16="","",VLOOKUP('Com1&Colr'!A16,$A$3:$E$100,4,FALSE)*'Com1&Colr'!B16) -> 5.6 | V17: =IF('Com1&Colr'!A16="","",VLOOKUP('Com1&Colr'!A16,$A$3:$E$100,5,FALSE)*'Com1&Colr'!B16) -> 0
N18: =SUM((J18+K18)*B18) -> 0 | R18: =IF(T18=0.06,'Com1&Colr'!D17*BDCom1!T18,"") | S18: =IF(T18=0.21,'Com1&Colr'!D17*BDCom1!T18,"") -> 5.7918 | T18: =IFERROR(ROUNDDOWN(VLOOKUP('Com1&Colr'!A17,$A$3:$C$100,3,FALSE),2)," ") -> 0.21 | U18: =IF('Com1&Colr'!A17="","",VLOOKUP('Com1&Colr'!A17,$A$3:$E$100,4,FALSE)*'Com1&Colr'!B17) -> 0 | V18: =IF('Com1&Colr'!A17="","",VLOOKUP('Com1&Colr'!A17,$A$3:$E$100,5,FALSE)*'Com1&Colr'!B17) -> 1.28
A19: Vin Blanc (1X6) 75 cl | B19: 6 | C19: 0.21 | E19: 0.42 | F19: 0 | G19: 30 | H19: 3 | I19: 0 | J19: =SUM(D19/B19) -> 0 | K19: =SUM(E19/B19) -> 0.07 | N19: =SUM((J19+K19)*B19) -> 0.42 | R19: =IF(T19=0.06,'Com1&Colr'!D18*BDCom1!T19,"") -> 5.0148 | S19: =IF(T19=0.21,'Com1&Colr'!D18*BDCom1!T19,"") | T19: =IFERROR(ROUNDDOWN(VLOOKUP('Com1&Colr'!A18,$A$3:$C$100,3,FALSE),2)," ") -> 0.06 | U19: =IF('Com1&Colr'!A18="","",VLOOKUP('Com1&Colr'!A18,$A$3:$E$100,4,FALSE)*'Com1&Colr'!B18) -> 4.8 | V19: =IF('Com1&Colr'!A18="","",VLOOKUP('Com1&Colr'!A18,$A$3:$E$100,5,FALSE)*'Com1&Colr'!B18) -> 0
A20: Vin rosé (1X6) 75 cl | B20: 6 | C20: 0.21 | E20: 0.42 | F20: 0 | G20: 30 | H20: 3 | I20: 0 | J20: =SUM(D20/B20) -> 0 | K20: =SUM(E20/B20) -> 0.07 | N20: =SUM((J20+K20)*B20) -> 0.42 | R20: =IF(T20=0.06,'Com1&Colr'!D19*BDCom1!T20,"") | S20: =IF(T20=0.21,'Com1&Colr'!D19*BDCom1!T20,"") -> 52.3026 | T20: =IFERROR(ROUNDDOWN(VLOOKUP('Com1&Colr'!A19,$A$3:$C$100,3,FALSE),2)," ") -> 0.21 | U20: =IF('Com1&Colr'!A19="","",VLOOKUP('Com1&Colr'!A19,$A$3:$E$100,4,FALSE)*'Com1&Colr'!B19) -> 0 | V20: =IF('Com1&Colr'!A19="","",VLOOKUP('Com1&Colr'!A19,$A$3:$E$100,5,FALSE)*'Com1&Colr'!B19) -> 17.78
A21: Vin rouge (1X6) 75 cl | B21: 6 | C21: 0.21 | E21: 0.42 | F21: 0 | G21: 30 | H21: 3 | I21: 0 | J21: =SUM(D21/B21) -> 0 | K21: =SUM(E21/B21) -> 0.07 | N21: =SUM((J21+K21)*B21) -> 0.42 | R21: =IF(T21=0.06,'Com1&Colr'!D20*BDCom1!T21,"") | S21: =IF(T21=0.21,'Com1&Colr'!D20*BDCom1!T21,"") -> 14.9394 | T21: =IFERROR(ROUNDDOWN(VLOOKUP('Com1&Colr'!A20,$A$3:$C$100,3,FALSE),2)," ") -> 0.21 | U21: =IF('Com1&Colr'!A20="","",VLOOKUP('Com1&Colr'!A20,$A$3:$E$100,4,FALSE)*'Com1&Colr'!B20) -> 0 | V21: =IF('Com1&Colr'!A20="","",VLOOKUP('Com1&Colr'!A20,$A$3:$E$100,5,FALSE)*'Com1&Colr'!B20) -> 5.68
N22: =SUM((J22+K22)*B22) -> 0 | R22: =IF(T22=0.06,'Com1&Colr'!D21*BDCom1!T22,"") | S22: =IF(T22=0.21,'Com1&Colr'!D21*BDCom1!T22,"") -> 40.131 | T22: =IFERROR(ROUNDDOWN(VLOOKUP('Com1&Colr'!A21,$A$3:$C$100,3,FALSE),2)," ") -> 0.21 | U22: =IF('Com1&Colr'!A21="","",VLOOKUP('Com1&Colr'!A21,$A$3:$E$100,4,FALSE)*'Com1&Colr'!B21) -> 0 | V22: =IF('Com1&Colr'!A21="","",VLOOKUP('Com1&Colr'!A21,$A$3:$E$100,5,FALSE)*'Com1&Colr'!B21) -> 2.1
A23: Coca-Cola Zéro (1X6) 1L | B23: 6 | C23: 0.06 | D23: 0.8 | F23: 3.5 | G23: 24 | H23: 2 | I23: 0.2 | J23: =SUM(D23/B23) -> 0.13333333 | K23: =SUM(E23/B23) -> 0 | N23: =SUM((J23+K23)*B23) -> 0.8 | R23: =IF(T23=0.06,'Com1&Colr'!D22*BDCom1!T23,"") | S23: =IF(T23=0.21,'Com1&Colr'!D22*BDCom1!T23,"") -> 37.422 | T23: =IFERROR(ROUNDDOWN(VLOOKUP('Com1&Colr'!A22,$A$3:$C$100,3,FALSE),2)," ") -> 0.21 | U23: =IF('Com1&Colr'!A22="","",VLOOKUP('Com1&Colr'!A22,$A$3:$E$100,4,FALSE)*'Com1&Colr'!B22) -> 0 | V23: =IF('Com1&Colr'!A22="","",VLOOKUP('Com1&Colr'!A22,$A$3:$E$100,5,FALSE)*'Com1&Colr'!B22) -> 2.1
A24: Coca-Cola Normal (1X6) 1L | B24: 6 | C24: 0.06 | D24: 0.8 | F24: 3.5 | G24: 24 | H24: 2 | I24: 0.2 | J24: =SUM(D24/B24) -> 0.13333333 | K24: =SUM(E24/B24) -> 0 | N24: =SUM((J24+K24)*B24) -> 0.8 | R24: =IF(T24=0.06,'Com1&Colr'!D23*BDCom1!T24,"") | S24: =IF(T24=0.21,'Com1&Colr'!D23*BDCom1!T24,"") -> 22.7556 | T24: =IFERROR(ROUNDDOWN(VLOOKUP('Com1&Colr'!A23,$A$3:$C$100,3,FALSE),2)," ") -> 0.21 | U24: =IF('Com1&Colr'!A23="","",VLOOKUP('Com1&Colr'!A23,$A$3:$E$100,4,FALSE)*'Com1&Colr'!B23) -> 0 | V24: =IF('Com1&Colr'!A23="","",VLOOKUP('Com1&Colr'!A23,$A$3:$E$100,5,FALSE)*'Com1&Colr'!B23) -> 1.26
A25: Fanta (1X6) 1L | B25: 6 | C25: 0.06 | D25: 0.8 | F25: 3.5 | G25: 24 | H25: 2 | I25: 0.2 | J25: =SUM(D25/B25) -> 0.13333333 | K25: =SUM(E25/B25) -> 0 | N25: =SUM((J25+K25)*B25) -> 0.8 | R25: =IF(T25=0.06,'Com1&Colr'!D24*BDCom1!T25,"") | S25: =IF(T25=0.21,'Com1&Colr'!D24*BDCom1!T25,"") -> 9.45 | T25: =IFERROR(ROUNDDOWN(VLOOKUP('Com1&Colr'!A24,$A$3:$C$100,3,FALSE),2)," ") -> 0.21 | U25: =IF('Com1&Colr'!A24="","",VLOOKUP('Com1&Colr'!A24,$A$3:$E$100,4,FALSE)*'Com1&Colr'!B24) -> 0 | V25: =IF('Com1&Colr'!A24="","",VLOOKUP('Com1&Colr'!A24,$A$3:$E$100,5,FALSE)*'Com1&Colr'!B24) -> 0
A26: Ice-Tea Lipton (1X6) 1L | B26: 6 | C26: 0.06 | D26: 0.8 | F26: 3.5 | G26: 24 | H26: 2 | I26: 0.2 | J26: =SUM(D26/B26) -> 0.13333333 | K26: =SUM(E26/B26) -> 0 | N26: =SUM((J26+K26)*B26) -> 0.8 | R26: =IF(T26=0.06,'Com1&Colr'!D25*BDCom1!T26,"") | S26: =IF(T26=0.21,'Com1&Colr'!D25*BDCom1!T26,"") -> 15.75 | T26: =IFERROR(ROUNDDOWN(VLOOKUP('Com1&Colr'!A25,$A$3:$C$100,3,FALSE),2)," ") -> 0.21 | U26: =IF('Com1&Colr'!A25="","",VLOOKUP('Com1&Colr'!A25,$A$3:$E$100,4,FALSE)*'Com1&Colr'!B25) -> 0 | V26: =IF('Com1&Colr'!A25="","",VLOOKUP('Com1&Colr'!A25,$A$3:$E$100,5,FALSE)*'Com1&Colr'!B25) -> 0
A27: Jus d’orange (1x6) 1L | B27: 6 | C27: 0.06 | D27: 0.08 | F27: 3.5 | G27: 24 | H27: 2 | I27: 0.2 | J27: =SUM(D27/B27) -> 0.013333333 | K27: =SUM(E27/B27) -> 0 | N27: =SUM((J27+K27)*B27) -> 0.08 | R27: =IF(T27=0.06,'Com1&Colr'!D26*BDCom1!T27,"") | S27: =IF(T27=0.21,'Com1&Colr'!D26*BDCom1!T27,"") -> 8.4 | T27: =IFERROR(ROUNDDOWN(VLOOKUP('Com1&Colr'!A26,$A$3:$C$100,3,FALSE),2)," ") -> 0.21 | U27: =IF('Com1&Colr'!A26="","",VLOOKUP('Com1&Colr'!A26,$A$3:$E$100,4,FALSE)*'Com1&Colr'!B26) -> 0 | V27: =IF('Com1&Colr'!A26="","",VLOOKUP('Com1&Colr'!A26,$A$3:$E$100,5,FALSE)*'Com1&Colr'!B26) -> 0
A28: Eau plate (1X12) 1L | B28: 12 | C28: 0.06 | D28: 0.17 | F28: 4.5 | G28: 48 | H28: 1 | I28: 0.2 | J28: =SUM(D28/B28) -> 0.014166667 | K28: =SUM(E28/B28) -> 0 | N28: =SUM((J28+K28)*B28) -> 0.17 | R28: =IF(T28=0.06,'Com1&Colr'!D27*BDCom1!T28,"") | S28: =IF(T28=0.21,'Com1&Colr'!D27*BDCom1!T28,"") -> 3.15 | T28: =IFERROR(ROUNDDOWN(VLOOKUP('Com1&Colr'!A27,$A$3:$C$100,3,FALSE),2)," ") -> 0.21 | U28: =IF('Com1&Colr'!A27="","",VLOOKUP('Com1&Colr'!A27,$A$3:$E$100,4,FALSE)*'Com1&Colr'!B27) -> 0 | V28: =IF('Com1&Colr'!A27="","",VLOOKUP('Com1&Colr'!A27,$A$3:$E$100,5,FALSE)*'Com1&Colr'!B27) -> 0
A29: Eau Gazeuse (1X12) 1L | B29: 12 | C29: 0.06 | D29: 0.17 | F29: 4.5 | G29: 48 | H29: 2 | I29: 0.2 | J29: =SUM(D29/B29) -> 0.014166667 | K29: =SUM(E29/B29) -> 0 | N29: =SUM((J29+K29)*B29) -> 0.17 | R29: =IF(T29=0.06,'Com1&Colr'!D28*BDCom1!T29,"") | S29: =IF(T29=0.21,'Com1&Colr'!D28*BDCom1!T29,"") -> 6.3 | T29: =IFERROR(ROUNDDOWN(VLOOKUP('Com1&Colr'!A28,$A$3:$C$100,3,FALSE),2)," ") -> 0.21 | U29: =IF('Com1&Colr'!A28="","",VLOOKUP('Com1&Colr'!A28,$A$3:$E$100,4,FALSE)*'Com1&Colr'!B28) -> 0 | V29: =IF('Com1&Colr'!A28="","",VLOOKUP('Com1&Colr'!A28,$A$3:$E$100,5,FALSE)*'Com1&Colr'!B28) -> 0
A30: Pomme-Cerise (1X24) 20 cl | B30: 24 | C30: 0.06 | D30: 0.64 | F30: 4.5 | G30: 24 | H30: 2 | I30: 0.1 | J30: =SUM(D30/B30) -> 0.026666667 | K30: =SUM(E30/B30) -> 0 | N30: =SUM((J30+K30)*B30) -> 0.64 | R30: =IF(T30=0.06,'Com1&Colr'!D29*BDCom1!T30,"") | S30: =IF(T30=0.21,'Com1&Colr'!D29*BDCom1!T30,"") -> 6.3 | T30: =IFERROR(ROUNDDOWN(VLOOKUP('Com1&Colr'!A29,$A$3:$C$100,3,FALSE),2)," ") -> 0.21 | U30: =IF('Com1&Colr'!A29="","",VLOOKUP('Com1&Colr'!A29,$A$3:$E$100,4,FALSE)*'Com1&Colr'!B29) -> 0 | V30: =IF('Com1&Colr'!A29="","",VLOOKUP('Com1&Colr'!A29,$A$3:$E$100,5,FALSE)*'Com1&Colr'!B29) -> 0
A31: Lipton Ice-Tea (1X30) 33 cl !!! | B31: 30 | C31: 0.06 | D31: 0 | F31: 0 | G31: 30 | H31: 2 | I31: 0 | J31: 0 | K31: =SUM(E31/B31) -> 0 | N31: =SUM((J31+K31)*B31) -> 0 | R31: =IF(T31=0.06,'Com1&Colr'!D30*BDCom1!T31,"") | S31: =IF(T31=0.21,'Com1&Colr'!D30*BDCom1!T31,"") -> 6.3 | T31: =IFERROR(ROUNDDOWN(VLOOKUP('Com1&Colr'!A30,$A$3:$C$100,3,FALSE),2)," ") -> 0.21 | U31: =IF('Com1&Colr'!A30="","",VLOOKUP('Com1&Colr'!A30,$A$3:$E$100,4,FALSE)*'Com1&Colr'!B30) -> 0 | V31: =IF('Com1&Colr'!A30="","",VLOOKUP('Com1&Colr'!A30,$A$3:$E$100,5,FALSE)*'Com1&Colr'!B30) -> 0
N32: =SUM((J32+K32)*B32) -> 0 | R32: =IF(T32=0.06,'Com1&Colr'!D31*BDCom1!T32,"") | S32: =IF(T32=0.21,'Com1&Colr'!D31*BDCom1!T32,"") -> 25.2 | T32: =IFERROR(ROUNDDOWN(VLOOKUP('Com1&Colr'!A31,$A$3:$C$100,3,FALSE),2)," ") -> 0.21 | U32: =IF('Com1&Colr'!A31="","",VLOOKUP('Com1&Colr'!A31,$A$3:$E$100,4,FALSE)*'Com1&Colr'!B31) -> 0 | V32: =IF('Com1&Colr'!A31="","",VLOOKUP('Com1&Colr'!A31,$A$3:$E$100,5,FALSE)*'Com1&Colr'!B31) -> 0
A33: Coca-Cola Zéro (1X6) 1,5L | B33: 6 | C33: 0.06 | G33: 36 | H33: 2 | I33: 0 | J33: =SUM(D33/B33) -> 0 | K33: =SUM(E33/B33) -> 0 | N33: =SUM((J33+K33)*B33) -> 0 | R33: =IF(T33=0.06,'Com1&Colr'!D32*BDCom1!T33,"") | S33: =IF(T33=0.21,'Com1&Colr'!D32*BDCom1!T33,"") | T33: =IFERROR(ROUNDDOWN(VLOOKUP('Com1&Colr'!A32,$A$3:$C$100,3,FALSE),2)," ") | U33: =IF('Com1&Colr'!A32="","",VLOOKUP('Com1&Colr'!A32,$A$3:$E$100,4,FALSE)*'Com1&Colr'!B32) | V33: =IF('Com1&Colr'!A32="","",VLOOKUP('Com1&Colr'!A32,$A$3:$E$100,5,FALSE)*'Com1&Colr'!B32)
A34: Coca-Cola Normal (1X6) 1,5L | B34: 6 | C34: 0.06 | G34: 36 | H34: 2 | I34: 0 | J34: =SUM(D34/B34) -> 0 | K34: =SUM(E34/B34) -> 0 | N34: =SUM((J34+K34)*B34) -> 0 | R34: =IF(T34=0.06,'Com1&Colr'!D33*BDCom1!T34,"") | S34: =IF(T34=0.21,'Com1&Colr'!D33*BDCom1!T34,"") | T34: =IFERROR(ROUNDDOWN(VLOOKUP('Com1&Colr'!A33,$A$3:$C$100,3,FALSE),2)," ") | U34: =IF('Com1&Colr'!A33="","",VLOOKUP('Com1&Colr'!A33,$A$3:$E$100,4,FALSE)*'Com1&Colr'!B33) | V34: =IF('Com1&Colr'!A33="","",VLOOKUP('Com1&Colr'!A33,$A$3:$E$100,5,FALSE)*'Com1&Colr'!B33)
A35: Fanta (1X6) 1,5L | B35: 6 | C35: 0.06 | G35: 36 | H35: 2 | I35: 0 | J35: =SUM(D35/B35) -> 0 | K35: =SUM(E35/B35) -> 0 | N35: =SUM((J35+K35)*B35) -> 0 | R35: =IF(T35=0.06,'Com1&Colr'!D34*BDCom1!T35,"") | S35: =IF(T35=0.21,'Com1&Colr'!D34*BDCom1!T35,"") | T35: =IFERROR(ROUNDDOWN(VLOOKUP('Com1&Colr'!A34,$A$3:$C$100,3,FALSE),2)," ") | U35: =IF('Com1&Colr'!A34="","",VLOOKUP('Com1&Colr'!A34,$A$3:$E$100,4,FALSE)*'Com1&Colr'!B34) | V35: =IF('Com1&Colr'!A34="","",VLOOKUP('Com1&Colr'!A34,$A$3:$E$100,5,FALSE)*'Com1&Colr'!B34)
A36: Ice-Tea Lipton (1X6) 1,5L | B36: 6 | C36: 0.06 | G36: 36 | H36: 2 | I36: 0 | J36: =SUM(D36/B36) -> 0 | K36: =SUM(E36/B36) -> 0 | N36: =SUM((J36+K36)*B36) -> 0 | R36: =IF(T36=0.06,'Com1&Colr'!D35*BDCom1!T36,"") | S36: =IF(T36=0.21,'Com1&Colr'!D35*BDCom1!T36,"") | T36: =IFERROR(ROUNDDOWN(VLOOKUP('Com1&Colr'!A35,$A$3:$C$100,3,FALSE),2)," ") | U36: =IF('Com1&Colr'!A35="","",VLOOKUP('Com1&Colr'!A35,$A$3:$E$100,4,FALSE)*'Com1&Colr'!B35) | V36: =IF('Com1&Colr'!A35="","",VLOOKUP('Com1&Colr'!A35,$A$3:$E$100,5,FALSE)*'Com1&Colr'!B35)
A37: Eau plate (1X6) 1,5L | B37: 6 | C37: 0.06 | G37: 36 | H37: 1 | I37: 0 | J37: =SUM(D37/B37) -> 0 | K37: =SUM(E37/B37) -> 0 | N37: =SUM((J37+K37)*B37) -> 0 | R37: =IF(T37=0.06,'Com1&Colr'!D36*BDCom1!T37,"") | S37: =IF(T37=0.21,'Com1&Colr'!D36*BDCom1!T37,"") | T37: =IFERROR(ROUNDDOWN(VLOOKUP('Com1&Colr'!A36,$A$3:$C$100,3,FALSE),2)," ") | U37: =IF('Com1&Colr'!A36="","",VLOOKUP('Com1&Colr'!A36,$A$3:$E$100,4,FALSE)*'Com1&Colr'!B36) | V37: =IF('Com1&Colr'!A36="","",VLOOKUP('Com1&Colr'!A36,$A$3:$E$100,5,FALSE)*'Com1&Colr'!B36)
A38: Eau Gazeuse (1X6) 1,5L | B38: 6 | C38: 0.06 | G38: 36 | H38: 2 | I38: 0 | J38: =SUM(D38/B38) -> 0 | K38: =SUM(E38/B38) -> 0 | N38: =SUM((J38+K38)*B38) -> 0 | R38: =IF(T38=0.06,'Com1&Colr'!D37*BDCom1!T38,"") | S38: =IF(T38=0.21,'Com1&Colr'!D37*BDCom1!T38,"") | T38: =IFERROR(ROUNDDOWN(VLOOKUP('Com1&Colr'!A37,$A$3:$C$100,3,FALSE),2)," ") | U38: =IF('Com1&Colr'!A37="","",VLOOKUP('Com1&Colr'!A37,$A$3:$E$100,4,FALSE)*'Com1&Colr'!B37) | V38: =IF('Com1&Colr'!A37="","",VLOOKUP('Com1&Colr'!A37,$A$3:$E$100,5,FALSE)*'Com1&Colr'!B37)
A39: Grenadine (1X1L) | B39: 1 | C39: 0.06 | G39: 1 | H39: 0 | I39: 0 | J39: =SUM(D39/B39) -> 0 | K39: =SUM(E39/B39) -> 0 | N39: =SUM((J39+K39)*B39) -> 0 | R39: =IF(T39=0.06,'Com1&Colr'!D38*BDCom1!T39,"") | S39: =IF(T39=0.21,'Com1&Colr'!D38*BDCom1!T39,"") | T39: =IFERROR(ROUNDDOWN(VLOOKUP('Com1&Colr'!A38,$A$3:$C$100,3,FALSE),2)," ") | U39: =IF('Com1&Colr'!A38="","",VLOOKUP('Com1&Colr'!A38,$A$3:$E$100,4,FALSE)*'Com1&Colr'!B38) | V39: =IF('Com1&Colr'!A38="","",VLOOKUP('Com1&Colr'!A38,$A$3:$E$100,5,FALSE)*'Com1&Colr'!B38)
A40: Eau pétillante Ordal (1X6) 1L | B40: 6 | C40: 0.06 | F40: 3.5 | G40: 24 | H40: 1 | I40: 0 | J40: =SUM(D40/B40) -> 0 | K40: =SUM(E40/B40) -> 0 | N40: =SUM((J40+K40)*B40) -> 0 | R40: =IF(T40=0.06,'Com1&Colr'!D39*BDCom1!T40,"") | S40: =IF(T40=0.21,'Com1&Colr'!D39*BDCom1!T40,"") | T40: =IFERROR(ROUNDDOWN(VLOOKUP('Com1&Colr'!A39,$A$3:$C$100,3,FALSE),2)," ") | U40: =IF('Com1&Colr'!A39="","",VLOOKUP('Com1&Colr'!A39,$A$3:$E$100,4,FALSE)*'Com1&Colr'!B39) | V40: =IF('Com1&Colr'!A39="","",VLOOKUP('Com1&Colr'!A39,$A$3:$E$100,5,FALSE)*'Com1&Colr'!B39)
A41: Jus d'orange (1x6) 1,5L | B41: 6 | C41: 0.06 | G41: 36 | H41: 3 | I41: 0 | J41: =SUM(D41/B41) -> 0 | K41: =SUM(E41/B41) -> 0 | N41: =SUM((J41+K41)*B41) -> 0 | R41: =IF(T41=0.06,'Com1&Colr'!#REF!*BDCom1!T41,"") | S41: =IF(T41=0.21,'Com1&Colr'!#REF!*BDCom1!T41,"") | T41: =IFERROR(ROUNDDOWN(VLOOKUP('Com1&Colr'!A40,$A$3:$C$100,3,FALSE),2)," ") | U41: =IF('Com1&Colr'!A40="","",VLOOKUP('Com1&Colr'!A40,$A$3:$E$100,4,FALSE)*'Com1&Colr'!#REF!) -> #N/A | V41: =IF('Com1&Colr'!A40="","",VLOOKUP('Com1&Colr'!A40,$A$3:$E$100,5,FALSE)*'Com1&Colr'!#REF!) -> #N/A
N42: =SUM((J42+K42)*B42) -> 0 | R42: =IF(T42=0.06,'Com1&Colr'!#REF!*BDCom1!T42,"") | S42: =IF(T42=0.21,'Com1&Colr'!#REF!*BDCom1!T42,"") | T42: =IFERROR(ROUNDDOWN(VLOOKUP('Com1&Colr'!A41,$A$3:$C$100,3,FALSE),2)," ") | U42: =IF('Com1&Colr'!A41="","",VLOOKUP('Com1&Colr'!A41,$A$3:$E$100,4,FALSE)*'Com1&Colr'!#REF!) -> #N/A | V42: =IF('Com1&Colr'!A41="","",VLOOKUP('Com1&Colr'!A41,$A$3:$E$100,5,FALSE)*'Com1&Colr'!#REF!) -> #N/A
A43: Location : | N43: =SUM((J43+K43)*B43) -> 0 | R43: =IF(T43=0.06,'Com1&Colr'!#REF!*BDCom1!T43,"") | S43: =IF(T43=0.21,'Com1&Colr'!#REF!*BDCom1!T43,"") | T43: =IFERROR(ROUNDDOWN(VLOOKUP('Com1&Colr'!A42,$A$3:$C$100,3,FALSE),2)," ") | U43: =IF('Com1&Colr'!A42="","",VLOOKUP('Com1&Colr'!A42,$A$3:$E$100,4,FALSE)*'Com1&Colr'!#REF!) | V43: =IF('Com1&Colr'!A42="","",VLOOKUP('Com1&Colr'!A42,$A$3:$E$100,5,FALSE)*'Com1&Colr'!#REF!)
A44: Pompes 2 Têtes (1) | C44: 0.21 | E44: 0 | F44: 0 | G44: 0 | N44: =SUM((J44+K44)*B44) -> 0 | R44: =IF(T44=0.06,'Com1&Colr'!#REF!*BDCom1!T44,"") | S44: =IF(T44=0.21,'Com1&Colr'!#REF!*BDCom1!T44,"") | T44: =IFERROR(ROUNDDOWN(VLOOKUP('Com1&Colr'!A44,$A$3:$C$100,3,FALSE),2)," ") | U44: =IF('Com1&Colr'!A44="","",VLOOKUP('Com1&Colr'!A44,$A$3:$E$100,4,FALSE)*'Com1&Colr'!#REF!) -> #N/A | V44: =IF('Com1&Colr'!A44="","",VLOOKUP('Com1&Colr'!A44,$A$3:$E$100,5,FALSE)*'Com1&Colr'!#REF!) -> #N/A
A45: Gaz Carbonique (1) | C45: 0.21 | E45: 0 | F45: 80 | G45: 0 | N45: =SUM((J45+K45)*B45) -> 0 | R45: =IF(T45=0.06,'Com1&Colr'!#REF!*BDCom1!T45,"") | S45: =IF(T45=0.21,'Com1&Colr'!#REF!*BDCom1!T45,"") | T45: =IFERROR(ROUNDDOWN(VLOOKUP('Com1&Colr'!#REF!,$A$3:$C$100,3,FALSE),2)," ") | U45: =IF('Com1&Colr'!#REF!="","",VLOOKUP('Com1&Colr'!#REF!,$A$3:$E$100,4,FALSE)*'Com1&Colr'!#REF!) -> #REF! | V45: =IF('Com1&Colr'!#REF!="","",VLOOKUP('Com1&Colr'!#REF!,$A$3:$E$100,5,FALSE)*'Com1&Colr'!#REF!) -> #REF!
A46: Verres Pils (1X36) | C46: 0.21 | E46: 0 | F46: 0 | G46: 0 | N46: =SUM((J46+K46)*B46) -> 0 | R46: =IF(T46=0.06,'Com1&Colr'!S40*BDCom1!T46,"") | S46: =IF(T46=0.21,'Com1&Colr'!S40*BDCom1!T46,"") | T46: =IFERROR(ROUNDDOWN(VLOOKUP('Com1&Colr'!#REF!,$A$3:$C$100,3,FALSE),2)," ") | U46: =IF('Com1&Colr'!#REF!="","",VLOOKUP('Com1&Colr'!#REF!,$A$3:$E$100,4,FALSE)*'Com1&Colr'!#REF!) -> #REF! | V46: =IF('Com1&Colr'!#REF!="","",VLOOKUP('Com1&Colr'!#REF!,$A$3:$E$100,5,FALSE)*'Com1&Colr'!#REF!) -> #REF!
A47: Verres Spécial (1X20) | C47: 0.21 | E47: 0 | F47: 0 | G47: 0 | N47: =SUM((J47+K47)*B47) -> 0 | R47: =IF(T47=0.06,'Com1&Colr'!D45*BDCom1!T47,"") | S47: =IF(T47=0.21,'Com1&Colr'!D45*BDCom1!T47,"") | T47: =IFERROR(ROUNDDOWN(VLOOKUP('Com1&Colr'!A45,$A$3:$C$100,3,FALSE),2)," ") | U47: =IF('Com1&Colr'!A45="","",VLOOKUP('Com1&Colr'!A45,$A$3:$E$100,4,FALSE)*'Com1&Colr'!B45) | V47: =IF('Com1&Colr'!A45="","",VLOOKUP('Com1&Colr'!A45,$A$3:$E$100,5,FALSE)*'Com1&Colr'!B45)
A48: Verres Fruitées (1X30) | C48: 0.21 | E48: 0 | F48: 0 | G48: 0 | N48: =SUM((J48+K48)*B48) -> 0 | R48: =IF(T48=0.06,'Com1&Colr'!E40*BDCom1!T48,"") | S48: =IF(T48=0.21,'Com1&Colr'!E40*BDCom1!T48,"") | T48: =IFERROR(ROUNDDOWN(VLOOKUP('Com1&Colr'!A47,$A$3:$C$100,3,FALSE),2)," ") | U48: =IF('Com1&Colr'!A47="","",VLOOKUP('Com1&Colr'!A47,$A$3:$E$100,4,FALSE)*'Com1&Colr'!C40) -> #N/A | V48: =IF('Com1&Colr'!A47="","",VLOOKUP('Com1&Colr'!A47,$A$3:$E$100,5,FALSE)*'Com1&Colr'!C40) -> #N/A
A49: Plateaux (1) | C49: 0.21 | E49: 0 | F49: 0 | G49: 0 | N49: =SUM((J49+K49)*B49) -> 0 | R49: =IF(T49=0.06,'Com1&Colr'!E41*BDCom1!T49,"") | S49: =IF(T49=0.21,'Com1&Colr'!E41*BDCom1!T49,"") -> 192.717 | T49: =IFERROR(ROUNDDOWN(VLOOKUP('Com1&Colr'!A48,$A$3:$C$100,3,FALSE),2)," ") -> 0.21 | U49: =IF('Com1&Colr'!A48="","",VLOOKUP('Com1&Colr'!A48,$A$3:$E$100,4,FALSE)*'Com1&Colr'!C41) -> 0 | V49: =IF('Com1&Colr'!A48="","",VLOOKUP('Com1&Colr'!A48,$A$3:$E$100,5,FALSE)*'Com1&Colr'!C41) -> 6360.8922
A50: Frigos (1) | C50: 0.21 | E50: 0 | F50: 0 | G50: 0 | N50: =SUM((J50+K50)*B50) -> 0 | R50: =IF(T50=0.06,'Com1&Colr'!E42*BDCom1!T50,"") -> 142.4184 | S50: =IF(T50=0.21,'Com1&Colr'!E42*BDCom1!T50,"") | T50: =IFERROR(ROUNDDOWN(VLOOKUP('Com1&Colr'!A49,$A$3:$C$100,3,FALSE),2)," ") -> 0.06 | U50: =IF('Com1&Colr'!A49="","",VLOOKUP('Com1&Colr'!A49,$A$3:$E$100,4,FALSE)*'Com1&Colr'!C42) -> 1811.856 | V50: =IF('Com1&Colr'!A49="","",VLOOKUP('Com1&Colr'!A49,$A$3:$E$100,5,FALSE)*'Com1&Colr'!C42) -> 0
A51: Tables (1) | C51: 0.21 | E51: 0 | F51: 0 | G51: 0 | N51: =SUM((J51+K51)*B51) -> 0 | R51: =IF(T51=0.06,'Com1&Colr'!D43*BDCom1!T51,"") -> 0 | S51: =IF(T51=0.21,'Com1&Colr'!D43*BDCom1!T51,"") | T51: =IFERROR(ROUNDDOWN(VLOOKUP('Com1&Colr'!A50,$A$3:$C$100,3,FALSE),2)," ") -> 0.06 | U51: =IF('Com1&Colr'!A50="","",VLOOKUP('Com1&Colr'!A50,$A$3:$E$100,4,FALSE)*'Com1&Colr'!B43) -> 0 | V51: =IF('Com1&Colr'!A50="","",VLOOKUP('Com1&Colr'!A50,$A$3:$E$100,5,FALSE)*'Com1&Colr'!B43) -> 0
A52: Bancs (1) | C52: 0.21 | E52: 0 | F52: 0 | G52: 0 | N52: =SUM((J52+K52)*B52) -> 0 | R52: =IF(T52=0.06,'Com1&Colr'!D44*BDCom1!T52,"") -> 8.7306 | S52: =IF(T52=0.21,'Com1&Colr'!D44*BDCom1!T52,"") | T52: =IFERROR(ROUNDDOWN(VLOOKUP('Com1&Colr'!A51,$A$3:$C$100,3,FALSE),2)," ") -> 0.06 | U52: =IF('Com1&Colr'!A51="","",VLOOKUP('Com1&Colr'!A51,$A$3:$E$100,4,FALSE)*'Com1&Colr'!B44) -> 0 | V52: =IF('Com1&Colr'!A51="","",VLOOKUP('Com1&Colr'!A51,$A$3:$E$100,5,FALSE)*'Com1&Colr'!B44) -> 0
A53: Transport (1) | C53: 0.21 | E53: 0 | F53: 0 | G53: 0 | N53: =SUM((J53+K53)*B53) -> 0 | R53: =IF(T53=0.06,'Com1&Colr'!D52*BDCom1!T53,"") -> 6.4752 | S53: =IF(T53=0.21,'Com1&Colr'!D52*BDCom1!T53,"") | T53: =IFERROR(ROUNDDOWN(VLOOKUP('Com1&Colr'!A52,$A$3:$C$100,3,FALSE),2)," ") -> 0.06 | U53: =IF('Com1&Colr'!A52="","",VLOOKUP('Com1&Colr'!A52,$A$3:$E$100,4,FALSE)*'Com1&Colr'!B52) -> 6.4 | V53: =IF('Com1&Colr'!A52="","",VLOOKUP('Com1&Colr'!A52,$A$3:$E$100,5,FALSE)*'Com1&Colr'!B52) -> 0
N54: =SUM((J54+K54)*B54) -> 0 | R54: =IF(T54=0.06,'Com1&Colr'!D54*BDCom1!T54,"") | S54: =IF(T54=0.21,'Com1&Colr'!D54*BDCom1!T54,"") | T54: =IFERROR(ROUNDDOWN(VLOOKUP('Com1&Colr'!A54,$A$3:$C$100,3,FALSE),2)," ") | U54: =IF('Com1&Colr'!A54="","",VLOOKUP('Com1&Colr'!A54,$A$3:$E$100,4,FALSE)*'Com1&Colr'!B54) | V54: =IF('Com1&Colr'!A54="","",VLOOKUP('Com1&Colr'!A54,$A$3:$E$100,5,FALSE)*'Com1&Colr'!B54)

Sheet VentilColr
B2: =_xlfn.CONCAT('Com1&Colr'!M1) -> Com 1 Colruyt & Autres | H2: HTVA | J2: TVA | L2: TVAC
C3: Total HTVA | D3: Taux | E3: HTVA | F3: TVA | G3: TVAC | H3: 6 | I3: 21 | J3: 6 | K3: 21 | L3: 6 | M3: 21
B4: =_xlfn.CONCAT('Com1&Colr'!M2) -> Fanta (1X6) 1,5L | C4: =_xlfn.CONCAT('Com1&Colr'!P2) -> 23.88 | D4: =IFERROR(ROUNDDOWN(VLOOKUP('Com1&Colr'!M2,BDColr!$B$3:$D$100,3,FALSE),2),0) -> 1.06 | E4: =IFERROR((C4/D4),"") -> 22.528302 | F4: =IFERROR((G4-E4),"") -> 1.3516981 | G4: =IFERROR((E4*D4),"") -> 23.88 | H4: =IF(D4=1.06,E4,"") -> 22.528302 | I4: =IF(D4=1.21,E4,"") | J4: =IF(D4=1.06,F4,"") -> 1.3516981 | K4: =IF(D4=1.21,F4,"") | L4: =IFERROR(J4+H4,"") -> 23.88 | M4: =IFERROR(K4+I4,"")
B5: =_xlfn.CONCAT('Com1&Colr'!M3) -> Blanche (1X24) 25 cl | C5: =_xlfn.CONCAT('Com1&Colr'!P3) -> 89.2 | D5: =IFERROR(ROUNDDOWN(VLOOKUP('Com1&Colr'!M3,BDColr!$B$3:$D$100,3,FALSE),2),0) -> 1.21 | E5: =IFERROR((C5/D5),"") -> 73.719008 | F5: =IFERROR((G5-E5),"") -> 15.480992 | G5: =IFERROR((E5*D5),"") -> 89.2 | H5: =IF(D5=1.06,E5,"") | I5: =IF(D5=1.21,E5,"") -> 73.719008 | J5: =IF(D5=1.06,F5,"") | K5: =IF(D5=1.21,F5,"") -> 15.480992 | L5: =IFERROR(J5+H5,"") | M5: =IFERROR(K5+I5,"") -> 89.2
B6: =_xlfn.CONCAT('Com1&Colr'!M4) -> Eau plate (1X6) 1,5L | C6: =_xlfn.CONCAT('Com1&Colr'!P4) -> 27.432 | D6: =IFERROR(ROUNDDOWN(VLOOKUP('Com1&Colr'!M4,BDColr!$B$3:$D$100,3,FALSE),2),"") -> 1.06 | E6: =IFERROR((C6/D6),"") -> 25.879245 | F6: =IFERROR((G6-E6),"") -> 1.5527547 | G6: =IFERROR((E6*D6),"") -> 27.432 | H6: =IF(D6=1.06,E6,"") -> 25.879245 | I6: =IF(D6=1.21,E6,"") | J6: =IF(D6=1.06,F6,"") -> 1.5527547 | K6: =IF(D6=1.21,F6,"") | L6: =IFERROR(J6+H6,"") -> 27.432 | M6: =IFERROR(K6+I6,"")
B7: =_xlfn.CONCAT('Com1&Colr'!M5) -> Grenadine (1X1) 1L | C7: =_xlfn.CONCAT('Com1&Colr'!P5) -> 11.34 | D7: =IFERROR(ROUNDDOWN(VLOOKUP('Com1&Colr'!M5,BDColr!$B$3:$D$100,3,FALSE),2),"") -> 1.06 | E7: =IFERROR((C7/D7),"") -> 10.698113 | F7: =IFERROR((G7-E7),"") -> 0.64188679 | G7: =IFERROR((E7*D7),"") -> 11.34 | H7: =IF(D7=1.06,E7,"") -> 10.698113 | I7: =IF(D7=1.21,E7,"") | J7: =IF(D7=1.06,F7,"") -> 0.64188679 | K7: =IF(D7=1.21,F7,"") | L7: =IFERROR(J7+H7,"") -> 11.34 | M7: =IFERROR(K7+I7,"")
B8: =_xlfn.CONCAT('Com1&Colr'!M6) | C8: =_xlfn.CONCAT('Com1&Colr'!P6) | D8: =IFERROR(ROUNDDOWN(VLOOKUP('Com1&Colr'!M6,BDColr!$B$3:$D$100,3,FALSE),2),"") | E8: =IFERROR((C8/D8),"") | F8: =IFERROR((G8-E8),"") | G8: =IFERROR((E8*D8),"") | H8: =IF(D8=1.06,E8,"") | I8: =IF(D8=1.21,E8,"") | J8: =IF(D8=1.06,F8,"") | K8: =IF(D8=1.21,F8,"") | L8: =IFERROR(J8+H8,"") | M8: =IFERROR(K8+I8,"")
B9: =_xlfn.CONCAT('Com1&Colr'!M7) | C9: =_xlfn.CONCAT('Com1&Colr'!P7) | D9: =IFERROR(ROUNDDOWN(VLOOKUP('Com1&Colr'!M7,BDColr!$B$3:$D$100,3,FALSE),2),"") | E9: =IFERROR((C9/D9),"") | F9: =IFERROR((G9-E9),"") | G9: =IFERROR((E9*D9),"") | H9: =IF(D9=1.06,E9,"") | I9: =IF(D9=1.21,E9,"") | J9: =IF(D9=1.06,F9,"") | K9: =IF(D9=1.21,F9,"") | L9: =IFERROR(J9+H9,"") | M9: =IFERROR(K9+I9,"")
B10: =_xlfn.CONCAT('Com1&Colr'!M8) | C10: =_xlfn.CONCAT('Com1&Colr'!P8) | D10: =IFERROR(ROUNDDOWN(VLOOKUP('Com1&Colr'!M8,BDColr!$B$3:$D$100,3,FALSE),2),"") | E10: =IFERROR((C10/D10),"") | F10: =IFERROR((G10-E10),"") | G10: =IFERROR((E10*D10),"") | H10: =IF(D10=1.06,E10,"") | I10: =IF(D10=1.21,E10,"") | J10: =IF(D10=1.06,F10,"") | K10: =IF(D10=1.21,F10,"") | L10: =IFERROR(J10+H10,"") | M10: =IFERROR(K10+I10,"")
B11: =_xlfn.CONCAT('Com1&Colr'!M9) | C11: =_xlfn.CONCAT('Com1&Colr'!P9) | D11: =IFERROR(ROUNDDOWN(VLOOKUP('Com1&Colr'!M9,BDColr!$B$3:$D$100,3,FALSE),2),"") | E11: =IFERROR((C11/D11),"") | F11: =IFERROR((G11-E11),"") | G11: =IFERROR((E11*D11),"") | H11: =IF(D11=1.06,E11,"") | I11: =IF(D11=1.21,E11,"") | J11: =IF(D11=1.06,F11,"") | K11: =IF(D11=1.21,F11,"") | L11: =IFERROR(J11+H11,"") | M11: =IFERROR(K11+I11,"")
B12: =_xlfn.CONCAT('Com1&Colr'!M10) | C12: =_xlfn.CONCAT('Com1&Colr'!P10) | D12: =IFERROR(ROUNDDOWN(VLOOKUP('Com1&Colr'!M10,BDColr!$B$3:$D$100,3,FALSE),2),"") | E12: =IFERROR((C12/D12),"") | F12: =IFERROR((G12-E12),"") | G12: =IFERROR((E12*D12),"") | H12: =IF(D12=1.06,E12,"") | I12: =IF(D12=1.21,E12,"") | J12: =IF(D12=1.06,F12,"") | K12: =IF(D12=1.21,F12,"") | L12: =IFERROR(J12+H12,"") | M12: =IFERROR(K12+I12,"")
B13: =_xlfn.CONCAT('Com1&Colr'!M11) | C13: =_xlfn.CONCAT('Com1&Colr'!P11) | D13: =IFERROR(ROUNDDOWN(VLOOKUP('Com1&Colr'!M11,BDColr!$B$3:$D$100,3,FALSE),2),"") | E13: =IFERROR((C13/D13),"") | F13: =IFERROR((G13-E13),"") | G13: =IFERROR((E13*D13),"") | H13: =IF(D13=1.06,E13,"") | I13: =IF(D13=1.21,E13,"") | J13: =IF(D13=1.06,F13,"") | K13: =IF(D13=1.21,F13,"") | L13: =IFERROR(J13+H13,"") | M13: =IFERROR(K13+I13,"")
B14: =_xlfn.CONCAT('Com1&Colr'!M12) | C14: =_xlfn.CONCAT('Com1&Colr'!P12) | D14: =IFERROR(ROUNDDOWN(VLOOKUP('Com1&Colr'!M12,BDColr!$B$3:$D$100,3,FALSE),2),"") | E14: =IFERROR((C14/D14),"") | F14: =IFERROR((G14-E14),"") | G14: =IFERROR((E14*D14),"") | H14: =IF(D14=1.06,E14,"") | I14: =IF(D14=1.21,E14,"") | J14: =IF(D14=1.06,F14,"") | K14: =IF(D14=1.21,F14,"") | L14: =IFERROR(J14+H14,"") | M14: =IFERROR(K14+I14,"")
B15: =_xlfn.CONCAT('Com1&Colr'!M13) | C15: =_xlfn.CONCAT('Com1&Colr'!P13) | D15: =IFERROR(ROUNDDOWN(VLOOKUP('Com1&Colr'!M13,BDColr!$B$3:$D$100,3,FALSE),2),"") | E15: =IFERROR((C15/D15),"") | F15: =IFERROR((G15-E15),"") | G15: =IFERROR((E15*D15),"") | H15: =IF(D15=1.06,E15,"") | I15: =IF(D15=1.21,E15,"") | J15: =IF(D15=1.06,F15,"") | K15: =IF(D15=1.21,F15,"") | L15: =IFERROR(J15+H15,"") | M15: =IFERROR(K15+I15,"")
B16: =_xlfn.CONCAT('Com1&Colr'!M14) | C16: =_xlfn.CONCAT('Com1&Colr'!P14) | D16: =IFERROR(ROUNDDOWN(VLOOKUP('Com1&Colr'!M14,BDColr!$B$3:$D$100,3,FALSE),2),"") | E16: =IFERROR((C16/D16),"") | F16: =IFERROR((G16-E16),"") | G16: =IFERROR((E16*D16),"") | H16: =IF(D16=1.06,E16,"") | I16: =IF(D16=1.21,E16,"") | J16: =IF(D16=1.06,F16,"") | K16: =IF(D16=1.21,F16,"") | L16: =IFERROR(J16+H16,"") | M16: =IFERROR(K16+I16,"")
B17: =_xlfn.CONCAT('Com1&Colr'!M15) | C17: =_xlfn.CONCAT('Com1&Colr'!P15) | D17: =IFERROR(ROUNDDOWN(VLOOKUP('Com1&Colr'!M15,BDColr!$B$3:$D$100,3,FALSE),2),"") | E17: =IFERROR((C17/D17),"") | F17: =IFERROR((G17-E17),"") | G17: =IFERROR((E17*D17),"") | H17: =IF(D17=1.06,E17,"") | I17: =IF(D17=1.21,E17,"") | J17: =IF(D17=1.06,F17,"") | K17: =IF(D17=1.21,F17,"") | L17: =IFERROR(J17+H17,"") | M17: =IFERROR(K17+I17,"")
... B41: =_xlfn.CONCAT('Com1&Colr'!M39) | C41: =_xlfn.CONCAT('Com1&Colr'!P39) | D41: =IFERROR(ROUNDDOWN(VLOOKUP('Com1&Colr'!M39,BDColr!$B$3:$D$100,3,FALSE),2),"") | E41: =IFERROR((C41/D41),"") | F41: =IFERROR((G41-E41),"") | G41: =IFERROR((E41*D41),"") | H41: =IF(D41=1.06,E41,"") | I41: =IF(D41=1.21,E41,"") | J41: =IF(D41=1.06,F41,"") | K41: =IF(D41=1.21,F41,"") | L41: =IFERROR(J41+H41,"") | M41: =IFERROR(K41+I41,"")
B42: Total + Consigne | C42: =SUM(G42+'Com1&Colr'!R41) -> 169.852 | E42: =SUM(E4:E41) -> 132.82467 | F42: =SUM(F4:F41) -> 19.027331 | G42: =SUM(G4:G41) -> 151.852 | H42: =SUM(H4:H41) -> 59.10566 | I42: =SUM(I4:I41) -> 73.719008 | J42: =SUM(J4:J41) -> 3.5463396 | K42: =SUM(K4:K41) -> 15.480992 | L42: =SUM(L4:L41) -> 62.652 | M42: =SUM(M4:M41) -> 89.2
B45: =_xlfn.CONCAT('Com1&Colr'!M47) -> Com 1 Colruyt & Autres Ajout | H45: HTVA | J45: TVA | L45: TVAC
C46: Total HTVA | D46: Taux | E46: HTVA | F46: TVA | G46: TVAC | H46: 6 | I46: 21 | J46: 6 | K46: 21 | L46: 6 | M46: 21
B47: =_xlfn.CONCAT('Com1&Colr'!M48) | C47: =_xlfn.CONCAT('Com1&Colr'!P48) | D47: =IFERROR(ROUNDDOWN(VLOOKUP('Com1&Colr'!M48,BDColr!$B$3:$D$100,3,FALSE),2),0) -> 0 | E47: =IFERROR((C47/D47),"") | F47: =IFERROR((G47-E47),"") | G47: =IFERROR((E47*D47),"") | H47: =IF(D47=1.06,E47,"") | I47: =IF(D47=1.21,E47,"") | J47: =IF(D47=1.06,F47,"") | K47: =IF(D47=1.21,F47,"") | L47: =IFERROR(J47+H47,"") | M47: =IFERROR(K47+I47,"")
B48: =_xlfn.CONCAT('Com1&Colr'!M49) | C48: =_xlfn.CONCAT('Com1&Colr'!P49) | D48: =IFERROR(ROUNDDOWN(VLOOKUP('Com1&Colr'!M49,BDColr!$B$3:$D$100,3,FALSE),2),0) -> 0 | E48: =IFERROR((C48/D48),"") | F48: =IFERROR((G48-E48),"") | G48: =IFERROR((E48*D48),"") | H48: =IF(D48=1.06,E48,"") | I48: =IF(D48=1.21,E48,"") | J48: =IF(D48=1.06,F48,"") | K48: =IF(D48=1.21,F48,"") | L48: =IFERROR(J48+H48,"") | M48: =IFERROR(K48+I48,"")
B49: =_xlfn.CONCAT('Com1&Colr'!M50) | C49: =_xlfn.CONCAT('Com1&Colr'!P50) | D49: =IFERROR(ROUNDDOWN(VLOOKUP('Com1&Colr'!M50,BDColr!$B$3:$D$100,3,FALSE),2),0) -> 0 | E49: =IFERROR((C49/D49),"") | F49: =IFERROR((G49-E49),"") | G49: =IFERROR((E49*D49),"") | H49: =IF(D49=1.06,E49,"") | I49: =IF(D49=1.21,E49,"") | J49: =IF(D49=1.06,F49,"") | K49: =IF(D49=1.21,F49,"") | L49: =IFERROR(J49+H49,"") | M49: =IFERROR(K49+I49,"")
B50: =_xlfn.CONCAT('Com1&Colr'!M51) | C50: =_xlfn.CONCAT('Com1&Colr'!P51) | D50: =IFERROR(ROUNDDOWN(VLOOKUP('Com1&Colr'!M51,BDColr!$B$3:$D$100,3,FALSE),2),0) -> 0 | E50: =IFERROR((C50/D50),"") | F50: =IFERROR((G50-E50),"") | G50: =IFERROR((E50*D50),"") | H50: =IF(D50=1.06,E50,"") | I50: =IF(D50=1.21,E50,"") | J50: =IF(D50=1.06,F50,"") | K50: =IF(D50=1.21,F50,"") | L50: =IFERROR(J50+H50,"") | M50: =IFERROR(K50+I50,"")
B51: =_xlfn.CONCAT('Com1&Colr'!M52) | C51: =_xlfn.CONCAT('Com1&Colr'!P52) | D51: =IFERROR(ROUNDDOWN(VLOOKUP('Com1&Colr'!M52,BDColr!$B$3:$D$100,3,FALSE),2),0) -> 0 | E51: =IFERROR((C51/D51),"") | F51: =IFERROR((G51-E51),"") | G51: =IFERROR((E51*D51),"") | H51: =IF(D51=1.06,E51,"") | I51: =IF(D51=1.21,E51,"") | J51: =IF(D51=1.06,F51,"") | K51: =IF(D51=1.21,F51,"") | L51: =IFERROR(J51+H51,"") | M51: =IFERROR(K51+I51,"")
B52: =_xlfn.CONCAT('Com1&Colr'!M53) | C52: =_xlfn.CONCAT('Com1&Colr'!P53) | D52: =IFERROR(ROUNDDOWN(VLOOKUP('Com1&Colr'!M53,BDColr!$B$3:$D$100,3,FALSE),2),0) -> 0 | E52: =IFERROR((C52/D52),"") | F52: =IFERROR((G52-E52),"") | G52: =IFERROR((E52*D52),"") | H52: =IF(D52=1.06,E52,"") | I52: =IF(D52=1.21,E52,"") | J52: =IF(D52=1.06,F52,"") | K52: =IF(D52=1.21,F52,"") | L52: =IFERROR(J52+H52,"") | M52: =IFERROR(K52+I52,"")
B53: =_xlfn.CONCAT('Com1&Colr'!M54) | C53: =_xlfn.CONCAT('Com1&Colr'!P54) | D53: =IFERROR(ROUNDDOWN(VLOOKUP('Com1&Colr'!M54,BDColr!$B$3:$D$100,3,FALSE),2),0) -> 0 | E53: =IFERROR((C53/D53),"") | F53: =IFERROR((G53-E53),"") | G53: =IFERROR((E53*D53),"") | H53: =IF(D53=1.06,E53,"") | I53: =IF(D53=1.21,E53,"") | J53: =IF(D53=1.06,F53,"") | K53: =IF(D53=1.21,F53,"") | L53: =IFERROR(J53+H53,"") | M53: =IFERROR(K53+I53,"")
B54: =_xlfn.CONCAT('Com1&Colr'!M55) | C54: =_xlfn.CONCAT('Com1&Colr'!P55) | D54: =IFERROR(ROUNDDOWN(VLOOKUP('Com1&Colr'!M55,BDColr!$B$3:$D$100,3,FALSE),2),0) -> 0 | E54: =IFERROR((C54/D54),"") | F54: =IFERROR((G54-E54),"") | G54: =IFERROR((E54*D54),"") | H54: =IF(D54=1.06,E54,"") | I54: =IF(D54=1.21,E54,"") | J54: =IF(D54=1.06,F54,"") | K54: =IF(D54=1.21,F54,"") | L54: =IFERROR(J54+H54,"") | M54: =IFERROR(K54+I54,"")
B55: =_xlfn.CONCAT('Com1&Colr'!M56) | C55: =_xlfn.CONCAT('Com1&Colr'!P56) | D55: =IFERROR(ROUNDDOWN(VLOOKUP('Com1&Colr'!M56,BDColr!$B$3:$D$100,3,FALSE),2),0) -> 0 | E55: =IFERROR((C55/D55),"") | F55: =IFERROR((G55-E55),"") | G55: =IFERROR((E55*D55),"") | H55: =IF(D55=1.06,E55,"") | I55: =IF(D55=1.21,E55,"") | J55: =IF(D55=1.06,F55,"") | K55: =IF(D55=1.21,F55,"") | L55: =IFERROR(J55+H55,"") | M55: =IFERROR(K55+I55,"")
B56: =_xlfn.CONCAT('Com1&Colr'!M57) | C56: =_xlfn.CONCAT('Com1&Colr'!P57) | D56: =IFERROR(ROUNDDOWN(VLOOKUP('Com1&Colr'!M57,BDColr!$B$3:$D$100,3,FALSE),2),0) -> 0 | E56: =IFERROR((C56/D56),"") | F56: =IFERROR((G56-E56),"") | G56: =IFERROR((E56*D56),"") | H56: =IF(D56=1.06,E56,"") | I56: =IF(D56=1.21,E56,"") | J56: =IF(D56=1.06,F56,"") | K56: =IF(D56=1.21,F56,"") | L56: =IFERROR(J56+H56,"") | M56: =IFERROR(K56+I56,"")
B57: =_xlfn.CONCAT('Com1&Colr'!M58) | C57: =_xlfn.CONCAT('Com1&Colr'!P58) | D57: =IFERROR(ROUNDDOWN(VLOOKUP('Com1&Colr'!M58,BDColr!$B$3:$D$100,3,FALSE),2),0) -> 0 | E57: =IFERROR((C57/D57),"") | F57: =IFERROR((G57-E57),"") | G57: =IFERROR((E57*D57),"") | H57: =IF(D57=1.06,E57,"") | I57: =IF(D57=1.21,E57,"") | J57: =IF(D57=1.06,F57,"") | K57: =IF(D57=1.21,F57,"") | L57: =IFERROR(J57+H57,"") | M57: =IFERROR(K57+I57,"")
B58: =_xlfn.CONCAT('Com1&Colr'!M59) | C58: =_xlfn.CONCAT('Com1&Colr'!P59) | D58: =IFERROR(ROUNDDOWN(VLOOKUP('Com1&Colr'!M59,BDColr!$B$3:$D$100,3,FALSE),2),0) -> 0 | E58: =IFERROR((C58/D58),"") | F58: =IFERROR((G58-E58),"") | G58: =IFERROR((E58*D58),"") | H58: =IF(D58=1.06,E58,"") | I58: =IF(D58=1.21,E58,"") | J58: =IF(D58=1.06,F58,"") | K58: =IF(D58=1.21,F58,"") | L58: =IFERROR(J58+H58,"") | M58: =IFERROR(K58+I58,"")
B59: =_xlfn.CONCAT('Com1&Colr'!M60) | C59: =_xlfn.CONCAT('Com1&Colr'!P60) | D59: =IFERROR(ROUNDDOWN(VLOOKUP('Com1&Colr'!M60,BDColr!$B$3:$D$100,3,FALSE),2),0) -> 0 | E59: =IFERROR((C59/D59),"") | F59: =IFERROR((G59-E59),"") | G59: =IFERROR((E59*D59),"") | H59: =IF(D59=1.06,E59,"") | I59: =IF(D59=1.21,E59,"") | J59: =IF(D59=1.06,F59,"") | K59: =IF(D59=1.21,F59,"") | L59: =IFERROR(J59+H59,"") | M59: =IFERROR(K59+I59,"")
