Workbook

Sheet Commande
A1: Code article | B1: Quant. | C1: P.U - H.T | D1: Tot H.T | E1: Estimation | F1: P.U. TTC | G1: P.U. V. | H1: Diffé | I1: Total | K1: TVA 21 | L1: TVA 6 | N1: Vidange | R1: Total HTVA | T1: TVA
A2: Fut Jupiler 50 L | B2: 3 | C2: 142.58 | D2: =SUM(B2*C2) -> 427.74 | E2: =IF(A2="","",VLOOKUP(A2,BD!$A$3:$B$84,2,FALSE))*B2 -> 570 | F2: =SUM((D2*T2)/E2) -> 0.90800947 | G2: 2 | H2: =SUM(G2-F2) -> 1.0919905 | I2: =SUM(E2*H2) -> 622.4346 | K2: =IF(M2="1.21",V2,0) -> 89.8254 | L2: =IF(M2="1.06",V2,0) -> 0 | M2: =IF(A2="","",VLOOKUP(A2,BD!$A$3:$E$84,4,FALSE)) -> 1.21 | N2: =IF(A2="","",VLOOKUP(A2,BD!$A$3:$E$84,5,FALSE))*B2 -> 90 | T2: =IF(A2="","",VLOOKUP(A2,BD!$A$3:$C$84,3,FALSE)) -> 1.21 | V2: =SUM((D2*T2)-D2) -> 89.8254
A3: Fut Jupiler (1X30 L) | B3: 1 | C3: 89.18 | D3: =SUM(B3*C3) -> 89.18 | E3: =IF(A3="","",VLOOKUP(A3,BD!$A$3:$B$84,2,FALSE))*B3 -> 114 | F3: =SUM((D3*T3)/E3) -> 0.94655965 | G3: 2 | H3: =SUM(G3-F3) -> 1.0534404 | I3: =SUM(E3*H3) -> 120.0922 | K3: =IF(M3="1.21",V3,0) -> 18.7278 | L3: =IF(M3="1.06",V3,0) -> 0 | M3: =IF(A3="","",VLOOKUP(A3,BD!$A$3:$E$84,4,FALSE)) -> 1.21 | N3: =IF(A3="","",VLOOKUP(A3,BD!$A$3:$E$84,5,FALSE))*B3 -> 30 | R3: =SUM(D2:D84) -> 3145.83 | T3: =IF(A3="","",VLOOKUP(A3,BD!$A$3:$C$84,3,FALSE)) -> 1.21 | V3: =SUM((D3*T3)-D3) -> 18.7278
A4: Fut Kriek (1X30 L) | B4: 2 | C4: 76.83 | D4: =SUM(B4*C4) -> 153.66 | E4: =IF(A4="","",VLOOKUP(A4,BD!$A$3:$B$84,2,FALSE))*B4 -> 228 | F4: =SUM((D4*T4)/E4) -> 0.81547632 | G4: 3 | H4: =SUM(G4-F4) -> 2.1845237 | I4: =SUM(E4*H4) -> 498.0714 | K4: =IF(M4="1.21",V4,0) -> 32.2686 | L4: =IF(M4="1.06",V4,0) -> 0 | M4: =IF(A4="","",VLOOKUP(A4,BD!$A$3:$E$84,4,FALSE)) -> 1.21 | N4: =IF(A4="","",VLOOKUP(A4,BD!$A$3:$E$84,5,FALSE))*B4 -> 60 | T4: =IF(A4="","",VLOOKUP(A4,BD!$A$3:$C$84,3,FALSE)) -> 1.21 | V4: =SUM((D4*T4)-D4) -> 32.2686
A5: Coca-Cola Normal (1X6) 1L | B5: 15 | C5: 13.93 | D5: =SUM(B5*C5) -> 208.95 | E5: =IF(A5="","",VLOOKUP(A5,BD!$A$3:$B$84,2,FALSE))*B5 -> 360 | F5: =SUM((D5*T5)/E5) -> 0.61524167 | G5: 2 | H5: =SUM(G5-F5) -> 1.3847583 | I5: =SUM(E5*H5) -> 498.513 | K5: =IF(M5="1.21",V5,0) -> 0 | L5: =IF(M5="1.06",V5,0) -> 12.537 | M5: =IF(A5="","",VLOOKUP(A5,BD!$A$3:$E$84,4,FALSE)) -> 1.06 | N5: =IF(A5="","",VLOOKUP(A5,BD!$A$3:$E$84,5,FALSE))*B5 -> 52.5 | T5: =IF(A5="","",VLOOKUP(A5,BD!$A$3:$C$84,3,FALSE)) -> 1.06 | V5: =SUM((D5*T5)-D5) -> 12.537
A6: Eau plate (1X12) 1L | B6: 5 | C6: 8.66 | D6: =SUM(B6*C6) -> 43.3 | E6: =IF(A6="","",VLOOKUP(A6,BD!$A$3:$B$84,2,FALSE))*B6 -> 240 | F6: =SUM((D6*T6)/E6) -> 0.19124167 | G6: 1 | H6: =SUM(G6-F6) -> 0.80875833 | I6: =SUM(E6*H6) -> 194.102 | K6: =IF(M6="1.21",V6,0) -> 0 | L6: =IF(M6="1.06",V6,0) -> 2.598 | M6: =IF(A6="","",VLOOKUP(A6,BD!$A$3:$E$84,4,FALSE)) -> 1.06 | N6: =IF(A6="","",VLOOKUP(A6,BD!$A$3:$E$84,5,FALSE))*B6 -> 22.5 | T6: =IF(A6="","",VLOOKUP(A6,BD!$A$3:$C$84,3,FALSE)) -> 1.06 | V6: =SUM((D6*T6)-D6) -> 2.598
A7: Eau Gazeuse (1X12) 1L | B7: 5 | C7: 8.66 | D7: =SUM(B7*C7) -> 43.3 | E7: =IF(A7="","",VLOOKUP(A7,BD!$A$3:$B$84,2,FALSE))*B7 -> 240 | F7: =SUM((D7*T7)/E7) -> 0.19124167 | G7: 1 | H7: =SUM(G7-F7) -> 0.80875833 | I7: =SUM(E7*H7) -> 194.102 | K7: =IF(M7="1.21",V7,0) -> 0 | L7: =IF(M7="1.06",V7,0) -> 2.598 | M7: =IF(A7="","",VLOOKUP(A7,BD!$A$3:$E$84,4,FALSE)) -> 1.06 | N7: =IF(A7="","",VLOOKUP(A7,BD!$A$3:$E$84,5,FALSE))*B7 -> 22.5 | T7: =IF(A7="","",VLOOKUP(A7,BD!$A$3:$C$84,3,FALSE)) -> 1.06 | V7: =SUM((D7*T7)-D7) -> 2.598
A8: Karmeliet Triple (1X24) 33 cl | B8: 4 | C8: 37.09 | D8: =SUM(B8*C8) -> 148.36 | E8: =IF(A8="","",VLOOKUP(A8,BD!$A$3:$B$84,2,FALSE))*B8 -> 96 | F8: =SUM((D8*T8)/E8) -> 1.8699542 | G8: 4 | H8: =SUM(G8-F8) -> 2.1300458 | I8: =SUM(E8*H8) -> 204.4844 | K8: =IF(M8="1.21",V8,0) -> 31.1556 | L8: =IF(M8="1.06",V8,0) -> 0 | M8: =IF(A8="","",VLOOKUP(A8,BD!$A$3:$E$84,4,FALSE)) -> 1.21 | N8: =IF(A8="","",VLOOKUP(A8,BD!$A$3:$E$84,5,FALSE))*B8 -> 18 | T8: =IF(A8="","",VLOOKUP(A8,BD!$A$3:$C$84,3,FALSE)) -> 1.21 | V8: =SUM((D8*T8)-D8) -> 31.1556
A9: Coca-Cola Zéro (1X6) 1L | B9: 12 | C9: 13.49 | D9: =SUM(B9*C9) -> 161.88 | E9: =IF(A9="","",VLOOKUP(A9,BD!$A$3:$B$84,2,FALSE))*B9 -> 288 | F9: =SUM((D9*T9)/E9) -> 0.59580833 | G9: 2 | H9: =SUM(G9-F9) -> 1.4041917 | I9: =SUM(E9*H9) -> 404.4072 | K9: =IF(M9="1.21",V9,0) -> 0 | L9: =IF(M9="1.06",V9,0) -> 9.7128 | M9: =IF(A9="","",VLOOKUP(A9,BD!$A$3:$E$84,4,FALSE)) -> 1.06 | N9: =IF(A9="","",VLOOKUP(A9,BD!$A$3:$E$84,5,FALSE))*B9 -> 42 | T9: =IF(A9="","",VLOOKUP(A9,BD!$A$3:$C$84,3,FALSE)) -> 1.06 | V9: =SUM((D9*T9)-D9) -> 9.7128
A10: Jupiler Zéro (1X24) 25 cl | B10: 5 | C10: 24.36 | D10: =SUM(B10*C10) -> 121.8 | E10: =IF(A10="","",VLOOKUP(A10,BD!$A$3:$B$84,2,FALSE))*B10 -> 120 | F10: =SUM((D10*T10)/E10) -> 1.0759 | G10: 2 | H10: =SUM(G10-F10) -> 0.9241 | I10: =SUM(E10*H10) -> 110.892 | K10: =IF(M10="1.21",V10,0) -> 0 | L10: =IF(M10="1.06",V10,0) -> 7.308 | M10: =IF(A10="","",VLOOKUP(A10,BD!$A$3:$E$84,4,FALSE)) -> 1.06 | N10: =IF(A10="","",VLOOKUP(A10,BD!$A$3:$E$84,5,FALSE))*B10 -> 22.5 | T10: 1.06 | V10: =SUM((D10*T10)-D10) -> 7.308
A11: Blanche (1X24) 25 cl | B11: 3 | C11: 22.84 | D11: =SUM(B11*C11) -> 68.52 | E11: =IF(A11="","",VLOOKUP(A11,BD!$A$3:$B$84,2,FALSE))*B11 -> 72 | F11: =SUM((D11*T11)/E11) -> 1.1515167 | G11: 3 | H11: =SUM(G11-F11) -> 1.8484833 | I11: =SUM(E11*H11) -> 133.0908 | K11: =IF(M11="1.21",V11,0) -> 14.3892 | L11: =IF(M11="1.06",V11,0) -> 0 | M11: =IF(A11="","",VLOOKUP(A11,BD!$A$3:$E$84,4,FALSE)) -> 1.21 | N11: =IF(A11="","",VLOOKUP(A11,BD!$A$3:$E$84,5,FALSE))*B11 -> 13.5 | T11: =IF(A11="","",VLOOKUP(A11,BD!$A$3:$C$84,3,FALSE)) -> 1.21 | V11: =SUM((D11*T11)-D11) -> 14.3892
A12: Jus d’orange (1x6) 1L | B12: 2 | C12: 28.08 | D12: =SUM(B12*C12) -> 56.16 | E12: =IF(A12="","",VLOOKUP(A12,BD!$A$3:$B$84,2,FALSE))*B12 -> 48 | F12: =SUM((D12*T12)/E12) -> 1.2402 | G12: 2 | H12: =SUM(G12-F12) -> 0.7598 | I12: =SUM(E12*H12) -> 36.4704 | K12: =IF(M12="1.21",V12,0) -> 0 | L12: =IF(M12="1.06",V12,0) -> 3.3696 | M12: =IF(A12="","",VLOOKUP(A12,BD!$A$3:$E$84,4,FALSE)) -> 1.06 | N12: =IF(A12="","",VLOOKUP(A12,BD!$A$3:$E$84,5,FALSE))*B12 -> 7 | T12: =IF(A12="","",VLOOKUP(A12,BD!$A$3:$C$84,3,FALSE)) -> 1.06 | V12: =SUM((D12*T12)-D12) -> 3.3696
A13: Pomme-Cerise (1X24) 20 cl | B13: 2 | C13: 19.98 | D13: =SUM(B13*C13) -> 39.96 | E13: =IF(A13="","",VLOOKUP(A13,BD!$A$3:$B$84,2,FALSE))*B13 -> 48 | F13: =SUM((D13*T13)/E13) -> 0.88245 | G13: 2 | H13: =SUM(G13-F13) -> 1.11755 | I13: =SUM(E13*H13) -> 53.6424 | K13: =IF(M13="1.21",V13,0) -> 0 | L13: =IF(M13="1.06",V13,0) -> 2.3976 | M13: =IF(A13="","",VLOOKUP(A13,BD!$A$3:$E$84,4,FALSE)) -> 1.06 | N13: =IF(A13="","",VLOOKUP(A13,BD!$A$3:$E$84,5,FALSE))*B13 -> 9 | T13: =IF(A13="","",VLOOKUP(A13,BD!$A$3:$C$84,3,FALSE)) -> 1.06 | V13: =SUM((D13*T13)-D13) -> 2.3976
A14: Westmalle Triple (1x24) 33 cl | B14: 2 | C14: 35.59 | D14: =SUM(B14*C14) -> 71.18 | E14: =IF(A14="","",VLOOKUP(A14,BD!$A$3:$B$84,2,FALSE))*B14 -> 48 | F14: =SUM((D14*T14)/E14) -> 1.7943292 | G14: 4 | H14: =SUM(G14-F14) -> 2.2056708 | I14: =SUM(E14*H14) -> 105.8722 | K14: =IF(M14="1.21",V14,0) -> 14.9478 | L14: =IF(M14="1.06",V14,0) -> 0 | M14: =IF(A14="","",VLOOKUP(A14,BD!$A$3:$E$84,4,FALSE)) -> 1.21 | N14: =IF(A14="","",VLOOKUP(A14,BD!$A$3:$E$84,5,FALSE))*B14 -> 9 | T14: =IF(A14="","",VLOOKUP(A14,BD!$A$3:$C$84,3,FALSE)) -> 1.21 | V14: =SUM((D14*T14)-D14) -> 14.9478
A15: Fanta (1X6) 1L | B15: 7 | C15: 17.44 | D15: =SUM(B15*C15) -> 122.08 | E15: =IF(A15="","",VLOOKUP(A15,BD!$A$3:$B$84,2,FALSE))*B15 -> 168 | F15: =SUM((D15*T15)/E15) -> 0.77026667 | G15: 2 | H15: =SUM(G15-F15) -> 1.2297333 | I15: =SUM(E15*H15) -> 206.5952 | K15: =IF(M15="1.21",V15,0) -> 0 | L15: =IF(M15="1.06",V15,0) -> 7.3248 | M15: =IF(A15="","",VLOOKUP(A15,BD!$A$3:$E$84,4,FALSE)) -> 1.06 | N15: =IF(A15="","",VLOOKUP(A15,BD!$A$3:$E$84,5,FALSE))*B15 -> 24.5 | T15: =IF(A15="","",VLOOKUP(A15,BD!$A$3:$C$84,3,FALSE)) -> 1.06 | V15: =SUM((D15*T15)-D15) -> 7.3248
A16: Kriek (1X24) 25 cl | B16: 1 | C16: 27.58 | D16: =SUM(B16*C16) -> 27.58 | E16: =IF(A16="","",VLOOKUP(A16,BD!$A$3:$B$84,2,FALSE))*B16 -> 24 | F16: =SUM((D16*T16)/E16) -> 1.3904917 | G16: 3 | H16: =SUM(G16-F16) -> 1.6095083 | I16: =SUM(E16*H16) -> 38.6282 | K16: =IF(M16="1.21",V16,0) -> 5.7918 | L16: =IF(M16="1.06",V16,0) -> 0 | M16: =IF(A16="","",VLOOKUP(A16,BD!$A$3:$E$84,4,FALSE)) -> 1.21 | N16: =IF(A16="","",VLOOKUP(A16,BD!$A$3:$E$84,5,FALSE))*B16 -> 4.5 | T16: =IF(A16="","",VLOOKUP(A16,BD!$A$3:$C$84,3,FALSE)) -> 1.21 | V16: =SUM((D16*T16)-D16) -> 5.7918
A17: Ice-Tea Lipton (1X6) 1L | B17: 6 | C17: 13.93 | D17: =SUM(B17*C17) -> 83.58 | E17: =IF(A17="","",VLOOKUP(A17,BD!$A$3:$B$84,2,FALSE))*B17 -> 144 | F17: =SUM((D17*T17)/E17) -> 0.61524167 | G17: 2 | H17: =SUM(G17-F17) -> 1.3847583 | I17: =SUM(E17*H17) -> 199.4052 | K17: =IF(M17="1.21",V17,0) -> 0 | L17: =IF(M17="1.06",V17,0) -> 5.0148 | M17: =IF(A17="","",VLOOKUP(A17,BD!$A$3:$E$84,4,FALSE)) -> 1.06 | N17: =IF(A17="","",VLOOKUP(A17,BD!$A$3:$E$84,5,FALSE))*B17 -> 21 | T17: =IF(A17="","",VLOOKUP(A17,BD!$A$3:$C$84,3,FALSE)) -> 1.06 | V17: =SUM((D17*T17)-D17) -> 5.0148
A18: St Feullien Blonde (1X24) 33 cl | B18: 7 | C18: 35.58 | D18: =SUM(B18*C18) -> 249.06 | E18: =IF(A18="","",VLOOKUP(A18,BD!$A$3:$B$84,2,FALSE))*B18 -> 168 | F18: =SUM((D18*T18)/E18) -> 1.793825 | G18: 4 | H18: =SUM(G18-F18) -> 2.206175 | I18: =SUM(E18*H18) -> 370.6374 | K18: =IF(M18="1.21",V18,0) -> 52.3026 | L18: =IF(M18="1.06",V18,0) -> 0 | M18: =IF(A18="","",VLOOKUP(A18,BD!$A$3:$E$84,4,FALSE)) -> 1.21 | N18: =IF(A18="","",VLOOKUP(A18,BD!$A$3:$E$84,5,FALSE))*B18 -> 31.5 | T18: =IF(A18="","",VLOOKUP(A18,BD!$A$3:$C$84,3,FALSE)) -> 1.21 | V18: =SUM((D18*T18)-D18) -> 52.3026
A19: St Feullien Brune (1X24) 33 cl | B19: 2 | C19: 35.57 | D19: =SUM(B19*C19) -> 71.14 | E19: =IF(A19="","",VLOOKUP(A19,BD!$A$3:$B$84,2,FALSE))*B19 -> 48 | F19: =SUM((D19*T19)/E19) -> 1.7933208 | G19: 4 | H19: =SUM(G19-F19) -> 2.2066792 | I19: =SUM(E19*H19) -> 105.9206 | K19: =IF(M19="1.21",V19,0) -> 14.9394 | L19: =IF(M19="1.06",V19,0) -> 0 | M19: =IF(A19="","",VLOOKUP(A19,BD!$A$3:$E$84,4,FALSE)) -> 1.21 | N19: =IF(A19="","",VLOOKUP(A19,BD!$A$3:$E$84,5,FALSE))*B19 -> 9 | T19: =IF(A19="","",VLOOKUP(A19,BD!$A$3:$C$84,3,FALSE)) -> 1.21 | V19: =SUM((D19*T19)-D19) -> 14.9394
A20: Vin Blanc (1X6) 75 cl | B20: 5 | C20: 38.22 | D20: =SUM(B20*C20) -> 191.1 | E20: =IF(A20="","",VLOOKUP(A20,BD!$A$3:$B$84,2,FALSE))*B20 -> 150 | F20: =SUM((D20*T20)/E20) -> 1.54154 | G20: 3 | H20: =SUM(G20-F20) -> 1.45846 | I20: =SUM(E20*H20) -> 218.769 | K20: =IF(M20="1.21",V20,0) -> 40.131 | L20: =IF(M20="1.06",V20,0) -> 0 | M20: =IF(A20="","",VLOOKUP(A20,BD!$A$3:$E$84,4,FALSE)) -> 1.21 | N20: =IF(A20="","",VLOOKUP(A20,BD!$A$3:$E$84,5,FALSE))*B20 -> 0 | T20: =IF(A20="","",VLOOKUP(A20,BD!$A$3:$C$84,3,FALSE)) -> 1.21 | V20: =SUM((D20*T20)-D20) -> 40.131
A21: Vin rosé (1X6) 75 cl | B21: 5 | C21: 35.64 | D21: =SUM(B21*C21) -> 178.2 | E21: =IF(A21="","",VLOOKUP(A21,BD!$A$3:$B$84,2,FALSE))*B21 -> 150 | F21: =SUM((D21*T21)/E21) -> 1.43748 | G21: 3 | H21: =SUM(G21-F21) -> 1.56252 | I21: =SUM(E21*H21) -> 234.378 | K21: =IF(M21="1.21",V21,0) -> 37.422 | L21: =IF(M21="1.06",V21,0) -> 0 | M21: =IF(A21="","",VLOOKUP(A21,BD!$A$3:$E$84,4,FALSE)) -> 1.21 | N21: =IF(A21="","",VLOOKUP(A21,BD!$A$3:$E$84,5,FALSE))*B21 -> 0 | T21: =IF(A21="","",VLOOKUP(A21,BD!$A$3:$C$84,3,FALSE)) -> 1.21 | V21: =SUM((D21*T21)-D21) -> 37.422
A22: Vin rouge (1X6) 75 cl | B22: 3 | C22: 36.12 | D22: =SUM(B22*C22) -> 108.36 | E22: =IF(A22="","",VLOOKUP(A22,BD!$A$3:$B$84,2,FALSE))*B22 -> 90 | F22: =SUM((D22*T22)/E22) -> 1.45684 | G22: 3 | H22: =SUM(G22-F22) -> 1.54316 | I22: =SUM(E22*H22) -> 138.8844 | K22: =IF(M22="1.21",V22,0) -> 22.7556 | L22: =IF(M22="1.06",V22,0) -> 0 | M22: =IF(A22="","",VLOOKUP(A22,BD!$A$3:$E$84,4,FALSE)) -> 1.21 | N22: =IF(A22="","",VLOOKUP(A22,BD!$A$3:$E$84,5,FALSE))*B22 -> 0 | T22: =IF(A22="","",VLOOKUP(A22,BD!$A$3:$C$84,3,FALSE)) -> 1.21 | V22: =SUM((D22*T22)-D22) -> 22.7556
... A31: Frigos | B31: 3 | C31: 40 | D31: =SUM(B31*C31) -> 120 | E31: =IF(A31="","",VLOOKUP(A31,BD!$A$3:$B$84,2,FALSE))*B31 -> 3 | F31: =SUM((D31*T31)/E31) -> 48.4 | G31: 48.4 | H31: =SUM(G31-F31) -> 0 | I31: =SUM(E31*H31) -> 0 | K31: =IF(M31="1.21",V31,0) -> 25.2 | L31: =IF(M31="1.06",V31,0) -> 0 | M31: =IF(A31="","",VLOOKUP(A31,BD!$A$3:$E$84,4,FALSE)) -> 1.21 | N31: =IF(A31="","",VLOOKUP(A31,BD!$A$3:$E$84,5,FALSE))*B31 -> 0 | T31: =IF(A31="","",VLOOKUP(A31,BD!$A$3:$C$84,3,FALSE)) -> 1.21 | V31: =SUM((D31*T31)-D31) -> 25.2
D32: =SUM(B32*C32) -> 0 | E32: =IF(A32="","",VLOOKUP(A32,BD!$A$3:$B$84,2,FALSE))*B32 -> #VALUE! | F32: =SUM((D32*T32)/E32) -> #VALUE! | H32: =SUM(G32-F32) -> #VALUE! | I32: =SUM(E32*H32) -> #VALUE! | K32: =IF(M32="1.21",V32,0) -> 0 | L32: =IF(M32="1.06",V32,0) -> 0 | M32: =IF(A32="","",VLOOKUP(A32,BD!$A$3:$E$84,4,FALSE)) | N32: =IF(A32="","",VLOOKUP(A32,BD!$A$3:$E$84,5,FALSE))*B32 -> #VALUE! | T32: =IF(A32="","",VLOOKUP(A32,BD!$A$3:$C$84,3,FALSE))
D33: =SUM(B33*C33) -> 0 | E33: =IF(A33="","",VLOOKUP(A33,BD!$A$3:$B$84,2,FALSE))*B33 -> #VALUE! | F33: =SUM((D33*T33)/E33) -> #VALUE! | H33: =SUM(G33-F33) -> #VALUE! | I33: =SUM(E33*H33) -> #VALUE! | K33: =IF(M33="1.21",V33,0) -> 0 | L33: =IF(M33="1.06",V33,0) -> 0 | M33: =IF(A33="","",VLOOKUP(A33,BD!$A$3:$E$84,4,FALSE)) | N33: =IF(A33="","",VLOOKUP(A33,BD!$A$3:$E$84,5,FALSE))*B33 -> #VALUE! | T33: =IF(A33="","",VLOOKUP(A33,BD!$A$3:$C$84,3,FALSE))
D34: =SUM(B34*C34) -> 0 | E34: =IF(A34="","",VLOOKUP(A34,BD!$A$3:$B$84,2,FALSE))*B34 -> #VALUE! | F34: =SUM((D34*T34)/E34) -> #VALUE! | H34: =SUM(G34-F34) -> #VALUE! | I34: =SUM(E34*H34) -> #VALUE! | K34: =IF(M34="1.21",V34,0) -> 0 | L34: =IF(M34="1.06",V34,0) -> 0 | M34: =IF(A34="","",VLOOKUP(A34,BD!$A$3:$E$84,4,FALSE)) | N34: =IF(A34="","",VLOOKUP(A34,BD!$A$3:$E$84,5,FALSE))*B34 -> #VALUE! | T34: =IF(A34="","",VLOOKUP(A34,BD!$A$3:$C$84,3,FALSE))
D35: =SUM(B35*C35) -> 0 | E35: =IF(A35="","",VLOOKUP(A35,BD!$A$3:$B$84,2,FALSE))*B35 -> #VALUE! | F35: =SUM((D35*T35)/E35) -> #VALUE! | H35: =SUM(G35-F35) -> #VALUE! | I35: =SUM(E35*H35) -> #VALUE! | K35: =IF(M35="1.21",V35,0) -> 0 | L35: =IF(M35="1.06",V35,0) -> 0 | M35: =IF(A35="","",VLOOKUP(A35,BD!$A$3:$E$84,4,FALSE)) | N35: =IF(A35="","",VLOOKUP(A35,BD!$A$3:$E$84,5,FALSE))*B35 -> #VALUE! | T35: =IF(A35="","",VLOOKUP(A35,BD!$A$3:$C$84,3,FALSE))
D36: =SUM(B36*C36) -> 0 | E36: =IF(A36="","",VLOOKUP(A36,BD!$A$3:$B$84,2,FALSE))*B36 -> #VALUE! | F36: =SUM((D36*T36)/E36) -> #VALUE! | H36: =SUM(G36-F36) -> #VALUE! | I36: =SUM(E36*H36) -> #VALUE! | K36: =IF(M36="1.21",V36,0) -> 0 | L36: =IF(M36="1.06",V36,0) -> 0 | M36: =IF(A36="","",VLOOKUP(A36,BD!$A$3:$E$84,4,FALSE)) | N36: =IF(A36="","",VLOOKUP(A36,BD!$A$3:$E$84,5,FALSE))*B36 -> #VALUE! | T36: =IF(A36="","",VLOOKUP(A36,BD!$A$3:$C$84,3,FALSE))
D37: =SUM(B37*C37) -> 0 | E37: =IF(A37="","",VLOOKUP(A37,BD!$A$3:$B$84,2,FALSE))*B37 -> #VALUE! | F37: =SUM((D37*T37)/E37) -> #VALUE! | H37: =SUM(G37-F37) -> #VALUE! | I37: =SUM(E37*H37) -> #VALUE! | K37: =IF(M37="1.21",V37,0) -> 0 | L37: =IF(M37="1.06",V37,0) -> 0 | M37: =IF(A37="","",VLOOKUP(A37,BD!$A$3:$E$84,4,FALSE)) | N37: =IF(A37="","",VLOOKUP(A37,BD!$A$3:$E$84,5,FALSE))*B37 -> #VALUE! | T37: =IF(A37="","",VLOOKUP(A37,BD!$A$3:$C$84,3,FALSE))
D38: =SUM(B38*C38) -> 0 | E38: =IF(A38="","",VLOOKUP(A38,BD!$A$3:$B$84,2,FALSE))*B38 -> #VALUE! | F38: =SUM((D38*T38)/E38) -> #VALUE! | H38: =SUM(G38-F38) -> #VALUE! | I38: =SUM(E38*H38) -> #VALUE! | K38: =IF(M38="1.21",V38,0) -> 0 | L38: =IF(M38="1.06",V38,0) -> 0 | M38: =IF(A38="","",VLOOKUP(A38,BD!$A$3:$E$84,4,FALSE)) | N38: =IF(A38="","",VLOOKUP(A38,BD!$A$3:$E$84,5,FALSE))*B38 -> #VALUE! | T38: =IF(A38="","",VLOOKUP(A38,BD!$A$3:$C$84,3,FALSE))
D39: =SUM(B39*C39) -> 0 | E39: =IF(A39="","",VLOOKUP(A39,BD!$A$3:$B$84,2,FALSE))*B39 -> #VALUE! | F39: =SUM((D39*T39)/E39) -> #VALUE! | H39: =SUM(G39-F39) -> #VALUE! | I39: =SUM(E39*H39) -> #VALUE! | K39: =IF(M39="1.21",V39,0) -> 0 | L39: =IF(M39="1.06",V39,0) -> 0 | M39: =IF(A39="","",VLOOKUP(A39,BD!$A$3:$E$84,4,FALSE)) | N39: =IF(A39="","",VLOOKUP(A39,BD!$A$3:$E$84,5,FALSE))*B39 -> #VALUE! | T39: =IF(A39="","",VLOOKUP(A39,BD!$A$3:$C$84,3,FALSE))
D40: =SUM(B40*C40) -> 0 | E40: =IF(A40="","",VLOOKUP(A40,BD!$A$3:$B$84,2,FALSE))*B40 -> #VALUE! | F40: =SUM((D40*T40)/E40) -> #VALUE! | H40: =SUM(G40-F40) -> #VALUE! | I40: =SUM(E40*H40) -> #VALUE! | K40: =IF(M40="1.21",V40,0) -> 0 | L40: =IF(M40="1.06",V40,0) -> 0 | M40: =IF(A40="","",VLOOKUP(A40,BD!$A$3:$E$84,4,FALSE)) | N40: =IF(A40="","",VLOOKUP(A40,BD!$A$3:$E$84,5,FALSE))*B40 -> #VALUE! | T40: =IF(A40="","",VLOOKUP(A40,BD!$A$3:$C$84,3,FALSE))
D41: =SUM(B41*C41) -> 0 | E41: =IF(A41="","",VLOOKUP(A41,BD!$A$3:$B$84,2,FALSE))*B41 -> #VALUE! | F41: =SUM((D41*T41)/E41) -> #VALUE! | H41: =SUM(G41-F41) -> #VALUE! | I41: =SUM(E41*H41) -> #VALUE! | K41: =IF(M41="1.21",V41,0) -> 0 | L41: =IF(M41="1.06",V41,0) -> 0 | M41: =IF(A41="","",VLOOKUP(A41,BD!$A$3:$E$84,4,FALSE)) | N41: =IF(A41="","",VLOOKUP(A41,BD!$A$3:$E$84,5,FALSE))*B41 -> #VALUE! | T41: =IF(A41="","",VLOOKUP(A41,BD!$A$3:$C$84,3,FALSE))
D42: =SUM(B42*C42) -> 0 | E42: =IF(A42="","",VLOOKUP(A42,BD!$A$3:$B$84,2,FALSE))*B42 -> #VALUE! | F42: =SUM((D42*T42)/E42) -> #VALUE! | H42: =SUM(G42-F42) -> #VALUE! | I42: =SUM(E42*H42) -> #VALUE! | K42: =IF(M42="1.21",V42,0) -> 0 | L42: =IF(M42="1.06",V42,0) -> 0 | M42: =IF(A42="","",VLOOKUP(A42,BD!$A$3:$E$84,4,FALSE)) | N42: =IF(A42="","",VLOOKUP(A42,BD!$A$3:$E$84,5,FALSE))*B42 -> #VALUE! | T42: =IF(A42="","",VLOOKUP(A42,BD!$A$3:$C$84,3,FALSE))
D43: =SUM(B43*C43) -> 0 | E43: =IF(A43="","",VLOOKUP(A43,BD!$A$3:$B$84,2,FALSE))*B43 -> #VALUE! | F43: =SUM((D43*T43)/E43) -> #VALUE! | H43: =SUM(G43-F43) -> #VALUE! | I43: =SUM(E43*H43) -> #VALUE! | K43: =IF(M43="1.21",V43,0) -> 0 | L43: =IF(M43="1.06",V43,0) -> 0 | M43: =IF(A43="","",VLOOKUP(A43,BD!$A$3:$E$84,4,FALSE)) | N43: =IF(A43="","",VLOOKUP(A43,BD!$A$3:$E$84,5,FALSE))*B43 -> #VALUE! | T43: =IF(A43="","",VLOOKUP(A43,BD!$A$3:$C$84,3,FALSE))
... D84: =SUM(B84*C84) -> 0 | E84: =IF(A84="","",VLOOKUP(A84,BD!$A$3:$B$84,2,FALSE))*B84 -> #VALUE! | F84: =SUM((D84*T84)/E84) -> #VALUE! | H84: =SUM(G84-F84) -> #VALUE! | I84: =SUM(E84*H84) -> #VALUE! | K84: =IF(M84="1.21",V84,0) -> 0 | L84: =IF(M84="1.06",V84,0) -> 0 | M84: =IF(A84="","",VLOOKUP(A84,BD!$A$3:$E$84,4,FALSE)) | N84: =IF(A84="","",VLOOKUP(A84,BD!$A$3:$E$84,5,FALSE))*B84 -> #VALUE! | T84: =IF(A84="","",VLOOKUP(A84,BD!$A$3:$C$84,3,FALSE))
A86: Total | D86: =SUM(D2:D84) -> 3145.83 | N86: =SUM(N2:N84) -> #VALUE!

Sheet BD
A1: Code article | B1: Prévision | C1: TVA | E1: Caut
A3: Fut Jupiler 50 L | B3: 190 | C3: 1.21 | D3: 1.21 | E3: 30
A4: Fut Jupiler (1X30 L) | B4: 114 | C4: 1.21 | D4: 1.21 | E4: 30
A5: Fut Kriek (1X50 L) | B5: 190 | C5: 1.21 | D5: 1.21 | E5: 30
A6: Fut Kriek (1X30 L) | B6: 114 | C6: 1.21 | D6: 1.21 | E6: 30
A7: Fut Blanche (1X50L) | B7: 190 | C7: 1.21 | D7: 1.21 | E7: 30
A8: Fut Blanche (1X30L) | B8: 114 | C8: 1.21 | D8: 1.21 | E8: 30
A13: Jupiler (1X24) 25 cl | B13: 24 | C13: 1.21 | D13: 1.21 | E13: 4.5
A14: Jupiler Zéro (1X24) 25 cl | B14: 24 | C14: 1.06 | D14: 1.06 | E14: 4.5
A15: Blanche (1X24) 25 cl | B15: 24 | C15: 1.21 | D15: 1.21 | E15: 4.5
A16: Kriek (1X24) 25 cl | B16: 24 | C16: 1.21 | D16: 1.21 | E16: 4.5
A17: St Feullien Blonde (1X24) 33 cl | B17: 24 | C17: 1.21 | D17: 1.21 | E17: 4.5
A18: St Feullien Brune (1X24) 33 cl | B18: 24 | C18: 1.21 | D18: 1.21 | E18: 4.5
... A45: Eau Gazeuse (1X6) 1,5L | B45: 36 | C45: 1.06 | D45: 1.06 | E45: 0
A52: Location :
A53: Pompes 2 Têtes | B53: 1 | C53: 1.21 | D53: 1.21 | E53: 0
A54: Gaz Carbonique | B54: 1 | C54: 1.21 | D54: 1.21 | E54: 160
A55: Verres Pils (1X36) | B55: 1 | C55: 1.21 | D55: 1.21 | E55: 0
A56: Verres Spécial (1X20) | B56: 1 | C56: 1.21 | D56: 1.21 | E56: 0
A57: Verres Fruitées (1X30) | B57: 1 | C57: 1.21 | D57: 1.21 | E57: 0
A58: Plateaux | B58: 1 | C58: 1.21 | D58: 1.21 | E58: 0
A59: Frigos | B59: 1 | C59: 1.21 | D59: 1.21 | E59: 0
A60: Tables | B60: 1 | C60: 1.21 | D60: 1.21 | E60: 0
A61: Bancs | B61: 1 | C61: 1.21 | D61: 1.21 | E61: 0
A62: Transport | B62: 1 | C62: 1.21 | D62: 1.21 | E62: 0
