Workbook

Sheet résultats
A1: Sexe | B1: Categorie | C1: score | D1: note | E1: résultat quon doit trouver
A2: homme | B2: A | C2: 0.0091666667 | D2: {=INDEX(INDIRECT(TRIM(A2)&"!$J$5:$J$50"),MATCH(C2,INDIRECT(TRIM(A2)&"!"&CHAR(66+FIND(B2,"ABCDEFGH")-1)&"$5:$"&CHAR(66+FIND(B2,"ABCDEFGH")-1)&"$50"),1)+(IF(ABS(INDEX(INDIRECT(TRIM(A2)&"!"&CHAR(66+FIND(B2,"ABCDEFGH")-1)&"$5:$"&CHAR(66+FIND(B2,"ABCDEFGH")-1)&"$50"),MATCH(C2,INDIRECT(TRIM(A2)&"!"&CHAR(66+FIND(B2,"ABCDEFGH")-1)&"$5:$"&CHAR(66+FIND(B2,"ABCDEFGH")-1)&"$50"),1))-C2)<0.000001,0,1)))} -> 19 | E2: 19 | F2: =IF(E2=D2,"vrai","faux") -> vrai
A3: femme | B3: G | C3: 0.017164352 | D3: {=INDEX(INDIRECT(TRIM(A3)&"!$J$5:$J$50"),MATCH(C3,INDIRECT(TRIM(A3)&"!"&CHAR(66+FIND(B3,"ABCDEFGH")-1)&"$5:$"&CHAR(66+FIND(B3,"ABCDEFGH")-1)&"$50"),1)+(IF(ABS(INDEX(INDIRECT(TRIM(A3)&"!"&CHAR(66+FIND(B3,"ABCDEFGH")-1)&"$5:$"&CHAR(66+FIND(B3,"ABCDEFGH")-1)&"$50"),MATCH(C3,INDIRECT(TRIM(A3)&"!"&CHAR(66+FIND(B3,"ABCDEFGH")-1)&"$5:$"&CHAR(66+FIND(B3,"ABCDEFGH")-1)&"$50"),1))-C3)<0.000001,0,1)))} -> 9 | E3: 9 | F3: =IF(E3=D3,"vrai","faux") -> vrai
A4: homme | B4: A | C4: 0.011215278 | D4: {=INDEX(INDIRECT(TRIM(A4)&"!$J$5:$J$50"),MATCH(C4,INDIRECT(TRIM(A4)&"!"&CHAR(66+FIND(B4,"ABCDEFGH")-1)&"$5:$"&CHAR(66+FIND(B4,"ABCDEFGH")-1)&"$50"),1)+(IF(ABS(INDEX(INDIRECT(TRIM(A4)&"!"&CHAR(66+FIND(B4,"ABCDEFGH")-1)&"$5:$"&CHAR(66+FIND(B4,"ABCDEFGH")-1)&"$50"),MATCH(C4,INDIRECT(TRIM(A4)&"!"&CHAR(66+FIND(B4,"ABCDEFGH")-1)&"$5:$"&CHAR(66+FIND(B4,"ABCDEFGH")-1)&"$50"),1))-C4)<0.000001,0,1)))} -> 10.5 | E4: 10.5 | F4: =IF(E4=D4,"vrai","faux") -> vrai
A5: femme | B5: G | C5: 0.013599537 | D5: {=INDEX(INDIRECT(TRIM(A5)&"!$J$5:$J$50"),MATCH(C5,INDIRECT(TRIM(A5)&"!"&CHAR(66+FIND(B5,"ABCDEFGH")-1)&"$5:$"&CHAR(66+FIND(B5,"ABCDEFGH")-1)&"$50"),1)+(IF(ABS(INDEX(INDIRECT(TRIM(A5)&"!"&CHAR(66+FIND(B5,"ABCDEFGH")-1)&"$5:$"&CHAR(66+FIND(B5,"ABCDEFGH")-1)&"$50"),MATCH(C5,INDIRECT(TRIM(A5)&"!"&CHAR(66+FIND(B5,"ABCDEFGH")-1)&"$5:$"&CHAR(66+FIND(B5,"ABCDEFGH")-1)&"$50"),1))-C5)<0.000001,0,1)))} -> 17 | E5: 17 | F5: =IF(E5=D5,"vrai","faux") -> vrai
A6: homme | B6: A | C6: 0.010416667 | D6: {=INDEX(INDIRECT(TRIM(A6)&"!$J$5:$J$50"),MATCH(C6,INDIRECT(TRIM(A6)&"!"&CHAR(66+FIND(B6,"ABCDEFGH")-1)&"$5:$"&CHAR(66+FIND(B6,"ABCDEFGH")-1)&"$50"),1)+(IF(ABS(INDEX(INDIRECT(TRIM(A6)&"!"&CHAR(66+FIND(B6,"ABCDEFGH")-1)&"$5:$"&CHAR(66+FIND(B6,"ABCDEFGH")-1)&"$50"),MATCH(C6,INDIRECT(TRIM(A6)&"!"&CHAR(66+FIND(B6,"ABCDEFGH")-1)&"$5:$"&CHAR(66+FIND(B6,"ABCDEFGH")-1)&"$50"),1))-C6)<0.000001,0,1)))} -> 14 | E6: 14 | F6: =IF(E6=D6,"vrai","faux") -> vrai
A7: femme | B7: G | C7: 0.0125 | D7: {=INDEX(INDIRECT(TRIM(A7)&"!$J$5:$J$50"),MATCH(C7,INDIRECT(TRIM(A7)&"!"&CHAR(66+FIND(B7,"ABCDEFGH")-1)&"$5:$"&CHAR(66+FIND(B7,"ABCDEFGH")-1)&"$50"),1)+(IF(ABS(INDEX(INDIRECT(TRIM(A7)&"!"&CHAR(66+FIND(B7,"ABCDEFGH")-1)&"$5:$"&CHAR(66+FIND(B7,"ABCDEFGH")-1)&"$50"),MATCH(C7,INDIRECT(TRIM(A7)&"!"&CHAR(66+FIND(B7,"ABCDEFGH")-1)&"$5:$"&CHAR(66+FIND(B7,"ABCDEFGH")-1)&"$50"),1))-C7)<0.000001,0,1)))} -> 19.5 | E7: 19.5 | F7: =IF(E7=D7,"vrai","faux") -> vrai
A11: الجنس | B11: الصنف | C11: النتيجة | D11: العدد | E11: résultat quon doit trouver | F11: VERIFICATION
A12: ذكر | B12: أ | C12: 0.0091666667 | D12: {=IF($A12="ذكر", INDEX(homme!J$5:J$44,SMALL(IF(ROUND(VALUE(INDIRECT("homme!" & CHAR(64+MATCH($B12,homme!$A$4:$J$4,0)) & "5:" & CHAR(64+MATCH($B12,homme!$A$4:$J$4,0)) &"44")),5)>=ROUND(VALUE($C12),5),ROW(INDIRECT("homme!" & CHAR(64+MATCH($B12,homme!$A$4:$J$4,0)) &"5:" & CHAR(64+MATCH($B12,homme!$A$4:$J$4,0)) & "44"))-ROW(INDIRECT("homme!" & CHAR(64+MATCH($B12,homme!$A$4:$J$4,0)) &"5"))+1),1)), INDEX(femme!J$5:J$44,SMALL(IF(ROUND(VALUE(INDIRECT("femme!" &CHAR(64+MATCH($B12,homme!$A$4:$J$4,0)) & "5:" &CHAR(64+MATCH($B12,homme!$A$4:$J$4,0)) &"44")),5)>=ROUND(VALUE($C12),5),ROW(INDIRECT("femme!" & CHAR(64+MATCH($B12,homme!$A$4:$J$4,0)) &"5:" &CHAR(64+MATCH($B12,homme!$A$4:$J$4,0)) & "44"))-ROW(INDIRECT("femme!" & CHAR(64+MATCH($B12,homme!$A$4:$J$4,0)) &"5"))+1),1)))} -> 19 | E12: 19 | F12: =IF(E12=D12,"VRAI",FALSE) -> VRAI | G12: =IF(OR(ISERROR(D12), D12="Catégorie non supportée"), "ERREUR", IF(E12=D12, "OK", "Écart: " & E12-D12)) -> OK
A13: أنثى | B13: ز | C13: 0.017592593 | D13: {=IF($A13="ذكر", INDEX(homme!J$5:J$44,SMALL(IF(ROUND(VALUE(INDIRECT("homme!" & CHAR(64+MATCH($B13,homme!$A$4:$J$4,0)) & "5:" & CHAR(64+MATCH($B13,homme!$A$4:$J$4,0)) &"44")),5)>=ROUND(VALUE($C13),5),ROW(INDIRECT("homme!" & CHAR(64+MATCH($B13,homme!$A$4:$J$4,0)) &"5:" & CHAR(64+MATCH($B13,homme!$A$4:$J$4,0)) & "44"))-ROW(INDIRECT("homme!" & CHAR(64+MATCH($B13,homme!$A$4:$J$4,0)) &"5"))+1),1)), INDEX(femme!J$5:J$44,SMALL(IF(ROUND(VALUE(INDIRECT("femme!" &CHAR(64+MATCH($B13,homme!$A$4:$J$4,0)) & "5:" &CHAR(64+MATCH($B13,homme!$A$4:$J$4,0)) &"44")),5)>=ROUND(VALUE($C13),5),ROW(INDIRECT("femme!" & CHAR(64+MATCH($B13,homme!$A$4:$J$4,0)) &"5:" &CHAR(64+MATCH($B13,homme!$A$4:$J$4,0)) & "44"))-ROW(INDIRECT("femme!" & CHAR(64+MATCH($B13,homme!$A$4:$J$4,0)) &"5"))+1),1)))} -> 8.5 | E13: 8.5 | F13: =IF(E13=D13,"VRAI",FALSE) -> VRAI | G13: =IF(OR(ISERROR(D13), D13="Catégorie non supportée"), "ERREUR", IF(E13=D13, "OK", "Écart: " & E13-D13)) -> OK
A14: ذكر | B14: أ | C14: 0.011215278 | D14: {=IF($A14="ذكر", INDEX(homme!J$5:J$44,SMALL(IF(ROUND(VALUE(INDIRECT("homme!" & CHAR(64+MATCH($B14,homme!$A$4:$J$4,0)) & "5:" & CHAR(64+MATCH($B14,homme!$A$4:$J$4,0)) &"44")),5)>=ROUND(VALUE($C14),5),ROW(INDIRECT("homme!" & CHAR(64+MATCH($B14,homme!$A$4:$J$4,0)) &"5:" & CHAR(64+MATCH($B14,homme!$A$4:$J$4,0)) & "44"))-ROW(INDIRECT("homme!" & CHAR(64+MATCH($B14,homme!$A$4:$J$4,0)) &"5"))+1),1)), INDEX(femme!J$5:J$44,SMALL(IF(ROUND(VALUE(INDIRECT("femme!" &CHAR(64+MATCH($B14,homme!$A$4:$J$4,0)) & "5:" &CHAR(64+MATCH($B14,homme!$A$4:$J$4,0)) &"44")),5)>=ROUND(VALUE($C14),5),ROW(INDIRECT("femme!" & CHAR(64+MATCH($B14,homme!$A$4:$J$4,0)) &"5:" &CHAR(64+MATCH($B14,homme!$A$4:$J$4,0)) & "44"))-ROW(INDIRECT("femme!" & CHAR(64+MATCH($B14,homme!$A$4:$J$4,0)) &"5"))+1),1)))} -> 10.5 | E14: 10.5 | F14: =IF(E14=D14,"VRAI",FALSE) -> VRAI | G14: =IF(OR(ISERROR(D14), D14="Catégorie non supportée"), "ERREUR", IF(E14=D14, "OK", "Écart: " & E14-D14)) -> OK
A15: أنثى | B15: ز | C15: 0.013599537 | D15: {=IF($A15="ذكر", INDEX(homme!J$5:J$44,SMALL(IF(ROUND(VALUE(INDIRECT("homme!" & CHAR(64+MATCH($B15,homme!$A$4:$J$4,0)) & "5:" & CHAR(64+MATCH($B15,homme!$A$4:$J$4,0)) &"44")),5)>=ROUND(VALUE($C15),5),ROW(INDIRECT("homme!" & CHAR(64+MATCH($B15,homme!$A$4:$J$4,0)) &"5:" & CHAR(64+MATCH($B15,homme!$A$4:$J$4,0)) & "44"))-ROW(INDIRECT("homme!" & CHAR(64+MATCH($B15,homme!$A$4:$J$4,0)) &"5"))+1),1)), INDEX(femme!J$5:J$44,SMALL(IF(ROUND(VALUE(INDIRECT("femme!" &CHAR(64+MATCH($B15,homme!$A$4:$J$4,0)) & "5:" &CHAR(64+MATCH($B15,homme!$A$4:$J$4,0)) &"44")),5)>=ROUND(VALUE($C15),5),ROW(INDIRECT("femme!" & CHAR(64+MATCH($B15,homme!$A$4:$J$4,0)) &"5:" &CHAR(64+MATCH($B15,homme!$A$4:$J$4,0)) & "44"))-ROW(INDIRECT("femme!" & CHAR(64+MATCH($B15,homme!$A$4:$J$4,0)) &"5"))+1),1)))} -> 17 | E15: 17 | F15: =IF(E15=D15,"VRAI",FALSE) -> VRAI | G15: =IF(OR(ISERROR(D15), D15="Catégorie non supportée"), "ERREUR", IF(E15=D15, "OK", "Écart: " & E15-D15)) -> OK
A16: ذكر | B16: أ | C16: 0.010416667 | D16: {=IF($A16="ذكر", INDEX(homme!J$5:J$44,SMALL(IF(ROUND(VALUE(INDIRECT("homme!" & CHAR(64+MATCH($B16,homme!$A$4:$J$4,0)) & "5:" & CHAR(64+MATCH($B16,homme!$A$4:$J$4,0)) &"44")),5)>=ROUND(VALUE($C16),5),ROW(INDIRECT("homme!" & CHAR(64+MATCH($B16,homme!$A$4:$J$4,0)) &"5:" & CHAR(64+MATCH($B16,homme!$A$4:$J$4,0)) & "44"))-ROW(INDIRECT("homme!" & CHAR(64+MATCH($B16,homme!$A$4:$J$4,0)) &"5"))+1),1)), INDEX(femme!J$5:J$44,SMALL(IF(ROUND(VALUE(INDIRECT("femme!" &CHAR(64+MATCH($B16,homme!$A$4:$J$4,0)) & "5:" &CHAR(64+MATCH($B16,homme!$A$4:$J$4,0)) &"44")),5)>=ROUND(VALUE($C16),5),ROW(INDIRECT("femme!" & CHAR(64+MATCH($B16,homme!$A$4:$J$4,0)) &"5:" &CHAR(64+MATCH($B16,homme!$A$4:$J$4,0)) & "44"))-ROW(INDIRECT("femme!" & CHAR(64+MATCH($B16,homme!$A$4:$J$4,0)) &"5"))+1),1)))} -> 14 | E16: 14 | F16: =IF(E16=D16,"VRAI",FALSE) -> VRAI | G16: =IF(OR(ISERROR(D16), D16="Catégorie non supportée"), "ERREUR", IF(E16=D16, "OK", "Écart: " & E16-D16)) -> OK
A17: أنثى | B17: ز | C17: 0.012268519 | D17: {=IF($A17="ذكر", INDEX(homme!J$5:J$44,SMALL(IF(ROUND(VALUE(INDIRECT("homme!" & CHAR(64+MATCH($B17,homme!$A$4:$J$4,0)) & "5:" & CHAR(64+MATCH($B17,homme!$A$4:$J$4,0)) &"44")),5)>=ROUND(VALUE($C17),5),ROW(INDIRECT("homme!" & CHAR(64+MATCH($B17,homme!$A$4:$J$4,0)) &"5:" & CHAR(64+MATCH($B17,homme!$A$4:$J$4,0)) & "44"))-ROW(INDIRECT("homme!" & CHAR(64+MATCH($B17,homme!$A$4:$J$4,0)) &"5"))+1),1)), INDEX(femme!J$5:J$44,SMALL(IF(ROUND(VALUE(INDIRECT("femme!" &CHAR(64+MATCH($B17,homme!$A$4:$J$4,0)) & "5:" &CHAR(64+MATCH($B17,homme!$A$4:$J$4,0)) &"44")),5)>=ROUND(VALUE($C17),5),ROW(INDIRECT("femme!" & CHAR(64+MATCH($B17,homme!$A$4:$J$4,0)) &"5:" &CHAR(64+MATCH($B17,homme!$A$4:$J$4,0)) & "44"))-ROW(INDIRECT("femme!" & CHAR(64+MATCH($B17,homme!$A$4:$J$4,0)) &"5"))+1),1)))} -> 20 | E17: 20 | F17: =IF(E17=D17,"VRAI",FALSE) -> VRAI | G17: =IF(OR(ISERROR(D17), D17="Catégorie non supportée"), "ERREUR", IF(E17=D17, "OK", "Écart: " & E17-D17)) -> OK

Sheet homme
A1: BAREME DOUBLE MILE HOMME
A3: الصنف
B4: أ | C4: ب | D4: ج | E4: د | F4: هـ | G4: و | H4: ز | I4: ح | J4: العدد
B5: 0.0090277778 | C5: 0.0091435185 | D5: 0.0092592593 | E5: 0.009375 | F5: 0.0094907407 | G5: 0.0097222222 | H5: 0.010185185 | I5: 0.010416667 | J5: 20
B6: 0.0091435185 | C6: 0.0092592593 | D6: 0.009375 | E6: 0.0094907407 | F6: 0.0096064815 | G6: 0.009837963 | H6: 0.010416667 | I6: 0.010648148 | J6: 19.5
B7: 0.0092592593 | C7: 0.009375 | D7: 0.0094907407 | E7: 0.0096064815 | F7: 0.0097222222 | G7: 0.0099537037 | H7: 0.010648148 | I7: 0.01087963 | J7: 19
B8: 0.009375 | C8: 0.0094907407 | D8: 0.0096064815 | E8: 0.0097222222 | F8: 0.009837963 | G8: 0.010069444 | H8: 0.01087963 | I8: 0.011111111 | J8: 18.5
B9: 0.0094907407 | C9: 0.0096064815 | D9: 0.0097222222 | E9: 0.009837963 | F9: 0.0099537037 | G9: 0.010185185 | H9: 0.011111111 | I9: 0.011342593 | J9: 18
B10: 0.0096064815 | C10: 0.0097222222 | D10: 0.009837963 | E10: 0.0099537037 | F10: 0.010185185 | G10: 0.010416667 | H10: 0.011342593 | I10: 0.011574074 | J10: 17.5
B11: 0.0097222222 | C11: 0.009837963 | D11: 0.0099537037 | E11: 0.010069444 | F11: 0.010416667 | G11: 0.010648148 | H11: 0.011574074 | I11: 0.011805556 | J11: 17
B12: 0.009837963 | C12: 0.0099537037 | D12: 0.010069444 | E12: 0.010185185 | F12: 0.010648148 | G12: 0.01087963 | H12: 0.011805556 | I12: 0.012037037 | J12: 16.5
B13: 0.0099537037 | C13: 0.010069444 | D13: 0.010185185 | E13: 0.010300926 | F13: 0.01087963 | G13: 0.011111111 | H13: 0.012037037 | I13: 0.012268519 | J13: 16
B14: 0.010069444 | C14: 0.010185185 | D14: 0.010300926 | E14: 0.010416667 | F14: 0.011111111 | G14: 0.011342593 | H14: 0.012268519 | I14: 0.0125 | J14: 15.5
B15: 0.010185185 | C15: 0.010300926 | D15: 0.010416667 | E15: 0.010648148 | F15: 0.011342593 | G15: 0.011574074 | H15: 0.0125 | I15: 0.012731481 | J15: 15
B16: 0.010300926 | C16: 0.010416667 | D16: 0.010532407 | E16: 0.01087963 | F16: 0.011574074 | G16: 0.011805556 | H16: 0.012731481 | I16: 0.012962963 | J16: 14.5
... B44: 0.013541667 | C44: 0.013657407 | D44: 0.013773148 | E44: 0.017361111 | F44: 0.018055556 | G44: 0.018287037 | H44: 0.019212963 | I44: 0.019444444 | J44: 0.5

Sheet femme
A1: BAREME DOUBLE MILE Femme
A3: الصنف
B4: أ | C4: ب | D4: ج | E4: د | F4: هـ | G4: و | H4: ز | I4: ح | J4: العدد
B5: 0.010763889 | C5: 0.01087963 | D5: 0.01099537 | E5: 0.011111111 | F5: 0.011574074 | G5: 0.012037037 | H5: 0.012268519 | I5: 0.013194444 | J5: 20
B6: 0.01087963 | C6: 0.01099537 | D6: 0.011111111 | E6: 0.011342593 | F6: 0.011805556 | G6: 0.012268519 | H6: 0.0125 | I6: 0.013425926 | J6: 19.5
B7: 0.01099537 | C7: 0.011111111 | D7: 0.011226852 | E7: 0.011574074 | F7: 0.012037037 | G7: 0.0125 | H7: 0.012731481 | I7: 0.013657407 | J7: 19
B8: 0.011111111 | C8: 0.011226852 | D8: 0.011342593 | E8: 0.011805556 | F8: 0.012268519 | G8: 0.012731481 | H8: 0.012962963 | I8: 0.013888889 | J8: 18.5
B9: 0.011226852 | C9: 0.011342593 | D9: 0.011458333 | E9: 0.012037037 | F9: 0.0125 | G9: 0.012962963 | H9: 0.013194444 | I9: 0.01412037 | J9: 18
B10: 0.011342593 | C10: 0.011458333 | D10: 0.011574074 | E10: 0.012268519 | F10: 0.012731481 | G10: 0.013194444 | H10: 0.013425926 | I10: 0.014351852 | J10: 17.5
B11: 0.011458333 | C11: 0.011574074 | D11: 0.012037037 | E11: 0.0125 | F11: 0.012962963 | G11: 0.013425926 | H11: 0.013657407 | I11: 0.014583333 | J11: 17
B12: 0.011574074 | C12: 0.011689815 | D12: 0.012268519 | E12: 0.012731481 | F12: 0.013194444 | G12: 0.013657407 | H12: 0.013888889 | I12: 0.014814815 | J12: 16.5
B13: 0.011689815 | C13: 0.011805556 | D13: 0.0125 | E13: 0.012962963 | F13: 0.013425926 | G13: 0.013888889 | H13: 0.01412037 | I13: 0.015046296 | J13: 16
B14: 0.011805556 | C14: 0.011921296 | D14: 0.012731481 | E14: 0.013194444 | F14: 0.013657407 | G14: 0.01412037 | H14: 0.014351852 | I14: 0.015277778 | J14: 15.5
B15: 0.011921296 | C15: 0.012037037 | D15: 0.012962963 | E15: 0.013425926 | F15: 0.013888889 | G15: 0.014351852 | H15: 0.014583333 | I15: 0.015509259 | J15: 15
B16: 0.012037037 | C16: 0.012152778 | D16: 0.013194444 | E16: 0.013657407 | F16: 0.01412037 | G16: 0.014583333 | H16: 0.014814815 | I16: 0.015740741 | J16: 14.5
... B44: 0.015277778 | C44: 0.015393519 | D44: 0.019675926 | E44: 0.020138889 | F44: 0.020601852 | G44: 0.021064815 | H44: 0.021296296 | I44: 0.022222222 | J44: 0.5
