Workbook

Sheet listing-produits
A1: Référence article | B1: gencode | C1: Désignation | D1: Unité de vente | E1: Prix NET HT
A2: ="0011" -> 0011 | C2: RIZ LONG BLANC 500G X10 | D2: Unité | E2: 1.58
A3: ="0012" -> 0012 | C3: RIZ ROUGE ETUVE 500G X10 | D3: Unité | E3: 2.73
A4: ="0013" -> 0013 | C4: RIZ NOIR ETUVE 500G X10 | D4: Unité | E4: 3.78
A5: ="0099" -> 0099 | C5: TRIPES PROVENCALE BARQ. 3KG ENV. | D5: Kilo | E5: 8.79
A6: ="095" -> 095 | B6: 3385570050110 | C6: TRIPES PROVENCALES 500 G | D6: Sachet | E6: 4.72
A7: ="0983" -> 0983 | C7: TRIPE PROVENCALE PLAT INOX 5L ENV | D7: Kilo | E7: 10.51
A8: ="103" -> 103 | B8: 3344192100030 | C8: PATE CABANES BTE 1.580 KG. | D8: La Boîte | E8: 13.59
A9: ="103130" -> 103130 | B9: 3344191600029 | C9: PATE DE FOIE CABANES BTE 130G | D9: La Boîte | E9: 2.3
A10: ="104" -> 104 | C10: MOUSSE DE FOIE 1/2 LUNE 1.7KG ENV | D10: Kilo | E10: 5.3
A11: ="1047" -> 1047 | C11: PATE DE LAPIN TER. GRES 3.4KG | D11: Kilo | E11: 13.81
A12: ="105" -> 105 | C12: PATE CAMPAGNE PAIN RECT S/V | D12: Kilo | E12: 5.1
A13: ="109" -> 109 | C13: PATE OLIVES MED. RECT. 1.5 KG.ENV | D13: Kilo | E13: 9.35
A14: ="115110" -> 115110 | C14: ASPIC OEUF JAMBON 95G X12 | D14: Unité | E14: 1.45
A15: ="129965" -> 129965 | B15: 3325420886421 | C15: BRIOCHE SAUCISSON CUIT 380G X4 | D15: Unité | E15: 4.66
A16: ="129967" -> 129967 | C16: SAUC.BRIOCHE 120G X 6 S/ATM | D16: Unité | E16: 2.68
A17: ="13072" -> 13072 | B17: 3325420060395 | C17: FEUILLETE JBON CHAMPIGNON/2 280G | D17: La barquette | E17: 3.36
A18: ="13232" -> 13232 | B18: 3325420020146 | C18: FRIAND A LA VIANDE/2 200G. | D18: La barquette | E18: 2.37
A19: ="13272" -> 13272 | B19: 3325420030534 | C19: FEUILLETE CHEVRE EPINARDS/2 240G | D19: La barquette | E19: 3.36
A20: ="13325" -> 13325 | B20: 3325420030626 | C20: FEUILLETE TOMATE MOZAR./2 260G | D20: La barquette | E20: 3.41
A21: ="133270" -> 133270 | C21: SOUFFLÉ AU FROMAGE 9X100G | D21: Unité | E21: 1.63
A22: ="1335" -> 1335 | B22: 3760193240078 | C22: TIELLE SETOISE/2 110G | D22: La barquette | E22: 3.42
A23: ="1336" -> 1336 | B23: 3760193240115 | C23: TARTE A LA BRANDADE/2 95G | D23: La barquette | E23: 3.74
A24: ="133702" -> 133702 | C24: PISSALADIERE 2 X 95G | D24: La barquette | E24: 3.95
A25: ="1351" -> 1351 | C25: SALADE DE POIS CHICHE BQ 400G | D25: La barquette | E25: 3.07
A26: ="1352" -> 1352 | C26: SALADE LENTILLES BQ 400G | D26: La barquette | E26: 3.07
A27: ="1356" -> 1356 | C27: TAGLIATELLES SURIMI 2.5KG. | D27: Kilo | E27: 8.45
A28: ="1358" -> 1358 | B28: 3281780014303 | C28: TABOULE ORIENTAL HUILE D'OLIVE 2.5KG | D28: Kilo | E28: 5.46
A29: ="13591" -> 13591 | C29: SALADE ITALIENNE PENNE PESTO 1.5KG | D29: Kilo | E29: 7.44
A30: ="13593" -> 13593 | B30: 3346650205660 | C30: SALADE GOURMANDE A L AVOCAT 1.5KG | D30: Kilo | E30: 9.13
A31: ="13594" -> 13594 | B31: 3700212545159 | C31: FANTAISIE DES CARAIBES 2KG | D31: Kilo | E31: 10.09
A32: ="13595" -> 13595 | C32: CREVETTES GAMBAS MANDARINES 2KG | D32: Kilo | E32: 14.29
A33: ="13700" -> 13700 | B33: 3038680025775 | C33: HARENG A L'HUILE SEAU 3KG | D33: Le seau de 3 kg | E33: 33.72
A34: ="1384" -> 1384 | B34: 3700212545012 | C34: SALADE DE CALAMARS 2KG | D34: Kilo | E34: 11.9
A35: ="138605" -> 138605 | C35: SALADE ALASKA 1.5KG | D35: Kilo | E35: 11.15
A36: ="1396" -> 1396 | C36: ROUILLE A LA GRAULENNE 1.6KG | D36: Kilo | E36: 15.5
A37: 1396B | C37: ROUILLE A LA GRAULENNE BQ 400G | D37: La barquette | E37: 6.53
A38: ="1397" -> 1397 | B38: 3760193240009 | C38: SOUPE POISSON 780G + ROUILLE 90G | D38: Unité | E38: 6.15
A39: ="14760" -> 14760 | C39: GRIGNOTONS CHORIZO S.500G ENV | D39: Kilo | E39: 17.46
A40: ="14761" -> 14761 | C40: GRIGNOTONS NATURE S.500G ENV | D40: Kilo | E40: 17.46
...

Sheet POUR CLIENT
A1: Référence article | B1: gencode | C1: Désignation | D1: Unité de vente | E1: Prix NET HT
A2: 0099 | B2: =IFERROR(VLOOKUP($A2,Tableau1[#All],2,0),"") -> 0 | C2: =IFERROR(VLOOKUP($A2,Tableau1[#All],3,0),"") -> TRIPES PROVENCALE BARQ. 3KG ENV. | D2: =IFERROR(VLOOKUP($A2,Tableau1[#All],4,0),"") -> Kilo | E2: =IFERROR(VLOOKUP($A2,Tableau1[#All],5,0),"") -> 8.79
B3: =IFERROR(VLOOKUP(A3,'listing-produits'!A:E,2,FALSE),"") | C3: =IFERROR(VLOOKUP(A3,'listing-produits'!A:E,3,FALSE),"") | D3: =IFERROR(VLOOKUP(A3,'listing-produits'!A:E,4,FALSE),"") | E3: =IFERROR(VLOOKUP(A3,'listing-produits'!A:E,5,FALSE),"")
B4: =IFERROR(VLOOKUP(A4,'listing-produits'!A:E,2,FALSE),"") | C4: =IFERROR(VLOOKUP(A4,'listing-produits'!A:E,3,FALSE),"") | D4: =IFERROR(VLOOKUP(A4,'listing-produits'!A:E,4,FALSE),"") | E4: =IFERROR(VLOOKUP(A4,'listing-produits'!A:E,5,FALSE),"")
B5: =IFERROR(VLOOKUP(A5,'listing-produits'!A:E,2,FALSE),"") | C5: =IFERROR(VLOOKUP(A5,'listing-produits'!A:E,3,FALSE),"") | D5: =IFERROR(VLOOKUP(A5,'listing-produits'!A:E,4,FALSE),"") | E5: =IFERROR(VLOOKUP(A5,'listing-produits'!A:E,5,FALSE),"")
B6: =IFERROR(VLOOKUP(A6,'listing-produits'!A:E,2,FALSE),"") | C6: =IFERROR(VLOOKUP(A6,'listing-produits'!A:E,3,FALSE),"") | D6: =IFERROR(VLOOKUP(A6,'listing-produits'!A:E,4,FALSE),"") | E6: =IFERROR(VLOOKUP(A6,'listing-produits'!A:E,5,FALSE),"")
B7: =IFERROR(VLOOKUP(A7,'listing-produits'!A:E,2,FALSE),"") | C7: =IFERROR(VLOOKUP(A7,'listing-produits'!A:E,3,FALSE),"") | D7: =IFERROR(VLOOKUP(A7,'listing-produits'!A:E,4,FALSE),"") | E7: =IFERROR(VLOOKUP(A7,'listing-produits'!A:E,5,FALSE),"")
B8: =IFERROR(VLOOKUP(A8,'listing-produits'!A:E,2,FALSE),"") | C8: =IFERROR(VLOOKUP(A8,'listing-produits'!A:E,3,FALSE),"") | D8: =IFERROR(VLOOKUP(A8,'listing-produits'!A:E,4,FALSE),"") | E8: =IFERROR(VLOOKUP(A8,'listing-produits'!A:E,5,FALSE),"")
B9: =IFERROR(VLOOKUP(A9,'listing-produits'!A:E,2,FALSE),"") | C9: =IFERROR(VLOOKUP(A9,'listing-produits'!A:E,3,FALSE),"") | D9: =IFERROR(VLOOKUP(A9,'listing-produits'!A:E,4,FALSE),"") | E9: =IFERROR(VLOOKUP(A9,'listing-produits'!A:E,5,FALSE),"")
B10: =IFERROR(VLOOKUP(A10,'listing-produits'!A:E,2,FALSE),"") | C10: =IFERROR(VLOOKUP(A10,'listing-produits'!A:E,3,FALSE),"") | D10: =IFERROR(VLOOKUP(A10,'listing-produits'!A:E,4,FALSE),"") | E10: =IFERROR(VLOOKUP(A10,'listing-produits'!A:E,5,FALSE),"")
B11: =IFERROR(VLOOKUP(A11,'listing-produits'!A:E,2,FALSE),"") | C11: =IFERROR(VLOOKUP(A11,'listing-produits'!A:E,3,FALSE),"") | D11: =IFERROR(VLOOKUP(A11,'listing-produits'!A:E,4,FALSE),"") | E11: =IFERROR(VLOOKUP(A11,'listing-produits'!A:E,5,FALSE),"")
B12: =IFERROR(VLOOKUP(A12,'listing-produits'!A:E,2,FALSE),"") | C12: =IFERROR(VLOOKUP(A12,'listing-produits'!A:E,3,FALSE),"") | D12: =IFERROR(VLOOKUP(A12,'listing-produits'!A:E,4,FALSE),"") | E12: =IFERROR(VLOOKUP(A12,'listing-produits'!A:E,5,FALSE),"")
B13: =IFERROR(VLOOKUP(A13,'listing-produits'!A:E,2,FALSE),"") | C13: =IFERROR(VLOOKUP(A13,'listing-produits'!A:E,3,FALSE),"") | D13: =IFERROR(VLOOKUP(A13,'listing-produits'!A:E,4,FALSE),"") | E13: =IFERROR(VLOOKUP(A13,'listing-produits'!A:E,5,FALSE),"")
B14: =IFERROR(VLOOKUP(A14,'listing-produits'!A:E,2,FALSE),"") | C14: =IFERROR(VLOOKUP(A14,'listing-produits'!A:E,3,FALSE),"") | D14: =IFERROR(VLOOKUP(A14,'listing-produits'!A:E,4,FALSE),"") | E14: =IFERROR(VLOOKUP(A14,'listing-produits'!A:E,5,FALSE),"")
... B30: =IFERROR(VLOOKUP(A30,'listing-produits'!A:E,2,FALSE),"") | C30: =IFERROR(VLOOKUP(A30,'listing-produits'!A:E,3,FALSE),"") | D30: =IFERROR(VLOOKUP(A30,'listing-produits'!A:E,4,FALSE),"") | E30: =IFERROR(VLOOKUP(A30,'listing-produits'!A:E,5,FALSE),"")
E31: =IFERROR(VLOOKUP(A31,'listing-produits'!A:E,5,FALSE),"")
