Workbook

Sheet Feuil1
B4: OBJET 1 | D4: NIVEAU | F4: NIVEAU | H4: FRAGMENTS | I4: OR | J4: STAT 1 | K4: STAT 2 (1)
D5: ACTUEL | E5: 1 | F5: SOUHAITE | G5: 2 | H5: {=SUMPRODUCT((Feuil2!$C$1:$U$1>=$E5)*(Feuil2!$C$2:$U$2<=$G5)*(Feuil2!$C$3:$U$3))} -> 200 | I5: {=SUMPRODUCT((Feuil2!$C$1:$U$1>=$E5)*(Feuil2!$C$2:$U$2<=$G5)*(Feuil2!$C$4:$U$4))} -> 4000 | J5: =INDEX(Feuil2!$A$1:$U$116,MATCH($B4,Feuil2!$A$1:$A$116,0),MATCH($G5,Feuil2!$A$2:$U$2,0)) -> 0.124 | K5: {=INDEX(Feuil2!$A$1:$U$116,MATCH(1,(Feuil2!$A$1:$A$7116=$B4)*(Feuil2!$B$1:$B$116=$K4),0),MATCH($G5,Feuil2!$A$2:$U$2,0))} -> 0.1564
B7: OBJET 2 | D7: NIVEAU | F7: NIVEAU | H7: FRAGMENTS | I7: OR | J7: STAT 1 | K7: STAT 2 (4)
D8: ACTUEL | E8: 1 | F8: SOUHAITE | G8: 7 | H8: {=SUMPRODUCT((Feuil2!$C$1:$U$1>=$E8)*(Feuil2!$C$2:$U$2<=$G8)*(Feuil2!$C$3:$U$3))} -> 4200 | I8: {=SUMPRODUCT((Feuil2!$C$1:$U$1>=$E8)*(Feuil2!$C$2:$U$2<=$G8)*(Feuil2!$C$4:$U$4))} -> 84000 | J8: =INDEX(Feuil2!$A$1:$U$116,MATCH($B7,Feuil2!$A$1:$A$116,0),MATCH($G8,Feuil2!$A$2:$U$2,0)) -> 0.15 | K8: {=INDEX(Feuil2!$A$1:$U$116,MATCH(1,(Feuil2!$A$1:$A$7116=$B7)*(Feuil2!$B$1:$B$116=$K7),0),MATCH($G8,Feuil2!$A$2:$U$2,0))} -> 0.06
B10: OBJET 3 | D10: NIVEAU | F10: NIVEAU | H10: FRAGMENTS | I10: OR | J10: STAT 1 | K10: STAT 2 (1)
D11: ACTUEL | E11: 1 | F11: SOUHAITE | G11: 4 | H11: {=SUMPRODUCT((Feuil2!$C$1:$U$1>=$E11)*(Feuil2!$C$2:$U$2<=$G11)*(Feuil2!$C$3:$U$3))} -> 1200 | I11: {=SUMPRODUCT((Feuil2!$C$1:$U$1>=$E11)*(Feuil2!$C$2:$U$2<=$G11)*(Feuil2!$C$4:$U$4))} -> 24000 | J11: =INDEX(Feuil2!$A$1:$U$116,MATCH($B10,Feuil2!$A$1:$A$116,0),MATCH($G11,Feuil2!$A$2:$U$2,0)) -> 0.12 | K11: {=INDEX(Feuil2!$A$1:$U$116,MATCH(1,(Feuil2!$A$1:$A$7116=$B10)*(Feuil2!$B$1:$B$116=$K10),0),MATCH($G11,Feuil2!$A$2:$U$2,0))} -> 0.03
B13: OBJET 4 | D13: NIVEAU | F13: NIVEAU | H13: FRAGMENTS | I13: OR | J13: STAT 1 | K13: STAT 2 (1)
D14: ACTUEL | E14: 1 | F14: SOUHAITE | G14: 5 | H14: {=SUMPRODUCT((Feuil2!$C$1:$U$1>=$E14)*(Feuil2!$C$2:$U$2<=$G14)*(Feuil2!$C$3:$U$3))} -> 2000 | I14: {=SUMPRODUCT((Feuil2!$C$1:$U$1>=$E14)*(Feuil2!$C$2:$U$2<=$G14)*(Feuil2!$C$4:$U$4))} -> 40000 | J14: =INDEX(Feuil2!$A$1:$U$116,MATCH($B13,Feuil2!$A$1:$A$116,0),MATCH($G14,Feuil2!$A$2:$U$2,0)) -> 0.13 | K14: {=INDEX(Feuil2!$A$1:$U$116,MATCH(1,(Feuil2!$A$1:$A$7116=$B13)*(Feuil2!$B$1:$B$116=$K13),0),MATCH($G14,Feuil2!$A$2:$U$2,0))} -> 0.04
B16: OBJET 5 | D16: NIVEAU | F16: NIVEAU | H16: FRAGMENTS | I16: OR | J16: STAT 1 | K16: STAT 2 (1)
D17: ACTUEL | E17: 1 | F17: SOUHAITE | G17: 6 | H17: {=SUMPRODUCT((Feuil2!$C$1:$U$1>=$E17)*(Feuil2!$C$2:$U$2<=$G17)*(Feuil2!$C$3:$U$3))} -> 3000 | I17: {=SUMPRODUCT((Feuil2!$C$1:$U$1>=$E17)*(Feuil2!$C$2:$U$2<=$G17)*(Feuil2!$C$4:$U$4))} -> 60000 | J17: =INDEX(Feuil2!$A$1:$U$116,MATCH($B16,Feuil2!$A$1:$A$116,0),MATCH($G17,Feuil2!$A$2:$U$2,0)) -> 0.14 | K17: {=INDEX(Feuil2!$A$1:$U$116,MATCH(1,(Feuil2!$A$1:$A$7116=$B16)*(Feuil2!$B$1:$B$116=$K16),0),MATCH($G17,Feuil2!$A$2:$U$2,0))} -> 0.05
B19: OBJET 6 | D19: NIVEAU | F19: NIVEAU | H19: FRAGMENTS | I19: OR | J19: STAT 1 | K19: STAT 2 (1)
D20: ACTUEL | E20: 1 | F20: SOUHAITE | G20: 7 | H20: {=SUMPRODUCT((Feuil2!$C$1:$U$1>=$E20)*(Feuil2!$C$2:$U$2<=$G20)*(Feuil2!$C$3:$U$3))} -> 4200 | I20: {=SUMPRODUCT((Feuil2!$C$1:$U$1>=$E20)*(Feuil2!$C$2:$U$2<=$G20)*(Feuil2!$C$4:$U$4))} -> 84000 | J20: =INDEX(Feuil2!$A$1:$U$116,MATCH($B19,Feuil2!$A$1:$A$116,0),MATCH($G20,Feuil2!$A$2:$U$2,0)) -> 0.15 | K20: {=INDEX(Feuil2!$A$1:$U$116,MATCH(1,(Feuil2!$A$1:$A$7116=$B19)*(Feuil2!$B$1:$B$116=$K19),0),MATCH($G20,Feuil2!$A$2:$U$2,0))} -> 0.06
B22: OBJET 7 | D22: NIVEAU | F22: NIVEAU | H22: FRAGMENTS | I22: OR | J22: STAT 1 | K22: STAT 2 (1)
D23: ACTUEL | E23: 1 | F23: SOUHAITE | G23: 8 | H23: {=SUMPRODUCT((Feuil2!$C$1:$U$1>=$E23)*(Feuil2!$C$2:$U$2<=$G23)*(Feuil2!$C$3:$U$3))} -> 5600 | I23: {=SUMPRODUCT((Feuil2!$C$1:$U$1>=$E23)*(Feuil2!$C$2:$U$2<=$G23)*(Feuil2!$C$4:$U$4))} -> 112000 | J23: =INDEX(Feuil2!$A$1:$U$116,MATCH($B22,Feuil2!$A$1:$A$116,0),MATCH($G23,Feuil2!$A$2:$U$2,0)) -> 0.16 | K23: {=INDEX(Feuil2!$A$1:$U$116,MATCH(1,(Feuil2!$A$1:$A$7116=$B22)*(Feuil2!$B$1:$B$116=$K22),0),MATCH($G23,Feuil2!$A$2:$U$2,0))} -> 0.07
B25: OBJET 8 | D25: NIVEAU | F25: NIVEAU | H25: FRAGMENTS | I25: OR | J25: STAT 1 | K25: STAT 2 (1)
D26: ACTUEL | E26: 1 | F26: SOUHAITE | G26: 9 | H26: {=SUMPRODUCT((Feuil2!$C$1:$U$1>=$E26)*(Feuil2!$C$2:$U$2<=$G26)*(Feuil2!$C$3:$U$3))} -> 7200 | I26: {=SUMPRODUCT((Feuil2!$C$1:$U$1>=$E26)*(Feuil2!$C$2:$U$2<=$G26)*(Feuil2!$C$4:$U$4))} -> 144000 | J26: =INDEX(Feuil2!$A$1:$U$116,MATCH($B25,Feuil2!$A$1:$A$116,0),MATCH($G26,Feuil2!$A$2:$U$2,0)) -> 0.17 | K26: {=INDEX(Feuil2!$A$1:$U$116,MATCH(1,(Feuil2!$A$1:$A$7116=$B25)*(Feuil2!$B$1:$B$116=$K25),0),MATCH($G26,Feuil2!$A$2:$U$2,0))} -> 0.08
B28: OBJET 9 | D28: NIVEAU | F28: NIVEAU | H28: FRAGMENTS | I28: OR | J28: STAT 1 | K28: STAT 2 (1)
D29: ACTUEL | E29: 1 | F29: SOUHAITE | G29: 10 | H29: {=SUMPRODUCT((Feuil2!$C$1:$U$1>=$E29)*(Feuil2!$C$2:$U$2<=$G29)*(Feuil2!$C$3:$U$3))} -> 9000 | I29: {=SUMPRODUCT((Feuil2!$C$1:$U$1>=$E29)*(Feuil2!$C$2:$U$2<=$G29)*(Feuil2!$C$4:$U$4))} -> 180000 | J29: =INDEX(Feuil2!$A$1:$U$116,MATCH($B28,Feuil2!$A$1:$A$116,0),MATCH($G29,Feuil2!$A$2:$U$2,0)) -> 0.18 | K29: {=INDEX(Feuil2!$A$1:$U$116,MATCH(1,(Feuil2!$A$1:$A$7116=$B28)*(Feuil2!$B$1:$B$116=$K28),0),MATCH($G29,Feuil2!$A$2:$U$2,0))} -> 0.09
B31: OBJET 10 | D31: NIVEAU | F31: NIVEAU | H31: FRAGMENTS | I31: OR | J31: STAT 1 | K31: STAT 2 (1)
D32: ACTUEL | E32: 1 | F32: SOUHAITE | G32: 11 | H32: {=SUMPRODUCT((Feuil2!$C$1:$U$1>=$E32)*(Feuil2!$C$2:$U$2<=$G32)*(Feuil2!$C$3:$U$3))} -> 11000 | I32: {=SUMPRODUCT((Feuil2!$C$1:$U$1>=$E32)*(Feuil2!$C$2:$U$2<=$G32)*(Feuil2!$C$4:$U$4))} -> 220000 | J32: =INDEX(Feuil2!$A$1:$U$116,MATCH($B31,Feuil2!$A$1:$A$116,0),MATCH($G32,Feuil2!$A$2:$U$2,0)) -> 0.19 | K32: {=INDEX(Feuil2!$A$1:$U$116,MATCH(1,(Feuil2!$A$1:$A$7116=$B31)*(Feuil2!$B$1:$B$116=$K31),0),MATCH($G32,Feuil2!$A$2:$U$2,0))} -> 0.1
B34: OBJET 11 | D34: NIVEAU | F34: NIVEAU | H34: FRAGMENTS | I34: OR | J34: STAT 1 | K34: STAT 2 (1)
D35: ACTUEL | E35: 1 | F35: SOUHAITE | G35: 12 | H35: {=SUMPRODUCT((Feuil2!$C$1:$U$1>=$E35)*(Feuil2!$C$2:$U$2<=$G35)*(Feuil2!$C$3:$U$3))} -> 13200 | I35: {=SUMPRODUCT((Feuil2!$C$1:$U$1>=$E35)*(Feuil2!$C$2:$U$2<=$G35)*(Feuil2!$C$4:$U$4))} -> 264000 | J35: =INDEX(Feuil2!$A$1:$U$116,MATCH($B34,Feuil2!$A$1:$A$116,0),MATCH($G35,Feuil2!$A$2:$U$2,0)) -> 0.2 | K35: {=INDEX(Feuil2!$A$1:$U$116,MATCH(1,(Feuil2!$A$1:$A$7116=$B34)*(Feuil2!$B$1:$B$116=$K34),0),MATCH($G35,Feuil2!$A$2:$U$2,0))} -> 0.11
B37: OBJET 12 | D37: NIVEAU | F37: NIVEAU | H37: FRAGMENTS | I37: OR | J37: STAT 1 | K37: STAT 2 (1)
D38: ACTUEL | E38: 1 | F38: SOUHAITE | G38: 13 | H38: {=SUMPRODUCT((Feuil2!$C$1:$U$1>=$E38)*(Feuil2!$C$2:$U$2<=$G38)*(Feuil2!$C$3:$U$3))} -> 15600 | I38: {=SUMPRODUCT((Feuil2!$C$1:$U$1>=$E38)*(Feuil2!$C$2:$U$2<=$G38)*(Feuil2!$C$4:$U$4))} -> 312000 | J38: =INDEX(Feuil2!$A$1:$U$116,MATCH($B37,Feuil2!$A$1:$A$116,0),MATCH($G38,Feuil2!$A$2:$U$2,0)) -> 0.21 | K38: {=INDEX(Feuil2!$A$1:$U$116,MATCH(1,(Feuil2!$A$1:$A$7116=$B37)*(Feuil2!$B$1:$B$116=$K37),0),MATCH($G38,Feuil2!$A$2:$U$2,0))} -> 0.12
B40: OBJET 13 | D40: NIVEAU | F40: NIVEAU | H40: FRAGMENTS | I40: OR | J40: STAT 1 | K40: STAT 2 (1)
D41: ACTUEL | E41: 1 | F41: SOUHAITE | G41: 14 | H41: {=SUMPRODUCT((Feuil2!$C$1:$U$1>=$E41)*(Feuil2!$C$2:$U$2<=$G41)*(Feuil2!$C$3:$U$3))} -> 18200 | I41: {=SUMPRODUCT((Feuil2!$C$1:$U$1>=$E41)*(Feuil2!$C$2:$U$2<=$G41)*(Feuil2!$C$4:$U$4))} -> 364000 | J41: =INDEX(Feuil2!$A$1:$U$116,MATCH($B40,Feuil2!$A$1:$A$116,0),MATCH($G41,Feuil2!$A$2:$U$2,0)) -> 0.22 | K41: {=INDEX(Feuil2!$A$1:$U$116,MATCH(1,(Feuil2!$A$1:$A$7116=$B40)*(Feuil2!$B$1:$B$116=$K40),0),MATCH($G41,Feuil2!$A$2:$U$2,0))} -> 0.13
B43: OBJET 14 | D43: NIVEAU | F43: NIVEAU | H43: FRAGMENTS | I43: OR | J43: STAT 1 | K43: STAT 2 (1)
D44: ACTUEL | E44: 1 | F44: SOUHAITE | G44: 15 | H44: {=SUMPRODUCT((Feuil2!$C$1:$U$1>=$E44)*(Feuil2!$C$2:$U$2<=$G44)*(Feuil2!$C$3:$U$3))} -> 21000 | I44: {=SUMPRODUCT((Feuil2!$C$1:$U$1>=$E44)*(Feuil2!$C$2:$U$2<=$G44)*(Feuil2!$C$4:$U$4))} -> 420000 | J44: =INDEX(Feuil2!$A$1:$U$116,MATCH($B43,Feuil2!$A$1:$A$116,0),MATCH($G44,Feuil2!$A$2:$U$2,0)) -> 0.23 | K44: {=INDEX(Feuil2!$A$1:$U$116,MATCH(1,(Feuil2!$A$1:$A$7116=$B43)*(Feuil2!$B$1:$B$116=$K43),0),MATCH($G44,Feuil2!$A$2:$U$2,0))} -> 0.14
B46: OBJET 15 | D46: NIVEAU | F46: NIVEAU | H46: FRAGMENTS | I46: OR | J46: STAT 1 | K46: STAT 2 (1)
D47: ACTUEL | E47: 1 | F47: SOUHAITE | G47: 16 | H47: {=SUMPRODUCT((Feuil2!$C$1:$U$1>=$E47)*(Feuil2!$C$2:$U$2<=$G47)*(Feuil2!$C$3:$U$3))} -> 24000 | I47: {=SUMPRODUCT((Feuil2!$C$1:$U$1>=$E47)*(Feuil2!$C$2:$U$2<=$G47)*(Feuil2!$C$4:$U$4))} -> 480000 | J47: =INDEX(Feuil2!$A$1:$U$116,MATCH($B46,Feuil2!$A$1:$A$116,0),MATCH($G47,Feuil2!$A$2:$U$2,0)) -> 0.24 | K47: {=INDEX(Feuil2!$A$1:$U$116,MATCH(1,(Feuil2!$A$1:$A$7116=$B46)*(Feuil2!$B$1:$B$116=$K46),0),MATCH($G47,Feuil2!$A$2:$U$2,0))} -> 0.15
B49: OBJET 16 | D49: NIVEAU | F49: NIVEAU | H49: FRAGMENTS | I49: OR | J49: STAT 1 | K49: STAT 2 (1)
D50: ACTUEL | E50: 1 | F50: SOUHAITE | G50: 20 | H50: {=SUMPRODUCT((Feuil2!$C$1:$U$1>=$E50)*(Feuil2!$C$2:$U$2<=$G50)*(Feuil2!$C$3:$U$3))} -> 38000 | I50: {=SUMPRODUCT((Feuil2!$C$1:$U$1>=$E50)*(Feuil2!$C$2:$U$2<=$G50)*(Feuil2!$C$4:$U$4))} -> 760000 | J50: =INDEX(Feuil2!$A$1:$U$116,MATCH($B49,Feuil2!$A$1:$A$116,0),MATCH($G50,Feuil2!$A$2:$U$2,0)) -> 0.28 | K50: {=INDEX(Feuil2!$A$1:$U$116,MATCH(1,(Feuil2!$A$1:$A$7116=$B49)*(Feuil2!$B$1:$B$116=$K49),0),MATCH($G50,Feuil2!$A$2:$U$2,0))} -> 0.19

Sheet Feuil2
B1: NIVEAU | C1: 1 | D1: 2 | E1: 3 | F1: 4 | G1: 5 | H1: 6 | I1: 7 | J1: 8 | K1: 9 | L1: 10 | M1: 11 | N1: 12 | O1: 13 | P1: 14 | Q1: 15 | R1: 16 | S1: 17 | T1: 18 | U1: 19
B2: NIVEAU | C2: 2 | D2: 3 | E2: 4 | F2: 5 | G2: 6 | H2: 7 | I2: 8 | J2: 9 | K2: 10 | L2: 11 | M2: 12 | N2: 13 | O2: 14 | P2: 15 | Q2: 16 | R2: 17 | S2: 18 | T2: 19 | U2: 20
B3: FRAGS | C3: 200 | D3: 400 | E3: 600 | F3: 800 | G3: 1000 | H3: 1200 | I3: 1400 | J3: 1600 | K3: 1800 | L3: 2000 | M3: 2200 | N3: 2400 | O3: 2600 | P3: 2800 | Q3: 3000 | R3: 3200 | S3: 3400 | T3: 3600 | U3: 3800
B4: GOLD | C4: 4000 | D4: 8000 | E4: 12000 | F4: 16000 | G4: 20000 | H4: 24000 | I4: 28000 | J4: 32000 | K4: 36000 | L4: 40000 | M4: 44000 | N4: 48000 | O4: 52000 | P4: 56000 | Q4: 60000 | R4: 64000 | S4: 68000 | T4: 72000 | U4: 76000
A6: OBJET 1 | B6: STAT 1 | C6: 0.124 | D6: 0.127 | E6: 0.13 | F6: 0.133 | G6: 0.136 | H6: 0.139 | I6: 0.142 | J6: 0.145 | K6: 0.148 | L6: 0.151 | M6: 0.154 | N6: 0.157 | O6: 0.16 | P6: 0.163 | Q6: 0.166 | R6: 0.169 | S6: 0.172 | T6: 0.175 | U6: 0.178
A7: OBJET 1 | B7: STAT 2 (1) | C7: 0.1564 | D7: 0.1598 | E7: 0.03 | F7: 0.04 | G7: 0.05 | H7: 0.06 | I7: 0.07 | J7: 0.08 | K7: 0.09 | L7: 0.1 | M7: 0.11 | N7: 0.12 | O7: 0.13 | P7: 0.14 | Q7: 0.15 | R7: 0.16 | S7: 0.17 | T7: 0.18 | U7: 0.19
A8: OBJET 1 | B8: STAT 2 (2) | C8: 0.1888 | D8: 0.1926 | E8: 0.03 | F8: 0.04 | G8: 0.05 | H8: 0.06 | I8: 0.07 | J8: 0.08 | K8: 0.09 | L8: 0.1 | M8: 0.11 | N8: 0.12 | O8: 0.13 | P8: 0.14 | Q8: 0.15 | R8: 0.16 | S8: 0.17 | T8: 0.18 | U8: 0.19
A9: OBJET 1 | B9: STAT 2 (3) | C9: 0.2212 | D9: 0.2254 | E9: 0.03 | F9: 0.04 | G9: 0.05 | H9: 0.06 | I9: 0.07 | J9: 0.08 | K9: 0.09 | L9: 0.1 | M9: 0.11 | N9: 0.12 | O9: 0.13 | P9: 0.14 | Q9: 0.15 | R9: 0.16 | S9: 0.17 | T9: 0.18 | U9: 0.19
A10: OBJET 1 | B10: STAT 2 (4) | C10: 0.2536 | D10: 0.2582 | E10: 0.03 | F10: 0.04 | G10: 0.05 | H10: 0.06 | I10: 0.07 | J10: 0.08 | K10: 0.09 | L10: 0.1 | M10: 0.11 | N10: 0.12 | O10: 0.13 | P10: 0.14 | Q10: 0.15 | R10: 0.16 | S10: 0.17 | T10: 0.18 | U10: 0.19
A11: OBJET 1 | B11: STAT 2 (5) | C11: 0.286 | D11: 0.291 | E11: 0.295 | F11: 0.3 | G11: 0.304 | H11: 0.309 | I11: 0.314 | J11: 0.318 | K11: 0.323 | L11: 0.327 | M11: 0.332 | N11: 0.336 | O11: 0.341 | P11: 0.345 | Q11: 0.349 | R11: 0.354 | S11: 0.358 | T11: 0.363 | U11: 0.367
A13: OBJET 2 | B13: STAT 1 | C13: 0.1 | D13: 0.11 | E13: 0.12 | F13: 0.13 | G13: 0.14 | H13: 0.15 | I13: 0.16 | J13: 0.17 | K13: 0.18 | L13: 0.19 | M13: 0.2 | N13: 0.21 | O13: 0.22 | P13: 0.23 | Q13: 0.24 | R13: 0.25 | S13: 0.26 | T13: 0.27 | U13: 0.28
A14: OBJET 2 | B14: STAT 2 (1) | C14: 0.01 | D14: 0.02 | E14: 0.03 | F14: 0.04 | G14: 0.05 | H14: 0.06 | I14: 0.07 | J14: 0.08 | K14: 0.09 | L14: 0.1 | M14: 0.11 | N14: 0.12 | O14: 0.13 | P14: 0.14 | Q14: 0.15 | R14: 0.16 | S14: 0.17 | T14: 0.18 | U14: 0.19
A15: OBJET 2 | B15: STAT 2 (2) | C15: 0.01 | D15: 0.02 | E15: 0.03 | F15: 0.04 | G15: 0.05 | H15: 0.06 | I15: 0.07 | J15: 0.08 | K15: 0.09 | L15: 0.1 | M15: 0.11 | N15: 0.12 | O15: 0.13 | P15: 0.14 | Q15: 0.15 | R15: 0.16 | S15: 0.17 | T15: 0.18 | U15: 0.19
A16: OBJET 2 | B16: STAT 2 (3) | C16: 0.01 | D16: 0.02 | E16: 0.03 | F16: 0.04 | G16: 0.05 | H16: 0.06 | I16: 0.07 | J16: 0.08 | K16: 0.09 | L16: 0.1 | M16: 0.11 | N16: 0.12 | O16: 0.13 | P16: 0.14 | Q16: 0.15 | R16: 0.16 | S16: 0.17 | T16: 0.18 | U16: 0.19
A17: OBJET 2 | B17: STAT 2 (4) | C17: 0.01 | D17: 0.02 | E17: 0.03 | F17: 0.04 | G17: 0.05 | H17: 0.06 | I17: 0.07 | J17: 0.08 | K17: 0.09 | L17: 0.1 | M17: 0.11 | N17: 0.12 | O17: 0.13 | P17: 0.14 | Q17: 0.15 | R17: 0.16 | S17: 0.17 | T17: 0.18 | U17: 0.19
A18: OBJET 2 | B18: STAT 2 (5) | C18: 0.01 | D18: 0.02 | E18: 0.03 | F18: 0.04 | G18: 0.05 | H18: 0.06 | I18: 0.07 | J18: 0.08 | K18: 0.09 | L18: 0.1 | M18: 0.11 | N18: 0.12 | O18: 0.13 | P18: 0.14 | Q18: 0.15 | R18: 0.16 | S18: 0.17 | T18: 0.18 | U18: 0.19
... A116: OBJET 16 | B116: STAT 2 (5) | C116: 0.01 | D116: 0.02 | E116: 0.03 | F116: 0.04 | G116: 0.05 | H116: 0.06 | I116: 0.07 | J116: 0.08 | K116: 0.09 | L116: 0.1 | M116: 0.11 | N116: 0.12 | O116: 0.13 | P116: 0.14 | Q116: 0.15 | R116: 0.16 | S116: 0.17 | T116: 0.18 | U116: 0.19

Sheet Feuil3
