Workbook

Sheet Feuil1
J3: STATS
B4: OBJET 1 | D4: NIVEAU | F4: NIVEAU | H4: FRAGMENTS | I4: OR | J4: 1 | K4: UN | L4: 2 | M4: UN | N4: 3 | O4: UN | P4: 4 | Q4: UN | R4: 5
D5: ACTUEL | E5: 1 | F5: SOUHAITE | G5: 2 | H5: {=SUMPRODUCT((Feuil2!$D$1:$V$1>=$E5)*(Feuil2!$D$2:$V$2<=$G5)*(Feuil2!$D$3:$V$3))} -> 200 | I5: {=SUMPRODUCT((Feuil2!$D$1:$V$1>=$E5)*(Feuil2!$D$2:$V$2<=$G5)*(Feuil2!$D$4:$V$4))} -> 4000 | J5: {=INDEX(Feuil2!$A$1:$V$70,MATCH($B4,Feuil2!$A$1:$A$70,0)+J4-1,MATCH($G5,Feuil2!$A$2:$V$2,0))} -> 0.1564 | K5: 3 | L5: {=INDEX(Feuil2!$A$1:$V$70,MATCH($B4,Feuil2!$A$1:$A$70,0)+L4-1,MATCH($G5,Feuil2!$A$2:$V$2,0))} -> 0.1888 | M5: 3 | N5: {=INDEX(Feuil2!$A$1:$V$70,MATCH($B4,Feuil2!$A$1:$A$70,0)+N4-1,MATCH($G5,Feuil2!$A$2:$V$2,0))} -> 0.2212 | O5: 3 | P5: {=INDEX(Feuil2!$A$1:$V$70,MATCH($B4,Feuil2!$A$1:$A$70,0)+P4-1,MATCH($G5,Feuil2!$A$2:$V$2,0))} -> 0.2536 | Q5: 3 | R5: {=INDEX(Feuil2!$A$1:$V$70,MATCH($B4,Feuil2!$A$1:$A$70,0)+R4-1,MATCH($G5,Feuil2!$A$2:$V$2,0))} -> 0.286
B7: OBJET 2 | D7: NIVEAU | F7: NIVEAU | H7: FRAGMENTS | I7: OR | J7: 1 | K7: UN | L7: 2 | M7: UN | N7: 3 | O7: UN | P7: 4 | Q7: UN | R7: 5
D8: ACTUEL | E8: 1 | F8: SOUHAITE | G8: 7 | H8: {=SUMPRODUCT((Feuil2!$D$1:$V$1>=$E8)*(Feuil2!$D$2:$V$2<=$G8)*(Feuil2!$D$3:$V$3))} -> 4200 | I8: {=SUMPRODUCT((Feuil2!$D$1:$V$1>=$E8)*(Feuil2!$D$2:$V$2<=$G8)*(Feuil2!$D$4:$V$4))} -> 84000 | J8: {=INDEX(Feuil2!$A$1:$V$70,MATCH($B7,Feuil2!$A$1:$A$70,0)+J7-1,MATCH($G8,Feuil2!$A$2:$V$2,0))} -> 0.06 | K8: 3 | L8: {=INDEX(Feuil2!$A$1:$V$70,MATCH($B7,Feuil2!$A$1:$A$70,0)+L7-1,MATCH($G8,Feuil2!$A$2:$V$2,0))} -> 0.06 | M8: 3 | N8: {=INDEX(Feuil2!$A$1:$V$70,MATCH($B7,Feuil2!$A$1:$A$70,0)+N7-1,MATCH($G8,Feuil2!$A$2:$V$2,0))} -> 0.06 | O8: 3 | P8: {=INDEX(Feuil2!$A$1:$V$70,MATCH($B7,Feuil2!$A$1:$A$70,0)+P7-1,MATCH($G8,Feuil2!$A$2:$V$2,0))} -> 0.06 | Q8: 3 | R8: {=INDEX(Feuil2!$A$1:$V$70,MATCH($B7,Feuil2!$A$1:$A$70,0)+R7-1,MATCH($G8,Feuil2!$A$2:$V$2,0))} -> 0.06
B10: OBJET 3 | D10: NIVEAU | F10: NIVEAU | H10: FRAGMENTS | I10: OR | J10: 1 | K10: UN | L10: 2 | M10: UN | N10: 3 | O10: UN | P10: 4 | Q10: UN | R10: 5
D11: ACTUEL | E11: 1 | F11: SOUHAITE | G11: 4 | H11: {=SUMPRODUCT((Feuil2!$D$1:$V$1>=$E11)*(Feuil2!$D$2:$V$2<=$G11)*(Feuil2!$D$3:$V$3))} -> 1200 | I11: {=SUMPRODUCT((Feuil2!$D$1:$V$1>=$E11)*(Feuil2!$D$2:$V$2<=$G11)*(Feuil2!$D$4:$V$4))} -> 24000 | J11: {=INDEX(Feuil2!$A$1:$V$70,MATCH($B10,Feuil2!$A$1:$A$70,0)+J10-1,MATCH($G11,Feuil2!$A$2:$V$2,0))} -> 0.03 | K11: 3 | L11: {=INDEX(Feuil2!$A$1:$V$70,MATCH($B10,Feuil2!$A$1:$A$70,0)+L10-1,MATCH($G11,Feuil2!$A$2:$V$2,0))} -> 0.03 | M11: 3 | N11: {=INDEX(Feuil2!$A$1:$V$70,MATCH($B10,Feuil2!$A$1:$A$70,0)+N10-1,MATCH($G11,Feuil2!$A$2:$V$2,0))} -> 0.03 | O11: 3 | P11: {=INDEX(Feuil2!$A$1:$V$70,MATCH($B10,Feuil2!$A$1:$A$70,0)+P10-1,MATCH($G11,Feuil2!$A$2:$V$2,0))} -> 0.03 | Q11: 3 | R11: {=INDEX(Feuil2!$A$1:$V$70,MATCH($B10,Feuil2!$A$1:$A$70,0)+R10-1,MATCH($G11,Feuil2!$A$2:$V$2,0))} -> 0.03
B13: OBJET 4 | D13: NIVEAU | F13: NIVEAU | H13: FRAGMENTS | I13: OR | J13: 1 | K13: UN | L13: 2 | M13: UN | N13: 3 | O13: UN | P13: 4 | Q13: UN | R13: 5
D14: ACTUEL | E14: 1 | F14: SOUHAITE | G14: 5 | H14: {=SUMPRODUCT((Feuil2!$D$1:$V$1>=$E14)*(Feuil2!$D$2:$V$2<=$G14)*(Feuil2!$D$3:$V$3))} -> 2000 | I14: {=SUMPRODUCT((Feuil2!$D$1:$V$1>=$E14)*(Feuil2!$D$2:$V$2<=$G14)*(Feuil2!$D$4:$V$4))} -> 40000 | J14: {=INDEX(Feuil2!$A$1:$V$70,MATCH($B13,Feuil2!$A$1:$A$70,0)+J13-1,MATCH($G14,Feuil2!$A$2:$V$2,0))} -> 0.04 | K14: 3 | L14: {=INDEX(Feuil2!$A$1:$V$70,MATCH($B13,Feuil2!$A$1:$A$70,0)+L13-1,MATCH($G14,Feuil2!$A$2:$V$2,0))} -> 0.04 | M14: 3 | N14: {=INDEX(Feuil2!$A$1:$V$70,MATCH($B13,Feuil2!$A$1:$A$70,0)+N13-1,MATCH($G14,Feuil2!$A$2:$V$2,0))} -> 0.04 | O14: 3 | P14: {=INDEX(Feuil2!$A$1:$V$70,MATCH($B13,Feuil2!$A$1:$A$70,0)+P13-1,MATCH($G14,Feuil2!$A$2:$V$2,0))} -> 0.04 | Q14: 3 | R14: {=INDEX(Feuil2!$A$1:$V$70,MATCH($B13,Feuil2!$A$1:$A$70,0)+R13-1,MATCH($G14,Feuil2!$A$2:$V$2,0))} -> 0.04
B16: OBJET 5 | D16: NIVEAU | F16: NIVEAU | H16: FRAGMENTS | I16: OR | J16: 1 | K16: UN | L16: 2 | M16: UN | N16: 3 | O16: UN | P16: 4 | Q16: UN | R16: 5
D17: ACTUEL | E17: 1 | F17: SOUHAITE | G17: 6 | H17: {=SUMPRODUCT((Feuil2!$D$1:$V$1>=$E17)*(Feuil2!$D$2:$V$2<=$G17)*(Feuil2!$D$3:$V$3))} -> 3000 | I17: {=SUMPRODUCT((Feuil2!$D$1:$V$1>=$E17)*(Feuil2!$D$2:$V$2<=$G17)*(Feuil2!$D$4:$V$4))} -> 60000 | J17: {=INDEX(Feuil2!$A$1:$V$70,MATCH($B16,Feuil2!$A$1:$A$70,0)+J16-1,MATCH($G17,Feuil2!$A$2:$V$2,0))} -> 0.05 | K17: 3 | L17: {=INDEX(Feuil2!$A$1:$V$70,MATCH($B16,Feuil2!$A$1:$A$70,0)+L16-1,MATCH($G17,Feuil2!$A$2:$V$2,0))} -> 0.05 | M17: 3 | N17: {=INDEX(Feuil2!$A$1:$V$70,MATCH($B16,Feuil2!$A$1:$A$70,0)+N16-1,MATCH($G17,Feuil2!$A$2:$V$2,0))} -> 0.05 | O17: 3 | P17: {=INDEX(Feuil2!$A$1:$V$70,MATCH($B16,Feuil2!$A$1:$A$70,0)+P16-1,MATCH($G17,Feuil2!$A$2:$V$2,0))} -> 0.05 | Q17: 3 | R17: {=INDEX(Feuil2!$A$1:$V$70,MATCH($B16,Feuil2!$A$1:$A$70,0)+R16-1,MATCH($G17,Feuil2!$A$2:$V$2,0))} -> 0.05
B19: OBJET 6 | D19: NIVEAU | F19: NIVEAU | H19: FRAGMENTS | I19: OR | J19: 1 | K19: UN | L19: 2 | M19: UN | N19: 3 | O19: UN | P19: 4 | Q19: UN | R19: 5
D20: ACTUEL | E20: 1 | F20: SOUHAITE | G20: 7 | H20: {=SUMPRODUCT((Feuil2!$D$1:$V$1>=$E20)*(Feuil2!$D$2:$V$2<=$G20)*(Feuil2!$D$3:$V$3))} -> 4200 | I20: {=SUMPRODUCT((Feuil2!$D$1:$V$1>=$E20)*(Feuil2!$D$2:$V$2<=$G20)*(Feuil2!$D$4:$V$4))} -> 84000 | J20: {=INDEX(Feuil2!$A$1:$V$70,MATCH($B19,Feuil2!$A$1:$A$70,0)+J19-1,MATCH($G20,Feuil2!$A$2:$V$2,0))} -> 0.06 | K20: 3 | L20: {=INDEX(Feuil2!$A$1:$V$70,MATCH($B19,Feuil2!$A$1:$A$70,0)+L19-1,MATCH($G20,Feuil2!$A$2:$V$2,0))} -> 0.06 | M20: 3 | N20: {=INDEX(Feuil2!$A$1:$V$70,MATCH($B19,Feuil2!$A$1:$A$70,0)+N19-1,MATCH($G20,Feuil2!$A$2:$V$2,0))} -> 0.06 | O20: 3 | P20: {=INDEX(Feuil2!$A$1:$V$70,MATCH($B19,Feuil2!$A$1:$A$70,0)+P19-1,MATCH($G20,Feuil2!$A$2:$V$2,0))} -> 0.06 | Q20: 3 | R20: {=INDEX(Feuil2!$A$1:$V$70,MATCH($B19,Feuil2!$A$1:$A$70,0)+R19-1,MATCH($G20,Feuil2!$A$2:$V$2,0))} -> 0.06
B22: OBJET 7 | D22: NIVEAU | F22: NIVEAU | H22: FRAGMENTS | I22: OR | J22: 1 | L22: 2
D23: ACTUEL | E23: 1 | F23: SOUHAITE | G23: 8 | H23: {=SUMPRODUCT((Feuil2!$D$1:$V$1>=$E23)*(Feuil2!$D$2:$V$2<=$G23)*(Feuil2!$D$3:$V$3))} -> 5600 | I23: {=SUMPRODUCT((Feuil2!$D$1:$V$1>=$E23)*(Feuil2!$D$2:$V$2<=$G23)*(Feuil2!$D$4:$V$4))} -> 112000 | J23: {=INDEX(Feuil2!$A$1:$V$70,MATCH($B22,Feuil2!$A$1:$A$70,0)+J22-1,MATCH($G23,Feuil2!$A$2:$V$2,0))} -> 0.16 | L23: {=INDEX(Feuil2!$A$1:$V$70,MATCH($B22,Feuil2!$A$1:$A$70,0)+L22-1,MATCH($G23,Feuil2!$A$2:$V$2,0))} -> 0.07
B25: OBJET 8 | D25: NIVEAU | F25: NIVEAU | H25: FRAGMENTS | I25: OR | J25: 1 | L25: 2
D26: ACTUEL | E26: 1 | F26: SOUHAITE | G26: 9 | H26: {=SUMPRODUCT((Feuil2!$D$1:$V$1>=$E26)*(Feuil2!$D$2:$V$2<=$G26)*(Feuil2!$D$3:$V$3))} -> 7200 | I26: {=SUMPRODUCT((Feuil2!$D$1:$V$1>=$E26)*(Feuil2!$D$2:$V$2<=$G26)*(Feuil2!$D$4:$V$4))} -> 144000 | J26: {=INDEX(Feuil2!$A$1:$V$70,MATCH($B25,Feuil2!$A$1:$A$70,0)+J25-1,MATCH($G26,Feuil2!$A$2:$V$2,0))} -> 0.17 | L26: {=INDEX(Feuil2!$A$1:$V$70,MATCH($B25,Feuil2!$A$1:$A$70,0)+L25-1,MATCH($G26,Feuil2!$A$2:$V$2,0))} -> 0.08
B28: OBJET 9 | D28: NIVEAU | F28: NIVEAU | H28: FRAGMENTS | I28: OR | J28: 1 | L28: 2
D29: ACTUEL | E29: 1 | F29: SOUHAITE | G29: 10 | H29: {=SUMPRODUCT((Feuil2!$D$1:$V$1>=$E29)*(Feuil2!$D$2:$V$2<=$G29)*(Feuil2!$D$3:$V$3))} -> 9000 | I29: {=SUMPRODUCT((Feuil2!$D$1:$V$1>=$E29)*(Feuil2!$D$2:$V$2<=$G29)*(Feuil2!$D$4:$V$4))} -> 180000 | J29: {=INDEX(Feuil2!$A$1:$V$70,MATCH($B28,Feuil2!$A$1:$A$70,0)+J28-1,MATCH($G29,Feuil2!$A$2:$V$2,0))} -> 0.18 | L29: {=INDEX(Feuil2!$A$1:$V$70,MATCH($B28,Feuil2!$A$1:$A$70,0)+L28-1,MATCH($G29,Feuil2!$A$2:$V$2,0))} -> 0.09
B31: OBJET 10 | D31: NIVEAU | F31: NIVEAU | H31: FRAGMENTS | I31: OR | J31: 1 | L31: 2
D32: ACTUEL | E32: 1 | F32: SOUHAITE | G32: 11 | H32: {=SUMPRODUCT((Feuil2!$D$1:$V$1>=$E32)*(Feuil2!$D$2:$V$2<=$G32)*(Feuil2!$D$3:$V$3))} -> 11000 | I32: {=SUMPRODUCT((Feuil2!$D$1:$V$1>=$E32)*(Feuil2!$D$2:$V$2<=$G32)*(Feuil2!$D$4:$V$4))} -> 220000 | J32: {=INDEX(Feuil2!$A$1:$V$70,MATCH($B31,Feuil2!$A$1:$A$70,0)+J31-1,MATCH($G32,Feuil2!$A$2:$V$2,0))} -> 0.19 | L32: {=INDEX(Feuil2!$A$1:$V$70,MATCH($B31,Feuil2!$A$1:$A$70,0)+L31-1,MATCH($G32,Feuil2!$A$2:$V$2,0))} -> 0.1
B34: OBJET 11 | D34: NIVEAU | F34: NIVEAU | H34: FRAGMENTS | I34: OR | J34: 1 | L34: 2
D35: ACTUEL | E35: 1 | F35: SOUHAITE | G35: 12 | H35: {=SUMPRODUCT((Feuil2!$D$1:$V$1>=$E35)*(Feuil2!$D$2:$V$2<=$G35)*(Feuil2!$D$3:$V$3))} -> 13200 | I35: {=SUMPRODUCT((Feuil2!$D$1:$V$1>=$E35)*(Feuil2!$D$2:$V$2<=$G35)*(Feuil2!$D$4:$V$4))} -> 264000 | J35: {=INDEX(Feuil2!$A$1:$V$70,MATCH($B34,Feuil2!$A$1:$A$70,0)+J34-1,MATCH($G35,Feuil2!$A$2:$V$2,0))} -> 0.2 | L35: {=INDEX(Feuil2!$A$1:$V$70,MATCH($B34,Feuil2!$A$1:$A$70,0)+L34-1,MATCH($G35,Feuil2!$A$2:$V$2,0))} -> 0.11
B37: OBJET 12 | D37: NIVEAU | F37: NIVEAU | H37: FRAGMENTS | I37: OR | J37: 1 | L37: 2
D38: ACTUEL | E38: 1 | F38: SOUHAITE | G38: 13 | H38: {=SUMPRODUCT((Feuil2!$D$1:$V$1>=$E38)*(Feuil2!$D$2:$V$2<=$G38)*(Feuil2!$D$3:$V$3))} -> 15600 | I38: {=SUMPRODUCT((Feuil2!$D$1:$V$1>=$E38)*(Feuil2!$D$2:$V$2<=$G38)*(Feuil2!$D$4:$V$4))} -> 312000 | J38: {=INDEX(Feuil2!$A$1:$V$70,MATCH($B37,Feuil2!$A$1:$A$70,0)+J37-1,MATCH($G38,Feuil2!$A$2:$V$2,0))} -> 0.21 | L38: {=INDEX(Feuil2!$A$1:$V$70,MATCH($B37,Feuil2!$A$1:$A$70,0)+L37-1,MATCH($G38,Feuil2!$A$2:$V$2,0))} -> 0.12
B40: OBJET 13 | D40: NIVEAU | F40: NIVEAU | H40: FRAGMENTS | I40: OR | J40: 1 | L40: 2
D41: ACTUEL | E41: 1 | F41: SOUHAITE | G41: 14 | H41: {=SUMPRODUCT((Feuil2!$D$1:$V$1>=$E41)*(Feuil2!$D$2:$V$2<=$G41)*(Feuil2!$D$3:$V$3))} -> 18200 | I41: {=SUMPRODUCT((Feuil2!$D$1:$V$1>=$E41)*(Feuil2!$D$2:$V$2<=$G41)*(Feuil2!$D$4:$V$4))} -> 364000 | J41: {=INDEX(Feuil2!$A$1:$V$70,MATCH($B40,Feuil2!$A$1:$A$70,0)+J40-1,MATCH($G41,Feuil2!$A$2:$V$2,0))} -> 0.22 | L41: {=INDEX(Feuil2!$A$1:$V$70,MATCH($B40,Feuil2!$A$1:$A$70,0)+L40-1,MATCH($G41,Feuil2!$A$2:$V$2,0))} -> 0.13
B43: OBJET 14 | D43: NIVEAU | F43: NIVEAU | H43: FRAGMENTS | I43: OR | J43: 1 | L43: 2
D44: ACTUEL | E44: 1 | F44: SOUHAITE | G44: 15 | H44: {=SUMPRODUCT((Feuil2!$D$1:$V$1>=$E44)*(Feuil2!$D$2:$V$2<=$G44)*(Feuil2!$D$3:$V$3))} -> 21000 | I44: {=SUMPRODUCT((Feuil2!$D$1:$V$1>=$E44)*(Feuil2!$D$2:$V$2<=$G44)*(Feuil2!$D$4:$V$4))} -> 420000 | J44: {=INDEX(Feuil2!$A$1:$V$70,MATCH($B43,Feuil2!$A$1:$A$70,0)+J43-1,MATCH($G44,Feuil2!$A$2:$V$2,0))} -> 0.23 | L44: {=INDEX(Feuil2!$A$1:$V$70,MATCH($B43,Feuil2!$A$1:$A$70,0)+L43-1,MATCH($G44,Feuil2!$A$2:$V$2,0))} -> 0.14
B46: OBJET 15 | D46: NIVEAU | F46: NIVEAU | H46: FRAGMENTS | I46: OR | J46: 1 | L46: 2
D47: ACTUEL | E47: 1 | F47: SOUHAITE | G47: 16 | H47: {=SUMPRODUCT((Feuil2!$D$1:$V$1>=$E47)*(Feuil2!$D$2:$V$2<=$G47)*(Feuil2!$D$3:$V$3))} -> 24000 | I47: {=SUMPRODUCT((Feuil2!$D$1:$V$1>=$E47)*(Feuil2!$D$2:$V$2<=$G47)*(Feuil2!$D$4:$V$4))} -> 480000 | J47: {=INDEX(Feuil2!$A$1:$V$70,MATCH($B46,Feuil2!$A$1:$A$70,0)+J46-1,MATCH($G47,Feuil2!$A$2:$V$2,0))} -> 0.24 | L47: {=INDEX(Feuil2!$A$1:$V$70,MATCH($B46,Feuil2!$A$1:$A$70,0)+L46-1,MATCH($G47,Feuil2!$A$2:$V$2,0))} -> 0.15
B49: OBJET 16 | D49: NIVEAU | F49: NIVEAU | H49: FRAGMENTS | I49: OR | J49: 1 | L49: 2
D50: ACTUEL | E50: 1 | F50: SOUHAITE | G50: 20 | H50: {=SUMPRODUCT((Feuil2!$D$1:$V$1>=$E50)*(Feuil2!$D$2:$V$2<=$G50)*(Feuil2!$D$3:$V$3))} -> 38000 | I50: {=SUMPRODUCT((Feuil2!$D$1:$V$1>=$E50)*(Feuil2!$D$2:$V$2<=$G50)*(Feuil2!$D$4:$V$4))} -> 760000 | J50: =IFERROR(INDEX(Feuil2!$A$6:$B$20,MATCH($G50,Feuil2!#REF!,0),ROW()),"") | L50: =IFERROR(INDEX(Feuil2!$A$6:$B$20,MATCH($G50,Feuil2!#REF!,0),ROW()+1),"")

Sheet Feuil2
C1: NIVEAU | D1: 1 | E1: 2 | F1: 3 | G1: 4 | H1: 5 | I1: 6 | J1: 7 | K1: 8 | L1: 9 | M1: 10 | N1: 11 | O1: 12 | P1: 13 | Q1: 14 | R1: 15 | S1: 16 | T1: 17 | U1: 18 | V1: 19
C2: NIVEAU | D2: 2 | E2: 3 | F2: 4 | G2: 5 | H2: 6 | I2: 7 | J2: 8 | K2: 9 | L2: 10 | M2: 11 | N2: 12 | O2: 13 | P2: 14 | Q2: 15 | R2: 16 | S2: 17 | T2: 18 | U2: 19 | V2: 20
C3: FRAGS | D3: 200 | E3: 400 | F3: 600 | G3: 800 | H3: 1000 | I3: 1200 | J3: 1400 | K3: 1600 | L3: 1800 | M3: 2000 | N3: 2200 | O3: 2400 | P3: 2600 | Q3: 2800 | R3: 3000 | S3: 3200 | T3: 3400 | U3: 3600 | V3: 3800
C4: GOLD | D4: 4000 | E4: 8000 | F4: 12000 | G4: 16000 | H4: 20000 | I4: 24000 | J4: 28000 | K4: 32000 | L4: 36000 | M4: 40000 | N4: 44000 | O4: 48000 | P4: 52000 | Q4: 56000 | R4: 60000 | S4: 64000 | T4: 68000 | U4: 72000 | V4: 76000
A6: OBJET 1 | B6: STATS | C6: 1 | D6: 0.1564 | E6: 0.1598 | F6: 0.03 | G6: 0.04 | H6: 0.05 | I6: 0.06 | J6: 0.07 | K6: 0.08 | L6: 0.09 | M6: 0.1 | N6: 0.11 | O6: 0.12 | P6: 0.13 | Q6: 0.14 | R6: 0.15 | S6: 0.16 | T6: 0.17 | U6: 0.18 | V6: 0.19
C7: 2 | D7: 0.1888 | E7: 0.1926 | F7: 0.03 | G7: 0.04 | H7: 0.05 | I7: 0.06 | J7: 0.07 | K7: 0.08 | L7: 0.09 | M7: 0.1 | N7: 0.11 | O7: 0.12 | P7: 0.13 | Q7: 0.14 | R7: 0.15 | S7: 0.16 | T7: 0.17 | U7: 0.18 | V7: 0.19
C8: 3 | D8: 0.2212 | E8: 0.2254 | F8: 0.03 | G8: 0.04 | H8: 0.05 | I8: 0.06 | J8: 0.07 | K8: 0.08 | L8: 0.09 | M8: 0.1 | N8: 0.11 | O8: 0.12 | P8: 0.13 | Q8: 0.14 | R8: 0.15 | S8: 0.16 | T8: 0.17 | U8: 0.18 | V8: 0.19
C9: 4 | D9: 0.2536 | E9: 0.2582 | F9: 0.03 | G9: 0.04 | H9: 0.05 | I9: 0.06 | J9: 0.07 | K9: 0.08 | L9: 0.09 | M9: 0.1 | N9: 0.11 | O9: 0.12 | P9: 0.13 | Q9: 0.14 | R9: 0.15 | S9: 0.16 | T9: 0.17 | U9: 0.18 | V9: 0.19
C10: 5 | D10: 0.286 | E10: 0.291 | F10: 0.295 | G10: 0.3 | H10: 0.304 | I10: 0.309 | J10: 0.314 | K10: 0.318 | L10: 0.323 | M10: 0.327 | N10: 0.332 | O10: 0.336 | P10: 0.341 | Q10: 0.345 | R10: 0.349 | S10: 0.354 | T10: 0.358 | U10: 0.363 | V10: 0.367
A12: OBJET 2 | B12: STATS | C12: 1 | D12: 0.01 | E12: 0.02 | F12: 0.03 | G12: 0.04 | H12: 0.05 | I12: 0.06 | J12: 0.07 | K12: 0.08 | L12: 0.09 | M12: 0.1 | N12: 0.11 | O12: 0.12 | P12: 0.13 | Q12: 0.14 | R12: 0.15 | S12: 0.16 | T12: 0.17 | U12: 0.18 | V12: 0.19
C13: 2 | D13: 0.01 | E13: 0.02 | F13: 0.03 | G13: 0.04 | H13: 0.05 | I13: 0.06 | J13: 0.07 | K13: 0.08 | L13: 0.09 | M13: 0.1 | N13: 0.11 | O13: 0.12 | P13: 0.13 | Q13: 0.14 | R13: 0.15 | S13: 0.16 | T13: 0.17 | U13: 0.18 | V13: 0.19
C14: 3 | D14: 0.01 | E14: 0.02 | F14: 0.03 | G14: 0.04 | H14: 0.05 | I14: 0.06 | J14: 0.07 | K14: 0.08 | L14: 0.09 | M14: 0.1 | N14: 0.11 | O14: 0.12 | P14: 0.13 | Q14: 0.14 | R14: 0.15 | S14: 0.16 | T14: 0.17 | U14: 0.18 | V14: 0.19
C15: 4 | D15: 0.01 | E15: 0.02 | F15: 0.03 | G15: 0.04 | H15: 0.05 | I15: 0.06 | J15: 0.07 | K15: 0.08 | L15: 0.09 | M15: 0.1 | N15: 0.11 | O15: 0.12 | P15: 0.13 | Q15: 0.14 | R15: 0.15 | S15: 0.16 | T15: 0.17 | U15: 0.18 | V15: 0.19
C16: 5 | D16: 0.01 | E16: 0.02 | F16: 0.03 | G16: 0.04 | H16: 0.05 | I16: 0.06 | J16: 0.07 | K16: 0.08 | L16: 0.09 | M16: 0.1 | N16: 0.11 | O16: 0.12 | P16: 0.13 | Q16: 0.14 | R16: 0.15 | S16: 0.16 | T16: 0.17 | U16: 0.18 | V16: 0.19
A18: OBJET 3 | B18: STATS | C18: 1 | D18: 0.01 | E18: 0.02 | F18: 0.03 | G18: 0.04 | H18: 0.05 | I18: 0.06 | J18: 0.07 | K18: 0.08 | L18: 0.09 | M18: 0.1 | N18: 0.11 | O18: 0.12 | P18: 0.13 | Q18: 0.14 | R18: 0.15 | S18: 0.16 | T18: 0.17 | U18: 0.18 | V18: 0.19
C19: 2 | D19: 0.01 | E19: 0.02 | F19: 0.03 | G19: 0.04 | H19: 0.05 | I19: 0.06 | J19: 0.07 | K19: 0.08 | L19: 0.09 | M19: 0.1 | N19: 0.11 | O19: 0.12 | P19: 0.13 | Q19: 0.14 | R19: 0.15 | S19: 0.16 | T19: 0.17 | U19: 0.18 | V19: 0.19
C20: 3 | D20: 0.01 | E20: 0.02 | F20: 0.03 | G20: 0.04 | H20: 0.05 | I20: 0.06 | J20: 0.07 | K20: 0.08 | L20: 0.09 | M20: 0.1 | N20: 0.11 | O20: 0.12 | P20: 0.13 | Q20: 0.14 | R20: 0.15 | S20: 0.16 | T20: 0.17 | U20: 0.18 | V20: 0.19
C21: 4 | D21: 0.01 | E21: 0.02 | F21: 0.03 | G21: 0.04 | H21: 0.05 | I21: 0.06 | J21: 0.07 | K21: 0.08 | L21: 0.09 | M21: 0.1 | N21: 0.11 | O21: 0.12 | P21: 0.13 | Q21: 0.14 | R21: 0.15 | S21: 0.16 | T21: 0.17 | U21: 0.18 | V21: 0.19
C22: 5 | D22: 0.01 | E22: 0.02 | F22: 0.03 | G22: 0.04 | H22: 0.05 | I22: 0.06 | J22: 0.07 | K22: 0.08 | L22: 0.09 | M22: 0.1 | N22: 0.11 | O22: 0.12 | P22: 0.13 | Q22: 0.14 | R22: 0.15 | S22: 0.16 | T22: 0.17 | U22: 0.18 | V22: 0.19
A24: OBJET 4 | B24: STATS | C24: 1 | D24: 0.01 | E24: 0.02 | F24: 0.03 | G24: 0.04 | H24: 0.05 | I24: 0.06 | J24: 0.07 | K24: 0.08 | L24: 0.09 | M24: 0.1 | N24: 0.11 | O24: 0.12 | P24: 0.13 | Q24: 0.14 | R24: 0.15 | S24: 0.16 | T24: 0.17 | U24: 0.18 | V24: 0.19
C25: 2 | D25: 0.01 | E25: 0.02 | F25: 0.03 | G25: 0.04 | H25: 0.05 | I25: 0.06 | J25: 0.07 | K25: 0.08 | L25: 0.09 | M25: 0.1 | N25: 0.11 | O25: 0.12 | P25: 0.13 | Q25: 0.14 | R25: 0.15 | S25: 0.16 | T25: 0.17 | U25: 0.18 | V25: 0.19
C26: 3 | D26: 0.01 | E26: 0.02 | F26: 0.03 | G26: 0.04 | H26: 0.05 | I26: 0.06 | J26: 0.07 | K26: 0.08 | L26: 0.09 | M26: 0.1 | N26: 0.11 | O26: 0.12 | P26: 0.13 | Q26: 0.14 | R26: 0.15 | S26: 0.16 | T26: 0.17 | U26: 0.18 | V26: 0.19
C27: 4 | D27: 0.01 | E27: 0.02 | F27: 0.03 | G27: 0.04 | H27: 0.05 | I27: 0.06 | J27: 0.07 | K27: 0.08 | L27: 0.09 | M27: 0.1 | N27: 0.11 | O27: 0.12 | P27: 0.13 | Q27: 0.14 | R27: 0.15 | S27: 0.16 | T27: 0.17 | U27: 0.18 | V27: 0.19
C28: 5 | D28: 0.01 | E28: 0.02 | F28: 0.03 | G28: 0.04 | H28: 0.05 | I28: 0.06 | J28: 0.07 | K28: 0.08 | L28: 0.09 | M28: 0.1 | N28: 0.11 | O28: 0.12 | P28: 0.13 | Q28: 0.14 | R28: 0.15 | S28: 0.16 | T28: 0.17 | U28: 0.18 | V28: 0.19
A30: OBJET 5 | B30: STATS | C30: 1 | D30: 0.01 | E30: 0.02 | F30: 0.03 | G30: 0.04 | H30: 0.05 | I30: 0.06 | J30: 0.07 | K30: 0.08 | L30: 0.09 | M30: 0.1 | N30: 0.11 | O30: 0.12 | P30: 0.13 | Q30: 0.14 | R30: 0.15 | S30: 0.16 | T30: 0.17 | U30: 0.18 | V30: 0.19
C31: 2 | D31: 0.01 | E31: 0.02 | F31: 0.03 | G31: 0.04 | H31: 0.05 | I31: 0.06 | J31: 0.07 | K31: 0.08 | L31: 0.09 | M31: 0.1 | N31: 0.11 | O31: 0.12 | P31: 0.13 | Q31: 0.14 | R31: 0.15 | S31: 0.16 | T31: 0.17 | U31: 0.18 | V31: 0.19
C32: 3 | D32: 0.01 | E32: 0.02 | F32: 0.03 | G32: 0.04 | H32: 0.05 | I32: 0.06 | J32: 0.07 | K32: 0.08 | L32: 0.09 | M32: 0.1 | N32: 0.11 | O32: 0.12 | P32: 0.13 | Q32: 0.14 | R32: 0.15 | S32: 0.16 | T32: 0.17 | U32: 0.18 | V32: 0.19
C33: 4 | D33: 0.01 | E33: 0.02 | F33: 0.03 | G33: 0.04 | H33: 0.05 | I33: 0.06 | J33: 0.07 | K33: 0.08 | L33: 0.09 | M33: 0.1 | N33: 0.11 | O33: 0.12 | P33: 0.13 | Q33: 0.14 | R33: 0.15 | S33: 0.16 | T33: 0.17 | U33: 0.18 | V33: 0.19
C34: 5 | D34: 0.01 | E34: 0.02 | F34: 0.03 | G34: 0.04 | H34: 0.05 | I34: 0.06 | J34: 0.07 | K34: 0.08 | L34: 0.09 | M34: 0.1 | N34: 0.11 | O34: 0.12 | P34: 0.13 | Q34: 0.14 | R34: 0.15 | S34: 0.16 | T34: 0.17 | U34: 0.18 | V34: 0.19
A36: OBJET 6 | B36: STATS | C36: 1 | D36: 0.01 | E36: 0.02 | F36: 0.03 | G36: 0.04 | H36: 0.05 | I36: 0.06 | J36: 0.07 | K36: 0.08 | L36: 0.09 | M36: 0.1 | N36: 0.11 | O36: 0.12 | P36: 0.13 | Q36: 0.14 | R36: 0.15 | S36: 0.16 | T36: 0.17 | U36: 0.18 | V36: 0.19
C37: 2 | D37: 0.01 | E37: 0.02 | F37: 0.03 | G37: 0.04 | H37: 0.05 | I37: 0.06 | J37: 0.07 | K37: 0.08 | L37: 0.09 | M37: 0.1 | N37: 0.11 | O37: 0.12 | P37: 0.13 | Q37: 0.14 | R37: 0.15 | S37: 0.16 | T37: 0.17 | U37: 0.18 | V37: 0.19
C38: 3 | D38: 0.01 | E38: 0.02 | F38: 0.03 | G38: 0.04 | H38: 0.05 | I38: 0.06 | J38: 0.07 | K38: 0.08 | L38: 0.09 | M38: 0.1 | N38: 0.11 | O38: 0.12 | P38: 0.13 | Q38: 0.14 | R38: 0.15 | S38: 0.16 | T38: 0.17 | U38: 0.18 | V38: 0.19
C39: 4 | D39: 0.01 | E39: 0.02 | F39: 0.03 | G39: 0.04 | H39: 0.05 | I39: 0.06 | J39: 0.07 | K39: 0.08 | L39: 0.09 | M39: 0.1 | N39: 0.11 | O39: 0.12 | P39: 0.13 | Q39: 0.14 | R39: 0.15 | S39: 0.16 | T39: 0.17 | U39: 0.18 | V39: 0.19
C40: 5 | D40: 0.01 | E40: 0.02 | F40: 0.03 | G40: 0.04 | H40: 0.05 | I40: 0.06 | J40: 0.07 | K40: 0.08 | L40: 0.09 | M40: 0.1 | N40: 0.11 | O40: 0.12 | P40: 0.13 | Q40: 0.14 | R40: 0.15 | S40: 0.16 | T40: 0.17 | U40: 0.18 | V40: 0.19
A42: OBJET 7 | B42: STATS | C42: 1 | D42: 0.1 | E42: 0.11 | F42: 0.12 | G42: 0.13 | H42: 0.14 | I42: 0.15 | J42: 0.16 | K42: 0.17 | L42: 0.18 | M42: 0.19 | N42: 0.2 | O42: 0.21 | P42: 0.22 | Q42: 0.23 | R42: 0.24 | S42: 0.25 | T42: 0.26 | U42: 0.27 | V42: 0.28
C43: 2 | D43: 0.01 | E43: 0.02 | F43: 0.03 | G43: 0.04 | H43: 0.05 | I43: 0.06 | J43: 0.07 | K43: 0.08 | L43: 0.09 | M43: 0.1 | N43: 0.11 | O43: 0.12 | P43: 0.13 | Q43: 0.14 | R43: 0.15 | S43: 0.16 | T43: 0.17 | U43: 0.18 | V43: 0.19
A45: OBJET 8 | B45: STATS | C45: 1 | D45: 0.1 | E45: 0.11 | F45: 0.12 | G45: 0.13 | H45: 0.14 | I45: 0.15 | J45: 0.16 | K45: 0.17 | L45: 0.18 | M45: 0.19 | N45: 0.2 | O45: 0.21 | P45: 0.22 | Q45: 0.23 | R45: 0.24 | S45: 0.25 | T45: 0.26 | U45: 0.27 | V45: 0.28
C46: 2 | D46: 0.01 | E46: 0.02 | F46: 0.03 | G46: 0.04 | H46: 0.05 | I46: 0.06 | J46: 0.07 | K46: 0.08 | L46: 0.09 | M46: 0.1 | N46: 0.11 | O46: 0.12 | P46: 0.13 | Q46: 0.14 | R46: 0.15 | S46: 0.16 | T46: 0.17 | U46: 0.18 | V46: 0.19
A48: OBJET 9 | B48: STATS | C48: 1 | D48: 0.1 | E48: 0.11 | F48: 0.12 | G48: 0.13 | H48: 0.14 | I48: 0.15 | J48: 0.16 | K48: 0.17 | L48: 0.18 | M48: 0.19 | N48: 0.2 | O48: 0.21 | P48: 0.22 | Q48: 0.23 | R48: 0.24 | S48: 0.25 | T48: 0.26 | U48: 0.27 | V48: 0.28
C49: 2 | D49: 0.01 | E49: 0.02 | F49: 0.03 | G49: 0.04 | H49: 0.05 | I49: 0.06 | J49: 0.07 | K49: 0.08 | L49: 0.09 | M49: 0.1 | N49: 0.11 | O49: 0.12 | P49: 0.13 | Q49: 0.14 | R49: 0.15 | S49: 0.16 | T49: 0.17 | U49: 0.18 | V49: 0.19
...

Sheet Feuil3
