Workbook

Sheet Feuil1
B4: OBJET 1 | D4: NIVEAU | F4: NIVEAU | H4: FRAGMENTS | I4: OR | J4: STAT 1 | K4: STAT 2
D5: ACTUEL | E5: 6 | F5: SOUHAITE | G5: 10 | H5: 6000 | I5: 118000 | J5: {=IFERROR(INDEX(Feuil2!$C$4:$AC$23,MATCH($G5,Feuil2!$C$4:$C$23,0),ROW()),"")} -> 0.075 | K5: {=IFERROR(INDEX(Feuil2!$C$4:$AC$23,MATCH($G5,Feuil2!$C$4:$C$23,0),ROW()+1),"")} -> 0.11
B7: OBJET 2 | D7: NIVEAU | F7: NIVEAU | H7: FRAGMENTS | I7: OR | J7: STAT 1 | K7: STAT 2
D8: ACTUEL | E8: 1 | F8: SOUHAITE | G8: 5 | J8: {=IFERROR(INDEX(Feuil2!$C$4:$AC$23,MATCH($G8,Feuil2!$C$4:$C$23,0),ROW()),"")} -> 0.03 | K8: {=IFERROR(INDEX(Feuil2!$C$4:$AC$23,MATCH($G8,Feuil2!$C$4:$C$23,0),ROW()+1),"")} -> 0.08
B10: OBJET 3 | D10: NIVEAU | F10: NIVEAU | H10: FRAGMENTS | I10: OR | J10: STAT 1 | K10: STAT 2
D11: ACTUEL | E11: 2 | F11: SOUHAITE | G11: 4 | J11: {=IFERROR(INDEX(Feuil2!$C$4:$AC$23,MATCH($G11,Feuil2!$C$4:$C$23,0),ROW()),"")} -> 0.04 | K11: {=IFERROR(INDEX(Feuil2!$C$4:$AC$23,MATCH($G11,Feuil2!$C$4:$C$23,0),ROW()+1),"")} -> 0.09
B13: OBJET 4 | D13: NIVEAU | F13: NIVEAU | H13: FRAGMENTS | I13: OR | J13: STAT 1 | K13: STAT 2
D14: ACTUEL | F14: SOUHAITE | J14: {=IFERROR(INDEX(Feuil2!$C$4:$AC$23,MATCH($G14,Feuil2!$C$4:$C$23,0),ROW()),"")} | K14: {=IFERROR(INDEX(Feuil2!$C$4:$AC$23,MATCH($G14,Feuil2!$C$4:$C$23,0),ROW()+1),"")}
B16: OBJET 5 | D16: NIVEAU | F16: NIVEAU | H16: FRAGMENTS | I16: OR | J16: STAT 1 | K16: STAT 2
D17: ACTUEL | F17: SOUHAITE | J17: {=IFERROR(INDEX(Feuil2!$C$4:$AC$23,MATCH($G17,Feuil2!$C$4:$C$23,0),ROW()),"")} | K17: {=IFERROR(INDEX(Feuil2!$C$4:$AC$23,MATCH($G17,Feuil2!$C$4:$C$23,0),ROW()+1),"")}
B19: OBJET 6 | D19: NIVEAU | F19: NIVEAU | H19: FRAGMENTS | I19: OR | J19: STAT 1 | K19: STAT 2
D20: ACTUEL | F20: SOUHAITE | J20: {=IFERROR(INDEX(Feuil2!$C$4:$AC$23,MATCH($G20,Feuil2!$C$4:$C$23,0),ROW()),"")} | K20: {=IFERROR(INDEX(Feuil2!$C$4:$AC$23,MATCH($G20,Feuil2!$C$4:$C$23,0),ROW()+1),"")}
B22: OBJET 7 | D22: NIVEAU | F22: NIVEAU | H22: FRAGMENTS | I22: OR | J22: STAT 1 | K22: STAT 2
D23: ACTUEL | F23: SOUHAITE | J23: {=IFERROR(INDEX(Feuil2!$C$4:$AC$23,MATCH($G23,Feuil2!$C$4:$C$23,0),ROW()),"")} | K23: {=IFERROR(INDEX(Feuil2!$C$4:$AC$23,MATCH($G23,Feuil2!$C$4:$C$23,0),ROW()+1),"")}
B25: OBJET 8 | D25: NIVEAU | F25: NIVEAU | H25: FRAGMENTS | I25: OR | J25: STAT 1 | K25: STAT 2
D26: ACTUEL | F26: SOUHAITE | J26: {=IFERROR(INDEX(Feuil2!$C$4:$AC$23,MATCH($G26,Feuil2!$C$4:$C$23,0),ROW()),"")} | K26: {=IFERROR(INDEX(Feuil2!$C$4:$AC$23,MATCH($G26,Feuil2!$C$4:$C$23,0),ROW()+1),"")}
B28: OBJET 9 | D28: NIVEAU | F28: NIVEAU | H28: FRAGMENTS | I28: OR | J28: STAT 1 | K28: STAT 2
D29: ACTUEL | F29: SOUHAITE | G29: 10 | J29: {=IFERROR(INDEX(Feuil2!$C$26:$AC$45,MATCH($G29,Feuil2!$C$26:$C$45,0),ROW()-24),"")} -> 0.075 | K29: {=IFERROR(INDEX(Feuil2!$C$26:$AC$45,MATCH($G29,Feuil2!$C$26:$C$45,0),ROW()-24+1),"")} -> 0.11
B31: OBJET 10 | D31: NIVEAU | F31: NIVEAU | H31: FRAGMENTS | I31: OR | J31: STAT 1 | K31: STAT 2
D32: ACTUEL | F32: SOUHAITE | G32: 5 | J32: {=IFERROR(INDEX(Feuil2!$C$26:$AC$45,MATCH($G32,Feuil2!$C$26:$C$45,0),ROW()-24),"")} -> 0.03 | K32: {=IFERROR(INDEX(Feuil2!$C$26:$AC$45,MATCH($G32,Feuil2!$C$26:$C$45,0),ROW()-24+1),"")} -> 0.08
B34: OBJET 11 | D34: NIVEAU | F34: NIVEAU | H34: FRAGMENTS | I34: OR | J34: STAT 1 | K34: STAT 2
D35: ACTUEL | F35: SOUHAITE | G35: 3 | J35: {=IFERROR(INDEX(Feuil2!$C$26:$AC$45,MATCH($G35,Feuil2!$C$26:$C$45,0),ROW()-24),"")} -> 0.04 | K35: {=IFERROR(INDEX(Feuil2!$C$26:$AC$45,MATCH($G35,Feuil2!$C$26:$C$45,0),ROW()-24+1),"")} -> 0.09
B37: OBJET 12 | D37: NIVEAU | F37: NIVEAU | H37: FRAGMENTS | I37: OR | J37: STAT 1 | K37: STAT 2
D38: ACTUEL | F38: SOUHAITE | J38: {=IFERROR(INDEX(Feuil2!$C$26:$AC$45,MATCH($G38,Feuil2!$C$26:$C$45,0),ROW()-24),"")} | K38: {=IFERROR(INDEX(Feuil2!$C$26:$AC$45,MATCH($G38,Feuil2!$C$26:$C$45,0),ROW()-24+1),"")}
B40: OBJET 13 | D40: NIVEAU | F40: NIVEAU | H40: FRAGMENTS | I40: OR | J40: STAT 1 | K40: STAT 2
D41: ACTUEL | F41: SOUHAITE | J41: {=IFERROR(INDEX(Feuil2!$C$26:$AC$45,MATCH($G41,Feuil2!$C$26:$C$45,0),ROW()-24),"")} | K41: {=IFERROR(INDEX(Feuil2!$C$26:$AC$45,MATCH($G41,Feuil2!$C$26:$C$45,0),ROW()-24+1),"")}
B43: OBJET 14 | D43: NIVEAU | F43: NIVEAU | H43: FRAGMENTS | I43: OR | J43: STAT 1 | K43: STAT 2
D44: ACTUEL | F44: SOUHAITE | J44: {=IFERROR(INDEX(Feuil2!$C$26:$AC$45,MATCH($G44,Feuil2!$C$26:$C$45,0),ROW()-24),"")} | K44: {=IFERROR(INDEX(Feuil2!$C$26:$AC$45,MATCH($G44,Feuil2!$C$26:$C$45,0),ROW()-24+1),"")}
B46: OBJET 15 | D46: NIVEAU | F46: NIVEAU | H46: FRAGMENTS | I46: OR | J46: STAT 1 | K46: STAT 2
D47: ACTUEL | F47: SOUHAITE | J47: {=IFERROR(INDEX(Feuil2!$C$26:$AC$45,MATCH($G47,Feuil2!$C$26:$C$45,0),ROW()-24),"")} | K47: {=IFERROR(INDEX(Feuil2!$C$26:$AC$45,MATCH($G47,Feuil2!$C$26:$C$45,0),ROW()-24+1),"")}
B49: OBJET 16 | D49: NIVEAU | F49: NIVEAU | H49: FRAGMENTS | I49: OR | J49: STAT 1 | K49: STAT 2
D50: ACTUEL | F50: SOUHAITE | J50: {=IFERROR(INDEX(Feuil2!$C$26:$AC$45,MATCH($G50,Feuil2!$C$26:$C$45,0),ROW()-24),"")} | K50: {=IFERROR(INDEX(Feuil2!$C$26:$AC$45,MATCH($G50,Feuil2!$C$26:$C$45,0),ROW()-24+1),"")}

Sheet Feuil2
B3: OBJETS 1 A 16 | G3: OBJET 1 | J3: OBJET 2 | M3: OBJET 3 | P3: OBJET 4 | S3: OBJET 5 | V3: OBJET 6 | Y3: OBJET 7 | AB3: OBJET 8
B4: NIVEAU | C4: NIVEAU | D4: FRAGMENTS | E4: GOLD | G4: STAT 1 | H4: STAT 2 | J4: STAT 1 | K4: STAT 2 | M4: STAT 1 | N4: STAT 2 | P4: STAT 1 | Q4: STAT 2 | S4: STAT 1 | T4: STAT 2 | V4: STAT 1 | W4: STAT 2 | Y4: STAT 1 | Z4: STAT 2 | AB4: STAT 1 | AC4: STAT 2
B5: 1 | C5: 2 | D5: 200 | E5: 4000 | G5: 0.025 | H5: 0.07 | J5: 0.03 | K5: 0.08 | M5: 0.04 | N5: 0.09
B6: 2 | C6: 3 | D6: 400 | E6: 8000 | G6: 0.03 | H6: 0.075 | J6: 0.03 | K6: 0.08 | M6: 0.04 | N6: 0.09
B7: 3 | C7: 4 | D7: 600 | E7: 12000 | G7: 0.035 | H7: 0.08 | J7: 0.03 | K7: 0.08 | M7: 0.04 | N7: 0.09
B8: 4 | C8: 5 | D8: 800 | E8: 16000 | G8: 0.04 | H8: 0.085 | J8: 0.03 | K8: 0.08 | M8: 0.04 | N8: 0.09
B9: 5 | C9: 6 | D9: 1000 | E9: 20000 | G9: 0.045 | H9: 0.09 | J9: 0.03 | K9: 0.08 | M9: 0.04 | N9: 0.09
B10: 6 | C10: 7 | D10: 1200 | E10: 24000 | G10: 0.06 | H10: 0.095 | J10: 0.03 | K10: 0.08 | M10: 0.04 | N10: 0.09
B11: 7 | C11: 8 | D11: 1400 | E11: 28000 | G11: 0.065 | H11: 0.1 | J11: 0.03 | K11: 0.08 | M11: 0.04 | N11: 0.09
B12: 8 | C12: 9 | D12: 1600 | E12: 32000 | G12: 0.07 | H12: 0.105 | J12: 0.03 | K12: 0.08 | M12: 0.04 | N12: 0.09
B13: 9 | C13: 10 | D13: 1800 | E13: 36000 | G13: 0.075 | H13: 0.11 | J13: 0.03 | K13: 0.08 | M13: 0.04 | N13: 0.09
B14: 10 | C14: 11 | D14: 2000 | E14: 40000 | G14: 0.08 | H14: 0.115 | J14: 0.03 | K14: 0.08 | M14: 0.04 | N14: 0.09
B15: 11 | C15: 12 | D15: 2200 | E15: 44000 | G15: 0.085 | H15: 0.12 | J15: 0.03 | K15: 0.08 | M15: 0.04 | N15: 0.09
B16: 12 | C16: 13 | D16: 2400 | E16: 48000 | G16: 0.09 | H16: 0.125 | J16: 0.03 | K16: 0.08 | M16: 0.04 | N16: 0.09
... B23: 19 | C23: 20 | D23: 3800 | E23: 76000 | G23: 0.125 | H23: 0.16 | J23: 0.03 | K23: 0.08 | M23: 0.04 | N23: 0.09
G25: OBJET 9 | J25: OBJET 10 | M25: OBJET 11 | P25: OBJET 12 | S25: OBJET 13 | V25: OBJET 14 | Y25: OBJET 15 | AB25: OBJET 16
B26: NIVEAU | C26: NIVEAU | D26: FRAGMENTS | E26: GOLD | G26: STAT 1 | H26: STAT 2 | J26: STAT 1 | K26: STAT 2 | M26: STAT 1 | N26: STAT 2 | P26: STAT 1 | Q26: STAT 2 | S26: STAT 1 | T26: STAT 2 | V26: STAT 1 | W26: STAT 2 | Y26: STAT 1 | Z26: STAT 2 | AB26: STAT 1 | AC26: STAT 2
B27: 1 | C27: 2 | D27: 200 | E27: 4000 | G27: 0.025 | H27: 0.07 | J27: 0.03 | K27: 0.08 | M27: 0.04 | N27: 0.09
B28: 2 | C28: 3 | D28: 400 | E28: 8000 | G28: 0.03 | H28: 0.075 | J28: 0.03 | K28: 0.08 | M28: 0.04 | N28: 0.09
B29: 3 | C29: 4 | D29: 600 | E29: 12000 | G29: 0.035 | H29: 0.08 | J29: 0.03 | K29: 0.08 | M29: 0.04 | N29: 0.09
B30: 4 | C30: 5 | D30: 800 | E30: 16000 | G30: 0.04 | H30: 0.085 | J30: 0.03 | K30: 0.08 | M30: 0.04 | N30: 0.09
B31: 5 | C31: 6 | D31: 1000 | E31: 20000 | G31: 0.045 | H31: 0.09 | J31: 0.03 | K31: 0.08 | M31: 0.04 | N31: 0.09
B32: 6 | C32: 7 | D32: 1200 | E32: 24000 | G32: 0.06 | H32: 0.095 | J32: 0.03 | K32: 0.08 | M32: 0.04 | N32: 0.09
B33: 7 | C33: 8 | D33: 1400 | E33: 28000 | G33: 0.065 | H33: 0.1 | J33: 0.03 | K33: 0.08 | M33: 0.04 | N33: 0.09
B34: 8 | C34: 9 | D34: 1600 | E34: 32000 | G34: 0.07 | H34: 0.105 | J34: 0.03 | K34: 0.08 | M34: 0.04 | N34: 0.09
B35: 9 | C35: 10 | D35: 1800 | E35: 36000 | G35: 0.075 | H35: 0.11 | J35: 0.03 | K35: 0.08 | M35: 0.04 | N35: 0.09
B36: 10 | C36: 11 | D36: 2000 | E36: 40000 | G36: 0.08 | H36: 0.115 | J36: 0.03 | K36: 0.08 | M36: 0.04 | N36: 0.09
B37: 11 | C37: 12 | D37: 2200 | E37: 44000 | G37: 0.085 | H37: 0.12 | J37: 0.03 | K37: 0.08 | M37: 0.04 | N37: 0.09
B38: 12 | C38: 13 | D38: 2400 | E38: 48000 | G38: 0.09 | H38: 0.125 | J38: 0.03 | K38: 0.08 | M38: 0.04 | N38: 0.09
... B45: 19 | C45: 20 | D45: 3800 | E45: 76000 | G45: 0.125 | H45: 0.16 | J45: 0.03 | K45: 0.08 | M45: 0.04 | N45: 0.09

Sheet Feuil3
