Workbook

Sheet M1 A
A1: CATEGORY: CA | AT1: LISTE EQUIPE
A2: Name | B2: Time | C2: Start | D2: Stop | E2: Team | F2: Player | G2: R | H2: R FG | I2: E | X2: JEU & SYSTEMES | AH2: nbre d'actions et masquer pour comptabiliser la renta tot sur plusieurs matchs | AT2: ASVEL FEM.
AT3: BASKET LANDES
A4: CATEGORY: P1 | AT4: BLMA
A5: Name | B5: Time | C5: Start | D5: Stop | E5: Team | F5: Player | G5: R | H5: R FG | I5: E | X5: CALLS | Y5: TYPE | AA5: NBRE O | AB5: % JOUE | AC5: FG made | AD5: EFF. | AE5: R | AF5: E | AH5: reprendre la MFC EFF main tableau ??? | AT5: CHARNAY BBS
A6: P1 001 | B6: 0.0019859838 | C6: 0.0018239468 | D6: 0.0020091319 | G6: 0 | H6: 1 | I6: 0 | Y6: CA | AA6: =IF((COUNTIF($A$1:$A$986,"*CA *"))<0,"0",(COUNTIF($A$1:$A$986,"*CA *"))) -> 0 | AB6: =IF($AC$35=0,"",(AA6)/$AC$35) -> 0 | AC6: =(SUMIFS($H$1:$H$986,$A$1:$A$986,"*CA *")) -> 0 | AD6: =IFERROR(SUM(AE6+AF6)/SUM(AE6+AF6+#REF!+#REF!),"-") -> - | AE6: =(SUMIFS($G$1:$G$986,$A$1:$A$986,"*CA *")) -> 0 | AF6: =(SUMIFS($I$1:$I$986,$A$1:$A$986,"*CA *")) -> 0 | AT6: CHARTRES BF
A7: P1 002 | B7: 0.0020084954 | C7: 0.0018464583 | D7: 0.0020316435 | G7: 0 | H7: 1 | I7: 0 | Y7: TRANSI | AA7: =IF((COUNTIF($A$1:$A$986,"*TRANSI*")-1)<0,"0",(COUNTIF($A$1:$A$986,"*TRANSI*")-1)) -> 5 | AB7: =IF($AC$35=0,"",(AA7)/$AC$35) -> 0.83333333 | AC7: =(SUMIFS($H$1:$H$986,$A$1:$A$986,"*TRANSI *")) -> 1 | AD7: =IFERROR(SUM(AC7+AE7)/SUM(AC7+AE7+AF7),"-") -> 0.6 | AE7: =(SUMIFS($G$1:$G$986,$A$1:$A$986,"*TRANSI *")) -> 2 | AF7: =SUMIFS($I$1:$I$986,$A$1:$A$986,"*TRANSI*") -> 2 | AT7: ESBVA
A8: P1 003 | B8: 0.002092338 | C8: 0.0019303009 | D8: 0.0021154861 | G8: 0 | H8: 0 | I8: 1 | Y8: JL | AA8: =IF((COUNTIF($A$1:$A$986,"*JL*")-1)<0,"0",(COUNTIF($A$1:$A$986,"*JL*")-1)) -> 0 | AB8: =IF($AC$35=0,"",(AA8)/$AC$35) -> 0 | AC8: =(SUMIFS($H$1:$H$986,$A$1:$A$986,"*JL *")) -> 0 | AD8: =IFERROR(SUM(AE8+AF8)/SUM(AE8+AF8+#REF!+#REF!),"-") -> - | AE8: =(SUMIFS($G$1:$G$986,$A$1:$A$986,"*JL *")) -> 0 | AF8: =(SUMIFS($I$1:$I$986,$A$1:$A$986,"*JL *")) -> 0 | AT8: FCB
A9: P1 004 | B9: 0.0021117361 | C9: 0.0019496991 | D9: 0.0021348843 | G9: 0 | H9: 0 | I9: 1 | Y9: PICKS SPLES | AA9: =IF((COUNTIF($A$1:$A$986,"*PS*")-1)<0,"0",(COUNTIF($A$1:$A$986,"*PS*")-1)) -> 0 | AB9: =IF($AC$35=0,"",(AA9)/$AC$35) -> 0 | AC9: =(SUMIFS($H$1:$H$986,$A$1:$A$986,"*PS *")) -> 0 | AD9: =IFERROR(SUM(AE9+AF9)/SUM(AE9+AF9+#REF!+#REF!),"-") -> - | AE9: =(SUMIFS($G$1:$G$986,$A$1:$A$986,"*PS *")) -> 0 | AF9: =(SUMIFS($I$1:$I$986,$A$1:$A$986,"*PS *")) -> 0 | AT9: LANDERNEAU BB
A10: P1 005 | B10: 0.0021311343 | C10: 0.0019690972 | D10: 0.0021542824 | G10: 0 | H10: 0 | I10: 1 | Y10: P1 | AA10: =IF((COUNTIF($A$1:$A$986,"*P1 *"))<0,"0",(COUNTIF($A$1:$A$986,"*P1 *"))) -> 5 | AB10: =IF($AC$35=0,"",(AA10)/$AC$35) -> 0.83333333 | AC10: =(SUMIFS($H$1:$H$986,$A$1:$A$986,"*P1 *")) -> 2 | AD10: =IFERROR((SUM(AC10+AE10))/SUM(AC10+AE10+AF10),"-") -> 0.4 | AE10: =(SUMIFS($G$1:$G$986,$A$1:$A$986,"*P1 *")) -> 0 | AF10: =(SUMIFS($I$1:$I$986,$A$1:$A$986,"*P1 *")) -> 3 | AT10: RVBC
Y11: P2 | AA11: =IF((COUNTIF($A$1:$A$986,"*P2*")-1)<0,"0",(COUNTIF($A$1:$A$986,"*P2*")-1)) -> 0 | AB11: =IF($AC$35=0,"",(AA11)/$AC$35) -> 0 | AC11: =(SUMIFS($H$1:$H$986,$A$1:$A$986,"*P2 *")) -> 0 | AD11: =IFERROR(SUM(AE11+AF11)/SUM(AE11+AF11+#REF!+#REF!),"-") -> - | AE11: =(SUMIFS($G$1:$G$986,$A$1:$A$986,"*P2 *")) -> 0 | AF11: =(SUMIFS($I$1:$I$986,$A$1:$A$986,"*P2 *")) -> 0 | AT11: TANGO BOURGES
A12: CATEGORY: P2 | Y12: P3 | AA12: =IF((COUNTIF($A$1:$A$986,"*P3*")-1)<0,"0",(COUNTIF($A$1:$A$986,"*P3*")-1)) -> 0 | AB12: =IF($AC$35=0,"",(AA12)/$AC$35) -> 0 | AC12: =(SUMIFS($H$1:$H$986,$A$1:$A$986,"*P3 *")) -> 0 | AD12: =IFERROR(SUM(AE12+AF12)/SUM(AE12+AF12+#REF!+#REF!),"-") -> - | AE12: =(SUMIFS($G$1:$G$986,$A$1:$A$986,"*P3 *")) -> 0 | AF12: =(SUMIFS($I$1:$I$986,$A$1:$A$986,"*P3 *")) -> 0 | AT12: TGB
A13: Name | B13: Time | C13: Start | D13: Stop | E13: Team | F13: Player | G13: R | H13: R FG | I13: E | Y13: P4 | AA13: =IF((COUNTIF($A$1:$A$986,"*P4*")-1)<0,"0",(COUNTIF($A$1:$A$986,"*P4*")-1)) -> 0 | AB13: =IF($AC$35=0,"",(AA13)/$AC$35) -> 0 | AC13: =(SUMIFS($H$1:$H$986,$A$1:$A$986,"*P4 *")) -> 0 | AD13: =IFERROR(SUM(AE13+AF13)/SUM(AE13+AF13+#REF!+#REF!),"-") -> - | AE13: =(SUMIFS($G$1:$G$986,$A$1:$A$986,"*P4 *")) -> 0 | AF13: =(SUMIFS($I$1:$I$986,$A$1:$A$986,"*P4 *")) -> 0 | AT13: UFAB 49
Y14: P5 | AA14: =IF((COUNTIF($A$1:$A$986,"*P5*")-1)<0,"0",(COUNTIF($A$1:$A$986,"*P5*")-1)) -> 0 | AB14: =IF($AC$35=0,"",(AA14)/$AC$35) -> 0 | AC14: =(SUMIFS($H$1:$H$986,$A$1:$A$986,"*P5 *")) -> 0 | AD14: =IFERROR(SUM(AE14+AF14)/SUM(AE14+AF14+#REF!+#REF!),"-") -> - | AE14: =(SUMIFS($G$1:$G$986,$A$1:$A$986,"*P5 *")) -> 0 | AF14: =(SUMIFS($I$1:$I$986,$A$1:$A$986,"*P5 *")) -> 0
A15: CATEGORY: P3 | Y15: P6 | AA15: =IF((COUNTIF($A$1:$A$986,"*P6*")-1)<0,"0",(COUNTIF($A$1:$A$986,"*P6*")-1)) -> 0 | AB15: =IF($AC$35=0,"",(AA15)/$AC$35) -> 0 | AC15: =(SUMIFS($H$1:$H$986,$A$1:$A$986,"*P6 *")) -> 0 | AD15: =IFERROR(SUM(AE15+AF15)/SUM(AE15+AF15+#REF!+#REF!),"-") -> - | AE15: =(SUMIFS($G$1:$G$986,$A$1:$A$986,"*P6 *")) -> 0 | AF15: =(SUMIFS($I$1:$I$986,$A$1:$A$986,"*P6 *")) -> 0
A16: Name | B16: Time | C16: Start | D16: Stop | E16: Team | F16: Player | G16: R | H16: R FG | I16: E | Y16: P7 | AA16: =IF((COUNTIF($A$1:$A$986,"*P7*")-1)<0,"0",(COUNTIF($A$1:$A$986,"*P7*")-1)) -> 0 | AB16: =IF($AC$35=0,"",(AA16)/$AC$35) -> 0 | AC16: =(SUMIFS($H$1:$H$986,$A$1:$A$986,"*P7 *")) -> 0 | AD16: =IFERROR(SUM(AE16+AF16)/SUM(AE16+AF16+#REF!+#REF!),"-") -> - | AE16: =(SUMIFS($G$1:$G$986,$A$1:$A$986,"*P7 *")) -> 0 | AF16: =(SUMIFS($I$1:$I$986,$A$1:$A$986,"*P7 *")) -> 0
Y17: P8 | AA17: =IF((COUNTIF($A$1:$A$986,"*P8*")-1)<0,"0",(COUNTIF($A$1:$A$986,"*P8*")-1)) -> 0 | AB17: =IF($AC$35=0,"",(AA17)/$AC$35) -> 0 | AC17: =(SUMIFS($H$1:$H$986,$A$1:$A$986,"*P8 *")) -> 0 | AD17: =IFERROR(SUM(AE17+AF17)/SUM(AE17+AF17+#REF!+#REF!),"-") -> - | AE17: =(SUMIFS($G$1:$G$986,$A$1:$A$986,"*P8 *")) -> 0 | AF17: =(SUMIFS($I$1:$I$986,$A$1:$A$986,"*P8 *")) -> 0
A18: CATEGORY: P4 | Y18: P9 | AA18: =IF((COUNTIF($A$1:$A$986,"*P9*")-1)<0,"0",(COUNTIF($A$1:$A$986,"*P9*")-1)) -> 0 | AB18: =IF($AC$35=0,"",(AA18)/$AC$35) -> 0 | AC18: =(SUMIFS($H$1:$H$986,$A$1:$A$986,"*P9 *")) -> 0 | AD18: =IFERROR(SUM(AE18+AF18)/SUM(AE18+AF18+#REF!+#REF!),"-") -> - | AE18: =(SUMIFS($G$1:$G$986,$A$1:$A$986,"*P9 *")) -> 0 | AF18: =(SUMIFS($I$1:$I$986,$A$1:$A$986,"*P9 *")) -> 0
A19: Name | B19: Time | C19: Start | D19: Stop | E19: Team | F19: Player | G19: R | H19: R FG | I19: E | Y19: P10 | AA19: =IF((COUNTIF($A$1:$A$986,"*P10*")-1)<0,"0",(COUNTIF($A$1:$A$986,"*P10*")-1)) -> 0 | AB19: =IF($AC$35=0,"",(AA19)/$AC$35) -> 0 | AC19: =(SUMIFS($H$1:$H$986,$A$1:$A$986,"*P10 *")) -> 0 | AD19: =IFERROR(SUM(AE19+AF19)/SUM(AE19+AF19+#REF!+#REF!),"-") -> - | AE19: =(SUMIFS($G$1:$G$986,$A$1:$A$986,"*P10 *")) -> 0 | AF19: =(SUMIFS($I$1:$I$986,$A$1:$A$986,"*P10 *")) -> 0
Y20: P11 | AA20: =IF((COUNTIF($A$1:$A$986,"*P11*")-1)<0,"0",(COUNTIF($A$1:$A$986,"*P11*")-1)) -> 0 | AB20: =IF($AC$35=0,"",(AA20)/$AC$35) -> 0 | AC20: =(SUMIFS($H$1:$H$986,$A$1:$A$986,"*P11 *")) -> 0 | AD20: =IFERROR(SUM(AE20+AF20)/SUM(AE20+AF20+#REF!+#REF!),"-") -> - | AE20: =(SUMIFS($G$1:$G$986,$A$1:$A$986,"*P11 *")) -> 0 | AF20: =(SUMIFS($I$1:$I$986,$A$1:$A$986,"*P11 *")) -> 0
A21: CATEGORY: P5 | Y21: P12 | AA21: =IF((COUNTIF($A$1:$A$986,"*P12*")-1)<0,"0",(COUNTIF($A$1:$A$986,"*P12*")-1)) -> 0 | AB21: =IF($AC$35=0,"",(AA21)/$AC$35) -> 0 | AC21: =(SUMIFS($H$1:$H$986,$A$1:$A$986,"*P12 *")) -> 0 | AD21: =IFERROR(SUM(AE21+AF21)/SUM(AE21+AF21+#REF!+#REF!),"-") -> - | AE21: =(SUMIFS($G$1:$G$986,$A$1:$A$986,"*P12 *")) -> 0 | AF21: =(SUMIFS($I$1:$I$986,$A$1:$A$986,"*P12 *")) -> 0
A22: Name | B22: Time | C22: Start | D22: Stop | E22: Team | F22: Player | G22: R | H22: R FG | I22: E | Y22: P13 | AA22: =IF((COUNTIF($A$1:$A$986,"*P13*")-1)<0,"0",(COUNTIF($A$1:$A$986,"*P13*")-1)) -> 0 | AB22: =IF($AC$35=0,"",(AA22)/$AC$35) -> 0 | AC22: =(SUMIFS($H$1:$H$986,$A$1:$A$986,"*P13 *")) -> 0 | AD22: =IFERROR(SUM(AE22+AF22)/SUM(AE22+AF22+#REF!+#REF!),"-") -> - | AE22: =(SUMIFS($G$1:$G$986,$A$1:$A$986,"*P13 *")) -> 0 | AF22: =(SUMIFS($I$1:$I$986,$A$1:$A$986,"*P13 *")) -> 0
Y23: P14 | AA23: =IF((COUNTIF($A$1:$A$986,"*P14*")-1)<0,"0",(COUNTIF($A$1:$A$986,"*P14*")-1)) -> 0 | AB23: =IF($AC$35=0,"",(AA23)/$AC$35) -> 0 | AC23: =(SUMIFS($H$1:$H$986,$A$1:$A$986,"*P14 *")) -> 0 | AD23: =IFERROR(SUM(AE23+AF23)/SUM(AE23+AF23+#REF!+#REF!),"-") -> - | AE23: =(SUMIFS($G$1:$G$986,$A$1:$A$986,"*P14 *")) -> 0 | AF23: =(SUMIFS($I$1:$I$986,$A$1:$A$986,"*P14 *")) -> 0
A24: CATEGORY: P6 | Y24: P15 | AA24: =IF((COUNTIF($A$1:$A$986,"*P15*")-1)<0,"0",(COUNTIF($A$1:$A$986,"*P15*")-1)) -> 0 | AB24: =IF($AC$35=0,"",(AA24)/$AC$35) -> 0 | AC24: =(SUMIFS($H$1:$H$986,$A$1:$A$986,"*P15 *")) -> 0 | AD24: =IFERROR(SUM(AE24+AF24)/SUM(AE24+AF24+#REF!+#REF!),"-") -> - | AE24: =(SUMIFS($G$1:$G$986,$A$1:$A$986,"*P15 *")) -> 0 | AF24: =(SUMIFS($I$1:$I$986,$A$1:$A$986,"*P15 *")) -> 0
A25: Name | B25: Time | C25: Start | D25: Stop | E25: Team | F25: Player | G25: R | H25: R FG | I25: E | Y25: P16 | AA25: =IF((COUNTIF($A$1:$A$986,"*P16*")-1)<0,"0",(COUNTIF($A$1:$A$986,"*P16*")-1)) -> 0 | AB25: =IF($AC$35=0,"",(AA25)/$AC$35) -> 0 | AC25: =(SUMIFS($H$1:$H$986,$A$1:$A$986,"*P16 *")) -> 0 | AD25: =IFERROR(SUM(AE25+AF25)/SUM(AE25+AF25+#REF!+#REF!),"-") -> - | AE25: =(SUMIFS($G$1:$G$986,$A$1:$A$986,"*P16 *")) -> 0 | AF25: =(SUMIFS($I$1:$I$986,$A$1:$A$986,"*P16 *")) -> 0
Y26: SPANISH | AA26: =IF((COUNTIF($A$1:$A$986,"*SPANISH*")-1)<0,"0",(COUNTIF($A$1:$A$986,"*SPANISH*")-1)) -> 0 | AB26: =IF($AC$35=0,"",(AA26)/$AC$35) -> 0 | AC26: =(SUMIFS($H$1:$H$986,$A$1:$A$986,"*SPANISH *")) -> 0 | AD26: =IFERROR(SUM(AE26+AF26)/SUM(AE26+AF26+#REF!+#REF!),"-") -> - | AE26: =(SUMIFS($G$1:$G$986,$A$1:$A$986,"*SPANISH *")) -> 0 | AF26: =(SUMIFS($I$1:$I$986,$A$1:$A$986,"*SPANISH *")) -> 0
A27: CATEGORY: P7 | Y27: DIVERS | AA27: =IF((COUNTIF($A$1:$A$986,"*DIVERS*")-1)<0,"0",(COUNTIF($A$1:$A$986,"*DIVERS*")-1)) -> 0 | AB27: =IF($AC$35=0,"",(AA27)/$AC$35) -> 0 | AC27: =(SUMIFS($H$1:$H$986,$A$1:$A$986,"*DIVERS *")) -> 0 | AD27: =IFERROR(SUM(AE27+AF27)/SUM(AE27+AF27+#REF!+#REF!),"-") -> - | AE27: =(SUMIFS($G$1:$G$986,$A$1:$A$986,"*DIVERS *")) -> 0 | AF27: =(SUMIFS($I$1:$I$986,$A$1:$A$986,"*DIVERS *")) -> 0
A28: Name | B28: Time | C28: Start | D28: Stop | E28: Team | F28: Player | G28: R | H28: R FG | I28: E | Y28: BLOBS | AA28: =IF((COUNTIF($A$1:$A$986,"*BLOBS*")-1)<0,"0",(COUNTIF($A$1:$A$986,"*BLOBS*")-1)) -> 0 | AB28: =IF($AC$35=0,"",(AA28)/$AC$35) -> 0 | AC28: =(SUMIFS($H$1:$H$986,$A$1:$A$986,"*BLOBS *")) -> 0 | AD28: =IFERROR(SUM(AE28+AF28)/SUM(AE28+AF28+#REF!+#REF!),"-") -> - | AE28: =(SUMIFS($G$1:$G$986,$A$1:$A$986,"*BLOBS *")) -> 0 | AF28: =(SUMIFS($I$1:$I$986,$A$1:$A$986,"*BLOBS *")) -> 0
Y29: SLOBS | AA29: =IF((COUNTIF($A$1:$A$986,"*SLOBS*")-1)<0,"0",(COUNTIF($A$1:$A$986,"*SLOBS*")-1)) -> 0 | AB29: =IF($AC$35=0,"",(AA29)/$AC$35) -> 0 | AC29: =(SUMIFS($H$1:$H$986,$A$1:$A$986,"*SLOBS *")) -> 0 | AD29: =IFERROR(SUM(AE29+AF29)/SUM(AE29+AF29+#REF!+#REF!),"-") -> - | AE29: =(SUMIFS($G$1:$G$986,$A$1:$A$986,"*SLOBS *")) -> 0 | AF29: =(SUMIFS($I$1:$I$986,$A$1:$A$986,"*SLOBS *")) -> 0
A30: CATEGORY: P8 | Y30: ZONE 1 | AA30: =IF((COUNTIF($A$1:$A$986,"*Z OFF 1*")-1)<0,"0",(COUNTIF($A$1:$A$986,"*Z OFF 1*")-1)) -> 0 | AB30: =IF($AC$35=0,"",(AA30)/$AC$35) -> 0 | AC30: =(SUMIFS($H$1:$H$986,$A$1:$A$986,"*Z OFF 1 *")) -> 0 | AD30: =IFERROR(SUM(AE30+AF30)/SUM(AE30+AF30+#REF!+#REF!),"-") -> - | AE30: =(SUMIFS($G$1:$G$986,$A$1:$A$986,"*Z OFF 1 *")) -> 0 | AF30: =(SUMIFS($I$1:$I$986,$A$1:$A$986,"*Z OFF 1 *")) -> 0
A31: Name | B31: Time | C31: Start | D31: Stop | E31: Team | F31: Player | G31: R | H31: R FG | I31: E | Y31: ZONE 2 | AA31: =IF((COUNTIF($A$1:$A$986,"*Z OFF 2*")-1)<0,"0",(COUNTIF($A$1:$A$986,"*Z OFF 2*")-1)) -> 0 | AB31: =IF($AC$35=0,"",(AA31)/$AC$35) -> 0 | AC31: =(SUMIFS($H$1:$H$986,$A$1:$A$986,"*Z OFF 2 *")) -> 0 | AD31: =IFERROR(SUM(AE31+AF31)/SUM(AE31+AF31+#REF!+#REF!),"-") -> - | AE31: =(SUMIFS($G$1:$G$986,$A$1:$A$986,"*Z OFF 2 *")) -> 0 | AF31: =(SUMIFS($I$1:$I$986,$A$1:$A$986,"*Z OFF 2 *")) -> 0
X32: TOTAL | AC32: FG made | AD32: FG % | AE32: R % | AF32: E %
A33: CATEGORY: P9 | AC33: =SUM(AC6:AC31) -> 3 | AD33: =AC33/AC35 -> 0.5 | AE33: =(SUM(AE6:AE31))/AC35 -> 0.33333333 | AF33: =(SUM(AF6:AF31))/AC35 -> 0.83333333
A34: Name | B34: Time | C34: Start | D34: Stop | E34: Team | F34: Player | G34: R | H34: R FG | I34: E | AB34: NBRE O | AC34: PTS | AD34: RENTABILITE
AB35: =SUM(AA6:AA31) -> 10 | AC35: 6 | AD35: PPO | AF35: =IFERROR((AC35/AB35),"-") -> 0.6
A36: CATEGORY: P10
A37: Name | B37: Time | C37: Start | D37: Stop | E37: Team | F37: Player | G37: R | H37: R FG | I37: E | AD37: RATIO ACTIONS + | AF37: =((SUM(AE6:AE31)+AC33))/(SUM(AE6:AE31)+(SUM(AF6:AF31)+AC33)) -> 0.5
A39: CATEGORY: P11 | AB39: PNR OFFENSIFS 1/2 TERRAIN
A40: Name | B40: Time | C40: Start | D40: Stop | E40: Team | F40: Player | G40: R | H40: R FG | I40: E
A42: CATEGORY: P12 | X42: LEFT OFF | Y42: MID OFF | AB42: RIGHT OFF | AD42: EFFICACITE OFF SELON COUVERTURES DEF
...

Sheet M2 A
X2: JEU & SYSTEMES
X5: CALLS | Y5: TYPE | AA5: NBRE O | AB5: % JOUE | AC5: FG made | AD5: EFF. | AE5: R | AF5: E
Y6: CA | AA6: =IF((COUNTIF($A$1:$A$986,"*CA *"))<0,"0",(COUNTIF($A$1:$A$986,"*CA *"))) -> 0 | AB6: =IF($AC$35=0,"",(AA6)/$AC$35) | AC6: =(SUMIFS($H$1:$H$986,$A$1:$A$986,"*CA *")) -> 0 | AD6: =IFERROR(SUM(AE6+AF6)/SUM(AE6+AF6+#REF!+#REF!),"-") -> - | AE6: =(SUMIFS($G$1:$G$986,$A$1:$A$986,"*CA *")) -> 0 | AF6: =(SUMIFS($I$1:$I$986,$A$1:$A$986,"*CA *")) -> 0
Y7: TRANSI | AA7: =IF((COUNTIF($A$1:$A$986,"*TRANSI*")-1)<0,"0",(COUNTIF($A$1:$A$986,"*TRANSI*")-1)) -> 0 | AB7: =IF($AC$35=0,"",(AA7)/$AC$35) | AC7: =(SUMIFS($H$1:$H$986,$A$1:$A$986,"*TRANSI *")) -> 0 | AD7: =IFERROR(SUM(AC7+AE7)/SUM(AC7+AE7+AF7),"-") -> - | AE7: =(SUMIFS($G$1:$G$986,$A$1:$A$986,"*TRANSI *")) -> 0 | AF7: =SUMIFS($I$1:$I$986,$A$1:$A$986,"*TRANSI*") -> 0
Y8: JL | AA8: =IF((COUNTIF($A$1:$A$986,"*JL*")-1)<0,"0",(COUNTIF($A$1:$A$986,"*JL*")-1)) -> 0 | AB8: =IF($AC$35=0,"",(AA8)/$AC$35) | AC8: =(SUMIFS($H$1:$H$986,$A$1:$A$986,"*JL *")) -> 0 | AD8: =IFERROR(SUM(AE8+AF8)/SUM(AE8+AF8+#REF!+#REF!),"-") -> - | AE8: =(SUMIFS($G$1:$G$986,$A$1:$A$986,"*JL *")) -> 0 | AF8: =(SUMIFS($I$1:$I$986,$A$1:$A$986,"*JL *")) -> 0
Y9: PICKS SPLES | AA9: =IF((COUNTIF($A$1:$A$986,"*PS*")-1)<0,"0",(COUNTIF($A$1:$A$986,"*PS*")-1)) -> 0 | AB9: =IF($AC$35=0,"",(AA9)/$AC$35) | AC9: =(SUMIFS($H$1:$H$986,$A$1:$A$986,"*PS *")) -> 0 | AD9: =IFERROR(SUM(AE9+AF9)/SUM(AE9+AF9+#REF!+#REF!),"-") -> - | AE9: =(SUMIFS($G$1:$G$986,$A$1:$A$986,"*PS *")) -> 0 | AF9: =(SUMIFS($I$1:$I$986,$A$1:$A$986,"*PS *")) -> 0
Y10: P1 | AA10: =IF((COUNTIF($A$1:$A$986,"*P1 *"))<0,"0",(COUNTIF($A$1:$A$986,"*P1 *"))) -> 0 | AB10: =IF($AC$35=0,"",(AA10)/$AC$35) | AC10: =(SUMIFS($H$1:$H$986,$A$1:$A$986,"*P1 *")) -> 0 | AD10: =IFERROR((SUM(AC10+AE10))/SUM(AC10+AE10+AF10),"-") -> - | AE10: =(SUMIFS($G$1:$G$986,$A$1:$A$986,"*P1 *")) -> 0 | AF10: =(SUMIFS($I$1:$I$986,$A$1:$A$986,"*P1 *")) -> 0
Y11: P2 | AA11: =IF((COUNTIF($A$1:$A$986,"*P2*")-1)<0,"0",(COUNTIF($A$1:$A$986,"*P2*")-1)) -> 0 | AB11: =IF($AC$35=0,"",(AA11)/$AC$35) | AC11: =(SUMIFS($H$1:$H$986,$A$1:$A$986,"*P2 *")) -> 0 | AD11: =IFERROR(SUM(AE11+AF11)/SUM(AE11+AF11+#REF!+#REF!),"-") -> - | AE11: =(SUMIFS($G$1:$G$986,$A$1:$A$986,"*P2 *")) -> 0 | AF11: =(SUMIFS($I$1:$I$986,$A$1:$A$986,"*P2 *")) -> 0
Y12: P3 | AA12: =IF((COUNTIF($A$1:$A$986,"*P3*")-1)<0,"0",(COUNTIF($A$1:$A$986,"*P3*")-1)) -> 0 | AB12: =IF($AC$35=0,"",(AA12)/$AC$35) | AC12: =(SUMIFS($H$1:$H$986,$A$1:$A$986,"*P3 *")) -> 0 | AD12: =IFERROR(SUM(AE12+AF12)/SUM(AE12+AF12+#REF!+#REF!),"-") -> - | AE12: =(SUMIFS($G$1:$G$986,$A$1:$A$986,"*P3 *")) -> 0 | AF12: =(SUMIFS($I$1:$I$986,$A$1:$A$986,"*P3 *")) -> 0
Y13: P4 | AA13: =IF((COUNTIF($A$1:$A$986,"*P4*")-1)<0,"0",(COUNTIF($A$1:$A$986,"*P4*")-1)) -> 0 | AB13: =IF($AC$35=0,"",(AA13)/$AC$35) | AC13: =(SUMIFS($H$1:$H$986,$A$1:$A$986,"*P4 *")) -> 0 | AD13: =IFERROR(SUM(AE13+AF13)/SUM(AE13+AF13+#REF!+#REF!),"-") -> - | AE13: =(SUMIFS($G$1:$G$986,$A$1:$A$986,"*P4 *")) -> 0 | AF13: =(SUMIFS($I$1:$I$986,$A$1:$A$986,"*P4 *")) -> 0
Y14: P5 | AA14: =IF((COUNTIF($A$1:$A$986,"*P5*")-1)<0,"0",(COUNTIF($A$1:$A$986,"*P5*")-1)) -> 0 | AB14: =IF($AC$35=0,"",(AA14)/$AC$35) | AC14: =(SUMIFS($H$1:$H$986,$A$1:$A$986,"*P5 *")) -> 0 | AD14: =IFERROR(SUM(AE14+AF14)/SUM(AE14+AF14+#REF!+#REF!),"-") -> - | AE14: =(SUMIFS($G$1:$G$986,$A$1:$A$986,"*P5 *")) -> 0 | AF14: =(SUMIFS($I$1:$I$986,$A$1:$A$986,"*P5 *")) -> 0
Y15: P6 | AA15: =IF((COUNTIF($A$1:$A$986,"*P6*")-1)<0,"0",(COUNTIF($A$1:$A$986,"*P6*")-1)) -> 0 | AB15: =IF($AC$35=0,"",(AA15)/$AC$35) | AC15: =(SUMIFS($H$1:$H$986,$A$1:$A$986,"*P6 *")) -> 0 | AD15: =IFERROR(SUM(AE15+AF15)/SUM(AE15+AF15+#REF!+#REF!),"-") -> - | AE15: =(SUMIFS($G$1:$G$986,$A$1:$A$986,"*P6 *")) -> 0 | AF15: =(SUMIFS($I$1:$I$986,$A$1:$A$986,"*P6 *")) -> 0
Y16: P7 | AA16: =IF((COUNTIF($A$1:$A$986,"*P7*")-1)<0,"0",(COUNTIF($A$1:$A$986,"*P7*")-1)) -> 0 | AB16: =IF($AC$35=0,"",(AA16)/$AC$35) | AC16: =(SUMIFS($H$1:$H$986,$A$1:$A$986,"*P7 *")) -> 0 | AD16: =IFERROR(SUM(AE16+AF16)/SUM(AE16+AF16+#REF!+#REF!),"-") -> - | AE16: =(SUMIFS($G$1:$G$986,$A$1:$A$986,"*P7 *")) -> 0 | AF16: =(SUMIFS($I$1:$I$986,$A$1:$A$986,"*P7 *")) -> 0
Y17: P8 | AA17: =IF((COUNTIF($A$1:$A$986,"*P8*")-1)<0,"0",(COUNTIF($A$1:$A$986,"*P8*")-1)) -> 0 | AB17: =IF($AC$35=0,"",(AA17)/$AC$35) | AC17: =(SUMIFS($H$1:$H$986,$A$1:$A$986,"*P8 *")) -> 0 | AD17: =IFERROR(SUM(AE17+AF17)/SUM(AE17+AF17+#REF!+#REF!),"-") -> - | AE17: =(SUMIFS($G$1:$G$986,$A$1:$A$986,"*P8 *")) -> 0 | AF17: =(SUMIFS($I$1:$I$986,$A$1:$A$986,"*P8 *")) -> 0
Y18: P9 | AA18: =IF((COUNTIF($A$1:$A$986,"*P9*")-1)<0,"0",(COUNTIF($A$1:$A$986,"*P9*")-1)) -> 0 | AB18: =IF($AC$35=0,"",(AA18)/$AC$35) | AC18: =(SUMIFS($H$1:$H$986,$A$1:$A$986,"*P9 *")) -> 0 | AD18: =IFERROR(SUM(AE18+AF18)/SUM(AE18+AF18+#REF!+#REF!),"-") -> - | AE18: =(SUMIFS($G$1:$G$986,$A$1:$A$986,"*P9 *")) -> 0 | AF18: =(SUMIFS($I$1:$I$986,$A$1:$A$986,"*P9 *")) -> 0
Y19: P10 | AA19: =IF((COUNTIF($A$1:$A$986,"*P10*")-1)<0,"0",(COUNTIF($A$1:$A$986,"*P10*")-1)) -> 0 | AB19: =IF($AC$35=0,"",(AA19)/$AC$35) | AC19: =(SUMIFS($H$1:$H$986,$A$1:$A$986,"*P10 *")) -> 0 | AD19: =IFERROR(SUM(AE19+AF19)/SUM(AE19+AF19+#REF!+#REF!),"-") -> - | AE19: =(SUMIFS($G$1:$G$986,$A$1:$A$986,"*P10 *")) -> 0 | AF19: =(SUMIFS($I$1:$I$986,$A$1:$A$986,"*P10 *")) -> 0
Y20: P11 | AA20: =IF((COUNTIF($A$1:$A$986,"*P11*")-1)<0,"0",(COUNTIF($A$1:$A$986,"*P11*")-1)) -> 0 | AB20: =IF($AC$35=0,"",(AA20)/$AC$35) | AC20: =(SUMIFS($H$1:$H$986,$A$1:$A$986,"*P11 *")) -> 0 | AD20: =IFERROR(SUM(AE20+AF20)/SUM(AE20+AF20+#REF!+#REF!),"-") -> - | AE20: =(SUMIFS($G$1:$G$986,$A$1:$A$986,"*P11 *")) -> 0 | AF20: =(SUMIFS($I$1:$I$986,$A$1:$A$986,"*P11 *")) -> 0
Y21: P12 | AA21: =IF((COUNTIF($A$1:$A$986,"*P12*")-1)<0,"0",(COUNTIF($A$1:$A$986,"*P12*")-1)) -> 0 | AB21: =IF($AC$35=0,"",(AA21)/$AC$35) | AC21: =(SUMIFS($H$1:$H$986,$A$1:$A$986,"*P12 *")) -> 0 | AD21: =IFERROR(SUM(AE21+AF21)/SUM(AE21+AF21+#REF!+#REF!),"-") -> - | AE21: =(SUMIFS($G$1:$G$986,$A$1:$A$986,"*P12 *")) -> 0 | AF21: =(SUMIFS($I$1:$I$986,$A$1:$A$986,"*P12 *")) -> 0
Y22: P13 | AA22: =IF((COUNTIF($A$1:$A$986,"*P13*")-1)<0,"0",(COUNTIF($A$1:$A$986,"*P13*")-1)) -> 0 | AB22: =IF($AC$35=0,"",(AA22)/$AC$35) | AC22: =(SUMIFS($H$1:$H$986,$A$1:$A$986,"*P13 *")) -> 0 | AD22: =IFERROR(SUM(AE22+AF22)/SUM(AE22+AF22+#REF!+#REF!),"-") -> - | AE22: =(SUMIFS($G$1:$G$986,$A$1:$A$986,"*P13 *")) -> 0 | AF22: =(SUMIFS($I$1:$I$986,$A$1:$A$986,"*P13 *")) -> 0
Y23: P14 | AA23: =IF((COUNTIF($A$1:$A$986,"*P14*")-1)<0,"0",(COUNTIF($A$1:$A$986,"*P14*")-1)) -> 0 | AB23: =IF($AC$35=0,"",(AA23)/$AC$35) | AC23: =(SUMIFS($H$1:$H$986,$A$1:$A$986,"*P14 *")) -> 0 | AD23: =IFERROR(SUM(AE23+AF23)/SUM(AE23+AF23+#REF!+#REF!),"-") -> - | AE23: =(SUMIFS($G$1:$G$986,$A$1:$A$986,"*P14 *")) -> 0 | AF23: =(SUMIFS($I$1:$I$986,$A$1:$A$986,"*P14 *")) -> 0
Y24: P15 | AA24: =IF((COUNTIF($A$1:$A$986,"*P15*")-1)<0,"0",(COUNTIF($A$1:$A$986,"*P15*")-1)) -> 0 | AB24: =IF($AC$35=0,"",(AA24)/$AC$35) | AC24: =(SUMIFS($H$1:$H$986,$A$1:$A$986,"*P15 *")) -> 0 | AD24: =IFERROR(SUM(AE24+AF24)/SUM(AE24+AF24+#REF!+#REF!),"-") -> - | AE24: =(SUMIFS($G$1:$G$986,$A$1:$A$986,"*P15 *")) -> 0 | AF24: =(SUMIFS($I$1:$I$986,$A$1:$A$986,"*P15 *")) -> 0
Y25: P16 | AA25: =IF((COUNTIF($A$1:$A$986,"*P16*")-1)<0,"0",(COUNTIF($A$1:$A$986,"*P16*")-1)) -> 0 | AB25: =IF($AC$35=0,"",(AA25)/$AC$35) | AC25: =(SUMIFS($H$1:$H$986,$A$1:$A$986,"*P16 *")) -> 0 | AD25: =IFERROR(SUM(AE25+AF25)/SUM(AE25+AF25+#REF!+#REF!),"-") -> - | AE25: =(SUMIFS($G$1:$G$986,$A$1:$A$986,"*P16 *")) -> 0 | AF25: =(SUMIFS($I$1:$I$986,$A$1:$A$986,"*P16 *")) -> 0
Y26: SPANISH | AA26: =IF((COUNTIF($A$1:$A$986,"*SPANISH*")-1)<0,"0",(COUNTIF($A$1:$A$986,"*SPANISH*")-1)) -> 0 | AB26: =IF($AC$35=0,"",(AA26)/$AC$35) | AC26: =(SUMIFS($H$1:$H$986,$A$1:$A$986,"*SPANISH *")) -> 0 | AD26: =IFERROR(SUM(AE26+AF26)/SUM(AE26+AF26+#REF!+#REF!),"-") -> - | AE26: =(SUMIFS($G$1:$G$986,$A$1:$A$986,"*SPANISH *")) -> 0 | AF26: =(SUMIFS($I$1:$I$986,$A$1:$A$986,"*SPANISH *")) -> 0
Y27: DIVERS | AA27: =IF((COUNTIF($A$1:$A$986,"*DIVERS*")-1)<0,"0",(COUNTIF($A$1:$A$986,"*DIVERS*")-1)) -> 0 | AB27: =IF($AC$35=0,"",(AA27)/$AC$35) | AC27: =(SUMIFS($H$1:$H$986,$A$1:$A$986,"*DIVERS *")) -> 0 | AD27: =IFERROR(SUM(AE27+AF27)/SUM(AE27+AF27+#REF!+#REF!),"-") -> - | AE27: =(SUMIFS($G$1:$G$986,$A$1:$A$986,"*DIVERS *")) -> 0 | AF27: =(SUMIFS($I$1:$I$986,$A$1:$A$986,"*DIVERS *")) -> 0
Y28: BLOBS | AA28: =IF((COUNTIF($A$1:$A$986,"*BLOBS*")-1)<0,"0",(COUNTIF($A$1:$A$986,"*BLOBS*")-1)) -> 0 | AB28: =IF($AC$35=0,"",(AA28)/$AC$35) | AC28: =(SUMIFS($H$1:$H$986,$A$1:$A$986,"*BLOBS *")) -> 0 | AD28: =IFERROR(SUM(AE28+AF28)/SUM(AE28+AF28+#REF!+#REF!),"-") -> - | AE28: =(SUMIFS($G$1:$G$986,$A$1:$A$986,"*BLOBS *")) -> 0 | AF28: =(SUMIFS($I$1:$I$986,$A$1:$A$986,"*BLOBS *")) -> 0
Y29: SLOBS | AA29: =IF((COUNTIF($A$1:$A$986,"*SLOBS*")-1)<0,"0",(COUNTIF($A$1:$A$986,"*SLOBS*")-1)) -> 0 | AB29: =IF($AC$35=0,"",(AA29)/$AC$35) | AC29: =(SUMIFS($H$1:$H$986,$A$1:$A$986,"*SLOBS *")) -> 0 | AD29: =IFERROR(SUM(AE29+AF29)/SUM(AE29+AF29+#REF!+#REF!),"-") -> - | AE29: =(SUMIFS($G$1:$G$986,$A$1:$A$986,"*SLOBS *")) -> 0 | AF29: =(SUMIFS($I$1:$I$986,$A$1:$A$986,"*SLOBS *")) -> 0
Y30: ZONE 1 | AA30: =IF((COUNTIF($A$1:$A$986,"*Z OFF 1*")-1)<0,"0",(COUNTIF($A$1:$A$986,"*Z OFF 1*")-1)) -> 0 | AB30: =IF($AC$35=0,"",(AA30)/$AC$35) | AC30: =(SUMIFS($H$1:$H$986,$A$1:$A$986,"*Z OFF 1 *")) -> 0 | AD30: =IFERROR(SUM(AE30+AF30)/SUM(AE30+AF30+#REF!+#REF!),"-") -> - | AE30: =(SUMIFS($G$1:$G$986,$A$1:$A$986,"*Z OFF 1 *")) -> 0 | AF30: =(SUMIFS($I$1:$I$986,$A$1:$A$986,"*Z OFF 1 *")) -> 0
Y31: ZONE 2 | AA31: =IF((COUNTIF($A$1:$A$986,"*Z OFF 2*")-1)<0,"0",(COUNTIF($A$1:$A$986,"*Z OFF 2*")-1)) -> 0 | AB31: =IF($AC$35=0,"",(AA31)/$AC$35) | AC31: =(SUMIFS($H$1:$H$986,$A$1:$A$986,"*Z OFF 2 *")) -> 0 | AD31: =IFERROR(SUM(AE31+AF31)/SUM(AE31+AF31+#REF!+#REF!),"-") -> - | AE31: =(SUMIFS($G$1:$G$986,$A$1:$A$986,"*Z OFF 2 *")) -> 0 | AF31: =(SUMIFS($I$1:$I$986,$A$1:$A$986,"*Z OFF 2 *")) -> 0
X32: TOTAL | AC32: FG made | AD32: FG % | AE32: R % | AF32: E %
AC33: =SUM(AC6:AC31) -> 0 | AD33: =IFERROR((AC33/AC35),"-") -> - | AE33: =IFERROR(((SUM(AE6:AE31))/AC35),"-") -> - | AF33: =IFERROR(((SUM(AF6:AF31))/AC35),"-") -> -
AC34: NBRE O | AE34: PTS | AF34: RENTABILITE
AC35: =SUM(AA6:AA31) -> 0 | AF35: PPO | AH35: =IFERROR((AE35/AC35),"-") -> -
AF37: RATIO ACTIONS + | AH37: =IFERROR(((SUM(AE6:AE31)+AC33))/(SUM(AE6:AE31)+(SUM(AF6:AF31)+AC33)),"-") -> -
X39: PNR OFFENSIFS 1/2 TERRAIN
X42: LEFT | Y42: MID | AB42: RIGHT | AD42: EFFICACITE OFF SELON COUVERTURES DEF
X43: =((SUMIFS($G$1:$G$814,$A$1:$A$814,"*LEFT OFF *"))+(SUMIFS($I$1:$I$814,$A$1:$A$814,"*LEFT OFF *"))+(SUMIFS($K$1:$K$814,$A$1:$A$814,"*LEFT OFF *"))+(SUMIFS($M$1:$M$814,$A$1:$A$814,"*LEFT OFF *"))+(SUMIFS($O$1:$O$814,$A$1:$A$814,"*LEFT OFF *"))+(SUMIFS($Q$1:$Q$814,$A$1:$A$814,"*LEFT OFF *")))/(X52) -> #DIV/0! | Y43: =((SUMIFS($G$1:$G$814,$A$1:$A$814,"*MID OFF *"))+(SUMIFS($I$1:$I$814,$A$1:$A$814,"*MID OFF *"))+(SUMIFS($K$1:$K$814,$A$1:$A$814,"*MID OFF *"))+(SUMIFS($M$1:$M$814,$A$1:$A$814,"*MID OFF *"))+(SUMIFS($O$1:$O$814,$A$1:$A$814,"*MID OFF *"))+(SUMIFS($Q$1:$Q$814,$A$1:$A$814,"*MID OFF *")))/(Y52) -> #DIV/0! | AB43: =((SUMIFS($G$1:$G$814,$A$1:$A$814,"*RIGHT OFF *"))+(SUMIFS($I$1:$I$814,$A$1:$A$814,"*RIGHT OFF *"))+(SUMIFS($K$1:$K$814,$A$1:$A$814,"*RIGHT OFF *"))+(SUMIFS($M$1:$M$814,$A$1:$A$814,"*RIGHT OFF *"))+(SUMIFS($O$1:$O$814,$A$1:$A$814,"*RIGHT OFF *"))+(SUMIFS($Q$1:$Q$814,$A$1:$A$814,"*RIGHT OFF *")))/(AB52) -> #DIV/0! | AE43: SIDE | AH43: MID
AE44: B | AF44: TOT | AG44: % B | AH44: B | AI44: TOT | AJ44: % B
AD45: UNDER | AE45: =((SUMIFS($G$1:$G$814,$A$1:$A$814,"*RIGHT OFF *")+SUMIFS($G$1:$G$814,$A$1:$A$814,"*LEFT OFF *"))) -> 0 | AF45: =((AE45)+SUMIFS($H$1:$H$814,$A$1:$A$814,"*RIGHT OFF *")+SUMIFS($H$1:$H$814,$A$1:$A$814,"*LEFT OFF *")) -> 0 | AG45: =IFERROR((AE45/AF45),"-") -> - | AH45: =SUMIFS($G$1:$G$814,$A$1:$A$814,"*MID OFF *") -> 0 | AI45: =(AH45)+(SUMIFS($H$1:$H$814,$A$1:$A$814,"*MID OFF *")) -> 0 | AJ45: =IFERROR((AH45/AI45),"-") -> -
AD46: PROTECT | AE46: =((SUMIFS($I$1:$I$814,$A$1:$A$814,"*RIGHT OFF *")+SUMIFS($I$1:$I$814,$A$1:$A$814,"*LEFT OFF *"))) -> 0 | AF46: =((AE46)+SUMIFS($J$1:$J$814,$A$1:$A$814,"*RIGHT OFF *")+SUMIFS($J$1:$J$814,$A$1:$A$814,"*LEFT OFF *")) -> 0 | AG46: =IFERROR((AE46/AF46),"-") -> - | AH46: =SUMIFS($I$1:$I$814,$A$1:$A$814,"*MID OFF *") -> 0 | AI46: =(AH46)+(SUMIFS($J$1:$J$814,$A$1:$A$814,"*MID OFF *")) -> 0 | AJ46: =IFERROR((AH46/AI46),"-") -> -
X47: ACTIONS BENEFIQUES | Y47: ACTIONS BENEFIQUES | AB47: ACTIONS BENEFIQUES | AD47: AGRESSIVE | AE47: =((SUMIFS($K$1:$K$814,$A$1:$A$814,"*RIGHT OFF *")+SUMIFS($K$1:$K$814,$A$1:$A$814,"*LEFT OFF *"))) -> 0 | AF47: =((AE47)+SUMIFS($L$1:$L$814,$A$1:$A$814,"*RIGHT OFF *")+SUMIFS($L$1:$L$814,$A$1:$A$814,"*LEFT OFF *")) -> 0 | AG47: =IFERROR((AE47/AF47),"-") -> - | AH47: =SUMIFS($K$1:$K$814,$A$1:$A$814,"*MID OFF *") -> 0 | AI47: =(AH47)+(SUMIFS($L$1:$L$814,$A$1:$A$814,"*MID OFF *")) -> 0 | AJ47: =IFERROR((AH47/AI47),"-") -> -
...

Sheet M3 A
X2: JEU & SYSTEMES
X5: CALLS | Y5: TYPE | AA5: NBRE O | AB5: % JOUE | AC5: FG made | AD5: EFF. | AE5: R | AF5: E
Y6: CA | AA6: =IF((COUNTIF($A$1:$A$986,"*CA *"))<0,"0",(COUNTIF($A$1:$A$986,"*CA *"))) -> 0 | AB6: =IF($AC$35=0,"",(AA6)/$AC$35) | AC6: =(SUMIFS($H$1:$H$986,$A$1:$A$986,"*CA *")) -> 0 | AD6: =IFERROR(SUM(AE6+AF6)/SUM(AE6+AF6+#REF!+#REF!),"-") -> - | AE6: =(SUMIFS($G$1:$G$986,$A$1:$A$986,"*CA *")) -> 0 | AF6: =(SUMIFS($I$1:$I$986,$A$1:$A$986,"*CA *")) -> 0
Y7: TRANSI | AA7: =IF((COUNTIF($A$1:$A$986,"*TRANSI*")-1)<0,"0",(COUNTIF($A$1:$A$986,"*TRANSI*")-1)) -> 0 | AB7: =IF($AC$35=0,"",(AA7)/$AC$35) | AC7: =(SUMIFS($H$1:$H$986,$A$1:$A$986,"*TRANSI *")) -> 0 | AD7: =IFERROR(SUM(AC7+AE7)/SUM(AC7+AE7+AF7),"-") -> - | AE7: =(SUMIFS($G$1:$G$986,$A$1:$A$986,"*TRANSI *")) -> 0 | AF7: =SUMIFS($I$1:$I$986,$A$1:$A$986,"*TRANSI*") -> 0
Y8: JL | AA8: =IF((COUNTIF($A$1:$A$986,"*JL*")-1)<0,"0",(COUNTIF($A$1:$A$986,"*JL*")-1)) -> 0 | AB8: =IF($AC$35=0,"",(AA8)/$AC$35) | AC8: =(SUMIFS($H$1:$H$986,$A$1:$A$986,"*JL *")) -> 0 | AD8: =IFERROR(SUM(AE8+AF8)/SUM(AE8+AF8+#REF!+#REF!),"-") -> - | AE8: =(SUMIFS($G$1:$G$986,$A$1:$A$986,"*JL *")) -> 0 | AF8: =(SUMIFS($I$1:$I$986,$A$1:$A$986,"*JL *")) -> 0
Y9: PICKS SPLES | AA9: =IF((COUNTIF($A$1:$A$986,"*PS*")-1)<0,"0",(COUNTIF($A$1:$A$986,"*PS*")-1)) -> 0 | AB9: =IF($AC$35=0,"",(AA9)/$AC$35) | AC9: =(SUMIFS($H$1:$H$986,$A$1:$A$986,"*PS *")) -> 0 | AD9: =IFERROR(SUM(AE9+AF9)/SUM(AE9+AF9+#REF!+#REF!),"-") -> - | AE9: =(SUMIFS($G$1:$G$986,$A$1:$A$986,"*PS *")) -> 0 | AF9: =(SUMIFS($I$1:$I$986,$A$1:$A$986,"*PS *")) -> 0
Y10: P1 | AA10: =IF((COUNTIF($A$1:$A$986,"*P1 *"))<0,"0",(COUNTIF($A$1:$A$986,"*P1 *"))) -> 0 | AB10: =IF($AC$35=0,"",(AA10)/$AC$35) | AC10: =(SUMIFS($H$1:$H$986,$A$1:$A$986,"*P1 *")) -> 0 | AD10: =IFERROR((SUM(AC10+AE10))/SUM(AC10+AE10+AF10),"-") -> - | AE10: =(SUMIFS($G$1:$G$986,$A$1:$A$986,"*P1 *")) -> 0 | AF10: =(SUMIFS($I$1:$I$986,$A$1:$A$986,"*P1 *")) -> 0
Y11: P2 | AA11: =IF((COUNTIF($A$1:$A$986,"*P2*")-1)<0,"0",(COUNTIF($A$1:$A$986,"*P2*")-1)) -> 0 | AB11: =IF($AC$35=0,"",(AA11)/$AC$35) | AC11: =(SUMIFS($H$1:$H$986,$A$1:$A$986,"*P2 *")) -> 0 | AD11: =IFERROR(SUM(AE11+AF11)/SUM(AE11+AF11+#REF!+#REF!),"-") -> - | AE11: =(SUMIFS($G$1:$G$986,$A$1:$A$986,"*P2 *")) -> 0 | AF11: =(SUMIFS($I$1:$I$986,$A$1:$A$986,"*P2 *")) -> 0
Y12: P3 | AA12: =IF((COUNTIF($A$1:$A$986,"*P3*")-1)<0,"0",(COUNTIF($A$1:$A$986,"*P3*")-1)) -> 0 | AB12: =IF($AC$35=0,"",(AA12)/$AC$35) | AC12: =(SUMIFS($H$1:$H$986,$A$1:$A$986,"*P3 *")) -> 0 | AD12: =IFERROR(SUM(AE12+AF12)/SUM(AE12+AF12+#REF!+#REF!),"-") -> - | AE12: =(SUMIFS($G$1:$G$986,$A$1:$A$986,"*P3 *")) -> 0 | AF12: =(SUMIFS($I$1:$I$986,$A$1:$A$986,"*P3 *")) -> 0
Y13: P4 | AA13: =IF((COUNTIF($A$1:$A$986,"*P4*")-1)<0,"0",(COUNTIF($A$1:$A$986,"*P4*")-1)) -> 0 | AB13: =IF($AC$35=0,"",(AA13)/$AC$35) | AC13: =(SUMIFS($H$1:$H$986,$A$1:$A$986,"*P4 *")) -> 0 | AD13: =IFERROR(SUM(AE13+AF13)/SUM(AE13+AF13+#REF!+#REF!),"-") -> - | AE13: =(SUMIFS($G$1:$G$986,$A$1:$A$986,"*P4 *")) -> 0 | AF13: =(SUMIFS($I$1:$I$986,$A$1:$A$986,"*P4 *")) -> 0
Y14: P5 | AA14: =IF((COUNTIF($A$1:$A$986,"*P5*")-1)<0,"0",(COUNTIF($A$1:$A$986,"*P5*")-1)) -> 0 | AB14: =IF($AC$35=0,"",(AA14)/$AC$35) | AC14: =(SUMIFS($H$1:$H$986,$A$1:$A$986,"*P5 *")) -> 0 | AD14: =IFERROR(SUM(AE14+AF14)/SUM(AE14+AF14+#REF!+#REF!),"-") -> - | AE14: =(SUMIFS($G$1:$G$986,$A$1:$A$986,"*P5 *")) -> 0 | AF14: =(SUMIFS($I$1:$I$986,$A$1:$A$986,"*P5 *")) -> 0
Y15: P6 | AA15: =IF((COUNTIF($A$1:$A$986,"*P6*")-1)<0,"0",(COUNTIF($A$1:$A$986,"*P6*")-1)) -> 0 | AB15: =IF($AC$35=0,"",(AA15)/$AC$35) | AC15: =(SUMIFS($H$1:$H$986,$A$1:$A$986,"*P6 *")) -> 0 | AD15: =IFERROR(SUM(AE15+AF15)/SUM(AE15+AF15+#REF!+#REF!),"-") -> - | AE15: =(SUMIFS($G$1:$G$986,$A$1:$A$986,"*P6 *")) -> 0 | AF15: =(SUMIFS($I$1:$I$986,$A$1:$A$986,"*P6 *")) -> 0
Y16: P7 | AA16: =IF((COUNTIF($A$1:$A$986,"*P7*")-1)<0,"0",(COUNTIF($A$1:$A$986,"*P7*")-1)) -> 0 | AB16: =IF($AC$35=0,"",(AA16)/$AC$35) | AC16: =(SUMIFS($H$1:$H$986,$A$1:$A$986,"*P7 *")) -> 0 | AD16: =IFERROR(SUM(AE16+AF16)/SUM(AE16+AF16+#REF!+#REF!),"-") -> - | AE16: =(SUMIFS($G$1:$G$986,$A$1:$A$986,"*P7 *")) -> 0 | AF16: =(SUMIFS($I$1:$I$986,$A$1:$A$986,"*P7 *")) -> 0
Y17: P8 | AA17: =IF((COUNTIF($A$1:$A$986,"*P8*")-1)<0,"0",(COUNTIF($A$1:$A$986,"*P8*")-1)) -> 0 | AB17: =IF($AC$35=0,"",(AA17)/$AC$35) | AC17: =(SUMIFS($H$1:$H$986,$A$1:$A$986,"*P8 *")) -> 0 | AD17: =IFERROR(SUM(AE17+AF17)/SUM(AE17+AF17+#REF!+#REF!),"-") -> - | AE17: =(SUMIFS($G$1:$G$986,$A$1:$A$986,"*P8 *")) -> 0 | AF17: =(SUMIFS($I$1:$I$986,$A$1:$A$986,"*P8 *")) -> 0
Y18: P9 | AA18: =IF((COUNTIF($A$1:$A$986,"*P9*")-1)<0,"0",(COUNTIF($A$1:$A$986,"*P9*")-1)) -> 0 | AB18: =IF($AC$35=0,"",(AA18)/$AC$35) | AC18: =(SUMIFS($H$1:$H$986,$A$1:$A$986,"*P9 *")) -> 0 | AD18: =IFERROR(SUM(AE18+AF18)/SUM(AE18+AF18+#REF!+#REF!),"-") -> - | AE18: =(SUMIFS($G$1:$G$986,$A$1:$A$986,"*P9 *")) -> 0 | AF18: =(SUMIFS($I$1:$I$986,$A$1:$A$986,"*P9 *")) -> 0
Y19: P10 | AA19: =IF((COUNTIF($A$1:$A$986,"*P10*")-1)<0,"0",(COUNTIF($A$1:$A$986,"*P10*")-1)) -> 0 | AB19: =IF($AC$35=0,"",(AA19)/$AC$35) | AC19: =(SUMIFS($H$1:$H$986,$A$1:$A$986,"*P10 *")) -> 0 | AD19: =IFERROR(SUM(AE19+AF19)/SUM(AE19+AF19+#REF!+#REF!),"-") -> - | AE19: =(SUMIFS($G$1:$G$986,$A$1:$A$986,"*P10 *")) -> 0 | AF19: =(SUMIFS($I$1:$I$986,$A$1:$A$986,"*P10 *")) -> 0
Y20: P11 | AA20: =IF((COUNTIF($A$1:$A$986,"*P11*")-1)<0,"0",(COUNTIF($A$1:$A$986,"*P11*")-1)) -> 0 | AB20: =IF($AC$35=0,"",(AA20)/$AC$35) | AC20: =(SUMIFS($H$1:$H$986,$A$1:$A$986,"*P11 *")) -> 0 | AD20: =IFERROR(SUM(AE20+AF20)/SUM(AE20+AF20+#REF!+#REF!),"-") -> - | AE20: =(SUMIFS($G$1:$G$986,$A$1:$A$986,"*P11 *")) -> 0 | AF20: =(SUMIFS($I$1:$I$986,$A$1:$A$986,"*P11 *")) -> 0
Y21: P12 | AA21: =IF((COUNTIF($A$1:$A$986,"*P12*")-1)<0,"0",(COUNTIF($A$1:$A$986,"*P12*")-1)) -> 0 | AB21: =IF($AC$35=0,"",(AA21)/$AC$35) | AC21: =(SUMIFS($H$1:$H$986,$A$1:$A$986,"*P12 *")) -> 0 | AD21: =IFERROR(SUM(AE21+AF21)/SUM(AE21+AF21+#REF!+#REF!),"-") -> - | AE21: =(SUMIFS($G$1:$G$986,$A$1:$A$986,"*P12 *")) -> 0 | AF21: =(SUMIFS($I$1:$I$986,$A$1:$A$986,"*P12 *")) -> 0
Y22: P13 | AA22: =IF((COUNTIF($A$1:$A$986,"*P13*")-1)<0,"0",(COUNTIF($A$1:$A$986,"*P13*")-1)) -> 0 | AB22: =IF($AC$35=0,"",(AA22)/$AC$35) | AC22: =(SUMIFS($H$1:$H$986,$A$1:$A$986,"*P13 *")) -> 0 | AD22: =IFERROR(SUM(AE22+AF22)/SUM(AE22+AF22+#REF!+#REF!),"-") -> - | AE22: =(SUMIFS($G$1:$G$986,$A$1:$A$986,"*P13 *")) -> 0 | AF22: =(SUMIFS($I$1:$I$986,$A$1:$A$986,"*P13 *")) -> 0
Y23: P14 | AA23: =IF((COUNTIF($A$1:$A$986,"*P14*")-1)<0,"0",(COUNTIF($A$1:$A$986,"*P14*")-1)) -> 0 | AB23: =IF($AC$35=0,"",(AA23)/$AC$35) | AC23: =(SUMIFS($H$1:$H$986,$A$1:$A$986,"*P14 *")) -> 0 | AD23: =IFERROR(SUM(AE23+AF23)/SUM(AE23+AF23+#REF!+#REF!),"-") -> - | AE23: =(SUMIFS($G$1:$G$986,$A$1:$A$986,"*P14 *")) -> 0 | AF23: =(SUMIFS($I$1:$I$986,$A$1:$A$986,"*P14 *")) -> 0
Y24: P15 | AA24: =IF((COUNTIF($A$1:$A$986,"*P15*")-1)<0,"0",(COUNTIF($A$1:$A$986,"*P15*")-1)) -> 0 | AB24: =IF($AC$35=0,"",(AA24)/$AC$35) | AC24: =(SUMIFS($H$1:$H$986,$A$1:$A$986,"*P15 *")) -> 0 | AD24: =IFERROR(SUM(AE24+AF24)/SUM(AE24+AF24+#REF!+#REF!),"-") -> - | AE24: =(SUMIFS($G$1:$G$986,$A$1:$A$986,"*P15 *")) -> 0 | AF24: =(SUMIFS($I$1:$I$986,$A$1:$A$986,"*P15 *")) -> 0
Y25: P16 | AA25: =IF((COUNTIF($A$1:$A$986,"*P16*")-1)<0,"0",(COUNTIF($A$1:$A$986,"*P16*")-1)) -> 0 | AB25: =IF($AC$35=0,"",(AA25)/$AC$35) | AC25: =(SUMIFS($H$1:$H$986,$A$1:$A$986,"*P16 *")) -> 0 | AD25: =IFERROR(SUM(AE25+AF25)/SUM(AE25+AF25+#REF!+#REF!),"-") -> - | AE25: =(SUMIFS($G$1:$G$986,$A$1:$A$986,"*P16 *")) -> 0 | AF25: =(SUMIFS($I$1:$I$986,$A$1:$A$986,"*P16 *")) -> 0
Y26: SPANISH | AA26: =IF((COUNTIF($A$1:$A$986,"*SPANISH*")-1)<0,"0",(COUNTIF($A$1:$A$986,"*SPANISH*")-1)) -> 0 | AB26: =IF($AC$35=0,"",(AA26)/$AC$35) | AC26: =(SUMIFS($H$1:$H$986,$A$1:$A$986,"*SPANISH *")) -> 0 | AD26: =IFERROR(SUM(AE26+AF26)/SUM(AE26+AF26+#REF!+#REF!),"-") -> - | AE26: =(SUMIFS($G$1:$G$986,$A$1:$A$986,"*SPANISH *")) -> 0 | AF26: =(SUMIFS($I$1:$I$986,$A$1:$A$986,"*SPANISH *")) -> 0
Y27: DIVERS | AA27: =IF((COUNTIF($A$1:$A$986,"*DIVERS*")-1)<0,"0",(COUNTIF($A$1:$A$986,"*DIVERS*")-1)) -> 0 | AB27: =IF($AC$35=0,"",(AA27)/$AC$35) | AC27: =(SUMIFS($H$1:$H$986,$A$1:$A$986,"*DIVERS *")) -> 0 | AD27: =IFERROR(SUM(AE27+AF27)/SUM(AE27+AF27+#REF!+#REF!),"-") -> - | AE27: =(SUMIFS($G$1:$G$986,$A$1:$A$986,"*DIVERS *")) -> 0 | AF27: =(SUMIFS($I$1:$I$986,$A$1:$A$986,"*DIVERS *")) -> 0
Y28: BLOBS | AA28: =IF((COUNTIF($A$1:$A$986,"*BLOBS*")-1)<0,"0",(COUNTIF($A$1:$A$986,"*BLOBS*")-1)) -> 0 | AB28: =IF($AC$35=0,"",(AA28)/$AC$35) | AC28: =(SUMIFS($H$1:$H$986,$A$1:$A$986,"*BLOBS *")) -> 0 | AD28: =IFERROR(SUM(AE28+AF28)/SUM(AE28+AF28+#REF!+#REF!),"-") -> - | AE28: =(SUMIFS($G$1:$G$986,$A$1:$A$986,"*BLOBS *")) -> 0 | AF28: =(SUMIFS($I$1:$I$986,$A$1:$A$986,"*BLOBS *")) -> 0
Y29: SLOBS | AA29: =IF((COUNTIF($A$1:$A$986,"*SLOBS*")-1)<0,"0",(COUNTIF($A$1:$A$986,"*SLOBS*")-1)) -> 0 | AB29: =IF($AC$35=0,"",(AA29)/$AC$35) | AC29: =(SUMIFS($H$1:$H$986,$A$1:$A$986,"*SLOBS *")) -> 0 | AD29: =IFERROR(SUM(AE29+AF29)/SUM(AE29+AF29+#REF!+#REF!),"-") -> - | AE29: =(SUMIFS($G$1:$G$986,$A$1:$A$986,"*SLOBS *")) -> 0 | AF29: =(SUMIFS($I$1:$I$986,$A$1:$A$986,"*SLOBS *")) -> 0
Y30: ZONE 1 | AA30: =IF((COUNTIF($A$1:$A$986,"*Z OFF 1*")-1)<0,"0",(COUNTIF($A$1:$A$986,"*Z OFF 1*")-1)) -> 0 | AB30: =IF($AC$35=0,"",(AA30)/$AC$35) | AC30: =(SUMIFS($H$1:$H$986,$A$1:$A$986,"*Z OFF 1 *")) -> 0 | AD30: =IFERROR(SUM(AE30+AF30)/SUM(AE30+AF30+#REF!+#REF!),"-") -> - | AE30: =(SUMIFS($G$1:$G$986,$A$1:$A$986,"*Z OFF 1 *")) -> 0 | AF30: =(SUMIFS($I$1:$I$986,$A$1:$A$986,"*Z OFF 1 *")) -> 0
Y31: ZONE 2 | AA31: =IF((COUNTIF($A$1:$A$986,"*Z OFF 2*")-1)<0,"0",(COUNTIF($A$1:$A$986,"*Z OFF 2*")-1)) -> 0 | AB31: =IF($AC$35=0,"",(AA31)/$AC$35) | AC31: =(SUMIFS($H$1:$H$986,$A$1:$A$986,"*Z OFF 2 *")) -> 0 | AD31: =IFERROR(SUM(AE31+AF31)/SUM(AE31+AF31+#REF!+#REF!),"-") -> - | AE31: =(SUMIFS($G$1:$G$986,$A$1:$A$986,"*Z OFF 2 *")) -> 0 | AF31: =(SUMIFS($I$1:$I$986,$A$1:$A$986,"*Z OFF 2 *")) -> 0
X32: TOTAL | AC32: FG made | AD32: FG % | AE32: R % | AF32: E %
AC33: =SUM(AC6:AC31) -> 0 | AD33: =IFERROR((AC33/AC35),"-") -> - | AE33: =IFERROR(((SUM(AE6:AE31))/AC35),"-") -> - | AF33: =IFERROR(((SUM(AF6:AF31))/AC35),"-") -> -
AC34: NBRE O | AE34: PTS | AF34: RENTABILITE
AC35: =SUM(AA6:AA31) -> 0 | AF35: PPO | AH35: =IFERROR((AE35/AC35),"-") -> -
AF37: RATIO ACTIONS + | AH37: =IFERROR(((SUM(AE6:AE31)+AC33))/(SUM(AE6:AE31)+(SUM(AF6:AF31)+AC33)),"-") -> -
X39: PNR OFFENSIFS 1/2 TERRAIN
X42: LEFT | Y42: MID | AB42: RIGHT | AD42: EFFICACITE OFF SELON COUVERTURES DEF
X43: =((SUMIFS($G$1:$G$814,$A$1:$A$814,"*LEFT OFF *"))+(SUMIFS($I$1:$I$814,$A$1:$A$814,"*LEFT OFF *"))+(SUMIFS($K$1:$K$814,$A$1:$A$814,"*LEFT OFF *"))+(SUMIFS($M$1:$M$814,$A$1:$A$814,"*LEFT OFF *"))+(SUMIFS($O$1:$O$814,$A$1:$A$814,"*LEFT OFF *"))+(SUMIFS($Q$1:$Q$814,$A$1:$A$814,"*LEFT OFF *")))/(X52) -> #DIV/0! | Y43: =((SUMIFS($G$1:$G$814,$A$1:$A$814,"*MID OFF *"))+(SUMIFS($I$1:$I$814,$A$1:$A$814,"*MID OFF *"))+(SUMIFS($K$1:$K$814,$A$1:$A$814,"*MID OFF *"))+(SUMIFS($M$1:$M$814,$A$1:$A$814,"*MID OFF *"))+(SUMIFS($O$1:$O$814,$A$1:$A$814,"*MID OFF *"))+(SUMIFS($Q$1:$Q$814,$A$1:$A$814,"*MID OFF *")))/(Y52) -> #DIV/0! | AB43: =((SUMIFS($G$1:$G$814,$A$1:$A$814,"*RIGHT OFF *"))+(SUMIFS($I$1:$I$814,$A$1:$A$814,"*RIGHT OFF *"))+(SUMIFS($K$1:$K$814,$A$1:$A$814,"*RIGHT OFF *"))+(SUMIFS($M$1:$M$814,$A$1:$A$814,"*RIGHT OFF *"))+(SUMIFS($O$1:$O$814,$A$1:$A$814,"*RIGHT OFF *"))+(SUMIFS($Q$1:$Q$814,$A$1:$A$814,"*RIGHT OFF *")))/(AB52) -> #DIV/0! | AE43: SIDE | AH43: MID
AE44: B | AF44: TOT | AG44: % B | AH44: B | AI44: TOT | AJ44: % B
AD45: UNDER | AE45: =((SUMIFS($G$1:$G$814,$A$1:$A$814,"*RIGHT OFF *")+SUMIFS($G$1:$G$814,$A$1:$A$814,"*LEFT OFF *"))) -> 0 | AF45: =((AE45)+SUMIFS($H$1:$H$814,$A$1:$A$814,"*RIGHT OFF *")+SUMIFS($H$1:$H$814,$A$1:$A$814,"*LEFT OFF *")) -> 0 | AG45: =IFERROR((AE45/AF45),"-") -> - | AH45: =SUMIFS($G$1:$G$814,$A$1:$A$814,"*MID OFF *") -> 0 | AI45: =(AH45)+(SUMIFS($H$1:$H$814,$A$1:$A$814,"*MID OFF *")) -> 0 | AJ45: =IFERROR((AH45/AI45),"-") -> -
AD46: PROTECT | AE46: =((SUMIFS($I$1:$I$814,$A$1:$A$814,"*RIGHT OFF *")+SUMIFS($I$1:$I$814,$A$1:$A$814,"*LEFT OFF *"))) -> 0 | AF46: =((AE46)+SUMIFS($J$1:$J$814,$A$1:$A$814,"*RIGHT OFF *")+SUMIFS($J$1:$J$814,$A$1:$A$814,"*LEFT OFF *")) -> 0 | AG46: =IFERROR((AE46/AF46),"-") -> - | AH46: =SUMIFS($I$1:$I$814,$A$1:$A$814,"*MID OFF *") -> 0 | AI46: =(AH46)+(SUMIFS($J$1:$J$814,$A$1:$A$814,"*MID OFF *")) -> 0 | AJ46: =IFERROR((AH46/AI46),"-") -> -
X47: ACTIONS BENEFIQUES | Y47: ACTIONS BENEFIQUES | AB47: ACTIONS BENEFIQUES | AD47: AGRESSIVE | AE47: =((SUMIFS($K$1:$K$814,$A$1:$A$814,"*RIGHT OFF *")+SUMIFS($K$1:$K$814,$A$1:$A$814,"*LEFT OFF *"))) -> 0 | AF47: =((AE47)+SUMIFS($L$1:$L$814,$A$1:$A$814,"*RIGHT OFF *")+SUMIFS($L$1:$L$814,$A$1:$A$814,"*LEFT OFF *")) -> 0 | AG47: =IFERROR((AE47/AF47),"-") -> - | AH47: =SUMIFS($K$1:$K$814,$A$1:$A$814,"*MID OFF *") -> 0 | AI47: =(AH47)+(SUMIFS($L$1:$L$814,$A$1:$A$814,"*MID OFF *")) -> 0 | AJ47: =IFERROR((AH47/AI47),"-") -> -
...

Sheet M4 A
X2: JEU & SYSTEMES
X5: CALLS | Y5: TYPE | AA5: NBRE O | AB5: % JOUE | AC5: FG made | AD5: EFF. | AE5: R | AF5: E
Y6: CA | AA6: =IF((COUNTIF($A$1:$A$986,"*CA *"))<0,"0",(COUNTIF($A$1:$A$986,"*CA *"))) -> 0 | AB6: =IF($AC$35=0,"",(AA6)/$AC$35) | AC6: =(SUMIFS($H$1:$H$986,$A$1:$A$986,"*CA *")) -> 0 | AD6: =IFERROR(SUM(AE6+AF6)/SUM(AE6+AF6+#REF!+#REF!),"-") -> - | AE6: =(SUMIFS($G$1:$G$986,$A$1:$A$986,"*CA *")) -> 0 | AF6: =(SUMIFS($I$1:$I$986,$A$1:$A$986,"*CA *")) -> 0
Y7: TRANSI | AA7: =IF((COUNTIF($A$1:$A$986,"*TRANSI*")-1)<0,"0",(COUNTIF($A$1:$A$986,"*TRANSI*")-1)) -> 0 | AB7: =IF($AC$35=0,"",(AA7)/$AC$35) | AC7: =(SUMIFS($H$1:$H$986,$A$1:$A$986,"*TRANSI *")) -> 0 | AD7: =IFERROR(SUM(AC7+AE7)/SUM(AC7+AE7+AF7),"-") -> - | AE7: =(SUMIFS($G$1:$G$986,$A$1:$A$986,"*TRANSI *")) -> 0 | AF7: =SUMIFS($I$1:$I$986,$A$1:$A$986,"*TRANSI*") -> 0
Y8: JL | AA8: =IF((COUNTIF($A$1:$A$986,"*JL*")-1)<0,"0",(COUNTIF($A$1:$A$986,"*JL*")-1)) -> 0 | AB8: =IF($AC$35=0,"",(AA8)/$AC$35) | AC8: =(SUMIFS($H$1:$H$986,$A$1:$A$986,"*JL *")) -> 0 | AD8: =IFERROR(SUM(AE8+AF8)/SUM(AE8+AF8+#REF!+#REF!),"-") -> - | AE8: =(SUMIFS($G$1:$G$986,$A$1:$A$986,"*JL *")) -> 0 | AF8: =(SUMIFS($I$1:$I$986,$A$1:$A$986,"*JL *")) -> 0
Y9: PICKS SPLES | AA9: =IF((COUNTIF($A$1:$A$986,"*PS*")-1)<0,"0",(COUNTIF($A$1:$A$986,"*PS*")-1)) -> 0 | AB9: =IF($AC$35=0,"",(AA9)/$AC$35) | AC9: =(SUMIFS($H$1:$H$986,$A$1:$A$986,"*PS *")) -> 0 | AD9: =IFERROR(SUM(AE9+AF9)/SUM(AE9+AF9+#REF!+#REF!),"-") -> - | AE9: =(SUMIFS($G$1:$G$986,$A$1:$A$986,"*PS *")) -> 0 | AF9: =(SUMIFS($I$1:$I$986,$A$1:$A$986,"*PS *")) -> 0
Y10: P1 | AA10: =IF((COUNTIF($A$1:$A$986,"*P1 *"))<0,"0",(COUNTIF($A$1:$A$986,"*P1 *"))) -> 0 | AB10: =IF($AC$35=0,"",(AA10)/$AC$35) | AC10: =(SUMIFS($H$1:$H$986,$A$1:$A$986,"*P1 *")) -> 0 | AD10: =IFERROR((SUM(AC10+AE10))/SUM(AC10+AE10+AF10),"-") -> - | AE10: =(SUMIFS($G$1:$G$986,$A$1:$A$986,"*P1 *")) -> 0 | AF10: =(SUMIFS($I$1:$I$986,$A$1:$A$986,"*P1 *")) -> 0
Y11: P2 | AA11: =IF((COUNTIF($A$1:$A$986,"*P2*")-1)<0,"0",(COUNTIF($A$1:$A$986,"*P2*")-1)) -> 0 | AB11: =IF($AC$35=0,"",(AA11)/$AC$35) | AC11: =(SUMIFS($H$1:$H$986,$A$1:$A$986,"*P2 *")) -> 0 | AD11: =IFERROR(SUM(AE11+AF11)/SUM(AE11+AF11+#REF!+#REF!),"-") -> - | AE11: =(SUMIFS($G$1:$G$986,$A$1:$A$986,"*P2 *")) -> 0 | AF11: =(SUMIFS($I$1:$I$986,$A$1:$A$986,"*P2 *")) -> 0
Y12: P3 | AA12: =IF((COUNTIF($A$1:$A$986,"*P3*")-1)<0,"0",(COUNTIF($A$1:$A$986,"*P3*")-1)) -> 0 | AB12: =IF($AC$35=0,"",(AA12)/$AC$35) | AC12: =(SUMIFS($H$1:$H$986,$A$1:$A$986,"*P3 *")) -> 0 | AD12: =IFERROR(SUM(AE12+AF12)/SUM(AE12+AF12+#REF!+#REF!),"-") -> - | AE12: =(SUMIFS($G$1:$G$986,$A$1:$A$986,"*P3 *")) -> 0 | AF12: =(SUMIFS($I$1:$I$986,$A$1:$A$986,"*P3 *")) -> 0
Y13: P4 | AA13: =IF((COUNTIF($A$1:$A$986,"*P4*")-1)<0,"0",(COUNTIF($A$1:$A$986,"*P4*")-1)) -> 0 | AB13: =IF($AC$35=0,"",(AA13)/$AC$35) | AC13: =(SUMIFS($H$1:$H$986,$A$1:$A$986,"*P4 *")) -> 0 | AD13: =IFERROR(SUM(AE13+AF13)/SUM(AE13+AF13+#REF!+#REF!),"-") -> - | AE13: =(SUMIFS($G$1:$G$986,$A$1:$A$986,"*P4 *")) -> 0 | AF13: =(SUMIFS($I$1:$I$986,$A$1:$A$986,"*P4 *")) -> 0
Y14: P5 | AA14: =IF((COUNTIF($A$1:$A$986,"*P5*")-1)<0,"0",(COUNTIF($A$1:$A$986,"*P5*")-1)) -> 0 | AB14: =IF($AC$35=0,"",(AA14)/$AC$35) | AC14: =(SUMIFS($H$1:$H$986,$A$1:$A$986,"*P5 *")) -> 0 | AD14: =IFERROR(SUM(AE14+AF14)/SUM(AE14+AF14+#REF!+#REF!),"-") -> - | AE14: =(SUMIFS($G$1:$G$986,$A$1:$A$986,"*P5 *")) -> 0 | AF14: =(SUMIFS($I$1:$I$986,$A$1:$A$986,"*P5 *")) -> 0
Y15: P6 | AA15: =IF((COUNTIF($A$1:$A$986,"*P6*")-1)<0,"0",(COUNTIF($A$1:$A$986,"*P6*")-1)) -> 0 | AB15: =IF($AC$35=0,"",(AA15)/$AC$35) | AC15: =(SUMIFS($H$1:$H$986,$A$1:$A$986,"*P6 *")) -> 0 | AD15: =IFERROR(SUM(AE15+AF15)/SUM(AE15+AF15+#REF!+#REF!),"-") -> - | AE15: =(SUMIFS($G$1:$G$986,$A$1:$A$986,"*P6 *")) -> 0 | AF15: =(SUMIFS($I$1:$I$986,$A$1:$A$986,"*P6 *")) -> 0
Y16: P7 | AA16: =IF((COUNTIF($A$1:$A$986,"*P7*")-1)<0,"0",(COUNTIF($A$1:$A$986,"*P7*")-1)) -> 0 | AB16: =IF($AC$35=0,"",(AA16)/$AC$35) | AC16: =(SUMIFS($H$1:$H$986,$A$1:$A$986,"*P7 *")) -> 0 | AD16: =IFERROR(SUM(AE16+AF16)/SUM(AE16+AF16+#REF!+#REF!),"-") -> - | AE16: =(SUMIFS($G$1:$G$986,$A$1:$A$986,"*P7 *")) -> 0 | AF16: =(SUMIFS($I$1:$I$986,$A$1:$A$986,"*P7 *")) -> 0
Y17: P8 | AA17: =IF((COUNTIF($A$1:$A$986,"*P8*")-1)<0,"0",(COUNTIF($A$1:$A$986,"*P8*")-1)) -> 0 | AB17: =IF($AC$35=0,"",(AA17)/$AC$35) | AC17: =(SUMIFS($H$1:$H$986,$A$1:$A$986,"*P8 *")) -> 0 | AD17: =IFERROR(SUM(AE17+AF17)/SUM(AE17+AF17+#REF!+#REF!),"-") -> - | AE17: =(SUMIFS($G$1:$G$986,$A$1:$A$986,"*P8 *")) -> 0 | AF17: =(SUMIFS($I$1:$I$986,$A$1:$A$986,"*P8 *")) -> 0
Y18: P9 | AA18: =IF((COUNTIF($A$1:$A$986,"*P9*")-1)<0,"0",(COUNTIF($A$1:$A$986,"*P9*")-1)) -> 0 | AB18: =IF($AC$35=0,"",(AA18)/$AC$35) | AC18: =(SUMIFS($H$1:$H$986,$A$1:$A$986,"*P9 *")) -> 0 | AD18: =IFERROR(SUM(AE18+AF18)/SUM(AE18+AF18+#REF!+#REF!),"-") -> - | AE18: =(SUMIFS($G$1:$G$986,$A$1:$A$986,"*P9 *")) -> 0 | AF18: =(SUMIFS($I$1:$I$986,$A$1:$A$986,"*P9 *")) -> 0
Y19: P10 | AA19: =IF((COUNTIF($A$1:$A$986,"*P10*")-1)<0,"0",(COUNTIF($A$1:$A$986,"*P10*")-1)) -> 0 | AB19: =IF($AC$35=0,"",(AA19)/$AC$35) | AC19: =(SUMIFS($H$1:$H$986,$A$1:$A$986,"*P10 *")) -> 0 | AD19: =IFERROR(SUM(AE19+AF19)/SUM(AE19+AF19+#REF!+#REF!),"-") -> - | AE19: =(SUMIFS($G$1:$G$986,$A$1:$A$986,"*P10 *")) -> 0 | AF19: =(SUMIFS($I$1:$I$986,$A$1:$A$986,"*P10 *")) -> 0
Y20: P11 | AA20: =IF((COUNTIF($A$1:$A$986,"*P11*")-1)<0,"0",(COUNTIF($A$1:$A$986,"*P11*")-1)) -> 0 | AB20: =IF($AC$35=0,"",(AA20)/$AC$35) | AC20: =(SUMIFS($H$1:$H$986,$A$1:$A$986,"*P11 *")) -> 0 | AD20: =IFERROR(SUM(AE20+AF20)/SUM(AE20+AF20+#REF!+#REF!),"-") -> - | AE20: =(SUMIFS($G$1:$G$986,$A$1:$A$986,"*P11 *")) -> 0 | AF20: =(SUMIFS($I$1:$I$986,$A$1:$A$986,"*P11 *")) -> 0
Y21: P12 | AA21: =IF((COUNTIF($A$1:$A$986,"*P12*")-1)<0,"0",(COUNTIF($A$1:$A$986,"*P12*")-1)) -> 0 | AB21: =IF($AC$35=0,"",(AA21)/$AC$35) | AC21: =(SUMIFS($H$1:$H$986,$A$1:$A$986,"*P12 *")) -> 0 | AD21: =IFERROR(SUM(AE21+AF21)/SUM(AE21+AF21+#REF!+#REF!),"-") -> - | AE21: =(SUMIFS($G$1:$G$986,$A$1:$A$986,"*P12 *")) -> 0 | AF21: =(SUMIFS($I$1:$I$986,$A$1:$A$986,"*P12 *")) -> 0
Y22: P13 | AA22: =IF((COUNTIF($A$1:$A$986,"*P13*")-1)<0,"0",(COUNTIF($A$1:$A$986,"*P13*")-1)) -> 0 | AB22: =IF($AC$35=0,"",(AA22)/$AC$35) | AC22: =(SUMIFS($H$1:$H$986,$A$1:$A$986,"*P13 *")) -> 0 | AD22: =IFERROR(SUM(AE22+AF22)/SUM(AE22+AF22+#REF!+#REF!),"-") -> - | AE22: =(SUMIFS($G$1:$G$986,$A$1:$A$986,"*P13 *")) -> 0 | AF22: =(SUMIFS($I$1:$I$986,$A$1:$A$986,"*P13 *")) -> 0
Y23: P14 | AA23: =IF((COUNTIF($A$1:$A$986,"*P14*")-1)<0,"0",(COUNTIF($A$1:$A$986,"*P14*")-1)) -> 0 | AB23: =IF($AC$35=0,"",(AA23)/$AC$35) | AC23: =(SUMIFS($H$1:$H$986,$A$1:$A$986,"*P14 *")) -> 0 | AD23: =IFERROR(SUM(AE23+AF23)/SUM(AE23+AF23+#REF!+#REF!),"-") -> - | AE23: =(SUMIFS($G$1:$G$986,$A$1:$A$986,"*P14 *")) -> 0 | AF23: =(SUMIFS($I$1:$I$986,$A$1:$A$986,"*P14 *")) -> 0
Y24: P15 | AA24: =IF((COUNTIF($A$1:$A$986,"*P15*")-1)<0,"0",(COUNTIF($A$1:$A$986,"*P15*")-1)) -> 0 | AB24: =IF($AC$35=0,"",(AA24)/$AC$35) | AC24: =(SUMIFS($H$1:$H$986,$A$1:$A$986,"*P15 *")) -> 0 | AD24: =IFERROR(SUM(AE24+AF24)/SUM(AE24+AF24+#REF!+#REF!),"-") -> - | AE24: =(SUMIFS($G$1:$G$986,$A$1:$A$986,"*P15 *")) -> 0 | AF24: =(SUMIFS($I$1:$I$986,$A$1:$A$986,"*P15 *")) -> 0
Y25: P16 | AA25: =IF((COUNTIF($A$1:$A$986,"*P16*")-1)<0,"0",(COUNTIF($A$1:$A$986,"*P16*")-1)) -> 0 | AB25: =IF($AC$35=0,"",(AA25)/$AC$35) | AC25: =(SUMIFS($H$1:$H$986,$A$1:$A$986,"*P16 *")) -> 0 | AD25: =IFERROR(SUM(AE25+AF25)/SUM(AE25+AF25+#REF!+#REF!),"-") -> - | AE25: =(SUMIFS($G$1:$G$986,$A$1:$A$986,"*P16 *")) -> 0 | AF25: =(SUMIFS($I$1:$I$986,$A$1:$A$986,"*P16 *")) -> 0
Y26: SPANISH | AA26: =IF((COUNTIF($A$1:$A$986,"*SPANISH*")-1)<0,"0",(COUNTIF($A$1:$A$986,"*SPANISH*")-1)) -> 0 | AB26: =IF($AC$35=0,"",(AA26)/$AC$35) | AC26: =(SUMIFS($H$1:$H$986,$A$1:$A$986,"*SPANISH *")) -> 0 | AD26: =IFERROR(SUM(AE26+AF26)/SUM(AE26+AF26+#REF!+#REF!),"-") -> - | AE26: =(SUMIFS($G$1:$G$986,$A$1:$A$986,"*SPANISH *")) -> 0 | AF26: =(SUMIFS($I$1:$I$986,$A$1:$A$986,"*SPANISH *")) -> 0
Y27: DIVERS | AA27: =IF((COUNTIF($A$1:$A$986,"*DIVERS*")-1)<0,"0",(COUNTIF($A$1:$A$986,"*DIVERS*")-1)) -> 0 | AB27: =IF($AC$35=0,"",(AA27)/$AC$35) | AC27: =(SUMIFS($H$1:$H$986,$A$1:$A$986,"*DIVERS *")) -> 0 | AD27: =IFERROR(SUM(AE27+AF27)/SUM(AE27+AF27+#REF!+#REF!),"-") -> - | AE27: =(SUMIFS($G$1:$G$986,$A$1:$A$986,"*DIVERS *")) -> 0 | AF27: =(SUMIFS($I$1:$I$986,$A$1:$A$986,"*DIVERS *")) -> 0
Y28: BLOBS | AA28: =IF((COUNTIF($A$1:$A$986,"*BLOBS*")-1)<0,"0",(COUNTIF($A$1:$A$986,"*BLOBS*")-1)) -> 0 | AB28: =IF($AC$35=0,"",(AA28)/$AC$35) | AC28: =(SUMIFS($H$1:$H$986,$A$1:$A$986,"*BLOBS *")) -> 0 | AD28: =IFERROR(SUM(AE28+AF28)/SUM(AE28+AF28+#REF!+#REF!),"-") -> - | AE28: =(SUMIFS($G$1:$G$986,$A$1:$A$986,"*BLOBS *")) -> 0 | AF28: =(SUMIFS($I$1:$I$986,$A$1:$A$986,"*BLOBS *")) -> 0
Y29: SLOBS | AA29: =IF((COUNTIF($A$1:$A$986,"*SLOBS*")-1)<0,"0",(COUNTIF($A$1:$A$986,"*SLOBS*")-1)) -> 0 | AB29: =IF($AC$35=0,"",(AA29)/$AC$35) | AC29: =(SUMIFS($H$1:$H$986,$A$1:$A$986,"*SLOBS *")) -> 0 | AD29: =IFERROR(SUM(AE29+AF29)/SUM(AE29+AF29+#REF!+#REF!),"-") -> - | AE29: =(SUMIFS($G$1:$G$986,$A$1:$A$986,"*SLOBS *")) -> 0 | AF29: =(SUMIFS($I$1:$I$986,$A$1:$A$986,"*SLOBS *")) -> 0
Y30: ZONE 1 | AA30: =IF((COUNTIF($A$1:$A$986,"*Z OFF 1*")-1)<0,"0",(COUNTIF($A$1:$A$986,"*Z OFF 1*")-1)) -> 0 | AB30: =IF($AC$35=0,"",(AA30)/$AC$35) | AC30: =(SUMIFS($H$1:$H$986,$A$1:$A$986,"*Z OFF 1 *")) -> 0 | AD30: =IFERROR(SUM(AE30+AF30)/SUM(AE30+AF30+#REF!+#REF!),"-") -> - | AE30: =(SUMIFS($G$1:$G$986,$A$1:$A$986,"*Z OFF 1 *")) -> 0 | AF30: =(SUMIFS($I$1:$I$986,$A$1:$A$986,"*Z OFF 1 *")) -> 0
Y31: ZONE 2 | AA31: =IF((COUNTIF($A$1:$A$986,"*Z OFF 2*")-1)<0,"0",(COUNTIF($A$1:$A$986,"*Z OFF 2*")-1)) -> 0 | AB31: =IF($AC$35=0,"",(AA31)/$AC$35) | AC31: =(SUMIFS($H$1:$H$986,$A$1:$A$986,"*Z OFF 2 *")) -> 0 | AD31: =IFERROR(SUM(AE31+AF31)/SUM(AE31+AF31+#REF!+#REF!),"-") -> - | AE31: =(SUMIFS($G$1:$G$986,$A$1:$A$986,"*Z OFF 2 *")) -> 0 | AF31: =(SUMIFS($I$1:$I$986,$A$1:$A$986,"*Z OFF 2 *")) -> 0
X32: TOTAL | AC32: FG made | AD32: FG % | AE32: R % | AF32: E %
AC33: =SUM(AC6:AC31) -> 0 | AD33: =IFERROR((AC33/AC35),"-") -> - | AE33: =IFERROR(((SUM(AE6:AE31))/AC35),"-") -> - | AF33: =IFERROR(((SUM(AF6:AF31))/AC35),"-") -> -
AC34: NBRE O | AE34: PTS | AF34: RENTABILITE
AC35: =SUM(AA6:AA31) -> 0 | AF35: PPO | AH35: =IFERROR((AE35/AC35),"-") -> -
AF37: RATIO ACTIONS + | AH37: =IFERROR(((SUM(AE6:AE31)+AC33))/(SUM(AE6:AE31)+(SUM(AF6:AF31)+AC33)),"-") -> -
X39: PNR OFFENSIFS 1/2 TERRAIN
X42: LEFT | Y42: MID | AB42: RIGHT | AD42: EFFICACITE OFF SELON COUVERTURES DEF
X43: =((SUMIFS($G$1:$G$814,$A$1:$A$814,"*LEFT OFF *"))+(SUMIFS($I$1:$I$814,$A$1:$A$814,"*LEFT OFF *"))+(SUMIFS($K$1:$K$814,$A$1:$A$814,"*LEFT OFF *"))+(SUMIFS($M$1:$M$814,$A$1:$A$814,"*LEFT OFF *"))+(SUMIFS($O$1:$O$814,$A$1:$A$814,"*LEFT OFF *"))+(SUMIFS($Q$1:$Q$814,$A$1:$A$814,"*LEFT OFF *")))/(X52) -> #DIV/0! | Y43: =((SUMIFS($G$1:$G$814,$A$1:$A$814,"*MID OFF *"))+(SUMIFS($I$1:$I$814,$A$1:$A$814,"*MID OFF *"))+(SUMIFS($K$1:$K$814,$A$1:$A$814,"*MID OFF *"))+(SUMIFS($M$1:$M$814,$A$1:$A$814,"*MID OFF *"))+(SUMIFS($O$1:$O$814,$A$1:$A$814,"*MID OFF *"))+(SUMIFS($Q$1:$Q$814,$A$1:$A$814,"*MID OFF *")))/(Y52) -> #DIV/0! | AB43: =((SUMIFS($G$1:$G$814,$A$1:$A$814,"*RIGHT OFF *"))+(SUMIFS($I$1:$I$814,$A$1:$A$814,"*RIGHT OFF *"))+(SUMIFS($K$1:$K$814,$A$1:$A$814,"*RIGHT OFF *"))+(SUMIFS($M$1:$M$814,$A$1:$A$814,"*RIGHT OFF *"))+(SUMIFS($O$1:$O$814,$A$1:$A$814,"*RIGHT OFF *"))+(SUMIFS($Q$1:$Q$814,$A$1:$A$814,"*RIGHT OFF *")))/(AB52) -> #DIV/0! | AE43: SIDE | AH43: MID
AE44: B | AF44: TOT | AG44: % B | AH44: B | AI44: TOT | AJ44: % B
AD45: UNDER | AE45: =((SUMIFS($G$1:$G$814,$A$1:$A$814,"*RIGHT OFF *")+SUMIFS($G$1:$G$814,$A$1:$A$814,"*LEFT OFF *"))) -> 0 | AF45: =((AE45)+SUMIFS($H$1:$H$814,$A$1:$A$814,"*RIGHT OFF *")+SUMIFS($H$1:$H$814,$A$1:$A$814,"*LEFT OFF *")) -> 0 | AG45: =IFERROR((AE45/AF45),"-") -> - | AH45: =SUMIFS($G$1:$G$814,$A$1:$A$814,"*MID OFF *") -> 0 | AI45: =(AH45)+(SUMIFS($H$1:$H$814,$A$1:$A$814,"*MID OFF *")) -> 0 | AJ45: =IFERROR((AH45/AI45),"-") -> -
AD46: PROTECT | AE46: =((SUMIFS($I$1:$I$814,$A$1:$A$814,"*RIGHT OFF *")+SUMIFS($I$1:$I$814,$A$1:$A$814,"*LEFT OFF *"))) -> 0 | AF46: =((AE46)+SUMIFS($J$1:$J$814,$A$1:$A$814,"*RIGHT OFF *")+SUMIFS($J$1:$J$814,$A$1:$A$814,"*LEFT OFF *")) -> 0 | AG46: =IFERROR((AE46/AF46),"-") -> - | AH46: =SUMIFS($I$1:$I$814,$A$1:$A$814,"*MID OFF *") -> 0 | AI46: =(AH46)+(SUMIFS($J$1:$J$814,$A$1:$A$814,"*MID OFF *")) -> 0 | AJ46: =IFERROR((AH46/AI46),"-") -> -
X47: ACTIONS BENEFIQUES | Y47: ACTIONS BENEFIQUES | AB47: ACTIONS BENEFIQUES | AD47: AGRESSIVE | AE47: =((SUMIFS($K$1:$K$814,$A$1:$A$814,"*RIGHT OFF *")+SUMIFS($K$1:$K$814,$A$1:$A$814,"*LEFT OFF *"))) -> 0 | AF47: =((AE47)+SUMIFS($L$1:$L$814,$A$1:$A$814,"*RIGHT OFF *")+SUMIFS($L$1:$L$814,$A$1:$A$814,"*LEFT OFF *")) -> 0 | AG47: =IFERROR((AE47/AF47),"-") -> - | AH47: =SUMIFS($K$1:$K$814,$A$1:$A$814,"*MID OFF *") -> 0 | AI47: =(AH47)+(SUMIFS($L$1:$L$814,$A$1:$A$814,"*MID OFF *")) -> 0 | AJ47: =IFERROR((AH47/AI47),"-") -> -
...

Sheet RENTA A
X2: JEU & SYSTEMES
X5: CALLS | Y5: TYPE | AA5: NBRE O | AB5: % JOUE | AC5: FG made | AD5: EFF. | AE5: R | AF5: E
Y6: CA | AA6: =IF((COUNTIF($A$1:$A$986,"*CA *"))<0,"0",(COUNTIF($A$1:$A$986,"*CA *"))) -> 0 | AB6: =IF($AC$35=0,"",(AA6)/$AC$35) | AC6: =(SUMIFS($H$1:$H$986,$A$1:$A$986,"*CA *")) -> 0 | AD6: =IFERROR(SUM(AE6+AF6)/SUM(AE6+AF6+#REF!+#REF!),"-") -> - | AE6: =(SUMIFS($G$1:$G$986,$A$1:$A$986,"*CA *")) -> 0 | AF6: =(SUMIFS($I$1:$I$986,$A$1:$A$986,"*CA *")) -> 0
Y7: TRANSI | AA7: =IF((COUNTIF($A$1:$A$986,"*TRANSI*")-1)<0,"0",(COUNTIF($A$1:$A$986,"*TRANSI*")-1)) -> 0 | AB7: =IF($AC$35=0,"",(AA7)/$AC$35) | AC7: =(SUMIFS($H$1:$H$986,$A$1:$A$986,"*TRANSI *")) -> 0 | AD7: =IFERROR(SUM(AC7+AE7)/SUM(AC7+AE7+AF7),"-") -> - | AE7: =(SUMIFS($G$1:$G$986,$A$1:$A$986,"*TRANSI *")) -> 0 | AF7: =SUMIFS($I$1:$I$986,$A$1:$A$986,"*TRANSI*") -> 0
Y8: JL | AA8: =IF((COUNTIF($A$1:$A$986,"*JL*")-1)<0,"0",(COUNTIF($A$1:$A$986,"*JL*")-1)) -> 0 | AB8: =IF($AC$35=0,"",(AA8)/$AC$35) | AC8: =(SUMIFS($H$1:$H$986,$A$1:$A$986,"*JL *")) -> 0 | AD8: =IFERROR(SUM(AE8+AF8)/SUM(AE8+AF8+#REF!+#REF!),"-") -> - | AE8: =(SUMIFS($G$1:$G$986,$A$1:$A$986,"*JL *")) -> 0 | AF8: =(SUMIFS($I$1:$I$986,$A$1:$A$986,"*JL *")) -> 0
Y9: PICKS SPLES | AA9: =IF((COUNTIF($A$1:$A$986,"*PS*")-1)<0,"0",(COUNTIF($A$1:$A$986,"*PS*")-1)) -> 0 | AB9: =IF($AC$35=0,"",(AA9)/$AC$35) | AC9: =(SUMIFS($H$1:$H$986,$A$1:$A$986,"*PS *")) -> 0 | AD9: =IFERROR(SUM(AE9+AF9)/SUM(AE9+AF9+#REF!+#REF!),"-") -> - | AE9: =(SUMIFS($G$1:$G$986,$A$1:$A$986,"*PS *")) -> 0 | AF9: =(SUMIFS($I$1:$I$986,$A$1:$A$986,"*PS *")) -> 0
Y10: P1 | AA10: =IF((COUNTIF($A$1:$A$986,"*P1 *"))<0,"0",(COUNTIF($A$1:$A$986,"*P1 *"))) -> 0 | AB10: =IF($AC$35=0,"",(AA10)/$AC$35) | AC10: =(SUMIFS($H$1:$H$986,$A$1:$A$986,"*P1 *")) -> 0 | AD10: =IFERROR((SUM(AC10+AE10))/SUM(AC10+AE10+AF10),"-") -> - | AE10: =(SUMIFS($G$1:$G$986,$A$1:$A$986,"*P1 *")) -> 0 | AF10: =(SUMIFS($I$1:$I$986,$A$1:$A$986,"*P1 *")) -> 0
Y11: P2 | AA11: =IF((COUNTIF($A$1:$A$986,"*P2*")-1)<0,"0",(COUNTIF($A$1:$A$986,"*P2*")-1)) -> 0 | AB11: =IF($AC$35=0,"",(AA11)/$AC$35) | AC11: =(SUMIFS($H$1:$H$986,$A$1:$A$986,"*P2 *")) -> 0 | AD11: =IFERROR(SUM(AE11+AF11)/SUM(AE11+AF11+#REF!+#REF!),"-") -> - | AE11: =(SUMIFS($G$1:$G$986,$A$1:$A$986,"*P2 *")) -> 0 | AF11: =(SUMIFS($I$1:$I$986,$A$1:$A$986,"*P2 *")) -> 0
Y12: P3 | AA12: =IF((COUNTIF($A$1:$A$986,"*P3*")-1)<0,"0",(COUNTIF($A$1:$A$986,"*P3*")-1)) -> 0 | AB12: =IF($AC$35=0,"",(AA12)/$AC$35) | AC12: =(SUMIFS($H$1:$H$986,$A$1:$A$986,"*P3 *")) -> 0 | AD12: =IFERROR(SUM(AE12+AF12)/SUM(AE12+AF12+#REF!+#REF!),"-") -> - | AE12: =(SUMIFS($G$1:$G$986,$A$1:$A$986,"*P3 *")) -> 0 | AF12: =(SUMIFS($I$1:$I$986,$A$1:$A$986,"*P3 *")) -> 0
Y13: P4 | AA13: =IF((COUNTIF($A$1:$A$986,"*P4*")-1)<0,"0",(COUNTIF($A$1:$A$986,"*P4*")-1)) -> 0 | AB13: =IF($AC$35=0,"",(AA13)/$AC$35) | AC13: =(SUMIFS($H$1:$H$986,$A$1:$A$986,"*P4 *")) -> 0 | AD13: =IFERROR(SUM(AE13+AF13)/SUM(AE13+AF13+#REF!+#REF!),"-") -> - | AE13: =(SUMIFS($G$1:$G$986,$A$1:$A$986,"*P4 *")) -> 0 | AF13: =(SUMIFS($I$1:$I$986,$A$1:$A$986,"*P4 *")) -> 0
Y14: P5 | AA14: =IF((COUNTIF($A$1:$A$986,"*P5*")-1)<0,"0",(COUNTIF($A$1:$A$986,"*P5*")-1)) -> 0 | AB14: =IF($AC$35=0,"",(AA14)/$AC$35) | AC14: =(SUMIFS($H$1:$H$986,$A$1:$A$986,"*P5 *")) -> 0 | AD14: =IFERROR(SUM(AE14+AF14)/SUM(AE14+AF14+#REF!+#REF!),"-") -> - | AE14: =(SUMIFS($G$1:$G$986,$A$1:$A$986,"*P5 *")) -> 0 | AF14: =(SUMIFS($I$1:$I$986,$A$1:$A$986,"*P5 *")) -> 0
Y15: P6 | AA15: =IF((COUNTIF($A$1:$A$986,"*P6*")-1)<0,"0",(COUNTIF($A$1:$A$986,"*P6*")-1)) -> 0 | AB15: =IF($AC$35=0,"",(AA15)/$AC$35) | AC15: =(SUMIFS($H$1:$H$986,$A$1:$A$986,"*P6 *")) -> 0 | AD15: =IFERROR(SUM(AE15+AF15)/SUM(AE15+AF15+#REF!+#REF!),"-") -> - | AE15: =(SUMIFS($G$1:$G$986,$A$1:$A$986,"*P6 *")) -> 0 | AF15: =(SUMIFS($I$1:$I$986,$A$1:$A$986,"*P6 *")) -> 0
Y16: P7 | AA16: =IF((COUNTIF($A$1:$A$986,"*P7*")-1)<0,"0",(COUNTIF($A$1:$A$986,"*P7*")-1)) -> 0 | AB16: =IF($AC$35=0,"",(AA16)/$AC$35) | AC16: =(SUMIFS($H$1:$H$986,$A$1:$A$986,"*P7 *")) -> 0 | AD16: =IFERROR(SUM(AE16+AF16)/SUM(AE16+AF16+#REF!+#REF!),"-") -> - | AE16: =(SUMIFS($G$1:$G$986,$A$1:$A$986,"*P7 *")) -> 0 | AF16: =(SUMIFS($I$1:$I$986,$A$1:$A$986,"*P7 *")) -> 0
Y17: P8 | AA17: =IF((COUNTIF($A$1:$A$986,"*P8*")-1)<0,"0",(COUNTIF($A$1:$A$986,"*P8*")-1)) -> 0 | AB17: =IF($AC$35=0,"",(AA17)/$AC$35) | AC17: =(SUMIFS($H$1:$H$986,$A$1:$A$986,"*P8 *")) -> 0 | AD17: =IFERROR(SUM(AE17+AF17)/SUM(AE17+AF17+#REF!+#REF!),"-") -> - | AE17: =(SUMIFS($G$1:$G$986,$A$1:$A$986,"*P8 *")) -> 0 | AF17: =(SUMIFS($I$1:$I$986,$A$1:$A$986,"*P8 *")) -> 0
Y18: P9 | AA18: =IF((COUNTIF($A$1:$A$986,"*P9*")-1)<0,"0",(COUNTIF($A$1:$A$986,"*P9*")-1)) -> 0 | AB18: =IF($AC$35=0,"",(AA18)/$AC$35) | AC18: =(SUMIFS($H$1:$H$986,$A$1:$A$986,"*P9 *")) -> 0 | AD18: =IFERROR(SUM(AE18+AF18)/SUM(AE18+AF18+#REF!+#REF!),"-") -> - | AE18: =(SUMIFS($G$1:$G$986,$A$1:$A$986,"*P9 *")) -> 0 | AF18: =(SUMIFS($I$1:$I$986,$A$1:$A$986,"*P9 *")) -> 0
Y19: P10 | AA19: =IF((COUNTIF($A$1:$A$986,"*P10*")-1)<0,"0",(COUNTIF($A$1:$A$986,"*P10*")-1)) -> 0 | AB19: =IF($AC$35=0,"",(AA19)/$AC$35) | AC19: =(SUMIFS($H$1:$H$986,$A$1:$A$986,"*P10 *")) -> 0 | AD19: =IFERROR(SUM(AE19+AF19)/SUM(AE19+AF19+#REF!+#REF!),"-") -> - | AE19: =(SUMIFS($G$1:$G$986,$A$1:$A$986,"*P10 *")) -> 0 | AF19: =(SUMIFS($I$1:$I$986,$A$1:$A$986,"*P10 *")) -> 0
Y20: P11 | AA20: =IF((COUNTIF($A$1:$A$986,"*P11*")-1)<0,"0",(COUNTIF($A$1:$A$986,"*P11*")-1)) -> 0 | AB20: =IF($AC$35=0,"",(AA20)/$AC$35) | AC20: =(SUMIFS($H$1:$H$986,$A$1:$A$986,"*P11 *")) -> 0 | AD20: =IFERROR(SUM(AE20+AF20)/SUM(AE20+AF20+#REF!+#REF!),"-") -> - | AE20: =(SUMIFS($G$1:$G$986,$A$1:$A$986,"*P11 *")) -> 0 | AF20: =(SUMIFS($I$1:$I$986,$A$1:$A$986,"*P11 *")) -> 0
Y21: P12 | AA21: =IF((COUNTIF($A$1:$A$986,"*P12*")-1)<0,"0",(COUNTIF($A$1:$A$986,"*P12*")-1)) -> 0 | AB21: =IF($AC$35=0,"",(AA21)/$AC$35) | AC21: =(SUMIFS($H$1:$H$986,$A$1:$A$986,"*P12 *")) -> 0 | AD21: =IFERROR(SUM(AE21+AF21)/SUM(AE21+AF21+#REF!+#REF!),"-") -> - | AE21: =(SUMIFS($G$1:$G$986,$A$1:$A$986,"*P12 *")) -> 0 | AF21: =(SUMIFS($I$1:$I$986,$A$1:$A$986,"*P12 *")) -> 0
Y22: P13 | AA22: =IF((COUNTIF($A$1:$A$986,"*P13*")-1)<0,"0",(COUNTIF($A$1:$A$986,"*P13*")-1)) -> 0 | AB22: =IF($AC$35=0,"",(AA22)/$AC$35) | AC22: =(SUMIFS($H$1:$H$986,$A$1:$A$986,"*P13 *")) -> 0 | AD22: =IFERROR(SUM(AE22+AF22)/SUM(AE22+AF22+#REF!+#REF!),"-") -> - | AE22: =(SUMIFS($G$1:$G$986,$A$1:$A$986,"*P13 *")) -> 0 | AF22: =(SUMIFS($I$1:$I$986,$A$1:$A$986,"*P13 *")) -> 0
Y23: P14 | AA23: =IF((COUNTIF($A$1:$A$986,"*P14*")-1)<0,"0",(COUNTIF($A$1:$A$986,"*P14*")-1)) -> 0 | AB23: =IF($AC$35=0,"",(AA23)/$AC$35) | AC23: =(SUMIFS($H$1:$H$986,$A$1:$A$986,"*P14 *")) -> 0 | AD23: =IFERROR(SUM(AE23+AF23)/SUM(AE23+AF23+#REF!+#REF!),"-") -> - | AE23: =(SUMIFS($G$1:$G$986,$A$1:$A$986,"*P14 *")) -> 0 | AF23: =(SUMIFS($I$1:$I$986,$A$1:$A$986,"*P14 *")) -> 0
Y24: P15 | AA24: =IF((COUNTIF($A$1:$A$986,"*P15*")-1)<0,"0",(COUNTIF($A$1:$A$986,"*P15*")-1)) -> 0 | AB24: =IF($AC$35=0,"",(AA24)/$AC$35) | AC24: =(SUMIFS($H$1:$H$986,$A$1:$A$986,"*P15 *")) -> 0 | AD24: =IFERROR(SUM(AE24+AF24)/SUM(AE24+AF24+#REF!+#REF!),"-") -> - | AE24: =(SUMIFS($G$1:$G$986,$A$1:$A$986,"*P15 *")) -> 0 | AF24: =(SUMIFS($I$1:$I$986,$A$1:$A$986,"*P15 *")) -> 0
Y25: P16 | AA25: =IF((COUNTIF($A$1:$A$986,"*P16*")-1)<0,"0",(COUNTIF($A$1:$A$986,"*P16*")-1)) -> 0 | AB25: =IF($AC$35=0,"",(AA25)/$AC$35) | AC25: =(SUMIFS($H$1:$H$986,$A$1:$A$986,"*P16 *")) -> 0 | AD25: =IFERROR(SUM(AE25+AF25)/SUM(AE25+AF25+#REF!+#REF!),"-") -> - | AE25: =(SUMIFS($G$1:$G$986,$A$1:$A$986,"*P16 *")) -> 0 | AF25: =(SUMIFS($I$1:$I$986,$A$1:$A$986,"*P16 *")) -> 0
Y26: SPANISH | AA26: =IF((COUNTIF($A$1:$A$986,"*SPANISH*")-1)<0,"0",(COUNTIF($A$1:$A$986,"*SPANISH*")-1)) -> 0 | AB26: =IF($AC$35=0,"",(AA26)/$AC$35) | AC26: =(SUMIFS($H$1:$H$986,$A$1:$A$986,"*SPANISH *")) -> 0 | AD26: =IFERROR(SUM(AE26+AF26)/SUM(AE26+AF26+#REF!+#REF!),"-") -> - | AE26: =(SUMIFS($G$1:$G$986,$A$1:$A$986,"*SPANISH *")) -> 0 | AF26: =(SUMIFS($I$1:$I$986,$A$1:$A$986,"*SPANISH *")) -> 0
