Workbook

Sheet M1 A
A1: CATEGORY: CA | AT1: LISTE EQUIPE
A2: Name | B2: Time | C2: Start | D2: Stop | E2: Team | F2: Player | G2: R | H2: R FG | I2: E | X2: JEU & SYSTEMES | AH2: nbre d'actions et masquer pour comptabiliser la renta tot sur plusieurs matchs | AT2: ASVEL FEM.
AT3: BASKET LANDES
A4: CATEGORY: P1 | AT4: BLMA
A5: Name | B5: Time | C5: Start | D5: Stop | E5: Team | F5: Player | G5: R | H5: R FG | I5: E | X5: CALLS | Y5: TYPE | AA5: NBRE O | AB5: % JOUE | AC5: FG made | AD5: EFF. | AE5: R | AF5: E | AH5: reprendre la MFC EFF main tableau ??? | AT5: CHARNAY BBS
A6: P1 001 | B6: 0.0019859838 | C6: 0.0018239468 | D6: 0.0020091319 | G6: 0 | H6: 1 | I6: 0 | Y6: CA | AA6: =IF((COUNTIF($A$1:$A$986,"*CA *"))<0,"0",(COUNTIF($A$1:$A$986,"*CA *"))) -> 0 | AB6: =IF($AC$35=0,"",(AA6)/$AC$35) -> 0 | AC6: =(SUMIFS($H$1:$H$986,$A$1:$A$986,"*CA *")) -> 0 | AD6: =IFERROR(SUM(AE6+AF6)/SUM(AE6+AF6+#REF!+#REF!),"-") -> - | AE6: =(SUMIFS($G$1:$G$986,$A$1:$A$986,"*CA *")) -> 0 | AF6: =(SUMIFS($I$1:$I$986,$A$1:$A$986,"*CA *")) -> 0 | AT6: CHARTRES BF
A7: P1 002 | B7: 0.0020084954 | C7: 0.0018464583 | D7: 0.0020316435 | G7: 0 | H7: 1 | I7: 0 | Y7: TRANSI | AA7: =IF((COUNTIF($A$1:$A$986,"*TRANSI*")-1)<0,"0",(COUNTIF($A$1:$A$986,"*TRANSI*")-1)) -> 5 | AB7: =IF($AC$35=0,"",(AA7)/$AC$35) -> 0.83333333 | AC7: =(SUMIFS($H$1:$H$986,$A$1:$A$986,"*TRANSI *")) -> 1 | AD7: =IFERROR(SUM(AC7+AE7)/SUM(AC7+AE7+AF7),"-") -> 0.6 | AE7: =(SUMIFS($G$1:$G$986,$A$1:$A$986,"*TRANSI *")) -> 2 | AF7: =SUMIFS($I$1:$I$986,$A$1:$A$986,"*TRANSI*") -> 2 | AT7: ESBVA
A8: P1 003 | B8: 0.002092338 | C8: 0.0019303009 | D8: 0.0021154861 | G8: 0 | H8: 0 | I8: 1 | Y8: JL | AA8: =IF((COUNTIF($A$1:$A$986,"*JL*")-1)<0,"0",(COUNTIF($A$1:$A$986,"*JL*")-1)) -> 0 | AB8: =IF($AC$35=0,"",(AA8)/$AC$35) -> 0 | AC8: =(SUMIFS($H$1:$H$986,$A$1:$A$986,"*JL *")) -> 0 | AD8: =IFERROR(SUM(AE8+AF8)/SUM(AE8+AF8+#REF!+#REF!),"-") -> - | AE8: =(SUMIFS($G$1:$G$986,$A$1:$A$986,"*JL *")) -> 0 | AF8: =(SUMIFS($I$1:$I$986,$A$1:$A$986,"*JL *")) -> 0 | AT8: FCB
A9: P1 004 | B9: 0.0021117361 | C9: 0.0019496991 | D9: 0.0021348843 | G9: 0 | H9: 0 | I9: 1 | Y9: PICKS SPLES | AA9: =IF((COUNTIF($A$1:$A$986,"*PS*")-1)<0,"0",(COUNTIF($A$1:$A$986,"*PS*")-1)) -> 0 | AB9: =IF($AC$35=0,"",(AA9)/$AC$35) -> 0 | AC9: =(SUMIFS($H$1:$H$986,$A$1:$A$986,"*PS *")) -> 0 | AD9: =IFERROR(SUM(AE9+AF9)/SUM(AE9+AF9+#REF!+#REF!),"-") -> - | AE9: =(SUMIFS($G$1:$G$986,$A$1:$A$986,"*PS *")) -> 0 | AF9: =(SUMIFS($I$1:$I$986,$A$1:$A$986,"*PS *")) -> 0 | AT9: LANDERNEAU BB
A10: P1 005 | B10: 0.0021311343 | C10: 0.0019690972 | D10: 0.0021542824 | G10: 0 | H10: 0 | I10: 1 | Y10: P1 | AA10: =IF((COUNTIF($A$1:$A$986,"*P1 *"))<0,"0",(COUNTIF($A$1:$A$986,"*P1 *"))) -> 5 | AB10: =IF($AC$35=0,"",(AA10)/$AC$35) -> 0.83333333 | AC10: =(SUMIFS($H$1:$H$986,$A$1:$A$986,"*P1 *")) -> 2 | AD10: =IFERROR((SUM(AC10+AE10))/SUM(AC10+AE10+AF10),"-") -> 0.4 | AE10: =(SUMIFS($G$1:$G$986,$A$1:$A$986,"*P1 *")) -> 0 | AF10: =(SUMIFS($I$1:$I$986,$A$1:$A$986,"*P1 *")) -> 3 | AT10: RVBC
Y11: P2 | AA11: =IF((COUNTIF($A$1:$A$986,"*P2*")-1)<0,"0",(COUNTIF($A$1:$A$986,"*P2*")-1)) -> 0 | AB11: =IF($AC$35=0,"",(AA11)/$AC$35) -> 0 | AC11: =(SUMIFS($H$1:$H$986,$A$1:$A$986,"*P2 *")) -> 0 | AD11: =IFERROR(SUM(AE11+AF11)/SUM(AE11+AF11+#REF!+#REF!),"-") -> - | AE11: =(SUMIFS($G$1:$G$986,$A$1:$A$986,"*P2 *")) -> 0 | AF11: =(SUMIFS($I$1:$I$986,$A$1:$A$986,"*P2 *")) -> 0 | AT11: TANGO BOURGES
A12: CATEGORY: P2 | Y12: P3 | AA12: =IF((COUNTIF($A$1:$A$986,"*P3*")-1)<0,"0",(COUNTIF($A$1:$A$986,"*P3*")-1)) -> 0 | AB12: =IF($AC$35=0,"",(AA12)/$AC$35) -> 0 | AC12: =(SUMIFS($H$1:$H$986,$A$1:$A$986,"*P3 *")) -> 0 | AD12: =IFERROR(SUM(AE12+AF12)/SUM(AE12+AF12+#REF!+#REF!),"-") -> - | AE12: =(SUMIFS($G$1:$G$986,$A$1:$A$986,"*P3 *")) -> 0 | AF12: =(SUMIFS($I$1:$I$986,$A$1:$A$986,"*P3 *")) -> 0 | AT12: TGB
A13: Name | B13: Time | C13: Start | D13: Stop | E13: Team | F13: Player | G13: R | H13: R FG | I13: E | Y13: P4 | AA13: =IF((COUNTIF($A$1:$A$986,"*P4*")-1)<0,"0",(COUNTIF($A$1:$A$986,"*P4*")-1)) -> 0 | AB13: =IF($AC$35=0,"",(AA13)/$AC$35) -> 0 | AC13: =(SUMIFS($H$1:$H$986,$A$1:$A$986,"*P4 *")) -> 0 | AD13: =IFERROR(SUM(AE13+AF13)/SUM(AE13+AF13+#REF!+#REF!),"-") -> - | AE13: =(SUMIFS($G$1:$G$986,$A$1:$A$986,"*P4 *")) -> 0 | AF13: =(SUMIFS($I$1:$I$986,$A$1:$A$986,"*P4 *")) -> 0 | AT13: UFAB 49
Y14: P5 | AA14: =IF((COUNTIF($A$1:$A$986,"*P5*")-1)<0,"0",(COUNTIF($A$1:$A$986,"*P5*")-1)) -> 0 | AB14: =IF($AC$35=0,"",(AA14)/$AC$35) -> 0 | AC14: =(SUMIFS($H$1:$H$986,$A$1:$A$986,"*P5 *")) -> 0 | AD14: =IFERROR(SUM(AE14+AF14)/SUM(AE14+AF14+#REF!+#REF!),"-") -> - | AE14: =(SUMIFS($G$1:$G$986,$A$1:$A$986,"*P5 *")) -> 0 | AF14: =(SUMIFS($I$1:$I$986,$A$1:$A$986,"*P5 *")) -> 0
A15: CATEGORY: P3 | Y15: P6 | AA15: =IF((COUNTIF($A$1:$A$986,"*P6*")-1)<0,"0",(COUNTIF($A$1:$A$986,"*P6*")-1)) -> 0 | AB15: =IF($AC$35=0,"",(AA15)/$AC$35) -> 0 | AC15: =(SUMIFS($H$1:$H$986,$A$1:$A$986,"*P6 *")) -> 0 | AD15: =IFERROR(SUM(AE15+AF15)/SUM(AE15+AF15+#REF!+#REF!),"-") -> - | AE15: =(SUMIFS($G$1:$G$986,$A$1:$A$986,"*P6 *")) -> 0 | AF15: =(SUMIFS($I$1:$I$986,$A$1:$A$986,"*P6 *")) -> 0
A16: Name | B16: Time | C16: Start | D16: Stop | E16: Team | F16: Player | G16: R | H16: R FG | I16: E | Y16: P7 | AA16: =IF((COUNTIF($A$1:$A$986,"*P7*")-1)<0,"0",(COUNTIF($A$1:$A$986,"*P7*")-1)) -> 0 | AB16: =IF($AC$35=0,"",(AA16)/$AC$35) -> 0 | AC16: =(SUMIFS($H$1:$H$986,$A$1:$A$986,"*P7 *")) -> 0 | AD16: =IFERROR(SUM(AE16+AF16)/SUM(AE16+AF16+#REF!+#REF!),"-") -> - | AE16: =(SUMIFS($G$1:$G$986,$A$1:$A$986,"*P7 *")) -> 0 | AF16: =(SUMIFS($I$1:$I$986,$A$1:$A$986,"*P7 *")) -> 0
Y17: P8 | AA17: =IF((COUNTIF($A$1:$A$986,"*P8*")-1)<0,"0",(COUNTIF($A$1:$A$986,"*P8*")-1)) -> 0 | AB17: =IF($AC$35=0,"",(AA17)/$AC$35) -> 0 | AC17: =(SUMIFS($H$1:$H$986,$A$1:$A$986,"*P8 *")) -> 0 | AD17: =IFERROR(SUM(AE17+AF17)/SUM(AE17+AF17+#REF!+#REF!),"-") -> - | AE17: =(SUMIFS($G$1:$G$986,$A$1:$A$986,"*P8 *")) -> 0 | AF17: =(SUMIFS($I$1:$I$986,$A$1:$A$986,"*P8 *")) -> 0
A18: CATEGORY: P4 | Y18: P9 | AA18: =IF((COUNTIF($A$1:$A$986,"*P9*")-1)<0,"0",(COUNTIF($A$1:$A$986,"*P9*")-1)) -> 0 | AB18: =IF($AC$35=0,"",(AA18)/$AC$35) -> 0 | AC18: =(SUMIFS($H$1:$H$986,$A$1:$A$986,"*P9 *")) -> 0 | AD18: =IFERROR(SUM(AE18+AF18)/SUM(AE18+AF18+#REF!+#REF!),"-") -> - | AE18: =(SUMIFS($G$1:$G$986,$A$1:$A$986,"*P9 *")) -> 0 | AF18: =(SUMIFS($I$1:$I$986,$A$1:$A$986,"*P9 *")) -> 0
A19: Name | B19: Time | C19: Start | D19: Stop | E19: Team | F19: Player | G19: R | H19: R FG | I19: E | Y19: P10 | AA19: =IF((COUNTIF($A$1:$A$986,"*P10*")-1)<0,"0",(COUNTIF($A$1:$A$986,"*P10*")-1)) -> 0 | AB19: =IF($AC$35=0,"",(AA19)/$AC$35) -> 0 | AC19: =(SUMIFS($H$1:$H$986,$A$1:$A$986,"*P10 *")) -> 0 | AD19: =IFERROR(SUM(AE19+AF19)/SUM(AE19+AF19+#REF!+#REF!),"-") -> - | AE19: =(SUMIFS($G$1:$G$986,$A$1:$A$986,"*P10 *")) -> 0 | AF19: =(SUMIFS($I$1:$I$986,$A$1:$A$986,"*P10 *")) -> 0
Y20: P11 | AA20: =IF((COUNTIF($A$1:$A$986,"*P11*")-1)<0,"0",(COUNTIF($A$1:$A$986,"*P11*")-1)) -> 0 | AB20: =IF($AC$35=0,"",(AA20)/$AC$35) -> 0 | AC20: =(SUMIFS($H$1:$H$986,$A$1:$A$986,"*P11 *")) -> 0 | AD20: =IFERROR(SUM(AE20+AF20)/SUM(AE20+AF20+#REF!+#REF!),"-") -> - | AE20: =(SUMIFS($G$1:$G$986,$A$1:$A$986,"*P11 *")) -> 0 | AF20: =(SUMIFS($I$1:$I$986,$A$1:$A$986,"*P11 *")) -> 0
A21: CATEGORY: P5 | Y21: P12 | AA21: =IF((COUNTIF($A$1:$A$986,"*P12*")-1)<0,"0",(COUNTIF($A$1:$A$986,"*P12*")-1)) -> 0 | AB21: =IF($AC$35=0,"",(AA21)/$AC$35) -> 0 | AC21: =(SUMIFS($H$1:$H$986,$A$1:$A$986,"*P12 *")) -> 0 | AD21: =IFERROR(SUM(AE21+AF21)/SUM(AE21+AF21+#REF!+#REF!),"-") -> - | AE21: =(SUMIFS($G$1:$G$986,$A$1:$A$986,"*P12 *")) -> 0 | AF21: =(SUMIFS($I$1:$I$986,$A$1:$A$986,"*P12 *")) -> 0
A22: Name | B22: Time | C22: Start | D22: Stop | E22: Team | F22: Player | G22: R | H22: R FG | I22: E | Y22: P13 | AA22: =IF((COUNTIF($A$1:$A$986,"*P13*")-1)<0,"0",(COUNTIF($A$1:$A$986,"*P13*")-1)) -> 0 | AB22: =IF($AC$35=0,"",(AA22)/$AC$35) -> 0 | AC22: =(SUMIFS($H$1:$H$986,$A$1:$A$986,"*P13 *")) -> 0 | AD22: =IFERROR(SUM(AE22+AF22)/SUM(AE22+AF22+#REF!+#REF!),"-") -> - | AE22: =(SUMIFS($G$1:$G$986,$A$1:$A$986,"*P13 *")) -> 0 | AF22: =(SUMIFS($I$1:$I$986,$A$1:$A$986,"*P13 *")) -> 0
Y23: P14 | AA23: =IF((COUNTIF($A$1:$A$986,"*P14*")-1)<0,"0",(COUNTIF($A$1:$A$986,"*P14*")-1)) -> 0 | AB23: =IF($AC$35=0,"",(AA23)/$AC$35) -> 0 | AC23: =(SUMIFS($H$1:$H$986,$A$1:$A$986,"*P14 *")) -> 0 | AD23: =IFERROR(SUM(AE23+AF23)/SUM(AE23+AF23+#REF!+#REF!),"-") -> - | AE23: =(SUMIFS($G$1:$G$986,$A$1:$A$986,"*P14 *")) -> 0 | AF23: =(SUMIFS($I$1:$I$986,$A$1:$A$986,"*P14 *")) -> 0
A24: CATEGORY: P6 | Y24: P15 | AA24: =IF((COUNTIF($A$1:$A$986,"*P15*")-1)<0,"0",(COUNTIF($A$1:$A$986,"*P15*")-1)) -> 0 | AB24: =IF($AC$35=0,"",(AA24)/$AC$35) -> 0 | AC24: =(SUMIFS($H$1:$H$986,$A$1:$A$986,"*P15 *")) -> 0 | AD24: =IFERROR(SUM(AE24+AF24)/SUM(AE24+AF24+#REF!+#REF!),"-") -> - | AE24: =(SUMIFS($G$1:$G$986,$A$1:$A$986,"*P15 *")) -> 0 | AF24: =(SUMIFS($I$1:$I$986,$A$1:$A$986,"*P15 *")) -> 0
A25: Name | B25: Time | C25: Start | D25: Stop | E25: Team | F25: Player | G25: R | H25: R FG | I25: E | Y25: P16 | AA25: =IF((COUNTIF($A$1:$A$986,"*P16*")-1)<0,"0",(COUNTIF($A$1:$A$986,"*P16*")-1)) -> 0 | AB25: =IF($AC$35=0,"",(AA25)/$AC$35) -> 0 | AC25: =(SUMIFS($H$1:$H$986,$A$1:$A$986,"*P16 *")) -> 0 | AD25: =IFERROR(SUM(AE25+AF25)/SUM(AE25+AF25+#REF!+#REF!),"-") -> - | AE25: =(SUMIFS($G$1:$G$986,$A$1:$A$986,"*P16 *")) -> 0 | AF25: =(SUMIFS($I$1:$I$986,$A$1:$A$986,"*P16 *")) -> 0
Y26: SPANISH | AA26: =IF((COUNTIF($A$1:$A$986,"*SPANISH*")-1)<0,"0",(COUNTIF($A$1:$A$986,"*SPANISH*")-1)) -> 0 | AB26: =IF($AC$35=0,"",(AA26)/$AC$35) -> 0 | AC26: =(SUMIFS($H$1:$H$986,$A$1:$A$986,"*SPANISH *")) -> 0 | AD26: =IFERROR(SUM(AE26+AF26)/SUM(AE26+AF26+#REF!+#REF!),"-") -> - | AE26: =(SUMIFS($G$1:$G$986,$A$1:$A$986,"*SPANISH *")) -> 0 | AF26: =(SUMIFS($I$1:$I$986,$A$1:$A$986,"*SPANISH *")) -> 0
A27: CATEGORY: P7 | Y27: DIVERS | AA27: =IF((COUNTIF($A$1:$A$986,"*DIVERS*")-1)<0,"0",(COUNTIF($A$1:$A$986,"*DIVERS*")-1)) -> 0 | AB27: =IF($AC$35=0,"",(AA27)/$AC$35) -> 0 | AC27: =(SUMIFS($H$1:$H$986,$A$1:$A$986,"*DIVERS *")) -> 0 | AD27: =IFERROR(SUM(AE27+AF27)/SUM(AE27+AF27+#REF!+#REF!),"-") -> - | AE27: =(SUMIFS($G$1:$G$986,$A$1:$A$986,"*DIVERS *")) -> 0 | AF27: =(SUMIFS($I$1:$I$986,$A$1:$A$986,"*DIVERS *")) -> 0
A28: Name | B28: Time | C28: Start | D28: Stop | E28: Team | F28: Player | G28: R | H28: R FG | I28: E | Y28: BLOBS | AA28: =IF((COUNTIF($A$1:$A$986,"*BLOBS*")-1)<0,"0",(COUNTIF($A$1:$A$986,"*BLOBS*")-1)) -> 0 | AB28: =IF($AC$35=0,"",(AA28)/$AC$35) -> 0 | AC28: =(SUMIFS($H$1:$H$986,$A$1:$A$986,"*BLOBS *")) -> 0 | AD28: =IFERROR(SUM(AE28+AF28)/SUM(AE28+AF28+#REF!+#REF!),"-") -> - | AE28: =(SUMIFS($G$1:$G$986,$A$1:$A$986,"*BLOBS *")) -> 0 | AF28: =(SUMIFS($I$1:$I$986,$A$1:$A$986,"*BLOBS *")) -> 0
Y29: SLOBS | AA29: =IF((COUNTIF($A$1:$A$986,"*SLOBS*")-1)<0,"0",(COUNTIF($A$1:$A$986,"*SLOBS*")-1)) -> 0 | AB29: =IF($AC$35=0,"",(AA29)/$AC$35) -> 0 | AC29: =(SUMIFS($H$1:$H$986,$A$1:$A$986,"*SLOBS *")) -> 0 | AD29: =IFERROR(SUM(AE29+AF29)/SUM(AE29+AF29+#REF!+#REF!),"-") -> - | AE29: =(SUMIFS($G$1:$G$986,$A$1:$A$986,"*SLOBS *")) -> 0 | AF29: =(SUMIFS($I$1:$I$986,$A$1:$A$986,"*SLOBS *")) -> 0
A30: CATEGORY: P8 | Y30: ZONE 1 | AA30: =IF((COUNTIF($A$1:$A$986,"*Z OFF 1*")-1)<0,"0",(COUNTIF($A$1:$A$986,"*Z OFF 1*")-1)) -> 0 | AB30: =IF($AC$35=0,"",(AA30)/$AC$35) -> 0 | AC30: =(SUMIFS($H$1:$H$986,$A$1:$A$986,"*Z OFF 1 *")) -> 0 | AD30: =IFERROR(SUM(AE30+AF30)/SUM(AE30+AF30+#REF!+#REF!),"-") -> - | AE30: =(SUMIFS($G$1:$G$986,$A$1:$A$986,"*Z OFF 1 *")) -> 0 | AF30: =(SUMIFS($I$1:$I$986,$A$1:$A$986,"*Z OFF 1 *")) -> 0
A31: Name | B31: Time | C31: Start | D31: Stop | E31: Team | F31: Player | G31: R | H31: R FG | I31: E | Y31: ZONE 2 | AA31: =IF((COUNTIF($A$1:$A$986,"*Z OFF 2*")-1)<0,"0",(COUNTIF($A$1:$A$986,"*Z OFF 2*")-1)) -> 0 | AB31: =IF($AC$35=0,"",(AA31)/$AC$35) -> 0 | AC31: =(SUMIFS($H$1:$H$986,$A$1:$A$986,"*Z OFF 2 *")) -> 0 | AD31: =IFERROR(SUM(AE31+AF31)/SUM(AE31+AF31+#REF!+#REF!),"-") -> - | AE31: =(SUMIFS($G$1:$G$986,$A$1:$A$986,"*Z OFF 2 *")) -> 0 | AF31: =(SUMIFS($I$1:$I$986,$A$1:$A$986,"*Z OFF 2 *")) -> 0
X32: TOTAL | AC32: FG made | AD32: FG % | AE32: R % | AF32: E %
A33: CATEGORY: P9 | AC33: =SUM(AC6:AC31) -> 3 | AD33: =AC33/AC35 -> 0.5 | AE33: =(SUM(AE6:AE31))/AC35 -> 0.33333333 | AF33: =(SUM(AF6:AF31))/AC35 -> 0.83333333
A34: Name | B34: Time | C34: Start | D34: Stop | E34: Team | F34: Player | G34: R | H34: R FG | I34: E | AB34: NBRE O | AC34: PTS | AD34: RENTABILITE
AB35: =SUM(AA6:AA31) -> 10 | AC35: 6 | AD35: PPO | AF35: =IFERROR((AC35/AB35),"-") -> 0.6
A36: CATEGORY: P10
A37: Name | B37: Time | C37: Start | D37: Stop | E37: Team | F37: Player | G37: R | H37: R FG | I37: E | AD37: RATIO ACTIONS + | AF37: =((SUM(AE6:AE31)+AC33))/(SUM(AE6:AE31)+(SUM(AF6:AF31)+AC33)) -> 0.5
A39: CATEGORY: P11 | AB39: PNR OFFENSIFS 1/2 TERRAIN
A40: Name | B40: Time | C40: Start | D40: Stop | E40: Team | F40: Player | G40: R | H40: R FG | I40: E
A42: CATEGORY: P12 | X42: LEFT OFF | Y42: MID OFF | AB42: RIGHT OFF | AD42: EFFICACITE OFF SELON COUVERTURES DEF
A43: Name | B43: Time | C43: Start | D43: Stop | E43: Team | F43: Player | G43: R | H43: R FG | I43: E | X43: =IFERROR((SUMIFS($G$1:$G$814,$A$1:$A$814,"*" &X$42& " *")+ SUMIFS($I$1:$I$814,$A$1:$A$814,"*" &X$42& " *")+ SUMIFS($K$1:$K$814,$A$1:$A$814,"*" &X$42& " *")+ SUMIFS($M$1:$M$814,$A$1:$A$814,"*" &X$42& " *")+ SUMIFS($O$1:$O$814,$A$1:$A$814,"*" &X$42& " *")+ SUMIFS($Q$1:$Q$814,$A$1:$A$814,"*" &X$42& " *"))/X$52,0) -> 0 | Y43: =IFERROR((SUMIFS($G$1:$G$814,$A$1:$A$814,"*" &Y$42& " *")+ SUMIFS($I$1:$I$814,$A$1:$A$814,"*" &Y$42& " *")+ SUMIFS($K$1:$K$814,$A$1:$A$814,"*" &Y$42& " *")+ SUMIFS($M$1:$M$814,$A$1:$A$814,"*" &Y$42& " *")+ SUMIFS($O$1:$O$814,$A$1:$A$814,"*" &Y$42& " *")+ SUMIFS($Q$1:$Q$814,$A$1:$A$814,"*" &Y$42& " *"))/Y$52,0) -> 0 | AB43: =IFERROR((SUMIFS($G$1:$G$814,$A$1:$A$814,"*" &AB$42& " *")+ SUMIFS($I$1:$I$814,$A$1:$A$814,"*" &AB$42& " *")+ SUMIFS($K$1:$K$814,$A$1:$A$814,"*" &AB$42& " *")+ SUMIFS($M$1:$M$814,$A$1:$A$814,"*" &AB$42& " *")+ SUMIFS($O$1:$O$814,$A$1:$A$814,"*" &AB$42& " *")+ SUMIFS($Q$1:$Q$814,$A$1:$A$814,"*" &AB$42& " *"))/AB$52,0) -> 0.75 | AE43: SIDE | AH43: MID
AE44: B | AF44: TOT | AG44: % B | AH44: B | AI44: TOT | AJ44: % B
A45: CATEGORY: P13 | AD45: UNDER | AE45: =((SUMIFS($G$1:$G$814,$A$1:$A$814,"*RIGHT OFF *")+SUMIFS($G$1:$G$814,$A$1:$A$814,"*LEFT OFF *"))) -> 2 | AF45: =((AE45)+SUMIFS($H$1:$H$814,$A$1:$A$814,"*RIGHT OFF *")+SUMIFS($H$1:$H$814,$A$1:$A$814,"*LEFT OFF *")) -> 3 | AG45: =IFERROR((AE45/AF45),"-") -> 0.66666667 | AH45: =SUMIFS($G$1:$G$814,$A$1:$A$814,"*MID OFF *") -> 0 | AI45: =(AH45)+(SUMIFS($H$1:$H$814,$A$1:$A$814,"*MID OFF *")) -> 0 | AJ45: =IFERROR((AH45/AI45),"-") -> -
A46: Name | B46: Time | C46: Start | D46: Stop | E46: Team | F46: Player | G46: R | H46: R FG | I46: E | AD46: PROTECT | AE46: =((SUMIFS($I$1:$I$814,$A$1:$A$814,"*RIGHT OFF *")+SUMIFS($I$1:$I$814,$A$1:$A$814,"*LEFT OFF *"))) -> 3 | AF46: =((AE46)+SUMIFS($J$1:$J$814,$A$1:$A$814,"*RIGHT OFF *")+SUMIFS($J$1:$J$814,$A$1:$A$814,"*LEFT OFF *")) -> 4 | AG46: =IFERROR((AE46/AF46),"-") -> 0.75 | AH46: =SUMIFS($I$1:$I$814,$A$1:$A$814,"*MID OFF *") -> 0 | AI46: =(AH46)+(SUMIFS($J$1:$J$814,$A$1:$A$814,"*MID OFF *")) -> 0 | AJ46: =IFERROR((AH46/AI46),"-") -> -
X47: ACTIONS BENEFIQUES | Y47: ACTIONS BENEFIQUES | AB47: ACTIONS BENEFIQUES | AD47: AGRESSIVE | AE47: =((SUMIFS($K$1:$K$814,$A$1:$A$814,"*RIGHT OFF *")+SUMIFS($K$1:$K$814,$A$1:$A$814,"*LEFT OFF *"))) -> 5 | AF47: =((AE47)+SUMIFS($L$1:$L$814,$A$1:$A$814,"*RIGHT OFF *")+SUMIFS($L$1:$L$814,$A$1:$A$814,"*LEFT OFF *")) -> 6 | AG47: =IFERROR((AE47/AF47),"-") -> 0.83333333 | AH47: =SUMIFS($K$1:$K$814,$A$1:$A$814,"*MID OFF *") -> 0 | AI47: =(AH47)+(SUMIFS($L$1:$L$814,$A$1:$A$814,"*MID OFF *")) -> 0 | AJ47: =IFERROR((AH47/AI47),"-") -> -
A48: CATEGORY: P14 | AD48: SWITCH | AE48: =((SUMIFS($M$1:$M$814,$A$1:$A$814,"*RIGHT OFF *")+SUMIFS($M$1:$M$814,$A$1:$A$814,"*LEFT OFF *"))) -> 3 | AF48: =((AE48)+SUMIFS($N$1:$N$814,$A$1:$A$814,"*RIGHT OFF *")+SUMIFS($N$1:$N$814,$A$1:$A$814,"*LEFT OFF *")) -> 4 | AG48: =IFERROR((AE48/AF48),"-") -> 0.75 | AH48: =SUMIFS($M$1:$M$814,$A$1:$A$814,"*MID OFF *") -> 0 | AI48: =(AH48)+(SUMIFS($N$1:$N$814,$A$1:$A$814,"*MID OFF *")) -> 0 | AJ48: =IFERROR((AH48/AI48),"-") -> -
A49: Name | B49: Time | C49: Start | D49: Stop | E49: Team | F49: Player | G49: R | H49: R FG | I49: E | AD49: ICE | AE49: =((SUMIFS($O$1:$O$814,$A$1:$A$814,"*RIGHT OFF *")+SUMIFS($O$1:$O$814,$A$1:$A$814,"*LEFT OFF *"))) -> 2 | AF49: =((AE49)+SUMIFS($P$1:$P$814,$A$1:$A$814,"*RIGHT OFF *")+SUMIFS($P$1:$P$814,$A$1:$A$814,"*LEFT OFF *")) -> 3 | AG49: =IFERROR((AE49/AF49),"-") -> 0.66666667 | AH49: =SUMIFS($O$1:$O$814,$A$1:$A$814,"*MID OFF *") -> 0 | AI49: =(AH49)+(SUMIFS($P$1:$P$814,$A$1:$A$814,"*MID OFF *")) -> 0 | AJ49: =IFERROR((AH49/AI49),"-") -> -
X50: sur | Y50: sur | AB50: sur | AD50: WEAK | AE50: =((SUMIFS($Q$1:$Q$814,$A$1:$A$814,"*RIGHT OFF *")+SUMIFS($Q$1:$Q$814,$A$1:$A$814,"*LEFT OFF *"))) -> 0 | AF50: =((AE50)+SUMIFS($R$1:$R$814,$A$1:$A$814,"*RIGHT OFF *")+SUMIFS($R$1:$R$814,$A$1:$A$814,"*LEFT OFF *")) -> 0 | AG50: =IFERROR((AE50/AF50),"-") -> - | AH50: =SUMIFS($Q$1:$Q$814,$A$1:$A$814,"*MID OFF *") -> 0 | AI50: =(AH50)+(SUMIFS($R$1:$R$814,$A$1:$A$814,"*MID OFF *")) -> 0 | AJ50: =IFERROR((AH50/AI50),"-") -> -
A51: CATEGORY: P15
A52: Name | B52: Time | C52: Start | D52: Stop | E52: Team | F52: Player | G52: R | H52: R FG | I52: E | X52: =IF((COUNTIF($A$1:$A$986,"*" &X$42& " *"))<0,"0",(COUNTIF($A$1:$A$986,"*" &X$42& " *"))) -> 0 | Y52: =IF((COUNTIF($A$1:$A$986,"*" &Y$42& " *"))<0,"0",(COUNTIF($A$1:$A$986,"*" &Y$42& " *"))) -> 0 | Z52: =IF((COUNTIF($A$1:$A$986,"*" &Z$42& " *"))<0,"0",(COUNTIF($A$1:$A$986,"*" &Z$42& " *"))) -> 64 | AA52: =IF((COUNTIF($A$1:$A$986,"*" &AA$42& " *"))<0,"0",(COUNTIF($A$1:$A$986,"*" &AA$42& " *"))) -> 64 | AB52: =IF((COUNTIF($A$1:$A$986,"*" &AB$42& " *"))<0,"0",(COUNTIF($A$1:$A$986,"*" &AB$42& " *"))) -> 20
AE53: ROUGE = HAUT RENDEMENT | AH53: 80 à 100%
A54: CATEGORY: PS | AE54: ORANGE = BON RENDEMENT | AH54: 65 à 79,99%
A55: Name | B55: Time | C55: Start | D55: Stop | E55: Team | F55: Player | G55: R | H55: R FG | I55: E | X55: PNR joués | Y55: PNR joués | AB55: PNR joués | AE55: JAUNE = RENDEMENT MOYEN | AH55: 50 à 64,99%
AE56: BLEU = RENDEMENT FAIBLE | AH56: inf à 49,99%
A57: CATEGORY: JL
A58: Name | B58: Time | C58: Start | D58: Stop | E58: Team | F58: Player | G58: R | H58: R FG | I58: E
AB59: PNR DEFENSIFS 1/2 TERRAIN
A60: CATEGORY: TRANSI
A61: Name | B61: Time | C61: Start | D61: Stop | E61: Team | F61: Player | G61: R | H61: R FG | I61: E
A62: TRANSI 001 | B62: 0.001708831 | C62: 0.0015699421 | D62: 0.0017319792 | G62: 0 | H62: 0 | I62: 1 | X62: LEFT DEF | Y62: MID DEF | AB62: RIGHT DEF | AD62: EFFICACITE DEF DES COUVERTURES
A63: TRANSI 002 | B63: 0.0017753472 | C63: 0.0016364583 | D63: 0.0017984954 | G63: 0 | H63: 0 | I63: 1 | X63: =IFERROR((SUMIFS($H$1:$H$814,$A$1:$A$814,"*" & X$62&" *")+ SUMIFS($J$1:$J$814,$A$1:$A$814,"*" & X$62&" *")+ SUMIFS($L$1:$L$814,$A$1:$A$814,"*" & X$62&" *")+ SUMIFS($N$1:$N$814,$A$1:$A$814,"*" & X$62&" *")+ SUMIFS($P$1:$P$814,$A$1:$A$814,"*" & X$62&" *")+ SUMIFS($R$1:$R$814,$A$1:$A$814,"*" & X$62&" *"))/(AA72),0) -> 0 | Y63: =IFERROR((SUMIFS($H$1:$H$814,$A$1:$A$814,"*" & Y$62&" *")+ SUMIFS($J$1:$J$814,$A$1:$A$814,"*" & Y$62&" *")+ SUMIFS($L$1:$L$814,$A$1:$A$814,"*" & Y$62&" *")+ SUMIFS($N$1:$N$814,$A$1:$A$814,"*" & Y$62&" *")+ SUMIFS($P$1:$P$814,$A$1:$A$814,"*" & Y$62&" *")+ SUMIFS($R$1:$R$814,$A$1:$A$814,"*" & Y$62&" *"))/(AB72),0) -> 0 | AB63: =IFERROR((SUMIFS($H$1:$H$814,$A$1:$A$814,"*" & AB$62&" *")+ SUMIFS($J$1:$J$814,$A$1:$A$814,"*" & AB$62&" *")+ SUMIFS($L$1:$L$814,$A$1:$A$814,"*" & AB$62&" *")+ SUMIFS($N$1:$N$814,$A$1:$A$814,"*" & AB$62&" *")+ SUMIFS($P$1:$P$814,$A$1:$A$814,"*" & AB$62&" *")+ SUMIFS($R$1:$R$814,$A$1:$A$814,"*" & AB$62&" *"))/(AE72),0) -> 0 | AE63: SIDE | AH63: MID
A64: TRANSI 003 | B64: 0.0018075694 | C64: 0.0016686806 | D64: 0.0018307176 | G64: 0 | H64: 1 | I64: 0 | AE64: S | AF64: TOT | AG64: % S | AH64: S | AI64: TOT | AJ64: % S
A65: TRANSI 004 | B65: 0.0018758102 | C65: 0.0017369213 | D65: 0.0018989583 | G65: 1 | H65: 0 | I65: 0 | AD65: UNDER | AE65: =((SUMIFS($H$1:$H$814,$A$1:$A$814,"*RIGHT DEF *")+SUMIFS($H$1:$H$814,$A$1:$A$814,"*LEFT DEF *"))) -> 0 | AF65: =((AE65)+SUMIFS($G$1:$G$814,$A$1:$A$814,"*RIGHT DEF *")+SUMIFS($G$1:$G$814,$A$1:$A$814,"*LEFT DEF *")) -> 0 | AG65: =IFERROR((AE65/AF65),"-") -> - | AH65: =SUMIFS($H$1:$H$814,$A$1:$A$814,"*MID DEF *") -> 0 | AI65: =(AH65)+(SUMIFS($G$1:$G$814,$A$1:$A$814,"*MID DEF *")) -> 0 | AJ65: =IFERROR((AH65/AI65),"-") -> -
A66: TRANSI 005 | B66: 0.0019412963 | C66: 0.0018024074 | D66: 0.0019644444 | G66: 1 | H66: 0 | I66: 0 | AD66: PROTECT | AE66: =((SUMIFS($J$1:$J$814,$A$1:$A$814,"*RIGHT DEF *")+SUMIFS($J$1:$J$814,$A$1:$A$814,"*LEFT DEF *"))) -> 0 | AF66: =((AE66)+SUMIFS($I$1:$I$814,$A$1:$A$814,"*RIGHT DEF *")+SUMIFS($I$1:$I$814,$A$1:$A$814,"*LEFT DEF *")) -> 0 | AG66: =IFERROR((AE66/AF66),"-") -> - | AH66: =SUMIFS($J$1:$J$814,$A$1:$A$814,"*MID DEF *") -> 0 | AI66: =(AH66)+(SUMIFS($I$1:$I$814,$A$1:$A$814,"*MID DEF *")) -> 0 | AJ66: =IFERROR((AH66/AI66),"-") -> -
X67: STOPS | Y67: STOPS | AB67: STOPS | AD67: AGRESSIVE | AE67: =((SUMIFS($L$1:$L$814,$A$1:$A$814,"*RIGHT DEF *")+SUMIFS($L$1:$L$814,$A$1:$A$814,"*LEFT DEF *"))) -> 0 | AF67: =((AE67)+SUMIFS($K$1:$K$814,$A$1:$A$814,"*RIGHT DEF *")+SUMIFS($K$1:$K$814,$A$1:$A$814,"*LEFT DEF *")) -> 0 | AG67: =IFERROR((AE67/AF67),"-") -> - | AH67: =SUMIFS($L$1:$L$814,$A$1:$A$814,"*MID DEF *") -> 0 | AI67: =(AH67)+(SUMIFS($K$1:$K$814,$A$1:$A$814,"*MID DEF *")) -> 0 | AJ67: =IFERROR((AH67/AI67),"-") -> -
A68: CATEGORY: SLOBS | AD68: SWITCH | AE68: =((SUMIFS($N$1:$N$814,$A$1:$A$814,"*RIGHT DEF *")+SUMIFS($N$1:$N$814,$A$1:$A$814,"*LEFT DEF *"))) -> 0 | AF68: =((AE68)+SUMIFS($M$1:$M$814,$A$1:$A$814,"*RIGHT DEF *")+SUMIFS($M$1:$M$814,$A$1:$A$814,"*LEFT DEF *")) -> 0 | AG68: =IFERROR((AE68/AF68),"-") -> - | AH68: =SUMIFS($N$1:$N$814,$A$1:$A$814,"*MID DEF *") -> 0 | AI68: =(AH68)+(SUMIFS($M$1:$M$814,$A$1:$A$814,"*MID DEF *")) -> 0 | AJ68: =IFERROR((AH68/AI68),"-") -> -
A69: Name | B69: Time | C69: Start | D69: Stop | E69: Team | F69: Player | G69: R | H69: R FG | I69: E | AD69: ICE | AE69: =((SUMIFS($P$1:$P$814,$A$1:$A$814,"*RIGHT DEF *")+SUMIFS($P$1:$P$814,$A$1:$A$814,"*LEFT DEF *"))) -> 0 | AF69: =((AE69)+SUMIFS($O$1:$O$814,$A$1:$A$814,"*RIGHT DEF *")+SUMIFS($O$1:$O$814,$A$1:$A$814,"*LEFT DEF *")) -> 0 | AG69: =IFERROR((AE69/AF69),"-") -> - | AH69: =SUMIFS($P$1:$P$814,$A$1:$A$814,"*MID DEF *") -> 0 | AI69: =(AH69)+(SUMIFS($O$1:$O$814,$A$1:$A$814,"*MID DEF *")) -> 0 | AJ69: =IFERROR((AH69/AI69),"-") -> -
X70: sur | Y70: sur | AB70: sur | AD70: WEAK | AE70: =((SUMIFS($R$1:$R$814,$A$1:$A$814,"*RIGHT DEF *")+SUMIFS($R$1:$R$814,$A$1:$A$814,"*LEFT DEF *"))) -> 0 | AF70: =((AE70)+SUMIFS($Q$1:$Q$814,$A$1:$A$814,"*RIGHT DEF *")+SUMIFS($Q$1:$Q$814,$A$1:$A$814,"*LEFT DEF *")) -> 0 | AG70: =IFERROR((AE70/AF70),"-") -> - | AH70: =SUMIFS($R$1:$R$814,$A$1:$A$814,"*MID DEF *") -> 0 | AI70: =(AH70)+(SUMIFS($Q$1:$Q$814,$A$1:$A$814,"*MID DEF *")) -> 0 | AJ70: =IFERROR((AH70/AI70),"-") -> -
A71: CATEGORY: BLOBS
A72: Name | B72: Time | C72: Start | D72: Stop | E72: Team | F72: Player | G72: R | H72: R FG | I72: E | X72: =IF((COUNTIF($A$1:$A$986,"*"&X$62&" *"))<0,"0",(COUNTIF($A$1:$A$986,"*"&X$62&" *"))) -> 0 | Y72: =IF((COUNTIF($A$1:$A$986,"*"&Y$62&" *"))<0,"0",(COUNTIF($A$1:$A$986,"*"&Y$62&" *"))) -> 0 | Z72: =IF((COUNTIF($A$1:$A$986,"*"&Z$62&" *"))<0,"0",(COUNTIF($A$1:$A$986,"*"&Z$62&" *"))) -> 64 | AA72: =IF((COUNTIF($A$1:$A$986,"*"&AA$62&" *"))<0,"0",(COUNTIF($A$1:$A$986,"*"&AA$62&" *"))) -> 64 | AB72: =IF((COUNTIF($A$1:$A$986,"*"&AB$62&" *"))<0,"0",(COUNTIF($A$1:$A$986,"*"&AB$62&" *"))) -> 0
A74: CATEGORY: DIVERS
A75: Name | B75: Time | C75: Start | D75: Stop | E75: Team | F75: Player | G75: R | H75: R FG | I75: E | X75: PNR joués | Y75: PNR joués | AB75: PNR joués
A77: CATEGORY: SPANISH
A78: Name | B78: Time | C78: Start | D78: Stop | E78: Team | F78: Player | G78: R | H78: R FG | I78: E
A80: CATEGORY: P16
A81: Name | B81: Time | C81: Start | D81: Stop | E81: Team | F81: Player | G81: R | H81: R FG | I81: E
A83: CATEGORY: Z OFF 1
A84: Name | B84: Time | C84: Start | D84: Stop | E84: Team | F84: Player | G84: R | H84: R FG | I84: E
A86: CATEGORY: Z OFF 2
A87: Name | B87: Time | C87: Start | D87: Stop | E87: Team | F87: Player | G87: R | H87: R FG | I87: E
A89: CATEGORY: DEF AUTRES
A90: Name | B90: Time | C90: Start | D90: Stop | E90: Team | F90: Player | G90: R | H90: E
A92: CATEGORY: LEFT DEF
A93: Name | B93: Time | C93: Start | D93: Stop | E93: Team | F93: Player | G93: UND + | H93: UND - | I93: PROT + | J93: PROT - | K93: AGRV + | L93: AGRV - | M93: X + | N93: X - | O93: ICE + | P93: ICE - | Q93: WEAK + | R93: WEAK -
A95: CATEGORY: RIGHT DEF
A96: Name | B96: Time | C96: Start | D96: Stop | E96: Team | F96: Player | G96: UND + | H96: UND - | I96: PROT + | J96: PROT - | K96: AGRV + | L96: AGRV - | M96: X + | N96: X - | O96: ICE + | P96: ICE - | Q96: WEAK + | R96: WEAK -
A98: CATEGORY: MID DEF
A99: Name | B99: Time | C99: Start | D99: Stop | E99: Team | F99: Player | G99: UND + | H99: UND - | I99: PROT + | J99: PROT - | K99: AGRV + | L99: AGRV - | M99: X + | N99: X - | O99: ICE + | P99: ICE - | Q99: WEAK + | R99: WEAK -
A101: CATEGORY: RIGHT OFF
A102: Name | B102: Time | C102: Start | D102: Stop | E102: Team | F102: Player | G102: UND + | H102: UND - | I102: PROT + | J102: PROT - | K102: AGRV + | L102: AGRV - | M102: X + | N102: X - | O102: ICE + | P102: ICE - | Q102: WEAK + | R102: WEAK -
A103: RIGHT OFF 001 | B103: 0.00022158565 | C103: 0.00010584491 | D103: 0.0002447338 | G103: 1 | H103: 0 | I103: 0 | J103: 0 | K103: 0 | L103: 0 | M103: 0 | N103: 0 | O103: 0 | P103: 0 | Q103: 0 | R103: 0
A104: RIGHT OFF 002 | B104: 0.0002815162 | C104: 0.00016577546 | D104: 0.00030466435 | G104: 1 | H104: 0 | I104: 0 | J104: 0 | K104: 0 | L104: 0 | M104: 0 | N104: 0 | O104: 0 | P104: 0 | Q104: 0 | R104: 0
A105: RIGHT OFF 003 | B105: 0.00032759259 | C105: 0.00021185185 | D105: 0.00035074074 | G105: 0 | H105: 0 | I105: 1 | J105: 0 | K105: 0 | L105: 0 | M105: 0 | N105: 0 | O105: 0 | P105: 0 | Q105: 0 | R105: 0
A106: RIGHT OFF 004 | B106: 0.00040347222 | C106: 0.00028773148 | D106: 0.00042662037 | G106: 0 | H106: 0 | I106: 1 | J106: 0 | K106: 0 | L106: 0 | M106: 0 | N106: 0 | O106: 0 | P106: 0 | Q106: 0 | R106: 0
A107: RIGHT OFF 005 | B107: 0.00044572917 | C107: 0.00032998843 | D107: 0.00046887731 | G107: 0 | H107: 0 | I107: 1 | J107: 0 | K107: 0 | L107: 0 | M107: 0 | N107: 0 | O107: 0 | P107: 0 | Q107: 0 | R107: 0
A108: RIGHT OFF 006 | B108: 0.00059850694 | C108: 0.0004827662 | D108: 0.00062165509 | G108: 0 | H108: 0 | I108: 0 | J108: 0 | K108: 1 | L108: 0 | M108: 0 | N108: 0 | O108: 0 | P108: 0 | Q108: 0 | R108: 0
A109: RIGHT OFF 007 | B109: 0.00062310185 | C109: 0.00050736111 | D109: 0.00064625 | G109: 0 | H109: 0 | I109: 0 | J109: 0 | K109: 1 | L109: 0 | M109: 0 | N109: 0 | O109: 0 | P109: 0 | Q109: 0 | R109: 0
A110: RIGHT OFF 008 | B110: 0.00064736111 | C110: 0.00053162037 | D110: 0.00067050926 | G110: 0 | H110: 0 | I110: 0 | J110: 0 | K110: 1 | L110: 0 | M110: 0 | N110: 0 | O110: 0 | P110: 0 | Q110: 0 | R110: 0
A111: RIGHT OFF 009 | B111: 0.00066917824 | C111: 0.0005534375 | D111: 0.00069232639 | G111: 0 | H111: 0 | I111: 0 | J111: 0 | K111: 1 | L111: 0 | M111: 0 | N111: 0 | O111: 0 | P111: 0 | Q111: 0 | R111: 0
A112: RIGHT OFF 010 | B112: 0.00069170139 | C112: 0.00057596065 | D112: 0.00071484954 | G112: 0 | H112: 0 | I112: 0 | J112: 0 | K112: 1 | L112: 0 | M112: 0 | N112: 0 | O112: 0 | P112: 0 | Q112: 0 | R112: 0
...

Sheet M2 A
X2: JEU & SYSTEMES
X5: CALLS | Y5: TYPE | AA5: NBRE O | AB5: % JOUE | AC5: FG made | AD5: EFF. | AE5: R | AF5: E
Y6: CA | AA6: =IF((COUNTIF($A$1:$A$986,"*CA *"))<0,"0",(COUNTIF($A$1:$A$986,"*CA *"))) -> 0 | AB6: =IF($AC$35=0,"",(AA6)/$AC$35) | AC6: =(SUMIFS($H$1:$H$986,$A$1:$A$986,"*CA *")) -> 0 | AD6: =IFERROR(SUM(AE6+AF6)/SUM(AE6+AF6+#REF!+#REF!),"-") -> - | AE6: =(SUMIFS($G$1:$G$986,$A$1:$A$986,"*CA *")) -> 0 | AF6: =(SUMIFS($I$1:$I$986,$A$1:$A$986,"*CA *")) -> 0
Y7: TRANSI | AA7: =IF((COUNTIF($A$1:$A$986,"*TRANSI*")-1)<0,"0",(COUNTIF($A$1:$A$986,"*TRANSI*")-1)) -> 0 | AB7: =IF($AC$35=0,"",(AA7)/$AC$35) | AC7: =(SUMIFS($H$1:$H$986,$A$1:$A$986,"*TRANSI *")) -> 0 | AD7: =IFERROR(SUM(AC7+AE7)/SUM(AC7+AE7+AF7),"-") -> - | AE7: =(SUMIFS($G$1:$G$986,$A$1:$A$986,"*TRANSI *")) -> 0 | AF7: =SUMIFS($I$1:$I$986,$A$1:$A$986,"*TRANSI*") -> 0
Y8: JL | AA8: =IF((COUNTIF($A$1:$A$986,"*JL*")-1)<0,"0",(COUNTIF($A$1:$A$986,"*JL*")-1)) -> 0 | AB8: =IF($AC$35=0,"",(AA8)/$AC$35) | AC8: =(SUMIFS($H$1:$H$986,$A$1:$A$986,"*JL *")) -> 0 | AD8: =IFERROR(SUM(AE8+AF8)/SUM(AE8+AF8+#REF!+#REF!),"-") -> - | AE8: =(SUMIFS($G$1:$G$986,$A$1:$A$986,"*JL *")) -> 0 | AF8: =(SUMIFS($I$1:$I$986,$A$1:$A$986,"*JL *")) -> 0
Y9: PICKS SPLES | AA9: =IF((COUNTIF($A$1:$A$986,"*PS*")-1)<0,"0",(COUNTIF($A$1:$A$986,"*PS*")-1)) -> 0 | AB9: =IF($AC$35=0,"",(AA9)/$AC$35) | AC9: =(SUMIFS($H$1:$H$986,$A$1:$A$986,"*PS *")) -> 0 | AD9: =IFERROR(SUM(AE9+AF9)/SUM(AE9+AF9+#REF!+#REF!),"-") -> - | AE9: =(SUMIFS($G$1:$G$986,$A$1:$A$986,"*PS *")) -> 0 | AF9: =(SUMIFS($I$1:$I$986,$A$1:$A$986,"*PS *")) -> 0
Y10: P1 | AA10: =IF((COUNTIF($A$1:$A$986,"*P1 *"))<0,"0",(COUNTIF($A$1:$A$986,"*P1 *"))) -> 0 | AB10: =IF($AC$35=0,"",(AA10)/$AC$35) | AC10: =(SUMIFS($H$1:$H$986,$A$1:$A$986,"*P1 *")) -> 0 | AD10: =IFERROR((SUM(AC10+AE10))/SUM(AC10+AE10+AF10),"-") -> - | AE10: =(SUMIFS($G$1:$G$986,$A$1:$A$986,"*P1 *")) -> 0 | AF10: =(SUMIFS($I$1:$I$986,$A$1:$A$986,"*P1 *")) -> 0
Y11: P2 | AA11: =IF((COUNTIF($A$1:$A$986,"*P2*")-1)<0,"0",(COUNTIF($A$1:$A$986,"*P2*")-1)) -> 0 | AB11: =IF($AC$35=0,"",(AA11)/$AC$35) | AC11: =(SUMIFS($H$1:$H$986,$A$1:$A$986,"*P2 *")) -> 0 | AD11: =IFERROR(SUM(AE11+AF11)/SUM(AE11+AF11+#REF!+#REF!),"-") -> - | AE11: =(SUMIFS($G$1:$G$986,$A$1:$A$986,"*P2 *")) -> 0 | AF11: =(SUMIFS($I$1:$I$986,$A$1:$A$986,"*P2 *")) -> 0
Y12: P3 | AA12: =IF((COUNTIF($A$1:$A$986,"*P3*")-1)<0,"0",(COUNTIF($A$1:$A$986,"*P3*")-1)) -> 0 | AB12: =IF($AC$35=0,"",(AA12)/$AC$35) | AC12: =(SUMIFS($H$1:$H$986,$A$1:$A$986,"*P3 *")) -> 0 | AD12: =IFERROR(SUM(AE12+AF12)/SUM(AE12+AF12+#REF!+#REF!),"-") -> - | AE12: =(SUMIFS($G$1:$G$986,$A$1:$A$986,"*P3 *")) -> 0 | AF12: =(SUMIFS($I$1:$I$986,$A$1:$A$986,"*P3 *")) -> 0
Y13: P4 | AA13: =IF((COUNTIF($A$1:$A$986,"*P4*")-1)<0,"0",(COUNTIF($A$1:$A$986,"*P4*")-1)) -> 0 | AB13: =IF($AC$35=0,"",(AA13)/$AC$35) | AC13: =(SUMIFS($H$1:$H$986,$A$1:$A$986,"*P4 *")) -> 0 | AD13: =IFERROR(SUM(AE13+AF13)/SUM(AE13+AF13+#REF!+#REF!),"-") -> - | AE13: =(SUMIFS($G$1:$G$986,$A$1:$A$986,"*P4 *")) -> 0 | AF13: =(SUMIFS($I$1:$I$986,$A$1:$A$986,"*P4 *")) -> 0
Y14: P5 | AA14: =IF((COUNTIF($A$1:$A$986,"*P5*")-1)<0,"0",(COUNTIF($A$1:$A$986,"*P5*")-1)) -> 0 | AB14: =IF($AC$35=0,"",(AA14)/$AC$35) | AC14: =(SUMIFS($H$1:$H$986,$A$1:$A$986,"*P5 *")) -> 0 | AD14: =IFERROR(SUM(AE14+AF14)/SUM(AE14+AF14+#REF!+#REF!),"-") -> - | AE14: =(SUMIFS($G$1:$G$986,$A$1:$A$986,"*P5 *")) -> 0 | AF14: =(SUMIFS($I$1:$I$986,$A$1:$A$986,"*P5 *")) -> 0
Y15: P6 | AA15: =IF((COUNTIF($A$1:$A$986,"*P6*")-1)<0,"0",(COUNTIF($A$1:$A$986,"*P6*")-1)) -> 0 | AB15: =IF($AC$35=0,"",(AA15)/$AC$35) | AC15: =(SUMIFS($H$1:$H$986,$A$1:$A$986,"*P6 *")) -> 0 | AD15: =IFERROR(SUM(AE15+AF15)/SUM(AE15+AF15+#REF!+#REF!),"-") -> - | AE15: =(SUMIFS($G$1:$G$986,$A$1:$A$986,"*P6 *")) -> 0 | AF15: =(SUMIFS($I$1:$I$986,$A$1:$A$986,"*P6 *")) -> 0
Y16: P7 | AA16: =IF((COUNTIF($A$1:$A$986,"*P7*")-1)<0,"0",(COUNTIF($A$1:$A$986,"*P7*")-1)) -> 0 | AB16: =IF($AC$35=0,"",(AA16)/$AC$35) | AC16: =(SUMIFS($H$1:$H$986,$A$1:$A$986,"*P7 *")) -> 0 | AD16: =IFERROR(SUM(AE16+AF16)/SUM(AE16+AF16+#REF!+#REF!),"-") -> - | AE16: =(SUMIFS($G$1:$G$986,$A$1:$A$986,"*P7 *")) -> 0 | AF16: =(SUMIFS($I$1:$I$986,$A$1:$A$986,"*P7 *")) -> 0
Y17: P8 | AA17: =IF((COUNTIF($A$1:$A$986,"*P8*")-1)<0,"0",(COUNTIF($A$1:$A$986,"*P8*")-1)) -> 0 | AB17: =IF($AC$35=0,"",(AA17)/$AC$35) | AC17: =(SUMIFS($H$1:$H$986,$A$1:$A$986,"*P8 *")) -> 0 | AD17: =IFERROR(SUM(AE17+AF17)/SUM(AE17+AF17+#REF!+#REF!),"-") -> - | AE17: =(SUMIFS($G$1:$G$986,$A$1:$A$986,"*P8 *")) -> 0 | AF17: =(SUMIFS($I$1:$I$986,$A$1:$A$986,"*P8 *")) -> 0
Y18: P9 | AA18: =IF((COUNTIF($A$1:$A$986,"*P9*")-1)<0,"0",(COUNTIF($A$1:$A$986,"*P9*")-1)) -> 0 | AB18: =IF($AC$35=0,"",(AA18)/$AC$35) | AC18: =(SUMIFS($H$1:$H$986,$A$1:$A$986,"*P9 *")) -> 0 | AD18: =IFERROR(SUM(AE18+AF18)/SUM(AE18+AF18+#REF!+#REF!),"-") -> - | AE18: =(SUMIFS($G$1:$G$986,$A$1:$A$986,"*P9 *")) -> 0 | AF18: =(SUMIFS($I$1:$I$986,$A$1:$A$986,"*P9 *")) -> 0
Y19: P10 | AA19: =IF((COUNTIF($A$1:$A$986,"*P10*")-1)<0,"0",(COUNTIF($A$1:$A$986,"*P10*")-1)) -> 0 | AB19: =IF($AC$35=0,"",(AA19)/$AC$35) | AC19: =(SUMIFS($H$1:$H$986,$A$1:$A$986,"*P10 *")) -> 0 | AD19: =IFERROR(SUM(AE19+AF19)/SUM(AE19+AF19+#REF!+#REF!),"-") -> - | AE19: =(SUMIFS($G$1:$G$986,$A$1:$A$986,"*P10 *")) -> 0 | AF19: =(SUMIFS($I$1:$I$986,$A$1:$A$986,"*P10 *")) -> 0
Y20: P11 | AA20: =IF((COUNTIF($A$1:$A$986,"*P11*")-1)<0,"0",(COUNTIF($A$1:$A$986,"*P11*")-1)) -> 0 | AB20: =IF($AC$35=0,"",(AA20)/$AC$35) | AC20: =(SUMIFS($H$1:$H$986,$A$1:$A$986,"*P11 *")) -> 0 | AD20: =IFERROR(SUM(AE20+AF20)/SUM(AE20+AF20+#REF!+#REF!),"-") -> - | AE20: =(SUMIFS($G$1:$G$986,$A$1:$A$986,"*P11 *")) -> 0 | AF20: =(SUMIFS($I$1:$I$986,$A$1:$A$986,"*P11 *")) -> 0
Y21: P12 | AA21: =IF((COUNTIF($A$1:$A$986,"*P12*")-1)<0,"0",(COUNTIF($A$1:$A$986,"*P12*")-1)) -> 0 | AB21: =IF($AC$35=0,"",(AA21)/$AC$35) | AC21: =(SUMIFS($H$1:$H$986,$A$1:$A$986,"*P12 *")) -> 0 | AD21: =IFERROR(SUM(AE21+AF21)/SUM(AE21+AF21+#REF!+#REF!),"-") -> - | AE21: =(SUMIFS($G$1:$G$986,$A$1:$A$986,"*P12 *")) -> 0 | AF21: =(SUMIFS($I$1:$I$986,$A$1:$A$986,"*P12 *")) -> 0
Y22: P13 | AA22: =IF((COUNTIF($A$1:$A$986,"*P13*")-1)<0,"0",(COUNTIF($A$1:$A$986,"*P13*")-1)) -> 0 | AB22: =IF($AC$35=0,"",(AA22)/$AC$35) | AC22: =(SUMIFS($H$1:$H$986,$A$1:$A$986,"*P13 *")) -> 0 | AD22: =IFERROR(SUM(AE22+AF22)/SUM(AE22+AF22+#REF!+#REF!),"-") -> - | AE22: =(SUMIFS($G$1:$G$986,$A$1:$A$986,"*P13 *")) -> 0 | AF22: =(SUMIFS($I$1:$I$986,$A$1:$A$986,"*P13 *")) -> 0
Y23: P14 | AA23: =IF((COUNTIF($A$1:$A$986,"*P14*")-1)<0,"0",(COUNTIF($A$1:$A$986,"*P14*")-1)) -> 0 | AB23: =IF($AC$35=0,"",(AA23)/$AC$35) | AC23: =(SUMIFS($H$1:$H$986,$A$1:$A$986,"*P14 *")) -> 0 | AD23: =IFERROR(SUM(AE23+AF23)/SUM(AE23+AF23+#REF!+#REF!),"-") -> - | AE23: =(SUMIFS($G$1:$G$986,$A$1:$A$986,"*P14 *")) -> 0 | AF23: =(SUMIFS($I$1:$I$986,$A$1:$A$986,"*P14 *")) -> 0
Y24: P15 | AA24: =IF((COUNTIF($A$1:$A$986,"*P15*")-1)<0,"0",(COUNTIF($A$1:$A$986,"*P15*")-1)) -> 0 | AB24: =IF($AC$35=0,"",(AA24)/$AC$35) | AC24: =(SUMIFS($H$1:$H$986,$A$1:$A$986,"*P15 *")) -> 0 | AD24: =IFERROR(SUM(AE24+AF24)/SUM(AE24+AF24+#REF!+#REF!),"-") -> - | AE24: =(SUMIFS($G$1:$G$986,$A$1:$A$986,"*P15 *")) -> 0 | AF24: =(SUMIFS($I$1:$I$986,$A$1:$A$986,"*P15 *")) -> 0
Y25: P16 | AA25: =IF((COUNTIF($A$1:$A$986,"*P16*")-1)<0,"0",(COUNTIF($A$1:$A$986,"*P16*")-1)) -> 0 | AB25: =IF($AC$35=0,"",(AA25)/$AC$35) | AC25: =(SUMIFS($H$1:$H$986,$A$1:$A$986,"*P16 *")) -> 0 | AD25: =IFERROR(SUM(AE25+AF25)/SUM(AE25+AF25+#REF!+#REF!),"-") -> - | AE25: =(SUMIFS($G$1:$G$986,$A$1:$A$986,"*P16 *")) -> 0 | AF25: =(SUMIFS($I$1:$I$986,$A$1:$A$986,"*P16 *")) -> 0
Y26: SPANISH | AA26: =IF((COUNTIF($A$1:$A$986,"*SPANISH*")-1)<0,"0",(COUNTIF($A$1:$A$986,"*SPANISH*")-1)) -> 0 | AB26: =IF($AC$35=0,"",(AA26)/$AC$35) | AC26: =(SUMIFS($H$1:$H$986,$A$1:$A$986,"*SPANISH *")) -> 0 | AD26: =IFERROR(SUM(AE26+AF26)/SUM(AE26+AF26+#REF!+#REF!),"-") -> - | AE26: =(SUMIFS($G$1:$G$986,$A$1:$A$986,"*SPANISH *")) -> 0 | AF26: =(SUMIFS($I$1:$I$986,$A$1:$A$986,"*SPANISH *")) -> 0
Y27: DIVERS | AA27: =IF((COUNTIF($A$1:$A$986,"*DIVERS*")-1)<0,"0",(COUNTIF($A$1:$A$986,"*DIVERS*")-1)) -> 0 | AB27: =IF($AC$35=0,"",(AA27)/$AC$35) | AC27: =(SUMIFS($H$1:$H$986,$A$1:$A$986,"*DIVERS *")) -> 0 | AD27: =IFERROR(SUM(AE27+AF27)/SUM(AE27+AF27+#REF!+#REF!),"-") -> - | AE27: =(SUMIFS($G$1:$G$986,$A$1:$A$986,"*DIVERS *")) -> 0 | AF27: =(SUMIFS($I$1:$I$986,$A$1:$A$986,"*DIVERS *")) -> 0
Y28: BLOBS | AA28: =IF((COUNTIF($A$1:$A$986,"*BLOBS*")-1)<0,"0",(COUNTIF($A$1:$A$986,"*BLOBS*")-1)) -> 0 | AB28: =IF($AC$35=0,"",(AA28)/$AC$35) | AC28: =(SUMIFS($H$1:$H$986,$A$1:$A$986,"*BLOBS *")) -> 0 | AD28: =IFERROR(SUM(AE28+AF28)/SUM(AE28+AF28+#REF!+#REF!),"-") -> - | AE28: =(SUMIFS($G$1:$G$986,$A$1:$A$986,"*BLOBS *")) -> 0 | AF28: =(SUMIFS($I$1:$I$986,$A$1:$A$986,"*BLOBS *")) -> 0
Y29: SLOBS | AA29: =IF((COUNTIF($A$1:$A$986,"*SLOBS*")-1)<0,"0",(COUNTIF($A$1:$A$986,"*SLOBS*")-1)) -> 0 | AB29: =IF($AC$35=0,"",(AA29)/$AC$35) | AC29: =(SUMIFS($H$1:$H$986,$A$1:$A$986,"*SLOBS *")) -> 0 | AD29: =IFERROR(SUM(AE29+AF29)/SUM(AE29+AF29+#REF!+#REF!),"-") -> - | AE29: =(SUMIFS($G$1:$G$986,$A$1:$A$986,"*SLOBS *")) -> 0 | AF29: =(SUMIFS($I$1:$I$986,$A$1:$A$986,"*SLOBS *")) -> 0
Y30: ZONE 1 | AA30: =IF((COUNTIF($A$1:$A$986,"*Z OFF 1*")-1)<0,"0",(COUNTIF($A$1:$A$986,"*Z OFF 1*")-1)) -> 0 | AB30: =IF($AC$35=0,"",(AA30)/$AC$35) | AC30: =(SUMIFS($H$1:$H$986,$A$1:$A$986,"*Z OFF 1 *")) -> 0 | AD30: =IFERROR(SUM(AE30+AF30)/SUM(AE30+AF30+#REF!+#REF!),"-") -> - | AE30: =(SUMIFS($G$1:$G$986,$A$1:$A$986,"*Z OFF 1 *")) -> 0 | AF30: =(SUMIFS($I$1:$I$986,$A$1:$A$986,"*Z OFF 1 *")) -> 0
Y31: ZONE 2 | AA31: =IF((COUNTIF($A$1:$A$986,"*Z OFF 2*")-1)<0,"0",(COUNTIF($A$1:$A$986,"*Z OFF 2*")-1)) -> 0 | AB31: =IF($AC$35=0,"",(AA31)/$AC$35) | AC31: =(SUMIFS($H$1:$H$986,$A$1:$A$986,"*Z OFF 2 *")) -> 0 | AD31: =IFERROR(SUM(AE31+AF31)/SUM(AE31+AF31+#REF!+#REF!),"-") -> - | AE31: =(SUMIFS($G$1:$G$986,$A$1:$A$986,"*Z OFF 2 *")) -> 0 | AF31: =(SUMIFS($I$1:$I$986,$A$1:$A$986,"*Z OFF 2 *")) -> 0
X32: TOTAL | AC32: FG made | AD32: FG % | AE32: R % | AF32: E %
AC33: =SUM(AC6:AC31) -> 0 | AD33: =IFERROR((AC33/AC35),"-") -> - | AE33: =IFERROR(((SUM(AE6:AE31))/AC35),"-") -> - | AF33: =IFERROR(((SUM(AF6:AF31))/AC35),"-") -> -
AC34: NBRE O | AE34: PTS | AF34: RENTABILITE
AC35: =SUM(AA6:AA31) -> 0 | AF35: PPO | AH35: =IFERROR((AE35/AC35),"-") -> -
AF37: RATIO ACTIONS + | AH37: =IFERROR(((SUM(AE6:AE31)+AC33))/(SUM(AE6:AE31)+(SUM(AF6:AF31)+AC33)),"-") -> -
X39: PNR OFFENSIFS 1/2 TERRAIN
X42: LEFT | Y42: MID | AB42: RIGHT | AD42: EFFICACITE OFF SELON COUVERTURES DEF
X43: =((SUMIFS($G$1:$G$814,$A$1:$A$814,"*LEFT OFF *"))+(SUMIFS($I$1:$I$814,$A$1:$A$814,"*LEFT OFF *"))+(SUMIFS($K$1:$K$814,$A$1:$A$814,"*LEFT OFF *"))+(SUMIFS($M$1:$M$814,$A$1:$A$814,"*LEFT OFF *"))+(SUMIFS($O$1:$O$814,$A$1:$A$814,"*LEFT OFF *"))+(SUMIFS($Q$1:$Q$814,$A$1:$A$814,"*LEFT OFF *")))/(X52) -> #DIV/0! | Y43: =((SUMIFS($G$1:$G$814,$A$1:$A$814,"*MID OFF *"))+(SUMIFS($I$1:$I$814,$A$1:$A$814,"*MID OFF *"))+(SUMIFS($K$1:$K$814,$A$1:$A$814,"*MID OFF *"))+(SUMIFS($M$1:$M$814,$A$1:$A$814,"*MID OFF *"))+(SUMIFS($O$1:$O$814,$A$1:$A$814,"*MID OFF *"))+(SUMIFS($Q$1:$Q$814,$A$1:$A$814,"*MID OFF *")))/(Y52) -> #DIV/0! | AB43: =((SUMIFS($G$1:$G$814,$A$1:$A$814,"*RIGHT OFF *"))+(SUMIFS($I$1:$I$814,$A$1:$A$814,"*RIGHT OFF *"))+(SUMIFS($K$1:$K$814,$A$1:$A$814,"*RIGHT OFF *"))+(SUMIFS($M$1:$M$814,$A$1:$A$814,"*RIGHT OFF *"))+(SUMIFS($O$1:$O$814,$A$1:$A$814,"*RIGHT OFF *"))+(SUMIFS($Q$1:$Q$814,$A$1:$A$814,"*RIGHT OFF *")))/(AB52) -> #DIV/0! | AE43: SIDE | AH43: MID
AE44: B | AF44: TOT | AG44: % B | AH44: B | AI44: TOT | AJ44: % B
AD45: UNDER | AE45: =((SUMIFS($G$1:$G$814,$A$1:$A$814,"*RIGHT OFF *")+SUMIFS($G$1:$G$814,$A$1:$A$814,"*LEFT OFF *"))) -> 0 | AF45: =((AE45)+SUMIFS($H$1:$H$814,$A$1:$A$814,"*RIGHT OFF *")+SUMIFS($H$1:$H$814,$A$1:$A$814,"*LEFT OFF *")) -> 0 | AG45: =IFERROR((AE45/AF45),"-") -> - | AH45: =SUMIFS($G$1:$G$814,$A$1:$A$814,"*MID OFF *") -> 0 | AI45: =(AH45)+(SUMIFS($H$1:$H$814,$A$1:$A$814,"*MID OFF *")) -> 0 | AJ45: =IFERROR((AH45/AI45),"-") -> -
AD46: PROTECT | AE46: =((SUMIFS($I$1:$I$814,$A$1:$A$814,"*RIGHT OFF *")+SUMIFS($I$1:$I$814,$A$1:$A$814,"*LEFT OFF *"))) -> 0 | AF46: =((AE46)+SUMIFS($J$1:$J$814,$A$1:$A$814,"*RIGHT OFF *")+SUMIFS($J$1:$J$814,$A$1:$A$814,"*LEFT OFF *")) -> 0 | AG46: =IFERROR((AE46/AF46),"-") -> - | AH46: =SUMIFS($I$1:$I$814,$A$1:$A$814,"*MID OFF *") -> 0 | AI46: =(AH46)+(SUMIFS($J$1:$J$814,$A$1:$A$814,"*MID OFF *")) -> 0 | AJ46: =IFERROR((AH46/AI46),"-") -> -
X47: ACTIONS BENEFIQUES | Y47: ACTIONS BENEFIQUES | AB47: ACTIONS BENEFIQUES | AD47: AGRESSIVE | AE47: =((SUMIFS($K$1:$K$814,$A$1:$A$814,"*RIGHT OFF *")+SUMIFS($K$1:$K$814,$A$1:$A$814,"*LEFT OFF *"))) -> 0 | AF47: =((AE47)+SUMIFS($L$1:$L$814,$A$1:$A$814,"*RIGHT OFF *")+SUMIFS($L$1:$L$814,$A$1:$A$814,"*LEFT OFF *")) -> 0 | AG47: =IFERROR((AE47/AF47),"-") -> - | AH47: =SUMIFS($K$1:$K$814,$A$1:$A$814,"*MID OFF *") -> 0 | AI47: =(AH47)+(SUMIFS($L$1:$L$814,$A$1:$A$814,"*MID OFF *")) -> 0 | AJ47: =IFERROR((AH47/AI47),"-") -> -
AD48: SWITCH | AE48: =((SUMIFS($M$1:$M$814,$A$1:$A$814,"*RIGHT OFF *")+SUMIFS($M$1:$M$814,$A$1:$A$814,"*LEFT OFF *"))) -> 0 | AF48: =((AE48)+SUMIFS($N$1:$N$814,$A$1:$A$814,"*RIGHT OFF *")+SUMIFS($N$1:$N$814,$A$1:$A$814,"*LEFT OFF *")) -> 0 | AG48: =IFERROR((AE48/AF48),"-") -> - | AH48: =SUMIFS($M$1:$M$814,$A$1:$A$814,"*MID OFF *") -> 0 | AI48: =(AH48)+(SUMIFS($N$1:$N$814,$A$1:$A$814,"*MID OFF *")) -> 0 | AJ48: =IFERROR((AH48/AI48),"-") -> -
AD49: ICE | AE49: =((SUMIFS($O$1:$O$814,$A$1:$A$814,"*RIGHT OFF *")+SUMIFS($O$1:$O$814,$A$1:$A$814,"*LEFT OFF *"))) -> 0 | AF49: =((AE49)+SUMIFS($P$1:$P$814,$A$1:$A$814,"*RIGHT OFF *")+SUMIFS($P$1:$P$814,$A$1:$A$814,"*LEFT OFF *")) -> 0 | AG49: =IFERROR((AE49/AF49),"-") -> - | AH49: =SUMIFS($O$1:$O$814,$A$1:$A$814,"*MID OFF *") -> 0 | AI49: =(AH49)+(SUMIFS($P$1:$P$814,$A$1:$A$814,"*MID OFF *")) -> 0 | AJ49: =IFERROR((AH49/AI49),"-") -> -
X50: sur | Y50: sur | AB50: sur | AD50: WEAK | AE50: =((SUMIFS($Q$1:$Q$814,$A$1:$A$814,"*RIGHT OFF *")+SUMIFS($Q$1:$Q$814,$A$1:$A$814,"*LEFT OFF *"))) -> 0 | AF50: =((AE50)+SUMIFS($R$1:$R$814,$A$1:$A$814,"*RIGHT OFF *")+SUMIFS($R$1:$R$814,$A$1:$A$814,"*LEFT OFF *")) -> 0 | AG50: =IFERROR((AE50/AF50),"-") -> - | AH50: =SUMIFS($Q$1:$Q$814,$A$1:$A$814,"*MID OFF *") -> 0 | AI50: =(AH50)+(SUMIFS($R$1:$R$814,$A$1:$A$814,"*MID OFF *")) -> 0 | AJ50: =IFERROR((AH50/AI50),"-") -> -
X52: =IF((COUNTIF($A$1:$A$986,"*LEFT OFF *"))<0,"0",(COUNTIF($A$1:$A$986,"*LEFT OFF *"))) -> 0 | Y52: =IF((COUNTIF($A$1:$A$986,"*MID OFF *"))<0,"0",(COUNTIF($A$1:$A$986,"*MID OFF *"))) -> 0 | AB52: =IF((COUNTIF($A$1:$A$986,"*RIGHT OFF *"))<0,"0",(COUNTIF($A$1:$A$986,"*RIGHT OFF *"))) -> 0
AE53: ROUGE = HAUT RENDEMENT | AH53: 80 à 100% | AP53: nbre d'actions et masquer pour comptabiliser la renta tot sur plusieurs matchs
AE54: ORANGE = BON RENDEMENT | AH54: 65 à 79,99%
X55: PNR joués | Y55: PNR joués | AB55: PNR joués | AE55: JAUNE = RENDEMENT MOYEN | AH55: 50 à 64,99%
AE56: BLEU = RENDEMENT FAIBLE | AH56: inf à 49,99% | AP56: reprendre la MFC EFF main tableau ???
X59: PNR DEFENSIFS 1/2 TERRAIN
X62: LEFT | Y62: MID | AB62: RIGHT | AD62: EFFICACITE DEF DES COUVERTURES
X63: =((SUMIFS($H$1:$H$814,$A$1:$A$814,"*LEFT DEF *"))+(SUMIFS($J$1:$J$814,$A$1:$A$814,"*LEFT DEF *"))+(SUMIFS($L$1:$L$814,$A$1:$A$814,"*LEFT DEF *"))+(SUMIFS($N$1:$N$814,$A$1:$A$814,"*LEFT DEF *"))+(SUMIFS($P$1:$P$814,$A$1:$A$814,"*LEFT DEF *"))+(SUMIFS($R$1:$R$814,$A$1:$A$814,"*LEFT DEF *")))/(AA72) -> #DIV/0! | Y63: =((SUMIFS($H$1:$H$814,$A$1:$A$814,"*MID DEF *"))+(SUMIFS($J$1:$J$814,$A$1:$A$814,"*MID DEF *"))+(SUMIFS($L$1:$L$814,$A$1:$A$814,"*MID DEF *"))+(SUMIFS($N$1:$N$814,$A$1:$A$814,"*MID DEF *"))+(SUMIFS($P$1:$P$814,$A$1:$A$814,"*MID DEF *"))+(SUMIFS($R$1:$R$814,$A$1:$A$814,"*MID DEF *")))/(AA72) -> #DIV/0! | AB63: =((SUMIFS($H$1:$H$814,$A$1:$A$814,"*RIGHT DEF *"))+(SUMIFS($J$1:$J$814,$A$1:$A$814,"*RIGHT DEF *"))+(SUMIFS($L$1:$L$814,$A$1:$A$814,"*RIGHT DEF *"))+(SUMIFS($N$1:$N$814,$A$1:$A$814,"*RIGHT DEF *"))+(SUMIFS($P$1:$P$814,$A$1:$A$814,"*RIGHT DEF *"))+(SUMIFS($R$1:$R$814,$A$1:$A$814,"*RIGHT DEF *")))/(AB72) -> #DIV/0! | AE63: SIDE | AH63: MID
AE64: S | AF64: TOT | AG64: % S | AH64: S | AI64: TOT | AJ64: % S
AD65: UNDER | AE65: =((SUMIFS($H$1:$H$814,$A$1:$A$814,"*RIGHT DEF *")+SUMIFS($H$1:$H$814,$A$1:$A$814,"*LEFT DEF *"))) -> 0 | AF65: =((AE65)+SUMIFS($G$1:$G$814,$A$1:$A$814,"*RIGHT DEF *")+SUMIFS($G$1:$G$814,$A$1:$A$814,"*LEFT DEF *")) -> 0 | AG65: =IFERROR((AE65/AF65),"-") -> - | AH65: =SUMIFS($H$1:$H$814,$A$1:$A$814,"*MID DEF *") -> 0 | AI65: =(AH65)+(SUMIFS($G$1:$G$814,$A$1:$A$814,"*MID DEF *")) -> 0 | AJ65: =IFERROR((AH65/AI65),"-") -> -
AD66: PROTECT | AE66: =((SUMIFS($J$1:$J$814,$A$1:$A$814,"*RIGHT DEF *")+SUMIFS($J$1:$J$814,$A$1:$A$814,"*LEFT DEF *"))) -> 0 | AF66: =((AE66)+SUMIFS($I$1:$I$814,$A$1:$A$814,"*RIGHT DEF *")+SUMIFS($I$1:$I$814,$A$1:$A$814,"*LEFT DEF *")) -> 0 | AG66: =IFERROR((AE66/AF66),"-") -> - | AH66: =SUMIFS($J$1:$J$814,$A$1:$A$814,"*MID DEF *") -> 0 | AI66: =(AH66)+(SUMIFS($I$1:$I$814,$A$1:$A$814,"*MID DEF *")) -> 0 | AJ66: =IFERROR((AH66/AI66),"-") -> -
X67: STOPS | Y67: STOPS | AB67: STOPS | AD67: AGRESSIVE | AE67: =((SUMIFS($L$1:$L$814,$A$1:$A$814,"*RIGHT DEF *")+SUMIFS($L$1:$L$814,$A$1:$A$814,"*LEFT DEF *"))) -> 0 | AF67: =((AE67)+SUMIFS($K$1:$K$814,$A$1:$A$814,"*RIGHT DEF *")+SUMIFS($K$1:$K$814,$A$1:$A$814,"*LEFT DEF *")) -> 0 | AG67: =IFERROR((AE67/AF67),"-") -> - | AH67: =SUMIFS($L$1:$L$814,$A$1:$A$814,"*MID DEF *") -> 0 | AI67: =(AH67)+(SUMIFS($K$1:$K$814,$A$1:$A$814,"*MID DEF *")) -> 0 | AJ67: =IFERROR((AH67/AI67),"-") -> -
AD68: SWITCH | AE68: =((SUMIFS($N$1:$N$814,$A$1:$A$814,"*RIGHT DEF *")+SUMIFS($N$1:$N$814,$A$1:$A$814,"*LEFT DEF *"))) -> 0 | AF68: =((AE68)+SUMIFS($M$1:$M$814,$A$1:$A$814,"*RIGHT DEF *")+SUMIFS($M$1:$M$814,$A$1:$A$814,"*LEFT DEF *")) -> 0 | AG68: =IFERROR((AE68/AF68),"-") -> - | AH68: =SUMIFS($N$1:$N$814,$A$1:$A$814,"*MID DEF *") -> 0 | AI68: =(AH68)+(SUMIFS($M$1:$M$814,$A$1:$A$814,"*MID DEF *")) -> 0 | AJ68: =IFERROR((AH68/AI68),"-") -> -
AD69: ICE | AE69: =((SUMIFS($P$1:$P$814,$A$1:$A$814,"*RIGHT DEF *")+SUMIFS($P$1:$P$814,$A$1:$A$814,"*LEFT DEF *"))) -> 0 | AF69: =((AE69)+SUMIFS($O$1:$O$814,$A$1:$A$814,"*RIGHT DEF *")+SUMIFS($O$1:$O$814,$A$1:$A$814,"*LEFT DEF *")) -> 0 | AG69: =IFERROR((AE69/AF69),"-") -> - | AH69: =SUMIFS($P$1:$P$814,$A$1:$A$814,"*MID DEF *") -> 0 | AI69: =(AH69)+(SUMIFS($O$1:$O$814,$A$1:$A$814,"*MID DEF *")) -> 0 | AJ69: =IFERROR((AH69/AI69),"-") -> -
X70: sur | Y70: sur | AB70: sur | AD70: WEAK | AE70: =((SUMIFS($R$1:$R$814,$A$1:$A$814,"*RIGHT DEF *")+SUMIFS($R$1:$R$814,$A$1:$A$814,"*LEFT DEF *"))) -> 0 | AF70: =((AE70)+SUMIFS($Q$1:$Q$814,$A$1:$A$814,"*RIGHT DEF *")+SUMIFS($Q$1:$Q$814,$A$1:$A$814,"*LEFT DEF *")) -> 0 | AG70: =IFERROR((AE70/AF70),"-") -> - | AH70: =SUMIFS($R$1:$R$814,$A$1:$A$814,"*MID DEF *") -> 0 | AI70: =(AH70)+(SUMIFS($Q$1:$Q$814,$A$1:$A$814,"*MID DEF *")) -> 0 | AJ70: =IFERROR((AH70/AI70),"-") -> -
X72: =IF((COUNTIF($A$1:$A$986,"*LEFT DEF *"))<0,"0",(COUNTIF($A$1:$A$986,"*LEFT DEF *"))) -> 0 | Y72: =IF((COUNTIF($A$1:$A$986,"*MID DEF *"))<0,"0",(COUNTIF($A$1:$A$986,"*MID DEF *"))) -> 0 | AB72: =IF((COUNTIF($A$1:$A$986,"*RIGHT DEF *"))<0,"0",(COUNTIF($A$1:$A$986,"*RIGHT DEF *"))) -> 0
X75: PNR joués | Y75: PNR joués | AB75: PNR joués

Sheet M3 A
X2: JEU & SYSTEMES
X5: CALLS | Y5: TYPE | AA5: NBRE O | AB5: % JOUE | AC5: FG made | AD5: EFF. | AE5: R | AF5: E
Y6: CA | AA6: =IF((COUNTIF($A$1:$A$986,"*CA *"))<0,"0",(COUNTIF($A$1:$A$986,"*CA *"))) -> 0 | AB6: =IF($AC$35=0,"",(AA6)/$AC$35) | AC6: =(SUMIFS($H$1:$H$986,$A$1:$A$986,"*CA *")) -> 0 | AD6: =IFERROR(SUM(AE6+AF6)/SUM(AE6+AF6+#REF!+#REF!),"-") -> - | AE6: =(SUMIFS($G$1:$G$986,$A$1:$A$986,"*CA *")) -> 0 | AF6: =(SUMIFS($I$1:$I$986,$A$1:$A$986,"*CA *")) -> 0
Y7: TRANSI | AA7: =IF((COUNTIF($A$1:$A$986,"*TRANSI*")-1)<0,"0",(COUNTIF($A$1:$A$986,"*TRANSI*")-1)) -> 0 | AB7: =IF($AC$35=0,"",(AA7)/$AC$35) | AC7: =(SUMIFS($H$1:$H$986,$A$1:$A$986,"*TRANSI *")) -> 0 | AD7: =IFERROR(SUM(AC7+AE7)/SUM(AC7+AE7+AF7),"-") -> - | AE7: =(SUMIFS($G$1:$G$986,$A$1:$A$986,"*TRANSI *")) -> 0 | AF7: =SUMIFS($I$1:$I$986,$A$1:$A$986,"*TRANSI*") -> 0
Y8: JL | AA8: =IF((COUNTIF($A$1:$A$986,"*JL*")-1)<0,"0",(COUNTIF($A$1:$A$986,"*JL*")-1)) -> 0 | AB8: =IF($AC$35=0,"",(AA8)/$AC$35) | AC8: =(SUMIFS($H$1:$H$986,$A$1:$A$986,"*JL *")) -> 0 | AD8: =IFERROR(SUM(AE8+AF8)/SUM(AE8+AF8+#REF!+#REF!),"-") -> - | AE8: =(SUMIFS($G$1:$G$986,$A$1:$A$986,"*JL *")) -> 0 | AF8: =(SUMIFS($I$1:$I$986,$A$1:$A$986,"*JL *")) -> 0
Y9: PICKS SPLES | AA9: =IF((COUNTIF($A$1:$A$986,"*PS*")-1)<0,"0",(COUNTIF($A$1:$A$986,"*PS*")-1)) -> 0 | AB9: =IF($AC$35=0,"",(AA9)/$AC$35) | AC9: =(SUMIFS($H$1:$H$986,$A$1:$A$986,"*PS *")) -> 0 | AD9: =IFERROR(SUM(AE9+AF9)/SUM(AE9+AF9+#REF!+#REF!),"-") -> - | AE9: =(SUMIFS($G$1:$G$986,$A$1:$A$986,"*PS *")) -> 0 | AF9: =(SUMIFS($I$1:$I$986,$A$1:$A$986,"*PS *")) -> 0
Y10: P1 | AA10: =IF((COUNTIF($A$1:$A$986,"*P1 *"))<0,"0",(COUNTIF($A$1:$A$986,"*P1 *"))) -> 0 | AB10: =IF($AC$35=0,"",(AA10)/$AC$35) | AC10: =(SUMIFS($H$1:$H$986,$A$1:$A$986,"*P1 *")) -> 0 | AD10: =IFERROR((SUM(AC10+AE10))/SUM(AC10+AE10+AF10),"-") -> - | AE10: =(SUMIFS($G$1:$G$986,$A$1:$A$986,"*P1 *")) -> 0 | AF10: =(SUMIFS($I$1:$I$986,$A$1:$A$986,"*P1 *")) -> 0
Y11: P2 | AA11: =IF((COUNTIF($A$1:$A$986,"*P2*")-1)<0,"0",(COUNTIF($A$1:$A$986,"*P2*")-1)) -> 0 | AB11: =IF($AC$35=0,"",(AA11)/$AC$35) | AC11: =(SUMIFS($H$1:$H$986,$A$1:$A$986,"*P2 *")) -> 0 | AD11: =IFERROR(SUM(AE11+AF11)/SUM(AE11+AF11+#REF!+#REF!),"-") -> - | AE11: =(SUMIFS($G$1:$G$986,$A$1:$A$986,"*P2 *")) -> 0 | AF11: =(SUMIFS($I$1:$I$986,$A$1:$A$986,"*P2 *")) -> 0
Y12: P3 | AA12: =IF((COUNTIF($A$1:$A$986,"*P3*")-1)<0,"0",(COUNTIF($A$1:$A$986,"*P3*")-1)) -> 0 | AB12: =IF($AC$35=0,"",(AA12)/$AC$35) | AC12: =(SUMIFS($H$1:$H$986,$A$1:$A$986,"*P3 *")) -> 0 | AD12: =IFERROR(SUM(AE12+AF12)/SUM(AE12+AF12+#REF!+#REF!),"-") -> - | AE12: =(SUMIFS($G$1:$G$986,$A$1:$A$986,"*P3 *")) -> 0 | AF12: =(SUMIFS($I$1:$I$986,$A$1:$A$986,"*P3 *")) -> 0
Y13: P4 | AA13: =IF((COUNTIF($A$1:$A$986,"*P4*")-1)<0,"0",(COUNTIF($A$1:$A$986,"*P4*")-1)) -> 0 | AB13: =IF($AC$35=0,"",(AA13)/$AC$35) | AC13: =(SUMIFS($H$1:$H$986,$A$1:$A$986,"*P4 *")) -> 0 | AD13: =IFERROR(SUM(AE13+AF13)/SUM(AE13+AF13+#REF!+#REF!),"-") -> - | AE13: =(SUMIFS($G$1:$G$986,$A$1:$A$986,"*P4 *")) -> 0 | AF13: =(SUMIFS($I$1:$I$986,$A$1:$A$986,"*P4 *")) -> 0
Y14: P5 | AA14: =IF((COUNTIF($A$1:$A$986,"*P5*")-1)<0,"0",(COUNTIF($A$1:$A$986,"*P5*")-1)) -> 0 | AB14: =IF($AC$35=0,"",(AA14)/$AC$35) | AC14: =(SUMIFS($H$1:$H$986,$A$1:$A$986,"*P5 *")) -> 0 | AD14: =IFERROR(SUM(AE14+AF14)/SUM(AE14+AF14+#REF!+#REF!),"-") -> - | AE14: =(SUMIFS($G$1:$G$986,$A$1:$A$986,"*P5 *")) -> 0 | AF14: =(SUMIFS($I$1:$I$986,$A$1:$A$986,"*P5 *")) -> 0
Y15: P6 | AA15: =IF((COUNTIF($A$1:$A$986,"*P6*")-1)<0,"0",(COUNTIF($A$1:$A$986,"*P6*")-1)) -> 0 | AB15: =IF($AC$35=0,"",(AA15)/$AC$35) | AC15: =(SUMIFS($H$1:$H$986,$A$1:$A$986,"*P6 *")) -> 0 | AD15: =IFERROR(SUM(AE15+AF15)/SUM(AE15+AF15+#REF!+#REF!),"-") -> - | AE15: =(SUMIFS($G$1:$G$986,$A$1:$A$986,"*P6 *")) -> 0 | AF15: =(SUMIFS($I$1:$I$986,$A$1:$A$986,"*P6 *")) -> 0
Y16: P7 | AA16: =IF((COUNTIF($A$1:$A$986,"*P7*")-1)<0,"0",(COUNTIF($A$1:$A$986,"*P7*")-1)) -> 0 | AB16: =IF($AC$35=0,"",(AA16)/$AC$35) | AC16: =(SUMIFS($H$1:$H$986,$A$1:$A$986,"*P7 *")) -> 0 | AD16: =IFERROR(SUM(AE16+AF16)/SUM(AE16+AF16+#REF!+#REF!),"-") -> - | AE16: =(SUMIFS($G$1:$G$986,$A$1:$A$986,"*P7 *")) -> 0 | AF16: =(SUMIFS($I$1:$I$986,$A$1:$A$986,"*P7 *")) -> 0
Y17: P8 | AA17: =IF((COUNTIF($A$1:$A$986,"*P8*")-1)<0,"0",(COUNTIF($A$1:$A$986,"*P8*")-1)) -> 0 | AB17: =IF($AC$35=0,"",(AA17)/$AC$35) | AC17: =(SUMIFS($H$1:$H$986,$A$1:$A$986,"*P8 *")) -> 0 | AD17: =IFERROR(SUM(AE17+AF17)/SUM(AE17+AF17+#REF!+#REF!),"-") -> - | AE17: =(SUMIFS($G$1:$G$986,$A$1:$A$986,"*P8 *")) -> 0 | AF17: =(SUMIFS($I$1:$I$986,$A$1:$A$986,"*P8 *")) -> 0
Y18: P9 | AA18: =IF((COUNTIF($A$1:$A$986,"*P9*")-1)<0,"0",(COUNTIF($A$1:$A$986,"*P9*")-1)) -> 0 | AB18: =IF($AC$35=0,"",(AA18)/$AC$35) | AC18: =(SUMIFS($H$1:$H$986,$A$1:$A$986,"*P9 *")) -> 0 | AD18: =IFERROR(SUM(AE18+AF18)/SUM(AE18+AF18+#REF!+#REF!),"-") -> - | AE18: =(SUMIFS($G$1:$G$986,$A$1:$A$986,"*P9 *")) -> 0 | AF18: =(SUMIFS($I$1:$I$986,$A$1:$A$986,"*P9 *")) -> 0
Y19: P10 | AA19: =IF((COUNTIF($A$1:$A$986,"*P10*")-1)<0,"0",(COUNTIF($A$1:$A$986,"*P10*")-1)) -> 0 | AB19: =IF($AC$35=0,"",(AA19)/$AC$35) | AC19: =(SUMIFS($H$1:$H$986,$A$1:$A$986,"*P10 *")) -> 0 | AD19: =IFERROR(SUM(AE19+AF19)/SUM(AE19+AF19+#REF!+#REF!),"-") -> - | AE19: =(SUMIFS($G$1:$G$986,$A$1:$A$986,"*P10 *")) -> 0 | AF19: =(SUMIFS($I$1:$I$986,$A$1:$A$986,"*P10 *")) -> 0
Y20: P11 | AA20: =IF((COUNTIF($A$1:$A$986,"*P11*")-1)<0,"0",(COUNTIF($A$1:$A$986,"*P11*")-1)) -> 0 | AB20: =IF($AC$35=0,"",(AA20)/$AC$35) | AC20: =(SUMIFS($H$1:$H$986,$A$1:$A$986,"*P11 *")) -> 0 | AD20: =IFERROR(SUM(AE20+AF20)/SUM(AE20+AF20+#REF!+#REF!),"-") -> - | AE20: =(SUMIFS($G$1:$G$986,$A$1:$A$986,"*P11 *")) -> 0 | AF20: =(SUMIFS($I$1:$I$986,$A$1:$A$986,"*P11 *")) -> 0
Y21: P12 | AA21: =IF((COUNTIF($A$1:$A$986,"*P12*")-1)<0,"0",(COUNTIF($A$1:$A$986,"*P12*")-1)) -> 0 | AB21: =IF($AC$35=0,"",(AA21)/$AC$35) | AC21: =(SUMIFS($H$1:$H$986,$A$1:$A$986,"*P12 *")) -> 0 | AD21: =IFERROR(SUM(AE21+AF21)/SUM(AE21+AF21+#REF!+#REF!),"-") -> - | AE21: =(SUMIFS($G$1:$G$986,$A$1:$A$986,"*P12 *")) -> 0 | AF21: =(SUMIFS($I$1:$I$986,$A$1:$A$986,"*P12 *")) -> 0
Y22: P13 | AA22: =IF((COUNTIF($A$1:$A$986,"*P13*")-1)<0,"0",(COUNTIF($A$1:$A$986,"*P13*")-1)) -> 0 | AB22: =IF($AC$35=0,"",(AA22)/$AC$35) | AC22: =(SUMIFS($H$1:$H$986,$A$1:$A$986,"*P13 *")) -> 0 | AD22: =IFERROR(SUM(AE22+AF22)/SUM(AE22+AF22+#REF!+#REF!),"-") -> - | AE22: =(SUMIFS($G$1:$G$986,$A$1:$A$986,"*P13 *")) -> 0 | AF22: =(SUMIFS($I$1:$I$986,$A$1:$A$986,"*P13 *")) -> 0
Y23: P14 | AA23: =IF((COUNTIF($A$1:$A$986,"*P14*")-1)<0,"0",(COUNTIF($A$1:$A$986,"*P14*")-1)) -> 0 | AB23: =IF($AC$35=0,"",(AA23)/$AC$35) | AC23: =(SUMIFS($H$1:$H$986,$A$1:$A$986,"*P14 *")) -> 0 | AD23: =IFERROR(SUM(AE23+AF23)/SUM(AE23+AF23+#REF!+#REF!),"-") -> - | AE23: =(SUMIFS($G$1:$G$986,$A$1:$A$986,"*P14 *")) -> 0 | AF23: =(SUMIFS($I$1:$I$986,$A$1:$A$986,"*P14 *")) -> 0
Y24: P15 | AA24: =IF((COUNTIF($A$1:$A$986,"*P15*")-1)<0,"0",(COUNTIF($A$1:$A$986,"*P15*")-1)) -> 0 | AB24: =IF($AC$35=0,"",(AA24)/$AC$35) | AC24: =(SUMIFS($H$1:$H$986,$A$1:$A$986,"*P15 *")) -> 0 | AD24: =IFERROR(SUM(AE24+AF24)/SUM(AE24+AF24+#REF!+#REF!),"-") -> - | AE24: =(SUMIFS($G$1:$G$986,$A$1:$A$986,"*P15 *")) -> 0 | AF24: =(SUMIFS($I$1:$I$986,$A$1:$A$986,"*P15 *")) -> 0
Y25: P16 | AA25: =IF((COUNTIF($A$1:$A$986,"*P16*")-1)<0,"0",(COUNTIF($A$1:$A$986,"*P16*")-1)) -> 0 | AB25: =IF($AC$35=0,"",(AA25)/$AC$35) | AC25: =(SUMIFS($H$1:$H$986,$A$1:$A$986,"*P16 *")) -> 0 | AD25: =IFERROR(SUM(AE25+AF25)/SUM(AE25+AF25+#REF!+#REF!),"-") -> - | AE25: =(SUMIFS($G$1:$G$986,$A$1:$A$986,"*P16 *")) -> 0 | AF25: =(SUMIFS($I$1:$I$986,$A$1:$A$986,"*P16 *")) -> 0
Y26: SPANISH | AA26: =IF((COUNTIF($A$1:$A$986,"*SPANISH*")-1)<0,"0",(COUNTIF($A$1:$A$986,"*SPANISH*")-1)) -> 0 | AB26: =IF($AC$35=0,"",(AA26)/$AC$35) | AC26: =(SUMIFS($H$1:$H$986,$A$1:$A$986,"*SPANISH *")) -> 0 | AD26: =IFERROR(SUM(AE26+AF26)/SUM(AE26+AF26+#REF!+#REF!),"-") -> - | AE26: =(SUMIFS($G$1:$G$986,$A$1:$A$986,"*SPANISH *")) -> 0 | AF26: =(SUMIFS($I$1:$I$986,$A$1:$A$986,"*SPANISH *")) -> 0
Y27: DIVERS | AA27: =IF((COUNTIF($A$1:$A$986,"*DIVERS*")-1)<0,"0",(COUNTIF($A$1:$A$986,"*DIVERS*")-1)) -> 0 | AB27: =IF($AC$35=0,"",(AA27)/$AC$35) | AC27: =(SUMIFS($H$1:$H$986,$A$1:$A$986,"*DIVERS *")) -> 0 | AD27: =IFERROR(SUM(AE27+AF27)/SUM(AE27+AF27+#REF!+#REF!),"-") -> - | AE27: =(SUMIFS($G$1:$G$986,$A$1:$A$986,"*DIVERS *")) -> 0 | AF27: =(SUMIFS($I$1:$I$986,$A$1:$A$986,"*DIVERS *")) -> 0
Y28: BLOBS | AA28: =IF((COUNTIF($A$1:$A$986,"*BLOBS*")-1)<0,"0",(COUNTIF($A$1:$A$986,"*BLOBS*")-1)) -> 0 | AB28: =IF($AC$35=0,"",(AA28)/$AC$35) | AC28: =(SUMIFS($H$1:$H$986,$A$1:$A$986,"*BLOBS *")) -> 0 | AD28: =IFERROR(SUM(AE28+AF28)/SUM(AE28+AF28+#REF!+#REF!),"-") -> - | AE28: =(SUMIFS($G$1:$G$986,$A$1:$A$986,"*BLOBS *")) -> 0 | AF28: =(SUMIFS($I$1:$I$986,$A$1:$A$986,"*BLOBS *")) -> 0
Y29: SLOBS | AA29: =IF((COUNTIF($A$1:$A$986,"*SLOBS*")-1)<0,"0",(COUNTIF($A$1:$A$986,"*SLOBS*")-1)) -> 0 | AB29: =IF($AC$35=0,"",(AA29)/$AC$35) | AC29: =(SUMIFS($H$1:$H$986,$A$1:$A$986,"*SLOBS *")) -> 0 | AD29: =IFERROR(SUM(AE29+AF29)/SUM(AE29+AF29+#REF!+#REF!),"-") -> - | AE29: =(SUMIFS($G$1:$G$986,$A$1:$A$986,"*SLOBS *")) -> 0 | AF29: =(SUMIFS($I$1:$I$986,$A$1:$A$986,"*SLOBS *")) -> 0
Y30: ZONE 1 | AA30: =IF((COUNTIF($A$1:$A$986,"*Z OFF 1*")-1)<0,"0",(COUNTIF($A$1:$A$986,"*Z OFF 1*")-1)) -> 0 | AB30: =IF($AC$35=0,"",(AA30)/$AC$35) | AC30: =(SUMIFS($H$1:$H$986,$A$1:$A$986,"*Z OFF 1 *")) -> 0 | AD30: =IFERROR(SUM(AE30+AF30)/SUM(AE30+AF30+#REF!+#REF!),"-") -> - | AE30: =(SUMIFS($G$1:$G$986,$A$1:$A$986,"*Z OFF 1 *")) -> 0 | AF30: =(SUMIFS($I$1:$I$986,$A$1:$A$986,"*Z OFF 1 *")) -> 0
Y31: ZONE 2 | AA31: =IF((COUNTIF($A$1:$A$986,"*Z OFF 2*")-1)<0,"0",(COUNTIF($A$1:$A$986,"*Z OFF 2*")-1)) -> 0 | AB31: =IF($AC$35=0,"",(AA31)/$AC$35) | AC31: =(SUMIFS($H$1:$H$986,$A$1:$A$986,"*Z OFF 2 *")) -> 0 | AD31: =IFERROR(SUM(AE31+AF31)/SUM(AE31+AF31+#REF!+#REF!),"-") -> - | AE31: =(SUMIFS($G$1:$G$986,$A$1:$A$986,"*Z OFF 2 *")) -> 0 | AF31: =(SUMIFS($I$1:$I$986,$A$1:$A$986,"*Z OFF 2 *")) -> 0
X32: TOTAL | AC32: FG made | AD32: FG % | AE32: R % | AF32: E %
AC33: =SUM(AC6:AC31) -> 0 | AD33: =IFERROR((AC33/AC35),"-") -> - | AE33: =IFERROR(((SUM(AE6:AE31))/AC35),"-") -> - | AF33: =IFERROR(((SUM(AF6:AF31))/AC35),"-") -> -
AC34: NBRE O | AE34: PTS | AF34: RENTABILITE
AC35: =SUM(AA6:AA31) -> 0 | AF35: PPO | AH35: =IFERROR((AE35/AC35),"-") -> -
AF37: RATIO ACTIONS + | AH37: =IFERROR(((SUM(AE6:AE31)+AC33))/(SUM(AE6:AE31)+(SUM(AF6:AF31)+AC33)),"-") -> -
X39: PNR OFFENSIFS 1/2 TERRAIN
X42: LEFT | Y42: MID | AB42: RIGHT | AD42: EFFICACITE OFF SELON COUVERTURES DEF
X43: =((SUMIFS($G$1:$G$814,$A$1:$A$814,"*LEFT OFF *"))+(SUMIFS($I$1:$I$814,$A$1:$A$814,"*LEFT OFF *"))+(SUMIFS($K$1:$K$814,$A$1:$A$814,"*LEFT OFF *"))+(SUMIFS($M$1:$M$814,$A$1:$A$814,"*LEFT OFF *"))+(SUMIFS($O$1:$O$814,$A$1:$A$814,"*LEFT OFF *"))+(SUMIFS($Q$1:$Q$814,$A$1:$A$814,"*LEFT OFF *")))/(X52) -> #DIV/0! | Y43: =((SUMIFS($G$1:$G$814,$A$1:$A$814,"*MID OFF *"))+(SUMIFS($I$1:$I$814,$A$1:$A$814,"*MID OFF *"))+(SUMIFS($K$1:$K$814,$A$1:$A$814,"*MID OFF *"))+(SUMIFS($M$1:$M$814,$A$1:$A$814,"*MID OFF *"))+(SUMIFS($O$1:$O$814,$A$1:$A$814,"*MID OFF *"))+(SUMIFS($Q$1:$Q$814,$A$1:$A$814,"*MID OFF *")))/(Y52) -> #DIV/0! | AB43: =((SUMIFS($G$1:$G$814,$A$1:$A$814,"*RIGHT OFF *"))+(SUMIFS($I$1:$I$814,$A$1:$A$814,"*RIGHT OFF *"))+(SUMIFS($K$1:$K$814,$A$1:$A$814,"*RIGHT OFF *"))+(SUMIFS($M$1:$M$814,$A$1:$A$814,"*RIGHT OFF *"))+(SUMIFS($O$1:$O$814,$A$1:$A$814,"*RIGHT OFF *"))+(SUMIFS($Q$1:$Q$814,$A$1:$A$814,"*RIGHT OFF *")))/(AB52) -> #DIV/0! | AE43: SIDE | AH43: MID
AE44: B | AF44: TOT | AG44: % B | AH44: B | AI44: TOT | AJ44: % B
AD45: UNDER | AE45: =((SUMIFS($G$1:$G$814,$A$1:$A$814,"*RIGHT OFF *")+SUMIFS($G$1:$G$814,$A$1:$A$814,"*LEFT OFF *"))) -> 0 | AF45: =((AE45)+SUMIFS($H$1:$H$814,$A$1:$A$814,"*RIGHT OFF *")+SUMIFS($H$1:$H$814,$A$1:$A$814,"*LEFT OFF *")) -> 0 | AG45: =IFERROR((AE45/AF45),"-") -> - | AH45: =SUMIFS($G$1:$G$814,$A$1:$A$814,"*MID OFF *") -> 0 | AI45: =(AH45)+(SUMIFS($H$1:$H$814,$A$1:$A$814,"*MID OFF *")) -> 0 | AJ45: =IFERROR((AH45/AI45),"-") -> -
AD46: PROTECT | AE46: =((SUMIFS($I$1:$I$814,$A$1:$A$814,"*RIGHT OFF *")+SUMIFS($I$1:$I$814,$A$1:$A$814,"*LEFT OFF *"))) -> 0 | AF46: =((AE46)+SUMIFS($J$1:$J$814,$A$1:$A$814,"*RIGHT OFF *")+SUMIFS($J$1:$J$814,$A$1:$A$814,"*LEFT OFF *")) -> 0 | AG46: =IFERROR((AE46/AF46),"-") -> - | AH46: =SUMIFS($I$1:$I$814,$A$1:$A$814,"*MID OFF *") -> 0 | AI46: =(AH46)+(SUMIFS($J$1:$J$814,$A$1:$A$814,"*MID OFF *")) -> 0 | AJ46: =IFERROR((AH46/AI46),"-") -> -
X47: ACTIONS BENEFIQUES | Y47: ACTIONS BENEFIQUES | AB47: ACTIONS BENEFIQUES | AD47: AGRESSIVE | AE47: =((SUMIFS($K$1:$K$814,$A$1:$A$814,"*RIGHT OFF *")+SUMIFS($K$1:$K$814,$A$1:$A$814,"*LEFT OFF *"))) -> 0 | AF47: =((AE47)+SUMIFS($L$1:$L$814,$A$1:$A$814,"*RIGHT OFF *")+SUMIFS($L$1:$L$814,$A$1:$A$814,"*LEFT OFF *")) -> 0 | AG47: =IFERROR((AE47/AF47),"-") -> - | AH47: =SUMIFS($K$1:$K$814,$A$1:$A$814,"*MID OFF *") -> 0 | AI47: =(AH47)+(SUMIFS($L$1:$L$814,$A$1:$A$814,"*MID OFF *")) -> 0 | AJ47: =IFERROR((AH47/AI47),"-") -> -
AD48: SWITCH | AE48: =((SUMIFS($M$1:$M$814,$A$1:$A$814,"*RIGHT OFF *")+SUMIFS($M$1:$M$814,$A$1:$A$814,"*LEFT OFF *"))) -> 0 | AF48: =((AE48)+SUMIFS($N$1:$N$814,$A$1:$A$814,"*RIGHT OFF *")+SUMIFS($N$1:$N$814,$A$1:$A$814,"*LEFT OFF *")) -> 0 | AG48: =IFERROR((AE48/AF48),"-") -> - | AH48: =SUMIFS($M$1:$M$814,$A$1:$A$814,"*MID OFF *") -> 0 | AI48: =(AH48)+(SUMIFS($N$1:$N$814,$A$1:$A$814,"*MID OFF *")) -> 0 | AJ48: =IFERROR((AH48/AI48),"-") -> -
AD49: ICE | AE49: =((SUMIFS($O$1:$O$814,$A$1:$A$814,"*RIGHT OFF *")+SUMIFS($O$1:$O$814,$A$1:$A$814,"*LEFT OFF *"))) -> 0 | AF49: =((AE49)+SUMIFS($P$1:$P$814,$A$1:$A$814,"*RIGHT OFF *")+SUMIFS($P$1:$P$814,$A$1:$A$814,"*LEFT OFF *")) -> 0 | AG49: =IFERROR((AE49/AF49),"-") -> - | AH49: =SUMIFS($O$1:$O$814,$A$1:$A$814,"*MID OFF *") -> 0 | AI49: =(AH49)+(SUMIFS($P$1:$P$814,$A$1:$A$814,"*MID OFF *")) -> 0 | AJ49: =IFERROR((AH49/AI49),"-") -> -
X50: sur | Y50: sur | AB50: sur | AD50: WEAK | AE50: =((SUMIFS($Q$1:$Q$814,$A$1:$A$814,"*RIGHT OFF *")+SUMIFS($Q$1:$Q$814,$A$1:$A$814,"*LEFT OFF *"))) -> 0 | AF50: =((AE50)+SUMIFS($R$1:$R$814,$A$1:$A$814,"*RIGHT OFF *")+SUMIFS($R$1:$R$814,$A$1:$A$814,"*LEFT OFF *")) -> 0 | AG50: =IFERROR((AE50/AF50),"-") -> - | AH50: =SUMIFS($Q$1:$Q$814,$A$1:$A$814,"*MID OFF *") -> 0 | AI50: =(AH50)+(SUMIFS($R$1:$R$814,$A$1:$A$814,"*MID OFF *")) -> 0 | AJ50: =IFERROR((AH50/AI50),"-") -> -
X52: =IF((COUNTIF($A$1:$A$986,"*LEFT OFF *"))<0,"0",(COUNTIF($A$1:$A$986,"*LEFT OFF *"))) -> 0 | Y52: =IF((COUNTIF($A$1:$A$986,"*MID OFF *"))<0,"0",(COUNTIF($A$1:$A$986,"*MID OFF *"))) -> 0 | AB52: =IF((COUNTIF($A$1:$A$986,"*RIGHT OFF *"))<0,"0",(COUNTIF($A$1:$A$986,"*RIGHT OFF *"))) -> 0
AE53: ROUGE = HAUT RENDEMENT | AH53: 80 à 100% | AP53: nbre d'actions et masquer pour comptabiliser la renta tot sur plusieurs matchs
AE54: ORANGE = BON RENDEMENT | AH54: 65 à 79,99%
X55: PNR joués | Y55: PNR joués | AB55: PNR joués | AE55: JAUNE = RENDEMENT MOYEN | AH55: 50 à 64,99%
AE56: BLEU = RENDEMENT FAIBLE | AH56: inf à 49,99% | AP56: reprendre la MFC EFF main tableau ???
X59: PNR DEFENSIFS 1/2 TERRAIN
X62: LEFT | Y62: MID | AB62: RIGHT | AD62: EFFICACITE DEF DES COUVERTURES
X63: =((SUMIFS($H$1:$H$814,$A$1:$A$814,"*LEFT DEF *"))+(SUMIFS($J$1:$J$814,$A$1:$A$814,"*LEFT DEF *"))+(SUMIFS($L$1:$L$814,$A$1:$A$814,"*LEFT DEF *"))+(SUMIFS($N$1:$N$814,$A$1:$A$814,"*LEFT DEF *"))+(SUMIFS($P$1:$P$814,$A$1:$A$814,"*LEFT DEF *"))+(SUMIFS($R$1:$R$814,$A$1:$A$814,"*LEFT DEF *")))/(AA72) -> #DIV/0! | Y63: =((SUMIFS($H$1:$H$814,$A$1:$A$814,"*MID DEF *"))+(SUMIFS($J$1:$J$814,$A$1:$A$814,"*MID DEF *"))+(SUMIFS($L$1:$L$814,$A$1:$A$814,"*MID DEF *"))+(SUMIFS($N$1:$N$814,$A$1:$A$814,"*MID DEF *"))+(SUMIFS($P$1:$P$814,$A$1:$A$814,"*MID DEF *"))+(SUMIFS($R$1:$R$814,$A$1:$A$814,"*MID DEF *")))/(AA72) -> #DIV/0! | AB63: =((SUMIFS($H$1:$H$814,$A$1:$A$814,"*RIGHT DEF *"))+(SUMIFS($J$1:$J$814,$A$1:$A$814,"*RIGHT DEF *"))+(SUMIFS($L$1:$L$814,$A$1:$A$814,"*RIGHT DEF *"))+(SUMIFS($N$1:$N$814,$A$1:$A$814,"*RIGHT DEF *"))+(SUMIFS($P$1:$P$814,$A$1:$A$814,"*RIGHT DEF *"))+(SUMIFS($R$1:$R$814,$A$1:$A$814,"*RIGHT DEF *")))/(AB72) -> #DIV/0! | AE63: SIDE | AH63: MID
AE64: S | AF64: TOT | AG64: % S | AH64: S | AI64: TOT | AJ64: % S
AD65: UNDER | AE65: =((SUMIFS($H$1:$H$814,$A$1:$A$814,"*RIGHT DEF *")+SUMIFS($H$1:$H$814,$A$1:$A$814,"*LEFT DEF *"))) -> 0 | AF65: =((AE65)+SUMIFS($G$1:$G$814,$A$1:$A$814,"*RIGHT DEF *")+SUMIFS($G$1:$G$814,$A$1:$A$814,"*LEFT DEF *")) -> 0 | AG65: =IFERROR((AE65/AF65),"-") -> - | AH65: =SUMIFS($H$1:$H$814,$A$1:$A$814,"*MID DEF *") -> 0 | AI65: =(AH65)+(SUMIFS($G$1:$G$814,$A$1:$A$814,"*MID DEF *")) -> 0 | AJ65: =IFERROR((AH65/AI65),"-") -> -
AD66: PROTECT | AE66: =((SUMIFS($J$1:$J$814,$A$1:$A$814,"*RIGHT DEF *")+SUMIFS($J$1:$J$814,$A$1:$A$814,"*LEFT DEF *"))) -> 0 | AF66: =((AE66)+SUMIFS($I$1:$I$814,$A$1:$A$814,"*RIGHT DEF *")+SUMIFS($I$1:$I$814,$A$1:$A$814,"*LEFT DEF *")) -> 0 | AG66: =IFERROR((AE66/AF66),"-") -> - | AH66: =SUMIFS($J$1:$J$814,$A$1:$A$814,"*MID DEF *") -> 0 | AI66: =(AH66)+(SUMIFS($I$1:$I$814,$A$1:$A$814,"*MID DEF *")) -> 0 | AJ66: =IFERROR((AH66/AI66),"-") -> -
X67: STOPS | Y67: STOPS | AB67: STOPS | AD67: AGRESSIVE | AE67: =((SUMIFS($L$1:$L$814,$A$1:$A$814,"*RIGHT DEF *")+SUMIFS($L$1:$L$814,$A$1:$A$814,"*LEFT DEF *"))) -> 0 | AF67: =((AE67)+SUMIFS($K$1:$K$814,$A$1:$A$814,"*RIGHT DEF *")+SUMIFS($K$1:$K$814,$A$1:$A$814,"*LEFT DEF *")) -> 0 | AG67: =IFERROR((AE67/AF67),"-") -> - | AH67: =SUMIFS($L$1:$L$814,$A$1:$A$814,"*MID DEF *") -> 0 | AI67: =(AH67)+(SUMIFS($K$1:$K$814,$A$1:$A$814,"*MID DEF *")) -> 0 | AJ67: =IFERROR((AH67/AI67),"-") -> -
AD68: SWITCH | AE68: =((SUMIFS($N$1:$N$814,$A$1:$A$814,"*RIGHT DEF *")+SUMIFS($N$1:$N$814,$A$1:$A$814,"*LEFT DEF *"))) -> 0 | AF68: =((AE68)+SUMIFS($M$1:$M$814,$A$1:$A$814,"*RIGHT DEF *")+SUMIFS($M$1:$M$814,$A$1:$A$814,"*LEFT DEF *")) -> 0 | AG68: =IFERROR((AE68/AF68),"-") -> - | AH68: =SUMIFS($N$1:$N$814,$A$1:$A$814,"*MID DEF *") -> 0 | AI68: =(AH68)+(SUMIFS($M$1:$M$814,$A$1:$A$814,"*MID DEF *")) -> 0 | AJ68: =IFERROR((AH68/AI68),"-") -> -
AD69: ICE | AE69: =((SUMIFS($P$1:$P$814,$A$1:$A$814,"*RIGHT DEF *")+SUMIFS($P$1:$P$814,$A$1:$A$814,"*LEFT DEF *"))) -> 0 | AF69: =((AE69)+SUMIFS($O$1:$O$814,$A$1:$A$814,"*RIGHT DEF *")+SUMIFS($O$1:$O$814,$A$1:$A$814,"*LEFT DEF *")) -> 0 | AG69: =IFERROR((AE69/AF69),"-") -> - | AH69: =SUMIFS($P$1:$P$814,$A$1:$A$814,"*MID DEF *") -> 0 | AI69: =(AH69)+(SUMIFS($O$1:$O$814,$A$1:$A$814,"*MID DEF *")) -> 0 | AJ69: =IFERROR((AH69/AI69),"-") -> -
X70: sur | Y70: sur | AB70: sur | AD70: WEAK | AE70: =((SUMIFS($R$1:$R$814,$A$1:$A$814,"*RIGHT DEF *")+SUMIFS($R$1:$R$814,$A$1:$A$814,"*LEFT DEF *"))) -> 0 | AF70: =((AE70)+SUMIFS($Q$1:$Q$814,$A$1:$A$814,"*RIGHT DEF *")+SUMIFS($Q$1:$Q$814,$A$1:$A$814,"*LEFT DEF *")) -> 0 | AG70: =IFERROR((AE70/AF70),"-") -> - | AH70: =SUMIFS($R$1:$R$814,$A$1:$A$814,"*MID DEF *") -> 0 | AI70: =(AH70)+(SUMIFS($Q$1:$Q$814,$A$1:$A$814,"*MID DEF *")) -> 0 | AJ70: =IFERROR((AH70/AI70),"-") -> -
X72: =IF((COUNTIF($A$1:$A$986,"*LEFT DEF *"))<0,"0",(COUNTIF($A$1:$A$986,"*LEFT DEF *"))) -> 0 | Y72: =IF((COUNTIF($A$1:$A$986,"*MID DEF *"))<0,"0",(COUNTIF($A$1:$A$986,"*MID DEF *"))) -> 0 | AB72: =IF((COUNTIF($A$1:$A$986,"*RIGHT DEF *"))<0,"0",(COUNTIF($A$1:$A$986,"*RIGHT DEF *"))) -> 0
X75: PNR joués | Y75: PNR joués | AB75: PNR joués

Sheet M4 A
X2: JEU & SYSTEMES
X5: CALLS | Y5: TYPE | AA5: NBRE O | AB5: % JOUE | AC5: FG made | AD5: EFF. | AE5: R | AF5: E
Y6: CA | AA6: =IF((COUNTIF($A$1:$A$986,"*CA *"))<0,"0",(COUNTIF($A$1:$A$986,"*CA *"))) -> 0 | AB6: =IF($AC$35=0,"",(AA6)/$AC$35) | AC6: =(SUMIFS($H$1:$H$986,$A$1:$A$986,"*CA *")) -> 0 | AD6: =IFERROR(SUM(AE6+AF6)/SUM(AE6+AF6+#REF!+#REF!),"-") -> - | AE6: =(SUMIFS($G$1:$G$986,$A$1:$A$986,"*CA *")) -> 0 | AF6: =(SUMIFS($I$1:$I$986,$A$1:$A$986,"*CA *")) -> 0
Y7: TRANSI | AA7: =IF((COUNTIF($A$1:$A$986,"*TRANSI*")-1)<0,"0",(COUNTIF($A$1:$A$986,"*TRANSI*")-1)) -> 0 | AB7: =IF($AC$35=0,"",(AA7)/$AC$35) | AC7: =(SUMIFS($H$1:$H$986,$A$1:$A$986,"*TRANSI *")) -> 0 | AD7: =IFERROR(SUM(AC7+AE7)/SUM(AC7+AE7+AF7),"-") -> - | AE7: =(SUMIFS($G$1:$G$986,$A$1:$A$986,"*TRANSI *")) -> 0 | AF7: =SUMIFS($I$1:$I$986,$A$1:$A$986,"*TRANSI*") -> 0
Y8: JL | AA8: =IF((COUNTIF($A$1:$A$986,"*JL*")-1)<0,"0",(COUNTIF($A$1:$A$986,"*JL*")-1)) -> 0 | AB8: =IF($AC$35=0,"",(AA8)/$AC$35) | AC8: =(SUMIFS($H$1:$H$986,$A$1:$A$986,"*JL *")) -> 0 | AD8: =IFERROR(SUM(AE8+AF8)/SUM(AE8+AF8+#REF!+#REF!),"-") -> - | AE8: =(SUMIFS($G$1:$G$986,$A$1:$A$986,"*JL *")) -> 0 | AF8: =(SUMIFS($I$1:$I$986,$A$1:$A$986,"*JL *")) -> 0
Y9: PICKS SPLES | AA9: =IF((COUNTIF($A$1:$A$986,"*PS*")-1)<0,"0",(COUNTIF($A$1:$A$986,"*PS*")-1)) -> 0 | AB9: =IF($AC$35=0,"",(AA9)/$AC$35) | AC9: =(SUMIFS($H$1:$H$986,$A$1:$A$986,"*PS *")) -> 0 | AD9: =IFERROR(SUM(AE9+AF9)/SUM(AE9+AF9+#REF!+#REF!),"-") -> - | AE9: =(SUMIFS($G$1:$G$986,$A$1:$A$986,"*PS *")) -> 0 | AF9: =(SUMIFS($I$1:$I$986,$A$1:$A$986,"*PS *")) -> 0
Y10: P1 | AA10: =IF((COUNTIF($A$1:$A$986,"*P1 *"))<0,"0",(COUNTIF($A$1:$A$986,"*P1 *"))) -> 0 | AB10: =IF($AC$35=0,"",(AA10)/$AC$35) | AC10: =(SUMIFS($H$1:$H$986,$A$1:$A$986,"*P1 *")) -> 0 | AD10: =IFERROR((SUM(AC10+AE10))/SUM(AC10+AE10+AF10),"-") -> - | AE10: =(SUMIFS($G$1:$G$986,$A$1:$A$986,"*P1 *")) -> 0 | AF10: =(SUMIFS($I$1:$I$986,$A$1:$A$986,"*P1 *")) -> 0
Y11: P2 | AA11: =IF((COUNTIF($A$1:$A$986,"*P2*")-1)<0,"0",(COUNTIF($A$1:$A$986,"*P2*")-1)) -> 0 | AB11: =IF($AC$35=0,"",(AA11)/$AC$35) | AC11: =(SUMIFS($H$1:$H$986,$A$1:$A$986,"*P2 *")) -> 0 | AD11: =IFERROR(SUM(AE11+AF11)/SUM(AE11+AF11+#REF!+#REF!),"-") -> - | AE11: =(SUMIFS($G$1:$G$986,$A$1:$A$986,"*P2 *")) -> 0 | AF11: =(SUMIFS($I$1:$I$986,$A$1:$A$986,"*P2 *")) -> 0
Y12: P3 | AA12: =IF((COUNTIF($A$1:$A$986,"*P3*")-1)<0,"0",(COUNTIF($A$1:$A$986,"*P3*")-1)) -> 0 | AB12: =IF($AC$35=0,"",(AA12)/$AC$35) | AC12: =(SUMIFS($H$1:$H$986,$A$1:$A$986,"*P3 *")) -> 0 | AD12: =IFERROR(SUM(AE12+AF12)/SUM(AE12+AF12+#REF!+#REF!),"-") -> - | AE12: =(SUMIFS($G$1:$G$986,$A$1:$A$986,"*P3 *")) -> 0 | AF12: =(SUMIFS($I$1:$I$986,$A$1:$A$986,"*P3 *")) -> 0
Y13: P4 | AA13: =IF((COUNTIF($A$1:$A$986,"*P4*")-1)<0,"0",(COUNTIF($A$1:$A$986,"*P4*")-1)) -> 0 | AB13: =IF($AC$35=0,"",(AA13)/$AC$35) | AC13: =(SUMIFS($H$1:$H$986,$A$1:$A$986,"*P4 *")) -> 0 | AD13: =IFERROR(SUM(AE13+AF13)/SUM(AE13+AF13+#REF!+#REF!),"-") -> - | AE13: =(SUMIFS($G$1:$G$986,$A$1:$A$986,"*P4 *")) -> 0 | AF13: =(SUMIFS($I$1:$I$986,$A$1:$A$986,"*P4 *")) -> 0
Y14: P5 | AA14: =IF((COUNTIF($A$1:$A$986,"*P5*")-1)<0,"0",(COUNTIF($A$1:$A$986,"*P5*")-1)) -> 0 | AB14: =IF($AC$35=0,"",(AA14)/$AC$35) | AC14: =(SUMIFS($H$1:$H$986,$A$1:$A$986,"*P5 *")) -> 0 | AD14: =IFERROR(SUM(AE14+AF14)/SUM(AE14+AF14+#REF!+#REF!),"-") -> - | AE14: =(SUMIFS($G$1:$G$986,$A$1:$A$986,"*P5 *")) -> 0 | AF14: =(SUMIFS($I$1:$I$986,$A$1:$A$986,"*P5 *")) -> 0
Y15: P6 | AA15: =IF((COUNTIF($A$1:$A$986,"*P6*")-1)<0,"0",(COUNTIF($A$1:$A$986,"*P6*")-1)) -> 0 | AB15: =IF($AC$35=0,"",(AA15)/$AC$35) | AC15: =(SUMIFS($H$1:$H$986,$A$1:$A$986,"*P6 *")) -> 0 | AD15: =IFERROR(SUM(AE15+AF15)/SUM(AE15+AF15+#REF!+#REF!),"-") -> - | AE15: =(SUMIFS($G$1:$G$986,$A$1:$A$986,"*P6 *")) -> 0 | AF15: =(SUMIFS($I$1:$I$986,$A$1:$A$986,"*P6 *")) -> 0
Y16: P7 | AA16: =IF((COUNTIF($A$1:$A$986,"*P7*")-1)<0,"0",(COUNTIF($A$1:$A$986,"*P7*")-1)) -> 0 | AB16: =IF($AC$35=0,"",(AA16)/$AC$35) | AC16: =(SUMIFS($H$1:$H$986,$A$1:$A$986,"*P7 *")) -> 0 | AD16: =IFERROR(SUM(AE16+AF16)/SUM(AE16+AF16+#REF!+#REF!),"-") -> - | AE16: =(SUMIFS($G$1:$G$986,$A$1:$A$986,"*P7 *")) -> 0 | AF16: =(SUMIFS($I$1:$I$986,$A$1:$A$986,"*P7 *")) -> 0
Y17: P8 | AA17: =IF((COUNTIF($A$1:$A$986,"*P8*")-1)<0,"0",(COUNTIF($A$1:$A$986,"*P8*")-1)) -> 0 | AB17: =IF($AC$35=0,"",(AA17)/$AC$35) | AC17: =(SUMIFS($H$1:$H$986,$A$1:$A$986,"*P8 *")) -> 0 | AD17: =IFERROR(SUM(AE17+AF17)/SUM(AE17+AF17+#REF!+#REF!),"-") -> - | AE17: =(SUMIFS($G$1:$G$986,$A$1:$A$986,"*P8 *")) -> 0 | AF17: =(SUMIFS($I$1:$I$986,$A$1:$A$986,"*P8 *")) -> 0
Y18: P9 | AA18: =IF((COUNTIF($A$1:$A$986,"*P9*")-1)<0,"0",(COUNTIF($A$1:$A$986,"*P9*")-1)) -> 0 | AB18: =IF($AC$35=0,"",(AA18)/$AC$35) | AC18: =(SUMIFS($H$1:$H$986,$A$1:$A$986,"*P9 *")) -> 0 | AD18: =IFERROR(SUM(AE18+AF18)/SUM(AE18+AF18+#REF!+#REF!),"-") -> - | AE18: =(SUMIFS($G$1:$G$986,$A$1:$A$986,"*P9 *")) -> 0 | AF18: =(SUMIFS($I$1:$I$986,$A$1:$A$986,"*P9 *")) -> 0
Y19: P10 | AA19: =IF((COUNTIF($A$1:$A$986,"*P10*")-1)<0,"0",(COUNTIF($A$1:$A$986,"*P10*")-1)) -> 0 | AB19: =IF($AC$35=0,"",(AA19)/$AC$35) | AC19: =(SUMIFS($H$1:$H$986,$A$1:$A$986,"*P10 *")) -> 0 | AD19: =IFERROR(SUM(AE19+AF19)/SUM(AE19+AF19+#REF!+#REF!),"-") -> - | AE19: =(SUMIFS($G$1:$G$986,$A$1:$A$986,"*P10 *")) -> 0 | AF19: =(SUMIFS($I$1:$I$986,$A$1:$A$986,"*P10 *")) -> 0
Y20: P11 | AA20: =IF((COUNTIF($A$1:$A$986,"*P11*")-1)<0,"0",(COUNTIF($A$1:$A$986,"*P11*")-1)) -> 0 | AB20: =IF($AC$35=0,"",(AA20)/$AC$35) | AC20: =(SUMIFS($H$1:$H$986,$A$1:$A$986,"*P11 *")) -> 0 | AD20: =IFERROR(SUM(AE20+AF20)/SUM(AE20+AF20+#REF!+#REF!),"-") -> - | AE20: =(SUMIFS($G$1:$G$986,$A$1:$A$986,"*P11 *")) -> 0 | AF20: =(SUMIFS($I$1:$I$986,$A$1:$A$986,"*P11 *")) -> 0
Y21: P12 | AA21: =IF((COUNTIF($A$1:$A$986,"*P12*")-1)<0,"0",(COUNTIF($A$1:$A$986,"*P12*")-1)) -> 0 | AB21: =IF($AC$35=0,"",(AA21)/$AC$35) | AC21: =(SUMIFS($H$1:$H$986,$A$1:$A$986,"*P12 *")) -> 0 | AD21: =IFERROR(SUM(AE21+AF21)/SUM(AE21+AF21+#REF!+#REF!),"-") -> - | AE21: =(SUMIFS($G$1:$G$986,$A$1:$A$986,"*P12 *")) -> 0 | AF21: =(SUMIFS($I$1:$I$986,$A$1:$A$986,"*P12 *")) -> 0
Y22: P13 | AA22: =IF((COUNTIF($A$1:$A$986,"*P13*")-1)<0,"0",(COUNTIF($A$1:$A$986,"*P13*")-1)) -> 0 | AB22: =IF($AC$35=0,"",(AA22)/$AC$35) | AC22: =(SUMIFS($H$1:$H$986,$A$1:$A$986,"*P13 *")) -> 0 | AD22: =IFERROR(SUM(AE22+AF22)/SUM(AE22+AF22+#REF!+#REF!),"-") -> - | AE22: =(SUMIFS($G$1:$G$986,$A$1:$A$986,"*P13 *")) -> 0 | AF22: =(SUMIFS($I$1:$I$986,$A$1:$A$986,"*P13 *")) -> 0
Y23: P14 | AA23: =IF((COUNTIF($A$1:$A$986,"*P14*")-1)<0,"0",(COUNTIF($A$1:$A$986,"*P14*")-1)) -> 0 | AB23: =IF($AC$35=0,"",(AA23)/$AC$35) | AC23: =(SUMIFS($H$1:$H$986,$A$1:$A$986,"*P14 *")) -> 0 | AD23: =IFERROR(SUM(AE23+AF23)/SUM(AE23+AF23+#REF!+#REF!),"-") -> - | AE23: =(SUMIFS($G$1:$G$986,$A$1:$A$986,"*P14 *")) -> 0 | AF23: =(SUMIFS($I$1:$I$986,$A$1:$A$986,"*P14 *")) -> 0
Y24: P15 | AA24: =IF((COUNTIF($A$1:$A$986,"*P15*")-1)<0,"0",(COUNTIF($A$1:$A$986,"*P15*")-1)) -> 0 | AB24: =IF($AC$35=0,"",(AA24)/$AC$35) | AC24: =(SUMIFS($H$1:$H$986,$A$1:$A$986,"*P15 *")) -> 0 | AD24: =IFERROR(SUM(AE24+AF24)/SUM(AE24+AF24+#REF!+#REF!),"-") -> - | AE24: =(SUMIFS($G$1:$G$986,$A$1:$A$986,"*P15 *")) -> 0 | AF24: =(SUMIFS($I$1:$I$986,$A$1:$A$986,"*P15 *")) -> 0
Y25: P16 | AA25: =IF((COUNTIF($A$1:$A$986,"*P16*")-1)<0,"0",(COUNTIF($A$1:$A$986,"*P16*")-1)) -> 0 | AB25: =IF($AC$35=0,"",(AA25)/$AC$35) | AC25: =(SUMIFS($H$1:$H$986,$A$1:$A$986,"*P16 *")) -> 0 | AD25: =IFERROR(SUM(AE25+AF25)/SUM(AE25+AF25+#REF!+#REF!),"-") -> - | AE25: =(SUMIFS($G$1:$G$986,$A$1:$A$986,"*P16 *")) -> 0 | AF25: =(SUMIFS($I$1:$I$986,$A$1:$A$986,"*P16 *")) -> 0
Y26: SPANISH | AA26: =IF((COUNTIF($A$1:$A$986,"*SPANISH*")-1)<0,"0",(COUNTIF($A$1:$A$986,"*SPANISH*")-1)) -> 0 | AB26: =IF($AC$35=0,"",(AA26)/$AC$35) | AC26: =(SUMIFS($H$1:$H$986,$A$1:$A$986,"*SPANISH *")) -> 0 | AD26: =IFERROR(SUM(AE26+AF26)/SUM(AE26+AF26+#REF!+#REF!),"-") -> - | AE26: =(SUMIFS($G$1:$G$986,$A$1:$A$986,"*SPANISH *")) -> 0 | AF26: =(SUMIFS($I$1:$I$986,$A$1:$A$986,"*SPANISH *")) -> 0
Y27: DIVERS | AA27: =IF((COUNTIF($A$1:$A$986,"*DIVERS*")-1)<0,"0",(COUNTIF($A$1:$A$986,"*DIVERS*")-1)) -> 0 | AB27: =IF($AC$35=0,"",(AA27)/$AC$35) | AC27: =(SUMIFS($H$1:$H$986,$A$1:$A$986,"*DIVERS *")) -> 0 | AD27: =IFERROR(SUM(AE27+AF27)/SUM(AE27+AF27+#REF!+#REF!),"-") -> - | AE27: =(SUMIFS($G$1:$G$986,$A$1:$A$986,"*DIVERS *")) -> 0 | AF27: =(SUMIFS($I$1:$I$986,$A$1:$A$986,"*DIVERS *")) -> 0
Y28: BLOBS | AA28: =IF((COUNTIF($A$1:$A$986,"*BLOBS*")-1)<0,"0",(COUNTIF($A$1:$A$986,"*BLOBS*")-1)) -> 0 | AB28: =IF($AC$35=0,"",(AA28)/$AC$35) | AC28: =(SUMIFS($H$1:$H$986,$A$1:$A$986,"*BLOBS *")) -> 0 | AD28: =IFERROR(SUM(AE28+AF28)/SUM(AE28+AF28+#REF!+#REF!),"-") -> - | AE28: =(SUMIFS($G$1:$G$986,$A$1:$A$986,"*BLOBS *")) -> 0 | AF28: =(SUMIFS($I$1:$I$986,$A$1:$A$986,"*BLOBS *")) -> 0
Y29: SLOBS | AA29: =IF((COUNTIF($A$1:$A$986,"*SLOBS*")-1)<0,"0",(COUNTIF($A$1:$A$986,"*SLOBS*")-1)) -> 0 | AB29: =IF($AC$35=0,"",(AA29)/$AC$35) | AC29: =(SUMIFS($H$1:$H$986,$A$1:$A$986,"*SLOBS *")) -> 0 | AD29: =IFERROR(SUM(AE29+AF29)/SUM(AE29+AF29+#REF!+#REF!),"-") -> - | AE29: =(SUMIFS($G$1:$G$986,$A$1:$A$986,"*SLOBS *")) -> 0 | AF29: =(SUMIFS($I$1:$I$986,$A$1:$A$986,"*SLOBS *")) -> 0
Y30: ZONE 1 | AA30: =IF((COUNTIF($A$1:$A$986,"*Z OFF 1*")-1)<0,"0",(COUNTIF($A$1:$A$986,"*Z OFF 1*")-1)) -> 0 | AB30: =IF($AC$35=0,"",(AA30)/$AC$35) | AC30: =(SUMIFS($H$1:$H$986,$A$1:$A$986,"*Z OFF 1 *")) -> 0 | AD30: =IFERROR(SUM(AE30+AF30)/SUM(AE30+AF30+#REF!+#REF!),"-") -> - | AE30: =(SUMIFS($G$1:$G$986,$A$1:$A$986,"*Z OFF 1 *")) -> 0 | AF30: =(SUMIFS($I$1:$I$986,$A$1:$A$986,"*Z OFF 1 *")) -> 0
Y31: ZONE 2 | AA31: =IF((COUNTIF($A$1:$A$986,"*Z OFF 2*")-1)<0,"0",(COUNTIF($A$1:$A$986,"*Z OFF 2*")-1)) -> 0 | AB31: =IF($AC$35=0,"",(AA31)/$AC$35) | AC31: =(SUMIFS($H$1:$H$986,$A$1:$A$986,"*Z OFF 2 *")) -> 0 | AD31: =IFERROR(SUM(AE31+AF31)/SUM(AE31+AF31+#REF!+#REF!),"-") -> - | AE31: =(SUMIFS($G$1:$G$986,$A$1:$A$986,"*Z OFF 2 *")) -> 0 | AF31: =(SUMIFS($I$1:$I$986,$A$1:$A$986,"*Z OFF 2 *")) -> 0
X32: TOTAL | AC32: FG made | AD32: FG % | AE32: R % | AF32: E %
AC33: =SUM(AC6:AC31) -> 0 | AD33: =IFERROR((AC33/AC35),"-") -> - | AE33: =IFERROR(((SUM(AE6:AE31))/AC35),"-") -> - | AF33: =IFERROR(((SUM(AF6:AF31))/AC35),"-") -> -
AC34: NBRE O | AE34: PTS | AF34: RENTABILITE
AC35: =SUM(AA6:AA31) -> 0 | AF35: PPO | AH35: =IFERROR((AE35/AC35),"-") -> -
AF37: RATIO ACTIONS + | AH37: =IFERROR(((SUM(AE6:AE31)+AC33))/(SUM(AE6:AE31)+(SUM(AF6:AF31)+AC33)),"-") -> -
X39: PNR OFFENSIFS 1/2 TERRAIN
X42: LEFT | Y42: MID | AB42: RIGHT | AD42: EFFICACITE OFF SELON COUVERTURES DEF
X43: =((SUMIFS($G$1:$G$814,$A$1:$A$814,"*LEFT OFF *"))+(SUMIFS($I$1:$I$814,$A$1:$A$814,"*LEFT OFF *"))+(SUMIFS($K$1:$K$814,$A$1:$A$814,"*LEFT OFF *"))+(SUMIFS($M$1:$M$814,$A$1:$A$814,"*LEFT OFF *"))+(SUMIFS($O$1:$O$814,$A$1:$A$814,"*LEFT OFF *"))+(SUMIFS($Q$1:$Q$814,$A$1:$A$814,"*LEFT OFF *")))/(X52) -> #DIV/0! | Y43: =((SUMIFS($G$1:$G$814,$A$1:$A$814,"*MID OFF *"))+(SUMIFS($I$1:$I$814,$A$1:$A$814,"*MID OFF *"))+(SUMIFS($K$1:$K$814,$A$1:$A$814,"*MID OFF *"))+(SUMIFS($M$1:$M$814,$A$1:$A$814,"*MID OFF *"))+(SUMIFS($O$1:$O$814,$A$1:$A$814,"*MID OFF *"))+(SUMIFS($Q$1:$Q$814,$A$1:$A$814,"*MID OFF *")))/(Y52) -> #DIV/0! | AB43: =((SUMIFS($G$1:$G$814,$A$1:$A$814,"*RIGHT OFF *"))+(SUMIFS($I$1:$I$814,$A$1:$A$814,"*RIGHT OFF *"))+(SUMIFS($K$1:$K$814,$A$1:$A$814,"*RIGHT OFF *"))+(SUMIFS($M$1:$M$814,$A$1:$A$814,"*RIGHT OFF *"))+(SUMIFS($O$1:$O$814,$A$1:$A$814,"*RIGHT OFF *"))+(SUMIFS($Q$1:$Q$814,$A$1:$A$814,"*RIGHT OFF *")))/(AB52) -> #DIV/0! | AE43: SIDE | AH43: MID
AE44: B | AF44: TOT | AG44: % B | AH44: B | AI44: TOT | AJ44: % B
AD45: UNDER | AE45: =((SUMIFS($G$1:$G$814,$A$1:$A$814,"*RIGHT OFF *")+SUMIFS($G$1:$G$814,$A$1:$A$814,"*LEFT OFF *"))) -> 0 | AF45: =((AE45)+SUMIFS($H$1:$H$814,$A$1:$A$814,"*RIGHT OFF *")+SUMIFS($H$1:$H$814,$A$1:$A$814,"*LEFT OFF *")) -> 0 | AG45: =IFERROR((AE45/AF45),"-") -> - | AH45: =SUMIFS($G$1:$G$814,$A$1:$A$814,"*MID OFF *") -> 0 | AI45: =(AH45)+(SUMIFS($H$1:$H$814,$A$1:$A$814,"*MID OFF *")) -> 0 | AJ45: =IFERROR((AH45/AI45),"-") -> -
AD46: PROTECT | AE46: =((SUMIFS($I$1:$I$814,$A$1:$A$814,"*RIGHT OFF *")+SUMIFS($I$1:$I$814,$A$1:$A$814,"*LEFT OFF *"))) -> 0 | AF46: =((AE46)+SUMIFS($J$1:$J$814,$A$1:$A$814,"*RIGHT OFF *")+SUMIFS($J$1:$J$814,$A$1:$A$814,"*LEFT OFF *")) -> 0 | AG46: =IFERROR((AE46/AF46),"-") -> - | AH46: =SUMIFS($I$1:$I$814,$A$1:$A$814,"*MID OFF *") -> 0 | AI46: =(AH46)+(SUMIFS($J$1:$J$814,$A$1:$A$814,"*MID OFF *")) -> 0 | AJ46: =IFERROR((AH46/AI46),"-") -> -
X47: ACTIONS BENEFIQUES | Y47: ACTIONS BENEFIQUES | AB47: ACTIONS BENEFIQUES | AD47: AGRESSIVE | AE47: =((SUMIFS($K$1:$K$814,$A$1:$A$814,"*RIGHT OFF *")+SUMIFS($K$1:$K$814,$A$1:$A$814,"*LEFT OFF *"))) -> 0 | AF47: =((AE47)+SUMIFS($L$1:$L$814,$A$1:$A$814,"*RIGHT OFF *")+SUMIFS($L$1:$L$814,$A$1:$A$814,"*LEFT OFF *")) -> 0 | AG47: =IFERROR((AE47/AF47),"-") -> - | AH47: =SUMIFS($K$1:$K$814,$A$1:$A$814,"*MID OFF *") -> 0 | AI47: =(AH47)+(SUMIFS($L$1:$L$814,$A$1:$A$814,"*MID OFF *")) -> 0 | AJ47: =IFERROR((AH47/AI47),"-") -> -
AD48: SWITCH | AE48: =((SUMIFS($M$1:$M$814,$A$1:$A$814,"*RIGHT OFF *")+SUMIFS($M$1:$M$814,$A$1:$A$814,"*LEFT OFF *"))) -> 0 | AF48: =((AE48)+SUMIFS($N$1:$N$814,$A$1:$A$814,"*RIGHT OFF *")+SUMIFS($N$1:$N$814,$A$1:$A$814,"*LEFT OFF *")) -> 0 | AG48: =IFERROR((AE48/AF48),"-") -> - | AH48: =SUMIFS($M$1:$M$814,$A$1:$A$814,"*MID OFF *") -> 0 | AI48: =(AH48)+(SUMIFS($N$1:$N$814,$A$1:$A$814,"*MID OFF *")) -> 0 | AJ48: =IFERROR((AH48/AI48),"-") -> -
AD49: ICE | AE49: =((SUMIFS($O$1:$O$814,$A$1:$A$814,"*RIGHT OFF *")+SUMIFS($O$1:$O$814,$A$1:$A$814,"*LEFT OFF *"))) -> 0 | AF49: =((AE49)+SUMIFS($P$1:$P$814,$A$1:$A$814,"*RIGHT OFF *")+SUMIFS($P$1:$P$814,$A$1:$A$814,"*LEFT OFF *")) -> 0 | AG49: =IFERROR((AE49/AF49),"-") -> - | AH49: =SUMIFS($O$1:$O$814,$A$1:$A$814,"*MID OFF *") -> 0 | AI49: =(AH49)+(SUMIFS($P$1:$P$814,$A$1:$A$814,"*MID OFF *")) -> 0 | AJ49: =IFERROR((AH49/AI49),"-") -> -
X50: sur | Y50: sur | AB50: sur | AD50: WEAK | AE50: =((SUMIFS($Q$1:$Q$814,$A$1:$A$814,"*RIGHT OFF *")+SUMIFS($Q$1:$Q$814,$A$1:$A$814,"*LEFT OFF *"))) -> 0 | AF50: =((AE50)+SUMIFS($R$1:$R$814,$A$1:$A$814,"*RIGHT OFF *")+SUMIFS($R$1:$R$814,$A$1:$A$814,"*LEFT OFF *")) -> 0 | AG50: =IFERROR((AE50/AF50),"-") -> - | AH50: =SUMIFS($Q$1:$Q$814,$A$1:$A$814,"*MID OFF *") -> 0 | AI50: =(AH50)+(SUMIFS($R$1:$R$814,$A$1:$A$814,"*MID OFF *")) -> 0 | AJ50: =IFERROR((AH50/AI50),"-") -> -
X52: =IF((COUNTIF($A$1:$A$986,"*LEFT OFF *"))<0,"0",(COUNTIF($A$1:$A$986,"*LEFT OFF *"))) -> 0 | Y52: =IF((COUNTIF($A$1:$A$986,"*MID OFF *"))<0,"0",(COUNTIF($A$1:$A$986,"*MID OFF *"))) -> 0 | AB52: =IF((COUNTIF($A$1:$A$986,"*RIGHT OFF *"))<0,"0",(COUNTIF($A$1:$A$986,"*RIGHT OFF *"))) -> 0
AE53: ROUGE = HAUT RENDEMENT | AH53: 80 à 100% | AP53: nbre d'actions et masquer pour comptabiliser la renta tot sur plusieurs matchs
AE54: ORANGE = BON RENDEMENT | AH54: 65 à 79,99%
X55: PNR joués | Y55: PNR joués | AB55: PNR joués | AE55: JAUNE = RENDEMENT MOYEN | AH55: 50 à 64,99%
AE56: BLEU = RENDEMENT FAIBLE | AH56: inf à 49,99% | AP56: reprendre la MFC EFF main tableau ???
X59: PNR DEFENSIFS 1/2 TERRAIN
X62: LEFT | Y62: MID | AB62: RIGHT | AD62: EFFICACITE DEF DES COUVERTURES
X63: =((SUMIFS($H$1:$H$814,$A$1:$A$814,"*LEFT DEF *"))+(SUMIFS($J$1:$J$814,$A$1:$A$814,"*LEFT DEF *"))+(SUMIFS($L$1:$L$814,$A$1:$A$814,"*LEFT DEF *"))+(SUMIFS($N$1:$N$814,$A$1:$A$814,"*LEFT DEF *"))+(SUMIFS($P$1:$P$814,$A$1:$A$814,"*LEFT DEF *"))+(SUMIFS($R$1:$R$814,$A$1:$A$814,"*LEFT DEF *")))/(AA72) -> #DIV/0! | Y63: =((SUMIFS($H$1:$H$814,$A$1:$A$814,"*MID DEF *"))+(SUMIFS($J$1:$J$814,$A$1:$A$814,"*MID DEF *"))+(SUMIFS($L$1:$L$814,$A$1:$A$814,"*MID DEF *"))+(SUMIFS($N$1:$N$814,$A$1:$A$814,"*MID DEF *"))+(SUMIFS($P$1:$P$814,$A$1:$A$814,"*MID DEF *"))+(SUMIFS($R$1:$R$814,$A$1:$A$814,"*MID DEF *")))/(AA72) -> #DIV/0! | AB63: =((SUMIFS($H$1:$H$814,$A$1:$A$814,"*RIGHT DEF *"))+(SUMIFS($J$1:$J$814,$A$1:$A$814,"*RIGHT DEF *"))+(SUMIFS($L$1:$L$814,$A$1:$A$814,"*RIGHT DEF *"))+(SUMIFS($N$1:$N$814,$A$1:$A$814,"*RIGHT DEF *"))+(SUMIFS($P$1:$P$814,$A$1:$A$814,"*RIGHT DEF *"))+(SUMIFS($R$1:$R$814,$A$1:$A$814,"*RIGHT DEF *")))/(AB72) -> #DIV/0! | AE63: SIDE | AH63: MID
AE64: S | AF64: TOT | AG64: % S | AH64: S | AI64: TOT | AJ64: % S
AD65: UNDER | AE65: =((SUMIFS($H$1:$H$814,$A$1:$A$814,"*RIGHT DEF *")+SUMIFS($H$1:$H$814,$A$1:$A$814,"*LEFT DEF *"))) -> 0 | AF65: =((AE65)+SUMIFS($G$1:$G$814,$A$1:$A$814,"*RIGHT DEF *")+SUMIFS($G$1:$G$814,$A$1:$A$814,"*LEFT DEF *")) -> 0 | AG65: =IFERROR((AE65/AF65),"-") -> - | AH65: =SUMIFS($H$1:$H$814,$A$1:$A$814,"*MID DEF *") -> 0 | AI65: =(AH65)+(SUMIFS($G$1:$G$814,$A$1:$A$814,"*MID DEF *")) -> 0 | AJ65: =IFERROR((AH65/AI65),"-") -> -
AD66: PROTECT | AE66: =((SUMIFS($J$1:$J$814,$A$1:$A$814,"*RIGHT DEF *")+SUMIFS($J$1:$J$814,$A$1:$A$814,"*LEFT DEF *"))) -> 0 | AF66: =((AE66)+SUMIFS($I$1:$I$814,$A$1:$A$814,"*RIGHT DEF *")+SUMIFS($I$1:$I$814,$A$1:$A$814,"*LEFT DEF *")) -> 0 | AG66: =IFERROR((AE66/AF66),"-") -> - | AH66: =SUMIFS($J$1:$J$814,$A$1:$A$814,"*MID DEF *") -> 0 | AI66: =(AH66)+(SUMIFS($I$1:$I$814,$A$1:$A$814,"*MID DEF *")) -> 0 | AJ66: =IFERROR((AH66/AI66),"-") -> -
X67: STOPS | Y67: STOPS | AB67: STOPS | AD67: AGRESSIVE | AE67: =((SUMIFS($L$1:$L$814,$A$1:$A$814,"*RIGHT DEF *")+SUMIFS($L$1:$L$814,$A$1:$A$814,"*LEFT DEF *"))) -> 0 | AF67: =((AE67)+SUMIFS($K$1:$K$814,$A$1:$A$814,"*RIGHT DEF *")+SUMIFS($K$1:$K$814,$A$1:$A$814,"*LEFT DEF *")) -> 0 | AG67: =IFERROR((AE67/AF67),"-") -> - | AH67: =SUMIFS($L$1:$L$814,$A$1:$A$814,"*MID DEF *") -> 0 | AI67: =(AH67)+(SUMIFS($K$1:$K$814,$A$1:$A$814,"*MID DEF *")) -> 0 | AJ67: =IFERROR((AH67/AI67),"-") -> -
AD68: SWITCH | AE68: =((SUMIFS($N$1:$N$814,$A$1:$A$814,"*RIGHT DEF *")+SUMIFS($N$1:$N$814,$A$1:$A$814,"*LEFT DEF *"))) -> 0 | AF68: =((AE68)+SUMIFS($M$1:$M$814,$A$1:$A$814,"*RIGHT DEF *")+SUMIFS($M$1:$M$814,$A$1:$A$814,"*LEFT DEF *")) -> 0 | AG68: =IFERROR((AE68/AF68),"-") -> - | AH68: =SUMIFS($N$1:$N$814,$A$1:$A$814,"*MID DEF *") -> 0 | AI68: =(AH68)+(SUMIFS($M$1:$M$814,$A$1:$A$814,"*MID DEF *")) -> 0 | AJ68: =IFERROR((AH68/AI68),"-") -> -
AD69: ICE | AE69: =((SUMIFS($P$1:$P$814,$A$1:$A$814,"*RIGHT DEF *")+SUMIFS($P$1:$P$814,$A$1:$A$814,"*LEFT DEF *"))) -> 0 | AF69: =((AE69)+SUMIFS($O$1:$O$814,$A$1:$A$814,"*RIGHT DEF *")+SUMIFS($O$1:$O$814,$A$1:$A$814,"*LEFT DEF *")) -> 0 | AG69: =IFERROR((AE69/AF69),"-") -> - | AH69: =SUMIFS($P$1:$P$814,$A$1:$A$814,"*MID DEF *") -> 0 | AI69: =(AH69)+(SUMIFS($O$1:$O$814,$A$1:$A$814,"*MID DEF *")) -> 0 | AJ69: =IFERROR((AH69/AI69),"-") -> -
X70: sur | Y70: sur | AB70: sur | AD70: WEAK | AE70: =((SUMIFS($R$1:$R$814,$A$1:$A$814,"*RIGHT DEF *")+SUMIFS($R$1:$R$814,$A$1:$A$814,"*LEFT DEF *"))) -> 0 | AF70: =((AE70)+SUMIFS($Q$1:$Q$814,$A$1:$A$814,"*RIGHT DEF *")+SUMIFS($Q$1:$Q$814,$A$1:$A$814,"*LEFT DEF *")) -> 0 | AG70: =IFERROR((AE70/AF70),"-") -> - | AH70: =SUMIFS($R$1:$R$814,$A$1:$A$814,"*MID DEF *") -> 0 | AI70: =(AH70)+(SUMIFS($Q$1:$Q$814,$A$1:$A$814,"*MID DEF *")) -> 0 | AJ70: =IFERROR((AH70/AI70),"-") -> -
X72: =IF((COUNTIF($A$1:$A$986,"*LEFT DEF *"))<0,"0",(COUNTIF($A$1:$A$986,"*LEFT DEF *"))) -> 0 | Y72: =IF((COUNTIF($A$1:$A$986,"*MID DEF *"))<0,"0",(COUNTIF($A$1:$A$986,"*MID DEF *"))) -> 0 | AB72: =IF((COUNTIF($A$1:$A$986,"*RIGHT DEF *"))<0,"0",(COUNTIF($A$1:$A$986,"*RIGHT DEF *"))) -> 0
X75: PNR joués | Y75: PNR joués | AB75: PNR joués

Sheet RENTA A
X2: JEU & SYSTEMES
X5: CALLS | Y5: TYPE | AA5: NBRE O | AB5: % JOUE | AC5: FG made | AD5: EFF. | AE5: R | AF5: E
Y6: CA | AA6: =IF((COUNTIF($A$1:$A$986,"*CA *"))<0,"0",(COUNTIF($A$1:$A$986,"*CA *"))) -> 0 | AB6: =IF($AC$35=0,"",(AA6)/$AC$35) | AC6: =(SUMIFS($H$1:$H$986,$A$1:$A$986,"*CA *")) -> 0 | AD6: =IFERROR(SUM(AE6+AF6)/SUM(AE6+AF6+#REF!+#REF!),"-") -> - | AE6: =(SUMIFS($G$1:$G$986,$A$1:$A$986,"*CA *")) -> 0 | AF6: =(SUMIFS($I$1:$I$986,$A$1:$A$986,"*CA *")) -> 0
Y7: TRANSI | AA7: =IF((COUNTIF($A$1:$A$986,"*TRANSI*")-1)<0,"0",(COUNTIF($A$1:$A$986,"*TRANSI*")-1)) -> 0 | AB7: =IF($AC$35=0,"",(AA7)/$AC$35) | AC7: =(SUMIFS($H$1:$H$986,$A$1:$A$986,"*TRANSI *")) -> 0 | AD7: =IFERROR(SUM(AC7+AE7)/SUM(AC7+AE7+AF7),"-") -> - | AE7: =(SUMIFS($G$1:$G$986,$A$1:$A$986,"*TRANSI *")) -> 0 | AF7: =SUMIFS($I$1:$I$986,$A$1:$A$986,"*TRANSI*") -> 0
Y8: JL | AA8: =IF((COUNTIF($A$1:$A$986,"*JL*")-1)<0,"0",(COUNTIF($A$1:$A$986,"*JL*")-1)) -> 0 | AB8: =IF($AC$35=0,"",(AA8)/$AC$35) | AC8: =(SUMIFS($H$1:$H$986,$A$1:$A$986,"*JL *")) -> 0 | AD8: =IFERROR(SUM(AE8+AF8)/SUM(AE8+AF8+#REF!+#REF!),"-") -> - | AE8: =(SUMIFS($G$1:$G$986,$A$1:$A$986,"*JL *")) -> 0 | AF8: =(SUMIFS($I$1:$I$986,$A$1:$A$986,"*JL *")) -> 0
Y9: PICKS SPLES | AA9: =IF((COUNTIF($A$1:$A$986,"*PS*")-1)<0,"0",(COUNTIF($A$1:$A$986,"*PS*")-1)) -> 0 | AB9: =IF($AC$35=0,"",(AA9)/$AC$35) | AC9: =(SUMIFS($H$1:$H$986,$A$1:$A$986,"*PS *")) -> 0 | AD9: =IFERROR(SUM(AE9+AF9)/SUM(AE9+AF9+#REF!+#REF!),"-") -> - | AE9: =(SUMIFS($G$1:$G$986,$A$1:$A$986,"*PS *")) -> 0 | AF9: =(SUMIFS($I$1:$I$986,$A$1:$A$986,"*PS *")) -> 0
Y10: P1 | AA10: =IF((COUNTIF($A$1:$A$986,"*P1 *"))<0,"0",(COUNTIF($A$1:$A$986,"*P1 *"))) -> 0 | AB10: =IF($AC$35=0,"",(AA10)/$AC$35) | AC10: =(SUMIFS($H$1:$H$986,$A$1:$A$986,"*P1 *")) -> 0 | AD10: =IFERROR((SUM(AC10+AE10))/SUM(AC10+AE10+AF10),"-") -> - | AE10: =(SUMIFS($G$1:$G$986,$A$1:$A$986,"*P1 *")) -> 0 | AF10: =(SUMIFS($I$1:$I$986,$A$1:$A$986,"*P1 *")) -> 0
Y11: P2 | AA11: =IF((COUNTIF($A$1:$A$986,"*P2*")-1)<0,"0",(COUNTIF($A$1:$A$986,"*P2*")-1)) -> 0 | AB11: =IF($AC$35=0,"",(AA11)/$AC$35) | AC11: =(SUMIFS($H$1:$H$986,$A$1:$A$986,"*P2 *")) -> 0 | AD11: =IFERROR(SUM(AE11+AF11)/SUM(AE11+AF11+#REF!+#REF!),"-") -> - | AE11: =(SUMIFS($G$1:$G$986,$A$1:$A$986,"*P2 *")) -> 0 | AF11: =(SUMIFS($I$1:$I$986,$A$1:$A$986,"*P2 *")) -> 0
Y12: P3 | AA12: =IF((COUNTIF($A$1:$A$986,"*P3*")-1)<0,"0",(COUNTIF($A$1:$A$986,"*P3*")-1)) -> 0 | AB12: =IF($AC$35=0,"",(AA12)/$AC$35) | AC12: =(SUMIFS($H$1:$H$986,$A$1:$A$986,"*P3 *")) -> 0 | AD12: =IFERROR(SUM(AE12+AF12)/SUM(AE12+AF12+#REF!+#REF!),"-") -> - | AE12: =(SUMIFS($G$1:$G$986,$A$1:$A$986,"*P3 *")) -> 0 | AF12: =(SUMIFS($I$1:$I$986,$A$1:$A$986,"*P3 *")) -> 0
Y13: P4 | AA13: =IF((COUNTIF($A$1:$A$986,"*P4*")-1)<0,"0",(COUNTIF($A$1:$A$986,"*P4*")-1)) -> 0 | AB13: =IF($AC$35=0,"",(AA13)/$AC$35) | AC13: =(SUMIFS($H$1:$H$986,$A$1:$A$986,"*P4 *")) -> 0 | AD13: =IFERROR(SUM(AE13+AF13)/SUM(AE13+AF13+#REF!+#REF!),"-") -> - | AE13: =(SUMIFS($G$1:$G$986,$A$1:$A$986,"*P4 *")) -> 0 | AF13: =(SUMIFS($I$1:$I$986,$A$1:$A$986,"*P4 *")) -> 0
Y14: P5 | AA14: =IF((COUNTIF($A$1:$A$986,"*P5*")-1)<0,"0",(COUNTIF($A$1:$A$986,"*P5*")-1)) -> 0 | AB14: =IF($AC$35=0,"",(AA14)/$AC$35) | AC14: =(SUMIFS($H$1:$H$986,$A$1:$A$986,"*P5 *")) -> 0 | AD14: =IFERROR(SUM(AE14+AF14)/SUM(AE14+AF14+#REF!+#REF!),"-") -> - | AE14: =(SUMIFS($G$1:$G$986,$A$1:$A$986,"*P5 *")) -> 0 | AF14: =(SUMIFS($I$1:$I$986,$A$1:$A$986,"*P5 *")) -> 0
Y15: P6 | AA15: =IF((COUNTIF($A$1:$A$986,"*P6*")-1)<0,"0",(COUNTIF($A$1:$A$986,"*P6*")-1)) -> 0 | AB15: =IF($AC$35=0,"",(AA15)/$AC$35) | AC15: =(SUMIFS($H$1:$H$986,$A$1:$A$986,"*P6 *")) -> 0 | AD15: =IFERROR(SUM(AE15+AF15)/SUM(AE15+AF15+#REF!+#REF!),"-") -> - | AE15: =(SUMIFS($G$1:$G$986,$A$1:$A$986,"*P6 *")) -> 0 | AF15: =(SUMIFS($I$1:$I$986,$A$1:$A$986,"*P6 *")) -> 0
Y16: P7 | AA16: =IF((COUNTIF($A$1:$A$986,"*P7*")-1)<0,"0",(COUNTIF($A$1:$A$986,"*P7*")-1)) -> 0 | AB16: =IF($AC$35=0,"",(AA16)/$AC$35) | AC16: =(SUMIFS($H$1:$H$986,$A$1:$A$986,"*P7 *")) -> 0 | AD16: =IFERROR(SUM(AE16+AF16)/SUM(AE16+AF16+#REF!+#REF!),"-") -> - | AE16: =(SUMIFS($G$1:$G$986,$A$1:$A$986,"*P7 *")) -> 0 | AF16: =(SUMIFS($I$1:$I$986,$A$1:$A$986,"*P7 *")) -> 0
Y17: P8 | AA17: =IF((COUNTIF($A$1:$A$986,"*P8*")-1)<0,"0",(COUNTIF($A$1:$A$986,"*P8*")-1)) -> 0 | AB17: =IF($AC$35=0,"",(AA17)/$AC$35) | AC17: =(SUMIFS($H$1:$H$986,$A$1:$A$986,"*P8 *")) -> 0 | AD17: =IFERROR(SUM(AE17+AF17)/SUM(AE17+AF17+#REF!+#REF!),"-") -> - | AE17: =(SUMIFS($G$1:$G$986,$A$1:$A$986,"*P8 *")) -> 0 | AF17: =(SUMIFS($I$1:$I$986,$A$1:$A$986,"*P8 *")) -> 0
Y18: P9 | AA18: =IF((COUNTIF($A$1:$A$986,"*P9*")-1)<0,"0",(COUNTIF($A$1:$A$986,"*P9*")-1)) -> 0 | AB18: =IF($AC$35=0,"",(AA18)/$AC$35) | AC18: =(SUMIFS($H$1:$H$986,$A$1:$A$986,"*P9 *")) -> 0 | AD18: =IFERROR(SUM(AE18+AF18)/SUM(AE18+AF18+#REF!+#REF!),"-") -> - | AE18: =(SUMIFS($G$1:$G$986,$A$1:$A$986,"*P9 *")) -> 0 | AF18: =(SUMIFS($I$1:$I$986,$A$1:$A$986,"*P9 *")) -> 0
Y19: P10 | AA19: =IF((COUNTIF($A$1:$A$986,"*P10*")-1)<0,"0",(COUNTIF($A$1:$A$986,"*P10*")-1)) -> 0 | AB19: =IF($AC$35=0,"",(AA19)/$AC$35) | AC19: =(SUMIFS($H$1:$H$986,$A$1:$A$986,"*P10 *")) -> 0 | AD19: =IFERROR(SUM(AE19+AF19)/SUM(AE19+AF19+#REF!+#REF!),"-") -> - | AE19: =(SUMIFS($G$1:$G$986,$A$1:$A$986,"*P10 *")) -> 0 | AF19: =(SUMIFS($I$1:$I$986,$A$1:$A$986,"*P10 *")) -> 0
Y20: P11 | AA20: =IF((COUNTIF($A$1:$A$986,"*P11*")-1)<0,"0",(COUNTIF($A$1:$A$986,"*P11*")-1)) -> 0 | AB20: =IF($AC$35=0,"",(AA20)/$AC$35) | AC20: =(SUMIFS($H$1:$H$986,$A$1:$A$986,"*P11 *")) -> 0 | AD20: =IFERROR(SUM(AE20+AF20)/SUM(AE20+AF20+#REF!+#REF!),"-") -> - | AE20: =(SUMIFS($G$1:$G$986,$A$1:$A$986,"*P11 *")) -> 0 | AF20: =(SUMIFS($I$1:$I$986,$A$1:$A$986,"*P11 *")) -> 0
Y21: P12 | AA21: =IF((COUNTIF($A$1:$A$986,"*P12*")-1)<0,"0",(COUNTIF($A$1:$A$986,"*P12*")-1)) -> 0 | AB21: =IF($AC$35=0,"",(AA21)/$AC$35) | AC21: =(SUMIFS($H$1:$H$986,$A$1:$A$986,"*P12 *")) -> 0 | AD21: =IFERROR(SUM(AE21+AF21)/SUM(AE21+AF21+#REF!+#REF!),"-") -> - | AE21: =(SUMIFS($G$1:$G$986,$A$1:$A$986,"*P12 *")) -> 0 | AF21: =(SUMIFS($I$1:$I$986,$A$1:$A$986,"*P12 *")) -> 0
Y22: P13 | AA22: =IF((COUNTIF($A$1:$A$986,"*P13*")-1)<0,"0",(COUNTIF($A$1:$A$986,"*P13*")-1)) -> 0 | AB22: =IF($AC$35=0,"",(AA22)/$AC$35) | AC22: =(SUMIFS($H$1:$H$986,$A$1:$A$986,"*P13 *")) -> 0 | AD22: =IFERROR(SUM(AE22+AF22)/SUM(AE22+AF22+#REF!+#REF!),"-") -> - | AE22: =(SUMIFS($G$1:$G$986,$A$1:$A$986,"*P13 *")) -> 0 | AF22: =(SUMIFS($I$1:$I$986,$A$1:$A$986,"*P13 *")) -> 0
Y23: P14 | AA23: =IF((COUNTIF($A$1:$A$986,"*P14*")-1)<0,"0",(COUNTIF($A$1:$A$986,"*P14*")-1)) -> 0 | AB23: =IF($AC$35=0,"",(AA23)/$AC$35) | AC23: =(SUMIFS($H$1:$H$986,$A$1:$A$986,"*P14 *")) -> 0 | AD23: =IFERROR(SUM(AE23+AF23)/SUM(AE23+AF23+#REF!+#REF!),"-") -> - | AE23: =(SUMIFS($G$1:$G$986,$A$1:$A$986,"*P14 *")) -> 0 | AF23: =(SUMIFS($I$1:$I$986,$A$1:$A$986,"*P14 *")) -> 0
Y24: P15 | AA24: =IF((COUNTIF($A$1:$A$986,"*P15*")-1)<0,"0",(COUNTIF($A$1:$A$986,"*P15*")-1)) -> 0 | AB24: =IF($AC$35=0,"",(AA24)/$AC$35) | AC24: =(SUMIFS($H$1:$H$986,$A$1:$A$986,"*P15 *")) -> 0 | AD24: =IFERROR(SUM(AE24+AF24)/SUM(AE24+AF24+#REF!+#REF!),"-") -> - | AE24: =(SUMIFS($G$1:$G$986,$A$1:$A$986,"*P15 *")) -> 0 | AF24: =(SUMIFS($I$1:$I$986,$A$1:$A$986,"*P15 *")) -> 0
Y25: P16 | AA25: =IF((COUNTIF($A$1:$A$986,"*P16*")-1)<0,"0",(COUNTIF($A$1:$A$986,"*P16*")-1)) -> 0 | AB25: =IF($AC$35=0,"",(AA25)/$AC$35) | AC25: =(SUMIFS($H$1:$H$986,$A$1:$A$986,"*P16 *")) -> 0 | AD25: =IFERROR(SUM(AE25+AF25)/SUM(AE25+AF25+#REF!+#REF!),"-") -> - | AE25: =(SUMIFS($G$1:$G$986,$A$1:$A$986,"*P16 *")) -> 0 | AF25: =(SUMIFS($I$1:$I$986,$A$1:$A$986,"*P16 *")) -> 0
Y26: SPANISH | AA26: =IF((COUNTIF($A$1:$A$986,"*SPANISH*")-1)<0,"0",(COUNTIF($A$1:$A$986,"*SPANISH*")-1)) -> 0 | AB26: =IF($AC$35=0,"",(AA26)/$AC$35) | AC26: =(SUMIFS($H$1:$H$986,$A$1:$A$986,"*SPANISH *")) -> 0 | AD26: =IFERROR(SUM(AE26+AF26)/SUM(AE26+AF26+#REF!+#REF!),"-") -> - | AE26: =(SUMIFS($G$1:$G$986,$A$1:$A$986,"*SPANISH *")) -> 0 | AF26: =(SUMIFS($I$1:$I$986,$A$1:$A$986,"*SPANISH *")) -> 0
Y27: DIVERS | AA27: =IF((COUNTIF($A$1:$A$986,"*DIVERS*")-1)<0,"0",(COUNTIF($A$1:$A$986,"*DIVERS*")-1)) -> 0 | AB27: =IF($AC$35=0,"",(AA27)/$AC$35) | AC27: =(SUMIFS($H$1:$H$986,$A$1:$A$986,"*DIVERS *")) -> 0 | AD27: =IFERROR(SUM(AE27+AF27)/SUM(AE27+AF27+#REF!+#REF!),"-") -> - | AE27: =(SUMIFS($G$1:$G$986,$A$1:$A$986,"*DIVERS *")) -> 0 | AF27: =(SUMIFS($I$1:$I$986,$A$1:$A$986,"*DIVERS *")) -> 0
Y28: BLOBS | AA28: =IF((COUNTIF($A$1:$A$986,"*BLOBS*")-1)<0,"0",(COUNTIF($A$1:$A$986,"*BLOBS*")-1)) -> 0 | AB28: =IF($AC$35=0,"",(AA28)/$AC$35) | AC28: =(SUMIFS($H$1:$H$986,$A$1:$A$986,"*BLOBS *")) -> 0 | AD28: =IFERROR(SUM(AE28+AF28)/SUM(AE28+AF28+#REF!+#REF!),"-") -> - | AE28: =(SUMIFS($G$1:$G$986,$A$1:$A$986,"*BLOBS *")) -> 0 | AF28: =(SUMIFS($I$1:$I$986,$A$1:$A$986,"*BLOBS *")) -> 0
Y29: SLOBS | AA29: =IF((COUNTIF($A$1:$A$986,"*SLOBS*")-1)<0,"0",(COUNTIF($A$1:$A$986,"*SLOBS*")-1)) -> 0 | AB29: =IF($AC$35=0,"",(AA29)/$AC$35) | AC29: =(SUMIFS($H$1:$H$986,$A$1:$A$986,"*SLOBS *")) -> 0 | AD29: =IFERROR(SUM(AE29+AF29)/SUM(AE29+AF29+#REF!+#REF!),"-") -> - | AE29: =(SUMIFS($G$1:$G$986,$A$1:$A$986,"*SLOBS *")) -> 0 | AF29: =(SUMIFS($I$1:$I$986,$A$1:$A$986,"*SLOBS *")) -> 0
Y30: ZONE 1 | AA30: =IF((COUNTIF($A$1:$A$986,"*Z OFF 1*")-1)<0,"0",(COUNTIF($A$1:$A$986,"*Z OFF 1*")-1)) -> 0 | AB30: =IF($AC$35=0,"",(AA30)/$AC$35) | AC30: =(SUMIFS($H$1:$H$986,$A$1:$A$986,"*Z OFF 1 *")) -> 0 | AD30: =IFERROR(SUM(AE30+AF30)/SUM(AE30+AF30+#REF!+#REF!),"-") -> - | AE30: =(SUMIFS($G$1:$G$986,$A$1:$A$986,"*Z OFF 1 *")) -> 0 | AF30: =(SUMIFS($I$1:$I$986,$A$1:$A$986,"*Z OFF 1 *")) -> 0
Y31: ZONE 2 | AA31: =IF((COUNTIF($A$1:$A$986,"*Z OFF 2*")-1)<0,"0",(COUNTIF($A$1:$A$986,"*Z OFF 2*")-1)) -> 0 | AB31: =IF($AC$35=0,"",(AA31)/$AC$35) | AC31: =(SUMIFS($H$1:$H$986,$A$1:$A$986,"*Z OFF 2 *")) -> 0 | AD31: =IFERROR(SUM(AE31+AF31)/SUM(AE31+AF31+#REF!+#REF!),"-") -> - | AE31: =(SUMIFS($G$1:$G$986,$A$1:$A$986,"*Z OFF 2 *")) -> 0 | AF31: =(SUMIFS($I$1:$I$986,$A$1:$A$986,"*Z OFF 2 *")) -> 0
X32: TOTAL | AC32: FG made | AD32: FG % | AE32: R % | AF32: E %
AC33: =SUM(AC6:AC31) -> 0 | AD33: =IFERROR((AC33/AC35),"-") -> - | AE33: =IFERROR(((SUM(AE6:AE31))/AC35),"-") -> - | AF33: =IFERROR(((SUM(AF6:AF31))/AC35),"-") -> -
AC34: NBRE O | AE34: PTS | AF34: RENTABILITE
AC35: =SUM(AA6:AA31) -> 0 | AF35: PPO | AH35: =IFERROR((AE35/AC35),"-") -> -
AF37: RATIO ACTIONS + | AH37: =IFERROR(((SUM(AE6:AE31)+AC33))/(SUM(AE6:AE31)+(SUM(AF6:AF31)+AC33)),"-") -> -
X39: PNR OFFENSIFS 1/2 TERRAIN
X42: LEFT | Y42: MID | AB42: RIGHT | AD42: EFFICACITE OFF SELON COUVERTURES DEF
X43: =((SUMIFS($G$1:$G$814,$A$1:$A$814,"*LEFT OFF *"))+(SUMIFS($I$1:$I$814,$A$1:$A$814,"*LEFT OFF *"))+(SUMIFS($K$1:$K$814,$A$1:$A$814,"*LEFT OFF *"))+(SUMIFS($M$1:$M$814,$A$1:$A$814,"*LEFT OFF *"))+(SUMIFS($O$1:$O$814,$A$1:$A$814,"*LEFT OFF *"))+(SUMIFS($Q$1:$Q$814,$A$1:$A$814,"*LEFT OFF *")))/(X52) -> #DIV/0! | Y43: =((SUMIFS($G$1:$G$814,$A$1:$A$814,"*MID OFF *"))+(SUMIFS($I$1:$I$814,$A$1:$A$814,"*MID OFF *"))+(SUMIFS($K$1:$K$814,$A$1:$A$814,"*MID OFF *"))+(SUMIFS($M$1:$M$814,$A$1:$A$814,"*MID OFF *"))+(SUMIFS($O$1:$O$814,$A$1:$A$814,"*MID OFF *"))+(SUMIFS($Q$1:$Q$814,$A$1:$A$814,"*MID OFF *")))/(Y52) -> #DIV/0! | AB43: =((SUMIFS($G$1:$G$814,$A$1:$A$814,"*RIGHT OFF *"))+(SUMIFS($I$1:$I$814,$A$1:$A$814,"*RIGHT OFF *"))+(SUMIFS($K$1:$K$814,$A$1:$A$814,"*RIGHT OFF *"))+(SUMIFS($M$1:$M$814,$A$1:$A$814,"*RIGHT OFF *"))+(SUMIFS($O$1:$O$814,$A$1:$A$814,"*RIGHT OFF *"))+(SUMIFS($Q$1:$Q$814,$A$1:$A$814,"*RIGHT OFF *")))/(AB52) -> #DIV/0! | AE43: SIDE | AH43: MID
AE44: B | AF44: TOT | AG44: % B | AH44: B | AI44: TOT | AJ44: % B
AD45: UNDER | AE45: =((SUMIFS($G$1:$G$814,$A$1:$A$814,"*RIGHT OFF *")+SUMIFS($G$1:$G$814,$A$1:$A$814,"*LEFT OFF *"))) -> 0 | AF45: =((AE45)+SUMIFS($H$1:$H$814,$A$1:$A$814,"*RIGHT OFF *")+SUMIFS($H$1:$H$814,$A$1:$A$814,"*LEFT OFF *")) -> 0 | AG45: =IFERROR((AE45/AF45),"-") -> - | AH45: =SUMIFS($G$1:$G$814,$A$1:$A$814,"*MID OFF *") -> 0 | AI45: =(AH45)+(SUMIFS($H$1:$H$814,$A$1:$A$814,"*MID OFF *")) -> 0 | AJ45: =IFERROR((AH45/AI45),"-") -> -
AD46: PROTECT | AE46: =((SUMIFS($I$1:$I$814,$A$1:$A$814,"*RIGHT OFF *")+SUMIFS($I$1:$I$814,$A$1:$A$814,"*LEFT OFF *"))) -> 0 | AF46: =((AE46)+SUMIFS($J$1:$J$814,$A$1:$A$814,"*RIGHT OFF *")+SUMIFS($J$1:$J$814,$A$1:$A$814,"*LEFT OFF *")) -> 0 | AG46: =IFERROR((AE46/AF46),"-") -> - | AH46: =SUMIFS($I$1:$I$814,$A$1:$A$814,"*MID OFF *") -> 0 | AI46: =(AH46)+(SUMIFS($J$1:$J$814,$A$1:$A$814,"*MID OFF *")) -> 0 | AJ46: =IFERROR((AH46/AI46),"-") -> -
X47: ACTIONS BENEFIQUES | Y47: ACTIONS BENEFIQUES | AB47: ACTIONS BENEFIQUES | AD47: AGRESSIVE | AE47: =((SUMIFS($K$1:$K$814,$A$1:$A$814,"*RIGHT OFF *")+SUMIFS($K$1:$K$814,$A$1:$A$814,"*LEFT OFF *"))) -> 0 | AF47: =((AE47)+SUMIFS($L$1:$L$814,$A$1:$A$814,"*RIGHT OFF *")+SUMIFS($L$1:$L$814,$A$1:$A$814,"*LEFT OFF *")) -> 0 | AG47: =IFERROR((AE47/AF47),"-") -> - | AH47: =SUMIFS($K$1:$K$814,$A$1:$A$814,"*MID OFF *") -> 0 | AI47: =(AH47)+(SUMIFS($L$1:$L$814,$A$1:$A$814,"*MID OFF *")) -> 0 | AJ47: =IFERROR((AH47/AI47),"-") -> -
AD48: SWITCH | AE48: =((SUMIFS($M$1:$M$814,$A$1:$A$814,"*RIGHT OFF *")+SUMIFS($M$1:$M$814,$A$1:$A$814,"*LEFT OFF *"))) -> 0 | AF48: =((AE48)+SUMIFS($N$1:$N$814,$A$1:$A$814,"*RIGHT OFF *")+SUMIFS($N$1:$N$814,$A$1:$A$814,"*LEFT OFF *")) -> 0 | AG48: =IFERROR((AE48/AF48),"-") -> - | AH48: =SUMIFS($M$1:$M$814,$A$1:$A$814,"*MID OFF *") -> 0 | AI48: =(AH48)+(SUMIFS($N$1:$N$814,$A$1:$A$814,"*MID OFF *")) -> 0 | AJ48: =IFERROR((AH48/AI48),"-") -> -
AD49: ICE | AE49: =((SUMIFS($O$1:$O$814,$A$1:$A$814,"*RIGHT OFF *")+SUMIFS($O$1:$O$814,$A$1:$A$814,"*LEFT OFF *"))) -> 0 | AF49: =((AE49)+SUMIFS($P$1:$P$814,$A$1:$A$814,"*RIGHT OFF *")+SUMIFS($P$1:$P$814,$A$1:$A$814,"*LEFT OFF *")) -> 0 | AG49: =IFERROR((AE49/AF49),"-") -> - | AH49: =SUMIFS($O$1:$O$814,$A$1:$A$814,"*MID OFF *") -> 0 | AI49: =(AH49)+(SUMIFS($P$1:$P$814,$A$1:$A$814,"*MID OFF *")) -> 0 | AJ49: =IFERROR((AH49/AI49),"-") -> -
X50: sur | Y50: sur | AB50: sur | AD50: WEAK | AE50: =((SUMIFS($Q$1:$Q$814,$A$1:$A$814,"*RIGHT OFF *")+SUMIFS($Q$1:$Q$814,$A$1:$A$814,"*LEFT OFF *"))) -> 0 | AF50: =((AE50)+SUMIFS($R$1:$R$814,$A$1:$A$814,"*RIGHT OFF *")+SUMIFS($R$1:$R$814,$A$1:$A$814,"*LEFT OFF *")) -> 0 | AG50: =IFERROR((AE50/AF50),"-") -> - | AH50: =SUMIFS($Q$1:$Q$814,$A$1:$A$814,"*MID OFF *") -> 0 | AI50: =(AH50)+(SUMIFS($R$1:$R$814,$A$1:$A$814,"*MID OFF *")) -> 0 | AJ50: =IFERROR((AH50/AI50),"-") -> -
X52: =IF((COUNTIF($A$1:$A$986,"*LEFT OFF *"))<0,"0",(COUNTIF($A$1:$A$986,"*LEFT OFF *"))) -> 0 | Y52: =IF((COUNTIF($A$1:$A$986,"*MID OFF *"))<0,"0",(COUNTIF($A$1:$A$986,"*MID OFF *"))) -> 0 | AB52: =IF((COUNTIF($A$1:$A$986,"*RIGHT OFF *"))<0,"0",(COUNTIF($A$1:$A$986,"*RIGHT OFF *"))) -> 0
AE53: ROUGE = HAUT RENDEMENT | AH53: 80 à 100% | AP53: nbre d'actions et masquer pour comptabiliser la renta tot sur plusieurs matchs
AE54: ORANGE = BON RENDEMENT | AH54: 65 à 79,99%
X55: PNR joués | Y55: PNR joués | AB55: PNR joués | AE55: JAUNE = RENDEMENT MOYEN | AH55: 50 à 64,99%
AE56: BLEU = RENDEMENT FAIBLE | AH56: inf à 49,99% | AP56: reprendre la MFC EFF main tableau ???
X59: PNR DEFENSIFS 1/2 TERRAIN
X62: LEFT | Y62: MID | AB62: RIGHT | AD62: EFFICACITE DEF DES COUVERTURES
X63: =((SUMIFS($H$1:$H$814,$A$1:$A$814,"*LEFT DEF *"))+(SUMIFS($J$1:$J$814,$A$1:$A$814,"*LEFT DEF *"))+(SUMIFS($L$1:$L$814,$A$1:$A$814,"*LEFT DEF *"))+(SUMIFS($N$1:$N$814,$A$1:$A$814,"*LEFT DEF *"))+(SUMIFS($P$1:$P$814,$A$1:$A$814,"*LEFT DEF *"))+(SUMIFS($R$1:$R$814,$A$1:$A$814,"*LEFT DEF *")))/(AA72) -> #DIV/0! | Y63: =((SUMIFS($H$1:$H$814,$A$1:$A$814,"*MID DEF *"))+(SUMIFS($J$1:$J$814,$A$1:$A$814,"*MID DEF *"))+(SUMIFS($L$1:$L$814,$A$1:$A$814,"*MID DEF *"))+(SUMIFS($N$1:$N$814,$A$1:$A$814,"*MID DEF *"))+(SUMIFS($P$1:$P$814,$A$1:$A$814,"*MID DEF *"))+(SUMIFS($R$1:$R$814,$A$1:$A$814,"*MID DEF *")))/(AA72) -> #DIV/0! | AB63: =((SUMIFS($H$1:$H$814,$A$1:$A$814,"*RIGHT DEF *"))+(SUMIFS($J$1:$J$814,$A$1:$A$814,"*RIGHT DEF *"))+(SUMIFS($L$1:$L$814,$A$1:$A$814,"*RIGHT DEF *"))+(SUMIFS($N$1:$N$814,$A$1:$A$814,"*RIGHT DEF *"))+(SUMIFS($P$1:$P$814,$A$1:$A$814,"*RIGHT DEF *"))+(SUMIFS($R$1:$R$814,$A$1:$A$814,"*RIGHT DEF *")))/(AB72) -> #DIV/0! | AE63: SIDE | AH63: MID
AE64: S | AF64: TOT | AG64: % S | AH64: S | AI64: TOT | AJ64: % S
AD65: UNDER | AE65: =((SUMIFS($H$1:$H$814,$A$1:$A$814,"*RIGHT DEF *")+SUMIFS($H$1:$H$814,$A$1:$A$814,"*LEFT DEF *"))) -> 0 | AF65: =((AE65)+SUMIFS($G$1:$G$814,$A$1:$A$814,"*RIGHT DEF *")+SUMIFS($G$1:$G$814,$A$1:$A$814,"*LEFT DEF *")) -> 0 | AG65: =IFERROR((AE65/AF65),"-") -> - | AH65: =SUMIFS($H$1:$H$814,$A$1:$A$814,"*MID DEF *") -> 0 | AI65: =(AH65)+(SUMIFS($G$1:$G$814,$A$1:$A$814,"*MID DEF *")) -> 0 | AJ65: =IFERROR((AH65/AI65),"-") -> -
AD66: PROTECT | AE66: =((SUMIFS($J$1:$J$814,$A$1:$A$814,"*RIGHT DEF *")+SUMIFS($J$1:$J$814,$A$1:$A$814,"*LEFT DEF *"))) -> 0 | AF66: =((AE66)+SUMIFS($I$1:$I$814,$A$1:$A$814,"*RIGHT DEF *")+SUMIFS($I$1:$I$814,$A$1:$A$814,"*LEFT DEF *")) -> 0 | AG66: =IFERROR((AE66/AF66),"-") -> - | AH66: =SUMIFS($J$1:$J$814,$A$1:$A$814,"*MID DEF *") -> 0 | AI66: =(AH66)+(SUMIFS($I$1:$I$814,$A$1:$A$814,"*MID DEF *")) -> 0 | AJ66: =IFERROR((AH66/AI66),"-") -> -
X67: STOPS | Y67: STOPS | AB67: STOPS | AD67: AGRESSIVE | AE67: =((SUMIFS($L$1:$L$814,$A$1:$A$814,"*RIGHT DEF *")+SUMIFS($L$1:$L$814,$A$1:$A$814,"*LEFT DEF *"))) -> 0 | AF67: =((AE67)+SUMIFS($K$1:$K$814,$A$1:$A$814,"*RIGHT DEF *")+SUMIFS($K$1:$K$814,$A$1:$A$814,"*LEFT DEF *")) -> 0 | AG67: =IFERROR((AE67/AF67),"-") -> - | AH67: =SUMIFS($L$1:$L$814,$A$1:$A$814,"*MID DEF *") -> 0 | AI67: =(AH67)+(SUMIFS($K$1:$K$814,$A$1:$A$814,"*MID DEF *")) -> 0 | AJ67: =IFERROR((AH67/AI67),"-") -> -
AD68: SWITCH | AE68: =((SUMIFS($N$1:$N$814,$A$1:$A$814,"*RIGHT DEF *")+SUMIFS($N$1:$N$814,$A$1:$A$814,"*LEFT DEF *"))) -> 0 | AF68: =((AE68)+SUMIFS($M$1:$M$814,$A$1:$A$814,"*RIGHT DEF *")+SUMIFS($M$1:$M$814,$A$1:$A$814,"*LEFT DEF *")) -> 0 | AG68: =IFERROR((AE68/AF68),"-") -> - | AH68: =SUMIFS($N$1:$N$814,$A$1:$A$814,"*MID DEF *") -> 0 | AI68: =(AH68)+(SUMIFS($M$1:$M$814,$A$1:$A$814,"*MID DEF *")) -> 0 | AJ68: =IFERROR((AH68/AI68),"-") -> -
AD69: ICE | AE69: =((SUMIFS($P$1:$P$814,$A$1:$A$814,"*RIGHT DEF *")+SUMIFS($P$1:$P$814,$A$1:$A$814,"*LEFT DEF *"))) -> 0 | AF69: =((AE69)+SUMIFS($O$1:$O$814,$A$1:$A$814,"*RIGHT DEF *")+SUMIFS($O$1:$O$814,$A$1:$A$814,"*LEFT DEF *")) -> 0 | AG69: =IFERROR((AE69/AF69),"-") -> - | AH69: =SUMIFS($P$1:$P$814,$A$1:$A$814,"*MID DEF *") -> 0 | AI69: =(AH69)+(SUMIFS($O$1:$O$814,$A$1:$A$814,"*MID DEF *")) -> 0 | AJ69: =IFERROR((AH69/AI69),"-") -> -
X70: sur | Y70: sur | AB70: sur | AD70: WEAK | AE70: =((SUMIFS($R$1:$R$814,$A$1:$A$814,"*RIGHT DEF *")+SUMIFS($R$1:$R$814,$A$1:$A$814,"*LEFT DEF *"))) -> 0 | AF70: =((AE70)+SUMIFS($Q$1:$Q$814,$A$1:$A$814,"*RIGHT DEF *")+SUMIFS($Q$1:$Q$814,$A$1:$A$814,"*LEFT DEF *")) -> 0 | AG70: =IFERROR((AE70/AF70),"-") -> - | AH70: =SUMIFS($R$1:$R$814,$A$1:$A$814,"*MID DEF *") -> 0 | AI70: =(AH70)+(SUMIFS($Q$1:$Q$814,$A$1:$A$814,"*MID DEF *")) -> 0 | AJ70: =IFERROR((AH70/AI70),"-") -> -
X72: =IF((COUNTIF($A$1:$A$986,"*LEFT DEF *"))<0,"0",(COUNTIF($A$1:$A$986,"*LEFT DEF *"))) -> 0 | Y72: =IF((COUNTIF($A$1:$A$986,"*MID DEF *"))<0,"0",(COUNTIF($A$1:$A$986,"*MID DEF *"))) -> 0 | AB72: =IF((COUNTIF($A$1:$A$986,"*RIGHT DEF *"))<0,"0",(COUNTIF($A$1:$A$986,"*RIGHT DEF *"))) -> 0
X75: PNR joués | Y75: PNR joués | AB75: PNR joués

Sheet RENTA B
X2: JEU & SYSTEMES
X5: CALLS | Y5: TYPE | AA5: NBRE O | AB5: % JOUE | AC5: PLAY PTS | AD5: PPO | AE5: EFF. | AF5: FG made | AG5: Action % | AH5: FPRV | AI5: Action % | AJ5: Nul | AK5: Action % | AL5: BP | AM5: Action %
Y6: CA | AA6: =#REF!+'TEST AUTRE'!AA6+#REF!+'M1 A'!AA6 -> #REF! | AB6: =IF($AF$34=0,"",(AA6)/$AF$34) -> #REF! | AC6: =#REF!+'TEST AUTRE'!AC6+#REF!+'M1 A'!AC6 -> #REF! | AD6: =IFERROR(AC6/(AA6),"-") -> - | AE6: =IFERROR(SUM(AF6+AH6)/SUM(AF6+AH6+AJ6+AL6),"-") -> - | AF6: =#REF!+'TEST AUTRE'!AF6+#REF!+'M1 A'!AE6 -> #REF! | AG6: =IFERROR(AF6/$AA$6,"-") -> - | AH6: =#REF!+'TEST AUTRE'!AH6+#REF!+'M1 A'!AF6 -> #REF! | AI6: =IFERROR(AH6/$AA$6,"-") -> - | AJ6: =#REF!+'TEST AUTRE'!AJ6+#REF!+'M1 A'!#REF! -> #REF! | AK6: =IFERROR(AJ6/$AA$6,"-") -> - | AL6: =#REF!+'TEST AUTRE'!AL6+#REF!+'M1 A'!#REF! -> #REF! | AM6: =IFERROR(AL6/$AA$6,"-") -> -
Y7: TRANSI | AA7: =#REF!+'TEST AUTRE'!AA7+#REF!+'M1 A'!AA7 -> #REF! | AB7: =IF($AF$34=0,"",(AA7)/$AF$34) -> #REF! | AC7: =#REF!+'TEST AUTRE'!AC7+#REF!+'M1 A'!AC7 -> #REF! | AD7: =IFERROR(AC7/(AA7),"-") -> - | AE7: =IFERROR(SUM(AF7+AH7)/SUM(AF7+AH7+AJ7+AL7),"-") -> - | AF7: =#REF!+'TEST AUTRE'!AF7+#REF!+'M1 A'!AE7 -> #REF! | AG7: =IFERROR(AF7/$AA$7,"-") -> - | AH7: =#REF!+'TEST AUTRE'!AH7+#REF!+'M1 A'!AF7 -> #REF! | AI7: =IFERROR(AH7/$AA$7,"-") -> - | AJ7: =#REF!+'TEST AUTRE'!AJ7+#REF!+'M1 A'!#REF! -> #REF! | AK7: =IFERROR(AJ7/$AA$7,"-") -> - | AL7: =#REF!+'TEST AUTRE'!AL7+#REF!+'M1 A'!#REF! -> #REF! | AM7: =IFERROR(AL7/$AA$7,"-") -> -
Y8: JL | AA8: =#REF!+'TEST AUTRE'!AA8+#REF!+'M1 A'!AA8 -> #REF! | AB8: =IF($AF$34=0,"",(AA8)/$AF$34) -> #REF! | AC8: =#REF!+'TEST AUTRE'!AC8+#REF!+'M1 A'!AC8 -> #REF! | AD8: =IFERROR(AC8/(AA8),"-") -> - | AE8: =IFERROR(SUM(AF8+AH8)/SUM(AF8+AH8+AJ8+AL8),"-") -> - | AF8: =#REF!+'TEST AUTRE'!AF8+#REF!+'M1 A'!AE8 -> #REF! | AG8: =IFERROR(AF8/$AA$8,"-") -> - | AH8: =#REF!+'TEST AUTRE'!AH8+#REF!+'M1 A'!AF8 -> #REF! | AI8: =IFERROR(AH8/$AA$8,"-") -> - | AJ8: =#REF!+'TEST AUTRE'!AJ8+#REF!+'M1 A'!#REF! -> #REF! | AK8: =IFERROR(AJ8/$AA$8,"-") -> - | AL8: =#REF!+'TEST AUTRE'!AL8+#REF!+'M1 A'!#REF! -> #REF! | AM8: =IFERROR(AL8/$AA$8,"-") -> -
Y9: PICKS SPLES | AA9: =#REF!+'TEST AUTRE'!AA9+#REF!+'M1 A'!AA9 -> #REF! | AB9: =IF($AF$34=0,"",(AA9)/$AF$34) -> #REF! | AC9: =#REF!+'TEST AUTRE'!AC9+#REF!+'M1 A'!AC9 -> #REF! | AD9: =IFERROR(AC9/(AA9),"-") -> - | AE9: =IFERROR(SUM(AF9+AH9)/SUM(AF9+AH9+AJ9+AL9),"-") -> - | AF9: =#REF!+'TEST AUTRE'!AF9+#REF!+'M1 A'!AE9 -> #REF! | AG9: =IFERROR(AF9/$AA$9,"-") -> - | AH9: =#REF!+'TEST AUTRE'!AH9+#REF!+'M1 A'!AF9 -> #REF! | AI9: =IFERROR(AH9/$AA$9,"-") -> - | AJ9: =#REF!+'TEST AUTRE'!AJ9+#REF!+'M1 A'!#REF! -> #REF! | AK9: =IFERROR(AJ9/$AA$9,"-") -> - | AL9: =#REF!+'TEST AUTRE'!AL9+#REF!+'M1 A'!#REF! -> #REF! | AM9: =IFERROR(AL9/$AA$9,"-") -> -
X10: SHOULDER | Y10: P1 | AA10: =#REF!+'TEST AUTRE'!AA10+#REF!+'M1 A'!AA10 -> #REF! | AB10: =IF($AF$34=0,"",(AA10)/$AF$34) -> #REF! | AC10: =#REF!+'TEST AUTRE'!AC10+#REF!+'M1 A'!AC10 -> #REF! | AD10: =IFERROR(AC10/(AA10),"-") -> - | AE10: =IFERROR(SUM(AF10+AH10)/SUM(AF10+AH10+AJ10+AL10),"-") -> - | AF10: =#REF!+'TEST AUTRE'!AF10+#REF!+'M1 A'!AE10 -> #REF! | AG10: =IFERROR(AF10/$AA$10,"-") -> - | AH10: =#REF!+'TEST AUTRE'!AH10+#REF!+'M1 A'!AF10 -> #REF! | AI10: =IFERROR(AH10/$AA$10,"-") -> - | AJ10: =#REF!+'TEST AUTRE'!AJ10+#REF!+'M1 A'!#REF! -> #REF! | AK10: =IFERROR(AJ10/$AA$10,"-") -> - | AL10: =#REF!+'TEST AUTRE'!AL10+#REF!+'M1 A'!#REF! -> #REF! | AM10: =IFERROR(AL10/$AA$10,"-") -> -
X11: HORN SIDE 5 | Y11: P2 | AA11: =#REF!+'TEST AUTRE'!AA11+#REF!+'M1 A'!AA11 -> #REF! | AB11: =IF($AF$34=0,"",(AA11)/$AF$34) -> #REF! | AC11: =#REF!+'TEST AUTRE'!AC11+#REF!+'M1 A'!AC11 -> #REF! | AD11: =IFERROR(AC11/(AA11),"-") -> - | AE11: =IFERROR(SUM(AF11+AH11)/SUM(AF11+AH11+AJ11+AL11),"-") -> - | AF11: =#REF!+'TEST AUTRE'!AF11+#REF!+'M1 A'!AE11 -> #REF! | AG11: =IFERROR(AF11/$AA$11,"-") -> - | AH11: =#REF!+'TEST AUTRE'!AH11+#REF!+'M1 A'!AF11 -> #REF! | AI11: =IFERROR(AH11/$AA$11,"-") -> - | AJ11: =#REF!+'TEST AUTRE'!AJ11+#REF!+'M1 A'!#REF! -> #REF! | AK11: =IFERROR(AJ11/$AA$11,"-") -> - | AL11: =#REF!+'TEST AUTRE'!AL11+#REF!+'M1 A'!#REF! -> #REF! | AM11: =IFERROR(AL11/$AA$11,"-") -> -
X12: 5 SIDE | Y12: P3 | AA12: =#REF!+'TEST AUTRE'!AA12+#REF!+'M1 A'!AA12 -> #REF! | AB12: =IF($AF$34=0,"",(AA12)/$AF$34) -> #REF! | AC12: =#REF!+'TEST AUTRE'!AC12+#REF!+'M1 A'!AC12 -> #REF! | AD12: =IFERROR(AC12/(AA12),"-") -> - | AE12: =IFERROR(SUM(AF12+AH12)/SUM(AF12+AH12+AJ12+AL12),"-") -> - | AF12: =#REF!+'TEST AUTRE'!AF12+#REF!+'M1 A'!AE12 -> #REF! | AG12: =IFERROR(AF12/$AA$12,"-") -> - | AH12: =#REF!+'TEST AUTRE'!AH12+#REF!+'M1 A'!AF12 -> #REF! | AI12: =IFERROR(AH12/$AA$12,"-") -> - | AJ12: =#REF!+'TEST AUTRE'!AJ12+#REF!+'M1 A'!#REF! -> #REF! | AK12: =IFERROR(AJ12/$AA$12,"-") -> - | AL12: =#REF!+'TEST AUTRE'!AL12+#REF!+'M1 A'!#REF! -> #REF! | AM12: =IFERROR(AL12/$AA$12,"-") -> -
X13: HORN | Y13: P4 | AA13: =#REF!+'TEST AUTRE'!AA13+#REF!+'M1 A'!AA13 -> #REF! | AB13: =IF($AF$34=0,"",(AA13)/$AF$34) -> #REF! | AC13: =#REF!+'TEST AUTRE'!AC13+#REF!+'M1 A'!AC13 -> #REF! | AD13: =IFERROR(AC13/(AA13),"-") -> - | AE13: =IFERROR(SUM(AF13+AH13)/SUM(AF13+AH13+AJ13+AL13),"-") -> - | AF13: =#REF!+'TEST AUTRE'!AF13+#REF!+'M1 A'!AE13 -> #REF! | AG13: =IFERROR(AF13/$AA$13,"-") -> - | AH13: =#REF!+'TEST AUTRE'!AH13+#REF!+'M1 A'!AF13 -> #REF! | AI13: =IFERROR(AH13/$AA$13,"-") -> - | AJ13: =#REF!+'TEST AUTRE'!AJ13+#REF!+'M1 A'!#REF! -> #REF! | AK13: =IFERROR(AJ13/$AA$13,"-") -> - | AL13: =#REF!+'TEST AUTRE'!AL13+#REF!+'M1 A'!#REF! -> #REF! | AM13: =IFERROR(AL13/$AA$13,"-") -> -
X14: HORN SIDE | Y14: P5 | AA14: =#REF!+'TEST AUTRE'!AA14+#REF!+'M1 A'!AA14 -> #REF! | AB14: =IF($AF$34=0,"",(AA14)/$AF$34) -> #REF! | AC14: =#REF!+'TEST AUTRE'!AC14+#REF!+'M1 A'!AC14 -> #REF! | AD14: =IFERROR(AC14/(AA14),"-") -> - | AE14: =IFERROR(SUM(AF14+AH14)/SUM(AF14+AH14+AJ14+AL14),"-") -> - | AF14: =#REF!+'TEST AUTRE'!AF14+#REF!+'M1 A'!AE14 -> #REF! | AG14: =IFERROR(AF14/$AA$14,"-") -> - | AH14: =#REF!+'TEST AUTRE'!AH14+#REF!+'M1 A'!AF14 -> #REF! | AI14: =IFERROR(AH14/$AA$14,"-") -> - | AJ14: =#REF!+'TEST AUTRE'!AJ14+#REF!+'M1 A'!#REF! -> #REF! | AK14: =IFERROR(AJ14/$AA$14,"-") -> - | AL14: =#REF!+'TEST AUTRE'!AL14+#REF!+'M1 A'!#REF! -> #REF! | AM14: =IFERROR(AL14/$AA$14,"-") -> -
X15: 5 DOWN | Y15: P6 | AA15: =#REF!+'TEST AUTRE'!AA15+#REF!+'M1 A'!AA15 -> #REF! | AB15: =IF($AF$34=0,"",(AA15)/$AF$34) -> #REF! | AC15: =#REF!+'TEST AUTRE'!AC15+#REF!+'M1 A'!AC15 -> #REF! | AD15: =IFERROR(AC15/(AA15),"-") -> - | AE15: =IFERROR(SUM(AF15+AH15)/SUM(AF15+AH15+AJ15+AL15),"-") -> - | AF15: =#REF!+'TEST AUTRE'!AF15+#REF!+'M1 A'!AE15 -> #REF! | AG15: =IFERROR(AF15/$AA$15,"-") -> - | AH15: =#REF!+'TEST AUTRE'!AH15+#REF!+'M1 A'!AF15 -> #REF! | AI15: =IFERROR(AH15/$AA$15,"-") -> - | AJ15: =#REF!+'TEST AUTRE'!AJ15+#REF!+'M1 A'!#REF! -> #REF! | AK15: =IFERROR(AJ15/$AA$15,"-") -> - | AL15: =#REF!+'TEST AUTRE'!AL15+#REF!+'M1 A'!#REF! -> #REF! | AM15: =IFERROR(AL15/$AA$15,"-") -> -
X16: 4 | Y16: P7 | AA16: =#REF!+'TEST AUTRE'!AA16+#REF!+'M1 A'!AA16 -> #REF! | AB16: =IF($AF$34=0,"",(AA16)/$AF$34) -> #REF! | AC16: =#REF!+'TEST AUTRE'!AC16+#REF!+'M1 A'!AC16 -> #REF! | AD16: =IFERROR(AC16/(AA16),"-") -> - | AE16: =IFERROR(SUM(AF16+AH16)/SUM(AF16+AH16+AJ16+AL16),"-") -> - | AF16: =#REF!+'TEST AUTRE'!AF16+#REF!+'M1 A'!AE16 -> #REF! | AG16: =IFERROR(AF16/$AA$16,"-") -> - | AH16: =#REF!+'TEST AUTRE'!AH16+#REF!+'M1 A'!AF16 -> #REF! | AI16: =IFERROR(AH16/$AA$16,"-") -> - | AJ16: =#REF!+'TEST AUTRE'!AJ16+#REF!+'M1 A'!#REF! -> #REF! | AK16: =IFERROR(AJ16/$AA$16,"-") -> - | AL16: =#REF!+'TEST AUTRE'!AL16+#REF!+'M1 A'!#REF! -> #REF! | AM16: =IFERROR(AL16/$AA$16,"-") -> -
X17: 4 SIDE | Y17: P8 | AA17: =#REF!+'TEST AUTRE'!AA17+#REF!+'M1 A'!AA17 -> #REF! | AB17: =IF($AF$34=0,"",(AA17)/$AF$34) -> #REF! | AC17: =#REF!+'TEST AUTRE'!AC17+#REF!+'M1 A'!AC17 -> #REF! | AD17: =IFERROR(AC17/(AA17),"-") -> - | AE17: =IFERROR(SUM(AF17+AH17)/SUM(AF17+AH17+AJ17+AL17),"-") -> - | AF17: =#REF!+'TEST AUTRE'!AF17+#REF!+'M1 A'!AE17 -> #REF! | AG17: =IFERROR(AF17/$AA$17,"-") -> - | AH17: =#REF!+'TEST AUTRE'!AH17+#REF!+'M1 A'!AF17 -> #REF! | AI17: =IFERROR(AH17/$AA$17,"-") -> - | AJ17: =#REF!+'TEST AUTRE'!AJ17+#REF!+'M1 A'!#REF! -> #REF! | AK17: =IFERROR(AJ17/$AA$17,"-") -> - | AL17: =#REF!+'TEST AUTRE'!AL17+#REF!+'M1 A'!#REF! -> #REF! | AM17: =IFERROR(AL17/$AA$17,"-") -> -
X18: FIST SIDE ? | Y18: P9 | AA18: =#REF!+'TEST AUTRE'!AA18+#REF!+'M1 A'!AA18 -> #REF! | AB18: =IF($AF$34=0,"",(AA18)/$AF$34) -> #REF! | AC18: =#REF!+'TEST AUTRE'!AC18+#REF!+'M1 A'!AC18 -> #REF! | AD18: =IFERROR(AC18/(AA18),"-") -> - | AE18: =IFERROR(SUM(AF18+AH18)/SUM(AF18+AH18+AJ18+AL18),"-") -> - | AF18: =#REF!+'TEST AUTRE'!AF18+#REF!+'M1 A'!AE18 -> #REF! | AG18: =IFERROR(AF18/$AA$18,"-") -> - | AH18: =#REF!+'TEST AUTRE'!AH18+#REF!+'M1 A'!AF18 -> #REF! | AI18: =IFERROR(AH18/$AA$18,"-") -> - | AJ18: =#REF!+'TEST AUTRE'!AJ18+#REF!+'M1 A'!#REF! -> #REF! | AK18: =IFERROR(AJ18/$AA$18,"-") -> - | AL18: =#REF!+'TEST AUTRE'!AL18+#REF!+'M1 A'!#REF! -> #REF! | AM18: =IFERROR(AL18/$AA$18,"-") -> -
X19: FIST | Y19: P10 | AA19: =#REF!+'TEST AUTRE'!AA19+#REF!+'M1 A'!AA19 -> #REF! | AB19: =IF($AF$34=0,"",(AA19)/$AF$34) -> #REF! | AC19: =#REF!+'TEST AUTRE'!AC19+#REF!+'M1 A'!AC19 -> #REF! | AD19: =IFERROR(AC19/(AA19),"-") -> - | AE19: =IFERROR(SUM(AF19+AH19)/SUM(AF19+AH19+AJ19+AL19),"-") -> - | AF19: =#REF!+'TEST AUTRE'!AF19+#REF!+'M1 A'!AE19 -> #REF! | AG19: =IFERROR(AF19/$AA$19,"-") -> - | AH19: =#REF!+'TEST AUTRE'!AH19+#REF!+'M1 A'!AF19 -> #REF! | AI19: =IFERROR(AH19/$AA$19,"-") -> - | AJ19: =#REF!+'TEST AUTRE'!AJ19+#REF!+'M1 A'!#REF! -> #REF! | AK19: =IFERROR(AJ19/$AA$19,"-") -> - | AL19: =#REF!+'TEST AUTRE'!AL19+#REF!+'M1 A'!#REF! -> #REF! | AM19: =IFERROR(AL19/$AA$19,"-") -> -
X20: THUMB UP & SIDE | Y20: P11 | AA20: =#REF!+'TEST AUTRE'!AA20+#REF!+'M1 A'!AA20 -> #REF! | AB20: =IF($AF$34=0,"",(AA20)/$AF$34) -> #REF! | AC20: =#REF!+'TEST AUTRE'!AC20+#REF!+'M1 A'!AC20 -> #REF! | AD20: =IFERROR(AC20/(AA20),"-") -> - | AE20: =IFERROR(SUM(AF20+AH20)/SUM(AF20+AH20+AJ20+AL20),"-") -> - | AF20: =#REF!+'TEST AUTRE'!AF20+#REF!+'M1 A'!AE20 -> #REF! | AG20: =IFERROR(AF20/$AA$20,"-") -> - | AH20: =#REF!+'TEST AUTRE'!AH20+#REF!+'M1 A'!AF20 -> #REF! | AI20: =IFERROR(AH20/$AA$20,"-") -> - | AJ20: =#REF!+'TEST AUTRE'!AJ20+#REF!+'M1 A'!#REF! -> #REF! | AK20: =IFERROR(AJ20/$AA$20,"-") -> - | AL20: =#REF!+'TEST AUTRE'!AL20+#REF!+'M1 A'!#REF! -> #REF! | AM20: =IFERROR(AL20/$AA$20,"-") -> -
Y21: P12 | AA21: =#REF!+'TEST AUTRE'!AA21+#REF!+'M1 A'!AA21 -> #REF! | AB21: =IF($AF$34=0,"",(AA21)/$AF$34) -> #REF! | AC21: =#REF!+'TEST AUTRE'!AC21+#REF!+'M1 A'!AC21 -> #REF! | AD21: =IFERROR(AC21/(AA21),"-") -> - | AE21: =IFERROR(SUM(AF21+AH21)/SUM(AF21+AH21+AJ21+AL21),"-") -> - | AF21: =#REF!+'TEST AUTRE'!AF21+#REF!+'M1 A'!AE21 -> #REF! | AG21: =IFERROR(AF21/$AA$21,"-") -> - | AH21: =#REF!+'TEST AUTRE'!AH21+#REF!+'M1 A'!AF21 -> #REF! | AI21: =IFERROR(AH21/$AA$21,"-") -> - | AJ21: =#REF!+'TEST AUTRE'!AJ21+#REF!+'M1 A'!#REF! -> #REF! | AK21: =IFERROR(AJ21/$AA$21,"-") -> - | AL21: =#REF!+'TEST AUTRE'!AL21+#REF!+'M1 A'!#REF! -> #REF! | AM21: =IFERROR(AL21/$AA$21,"-") -> -
X22: HORN PNR BIGS ? | Y22: P13 | AA22: =#REF!+'TEST AUTRE'!AA22+#REF!+'M1 A'!AA22 -> #REF! | AB22: =IF($AF$34=0,"",(AA22)/$AF$34) -> #REF! | AC22: =#REF!+'TEST AUTRE'!AC22+#REF!+'M1 A'!AC22 -> #REF! | AD22: =IFERROR(AC22/(AA22),"-") -> - | AE22: =IFERROR(SUM(AF22+AH22)/SUM(AF22+AH22+AJ22+AL22),"-") -> - | AF22: =#REF!+'TEST AUTRE'!AF22+#REF!+'M1 A'!AE22 -> #REF! | AG22: =IFERROR(AF22/$AA$22,"-") -> - | AH22: =#REF!+'TEST AUTRE'!AH22+#REF!+'M1 A'!AF22 -> #REF! | AI22: =IFERROR(AH22/$AA$22,"-") -> - | AJ22: =#REF!+'TEST AUTRE'!AJ22+#REF!+'M1 A'!#REF! -> #REF! | AK22: =IFERROR(AJ22/$AA$22,"-") -> - | AL22: =#REF!+'TEST AUTRE'!AL22+#REF!+'M1 A'!#REF! -> #REF! | AM22: =IFERROR(AL22/$AA$22,"-") -> -
Y23: P14 | AA23: =#REF!+'TEST AUTRE'!AA23+#REF!+'M1 A'!AA23 -> #REF! | AB23: =IF($AF$34=0,"",(AA23)/$AF$34) -> #REF! | AC23: =#REF!+'TEST AUTRE'!AC23+#REF!+'M1 A'!AC23 -> #REF! | AD23: =IFERROR(AC23/(AA23),"-") -> - | AE23: =IFERROR(SUM(AF23+AH23)/SUM(AF23+AH23+AJ23+AL23),"-") -> - | AF23: =#REF!+'TEST AUTRE'!AF23+#REF!+'M1 A'!AE23 -> #REF! | AG23: =IFERROR(AF23/$AA$23,"-") -> - | AH23: =#REF!+'TEST AUTRE'!AH23+#REF!+'M1 A'!AF23 -> #REF! | AI23: =IFERROR(AH23/$AA$23,"-") -> - | AJ23: =#REF!+'TEST AUTRE'!AJ23+#REF!+'M1 A'!#REF! -> #REF! | AK23: =IFERROR(AJ23/$AA$23,"-") -> - | AL23: =#REF!+'TEST AUTRE'!AL23+#REF!+'M1 A'!#REF! -> #REF! | AM23: =IFERROR(AL23/$AA$23,"-") -> -
Y24: P15 | AA24: =#REF!+'TEST AUTRE'!AA24+#REF!+'M1 A'!AA24 -> #REF! | AB24: =IF($AF$34=0,"",(AA24)/$AF$34) -> #REF! | AC24: =#REF!+'TEST AUTRE'!AC24+#REF!+'M1 A'!AC24 -> #REF! | AD24: =IFERROR(AC24/(AA24),"-") -> - | AE24: =IFERROR(SUM(AF24+AH24)/SUM(AF24+AH24+AJ24+AL24),"-") -> - | AF24: =#REF!+'TEST AUTRE'!AF24+#REF!+'M1 A'!AE24 -> #REF! | AG24: =IFERROR(AF24/$AA$24,"-") -> - | AH24: =#REF!+'TEST AUTRE'!AH24+#REF!+'M1 A'!AF24 -> #REF! | AI24: =IFERROR(AH24/$AA$24,"-") -> - | AJ24: =#REF!+'TEST AUTRE'!AJ24+#REF!+'M1 A'!#REF! -> #REF! | AK24: =IFERROR(AJ24/$AA$24,"-") -> - | AL24: =#REF!+'TEST AUTRE'!AL24+#REF!+'M1 A'!#REF! -> #REF! | AM24: =IFERROR(AL24/$AA$24,"-") -> -
Y25: P16 | AA25: =#REF!+'TEST AUTRE'!AA25+#REF!+'M1 A'!AA26 -> #REF! | AB25: =IF($AF$34=0,"",(AA25)/$AF$34) -> #REF! | AC25: =#REF!+'TEST AUTRE'!AC25+#REF!+'M1 A'!AC26 -> #REF! | AD25: =IFERROR(AC25/(AA25),"-") -> - | AE25: =IFERROR(SUM(AF25+AH25)/SUM(AF25+AH25+AJ25+AL25),"-") -> - | AF25: =#REF!+'TEST AUTRE'!AF25+#REF!+'M1 A'!AE26 -> #REF! | AG25: =IFERROR(AF25/$AA$25,"-") -> - | AH25: =#REF!+'TEST AUTRE'!AH25+#REF!+'M1 A'!AF26 -> #REF! | AI25: =IFERROR(AH25/$AA$25,"-") -> - | AJ25: =#REF!+'TEST AUTRE'!AJ25+#REF!+'M1 A'!#REF! -> #REF! | AK25: =IFERROR(AJ25/$AA$25,"-") -> - | AL25: =#REF!+'TEST AUTRE'!AL25+#REF!+'M1 A'!#REF! -> #REF! | AM25: =IFERROR(AL25/$AA$25,"-") -> -
Y26: DIVERS | AA26: =#REF!+'TEST AUTRE'!AA26+#REF!+'M1 A'!AA27 -> #REF! | AB26: =IF($AF$34=0,"",(AA26)/$AF$34) -> #REF! | AC26: =#REF!+'TEST AUTRE'!AC26+#REF!+'M1 A'!AC27 -> #REF! | AD26: =IFERROR(AC26/(AA26),"-") -> - | AE26: =IFERROR(SUM(AF26+AH26)/SUM(AF26+AH26+AJ26+AL26),"-") -> - | AF26: =#REF!+'TEST AUTRE'!AF26+#REF!+'M1 A'!AE27 -> #REF! | AG26: =IFERROR(AF26/$AA$26,"-") -> - | AH26: =#REF!+'TEST AUTRE'!AH26+#REF!+'M1 A'!AF27 -> #REF! | AI26: =IFERROR(AH26/$AA$26,"-") -> - | AJ26: =#REF!+'TEST AUTRE'!AJ26+#REF!+'M1 A'!#REF! -> #REF! | AK26: =IFERROR(AJ26/$AA$26,"-") -> - | AL26: =#REF!+'TEST AUTRE'!AL26+#REF!+'M1 A'!#REF! -> #REF! | AM26: =IFERROR(AL26/$AA$26,"-") -> -
Y27: BLOBS | AA27: =#REF!+'TEST AUTRE'!AA27+#REF!+'M1 A'!AA28 -> #REF! | AB27: =IF($AF$34=0,"",(AA27)/$AF$34) -> #REF! | AC27: =#REF!+'TEST AUTRE'!AC27+#REF!+'M1 A'!AC28 -> #REF! | AD27: =IFERROR(AC27/(AA27),"-") -> - | AE27: =IFERROR(SUM(AF27+AH27)/SUM(AF27+AH27+AJ27+AL27),"-") -> - | AF27: =#REF!+'TEST AUTRE'!AF27+#REF!+'M1 A'!AE28 -> #REF! | AG27: =IFERROR(AF27/$AA$27,"-") -> - | AH27: =#REF!+'TEST AUTRE'!AH27+#REF!+'M1 A'!AF28 -> #REF! | AI27: =IFERROR(AH27/$AA$27,"-") -> - | AJ27: =#REF!+'TEST AUTRE'!AJ27+#REF!+'M1 A'!#REF! -> #REF! | AK27: =IFERROR(AJ27/$AA$27,"-") -> - | AL27: =#REF!+'TEST AUTRE'!AL27+#REF!+'M1 A'!#REF! -> #REF! | AM27: =IFERROR(AL27/$AA$27,"-") -> -
Y28: SLOBS | AA28: =#REF!+'TEST AUTRE'!AA28+#REF!+'M1 A'!AA29 -> #REF! | AB28: =IF($AF$34=0,"",(AA28)/$AF$34) -> #REF! | AC28: =#REF!+'TEST AUTRE'!AC28+#REF!+'M1 A'!AC29 -> #REF! | AD28: =IFERROR(AC28/(AA28),"-") -> - | AE28: =IFERROR(SUM(AF28+AH28)/SUM(AF28+AH28+AJ28+AL28),"-") -> - | AF28: =#REF!+'TEST AUTRE'!AF28+#REF!+'M1 A'!AE29 -> #REF! | AG28: =IFERROR(AF28/$AA$28,"-") -> - | AH28: =#REF!+'TEST AUTRE'!AH28+#REF!+'M1 A'!AF29 -> #REF! | AI28: =IFERROR(AH28/$AA$28,"-") -> - | AJ28: =#REF!+'TEST AUTRE'!AJ28+#REF!+'M1 A'!#REF! -> #REF! | AK28: =IFERROR(AJ28/$AA$28,"-") -> - | AL28: =#REF!+'TEST AUTRE'!AL28+#REF!+'M1 A'!#REF! -> #REF! | AM28: =IFERROR(AL28/$AA$28,"-") -> -
Y29: JERSEY | AA29: =#REF!+'TEST AUTRE'!AA29+#REF!+'M1 A'!AA30 -> #REF! | AB29: =IF($AF$34=0,"",(AA29)/$AF$34) -> #REF! | AC29: =#REF!+'TEST AUTRE'!AC29+#REF!+'M1 A'!AC30 -> #REF! | AD29: =IFERROR(AC29/(AA29),"-") -> - | AE29: =IFERROR(SUM(AF29+AH29)/SUM(AF29+AH29+AJ29+AL29),"-") -> - | AF29: =#REF!+'TEST AUTRE'!AF29+#REF!+'M1 A'!AE30 -> #REF! | AG29: =IFERROR(AF29/$AA$29,"-") -> - | AH29: =#REF!+'TEST AUTRE'!AH29+#REF!+'M1 A'!AF30 -> #REF! | AI29: =IFERROR(AH29/$AA$29,"-") -> - | AJ29: =#REF!+'TEST AUTRE'!AJ29+#REF!+'M1 A'!#REF! -> #REF! | AK29: =IFERROR(AJ29/$AA$29,"-") -> - | AL29: =#REF!+'TEST AUTRE'!AL29+#REF!+'M1 A'!#REF! -> #REF! | AM29: =IFERROR(AL29/$AA$29,"-") -> -
Y30: ZONE 2 | AA30: =#REF!+'TEST AUTRE'!AA30+#REF!+'M1 A'!AA31 -> #REF! | AB30: =IF($AF$34=0,"",(AA30)/$AF$34) -> #REF! | AC30: =#REF!+'TEST AUTRE'!AC30+#REF!+'M1 A'!AC31 -> #REF! | AD30: =IFERROR(AC30/(AA30),"-") -> - | AE30: =IFERROR(SUM(AF30+AH30)/SUM(AF30+AH30+AJ30+AL30),"-") -> - | AF30: =#REF!+'TEST AUTRE'!AF30+#REF!+'M1 A'!AE31 -> #REF! | AG30: =IFERROR(AF30/$AA$30,"-") -> - | AH30: =#REF!+'TEST AUTRE'!AH30+#REF!+'M1 A'!AF31 -> #REF! | AI30: =IFERROR(AH30/$AA$30,"-") -> - | AJ30: =#REF!+'TEST AUTRE'!AJ30+#REF!+'M1 A'!#REF! -> #REF! | AK30: =IFERROR(AJ30/$AA$30,"-") -> - | AL30: =#REF!+'TEST AUTRE'!AL30+#REF!+'M1 A'!#REF! -> #REF! | AM30: =IFERROR(AL30/$AA$30,"-") -> -
AA31: TOTAL | AF31: FG made | AG31: Use % | AH31: FPRV | AI31: Use % | AJ31: Nul | AK31: Use % | AL31: BP | AM31: Use %
AF32: =SUM(AF6:AF30) -> #REF! | AG32: =AF32/AF34 -> #REF! | AH32: =SUM(AH6:AH30) -> #REF! | AI32: =AH32/AF34 -> #REF! | AJ32: =SUM(AJ6:AJ30) -> #REF! | AK32: =AJ32/AF34 -> #REF! | AL32: =SUM(AL6:AL30) -> #REF! | AM32: =AL32/AF34 -> #REF!
AF33: NBR OFF | AH33: TOTAL PTS | AJ33: RENTABILITE
AF34: =SUM(AA6:AA30) -> #REF! | AH34: =AC6+AC7+AC8+AC9+AC10+AC11+AC12+AC13+AC14+AC15+AC16+AC17+AC18+AC19+AC20+AC21+AC22+AC23+AC24+AC26+AC27+AC28+AC29+AC30 -> #REF! | AJ34: PPO | AM34: =AH34/AF34 -> #REF!
AJ36: Ratio d'actions + | AM36: =(AF32+AH32)/(AF32+AH32+AJ32+AL32) -> #REF!

Sheet RENTA MATCHS
C2: SYSTEMES & JEU | F2: TOUCHES
B3: MATCHS | C3: ACTIONS | D3: PPA | E3: RATIO ACTIONS + | F3: ACTIONS | G3: PPA | H3: RATIO ACTIONS +
B4: 1
B5: 2
B6: 3
B7: 4
B8: 5
B9: 6
B10: 7
B11: 8
B12: 9
B13: 10
B14: 11
B15: 12
B16: 13
B17: ASVEL 2 | C17: 91 | D17: 0.54945055 | E17: 0.48351648 | F17: 6 | G17: 0.33333333 | H17: 0.33333333
B18: BOURGES 2 | C18: 90 | D18: 0.67777778 | E18: 0.67777778
B19: ST AMAND 2 | C19: 82 | D19: 0.62195122 | E19: 0.48780488 | F19: 11 | G19: 0.45454545 | H19: 0.18181818
B20: CBBS 2 | C20: 89 | D20: 0.76404494 | E20: 0.49438202 | F20: 5 | G20: 0.6 | H20: 0.4
B21: LBB 2 | C21: 85 | D21: 0.95294118 | E21: 0.6 | F21: 8 | G21: 0.875 | H21: 0.75
B29: EC BOURGES 1
B30: EC BOURGES 2

Sheet TEST AUTRE
A1: CATEGORY: CA
A2: Name | B2: Time | C2: Start | D2: Stop | E2: Team | F2: Player | G2: 1R | H2: 2R | I2: 3R | J2: Fprv | K2: N | L2: BP | X2: JEU & SYSTEMES
A3: CA 001 | B3: 0.024339502 | C3: 0.02424691 | D3: 0.02436265 | G3: 0 | H3: 1 | I3: 0 | J3: 0 | K3: 0 | L3: 0
A4: CA 002 F | B4: 0.024668206 | C4: 0.024575613 | D4: 0.024691354 | G4: 1 | H4: 0 | I4: 0 | J4: 1 | K4: 0 | L4: 0
A5: CA 003 | B5: 0.027228819 | C5: 0.027136227 | D5: 0.027251968 | G5: 0 | H5: 1 | I5: 0 | J5: 0 | K5: 0 | L5: 0 | X5: CALLS | Y5: TYPE | AA5: NBRE O | AB5: % JOUE | AC5: PLAY PTS | AD5: PPO | AE5: EFF. | AF5: FG made | AG5: Action % | AH5: FPRV | AI5: Action % | AJ5: Nul | AK5: Action % | AL5: BP | AM5: Action %
A6: CA 004 | B6: 0.032707292 | C6: 0.032614699 | D6: 0.03273044 | G6: 0 | H6: 1 | I6: 0 | J6: 0 | K6: 0 | L6: 0 | Y6: CA | AA6: =IF((COUNTIF($A$1:$A$871,"*CA *"))<0,"0",(COUNTIF($A$1:$A$871,"*CA *"))) -> 8 | AB6: =IF($AC$34=0,"",(AA6)/$AC$34) -> 0.095238095 | AC6: =(SUMIFS($H$1:$H$871,$A$1:$A$871,"*CA *")*2)+(SUMIFS($I$1:$I$871,$A$1:$A$871,"*CA *")*3)+(SUMIFS($G$1:$G$871,$A$1:$A$871,"*CA *")) -> 11 | AD6: =IFERROR(((SUMIFS($H$1:$H$871,$A$1:$A$871,"*CA *")*2)+(SUMIFS($I$1:$I$871,$A$1:$A$871,"*CA *")*3)+(SUMIFS($G$1:$G$871,$A$1:$A$871,"*CA *")))/(AA6),"-") -> 1.375 | AE6: =IFERROR(SUM(AF6+AH6)/SUM(AF6+AH6+AJ6+AL6),"-") -> 0.88888889 | AF6: =(SUMIFS($H$1:$H$871,$A$1:$A$871,"*CA *"))+(SUMIFS($I$1:$I$871,$A$1:$A$871,"*CA *")) -> 5 | AG6: =IFERROR(AF6/$AA$6,"-") -> 0.625 | AH6: =SUMIFS($J$1:$J$871,$A$1:$A$871,"*CA *") -> 3 | AI6: =IFERROR(AH6/$AA$6,"-") -> 0.375 | AJ6: =SUMIFS($K$1:$K$871,$A$1:$A$871,"*CA *") -> 1 | AK6: =IFERROR(AJ6/$AA$6,"-") -> 0.125 | AL6: =SUMIFS($L$1:$L$871,$A$1:$A$871,"*CA *") -> 0 | AM6: =IFERROR(AL6/$AA$6,"-") -> 0
A7: CA 005 | B7: 0.034427894 | C7: 0.034335301 | D7: 0.034451042 | G7: 0 | H7: 0 | I7: 0 | J7: 0 | K7: 1 | L7: 0 | Y7: TRANSI | AA7: =IF((COUNTIF($A$1:$A$871,"*TRANSI*")-1)<0,"0",(COUNTIF($A$1:$A$871,"*TRANSI*")-1)) -> 7 | AB7: =IF($AC$34=0,"",(AA7)/$AC$34) -> 0.083333333 | AC7: =(SUMIFS($H$1:$H$871,$A$1:$A$871,"*TRANSI *")*2)+(SUMIFS($I$1:$I$871,$A$1:$A$871,"*TRANSI *")*3)+(SUMIFS($G$1:$G$871,$A$1:$A$871,"*TRANSI *")) -> 11 | AD7: =IFERROR(((SUMIFS($H$1:$H$871,$A$1:$A$871,"*TRANSI *")*2)+(SUMIFS($I$1:$I$871,$A$1:$A$871,"*TRANSI *")*3)+(SUMIFS($G$1:$G$871,$A$1:$A$871,"*TRANSI *")))/(AA7),"-") -> 1.5714286 | AE7: =IFERROR(SUM(AF7+AH7)/SUM(AF7+AH7+AJ7+AL7),"-") -> 0.77777778 | AF7: =(SUMIFS($H$1:$H$871,$A$1:$A$871,"*TRANSI *"))+(SUMIFS($I$1:$I$871,$A$1:$A$871,"*TRANSI *")) -> 5 | AG7: =IFERROR(AF7/$AA$7,"-") -> 0.71428571 | AH7: =SUMIFS($J$1:$J$871,$A$1:$A$871,"*TRANSI*") -> 2 | AI7: =IFERROR(AH7/$AA$7,"-") -> 0.28571429 | AJ7: =SUMIFS($K$1:$K$871,$A$1:$A$871,"*TRANSI*") -> 1 | AK7: =IFERROR(AJ7/$AA$7,"-") -> 0.14285714 | AL7: =SUMIFS($L$1:$L$871,$A$1:$A$871,"*TRANSI*") -> 1 | AM7: =IFERROR(AL7/$AA$7,"-") -> 0.14285714
A8: CA 006 | B8: 0.053672373 | C8: 0.05357978 | D8: 0.053695521 | G8: 0 | H8: 1 | I8: 0 | J8: 0 | K8: 0 | L8: 0 | Y8: JL | AA8: =IF((COUNTIF($A$1:$A$871,"*JL*")-1)<0,"0",(COUNTIF($A$1:$A$871,"*JL*")-1)) -> 4 | AB8: =IF($AC$34=0,"",(AA8)/$AC$34) -> 0.047619048 | AC8: =(SUMIFS($H$1:$H$871,$A$1:$A$871,"*JL *")*2)+(SUMIFS($I$1:$I$871,$A$1:$A$871,"*JL *")*3)+(SUMIFS($G$1:$G$871,$A$1:$A$871,"*JL *")) -> 4 | AD8: =IFERROR(((SUMIFS($H$1:$H$871,$A$1:$A$871,"*JL *")*2)+(SUMIFS($I$1:$I$871,$A$1:$A$871,"*JL *")*3)+(SUMIFS($G$1:$G$871,$A$1:$A$871,"*JL *")))/(AA8),"-") -> 1 | AE8: =IFERROR(SUM(AF8+AH8)/SUM(AF8+AH8+AJ8+AL8),"-") -> 0.75 | AF8: =(SUMIFS($H$1:$H$871,$A$1:$A$871,"*JL *"))+(SUMIFS($I$1:$I$871,$A$1:$A$871,"*JL *")) -> 2 | AG8: =IFERROR(AF8/$AA$8,"-") -> 0.5 | AH8: =SUMIFS($J$1:$J$871,$A$1:$A$871,"*JL*") -> 1 | AI8: =IFERROR(AH8/$AA$8,"-") -> 0.25 | AJ8: =SUMIFS($K$1:$K$871,$A$1:$A$871,"*JL*") -> 0 | AK8: =IFERROR(AJ8/$AA$8,"-") -> 0 | AL8: =SUMIFS($L$1:$L$871,$A$1:$A$871,"*JL*") -> 1 | AM8: =IFERROR(AL8/$AA$8,"-") -> 0.25
A9: CA 007 | B9: 0.055404745 | C9: 0.055312153 | D9: 0.055427894 | G9: 0 | H9: 0 | I9: 0 | J9: 1 | K9: 0 | L9: 0 | Y9: PICKS SPLES | AA9: =IF((COUNTIF($A$1:$A$871,"*PS*")-1)<0,"0",(COUNTIF($A$1:$A$871,"*PS*")-1)) -> 3 | AB9: =IF($AC$34=0,"",(AA9)/$AC$34) -> 0.035714286 | AC9: =(SUMIFS($H$1:$H$871,$A$1:$A$871,"*PS *")*2)+(SUMIFS($I$1:$I$871,$A$1:$A$871,"*PS *")*3)+(SUMIFS($G$1:$G$871,$A$1:$A$871,"*PS *")) -> 1 | AD9: =IFERROR(((SUMIFS($H$1:$H$871,$A$1:$A$871,"*PS *")*2)+(SUMIFS($I$1:$I$871,$A$1:$A$871,"*PS *")*3)+(SUMIFS($G$1:$G$871,$A$1:$A$871,"*PS *")))/(AA9),"-") -> 0.33333333 | AE9: =IFERROR(SUM(AF9+AH9)/SUM(AF9+AH9+AJ9+AL9),"-") -> 0.33333333 | AF9: =(SUMIFS($H$1:$H$871,$A$1:$A$871,"*PS *"))+(SUMIFS($I$1:$I$871,$A$1:$A$871,"*PS *")) -> 0 | AG9: =IFERROR(AF9/$AA$9,"-") -> 0 | AH9: =SUMIFS($J$1:$J$871,$A$1:$A$871,"*PS*") -> 1 | AI9: =IFERROR(AH9/$AA$9,"-") -> 0.33333333 | AJ9: =SUMIFS($K$1:$K$871,$A$1:$A$871,"*PS*") -> 2 | AK9: =IFERROR(AJ9/$AA$9,"-") -> 0.66666667 | AL9: =SUMIFS($L$1:$L$871,$A$1:$A$871,"*PS*") -> 0 | AM9: =IFERROR(AL9/$AA$9,"-") -> 0
A10: CA 008 F | B10: 0.066638113 | C10: 0.066545521 | D10: 0.066661262 | G10: 0 | H10: 1 | I10: 0 | J10: 1 | K10: 0 | L10: 0 | X10: SHOULDER | Y10: P1 | AA10: =IF((COUNTIF($A$1:$A$871,"*P1 *"))<0,"0",(COUNTIF($A$1:$A$871,"*P1 *"))) -> 9 | AB10: =IF($AC$34=0,"",(AA10)/$AC$34) -> 0.10714286 | AC10: =(SUMIFS($H$1:$H$871,$A$1:$A$871,"*P1 *")*2)+(SUMIFS($I$1:$I$871,$A$1:$A$871,"*P1 *")*3)+(SUMIFS($G$1:$G$871,$A$1:$A$871,"*P1 *")) -> 10 | AD10: =IFERROR(((SUMIFS($H$1:$H$871,$A$1:$A$871,"*P1 *")*2)+(SUMIFS($I$1:$I$871,$A$1:$A$871,"*P1 *")*3)+(SUMIFS($G$1:$G$871,$A$1:$A$871,"*P1 *")))/(AA10),"-") -> 1.1111111 | AE10: =IFERROR(SUM(AF10+AH10)/SUM(AF10+AH10+AJ10+AL10),"-") -> 0.66666667 | AF10: =(SUMIFS($H$1:$H$871,$A$1:$A$871,"*P1 *"))+(SUMIFS($I$1:$I$871,$A$1:$A$871,"*P1 *")) -> 4 | AG10: =IFERROR(AF10/$AA$10,"-") -> 0.44444444 | AH10: =SUMIFS($J$1:$J$871,$A$1:$A$871,"*P1 *") -> 2 | AI10: =IFERROR(AH10/$AA$10,"-") -> 0.22222222 | AJ10: =SUMIFS($K$1:$K$871,$A$1:$A$871,"*P1 *") -> 2 | AK10: =IFERROR(AJ10/$AA$10,"-") -> 0.22222222 | AL10: =SUMIFS($L$1:$L$871,$A$1:$A$871,"*P1 *") -> 1 | AM10: =IFERROR(AL10/$AA$10,"-") -> 0.11111111
X11: HORN SIDE 5 | Y11: P2 | AA11: =IF((COUNTIF($A$1:$A$871,"*P2*")-1)<0,"0",(COUNTIF($A$1:$A$871,"*P2*")-1)) -> 3 | AB11: =IF($AC$34=0,"",(AA11)/$AC$34) -> 0.035714286 | AC11: =(SUMIFS($H$1:$H$871,$A$1:$A$871,"*P2 *")*2)+(SUMIFS($I$1:$I$871,$A$1:$A$871,"*P2 *")*3)+(SUMIFS($G$1:$G$871,$A$1:$A$871,"*P2 *")) -> 2 | AD11: =IFERROR(((SUMIFS($H$1:$H$871,$A$1:$A$871,"*P2 *")*2)+(SUMIFS($I$1:$I$871,$A$1:$A$871,"*P2 *")*3)+(SUMIFS($G$1:$G$871,$A$1:$A$871,"*P2 *")))/(AA11),"-") -> 0.66666667 | AE11: =IFERROR(SUM(AF11+AH11)/SUM(AF11+AH11+AJ11+AL11),"-") -> 0.66666667 | AF11: =(SUMIFS($H$1:$H$871,$A$1:$A$871,"*P2 *"))+(SUMIFS($I$1:$I$871,$A$1:$A$871,"*P2 *")) -> 1 | AG11: =IFERROR(AF11/$AA$11,"-") -> 0.33333333 | AH11: =SUMIFS($J$1:$J$871,$A$1:$A$871,"*P2*") -> 1 | AI11: =IFERROR(AH11/$AA$11,"-") -> 0.33333333 | AJ11: =SUMIFS($K$1:$K$871,$A$1:$A$871,"*P2*") -> 1 | AK11: =IFERROR(AJ11/$AA$11,"-") -> 0.33333333 | AL11: =SUMIFS($L$1:$L$871,$A$1:$A$871,"*P2*") -> 0 | AM11: =IFERROR(AL11/$AA$11,"-") -> 0
A12: CATEGORY: P1 | X12: 5 SIDE | Y12: P3 | AA12: =IF((COUNTIF($A$1:$A$871,"*P3*")-1)<0,"0",(COUNTIF($A$1:$A$871,"*P3*")-1)) -> 2 | AB12: =IF($AC$34=0,"",(AA12)/$AC$34) -> 0.023809524 | AC12: =(SUMIFS($H$1:$H$871,$A$1:$A$871,"*P3 *")*2)+(SUMIFS($I$1:$I$871,$A$1:$A$871,"*P3 *")*3)+(SUMIFS($G$1:$G$871,$A$1:$A$871,"*P3 *")) -> 2 | AD12: =IFERROR(((SUMIFS($H$1:$H$871,$A$1:$A$871,"*P3 *")*2)+(SUMIFS($I$1:$I$871,$A$1:$A$871,"*P3 *")*3)+(SUMIFS($G$1:$G$871,$A$1:$A$871,"*P3 *")))/(AA12),"-") -> 1 | AE12: =IFERROR(SUM(AF12+AH12)/SUM(AF12+AH12+AJ12+AL12),"-") -> 0.5 | AF12: =(SUMIFS($H$1:$H$871,$A$1:$A$871,"*P3 *"))+(SUMIFS($I$1:$I$871,$A$1:$A$871,"*P3 *")) -> 1 | AG12: =IFERROR(AF12/$AA$12,"-") -> 0.5 | AH12: =SUMIFS($J$1:$J$871,$A$1:$A$871,"*P3*") -> 0 | AI12: =IFERROR(AH12/$AA$12,"-") -> 0 | AJ12: =SUMIFS($K$1:$K$871,$A$1:$A$871,"*P3*") -> 0 | AK12: =IFERROR(AJ12/$AA$12,"-") -> 0 | AL12: =SUMIFS($L$1:$L$871,$A$1:$A$871,"*P3*") -> 1 | AM12: =IFERROR(AL12/$AA$12,"-") -> 0.5
A13: Name | B13: Time | C13: Start | D13: Stop | E13: Team | F13: Player | G13: 1R | H13: 2R | I13: 3R | J13: Fprv | K13: N | L13: BP | X13: HORN | Y13: P4 | AA13: =IF((COUNTIF($A$1:$A$871,"*P4*")-1)<0,"0",(COUNTIF($A$1:$A$871,"*P4*")-1)) -> 3 | AB13: =IF($AC$34=0,"",(AA13)/$AC$34) -> 0.035714286 | AC13: =(SUMIFS($H$1:$H$871,$A$1:$A$871,"*P4 *")*2)+(SUMIFS($I$1:$I$871,$A$1:$A$871,"*P4 *")*3)+(SUMIFS($G$1:$G$871,$A$1:$A$871,"*P4 *")) -> 2 | AD13: =IFERROR(((SUMIFS($H$1:$H$871,$A$1:$A$871,"*P4 *")*2)+(SUMIFS($I$1:$I$871,$A$1:$A$871,"*P4 *")*3)+(SUMIFS($G$1:$G$871,$A$1:$A$871,"*P4 *")))/(AA13),"-") -> 0.66666667 | AE13: =IFERROR(SUM(AF13+AH13)/SUM(AF13+AH13+AJ13+AL13),"-") -> 0.33333333 | AF13: =(SUMIFS($H$1:$H$871,$A$1:$A$871,"*P4 *"))+(SUMIFS($I$1:$I$871,$A$1:$A$871,"*P4 *")) -> 1 | AG13: =IFERROR(AF13/$AA$13,"-") -> 0.33333333 | AH13: =SUMIFS($J$1:$J$871,$A$1:$A$871,"*P4*") -> 0 | AI13: =IFERROR(AH13/$AA$13,"-") -> 0 | AJ13: =SUMIFS($K$1:$K$871,$A$1:$A$871,"*P4*") -> 2 | AK13: =IFERROR(AJ13/$AA$13,"-") -> 0.66666667 | AL13: =SUMIFS($L$1:$L$871,$A$1:$A$871,"*P4*") -> 0 | AM13: =IFERROR(AL13/$AA$13,"-") -> 0
A14: P1 001 | B14: 0.0063141551 | C14: 0.0061521181 | D14: 0.0063373032 | G14: 0 | H14: 0 | I14: 0 | J14: 0 | K14: 1 | L14: 0 | X14: HORN SIDE | Y14: P5 | AA14: =IF((COUNTIF($A$1:$A$871,"*P5*")-1)<0,"0",(COUNTIF($A$1:$A$871,"*P5*")-1)) -> 8 | AB14: =IF($AC$34=0,"",(AA14)/$AC$34) -> 0.095238095 | AC14: =(SUMIFS($H$1:$H$871,$A$1:$A$871,"*P5 *")*2)+(SUMIFS($I$1:$I$871,$A$1:$A$871,"*P5 *")*3)+(SUMIFS($G$1:$G$871,$A$1:$A$871,"*P5 *")) -> 3 | AD14: =IFERROR(((SUMIFS($H$1:$H$871,$A$1:$A$871,"*P5 *")*2)+(SUMIFS($I$1:$I$871,$A$1:$A$871,"*P5 *")*3)+(SUMIFS($G$1:$G$871,$A$1:$A$871,"*P5 *")))/(AA14),"-") -> 0.375 | AE14: =IFERROR(SUM(AF14+AH14)/SUM(AF14+AH14+AJ14+AL14),"-") -> 0.25 | AF14: =(SUMIFS($H$1:$H$871,$A$1:$A$871,"*P5 *"))+(SUMIFS($I$1:$I$871,$A$1:$A$871,"*P5 *")) -> 1 | AG14: =IFERROR(AF14/$AA$14,"-") -> 0.125 | AH14: =SUMIFS($J$1:$J$871,$A$1:$A$871,"*P5*") -> 1 | AI14: =IFERROR(AH14/$AA$14,"-") -> 0.125 | AJ14: =SUMIFS($K$1:$K$871,$A$1:$A$871,"*P5*") -> 4 | AK14: =IFERROR(AJ14/$AA$14,"-") -> 0.5 | AL14: =SUMIFS($L$1:$L$871,$A$1:$A$871,"*P5*") -> 2 | AM14: =IFERROR(AL14/$AA$14,"-") -> 0.25
A15: P1 002 sHOULDER HORN ++ | B15: 0.0068555903 | C15: 0.0066935532 | D15: 0.0068787384 | G15: 0 | H15: 1 | I15: 0 | J15: 0 | K15: 0 | L15: 0 | X15: 5 DOWN | Y15: P6 | AA15: =IF((COUNTIF($A$1:$A$871,"*P6*")-1)<0,"0",(COUNTIF($A$1:$A$871,"*P6*")-1)) -> 8 | AB15: =IF($AC$34=0,"",(AA15)/$AC$34) -> 0.095238095 | AC15: =(SUMIFS($H$1:$H$871,$A$1:$A$871,"*P6 *")*2)+(SUMIFS($I$1:$I$871,$A$1:$A$871,"*P6 *")*3)+(SUMIFS($G$1:$G$871,$A$1:$A$871,"*P6 *")) -> 5 | AD15: =IFERROR(((SUMIFS($H$1:$H$871,$A$1:$A$871,"*P6 *")*2)+(SUMIFS($I$1:$I$871,$A$1:$A$871,"*P6 *")*3)+(SUMIFS($G$1:$G$871,$A$1:$A$871,"*P6 *")))/(AA15),"-") -> 0.625 | AE15: =IFERROR(SUM(AF15+AH15)/SUM(AF15+AH15+AJ15+AL15),"-") -> 0.5 | AF15: =(SUMIFS($H$1:$H$871,$A$1:$A$871,"*P6 *"))+(SUMIFS($I$1:$I$871,$A$1:$A$871,"*P6 *")) -> 2 | AG15: =IFERROR(AF15/$AA$15,"-") -> 0.25 | AH15: =SUMIFS($J$1:$J$871,$A$1:$A$871,"*P6*") -> 2 | AI15: =IFERROR(AH15/$AA$15,"-") -> 0.25 | AJ15: =SUMIFS($K$1:$K$871,$A$1:$A$871,"*P6*") -> 2 | AK15: =IFERROR(AJ15/$AA$15,"-") -> 0.25 | AL15: =SUMIFS($L$1:$L$871,$A$1:$A$871,"*P6*") -> 2 | AM15: =IFERROR(AL15/$AA$15,"-") -> 0.25
A16: P1 003 + | B16: 0.012364155 | C16: 0.012202118 | D16: 0.012387303 | G16: 0 | H16: 1 | I16: 0 | J16: 0 | K16: 0 | L16: 0 | X16: 4 | Y16: P7 | AA16: =IF((COUNTIF($A$1:$A$871,"*P7*")-1)<0,"0",(COUNTIF($A$1:$A$871,"*P7*")-1)) -> 2 | AB16: =IF($AC$34=0,"",(AA16)/$AC$34) -> 0.023809524 | AC16: =(SUMIFS($H$1:$H$871,$A$1:$A$871,"*P7 *")*2)+(SUMIFS($I$1:$I$871,$A$1:$A$871,"*P7 *")*3)+(SUMIFS($G$1:$G$871,$A$1:$A$871,"*P7 *")) -> 0 | AD16: =IFERROR(((SUMIFS($H$1:$H$871,$A$1:$A$871,"*P7 *")*2)+(SUMIFS($I$1:$I$871,$A$1:$A$871,"*P7 *")*3)+(SUMIFS($G$1:$G$871,$A$1:$A$871,"*P7 *")))/(AA16),"-") -> 0 | AE16: =IFERROR(SUM(AF16+AH16)/SUM(AF16+AH16+AJ16+AL16),"-") -> 0 | AF16: =(SUMIFS($H$1:$H$871,$A$1:$A$871,"*P7 *"))+(SUMIFS($I$1:$I$871,$A$1:$A$871,"*P7 *")) -> 0 | AG16: =IFERROR(AF16/$AA$16,"-") -> 0 | AH16: =SUMIFS($J$1:$J$871,$A$1:$A$871,"*P7*") -> 0 | AI16: =IFERROR(AH16/$AA$16,"-") -> 0 | AJ16: =SUMIFS($K$1:$K$871,$A$1:$A$871,"*P7*") -> 1 | AK16: =IFERROR(AJ16/$AA$16,"-") -> 0.5 | AL16: =SUMIFS($L$1:$L$871,$A$1:$A$871,"*P7*") -> 1 | AM16: =IFERROR(AL16/$AA$16,"-") -> 0.5
A17: P1 004 | B17: 0.013164074 | C17: 0.013002037 | D17: 0.013187222 | G17: 0 | H17: 0 | I17: 0 | J17: 0 | K17: 0 | L17: 1 | X17: 4 SIDE | Y17: P8 | AA17: =IF((COUNTIF($A$1:$A$871,"*P8*")-1)<0,"0",(COUNTIF($A$1:$A$871,"*P8*")-1)) -> 3 | AB17: =IF($AC$34=0,"",(AA17)/$AC$34) -> 0.035714286 | AC17: =(SUMIFS($H$1:$H$871,$A$1:$A$871,"*P8 *")*2)+(SUMIFS($I$1:$I$871,$A$1:$A$871,"*P8 *")*3)+(SUMIFS($G$1:$G$871,$A$1:$A$871,"*P8 *")) -> 2 | AD17: =IFERROR(((SUMIFS($H$1:$H$871,$A$1:$A$871,"*P8 *")*2)+(SUMIFS($I$1:$I$871,$A$1:$A$871,"*P8 *")*3)+(SUMIFS($G$1:$G$871,$A$1:$A$871,"*P8 *")))/(AA17),"-") -> 0.66666667 | AE17: =IFERROR(SUM(AF17+AH17)/SUM(AF17+AH17+AJ17+AL17),"-") -> 0.33333333 | AF17: =(SUMIFS($H$1:$H$871,$A$1:$A$871,"*P8 *"))+(SUMIFS($I$1:$I$871,$A$1:$A$871,"*P8 *")) -> 1 | AG17: =IFERROR(AF17/$AA$17,"-") -> 0.33333333 | AH17: =SUMIFS($J$1:$J$871,$A$1:$A$871,"*P8*") -> 0 | AI17: =IFERROR(AH17/$AA$17,"-") -> 0 | AJ17: =SUMIFS($K$1:$K$871,$A$1:$A$871,"*P8*") -> 2 | AK17: =IFERROR(AJ17/$AA$17,"-") -> 0.66666667 | AL17: =SUMIFS($L$1:$L$871,$A$1:$A$871,"*P8*") -> 0 | AM17: =IFERROR(AL17/$AA$17,"-") -> 0
A18: P1 005 SHOULDER HORN | B18: 0.01998588 | C18: 0.019823843 | D18: 0.020009028 | G18: 0 | H18: 1 | I18: 0 | J18: 0 | K18: 0 | L18: 0 | X18: FIST SIDE ? | Y18: P9 | AA18: =IF((COUNTIF($A$1:$A$871,"*P9*")-1)<0,"0",(COUNTIF($A$1:$A$871,"*P9*")-1)) -> 5 | AB18: =IF($AC$34=0,"",(AA18)/$AC$34) -> 0.05952381 | AC18: =(SUMIFS($H$1:$H$871,$A$1:$A$871,"*P9 *")*2)+(SUMIFS($I$1:$I$871,$A$1:$A$871,"*P9 *")*3)+(SUMIFS($G$1:$G$871,$A$1:$A$871,"*P9 *")) -> 6 | AD18: =IFERROR(((SUMIFS($H$1:$H$871,$A$1:$A$871,"*P9 *")*2)+(SUMIFS($I$1:$I$871,$A$1:$A$871,"*P9 *")*3)+(SUMIFS($G$1:$G$871,$A$1:$A$871,"*P9 *")))/(AA18),"-") -> 1.2 | AE18: =IFERROR(SUM(AF18+AH18)/SUM(AF18+AH18+AJ18+AL18),"-") -> 0.66666667 | AF18: =(SUMIFS($H$1:$H$871,$A$1:$A$871,"*P9 *"))+(SUMIFS($I$1:$I$871,$A$1:$A$871,"*P9 *")) -> 2 | AG18: =IFERROR(AF18/$AA$18,"-") -> 0.4 | AH18: =SUMIFS($J$1:$J$871,$A$1:$A$871,"*P9*") -> 2 | AI18: =IFERROR(AH18/$AA$18,"-") -> 0.4 | AJ18: =SUMIFS($K$1:$K$871,$A$1:$A$871,"*P9*") -> 1 | AK18: =IFERROR(AJ18/$AA$18,"-") -> 0.2 | AL18: =SUMIFS($L$1:$L$871,$A$1:$A$871,"*P9*") -> 1 | AM18: =IFERROR(AL18/$AA$18,"-") -> 0.2
A19: P1 006 | B19: 0.020949074 | C19: 0.020787037 | D19: 0.020972222 | G19: 0 | H19: 0 | I19: 0 | J19: 1 | K19: 0 | L19: 0 | X19: FIST | Y19: P10 | AA19: =IF((COUNTIF($A$1:$A$871,"*P10*")-1)<0,"0",(COUNTIF($A$1:$A$871,"*P10*")-1)) -> 5 | AB19: =IF($AC$34=0,"",(AA19)/$AC$34) -> 0.05952381 | AC19: =(SUMIFS($H$1:$H$871,$A$1:$A$871,"*P10 *")*2)+(SUMIFS($I$1:$I$871,$A$1:$A$871,"*P10 *")*3)+(SUMIFS($G$1:$G$871,$A$1:$A$871,"*P10 *")) -> 2 | AD19: =IFERROR(((SUMIFS($H$1:$H$871,$A$1:$A$871,"*P10 *")*2)+(SUMIFS($I$1:$I$871,$A$1:$A$871,"*P10 *")*3)+(SUMIFS($G$1:$G$871,$A$1:$A$871,"*P10 *")))/(AA19),"-") -> 0.4 | AE19: =IFERROR(SUM(AF19+AH19)/SUM(AF19+AH19+AJ19+AL19),"-") -> 0.2 | AF19: =(SUMIFS($H$1:$H$871,$A$1:$A$871,"*P10 *"))+(SUMIFS($I$1:$I$871,$A$1:$A$871,"*P10 *")) -> 1 | AG19: =IFERROR(AF19/$AA$19,"-") -> 0.2 | AH19: =SUMIFS($J$1:$J$871,$A$1:$A$871,"*P10*") -> 0 | AI19: =IFERROR(AH19/$AA$19,"-") -> 0 | AJ19: =SUMIFS($K$1:$K$871,$A$1:$A$871,"*P10*") -> 3 | AK19: =IFERROR(AJ19/$AA$19,"-") -> 0.6 | AL19: =SUMIFS($L$1:$L$871,$A$1:$A$871,"*P10*") -> 1 | AM19: =IFERROR(AL19/$AA$19,"-") -> 0.2
A20: P1 007 | B20: 0.04656963 | C20: 0.046407593 | D20: 0.046592778 | G20: 0 | H20: 0 | I20: 0 | J20: 0 | K20: 1 | L20: 0 | Y20: P11 | AA20: =IF((COUNTIF($A$1:$A$871,"*P11*")-1)<0,"0",(COUNTIF($A$1:$A$871,"*P11*")-1)) -> 0 | AB20: =IF($AC$34=0,"",(AA20)/$AC$34) -> 0 | AC20: =(SUMIFS($H$1:$H$871,$A$1:$A$871,"*P11 *")*2)+(SUMIFS($I$1:$I$871,$A$1:$A$871,"*P11 *")*3)+(SUMIFS($G$1:$G$871,$A$1:$A$871,"*P11 *")) -> 0 | AD20: =IFERROR(((SUMIFS($H$1:$H$871,$A$1:$A$871,"*P11 *")*2)+(SUMIFS($I$1:$I$871,$A$1:$A$871,"*P11 *")*3)+(SUMIFS($G$1:$G$871,$A$1:$A$871,"*P11 *")))/(AA20),"-") -> - | AE20: =IFERROR(SUM(AF20+AH20)/SUM(AF20+AH20+AJ20+AL20),"-") -> - | AF20: =(SUMIFS($H$1:$H$871,$A$1:$A$871,"*P11 *"))+(SUMIFS($I$1:$I$871,$A$1:$A$871,"*P11 *")) -> 0 | AG20: =IFERROR(AF20/$AA$20,"-") -> - | AH20: =SUMIFS($J$1:$J$871,$A$1:$A$871,"*P11*") -> 0 | AI20: =IFERROR(AH20/$AA$20,"-") -> - | AJ20: =SUMIFS($K$1:$K$871,$A$1:$A$871,"*P11*") -> 0 | AK20: =IFERROR(AJ20/$AA$20,"-") -> - | AL20: =SUMIFS($L$1:$L$871,$A$1:$A$871,"*P11*") -> 0 | AM20: =IFERROR(AL20/$AA$20,"-") -> -
A21: P1 008 F | B21: 0.056577731 | C21: 0.056415694 | D21: 0.05660088 | G21: 1 | H21: 0 | I21: 0 | J21: 1 | K21: 0 | L21: 0 | Y21: P12 | AA21: =IF((COUNTIF($A$1:$A$871,"*P12*")-1)<0,"0",(COUNTIF($A$1:$A$871,"*P12*")-1)) -> 0 | AB21: =IF($AC$34=0,"",(AA21)/$AC$34) -> 0 | AC21: =(SUMIFS($H$1:$H$871,$A$1:$A$871,"*P12 *")*2)+(SUMIFS($I$1:$I$871,$A$1:$A$871,"*P12 *")*3)+(SUMIFS($G$1:$G$871,$A$1:$A$871,"*P12 *")) -> 0 | AD21: =IFERROR(((SUMIFS($H$1:$H$871,$A$1:$A$871,"*P12 *")*2)+(SUMIFS($I$1:$I$871,$A$1:$A$871,"*P12 *")*3)+(SUMIFS($G$1:$G$871,$A$1:$A$871,"*P12 *")))/(AA21),"-") -> - | AE21: =IFERROR(SUM(AF21+AH21)/SUM(AF21+AH21+AJ21+AL21),"-") -> - | AF21: =(SUMIFS($H$1:$H$871,$A$1:$A$871,"*P12 *"))+(SUMIFS($I$1:$I$871,$A$1:$A$871,"*P12 *")) -> 0 | AG21: =IFERROR(AF21/$AA$21,"-") -> - | AH21: =SUMIFS($J$1:$J$871,$A$1:$A$871,"*P12*") -> 0 | AI21: =IFERROR(AH21/$AA$21,"-") -> - | AJ21: =SUMIFS($K$1:$K$871,$A$1:$A$871,"*P12*") -> 0 | AK21: =IFERROR(AJ21/$AA$21,"-") -> - | AL21: =SUMIFS($L$1:$L$871,$A$1:$A$871,"*P12*") -> 0 | AM21: =IFERROR(AL21/$AA$21,"-") -> -
A22: P1 009 ++ LONG | B22: 0.07350625 | C22: 0.073344213 | D22: 0.073529398 | G22: 0 | H22: 0 | I22: 1 | J22: 0 | K22: 0 | L22: 0 | Y22: P13 | AA22: =IF((COUNTIF($A$1:$A$871,"*P13*")-1)<0,"0",(COUNTIF($A$1:$A$871,"*P13*")-1)) -> 0 | AB22: =IF($AC$34=0,"",(AA22)/$AC$34) -> 0 | AC22: =(SUMIFS($H$1:$H$871,$A$1:$A$871,"*P13 *")*2)+(SUMIFS($I$1:$I$871,$A$1:$A$871,"*P13 *")*3)+(SUMIFS($G$1:$G$871,$A$1:$A$871,"*P13 *")) -> 0 | AD22: =IFERROR(((SUMIFS($H$1:$H$871,$A$1:$A$871,"*P13 *")*2)+(SUMIFS($I$1:$I$871,$A$1:$A$871,"*P13 *")*3)+(SUMIFS($G$1:$G$871,$A$1:$A$871,"*P13 *")))/(AA22),"-") -> - | AE22: =IFERROR(SUM(AF22+AH22)/SUM(AF22+AH22+AJ22+AL22),"-") -> - | AF22: =(SUMIFS($H$1:$H$871,$A$1:$A$871,"*P13 *"))+(SUMIFS($I$1:$I$871,$A$1:$A$871,"*P13 *")) -> 0 | AG22: =IFERROR(AF22/$AA$22,"-") -> - | AH22: =SUMIFS($J$1:$J$871,$A$1:$A$871,"*P13*") -> 0 | AI22: =IFERROR(AH22/$AA$22,"-") -> - | AJ22: =SUMIFS($K$1:$K$871,$A$1:$A$871,"*P13*") -> 0 | AK22: =IFERROR(AJ22/$AA$22,"-") -> - | AL22: =SUMIFS($L$1:$L$871,$A$1:$A$871,"*P13*") -> 0 | AM22: =IFERROR(AL22/$AA$22,"-") -> -
Y23: P14 | AA23: =IF((COUNTIF($A$1:$A$871,"*P14*")-1)<0,"0",(COUNTIF($A$1:$A$871,"*P14*")-1)) -> 0 | AB23: =IF($AC$34=0,"",(AA23)/$AC$34) -> 0 | AC23: =(SUMIFS($H$1:$H$871,$A$1:$A$871,"*P14 *")*2)+(SUMIFS($I$1:$I$871,$A$1:$A$871,"*P14 *")*3)+(SUMIFS($G$1:$G$871,$A$1:$A$871,"*P14 *")) -> 0 | AD23: =IFERROR(((SUMIFS($H$1:$H$871,$A$1:$A$871,"*P14 *")*2)+(SUMIFS($I$1:$I$871,$A$1:$A$871,"*P14 *")*3)+(SUMIFS($G$1:$G$871,$A$1:$A$871,"*P14 *")))/(AA23),"-") -> - | AE23: =IFERROR(SUM(AF23+AH23)/SUM(AF23+AH23+AJ23+AL23),"-") -> - | AF23: =(SUMIFS($H$1:$H$871,$A$1:$A$871,"*P14 *"))+(SUMIFS($I$1:$I$871,$A$1:$A$871,"*P14 *")) -> 0 | AG23: =IFERROR(AF23/$AA$23,"-") -> - | AH23: =SUMIFS($J$1:$J$871,$A$1:$A$871,"*P14*") -> 0 | AI23: =IFERROR(AH23/$AA$23,"-") -> - | AJ23: =SUMIFS($K$1:$K$871,$A$1:$A$871,"*P14*") -> 0 | AK23: =IFERROR(AJ23/$AA$23,"-") -> - | AL23: =SUMIFS($L$1:$L$871,$A$1:$A$871,"*P14*") -> 0 | AM23: =IFERROR(AL23/$AA$23,"-") -> -
A24: CATEGORY: P2 | Y24: P15 | AA24: =IF((COUNTIF($A$1:$A$871,"*P15*")-1)<0,"0",(COUNTIF($A$1:$A$871,"*P15*")-1)) -> 0 | AB24: =IF($AC$34=0,"",(AA24)/$AC$34) -> 0 | AC24: =(SUMIFS($H$1:$H$871,$A$1:$A$871,"*P15 *")*2)+(SUMIFS($I$1:$I$871,$A$1:$A$871,"*P15 *")*3)+(SUMIFS($G$1:$G$871,$A$1:$A$871,"*P15 *")) -> 0 | AD24: =IFERROR(((SUMIFS($H$1:$H$871,$A$1:$A$871,"*P15 *")*2)+(SUMIFS($I$1:$I$871,$A$1:$A$871,"*P15 *")*3)+(SUMIFS($G$1:$G$871,$A$1:$A$871,"*P15 *")))/(AA24),"-") -> - | AE24: =IFERROR(SUM(AF24+AH24)/SUM(AF24+AH24+AJ24+AL24),"-") -> - | AF24: =(SUMIFS($H$1:$H$871,$A$1:$A$871,"*P15 *"))+(SUMIFS($I$1:$I$871,$A$1:$A$871,"*P15 *")) -> 0 | AG24: =IFERROR(AF24/$AA$24,"-") -> - | AH24: =SUMIFS($J$1:$J$871,$A$1:$A$871,"*P15*") -> 0 | AI24: =IFERROR(AH24/$AA$24,"-") -> - | AJ24: =SUMIFS($K$1:$K$871,$A$1:$A$871,"*P15*") -> 0 | AK24: =IFERROR(AJ24/$AA$24,"-") -> - | AL24: =SUMIFS($L$1:$L$871,$A$1:$A$871,"*P15*") -> 0 | AM24: =IFERROR(AL24/$AA$24,"-") -> -
A25: Name | B25: Time | C25: Start | D25: Stop | E25: Team | F25: Player | G25: 1R | H25: 2R | I25: 3R | J25: Fprv | K25: N | L25: BP | Y25: P16 | AA25: =IF((COUNTIF($A$1:$A$871,"*P16*")-1)<0,"0",(COUNTIF($A$1:$A$871,"*P16*")-1)) -> 0 | AB25: =IF($AC$34=0,"",(AA25)/$AC$34) -> 0 | AC25: =(SUMIFS($H$1:$H$871,$A$1:$A$871,"*P16 *")*2)+(SUMIFS($I$1:$I$871,$A$1:$A$871,"*P16 *")*3)+(SUMIFS($G$1:$G$871,$A$1:$A$871,"*P16 *")) -> 0 | AD25: =IFERROR(((SUMIFS($H$1:$H$871,$A$1:$A$871,"*P16 *")*2)+(SUMIFS($I$1:$I$871,$A$1:$A$871,"*P16 *")*3)+(SUMIFS($G$1:$G$871,$A$1:$A$871,"*P16 *")))/(AA25),"-") -> - | AE25: =IFERROR(SUM(AF25+AH25)/SUM(AF25+AH25+AJ25+AL25),"-") -> - | AF25: =(SUMIFS($H$1:$H$871,$A$1:$A$871,"*P16 *"))+(SUMIFS($I$1:$I$871,$A$1:$A$871,"*P16 *")) -> 0 | AG25: =IFERROR(AF25/$AA$25,"-") -> - | AH25: =SUMIFS($J$1:$J$871,$A$1:$A$871,"*P16*") -> 0 | AI25: =IFERROR(AH25/$AA$25,"-") -> - | AJ25: =SUMIFS($K$1:$K$871,$A$1:$A$871,"*P16*") -> 0 | AK25: =IFERROR(AJ25/$AA$25,"-") -> - | AL25: =SUMIFS($L$1:$L$871,$A$1:$A$871,"*P16*") -> 0 | AM25: =IFERROR(AL25/$AA$25,"-") -> -
A26: P2 001 | B26: 0.014345289 | C26: 0.014183252 | D26: 0.014368438 | G26: 0 | H26: 1 | I26: 0 | J26: 0 | K26: 0 | L26: 0 | Y26: DIVERS | AA26: =IF((COUNTIF($A$1:$A$871,"*DIVERS*")-1)<0,"0",(COUNTIF($A$1:$A$871,"*DIVERS*")-1)) -> 5 | AB26: =IF($AC$34=0,"",(AA26)/$AC$34) -> 0.05952381 | AC26: =(SUMIFS($H$1:$H$871,$A$1:$A$871,"*DIVERS *")*2)+(SUMIFS($I$1:$I$871,$A$1:$A$871,"*DIVERS *")*3)+(SUMIFS($G$1:$G$871,$A$1:$A$871,"*DIVERS *")) -> 4 | AD26: =IFERROR(((SUMIFS($H$1:$H$871,$A$1:$A$871,"*DIVERS *")*2)+(SUMIFS($I$1:$I$871,$A$1:$A$871,"*DIVERS *")*3)+(SUMIFS($G$1:$G$871,$A$1:$A$871,"*DIVERS *")))/(AA26),"-") -> 0.8 | AE26: =IFERROR(SUM(AF26+AH26)/SUM(AF26+AH26+AJ26+AL26),"-") -> 1 | AF26: =(SUMIFS($H$1:$H$871,$A$1:$A$871,"*DIVERS *"))+(SUMIFS($I$1:$I$871,$A$1:$A$871,"*DIVERS *")) -> 2 | AG26: =IFERROR(AF26/$AA$26,"-") -> 0.4 | AH26: =SUMIFS($J$1:$J$871,$A$1:$A$871,"*DIVERS*") -> 3 | AI26: =IFERROR(AH26/$AA$26,"-") -> 0.6 | AJ26: =SUMIFS($K$1:$K$871,$A$1:$A$871,"*DIVERS*") -> 0 | AK26: =IFERROR(AJ26/$AA$26,"-") -> 0 | AL26: =SUMIFS($L$1:$L$871,$A$1:$A$871,"*DIVERS*") -> 0 | AM26: =IFERROR(AL26/$AA$26,"-") -> 0
A27: P2 002 COTE 4 | B27: 0.045763113 | C27: 0.045601076 | D27: 0.045786262 | G27: 0 | H27: 0 | I27: 0 | J27: 0 | K27: 1 | L27: 0 | Y27: BLOBS | AA27: =IF((COUNTIF($A$1:$A$871,"*BLOBS*")-1)<0,"0",(COUNTIF($A$1:$A$871,"*BLOBS*")-1)) -> 5 | AB27: =IF($AC$34=0,"",(AA27)/$AC$34) -> 0.05952381 | AC27: =(SUMIFS($H$1:$H$871,$A$1:$A$871,"*BLOBS *")*2)+(SUMIFS($I$1:$I$871,$A$1:$A$871,"*BLOBS *")*3)+(SUMIFS($G$1:$G$871,$A$1:$A$871,"*BLOBS *")) -> 0 | AD27: =IFERROR(((SUMIFS($H$1:$H$871,$A$1:$A$871,"*BLOBS *")*2)+(SUMIFS($I$1:$I$871,$A$1:$A$871,"*BLOBS *")*3)+(SUMIFS($G$1:$G$871,$A$1:$A$871,"*BLOBS *")))/(AA27),"-") -> 0 | AE27: =IFERROR(SUM(AF27+AH27)/SUM(AF27+AH27+AJ27+AL27),"-") -> 0 | AF27: =(SUMIFS($H$1:$H$871,$A$1:$A$871,"*BLOBS *"))+(SUMIFS($I$1:$I$871,$A$1:$A$871,"*BLOBS *")) -> 0 | AG27: =IFERROR(AF27/$AA$27,"-") -> 0 | AH27: =SUMIFS($J$1:$J$871,$A$1:$A$871,"*BLOBS*") -> 0 | AI27: =IFERROR(AH27/$AA$27,"-") -> 0 | AJ27: =SUMIFS($K$1:$K$871,$A$1:$A$871,"*BLOBS*") -> 2 | AK27: =IFERROR(AJ27/$AA$27,"-") -> 0.4 | AL27: =SUMIFS($L$1:$L$871,$A$1:$A$871,"*BLOBS*") -> 3 | AM27: =IFERROR(AL27/$AA$27,"-") -> 0.6
A28: P2 003 | B28: 0.062469942 | C28: 0.062307905 | D28: 0.06249309 | G28: 0 | H28: 0 | I28: 0 | J28: 1 | K28: 0 | L28: 0 | Y28: SLOBS | AA28: =IF((COUNTIF($A$1:$A$871,"*SLOBS*")-1)<0,"0",(COUNTIF($A$1:$A$871,"*SLOBS*")-1)) -> 4 | AB28: =IF($AC$34=0,"",(AA28)/$AC$34) -> 0.047619048 | AC28: =(SUMIFS($H$1:$H$871,$A$1:$A$871,"*SLOBS *")*2)+(SUMIFS($I$1:$I$871,$A$1:$A$871,"*SLOBS *")*3)+(SUMIFS($G$1:$G$871,$A$1:$A$871,"*SLOBS *")) -> 4 | AD28: =IFERROR(((SUMIFS($H$1:$H$871,$A$1:$A$871,"*SLOBS *")*2)+(SUMIFS($I$1:$I$871,$A$1:$A$871,"*SLOBS *")*3)+(SUMIFS($G$1:$G$871,$A$1:$A$871,"*SLOBS *")))/(AA28),"-") -> 1 | AE28: =IFERROR(SUM(AF28+AH28)/SUM(AF28+AH28+AJ28+AL28),"-") -> 0.8 | AF28: =(SUMIFS($H$1:$H$871,$A$1:$A$871,"*SLOBS *"))+(SUMIFS($I$1:$I$871,$A$1:$A$871,"*SLOBS *")) -> 2 | AG28: =IFERROR(AF28/$AA$28,"-") -> 0.5 | AH28: =SUMIFS($J$1:$J$871,$A$1:$A$871,"*SLOBS*") -> 2 | AI28: =IFERROR(AH28/$AA$28,"-") -> 0.5 | AJ28: =SUMIFS($K$1:$K$871,$A$1:$A$871,"*SLOBS*") -> 1 | AK28: =IFERROR(AJ28/$AA$28,"-") -> 0.25 | AL28: =SUMIFS($L$1:$L$871,$A$1:$A$871,"*SLOBS*") -> 0 | AM28: =IFERROR(AL28/$AA$28,"-") -> 0
Y29: HEAD | AA29: =IF((COUNTIF($A$1:$A$871,"*Z OFF 1*")-1)<0,"0",(COUNTIF($A$1:$A$871,"*Z OFF 1*")-1)) -> 0 | AB29: =IF($AC$34=0,"",(AA29)/$AC$34) -> 0 | AC29: =(SUMIFS($H$1:$H$871,$A$1:$A$871,"*Z OFF 1 *")*2)+(SUMIFS($I$1:$I$871,$A$1:$A$871,"*Z OFF 1 *")*3)+(SUMIFS($G$1:$G$871,$A$1:$A$871,"*Z OFF 1 *")) -> 0 | AD29: =IFERROR(((SUMIFS($H$1:$H$871,$A$1:$A$871,"*ZONE OFF 1 *")*2)+(SUMIFS($I$1:$I$871,$A$1:$A$871,"*ZONE OFF 1 *")*3)+(SUMIFS($G$1:$G$871,$A$1:$A$871,"*ZONE OFF 1 *")))/(AA29),"-") -> - | AE29: =IFERROR(SUM(AF29+AH29)/SUM(AF29+AH29+AJ29+AL29),"-") -> - | AF29: =(SUMIFS($H$1:$H$871,$A$1:$A$871,"*Z OFF 1 *"))+(SUMIFS($I$1:$I$871,$A$1:$A$871,"*Z OFF 1 *")) -> 0 | AG29: =IFERROR(AF29/$AA$29,"-") -> - | AH29: =SUMIFS($J$1:$J$871,$A$1:$A$871,"*Z OFF 1*") -> 0 | AI29: =IFERROR(AH29/$AA$29,"-") -> - | AJ29: =SUMIFS($K$1:$K$871,$A$1:$A$871,"*Z OFF 1*") -> 0 | AK29: =IFERROR(AJ29/$AA$29,"-") -> - | AL29: =SUMIFS($L$1:$L$871,$A$1:$A$871,"*Z OFF 1*") -> 0 | AM29: =IFERROR(AL29/$AA$29,"-") -> -
A30: CATEGORY: P3 | Y30: ZONE 2 | AA30: =IF((COUNTIF($A$1:$A$871,"*Z OFF 2*")-1)<0,"0",(COUNTIF($A$1:$A$871,"*Z OFF 2*")-1)) -> 0 | AB30: =IF($AC$34=0,"",(AA30)/$AC$34) -> 0 | AC30: =(SUMIFS($H$1:$H$871,$A$1:$A$871,"*Z OFF 2 *")*2)+(SUMIFS($I$1:$I$871,$A$1:$A$871,"*Z OFF 2 *")*3)+(SUMIFS($G$1:$G$871,$A$1:$A$871,"*Z OFF 2 *")) -> 0 | AD30: =IFERROR(((SUMIFS($H$1:$H$871,$A$1:$A$871,"*ZONE OFF 2 *")*2)+(SUMIFS($I$1:$I$871,$A$1:$A$871,"*_ZONE OFF 2 *")*3)+(SUMIFS($G$1:$G$871,$A$1:$A$871,"*ZONE OFF 2 *")))/(AA30),"-") -> - | AE30: =IFERROR(SUM(AF30+AH30)/SUM(AF30+AH30+AJ30+AL30),"-") -> - | AF30: =(SUMIFS($H$1:$H$871,$A$1:$A$871,"*Z OFF 2 *"))+(SUMIFS($I$1:$I$871,$A$1:$A$871,"*Z OFF 2 *")) -> 0 | AG30: =IFERROR(AF30/$AA$30,"-") -> - | AH30: =SUMIFS($J$1:$J$871,$A$1:$A$871,"*Z OFF 2*") -> 0 | AI30: =IFERROR(AH30/$AA$30,"-") -> - | AJ30: =SUMIFS($K$1:$K$871,$A$1:$A$871,"*Z OFF 2*") -> 0 | AK30: =IFERROR(AJ30/$AA$30,"-") -> - | AL30: =SUMIFS($L$1:$L$871,$A$1:$A$871,"*Z OFF 2*") -> 0 | AM30: =IFERROR(AL30/$AA$30,"-") -> -
A31: Name | B31: Time | C31: Start | D31: Stop | E31: Team | F31: Player | G31: 1R | H31: 2R | I31: 3R | J31: Fprv | K31: N | L31: BP | X31: TOTAL | AC31: FG made | AD31: Use % | AE31: FPRV | AF31: Use % | AG31: Nul | AH31: Use % | AI31: BP | AJ31: Use %
A32: P3 001 ++ | B32: 0.0077305556 | C32: 0.0075685185 | D32: 0.0077537037 | G32: 0 | H32: 1 | I32: 0 | J32: 0 | K32: 0 | L32: 0 | AC32: =SUM(AF6:AF30) -> 30 | AD32: =AC32/AC34 -> 0.35714286 | AE32: =SUM(AH6:AH30) -> 20 | AF32: =AE32/AC34 -> 0.23809524 | AG32: =SUM(AJ6:AJ30) -> 25 | AH32: =AG32/AC34 -> 0.29761905 | AI32: =SUM(AL6:AL30) -> 14 | AJ32: =AI32/AC34 -> 0.16666667
A33: P3 002 | B33: 0.059265544 | C33: 0.059103507 | D33: 0.059288692 | G33: 0 | H33: 0 | I33: 0 | J33: 0 | K33: 0 | L33: 1 | AC33: NBR OFF | AE33: TOTAL PTS | AG33: RENTABILITE
AC34: =SUM(AA6:AA30) -> 84 | AE34: =SUM(AC6:AC30) -> 69 | AG34: PPO | AJ34: =AE34/AC34 -> 0.82142857
A35: CATEGORY: P4
A36: Name | B36: Time | C36: Start | D36: Stop | E36: Team | F36: Player | G36: 1R | H36: 2R | I36: 3R | J36: Fprv | K36: N | L36: BP | AG36: Ratio d'actions + | AJ36: =(AC32+AE32)/(AC32+AE32+AG32+AI32) -> 0.56179775
A37: P4 001 HORN 4 SIDE | B37: 0.017361493 | C37: 0.017199456 | D37: 0.017384641 | G37: 0 | H37: 0 | I37: 0 | J37: 0 | K37: 1 | L37: 0
A38: P4 002 HORN 4 SIDE ++ | B38: 0.048238113 | C38: 0.048076076 | D38: 0.048261262 | G38: 0 | H38: 1 | I38: 0 | J38: 0 | K38: 0 | L38: 0
A39: P4 003 | B39: 0.055992662 | C39: 0.055830625 | D39: 0.05601581 | G39: 0 | H39: 0 | I39: 0 | J39: 0 | K39: 1 | L39: 0
X40: pick amenant un tir ou faute provoquée
A41: CATEGORY: P5
A42: Name | B42: Time | C42: Start | D42: Stop | E42: Team | F42: Player | G42: 1R | H42: 2R | I42: 3R | J42: Fprv | K42: N | L42: BP
A43: P5 001 | B43: 0.0090300926 | C43: 0.0088680556 | D43: 0.0090532407 | G43: 0 | H43: 0 | I43: 0 | J43: 0 | K43: 1 | L43: 0 | AA43: TOTAL | AE43: MID | AI43: SIDE
A44: P5 002 | B44: 0.014649884 | C44: 0.014487847 | D44: 0.014673032 | G44: 0 | H44: 0 | I44: 0 | J44: 0 | K44: 0 | L44: 1 | AA44: nbre total | AB44: % | AC44: % + | AD44: % - | AE44: nbre total | AF44: % | AG44: % + | AH44: % - | AI44: nbre total | AJ44: % | AK44: % + | AL44: % -
A45: P5 003 DEF ST AMAND | B45: 0.015477662 | C45: 0.015315625 | D45: 0.01550081 | G45: 0 | H45: 0 | I45: 0 | J45: 1 | K45: 0 | L45: 0 | X45: hedge
A46: P5 004 | B46: 0.031273843 | C46: 0.031111806 | D46: 0.031296991 | G46: 0 | H46: 0 | I46: 0 | J46: 0 | K46: 1 | L46: 0
A47: P5 005 ? | B47: 0.049739583 | C47: 0.049577546 | D47: 0.049762731 | G47: 0 | H47: 0 | I47: 0 | J47: 0 | K47: 1 | L47: 0
A48: P5 006 | B48: 0.051946794 | C48: 0.051784757 | D48: 0.051969942 | G48: 0 | H48: 0 | I48: 0 | J48: 0 | K48: 1 | L48: 0
A49: P5 007 | B49: 0.055167593 | C49: 0.055005556 | D49: 0.055190741 | G49: 0 | H49: 0 | I49: 0 | J49: 0 | K49: 0 | L49: 1
A50: P5 008 +++ BOUBOU CLASSIC | B50: 0.066292431 | C50: 0.066130394 | D50: 0.066315579 | G50: 0 | H50: 0 | I50: 1 | J50: 0 | K50: 0 | L50: 0
A52: CATEGORY: P6
A53: Name | B53: Time | C53: Start | D53: Stop | E53: Team | F53: Player | G53: 1R | H53: 2R | I53: 3R | J53: Fprv | K53: N | L53: BP
A54: P6 001 F | B54: 0.0099684722 | C54: 0.0098064352 | D54: 0.0099916204 | G54: 1 | H54: 0 | I54: 0 | J54: 1 | K54: 0 | L54: 0
A55: P6 002 | B55: 0.023521991 | C55: 0.023359954 | D55: 0.023545139 | G55: 0 | H55: 1 | I55: 0 | J55: 0 | K55: 0 | L55: 0
A56: P6 003 +++ | B56: 0.026382442 | C56: 0.026220405 | D56: 0.02640559 | G56: 0 | H56: 1 | I56: 0 | J56: 0 | K56: 0 | L56: 0
A57: P6 004 | B57: 0.026855706 | C57: 0.026693669 | D57: 0.026878854 | G57: 0 | H57: 0 | I57: 0 | J57: 0 | K57: 0 | L57: 1
A58: P6 005 | B58: 0.049410648 | C58: 0.049248611 | D58: 0.049433796 | G58: 0 | H58: 0 | I58: 0 | J58: 0 | K58: 1 | L58: 0
A59: P6 006 + | B59: 0.05970331 | C59: 0.059541273 | D59: 0.059726458 | G59: 0 | H59: 0 | I59: 0 | J59: 0 | K59: 1 | L59: 0
A60: P6 007 ?? | B60: 0.060440741 | C60: 0.060278704 | D60: 0.060463889 | G60: 0 | H60: 0 | I60: 0 | J60: 1 | K60: 0 | L60: 0
A61: P6 008 | B61: 0.061146065 | C61: 0.060984028 | D61: 0.061169213 | G61: 0 | H61: 0 | I61: 0 | J61: 0 | K61: 0 | L61: 1
A63: CATEGORY: P7
A64: Name | B64: Time | C64: Start | D64: Stop | E64: Team | F64: Player | G64: 1R | H64: 2R | I64: 3R | J64: Fprv | K64: N | L64: BP
A65: P7 001 | B65: 0.016172338 | C65: 0.016010301 | D65: 0.016195486 | G65: 0 | H65: 0 | I65: 0 | J65: 0 | K65: 0 | L65: 1
A66: P7 002 | B66: 0.01910081 | C66: 0.018938773 | D66: 0.019123958 | G66: 0 | H66: 0 | I66: 0 | J66: 0 | K66: 1 | L66: 0
A68: CATEGORY: P8
A69: Name | B69: Time | C69: Start | D69: Stop | E69: Team | F69: Player | G69: 1R | H69: 2R | I69: 3R | J69: Fprv | K69: N | L69: BP
A70: P8 001 ++ | B70: 0.047311644 | C70: 0.047149606 | D70: 0.047334792 | G70: 0 | H70: 1 | I70: 0 | J70: 0 | K70: 0 | L70: 0
A71: P8 002 ? | B71: 0.048631829 | C71: 0.048469792 | D71: 0.048654977 | G71: 0 | H71: 0 | I71: 0 | J71: 0 | K71: 1 | L71: 0
A72: P8 003 | B72: 0.054557442 | C72: 0.054395405 | D72: 0.05458059 | G72: 0 | H72: 0 | I72: 0 | J72: 0 | K72: 1 | L72: 0
A74: CATEGORY: P9
A75: Name | B75: Time | C75: Start | D75: Stop | E75: Team | F75: Player | G75: 1R | H75: 2R | I75: 3R | J75: Fprv | K75: N | L75: BP
A76: P9 001 + FIST SIDE ? | B76: 0.029136921 | C76: 0.028974884 | D76: 0.029160069 | G76: 0 | H76: 1 | I76: 0 | J76: 0 | K76: 0 | L76: 0
A77: P9 002 F ANTI | B77: 0.029693519 | C77: 0.029531481 | D77: 0.029716667 | G77: 0 | H77: 0 | I77: 1 | J77: 1 | K77: 0 | L77: 0
A78: P9 003 F | B78: 0.031830556 | C78: 0.031668519 | D78: 0.031853704 | G78: 1 | H78: 0 | I78: 0 | J78: 1 | K78: 0 | L78: 0
A79: P9 004 ??? | B79: 0.068504861 | C79: 0.068317176 | D79: 0.068528009 | G79: 0 | H79: 0 | I79: 0 | J79: 0 | K79: 1 | L79: 0
A80: P9 005 ??? | B80: 0.070071528 | C80: 0.069909491 | D80: 0.070094676 | G80: 0 | H80: 0 | I80: 0 | J80: 0 | K80: 0 | L80: 1
A82: CATEGORY: P10
A83: Name | B83: Time | C83: Start | D83: Stop | E83: Team | F83: Player | G83: 1R | H83: 2R | I83: 3R | J83: Fprv | K83: N | L83: BP
A84: P10 002 FIST | B84: 0.054827315 | C84: 0.054688426 | D84: 0.054850463 | G84: 0 | H84: 0 | I84: 0 | J84: 0 | K84: 1 | L84: 0
A85: P10 003 FIST | B85: 0.06390397 | C85: 0.063765081 | D85: 0.063927118 | G85: 0 | H85: 0 | I85: 0 | J85: 0 | K85: 1 | L85: 0
A86: P10 005 FIST | B86: 0.071581944 | C86: 0.071443056 | D86: 0.071605093 | G86: 0 | H86: 0 | I86: 0 | J86: 0 | K86: 1 | L86: 0
A87: P10 006 FIST | B87: 0.071708333 | C87: 0.071569444 | D87: 0.071731481 | G87: 0 | H87: 1 | I87: 0 | J87: 0 | K87: 0 | L87: 0
A88: P10 008 FIST | B88: 0.075324803 | C88: 0.075185914 | D88: 0.075347951 | G88: 0 | H88: 0 | I88: 0 | J88: 0 | K88: 0 | L88: 1
A90: CATEGORY: P11
A91: Name | B91: Time | C91: Start | D91: Stop | E91: Team | F91: Player | G91: 1R | H91: 2R | I91: 3R | J91: Fprv | K91: N | L91: BP
A93: CATEGORY: P12
A94: Name | B94: Time | C94: Start | D94: Stop | E94: Team | F94: Player | G94: 1R | H94: 2R | I94: 3R | J94: Fprv | K94: N | L94: BP
A96: CATEGORY: P13
A97: Name | B97: Time | C97: Start | D97: Stop | E97: Team | F97: Player | G97: 1R | H97: 2R | I97: 3R | J97: Fprv | K97: N | L97: BP
A99: CATEGORY: P14
A100: Name | B100: Time | C100: Start | D100: Stop | E100: Team | F100: Player | G100: 1R | H100: 2R | I100: 3R | J100: Fprv | K100: N | L100: BP
A102: CATEGORY: P15
A103: Name | B103: Time | C103: Start | D103: Stop | E103: Team | F103: Player | G103: 1R | H103: 2R | I103: 3R | J103: Fprv | K103: N | L103: BP
A105: CATEGORY: PS
A106: Name | B106: Time | C106: Start | D106: Stop | E106: Team | F106: Player | G106: 1R | H106: 2R | I106: 3R | J106: Fprv | K106: N | L106: BP
A107: PS 001 | B107: 0.0081889236 | C107: 0.0080500347 | D107: 0.0082120718 | G107: 0 | H107: 0 | I107: 0 | J107: 0 | K107: 1 | L107: 0
A108: PS 004 | B108: 0.069353623 | C108: 0.069214734 | D108: 0.069376771 | G108: 0 | H108: 0 | I108: 0 | J108: 0 | K108: 1 | L108: 0
A109: PS 007 F | B109: 0.074741551 | C109: 0.074602662 | D109: 0.074764699 | G109: 1 | H109: 0 | I109: 0 | J109: 1 | K109: 0 | L109: 0
A111: CATEGORY: JL
A112: Name | B112: Time | C112: Start | D112: Stop | E112: Team | F112: Player | G112: 1R | H112: 2R | I112: 3R | J112: Fprv | K112: N | L112: BP
...
