Workbook

Sheet Valeurs éditées
A1: Calculs de la Masse Grasse + Métabolisme de base + Dépenses Energétiques Journalières
A2: MASSE GRASSE. Contrairement à l'IMC, les mesures de l'US NAVY ci-dessous sont très fiables : | S2: Tranche d'âge | T2: Ligne correspondante | U2: pourcentage de graisse min | V2: pourcentage de graisse max | W2: tranche des pourcentages de graisse | X2: Colonne correspondante | Y2: Athlète ou Anrexique | Z2: Obèse
B3: Age = | C3: 56 | D3: Hommes | H3: Prénom = | I3: Seb | N3: % de graisse | S3: =IF($C$3<40,"18~39 ans",IF($C$3<60,"40~59 ans","60~79 ans")) -> 40~59 ans | T3: =MATCH($S$3,'Morphotype sur Age et %graisse'!$A$8:$A$11,1)+7 -> 10 | U3: =INT(N4*100) -> 14 | V3: =U3+0.9 -> 14.9 | W3: =U3&"%~"&V3&"%" -> 14%~14,9% | X3: =_xlfn.XMATCH($W$3,INDIRECT("'Morphotype sur Age et %graisse'! A" & T3 &":V" & T3),0) -> 6 | Y3: {=SUBSTITUTE(SUBSTITUTE(INDEX('Morphotype sur Age et %graisse'!$A$1:$U$12,T3,2),"< ",""),"%","")*1} -> 11 | Z3: {=SUBSTITUTE(SUBSTITUTE(INDEX('Morphotype sur Age et %graisse'!$A$1:$V$12,T3,21),"> ",""),"%","")*1} -> 29
A4: Toutes les mesures en centimètres | B4: Taille, hauteur | C4: 179 | E4: Tour de ventre | F4: 84 | H4: Tour de cou | I4: 39 | N4: =(86.01*LOG($F$4-$I$4)-70.041*LOG($C$4)+30.3)/100 -> 0.14700729 | T4: {=IF($N4*100<$Y3,"Athlète ou Ano.",IF($N4*100>$Z3,"Obèse",INDEX('Morphotype sur Age et %graisse'!A1:U12,12,X3,1)))} -> Mince
C5: en cm | E5: Au plus large possible | H5: Sous le larynx | K5: Morphotype= | L5: =T4 -> Mince
B7: Age = | C7: 32 | D7: Femmes | H7: Prénom = | I7: Eve | N7: % de graisse | S7: =IF($C$7<40,"18~39 ans",IF($C$7<60,"40~59 ans","60~79 ans")) -> 18~39 ans | T7: =MATCH($S$7,'Morphotype sur Age et %graisse'!$A$1:$A$5,1) -> 3 | U7: =INT(N8*100) -> 15 | V7: =U7+0.9 -> 15.9 | W7: =U7&"%~"&V7&"%" -> 15%~15,9% | X7: =_xlfn.XMATCH($W$7,INDIRECT("'Morphotype sur Age et %graisse'! A" & T7 &":X" & T7),0) -> #N/A | Y7: {=SUBSTITUTE(SUBSTITUTE(INDEX('Morphotype sur Age et %graisse'!$A$1:$U$12,T7,2),"< ",""),"%","")*1} -> 19 | Z7: {=SUBSTITUTE(SUBSTITUTE(INDEX('Morphotype sur Age et %graisse'!$A$1:$W$12,T7,23),"> ",""),"%","")*1} -> 39
A8: Toutes les mesures en centimètres | B8: Taille, hauteur | C8: 165 | E8: Tour de Taille | F8: 70 | H8: Tour de Hanche | I8: 81 | K8: Tour de cou | L8: 35 | N8: =(163.205*LOG($F$8+$I$8-$L$8)-97.684*LOG($C$8)-104.912)/100 -> 0.15405165 | T8: {=IF($N8*100<$Y7,"Athlète ou Ano.",IF($N8*100>$Z7,"Obèse",INDEX('Morphotype sur Age et %graisse'!$A$1:$W$12,6,X3,1)))} -> Athlète ou Ano.
E9: Au plus fin | H9: Au plus large | K9: Sous le larynx | L9: =T8 -> Athlète ou Ano.
N11: t
A12: Le Métabolisme de Base, c'est la quantité de chaleur dégagée par un individu au repos à la température de 20 degrés (neutralité thermique). L’individu allongé confortablement au repos musculaire complet mais éveillé, au repos digestif et métabolique, c’est-à-dire à jeun depuis douze heures. Ce « besoin de base » correspond aux dépenses d’entretien irréductibles de la « machine » : • Contractions cardiaques (le travail du coeur) : 4 %. • Mouvements respiratoires (travail des muscles respiratoires) : 10 %. • Réaction de synthèse et dégradation de la vie cellulaire : sans arrêt les cellules meurent et se renouvellent : 70 %. • Tonus musculaire inconscient : 15 %. Le métabolisme de base moyen est de : • 1 500 Kcal pour un homme. • 1 200 Kcal pour une femme | N12: Les Dépenses Energétiques Journalières (DEJ), c'est la quantité d'énergie dépensée par un individu pour assurer : - Son activité musculaire. - Son métabolisme de base. - Le maintien de sa température interne corporelle.
D15: Pour les Hommes | K15: Métabolisme de base (kcal) =
B16: Taille, hauteur (m) | C16: 1.8 | E16: Poids = | F16: 78.5 | H16: Age = | I16: 54 | N16: =259*($F$16^0.48)*($C$16^0.5)*($I$16^-0.13)+C17 -> 1679.8181
C17: =IF(C16>2.5,"en mètre",) -> 0
A19: Calcul des DEJ : | F19: Niveau d'Activité Physique | I19: 1.8 | K19: DEJ = | N19: =N16*I19 -> 3023.6726
D22: Pour les Femmes | K22: Métabolisme de base (kcal) =
B23: Taille, hauteur (m) | C23: 1.7 | E23: Poids = | F23: 70 | H23: Age = | I23: 30 | N23: =230*($F$23^0.48)*($C$23^0.5)*($I$23^-0.13) -> 1481.0632
C24: =IF(C23>2.5,"en mètre",) -> 0
A26: Calcul des DEJ : | F26: Niveau d'Activité Physique | I26: 1.82 | K26: DEJ = | N26: =N23*I26 -> 2695.535

Sheet Morphotype sur Age et %graisse
A2: Ages | B2: Femme Ath. | C2: Femme Mince | J2: Femme Normale | P2: Femme Surpoids | W2: Femme Obèse
A3: 18~39 ans | B3: < 19% | C3: 19%~19,9% | D3: 20%~20,9% | E3: 21%~21,9% | F3: 22%~22,9% | G3: 23%~23,9% | H3: 24%~24,9% | I3: 25%~25,9% | J3: 26%~26,9% | K3: 27%~27,9% | L3: 28%~28,9% | M3: 29%~29,9% | N3: 30%~30,9% | O3: 31%~31,9% | P3: 32%~32,9% | Q3: 33%~33,9% | R3: 34%~34,9% | S3: 35%~35,9% | T3: 36%~36,9% | U3: 37%~37,9% | V3: 38%~38,9% | W3: > 39%
A4: 40~59 ans | B4: < 21% | C4: 21%~21,9% | D4: 22%~22,9% | E4: 23%~23,9% | F4: 24%~24,9% | G4: 25%~25,9% | H4: 26%~26,9% | I4: 27%~27,9% | J4: 28%~28,9% | K4: 29%~29,9% | L4: 30%~30,9% | M4: 31%~31,9% | N4: 32%~32,9% | O4: 33%~33,9% | P4: 34%~34,9% | Q4: 35%~35,9% | R4: 36%~36,9% | S4: 37%~37,9% | T4: 38%~38,9% | U4: 39%~39,9% | V4: 40%~40,9% | W4: > 41%
A5: 60~79 ans | B5: < 22% | C5: 22%~22,9% | D5: 23%~23,9% | E5: 24%~24,9% | F5: 25%~25,9% | G5: 26%~26,9% | H5: 27%~27,9% | I5: 28%~28,9% | J5: 29%~29,9% | K5: 30%~30,9% | L5: 31%~31,9% | M5: 32%~32,9% | N5: 33%~33,9% | O5: 34%~34,9% | P5: 35%~35,9% | Q5: 36%~36,9% | R5: 37%~37,9% | S5: 38%~38,9% | T5: 39%~39,9% | U5: 40%~40,9% | V5: 41%~41,9% | W5: > 42%
A6: Morphotype | B6: Athlète ou Ano. | C6: Presque Athlète | D6: Très très Mince | E6: Très Mince | F6: Mince | G6: Mince - | H6: Mince - - | I6: Mince - - - | J6: Presque Mince | K6: Normale + + | L6: Normale + | M6: Normale | N6: Normale - | O6: Normale - - | P6: Presque Normale | Q6: Surpoids - - | R6: Surpoids - | S6: Surpoids | T6: Surpoids + | U6: Surpoids + + | V6: Limite Obèse | W6: Obèse
A8: Ages | B8: Homme Ath. | C8: Homme Mince | I8: Homme Normal | O8: Homme Surpoids | U8: Homme Obèse
A9: 18~39 ans | B9: < 9% | C9: 9%~9,9% | D9: 10%~10,9% | E9: 11%~11,9% | F9: 12%~12,9% | G9: 13%~13,9% | H9: 14%~14,9% | I9: 15%~15,9% | J9: 16%~16,9% | K9: 17%~17,9% | L9: 18%~18,9% | M9: 19%~19,9% | N9: 20%~20,9% | O9: 21%~21,9% | P9: 22%~22,9% | Q9: 23%~23,9% | R9: 24%~24,9% | S9: 25%~25,9% | T9: 26%~26,9% | U9: > 27%
A10: 40~59 ans | B10: < 11% | C10: 11%~11,9% | D10: 12%~12,9% | E10: 13%~13,9% | F10: 14%~14,9% | G10: 15%~15,9% | H10: 16%~16,9% | I10: 17%~17,9% | J10: 18%~18,9% | K10: 19%~19,9% | L10: 20%~20,9% | M10: 21%~21,9% | N10: 22%~22,9% | O10: 33%~33,9% | P10: 34%~34,9% | Q10: 35%~35,9% | R10: 36%~36,9% | S10: 37%~37,9% | T10: 38%~38,9% | U10: > 29%
A11: 60~79 ans | B11: < 13% | C11: 13%~13,9% | D11: 14%~14,9% | E11: 15%~15,9% | F11: 16%~16,9% | G11: 17%~17,9% | H11: 18%~18,9% | I11: 19%~19,9% | J11: 20%~20,9% | K11: 21%~21,9% | L11: 22%~22,9% | M11: 23%~23,9% | N11: 24%~24,9% | O11: 34%~34,9% | P11: 35%~35,9% | Q11: 36%~36,9% | R11: 37%~37,9% | S11: 38%~38,9% | T11: 39%~39,9% | U11: > 31%
A12: Morphotype | B12: Athlète ou Ano. | C12: Presque Athlète | D12: Très très Mince | E12: Très Mince | F12: Mince | G12: Mince - | H12: Mince - - | I12: Presque Mince | J12: Normal + + | K12: Normal + | L12: Normal | M12: Normal - | N12: Normal - - | O12: Presque Normal | P12: Surpoids - - | Q12: Surpoids - | R12: Surpoids | S12: Surpoids + | T12: Limite Obèse | U12: Obèse

Sheet Valeurs sauvegardées
A1: Prénom | B1: Date | C1: % graisse | D1: Morphotype
