Workbook

Sheet tableau de bord
A1: Date | B1: Equipe | C1: Noms | D1: Activités | E1: Site | F1: Site | G1: Heures total | H1: Team Leader | I1: Chef d'equipe | J1: Location | K1: Taches | L1: Taches | M1: Taches
A2: 45139 | B2: 1 | C2: x | D2: Onshore | E2: 0.33333333 | F2: 0.66666667 | G2: =IF(D2="Onshore",F2-E2-"1:00",F2-E2) -> 0.29166667
A3: 45139 | B3: 1 | C3: xx | D3: Onshore | E3: 0.33333333 | F3: 0.6875 | G3: =IF(D3="Onshore",F3-E3-"1:00",F3-E3) -> 0.3125
A4: 45139 | B4: 2 | C4: xxx | D4: Onshore | E4: 0.33333333 | F4: 0.66666667 | G4: =IF(D4="Onshore",F4-E4-"1:00",F4-E4) -> 0.29166667
A5: 45139 | B5: 3 | C5: xxxx | D5: Onshore | E5: 0.33333333 | F5: 0.66666667 | G5: =IF(D5="Onshore",F5-E5-"1:00",F5-E5) -> 0.29166667
A6: 45139 | B6: 3 | C6: xxxxx | D6: Onshore | E6: 0.33333333 | F6: 0.66666667 | G6: =IF(D6="Onshore",F6-E6-"1:00",F6-E6) -> 0.29166667
A7: 45139 | B7: 3 | C7: xxxxxx | D7: Onshore | E7: 0.33333333 | F7: 0.66666667 | G7: =IF(D7="Onshore",F7-E7-"1:00",F7-E7) -> 0.29166667
A8: 45140 | B8: 1 | C8: x | D8: Onshore | E8: 0.33333333 | F8: 0.66666667 | G8: =IF(D8="Onshore",F8-E8-"1:00",F8-E8) -> 0.29166667
A9: 45140 | B9: 1 | C9: xx | D9: Onshore | E9: 0.33333333 | F9: 0.66666667 | G9: =IF(D9="Onshore",F9-E9-"1:00",F9-E9) -> 0.29166667
A10: 45140 | B10: 2 | C10: xxx | D10: Onshore | E10: 0.33333333 | F10: 0.66666667 | G10: =IF(D10="Onshore",F10-E10-"1:00",F10-E10) -> 0.29166667
A11: 45140 | B11: 3 | C11: xxxx | D11: Offshore | E11: 0.33333333 | F11: 0.66666667 | G11: =IF(D11="Onshore",F11-E11-"1:00",F11-E11) -> 0.33333333
A12: 45140 | B12: 3 | C12: xxxxx | D12: Onshore | E12: 0.33333333 | F12: 0.66666667 | G12: =IF(D12="Onshore",F12-E12-"1:00",F12-E12) -> 0.29166667
A13: 45140 | B13: 3 | C13: xxxxxx | D13: Onshore | E13: 0.33333333 | F13: 0.66666667 | G13: =IF(D13="Onshore",F13-E13-"1:00",F13-E13) -> 0.29166667
... A19: 45141 | B19: 3 | C19: xxxxxx | D19: Onshore | E19: 0.33333333 | F19: 0.66666667 | G19: =IF(D19="Onshore",F19-E19-"1:00",F19-E19) -> 0.29166667
A20: 45142
A21: 45143
A22: 45144
A23: 45145
A24: 45146
A25: 45147
A26: 45148
A27: 45149
A28: 45150
A29: 45151
A30: 45152
A31: 45153

Sheet heures
A1: Noms | B1: x | E1: xx | H1: xxx | K1: xxxx
B2: Activités | C2: infos | D2: heures | E2: Activités | F2: infos | G2: heures | H2: Activités | I2: infos | J2: heures | K2: Activités | L2: infos | M2: heures
A3: 45139 | B3: {=IFERROR(INDEX('tableau de bord'!$A$1:$M$31,MATCH(1,('tableau de bord'!$A$1:$A$31=$A3)*('tableau de bord'!$C$1:$C$31=$B$1),0),4),"")} -> Onshore | D3: {=IFERROR(INDEX('tableau de bord'!$A$1:$M$31,MATCH(1,('tableau de bord'!$A$1:$A$31=$A3)*('tableau de bord'!$C$1:$C$31=$B$1),0),7),"")} -> 0.29166667 | E3: {=IFERROR(INDEX('tableau de bord'!$A$1:$M$31,MATCH(1,('tableau de bord'!$A$1:$A$31=$A3)*('tableau de bord'!$C$1:$C$31=$E$1),0),4),"")} -> Onshore | G3: {=IFERROR(INDEX('tableau de bord'!$A$1:$M$31,MATCH(1,('tableau de bord'!$A$1:$A$31=$A3)*('tableau de bord'!$C$1:$C$31=$E$1),0),7),"")} -> 0.3125 | H3: {=IFERROR(INDEX('tableau de bord'!$A$1:$M$31,MATCH(1,('tableau de bord'!$A$1:$A$31=$A3)*('tableau de bord'!$C$1:$C$31=$H$1),0),4),"")} -> Onshore | J3: {=IFERROR(INDEX('tableau de bord'!$A$1:$M$31,MATCH(1,('tableau de bord'!$A$1:$A$31=$A3)*('tableau de bord'!$C$1:$C$31=$H$1),0),7),"")} -> 0.29166667 | K3: {=IFERROR(INDEX('tableau de bord'!$A$1:$M$31,MATCH(1,('tableau de bord'!$A$1:$A$31=$A3)*('tableau de bord'!$C$1:$C$31=$K$1),0),4),"")} -> Onshore | M3: {=IFERROR(INDEX('tableau de bord'!$A$1:$M$31,MATCH(1,('tableau de bord'!$A$1:$A$31=$A3)*('tableau de bord'!$C$1:$C$31=$K$1),0),7),"")} -> 0.29166667
A4: 45140 | B4: {=IFERROR(INDEX('tableau de bord'!$A$1:$M$31,MATCH(1,('tableau de bord'!$A$1:$A$31=$A4)*('tableau de bord'!$C$1:$C$31=$B$1),0),4),"")} -> Onshore | D4: {=IFERROR(INDEX('tableau de bord'!$A$1:$M$31,MATCH(1,('tableau de bord'!$A$1:$A$31=$A4)*('tableau de bord'!$C$1:$C$31=$B$1),0),7),"")} -> 0.29166667 | E4: {=IFERROR(INDEX('tableau de bord'!$A$1:$M$31,MATCH(1,('tableau de bord'!$A$1:$A$31=$A4)*('tableau de bord'!$C$1:$C$31=$E$1),0),4),"")} -> Onshore | G4: {=IFERROR(INDEX('tableau de bord'!$A$1:$M$31,MATCH(1,('tableau de bord'!$A$1:$A$31=$A4)*('tableau de bord'!$C$1:$C$31=$E$1),0),7),"")} -> 0.29166667 | H4: {=IFERROR(INDEX('tableau de bord'!$A$1:$M$31,MATCH(1,('tableau de bord'!$A$1:$A$31=$A4)*('tableau de bord'!$C$1:$C$31=$H$1),0),4),"")} -> Onshore | J4: {=IFERROR(INDEX('tableau de bord'!$A$1:$M$31,MATCH(1,('tableau de bord'!$A$1:$A$31=$A4)*('tableau de bord'!$C$1:$C$31=$H$1),0),7),"")} -> 0.29166667 | K4: {=IFERROR(INDEX('tableau de bord'!$A$1:$M$31,MATCH(1,('tableau de bord'!$A$1:$A$31=$A4)*('tableau de bord'!$C$1:$C$31=$K$1),0),4),"")} -> Offshore | M4: {=IFERROR(INDEX('tableau de bord'!$A$1:$M$31,MATCH(1,('tableau de bord'!$A$1:$A$31=$A4)*('tableau de bord'!$C$1:$C$31=$K$1),0),7),"")} -> 0.33333333
A5: 45141 | B5: {=IFERROR(INDEX('tableau de bord'!$A$1:$M$31,MATCH(1,('tableau de bord'!$A$1:$A$31=$A5)*('tableau de bord'!$C$1:$C$31=$B$1),0),4),"")} -> Onshore | D5: {=IFERROR(INDEX('tableau de bord'!$A$1:$M$31,MATCH(1,('tableau de bord'!$A$1:$A$31=$A5)*('tableau de bord'!$C$1:$C$31=$B$1),0),7),"")} -> 0.29166667 | E5: {=IFERROR(INDEX('tableau de bord'!$A$1:$M$31,MATCH(1,('tableau de bord'!$A$1:$A$31=$A5)*('tableau de bord'!$C$1:$C$31=$E$1),0),4),"")} -> Onshore | G5: {=IFERROR(INDEX('tableau de bord'!$A$1:$M$31,MATCH(1,('tableau de bord'!$A$1:$A$31=$A5)*('tableau de bord'!$C$1:$C$31=$E$1),0),7),"")} -> 0.29166667 | H5: {=IFERROR(INDEX('tableau de bord'!$A$1:$M$31,MATCH(1,('tableau de bord'!$A$1:$A$31=$A5)*('tableau de bord'!$C$1:$C$31=$H$1),0),4),"")} -> Onshore | J5: {=IFERROR(INDEX('tableau de bord'!$A$1:$M$31,MATCH(1,('tableau de bord'!$A$1:$A$31=$A5)*('tableau de bord'!$C$1:$C$31=$H$1),0),7),"")} -> 0.29166667 | K5: {=IFERROR(INDEX('tableau de bord'!$A$1:$M$31,MATCH(1,('tableau de bord'!$A$1:$A$31=$A5)*('tableau de bord'!$C$1:$C$31=$K$1),0),4),"")} -> Onshore | M5: {=IFERROR(INDEX('tableau de bord'!$A$1:$M$31,MATCH(1,('tableau de bord'!$A$1:$A$31=$A5)*('tableau de bord'!$C$1:$C$31=$K$1),0),7),"")} -> 0.29166667
A6: 45142 | B6: {=IFERROR(INDEX('tableau de bord'!$A$1:$M$31,MATCH(1,('tableau de bord'!$A$1:$A$31=$A6)*('tableau de bord'!$C$1:$C$31=$B$1),0),4),"")} | D6: {=IFERROR(INDEX('tableau de bord'!$A$1:$M$31,MATCH(1,('tableau de bord'!$A$1:$A$31=$A6)*('tableau de bord'!$C$1:$C$31=$B$1),0),7),"")} | E6: {=IFERROR(INDEX('tableau de bord'!$A$1:$M$31,MATCH(1,('tableau de bord'!$A$1:$A$31=$A6)*('tableau de bord'!$C$1:$C$31=$E$1),0),4),"")} | G6: {=IFERROR(INDEX('tableau de bord'!$A$1:$M$31,MATCH(1,('tableau de bord'!$A$1:$A$31=$A6)*('tableau de bord'!$C$1:$C$31=$E$1),0),7),"")} | H6: {=IFERROR(INDEX('tableau de bord'!$A$1:$M$31,MATCH(1,('tableau de bord'!$A$1:$A$31=$A6)*('tableau de bord'!$C$1:$C$31=$H$1),0),4),"")} | J6: {=IFERROR(INDEX('tableau de bord'!$A$1:$M$31,MATCH(1,('tableau de bord'!$A$1:$A$31=$A6)*('tableau de bord'!$C$1:$C$31=$H$1),0),7),"")} | K6: {=IFERROR(INDEX('tableau de bord'!$A$1:$M$31,MATCH(1,('tableau de bord'!$A$1:$A$31=$A6)*('tableau de bord'!$C$1:$C$31=$K$1),0),4),"")} | M6: {=IFERROR(INDEX('tableau de bord'!$A$1:$M$31,MATCH(1,('tableau de bord'!$A$1:$A$31=$A6)*('tableau de bord'!$C$1:$C$31=$K$1),0),7),"")}
A7: 45143 | B7: {=IFERROR(INDEX('tableau de bord'!$A$1:$M$31,MATCH(1,('tableau de bord'!$A$1:$A$31=$A7)*('tableau de bord'!$C$1:$C$31=$B$1),0),4),"")} | D7: {=IFERROR(INDEX('tableau de bord'!$A$1:$M$31,MATCH(1,('tableau de bord'!$A$1:$A$31=$A7)*('tableau de bord'!$C$1:$C$31=$B$1),0),7),"")} | E7: {=IFERROR(INDEX('tableau de bord'!$A$1:$M$31,MATCH(1,('tableau de bord'!$A$1:$A$31=$A7)*('tableau de bord'!$C$1:$C$31=$E$1),0),4),"")} | G7: {=IFERROR(INDEX('tableau de bord'!$A$1:$M$31,MATCH(1,('tableau de bord'!$A$1:$A$31=$A7)*('tableau de bord'!$C$1:$C$31=$E$1),0),7),"")} | H7: {=IFERROR(INDEX('tableau de bord'!$A$1:$M$31,MATCH(1,('tableau de bord'!$A$1:$A$31=$A7)*('tableau de bord'!$C$1:$C$31=$H$1),0),4),"")} | J7: {=IFERROR(INDEX('tableau de bord'!$A$1:$M$31,MATCH(1,('tableau de bord'!$A$1:$A$31=$A7)*('tableau de bord'!$C$1:$C$31=$H$1),0),7),"")} | K7: {=IFERROR(INDEX('tableau de bord'!$A$1:$M$31,MATCH(1,('tableau de bord'!$A$1:$A$31=$A7)*('tableau de bord'!$C$1:$C$31=$K$1),0),4),"")} | M7: {=IFERROR(INDEX('tableau de bord'!$A$1:$M$31,MATCH(1,('tableau de bord'!$A$1:$A$31=$A7)*('tableau de bord'!$C$1:$C$31=$K$1),0),7),"")}
A8: 45144 | B8: {=IFERROR(INDEX('tableau de bord'!$A$1:$M$31,MATCH(1,('tableau de bord'!$A$1:$A$31=$A8)*('tableau de bord'!$C$1:$C$31=$B$1),0),4),"")} | D8: {=IFERROR(INDEX('tableau de bord'!$A$1:$M$31,MATCH(1,('tableau de bord'!$A$1:$A$31=$A8)*('tableau de bord'!$C$1:$C$31=$B$1),0),7),"")} | E8: {=IFERROR(INDEX('tableau de bord'!$A$1:$M$31,MATCH(1,('tableau de bord'!$A$1:$A$31=$A8)*('tableau de bord'!$C$1:$C$31=$E$1),0),4),"")} | G8: {=IFERROR(INDEX('tableau de bord'!$A$1:$M$31,MATCH(1,('tableau de bord'!$A$1:$A$31=$A8)*('tableau de bord'!$C$1:$C$31=$E$1),0),7),"")} | H8: {=IFERROR(INDEX('tableau de bord'!$A$1:$M$31,MATCH(1,('tableau de bord'!$A$1:$A$31=$A8)*('tableau de bord'!$C$1:$C$31=$H$1),0),4),"")} | J8: {=IFERROR(INDEX('tableau de bord'!$A$1:$M$31,MATCH(1,('tableau de bord'!$A$1:$A$31=$A8)*('tableau de bord'!$C$1:$C$31=$H$1),0),7),"")} | K8: {=IFERROR(INDEX('tableau de bord'!$A$1:$M$31,MATCH(1,('tableau de bord'!$A$1:$A$31=$A8)*('tableau de bord'!$C$1:$C$31=$K$1),0),4),"")} | M8: {=IFERROR(INDEX('tableau de bord'!$A$1:$M$31,MATCH(1,('tableau de bord'!$A$1:$A$31=$A8)*('tableau de bord'!$C$1:$C$31=$K$1),0),7),"")}
A9: 45145 | B9: {=IFERROR(INDEX('tableau de bord'!$A$1:$M$31,MATCH(1,('tableau de bord'!$A$1:$A$31=$A9)*('tableau de bord'!$C$1:$C$31=$B$1),0),4),"")} | D9: {=IFERROR(INDEX('tableau de bord'!$A$1:$M$31,MATCH(1,('tableau de bord'!$A$1:$A$31=$A9)*('tableau de bord'!$C$1:$C$31=$B$1),0),7),"")} | E9: {=IFERROR(INDEX('tableau de bord'!$A$1:$M$31,MATCH(1,('tableau de bord'!$A$1:$A$31=$A9)*('tableau de bord'!$C$1:$C$31=$E$1),0),4),"")} | G9: {=IFERROR(INDEX('tableau de bord'!$A$1:$M$31,MATCH(1,('tableau de bord'!$A$1:$A$31=$A9)*('tableau de bord'!$C$1:$C$31=$E$1),0),7),"")} | H9: {=IFERROR(INDEX('tableau de bord'!$A$1:$M$31,MATCH(1,('tableau de bord'!$A$1:$A$31=$A9)*('tableau de bord'!$C$1:$C$31=$H$1),0),4),"")} | J9: {=IFERROR(INDEX('tableau de bord'!$A$1:$M$31,MATCH(1,('tableau de bord'!$A$1:$A$31=$A9)*('tableau de bord'!$C$1:$C$31=$H$1),0),7),"")} | K9: {=IFERROR(INDEX('tableau de bord'!$A$1:$M$31,MATCH(1,('tableau de bord'!$A$1:$A$31=$A9)*('tableau de bord'!$C$1:$C$31=$K$1),0),4),"")} | M9: {=IFERROR(INDEX('tableau de bord'!$A$1:$M$31,MATCH(1,('tableau de bord'!$A$1:$A$31=$A9)*('tableau de bord'!$C$1:$C$31=$K$1),0),7),"")}
A10: 45146 | B10: {=IFERROR(INDEX('tableau de bord'!$A$1:$M$31,MATCH(1,('tableau de bord'!$A$1:$A$31=$A10)*('tableau de bord'!$C$1:$C$31=$B$1),0),4),"")} | D10: {=IFERROR(INDEX('tableau de bord'!$A$1:$M$31,MATCH(1,('tableau de bord'!$A$1:$A$31=$A10)*('tableau de bord'!$C$1:$C$31=$B$1),0),7),"")} | E10: {=IFERROR(INDEX('tableau de bord'!$A$1:$M$31,MATCH(1,('tableau de bord'!$A$1:$A$31=$A10)*('tableau de bord'!$C$1:$C$31=$E$1),0),4),"")} | G10: {=IFERROR(INDEX('tableau de bord'!$A$1:$M$31,MATCH(1,('tableau de bord'!$A$1:$A$31=$A10)*('tableau de bord'!$C$1:$C$31=$E$1),0),7),"")} | H10: {=IFERROR(INDEX('tableau de bord'!$A$1:$M$31,MATCH(1,('tableau de bord'!$A$1:$A$31=$A10)*('tableau de bord'!$C$1:$C$31=$H$1),0),4),"")} | J10: {=IFERROR(INDEX('tableau de bord'!$A$1:$M$31,MATCH(1,('tableau de bord'!$A$1:$A$31=$A10)*('tableau de bord'!$C$1:$C$31=$H$1),0),7),"")} | K10: {=IFERROR(INDEX('tableau de bord'!$A$1:$M$31,MATCH(1,('tableau de bord'!$A$1:$A$31=$A10)*('tableau de bord'!$C$1:$C$31=$K$1),0),4),"")} | M10: {=IFERROR(INDEX('tableau de bord'!$A$1:$M$31,MATCH(1,('tableau de bord'!$A$1:$A$31=$A10)*('tableau de bord'!$C$1:$C$31=$K$1),0),7),"")}
A11: 45147 | B11: {=IFERROR(INDEX('tableau de bord'!$A$1:$M$31,MATCH(1,('tableau de bord'!$A$1:$A$31=$A11)*('tableau de bord'!$C$1:$C$31=$B$1),0),4),"")} | D11: {=IFERROR(INDEX('tableau de bord'!$A$1:$M$31,MATCH(1,('tableau de bord'!$A$1:$A$31=$A11)*('tableau de bord'!$C$1:$C$31=$B$1),0),7),"")} | E11: {=IFERROR(INDEX('tableau de bord'!$A$1:$M$31,MATCH(1,('tableau de bord'!$A$1:$A$31=$A11)*('tableau de bord'!$C$1:$C$31=$E$1),0),4),"")} | G11: {=IFERROR(INDEX('tableau de bord'!$A$1:$M$31,MATCH(1,('tableau de bord'!$A$1:$A$31=$A11)*('tableau de bord'!$C$1:$C$31=$E$1),0),7),"")} | H11: {=IFERROR(INDEX('tableau de bord'!$A$1:$M$31,MATCH(1,('tableau de bord'!$A$1:$A$31=$A11)*('tableau de bord'!$C$1:$C$31=$H$1),0),4),"")} | J11: {=IFERROR(INDEX('tableau de bord'!$A$1:$M$31,MATCH(1,('tableau de bord'!$A$1:$A$31=$A11)*('tableau de bord'!$C$1:$C$31=$H$1),0),7),"")} | K11: {=IFERROR(INDEX('tableau de bord'!$A$1:$M$31,MATCH(1,('tableau de bord'!$A$1:$A$31=$A11)*('tableau de bord'!$C$1:$C$31=$K$1),0),4),"")} | M11: {=IFERROR(INDEX('tableau de bord'!$A$1:$M$31,MATCH(1,('tableau de bord'!$A$1:$A$31=$A11)*('tableau de bord'!$C$1:$C$31=$K$1),0),7),"")}
A12: 45148 | B12: {=IFERROR(INDEX('tableau de bord'!$A$1:$M$31,MATCH(1,('tableau de bord'!$A$1:$A$31=$A12)*('tableau de bord'!$C$1:$C$31=$B$1),0),4),"")} | D12: {=IFERROR(INDEX('tableau de bord'!$A$1:$M$31,MATCH(1,('tableau de bord'!$A$1:$A$31=$A12)*('tableau de bord'!$C$1:$C$31=$B$1),0),7),"")} | E12: {=IFERROR(INDEX('tableau de bord'!$A$1:$M$31,MATCH(1,('tableau de bord'!$A$1:$A$31=$A12)*('tableau de bord'!$C$1:$C$31=$E$1),0),4),"")} | G12: {=IFERROR(INDEX('tableau de bord'!$A$1:$M$31,MATCH(1,('tableau de bord'!$A$1:$A$31=$A12)*('tableau de bord'!$C$1:$C$31=$E$1),0),7),"")} | H12: {=IFERROR(INDEX('tableau de bord'!$A$1:$M$31,MATCH(1,('tableau de bord'!$A$1:$A$31=$A12)*('tableau de bord'!$C$1:$C$31=$H$1),0),4),"")} | J12: {=IFERROR(INDEX('tableau de bord'!$A$1:$M$31,MATCH(1,('tableau de bord'!$A$1:$A$31=$A12)*('tableau de bord'!$C$1:$C$31=$H$1),0),7),"")} | K12: {=IFERROR(INDEX('tableau de bord'!$A$1:$M$31,MATCH(1,('tableau de bord'!$A$1:$A$31=$A12)*('tableau de bord'!$C$1:$C$31=$K$1),0),4),"")} | M12: {=IFERROR(INDEX('tableau de bord'!$A$1:$M$31,MATCH(1,('tableau de bord'!$A$1:$A$31=$A12)*('tableau de bord'!$C$1:$C$31=$K$1),0),7),"")}
A13: 45149 | B13: {=IFERROR(INDEX('tableau de bord'!$A$1:$M$31,MATCH(1,('tableau de bord'!$A$1:$A$31=$A13)*('tableau de bord'!$C$1:$C$31=$B$1),0),4),"")} | D13: {=IFERROR(INDEX('tableau de bord'!$A$1:$M$31,MATCH(1,('tableau de bord'!$A$1:$A$31=$A13)*('tableau de bord'!$C$1:$C$31=$B$1),0),7),"")} | E13: {=IFERROR(INDEX('tableau de bord'!$A$1:$M$31,MATCH(1,('tableau de bord'!$A$1:$A$31=$A13)*('tableau de bord'!$C$1:$C$31=$E$1),0),4),"")} | G13: {=IFERROR(INDEX('tableau de bord'!$A$1:$M$31,MATCH(1,('tableau de bord'!$A$1:$A$31=$A13)*('tableau de bord'!$C$1:$C$31=$E$1),0),7),"")} | H13: {=IFERROR(INDEX('tableau de bord'!$A$1:$M$31,MATCH(1,('tableau de bord'!$A$1:$A$31=$A13)*('tableau de bord'!$C$1:$C$31=$H$1),0),4),"")} | J13: {=IFERROR(INDEX('tableau de bord'!$A$1:$M$31,MATCH(1,('tableau de bord'!$A$1:$A$31=$A13)*('tableau de bord'!$C$1:$C$31=$H$1),0),7),"")} | K13: {=IFERROR(INDEX('tableau de bord'!$A$1:$M$31,MATCH(1,('tableau de bord'!$A$1:$A$31=$A13)*('tableau de bord'!$C$1:$C$31=$K$1),0),4),"")} | M13: {=IFERROR(INDEX('tableau de bord'!$A$1:$M$31,MATCH(1,('tableau de bord'!$A$1:$A$31=$A13)*('tableau de bord'!$C$1:$C$31=$K$1),0),7),"")}
A14: 45150 | B14: {=IFERROR(INDEX('tableau de bord'!$A$1:$M$31,MATCH(1,('tableau de bord'!$A$1:$A$31=$A14)*('tableau de bord'!$C$1:$C$31=$B$1),0),4),"")} | D14: {=IFERROR(INDEX('tableau de bord'!$A$1:$M$31,MATCH(1,('tableau de bord'!$A$1:$A$31=$A14)*('tableau de bord'!$C$1:$C$31=$B$1),0),7),"")} | E14: {=IFERROR(INDEX('tableau de bord'!$A$1:$M$31,MATCH(1,('tableau de bord'!$A$1:$A$31=$A14)*('tableau de bord'!$C$1:$C$31=$E$1),0),4),"")} | G14: {=IFERROR(INDEX('tableau de bord'!$A$1:$M$31,MATCH(1,('tableau de bord'!$A$1:$A$31=$A14)*('tableau de bord'!$C$1:$C$31=$E$1),0),7),"")} | H14: {=IFERROR(INDEX('tableau de bord'!$A$1:$M$31,MATCH(1,('tableau de bord'!$A$1:$A$31=$A14)*('tableau de bord'!$C$1:$C$31=$H$1),0),4),"")} | J14: {=IFERROR(INDEX('tableau de bord'!$A$1:$M$31,MATCH(1,('tableau de bord'!$A$1:$A$31=$A14)*('tableau de bord'!$C$1:$C$31=$H$1),0),7),"")} | K14: {=IFERROR(INDEX('tableau de bord'!$A$1:$M$31,MATCH(1,('tableau de bord'!$A$1:$A$31=$A14)*('tableau de bord'!$C$1:$C$31=$K$1),0),4),"")} | M14: {=IFERROR(INDEX('tableau de bord'!$A$1:$M$31,MATCH(1,('tableau de bord'!$A$1:$A$31=$A14)*('tableau de bord'!$C$1:$C$31=$K$1),0),7),"")}
... A20: 45156 | B20: {=IFERROR(INDEX('tableau de bord'!$A$1:$M$31,MATCH(1,('tableau de bord'!$A$1:$A$31=$A20)*('tableau de bord'!$C$1:$C$31=$B$1),0),4),"")} | D20: {=IFERROR(INDEX('tableau de bord'!$A$1:$M$31,MATCH(1,('tableau de bord'!$A$1:$A$31=$A20)*('tableau de bord'!$C$1:$C$31=$B$1),0),7),"")} | E20: {=IFERROR(INDEX('tableau de bord'!$A$1:$M$31,MATCH(1,('tableau de bord'!$A$1:$A$31=$A20)*('tableau de bord'!$C$1:$C$31=$E$1),0),4),"")} | G20: {=IFERROR(INDEX('tableau de bord'!$A$1:$M$31,MATCH(1,('tableau de bord'!$A$1:$A$31=$A20)*('tableau de bord'!$C$1:$C$31=$E$1),0),7),"")} | H20: {=IFERROR(INDEX('tableau de bord'!$A$1:$M$31,MATCH(1,('tableau de bord'!$A$1:$A$31=$A20)*('tableau de bord'!$C$1:$C$31=$H$1),0),4),"")} | J20: {=IFERROR(INDEX('tableau de bord'!$A$1:$M$31,MATCH(1,('tableau de bord'!$A$1:$A$31=$A20)*('tableau de bord'!$C$1:$C$31=$H$1),0),7),"")} | K20: {=IFERROR(INDEX('tableau de bord'!$A$1:$M$31,MATCH(1,('tableau de bord'!$A$1:$A$31=$A20)*('tableau de bord'!$C$1:$C$31=$K$1),0),4),"")} | M20: {=IFERROR(INDEX('tableau de bord'!$A$1:$M$31,MATCH(1,('tableau de bord'!$A$1:$A$31=$A20)*('tableau de bord'!$C$1:$C$31=$K$1),0),7),"")}
A22: Total | D22: =SUM(D$3:D$20) -> 0.875 | G22: =SUM(G$3:G$20) -> 0.89583333 | J22: =SUM(J$3:J$20) -> 0.875 | M22: =SUM(M$3:M$20) -> 0.91666667
