Workbook

Sheet Tps
D1: CAISSE1 | H1: Caisse2
D2: % Caisse1 | F2: Temps | H2: % Caisse2 | I2: Window Time moyen | J2: Window Midi | K2: Window Soir | L2: Tablette Midi | M2: Tablette Soir | N2: Record Transact° /30' Midi | O2: Record Transact° /30' Soir | P2: Temps de service moyen | Q2: Temps
A3: N° Sem | B3: date | C3: Magasins | E3: Temps de service moyen | F3: Service Midi | G3: Service Soir | Q3: Service Midi | R3: Service Soir
A4: 28 | B4: 45117 | C4: 1 | D4: 0.73012369 | E4: 05:45 | F4: 05:00 | G4: 04:31 | H4: 0.16126756 | I4: 03:21 | J4: 02:20 | K4: 02:57 | L4: 0.072072072 | M4: 0.035502959 | N4: 9 | O4: 14 | P4: 05:33 | Q4: 03:41 | R4: 05:32
C5: 2 | D5: 0.67660753 | E5: 06:35 | F5: 05:50 | G5: 06:01 | H5: 0.20491044 | I5: 01:00 | J5: 00:47 | K5: 00:49 | L5: 0.11049724 | M5: 0.38235294 | N5: 13 | O5: 15 | P5: 04:24 | Q5: 03:27 | R5: 04:34
C6: 3 | D6: 0.60193168 | E6: 06:58 | F6: 07:41 | G6: 04:24 | H6: 0.26334713 | I6: 01:45 | J6: 01:40 | K6: 01:18 | L6: 0.28052805 | M6: 0.85545024 | N6: 20 | O6: 24 | P6: 06:02 | Q6: 06:34 | R6: 04:33
C7: 4 | D7: 0.72018491 | E7: 05:42 | F7: 05:32 | G7: 05:05 | H7: 0.23808073 | I7: 01:24 | J7: 00:33 | K7: 01:02 | L7: 0.25925926 | M7: 0.68989547 | N7: 17 | O7: 30 | P7: 04:37 | Q7: 02:39 | R7: 05:43
C8: 5 | D8: 0.65969846 | E8: 07:14 | F8: 04:47 | G8: 07:42 | H8: 0.199718 | I8: 01:45 | J8: 00:47 | K8: 00:43 | L8: 0.28176796 | M8: 0.39631336 | N8: 14 | O8: 19 | P8: 05:56 | Q8: 02:24 | R8: 03:53
C9: 6 | D9: 0.62588516 | E9: 03:27 | F9: 02:41 | G9: 02:49 | H9: 0.22133138 | I9: 01:09 | J9: 00:36 | K9: 00:23 | L9: 0 | M9: 0 | N9: 19 | O9: 16 | P9: 03:23 | Q9: 02:10 | R9: 02:24
C10: 7 | D10: 0.68257946 | E10: 03:10 | F10: 02:41 | G10: 02:27 | H10: 0.21220989 | I10: 00:56 | J10: 00:28 | K10: 00:20 | L10: 0.27683616 | M10: 0.18859649 | N10: 16 | O10: 12 | P10: 02:57 | Q10: 02:12 | R10: 02:10
C11: 8 | D11: 0.57079703 | E11: 06:36 | F11: 06:33 | G11: 06:00 | H11: 0.28476835 | I11: 01:32 | J11: 01:08 | K11: 01:31 | L11: 0.21171171 | M11: 0.47761194 | N11: 15 | O11: 23 | P11: 05:46 | Q11: 04:29 | R11: 05:43
C12: 9 | D12: 0.63505188 | E12: 07:35 | F12: 09:00 | G12: 05:34 | H12: 0.29001441 | I12: 01:55 | J12: 01:26 | K12: 01:46 | L12: 0.16666667 | M12: 0.28753994 | N12: 30 | O12: 22 | P12: 06:46 | Q12: 07:26 | R12: 06:05
C13: 10 | D13: 0.58833667 | E13: 04:29 | F13: 04:02 | G13: 03:14 | H13: 0.13247423 | I13: 01:28 | J13: 01:29 | K13: 00:45 | L13: 0 | M13: 0 | N13: 12 | O13: 19 | P13: 04:40 | Q13: 04:28 | R13: 03:49
C14: 11 | D14: 0.69589512 | E14: 06:58 | F14: 05:07 | G14: 06:34 | H14: 0.18379892 | I14: 01:39 | J14: 01:07 | K14: 01:42 | L14: 0.37820513 | M14: 0.46938776 | N14: 16 | O14: 14 | P14: 06:37 | Q14: 03:47 | R14: 07:01
C15: 12 | D15: 0.68545936 | E15: 09:03 | F15: 08:32 | G15: 08:06 | H15: 0.19208992 | I15: 01:46 | J15: 01:14 | K15: 01:10 | L15: 0.42021277 | M15: 0.11525424 | N15: 15 | O15: 17 | P15: 05:46 | Q15: 03:54 | R15: 05:05
C16: 13 | D16: 0.70792048 | E16: 07:32 | F16: 06:44 | G16: 06:19 | H16: 0.17672271 | I16: 02:38 | J16: 01:22 | K16: 01:41 | L16: 0.50819672 | M16: 0.24 | N16: 8 | O16: 11 | P16: 09:05 | Q16: 06:10 | R16: 07:34
C17: 14 | D17: 0.60546163 | E17: 05:38 | F17: 04:44 | G17: 04:55 | H17: 0.28817365 | I17: 01:48 | J17: 01:13 | K17: 01:23 | L17: 0.1294964 | M17: 0.3434903 | N17: 24 | O17: 28 | P17: 05:32 | Q17: 03:29 | R17: 05:02
C18: Moy. | D18: 0.65636272 | E18: 06:19 | F18: 05:45 | G18: 05:25 | H18: 0.21537163 | I18: 01:40 | J18: 01:08 | K18: 01:13 | L18: 0.2092519 | M18: 0.36096568 | N18: 30 | O18: 30 | P18: 05:29 | Q18: 04:15 | R18: 04:50
A19: =A4+1 -> 29 | B19: =B4+7 -> 45124 | C19: 1 | D19: 0.74581508 | E19: 05:14 | F19: 04:09 | G19: 04:43 | H19: 0.15538033 | I19: 03:12 | J19: 02:03 | K19: 02:56 | L19: 0.077981651 | M19: 0.066901408 | N19: 11 | O19: 14 | P19: 05:29 | Q19: 03:50 | R19: 05:11
C20: 2 | D20: 0.6751077 | E20: 06:49 | F20: 05:40 | G20: 06:48 | H20: 0.21040954 | I20: 01:03 | J20: 00:45 | K20: 00:57 | L20: 0.19760479 | M20: 0.43632075 | N20: 13 | O20: 16 | P20: 04:49 | Q20: 03:11 | R20: 05:36
C21: 3 | D21: 0.59623704 | E21: 06:20 | F21: 06:26 | G21: 04:38 | H21: 0.25674158 | I21: 01:41 | J21: 01:25 | K21: 01:07 | L21: 0.41840278 | M21: 0.83866837 | N21: 20 | O21: 28 | P21: 05:55 | Q21: 06:30 | R21: 04:13
C22: 4 | D22: 0.73123327 | E22: 05:12 | F22: 05:13 | G22: 04:33 | H22: 0.22507931 | I22: 01:19 | J22: 00:40 | K22: 00:54 | L22: 0.34292566 | M22: 0.73358349 | N22: 20 | O22: 30 | P22: 04:16 | Q22: 02:42 | R22: 04:49
C23: 5 | D23: 0.66821458 | E23: 07:22 | F23: 04:55 | G23: 08:19 | H23: 0.1990018 | I23: 01:44 | J23: 00:57 | K23: 01:00 | L23: 0.34520548 | M23: 0.45866667 | N23: 21 | O23: 19 | P23: 06:12 | Q23: 02:49 | R23: 04:35
C24: 6 | D24: 0.63244042 | E24: 03:39 | F24: 02:43 | G24: 03:13 | H24: 0.21337272 | I24: 01:11 | J24: 00:40 | K24: 00:29 | L24: 0 | M24: 0 | N24: 19 | O24: 16 | P24: 03:34 | Q24: 02:23 | R24: 02:46
C25: 7 | D25: 0.68373641 | E25: 03:11 | F25: 02:40 | G25: 02:21 | H25: 0.21824298 | I25: 00:50 | J25: 00:26 | K25: 00:19 | L25: 0.37321937 | M25: 0.27616927 | N25: 17 | O25: 21 | P25: 02:55 | Q25: 01:57 | R25: 02:18
C26: 8 | D26: 0.57684216 | E26: 06:46 | F26: 05:41 | G26: 06:29 | H26: 0.28661791 | I26: 01:28 | J26: 01:06 | K26: 01:23 | L26: 0.1547619 | M26: 0.43715847 | N26: 15 | O26: 23 | P26: 05:57 | Q26: 03:52 | R26: 06:12
C27: 9 | D27: 0.64628392 | E27: 07:04 | F27: 07:24 | G27: 05:29 | H27: 0.27593294 | I27: 01:50 | J27: 01:19 | K27: 01:39 | L27: 0.12804878 | M27: 0.23623446 | N27: 30 | O27: 22 | P27: 06:20 | Q27: 06:07 | R27: 05:52
C28: 10 | D28: 0.58578103 | E28: 04:30 | F28: 03:56 | G28: 03:30 | H28: 0.13039036 | I28: 01:30 | J28: 01:32 | K28: 00:54 | L28: 0 | M28: 0 | N28: 12 | O28: 19 | P28: 04:42 | Q28: 04:17 | R28: 03:54
C29: 11 | D29: 0.69550837 | E29: 06:35 | F29: 04:41 | G29: 05:50 | H29: 0.1811785 | I29: 01:35 | J29: 01:11 | K29: 01:21 | L29: 0.3202847 | M29: 0.57317073 | N29: 16 | O29: 14 | P29: 06:23 | Q29: 03:57 | R29: 06:59
C30: 12 | D30: 0.69341937 | E30: 07:54 | F30: 06:55 | G30: 07:23 | H30: 0.19316981 | I30: 01:44 | J30: 01:16 | K30: 01:16 | L30: 0.45303867 | M30: 0.14035088 | N30: 15 | O30: 18 | P30: 05:44 | Q30: 04:18 | R30: 05:03
C31: 13 | D31: 0.71164992 | E31: 07:24 | F31: 06:44 | G31: 06:23 | H31: 0.17354798 | I31: 02:38 | J31: 01:50 | K31: 01:48 | L31: 0.54069767 | M31: 0.59009009 | N31: 14 | O31: 12 | P31: 08:07 | Q31: 05:31 | R31: 07:17
C32: 14 | D32: 0.61671634 | E32: 05:18 | F32: 04:36 | G32: 04:30 | H32: 0.27588993 | I32: 01:47 | J32: 01:13 | K32: 01:11 | L32: 0.17219917 | M32: 0.29178886 | N32: 24 | O32: 28 | P32: 05:23 | Q32: 03:41 | R32: 04:39
C33: National | D33: 0.6610176 | E33: 06:04 | F33: 05:14 | G33: 05:26 | H33: 0.21175899 | I33: 01:38 | J33: 01:08 | K33: 01:10 | L33: 0.24952126 | M33: 0.38087895 | N33: 30 | O33: 30 | P33: 05:24 | Q33: 04:05 | R33: 04:49
A34: =A19+1 -> 30 | B34: =B19+7 -> 45131 | C34: 1 | D34: 0.7510571 | E34: 05:20 | F34: 06:18 | G34: 03:55 | H34: 0.16412698 | I34: 03:06 | J34: 02:09 | K34: 02:43 | L34: 0.2238806 | M34: 0.054216867 | N34: 13 | O34: 12 | P34: 04:55 | Q34: 04:10 | R34: 04:58
C35: 2 | D35: 0.66427658 | E35: 06:05 | F35: 06:09 | G35: 06:09 | H35: 0.2289395 | I35: 01:00 | J35: 00:47 | K35: 00:44 | L35: 0.079545455 | M35: 0.57894737 | N35: 12 | O35: 18 | P35: 04:10 | Q35: 03:18 | R35: 04:14
C36: 3 | D36: 0.57412521 | E36: 07:18 | F36: 07:32 | G36: 06:25 | H36: 0.24900579 | I36: 01:48 | J36: 01:32 | K36: 01:23 | L36: 0.50320513 | M36: 0.82833787 | N36: 20 | O36: 20 | P36: 06:26 | Q36: 05:54 | R36: 05:15
C37: 4 | D37: 0.7433082 | E37: 04:39 | F37: 03:40 | G37: 04:19 | H37: 0.21127046 | I37: 01:09 | J37: 00:29 | K37: 00:46 | L37: 0.65656566 | M37: 0.66791045 | N37: 14 | O37: 23 | P37: 03:32 | Q37: 02:38 | R37: 03:36
C38: 5 | D38: 0.68341617 | E38: 07:11 | F38: 04:20 | G38: 08:11 | H38: 0.18925287 | I38: 01:23 | J38: 01:19 | K38: 00:58 | L38: 0.47089947 | M38: 0.44285714 | N38: 20 | O38: 16 | P38: 05:30 | Q38: 03:15 | R38: 03:48
C39: 6 | D39: 0.61381784 | E39: 03:26 | F39: 02:53 | G39: 02:57 | H39: 0.23964153 | I39: 00:58 | J39: 00:38 | K39: 00:24 | L39: 0 | M39: 0 | N39: 17 | O39: 17 | P39: 03:28 | Q39: 02:27 | R39: 02:27
C40: 7 | D40: 0.67209275 | E40: 03:11 | F40: 03:07 | G40: 02:17 | H40: 0.22744797 | I40: 00:48 | J40: 00:50 | K40: 00:20 | L40: 0.34054054 | M40: 0.24675325 | N40: 16 | O40: 14 | P40: 03:00 | Q40: 02:55 | R40: 02:08
C41: 8 | D41: 0.60162174 | E41: 08:37 | F41: 06:09 | G41: 10:29 | H41: 0.26685823 | I41: 01:31 | J41: 01:03 | K41: 01:06 | L41: 0.34482759 | M41: 0.45993031 | N41: 18 | O41: 21 | P41: 06:11 | Q41: 04:32 | R41: 06:31
C42: 9 | D42: 0.6644019 | E42: 08:22 | F42: 07:13 | G42: 07:27 | H42: 0.24599947 | I42: 01:56 | J42: 01:16 | K42: 01:59 | L42: 0.17096774 | M42: 0.41891892 | N42: 23 | O42: 22 | P42: 06:37 | Q42: 05:13 | R42: 07:31
C43: 10 | D43: 0.5905449 | E43: 04:16 | F43: 03:56 | G43: 03:12 | H43: 0.1396373 | I43: 01:40 | J43: 01:25 | K43: 01:01 | L43: 0 | M43: 0 | N43: 8 | O43: 17 | P43: 04:43 | Q43: 04:01 | R43: 04:05
C44: 11 | D44: 0.68215553 | E44: 07:29 | F44: 05:40 | G44: 07:17 | H44: 0.18830883 | I44: 01:49 | J44: 01:05 | K44: 00:57 | L44: 0.44242424 | M44: 0.44274809 | N44: 22 | O44: 11 | P44: 06:58 | Q44: 04:24 | R44: 06:57
C45: 12 | D45: 0.71453178 | E45: 07:02 | F45: 06:37 | G45: 05:42 | H45: 0.18118779 | I45: 01:38 | J45: 01:10 | K45: 01:05 | L45: 0.21428571 | M45: 0.19923372 | N45: 19 | O45: 18 | P45: 05:32 | Q45: 04:16 | R45: 04:37
C46: 13 | D46: 0.72501489 | E46: 06:43 | F46: 06:33 | H46: 0.16881364 | I46: 02:06 | J46: 01:46 | L46: 0.31034483 | N46: 12 | P46: 05:40 | Q46: 05:18
C47: 14 | D47: 0.63915268 | E47: 05:45 | F47: 04:38 | G47: 05:35 | H47: 0.25856026 | I47: 01:45 | J47: 01:09 | K47: 01:11 | L47: 0.14107884 | M47: 0.27510917 | N47: 15 | O47: 20 | P47: 05:39 | Q47: 03:45 | R47: 05:08
C48: National | D48: 0.6656563 | E48: 06:09 | F48: 05:15 | G48: 05:55 | H48: 0.20898004 | I48: 01:34 | J48: 01:08 | K48: 01:07 | L48: 0.28623853 | M48: 0.38508323 | N48: 23 | O48: 23 | P48: 05:14 | Q48: 04:03 | R48: 04:45
A49: =A34+1 -> 31 | B49: =B34+7 -> 45138 | C49: 1 | D49: 0.74581508 | E49: 05:14 | F49: 04:09 | G49: 04:43 | H49: 0.15538033 | I49: 03:12 | J49: 02:03 | K49: 02:56 | L49: 0.077981651 | M49: 0.066901408 | N49: 11 | O49: 14 | P49: 05:29 | Q49: 03:50 | R49: 05:11
C50: 2 | D50: 0.6751077 | E50: 06:49 | F50: 05:40 | G50: 06:48 | H50: 0.21040954 | I50: 01:03 | J50: 00:45 | K50: 00:57 | L50: 0.19760479 | M50: 0.43632075 | N50: 13 | O50: 16 | P50: 04:49 | Q50: 03:11 | R50: 05:36
C51: 3 | D51: 0.59623704 | E51: 06:20 | F51: 06:26 | G51: 04:38 | H51: 0.25674158 | I51: 01:41 | J51: 01:25 | K51: 01:07 | L51: 0.41840278 | M51: 0.83866837 | N51: 20 | O51: 28 | P51: 05:55 | Q51: 06:30 | R51: 04:13
C52: 4 | D52: 0.73123327 | E52: 05:12 | F52: 05:13 | G52: 04:33 | H52: 0.22507931 | I52: 01:19 | J52: 00:40 | K52: 00:54 | L52: 0.34292566 | M52: 0.73358349 | N52: 20 | O52: 30 | P52: 04:16 | Q52: 02:42 | R52: 04:49
C53: 5 | D53: 0.66821458 | E53: 07:22 | F53: 04:55 | G53: 08:19 | H53: 0.1990018 | I53: 01:44 | J53: 00:57 | K53: 01:00 | L53: 0.34520548 | M53: 0.45866667 | N53: 21 | O53: 19 | P53: 06:12 | Q53: 02:49 | R53: 04:35
C54: 6 | D54: 0.63244042 | E54: 03:39 | F54: 02:43 | G54: 03:13 | H54: 0.21337272 | I54: 01:11 | J54: 00:40 | K54: 00:29 | L54: 0 | M54: 0 | N54: 19 | O54: 16 | P54: 03:34 | Q54: 02:23 | R54: 02:46
C55: 7 | D55: 0.68373641 | E55: 03:11 | F55: 02:40 | G55: 02:21 | H55: 0.21824298 | I55: 00:50 | J55: 00:26 | K55: 00:19 | L55: 0.37321937 | M55: 0.27616927 | N55: 17 | O55: 21 | P55: 02:55 | Q55: 01:57 | R55: 02:18
C56: 8 | D56: 0.57684216 | E56: 06:46 | F56: 05:41 | G56: 06:29 | H56: 0.28661791 | I56: 01:28 | J56: 01:06 | K56: 01:23 | L56: 0.1547619 | M56: 0.43715847 | N56: 15 | O56: 23 | P56: 05:57 | Q56: 03:52 | R56: 06:12
C57: 9 | D57: 0.64628392 | E57: 07:04 | F57: 07:24 | G57: 05:29 | H57: 0.27593294 | I57: 01:50 | J57: 01:19 | K57: 01:39 | L57: 0.12804878 | M57: 0.23623446 | N57: 30 | O57: 22 | P57: 06:20 | Q57: 06:07 | R57: 05:52
C58: 10 | D58: 0.58578103 | E58: 04:30 | F58: 03:56 | G58: 03:30 | H58: 0.13039036 | I58: 01:30 | J58: 01:32 | K58: 00:54 | L58: 0 | M58: 0 | N58: 12 | O58: 19 | P58: 04:42 | Q58: 04:17 | R58: 03:54
C59: 11 | D59: 0.69550837 | E59: 06:35 | F59: 04:41 | G59: 05:50 | H59: 0.1811785 | I59: 01:35 | J59: 01:11 | K59: 01:21 | L59: 0.3202847 | M59: 0.57317073 | N59: 16 | O59: 14 | P59: 06:23 | Q59: 03:57 | R59: 06:59
C60: 12 | D60: 0.69341937 | E60: 07:54 | F60: 06:55 | G60: 07:23 | H60: 0.19316981 | I60: 01:44 | J60: 01:16 | K60: 01:16 | L60: 0.45303867 | M60: 0.14035088 | N60: 15 | O60: 18 | P60: 05:44 | Q60: 04:18 | R60: 05:03
C61: 13 | D61: 0.71164992 | E61: 07:24 | F61: 06:44 | G61: 06:23 | H61: 0.17354798 | I61: 02:38 | J61: 01:50 | K61: 01:48 | L61: 0.54069767 | M61: 0.59009009 | N61: 14 | O61: 12 | P61: 08:07 | Q61: 05:31 | R61: 07:17
C62: 14 | D62: 0.61671634 | E62: 05:18 | F62: 04:36 | G62: 04:30 | H62: 0.27588993 | I62: 01:47 | J62: 01:13 | K62: 01:11 | L62: 0.17219917 | M62: 0.29178886 | N62: 24 | O62: 28 | P62: 05:23 | Q62: 03:41 | R62: 04:39
C63: National | D63: 0.6656563 | E63: 06:09 | F63: 05:15 | G63: 05:55 | H63: 0.20898004 | I63: 01:34 | J63: 01:08 | K63: 01:07 | L63: 0.28623853 | M63: 0.38508323 | N63: 23 | O63: 23 | P63: 05:14 | Q63: 04:03 | R63: 04:45
A64: =A49+1 -> 32 | B64: =B49+7 -> 45145 | C64: 1 | D64: 0.73012369 | E64: 05:45 | F64: 05:00 | G64: 04:31 | H64: 0.16126756 | I64: 03:21 | J64: 02:20 | K64: 02:57 | L64: 0.072072072 | M64: 0.035502959 | N64: 9 | O64: 14 | P64: 05:33 | Q64: 03:41 | R64: 05:32
C65: 2 | D65: 0.67660753 | E65: 06:35 | F65: 05:50 | G65: 06:01 | H65: 0.20491044 | I65: 01:00 | J65: 00:47 | K65: 00:49 | L65: 0.11049724 | M65: 0.38235294 | N65: 13 | O65: 15 | P65: 04:24 | Q65: 03:27 | R65: 04:34
C66: 3 | D66: 0.60193168 | E66: 06:58 | F66: 07:41 | G66: 04:24 | H66: 0.26334713 | I66: 01:45 | J66: 01:40 | K66: 01:18 | L66: 0.28052805 | M66: 0.85545024 | N66: 20 | O66: 24 | P66: 06:02 | Q66: 06:34 | R66: 04:33
C67: 4 | D67: 0.72018491 | E67: 05:42 | F67: 05:32 | G67: 05:05 | H67: 0.23808073 | I67: 01:24 | J67: 00:33 | K67: 01:02 | L67: 0.25925926 | M67: 0.68989547 | N67: 17 | O67: 30 | P67: 04:37 | Q67: 02:39 | R67: 05:43
C68: 5 | D68: 0.65969846 | E68: 07:14 | F68: 04:47 | G68: 07:42 | H68: 0.199718 | I68: 01:45 | J68: 00:47 | K68: 00:43 | L68: 0.28176796 | M68: 0.39631336 | N68: 14 | O68: 19 | P68: 05:56 | Q68: 02:24 | R68: 03:53
C69: 6 | D69: 0.62588516 | E69: 03:27 | F69: 02:41 | G69: 02:49 | H69: 0.22133138 | I69: 01:09 | J69: 00:36 | K69: 00:23 | L69: 0 | M69: 0 | N69: 19 | O69: 16 | P69: 03:23 | Q69: 02:10 | R69: 02:24
C70: 7 | D70: 0.68257946 | E70: 03:10 | F70: 02:41 | G70: 02:27 | H70: 0.21220989 | I70: 00:56 | J70: 00:28 | K70: 00:20 | L70: 0.27683616 | M70: 0.18859649 | N70: 16 | O70: 12 | P70: 02:57 | Q70: 02:12 | R70: 02:10
C71: 8 | D71: 0.57079703 | E71: 06:36 | F71: 06:33 | G71: 06:00 | H71: 0.28476835 | I71: 01:32 | J71: 01:08 | K71: 01:31 | L71: 0.21171171 | M71: 0.47761194 | N71: 15 | O71: 23 | P71: 05:46 | Q71: 04:29 | R71: 05:43
C72: 9 | D72: 0.63505188 | E72: 07:35 | F72: 09:00 | G72: 05:34 | H72: 0.29001441 | I72: 01:55 | J72: 01:26 | K72: 01:46 | L72: 0.16666667 | M72: 0.28753994 | N72: 30 | O72: 22 | P72: 06:46 | Q72: 07:26 | R72: 06:05
C73: 10 | D73: 0.58833667 | E73: 04:29 | F73: 04:02 | G73: 03:14 | H73: 0.13247423 | I73: 01:28 | J73: 01:29 | K73: 00:45 | L73: 0 | M73: 0 | N73: 12 | O73: 19 | P73: 04:40 | Q73: 04:28 | R73: 03:49
C74: 11 | D74: 0.69589512 | E74: 06:58 | F74: 05:07 | G74: 06:34 | H74: 0.18379892 | I74: 01:39 | J74: 01:07 | K74: 01:42 | L74: 0.37820513 | M74: 0.46938776 | N74: 16 | O74: 14 | P74: 06:37 | Q74: 03:47 | R74: 07:01
C75: 12 | D75: 0.68545936 | E75: 09:03 | F75: 08:32 | G75: 08:06 | H75: 0.19208992 | I75: 01:46 | J75: 01:14 | K75: 01:10 | L75: 0.42021277 | M75: 0.11525424 | N75: 15 | O75: 17 | P75: 05:46 | Q75: 03:54 | R75: 05:05
C76: 13 | D76: 0.70792048 | E76: 07:32 | F76: 06:44 | G76: 06:19 | H76: 0.17672271 | I76: 02:38 | J76: 01:22 | K76: 01:41 | L76: 0.50819672 | M76: 0.24 | N76: 8 | O76: 11 | P76: 09:05 | Q76: 06:10 | R76: 07:34
C77: 14 | D77: 0.60546163 | E77: 05:38 | F77: 04:44 | G77: 04:55 | H77: 0.28817365 | I77: 01:48 | J77: 01:13 | K77: 01:23 | L77: 0.1294964 | M77: 0.3434903 | N77: 24 | O77: 28 | P77: 05:32 | Q77: 03:29 | R77: 05:02
C78: National | D78: 0.65636272 | E78: 06:19 | F78: 05:45 | G78: 05:25 | H78: 0.21537163 | I78: 01:40 | J78: 01:08 | K78: 01:13 | L78: 0.2092519 | M78: 0.36096568 | N78: 30 | O78: 30 | P78: 05:29 | Q78: 04:15 | R78: 04:50
A79: =A64+1 -> 33 | B79: =B64+7 -> 45152 | C79: 1 | D79: 0.74581508 | E79: 05:14 | F79: 04:09 | G79: 04:43 | H79: 0.15538033 | I79: 03:12 | J79: 02:03 | K79: 02:56 | L79: 0.077981651 | M79: 0.066901408 | N79: 11 | O79: 14 | P79: 05:29 | Q79: 03:50 | R79: 05:11
C80: 2 | D80: 0.6751077 | E80: 06:49 | F80: 05:40 | G80: 06:48 | H80: 0.21040954 | I80: 01:03 | J80: 00:45 | K80: 00:57 | L80: 0.19760479 | M80: 0.43632075 | N80: 13 | O80: 16 | P80: 04:49 | Q80: 03:11 | R80: 05:36
C81: 3 | D81: 0.59623704 | E81: 06:20 | F81: 06:26 | G81: 04:38 | H81: 0.25674158 | I81: 01:41 | J81: 01:25 | K81: 01:07 | L81: 0.41840278 | M81: 0.83866837 | N81: 20 | O81: 28 | P81: 05:55 | Q81: 06:30 | R81: 04:13
C82: 4 | D82: 0.73123327 | E82: 05:12 | F82: 05:13 | G82: 04:33 | H82: 0.22507931 | I82: 01:19 | J82: 00:40 | K82: 00:54 | L82: 0.34292566 | M82: 0.73358349 | N82: 20 | O82: 30 | P82: 04:16 | Q82: 02:42 | R82: 04:49
C83: 5 | D83: 0.66821458 | E83: 07:22 | F83: 04:55 | G83: 08:19 | H83: 0.1990018 | I83: 01:44 | J83: 00:57 | K83: 01:00 | L83: 0.34520548 | M83: 0.45866667 | N83: 21 | O83: 19 | P83: 06:12 | Q83: 02:49 | R83: 04:35
C84: 6 | D84: 0.63244042 | E84: 03:39 | F84: 02:43 | G84: 03:13 | H84: 0.21337272 | I84: 01:11 | J84: 00:40 | K84: 00:29 | L84: 0 | M84: 0 | N84: 19 | O84: 16 | P84: 03:34 | Q84: 02:23 | R84: 02:46
C85: 7 | D85: 0.68373641 | E85: 03:11 | F85: 02:40 | G85: 02:21 | H85: 0.21824298 | I85: 00:50 | J85: 00:26 | K85: 00:19 | L85: 0.37321937 | M85: 0.27616927 | N85: 17 | O85: 21 | P85: 02:55 | Q85: 01:57 | R85: 02:18
C86: 8 | D86: 0.57684216 | E86: 06:46 | F86: 05:41 | G86: 06:29 | H86: 0.28661791 | I86: 01:28 | J86: 01:06 | K86: 01:23 | L86: 0.1547619 | M86: 0.43715847 | N86: 15 | O86: 23 | P86: 05:57 | Q86: 03:52 | R86: 06:12
C87: 9 | D87: 0.64628392 | E87: 07:04 | F87: 07:24 | G87: 05:29 | H87: 0.27593294 | I87: 01:50 | J87: 01:19 | K87: 01:39 | L87: 0.12804878 | M87: 0.23623446 | N87: 30 | O87: 22 | P87: 06:20 | Q87: 06:07 | R87: 05:52
C88: 10 | D88: 0.58578103 | E88: 04:30 | F88: 03:56 | G88: 03:30 | H88: 0.13039036 | I88: 01:30 | J88: 01:32 | K88: 00:54 | L88: 0 | M88: 0 | N88: 12 | O88: 19 | P88: 04:42 | Q88: 04:17 | R88: 03:54
C89: 11 | D89: 0.69550837 | E89: 06:35 | F89: 04:41 | G89: 05:50 | H89: 0.1811785 | I89: 01:35 | J89: 01:11 | K89: 01:21 | L89: 0.3202847 | M89: 0.57317073 | N89: 16 | O89: 14 | P89: 06:23 | Q89: 03:57 | R89: 06:59
C90: 12 | D90: 0.69341937 | E90: 07:54 | F90: 06:55 | G90: 07:23 | H90: 0.19316981 | I90: 01:44 | J90: 01:16 | K90: 01:16 | L90: 0.45303867 | M90: 0.14035088 | N90: 15 | O90: 18 | P90: 05:44 | Q90: 04:18 | R90: 05:03
C91: 13 | D91: 0.71164992 | E91: 07:24 | F91: 06:44 | G91: 06:23 | H91: 0.17354798 | I91: 02:38 | J91: 01:50 | K91: 01:48 | L91: 0.54069767 | M91: 0.59009009 | N91: 14 | O91: 12 | P91: 08:07 | Q91: 05:31 | R91: 07:17
C92: 14 | D92: 0.61671634 | E92: 05:18 | F92: 04:36 | G92: 04:30 | H92: 0.27588993 | I92: 01:47 | J92: 01:13 | K92: 01:11 | L92: 0.17219917 | M92: 0.29178886 | N92: 24 | O92: 28 | P92: 05:23 | Q92: 03:41 | R92: 04:39
C93: National | D93: 0.6610176 | E93: 06:04 | F93: 05:14 | G93: 05:26 | H93: 0.21175899 | I93: 01:38 | J93: 01:08 | K93: 01:10 | L93: 0.24952126 | M93: 0.38087895 | N93: 30 | O93: 30 | P93: 05:24 | Q93: 04:05 | R93: 04:49
A94: =A79+1 -> 34 | B94: =B79+7 -> 45159 | C94: 1
C95: 2
C96: 3
C97: 4
C98: 5
C99: 6
C100: 7
...

Sheet TpsMoyen
A1: Caisse1 moyenne | B1: 28 | C1: =B1+1 -> 29 | D1: =C1+1 -> 30 | E1: =D1+1 -> 31 | F1: =E1+1 -> 32 | G1: =F1+1 -> 33 | H1: =G1+1 -> 34
A2: 1 | B2: =TIMEVALUE("00:"&Tps!E4) -> 0.0039930556 | C2: =TIMEVALUE("00:"&Tps!E19) -> 0.0036342593 | D2: =TIMEVALUE("00:"&Tps!E34) -> 0.0037037037 | E2: =TIMEVALUE("00:"&Tps!E49) -> 0.0036342593 | F2: =TIMEVALUE("00:"&Tps!E64) -> 0.0039930556 | G2: =TIMEVALUE("00:"&Tps!E79) -> 0.0036342593 | H2: =TIMEVALUE("00:"&Tps!E94) -> 0
A3: 2 | B3: =TIMEVALUE("00:"&Tps!E5) -> 0.0045717593 | C3: =TIMEVALUE("00:"&Tps!E20) -> 0.0047337963 | D3: =TIMEVALUE("00:"&Tps!E35) -> 0.004224537 | E3: =TIMEVALUE("00:"&Tps!E50) -> 0.0047337963 | F3: =TIMEVALUE("00:"&Tps!E65) -> 0.0045717593 | G3: =TIMEVALUE("00:"&Tps!E80) -> 0.0047337963 | H3: =TIMEVALUE("00:"&Tps!E95) -> 0
A4: 3 | B4: =TIMEVALUE("00:"&Tps!E6) -> 0.004837963 | C4: =TIMEVALUE("00:"&Tps!E21) -> 0.0043981481 | D4: =TIMEVALUE("00:"&Tps!E36) -> 0.0050694444 | E4: =TIMEVALUE("00:"&Tps!E51) -> 0.0043981481 | F4: =TIMEVALUE("00:"&Tps!E66) -> 0.004837963 | G4: =TIMEVALUE("00:"&Tps!E81) -> 0.0043981481 | H4: =TIMEVALUE("00:"&Tps!E96) -> 0
A5: 4 | B5: =TIMEVALUE("00:"&Tps!E7) -> 0.0039583333 | C5: =TIMEVALUE("00:"&Tps!E22) -> 0.0036111111 | D5: =TIMEVALUE("00:"&Tps!E37) -> 0.0032291667 | E5: =TIMEVALUE("00:"&Tps!E52) -> 0.0036111111 | F5: =TIMEVALUE("00:"&Tps!E67) -> 0.0039583333 | G5: =TIMEVALUE("00:"&Tps!E82) -> 0.0036111111 | H5: =TIMEVALUE("00:"&Tps!E97) -> 0
A6: 5 | B6: =TIMEVALUE("00:"&Tps!E8) -> 0.0050231481 | C6: =TIMEVALUE("00:"&Tps!E23) -> 0.0051157407 | D6: =TIMEVALUE("00:"&Tps!E38) -> 0.0049884259 | E6: =TIMEVALUE("00:"&Tps!E53) -> 0.0051157407 | F6: =TIMEVALUE("00:"&Tps!E68) -> 0.0050231481 | G6: =TIMEVALUE("00:"&Tps!E83) -> 0.0051157407 | H6: =TIMEVALUE("00:"&Tps!E98) -> 0
A7: 6 | B7: =TIMEVALUE("00:"&Tps!E9) -> 0.0023958333 | C7: =TIMEVALUE("00:"&Tps!E24) -> 0.0025347222 | D7: =TIMEVALUE("00:"&Tps!E39) -> 0.0023842593 | E7: =TIMEVALUE("00:"&Tps!E54) -> 0.0025347222 | F7: =TIMEVALUE("00:"&Tps!E69) -> 0.0023958333 | G7: =TIMEVALUE("00:"&Tps!E84) -> 0.0025347222 | H7: =TIMEVALUE("00:"&Tps!E99) -> 0
A8: 7 | B8: =TIMEVALUE("00:"&Tps!E10) -> 0.0021990741 | C8: =TIMEVALUE("00:"&Tps!E25) -> 0.0022106481 | D8: =TIMEVALUE("00:"&Tps!E40) -> 0.0022106481 | E8: =TIMEVALUE("00:"&Tps!E55) -> 0.0022106481 | F8: =TIMEVALUE("00:"&Tps!E70) -> 0.0021990741 | G8: =TIMEVALUE("00:"&Tps!E85) -> 0.0022106481 | H8: =TIMEVALUE("00:"&Tps!E100) -> 0
A9: 8 | B9: =TIMEVALUE("00:"&Tps!E11) -> 0.0045833333 | C9: =TIMEVALUE("00:"&Tps!E26) -> 0.0046990741 | D9: =TIMEVALUE("00:"&Tps!E41) -> 0.0059837963 | E9: =TIMEVALUE("00:"&Tps!E56) -> 0.0046990741 | F9: =TIMEVALUE("00:"&Tps!E71) -> 0.0045833333 | G9: =TIMEVALUE("00:"&Tps!E86) -> 0.0046990741 | H9: =TIMEVALUE("00:"&Tps!E101) -> 0
A10: 9 | B10: =TIMEVALUE("00:"&Tps!E12) -> 0.0052662037 | C10: =TIMEVALUE("00:"&Tps!E27) -> 0.0049074074 | D10: =TIMEVALUE("00:"&Tps!E42) -> 0.0058101852 | E10: =TIMEVALUE("00:"&Tps!E57) -> 0.0049074074 | F10: =TIMEVALUE("00:"&Tps!E72) -> 0.0052662037 | G10: =TIMEVALUE("00:"&Tps!E87) -> 0.0049074074 | H10: =TIMEVALUE("00:"&Tps!E102) -> 0
A11: 10 | B11: =TIMEVALUE("00:"&Tps!E13) -> 0.0031134259 | C11: =TIMEVALUE("00:"&Tps!E28) -> 0.003125 | D11: =TIMEVALUE("00:"&Tps!E43) -> 0.002962963 | E11: =TIMEVALUE("00:"&Tps!E58) -> 0.003125 | F11: =TIMEVALUE("00:"&Tps!E73) -> 0.0031134259 | G11: =TIMEVALUE("00:"&Tps!E88) -> 0.003125 | H11: =TIMEVALUE("00:"&Tps!E103) -> 0
A12: 11 | B12: =TIMEVALUE("00:"&Tps!E14) -> 0.004837963 | C12: =TIMEVALUE("00:"&Tps!E29) -> 0.0045717593 | D12: =TIMEVALUE("00:"&Tps!E44) -> 0.0051967593 | E12: =TIMEVALUE("00:"&Tps!E59) -> 0.0045717593 | F12: =TIMEVALUE("00:"&Tps!E74) -> 0.004837963 | G12: =TIMEVALUE("00:"&Tps!E89) -> 0.0045717593 | H12: =TIMEVALUE("00:"&Tps!E104) -> 0
A13: 12 | B13: =TIMEVALUE("00:"&Tps!E15) -> 0.0062847222 | C13: =TIMEVALUE("00:"&Tps!E30) -> 0.0054861111 | D13: =TIMEVALUE("00:"&Tps!E45) -> 0.0048842593 | E13: =TIMEVALUE("00:"&Tps!E60) -> 0.0054861111 | F13: =TIMEVALUE("00:"&Tps!E75) -> 0.0062847222 | G13: =TIMEVALUE("00:"&Tps!E90) -> 0.0054861111 | H13: =TIMEVALUE("00:"&Tps!E105) -> 0
... A15: 14 | B15: =TIMEVALUE("00:"&Tps!E17) -> 0.003912037 | C15: =TIMEVALUE("00:"&Tps!E32) -> 0.0036805556 | D15: =TIMEVALUE("00:"&Tps!E47) -> 0.0039930556 | E15: =TIMEVALUE("00:"&Tps!E62) -> 0.0036805556 | F15: =TIMEVALUE("00:"&Tps!E77) -> 0.003912037 | G15: =TIMEVALUE("00:"&Tps!E92) -> 0.0036805556 | H15: =TIMEVALUE("00:"&Tps!E107) -> 0
A16: National | B16: =TIMEVALUE("00:"&Tps!E18) -> 0.0043865741 | C16: =TIMEVALUE("00:"&Tps!E33) -> 0.004212963 | D16: =TIMEVALUE("00:"&Tps!E48) -> 0.0042708333 | E16: =TIMEVALUE("00:"&Tps!E63) -> 0.0042708333 | F16: =TIMEVALUE("00:"&Tps!E78) -> 0.0043865741 | G16: =TIMEVALUE("00:"&Tps!E93) -> 0.004212963 | H16: =TIMEVALUE("00:"&Tps!E108) -> 0
A17: Caisse2 moyenne | B17: 28 | C17: =B17+1 -> 29 | D17: =C17+1 -> 30 | E17: =D17+1 -> 31 | F17: =E17+1 -> 32 | G17: =F17+1 -> 33 | H17: =G17+1 -> 34
A18: 1 | B18: =TIMEVALUE("00:"&Tps!P4) -> 0.0038541667 | C18: =TIMEVALUE("00:"&Tps!P19) -> 0.0038078704 | D18: =TIMEVALUE("00:"&Tps!P34) -> 0.0034143519 | E18: =TIMEVALUE("00:"&Tps!P49) -> 0.0038078704 | F18: =TIMEVALUE("00:"&Tps!P64) -> 0.0038541667 | G18: =TIMEVALUE("00:"&Tps!P79) -> 0.0038078704 | H18: =TIMEVALUE("00:"&Tps!P94) -> 0
A19: 2 | B19: =TIMEVALUE("00:"&Tps!P5) -> 0.0030555556 | C19: =TIMEVALUE("00:"&Tps!P20) -> 0.0033449074 | D19: =TIMEVALUE("00:"&Tps!P35) -> 0.0028935185 | E19: =TIMEVALUE("00:"&Tps!P50) -> 0.0033449074 | F19: =TIMEVALUE("00:"&Tps!P65) -> 0.0030555556 | G19: =TIMEVALUE("00:"&Tps!P80) -> 0.0033449074 | H19: =TIMEVALUE("00:"&Tps!P95) -> 0
A20: 3 | B20: =TIMEVALUE("00:"&Tps!P6) -> 0.0041898148 | C20: =TIMEVALUE("00:"&Tps!P21) -> 0.0041087963 | D20: =TIMEVALUE("00:"&Tps!P36) -> 0.0044675926 | E20: =TIMEVALUE("00:"&Tps!P51) -> 0.0041087963 | F20: =TIMEVALUE("00:"&Tps!P66) -> 0.0041898148 | G20: =TIMEVALUE("00:"&Tps!P81) -> 0.0041087963 | H20: =TIMEVALUE("00:"&Tps!P96) -> 0
A21: 4 | B21: =TIMEVALUE("00:"&Tps!P7) -> 0.0032060185 | C21: =TIMEVALUE("00:"&Tps!P22) -> 0.002962963 | D21: =TIMEVALUE("00:"&Tps!P37) -> 0.0024537037 | E21: =TIMEVALUE("00:"&Tps!P52) -> 0.002962963 | F21: =TIMEVALUE("00:"&Tps!P67) -> 0.0032060185 | G21: =TIMEVALUE("00:"&Tps!P82) -> 0.002962963 | H21: =TIMEVALUE("00:"&Tps!P97) -> 0
A22: 5 | B22: =TIMEVALUE("00:"&Tps!P8) -> 0.0041203704 | C22: =TIMEVALUE("00:"&Tps!P23) -> 0.0043055556 | D22: =TIMEVALUE("00:"&Tps!P38) -> 0.0038194444 | E22: =TIMEVALUE("00:"&Tps!P53) -> 0.0043055556 | F22: =TIMEVALUE("00:"&Tps!P68) -> 0.0041203704 | G22: =TIMEVALUE("00:"&Tps!P83) -> 0.0043055556 | H22: =TIMEVALUE("00:"&Tps!P98) -> 0
A23: 6 | B23: =TIMEVALUE("00:"&Tps!P9) -> 0.002349537 | C23: =TIMEVALUE("00:"&Tps!P24) -> 0.0024768519 | D23: =TIMEVALUE("00:"&Tps!P39) -> 0.0024074074 | E23: =TIMEVALUE("00:"&Tps!P54) -> 0.0024768519 | F23: =TIMEVALUE("00:"&Tps!P69) -> 0.002349537 | G23: =TIMEVALUE("00:"&Tps!P84) -> 0.0024768519 | H23: =TIMEVALUE("00:"&Tps!P99) -> 0
A24: 7 | B24: =TIMEVALUE("00:"&Tps!P10) -> 0.0020486111 | C24: =TIMEVALUE("00:"&Tps!P25) -> 0.002025463 | D24: =TIMEVALUE("00:"&Tps!P40) -> 0.0020833333 | E24: =TIMEVALUE("00:"&Tps!P55) -> 0.002025463 | F24: =TIMEVALUE("00:"&Tps!P70) -> 0.0020486111 | G24: =TIMEVALUE("00:"&Tps!P85) -> 0.002025463 | H24: =TIMEVALUE("00:"&Tps!P100) -> 0
A25: 8 | B25: =TIMEVALUE("00:"&Tps!P11) -> 0.0040046296 | C25: =TIMEVALUE("00:"&Tps!P26) -> 0.0041319444 | D25: =TIMEVALUE("00:"&Tps!P41) -> 0.0042939815 | E25: =TIMEVALUE("00:"&Tps!P56) -> 0.0041319444 | F25: =TIMEVALUE("00:"&Tps!P71) -> 0.0040046296 | G25: =TIMEVALUE("00:"&Tps!P86) -> 0.0041319444 | H25: =TIMEVALUE("00:"&Tps!P101) -> 0
A26: 9 | B26: =TIMEVALUE("00:"&Tps!P12) -> 0.0046990741 | C26: =TIMEVALUE("00:"&Tps!P27) -> 0.0043981481 | D26: =TIMEVALUE("00:"&Tps!P42) -> 0.0045949074 | E26: =TIMEVALUE("00:"&Tps!P57) -> 0.0043981481 | F26: =TIMEVALUE("00:"&Tps!P72) -> 0.0046990741 | G26: =TIMEVALUE("00:"&Tps!P87) -> 0.0043981481 | H26: =TIMEVALUE("00:"&Tps!P102) -> 0
A27: 10 | B27: =TIMEVALUE("00:"&Tps!P13) -> 0.0032407407 | C27: =TIMEVALUE("00:"&Tps!P28) -> 0.0032638889 | D27: =TIMEVALUE("00:"&Tps!P43) -> 0.003275463 | E27: =TIMEVALUE("00:"&Tps!P58) -> 0.0032638889 | F27: =TIMEVALUE("00:"&Tps!P73) -> 0.0032407407 | G27: =TIMEVALUE("00:"&Tps!P88) -> 0.0032638889 | H27: =TIMEVALUE("00:"&Tps!P103) -> 0
A28: 11 | B28: =TIMEVALUE("00:"&Tps!P14) -> 0.0045949074 | C28: =TIMEVALUE("00:"&Tps!P29) -> 0.0044328704 | D28: =TIMEVALUE("00:"&Tps!P44) -> 0.004837963 | E28: =TIMEVALUE("00:"&Tps!P59) -> 0.0044328704 | F28: =TIMEVALUE("00:"&Tps!P74) -> 0.0045949074 | G28: =TIMEVALUE("00:"&Tps!P89) -> 0.0044328704 | H28: =TIMEVALUE("00:"&Tps!P104) -> 0
A29: 12 | B29: =TIMEVALUE("00:"&Tps!P15) -> 0.0040046296 | C29: =TIMEVALUE("00:"&Tps!P30) -> 0.0039814815 | D29: =TIMEVALUE("00:"&Tps!P45) -> 0.0038425926 | E29: =TIMEVALUE("00:"&Tps!P60) -> 0.0039814815 | F29: =TIMEVALUE("00:"&Tps!P75) -> 0.0040046296 | G29: =TIMEVALUE("00:"&Tps!P90) -> 0.0039814815 | H29: =TIMEVALUE("00:"&Tps!P105) -> 0
... A31: 14 | B31: =TIMEVALUE("00:"&Tps!P17) -> 0.0038425926 | C31: =TIMEVALUE("00:"&Tps!P32) -> 0.0037384259 | D31: =TIMEVALUE("00:"&Tps!P47) -> 0.0039236111 | E31: =TIMEVALUE("00:"&Tps!P62) -> 0.0037384259 | F31: =TIMEVALUE("00:"&Tps!P77) -> 0.0038425926 | G31: =TIMEVALUE("00:"&Tps!P92) -> 0.0037384259 | H31: =TIMEVALUE("00:"&Tps!P107) -> 0
A32: National | B32: =TIMEVALUE("00:"&Tps!P18) -> 0.0038078704 | C32: =TIMEVALUE("00:"&Tps!P33) -> 0.00375 | D32: =TIMEVALUE("00:"&Tps!P48) -> 0.0036342593 | E32: =TIMEVALUE("00:"&Tps!P63) -> 0.0036342593 | F32: =TIMEVALUE("00:"&Tps!P78) -> 0.0038078704 | G32: =TIMEVALUE("00:"&Tps!P93) -> 0.00375 | H32: =TIMEVALUE("00:"&Tps!P108) -> 0

Sheet Caisse1
A1: Caisse1 midi | B1: 28 | C1: =B1+1 -> 29 | D1: =C1+1 -> 30 | E1: =D1+1 -> 31 | F1: =E1+1 -> 32 | G1: =F1+1 -> 33 | H1: =G1+1 -> 34
A2: 1 | B2: =TIMEVALUE("00:"&Tps!F4) -> 0.0034722222 | C2: =TIMEVALUE("00:"&Tps!F19) -> 0.0028819444 | D2: =TIMEVALUE("00:"&Tps!F34) -> 0.004375 | E2: =TIMEVALUE("00:"&Tps!F49) -> 0.0028819444 | F2: =TIMEVALUE("00:"&Tps!F64) -> 0.0034722222 | G2: =TIMEVALUE("00:"&Tps!F79) -> 0.0028819444 | H2: =TIMEVALUE("00:"&Tps!F94) -> 0
A3: 2 | B3: =TIMEVALUE("00:"&Tps!F5) -> 0.0040509259 | C3: =TIMEVALUE("00:"&Tps!F20) -> 0.0039351852 | D3: =TIMEVALUE("00:"&Tps!F35) -> 0.0042708333 | E3: =TIMEVALUE("00:"&Tps!F50) -> 0.0039351852 | F3: =TIMEVALUE("00:"&Tps!F65) -> 0.0040509259 | G3: =TIMEVALUE("00:"&Tps!F80) -> 0.0039351852 | H3: =TIMEVALUE("00:"&Tps!F95) -> 0
A4: 3 | B4: =TIMEVALUE("00:"&Tps!F6) -> 0.0053356481 | C4: =TIMEVALUE("00:"&Tps!F21) -> 0.0044675926 | D4: =TIMEVALUE("00:"&Tps!F36) -> 0.0052314815 | E4: =TIMEVALUE("00:"&Tps!F51) -> 0.0044675926 | F4: =TIMEVALUE("00:"&Tps!F66) -> 0.0053356481 | G4: =TIMEVALUE("00:"&Tps!F81) -> 0.0044675926 | H4: =TIMEVALUE("00:"&Tps!F96) -> 0
A5: 4 | B5: =TIMEVALUE("00:"&Tps!F7) -> 0.0038425926 | C5: =TIMEVALUE("00:"&Tps!F22) -> 0.0036226852 | D5: =TIMEVALUE("00:"&Tps!F37) -> 0.0025462963 | E5: =TIMEVALUE("00:"&Tps!F52) -> 0.0036226852 | F5: =TIMEVALUE("00:"&Tps!F67) -> 0.0038425926 | G5: =TIMEVALUE("00:"&Tps!F82) -> 0.0036226852 | H5: =TIMEVALUE("00:"&Tps!F97) -> 0
A6: 5 | B6: =TIMEVALUE("00:"&Tps!F8) -> 0.0033217593 | C6: =TIMEVALUE("00:"&Tps!F23) -> 0.0034143519 | D6: =TIMEVALUE("00:"&Tps!F38) -> 0.0030092593 | E6: =TIMEVALUE("00:"&Tps!F53) -> 0.0034143519 | F6: =TIMEVALUE("00:"&Tps!F68) -> 0.0033217593 | G6: =TIMEVALUE("00:"&Tps!F83) -> 0.0034143519 | H6: =TIMEVALUE("00:"&Tps!F98) -> 0
A7: 6 | B7: =TIMEVALUE("00:"&Tps!F9) -> 0.0018634259 | C7: =TIMEVALUE("00:"&Tps!F24) -> 0.0018865741 | D7: =TIMEVALUE("00:"&Tps!F39) -> 0.0020023148 | E7: =TIMEVALUE("00:"&Tps!F54) -> 0.0018865741 | F7: =TIMEVALUE("00:"&Tps!F69) -> 0.0018634259 | G7: =TIMEVALUE("00:"&Tps!F84) -> 0.0018865741 | H7: =TIMEVALUE("00:"&Tps!F99) -> 0
A8: 7 | B8: =TIMEVALUE("00:"&Tps!F10) -> 0.0018634259 | C8: =TIMEVALUE("00:"&Tps!F25) -> 0.0018518519 | D8: =TIMEVALUE("00:"&Tps!F40) -> 0.0021643519 | E8: =TIMEVALUE("00:"&Tps!F55) -> 0.0018518519 | F8: =TIMEVALUE("00:"&Tps!F70) -> 0.0018634259 | G8: =TIMEVALUE("00:"&Tps!F85) -> 0.0018518519 | H8: =TIMEVALUE("00:"&Tps!F100) -> 0
A9: 8 | B9: =TIMEVALUE("00:"&Tps!F11) -> 0.0045486111 | C9: =TIMEVALUE("00:"&Tps!F26) -> 0.0039467593 | D9: =TIMEVALUE("00:"&Tps!F41) -> 0.0042708333 | E9: =TIMEVALUE("00:"&Tps!F56) -> 0.0039467593 | F9: =TIMEVALUE("00:"&Tps!F71) -> 0.0045486111 | G9: =TIMEVALUE("00:"&Tps!F86) -> 0.0039467593 | H9: =TIMEVALUE("00:"&Tps!F101) -> 0
A10: 9 | B10: =TIMEVALUE("00:"&Tps!F12) -> 0.00625 | C10: =TIMEVALUE("00:"&Tps!F27) -> 0.0051388889 | D10: =TIMEVALUE("00:"&Tps!F42) -> 0.0050115741 | E10: =TIMEVALUE("00:"&Tps!F57) -> 0.0051388889 | F10: =TIMEVALUE("00:"&Tps!F72) -> 0.00625 | G10: =TIMEVALUE("00:"&Tps!F87) -> 0.0051388889 | H10: =TIMEVALUE("00:"&Tps!F102) -> 0
A11: 10 | B11: =TIMEVALUE("00:"&Tps!F13) -> 0.0028009259 | C11: =TIMEVALUE("00:"&Tps!F28) -> 0.0027314815 | D11: =TIMEVALUE("00:"&Tps!F43) -> 0.0027314815 | E11: =TIMEVALUE("00:"&Tps!F58) -> 0.0027314815 | F11: =TIMEVALUE("00:"&Tps!F73) -> 0.0028009259 | G11: =TIMEVALUE("00:"&Tps!F88) -> 0.0027314815 | H11: =TIMEVALUE("00:"&Tps!F103) -> 0
A12: 11 | B12: =TIMEVALUE("00:"&Tps!F14) -> 0.0035532407 | C12: =TIMEVALUE("00:"&Tps!F29) -> 0.0032523148 | D12: =TIMEVALUE("00:"&Tps!F44) -> 0.0039351852 | E12: =TIMEVALUE("00:"&Tps!F59) -> 0.0032523148 | F12: =TIMEVALUE("00:"&Tps!F74) -> 0.0035532407 | G12: =TIMEVALUE("00:"&Tps!F89) -> 0.0032523148 | H12: =TIMEVALUE("00:"&Tps!F104) -> 0
A13: 12 | B13: =TIMEVALUE("00:"&Tps!F15) -> 0.0059259259 | C13: =TIMEVALUE("00:"&Tps!F30) -> 0.0048032407 | D13: =TIMEVALUE("00:"&Tps!F45) -> 0.0045949074 | E13: =TIMEVALUE("00:"&Tps!F60) -> 0.0048032407 | F13: =TIMEVALUE("00:"&Tps!F75) -> 0.0059259259 | G13: =TIMEVALUE("00:"&Tps!F90) -> 0.0048032407 | H13: =TIMEVALUE("00:"&Tps!F105) -> 0
... A15: 14 | B15: =TIMEVALUE("00:"&Tps!F17) -> 0.003287037 | C15: =TIMEVALUE("00:"&Tps!F32) -> 0.0031944444 | D15: =TIMEVALUE("00:"&Tps!F47) -> 0.0032175926 | E15: =TIMEVALUE("00:"&Tps!F62) -> 0.0031944444 | F15: =TIMEVALUE("00:"&Tps!F77) -> 0.003287037 | G15: =TIMEVALUE("00:"&Tps!F92) -> 0.0031944444 | H15: =TIMEVALUE("00:"&Tps!F107) -> 0
A16: National | B16: =TIMEVALUE("00:"&Tps!F18) -> 0.0039930556 | C16: =TIMEVALUE("00:"&Tps!F33) -> 0.0036342593 | D16: =TIMEVALUE("00:"&Tps!F48) -> 0.0036458333 | E16: =TIMEVALUE("00:"&Tps!F63) -> 0.0036458333 | F16: =TIMEVALUE("00:"&Tps!F78) -> 0.0039930556 | G16: =TIMEVALUE("00:"&Tps!F93) -> 0.0036342593 | H16: =TIMEVALUE("00:"&Tps!F108) -> 0
A17: Caisse1 soir | B17: 28 | C17: =B17+1 -> 29 | D17: =C17+1 -> 30 | E17: =D17+1 -> 31 | F17: =E17+1 -> 32 | G17: =F17+1 -> 33 | H17: =G17+1 -> 34
A18: 1 | B18: =TIMEVALUE("00:"&Tps!G4) -> 0.0031365741 | C18: =TIMEVALUE("00:"&Tps!G19) -> 0.003275463 | D18: =TIMEVALUE("00:"&Tps!G34) -> 0.0027199074 | E18: =TIMEVALUE("00:"&Tps!G49) -> 0.003275463 | F18: =TIMEVALUE("00:"&Tps!G64) -> 0.0031365741 | G18: =TIMEVALUE("00:"&Tps!G79) -> 0.003275463 | H18: =TIMEVALUE("00:"&Tps!G94) -> 0
A19: 2 | B19: =TIMEVALUE("00:"&Tps!G5) -> 0.0041782407 | C19: =TIMEVALUE("00:"&Tps!G20) -> 0.0047222222 | D19: =TIMEVALUE("00:"&Tps!G35) -> 0.0042708333 | E19: =TIMEVALUE("00:"&Tps!G50) -> 0.0047222222 | F19: =TIMEVALUE("00:"&Tps!G65) -> 0.0041782407 | G19: =TIMEVALUE("00:"&Tps!G80) -> 0.0047222222 | H19: =TIMEVALUE("00:"&Tps!G95) -> 0
A20: 3 | B20: =TIMEVALUE("00:"&Tps!G6) -> 0.0030555556 | C20: =TIMEVALUE("00:"&Tps!G21) -> 0.0032175926 | D20: =TIMEVALUE("00:"&Tps!G36) -> 0.0044560185 | E20: =TIMEVALUE("00:"&Tps!G51) -> 0.0032175926 | F20: =TIMEVALUE("00:"&Tps!G66) -> 0.0030555556 | G20: =TIMEVALUE("00:"&Tps!G81) -> 0.0032175926 | H20: =TIMEVALUE("00:"&Tps!G96) -> 0
A21: 4 | B21: =TIMEVALUE("00:"&Tps!G7) -> 0.0035300926 | C21: =TIMEVALUE("00:"&Tps!G22) -> 0.0031597222 | D21: =TIMEVALUE("00:"&Tps!G37) -> 0.0029976852 | E21: =TIMEVALUE("00:"&Tps!G52) -> 0.0031597222 | F21: =TIMEVALUE("00:"&Tps!G67) -> 0.0035300926 | G21: =TIMEVALUE("00:"&Tps!G82) -> 0.0031597222 | H21: =TIMEVALUE("00:"&Tps!G97) -> 0
A22: 5 | B22: =TIMEVALUE("00:"&Tps!G8) -> 0.0053472222 | C22: =TIMEVALUE("00:"&Tps!G23) -> 0.005775463 | D22: =TIMEVALUE("00:"&Tps!G38) -> 0.0056828704 | E22: =TIMEVALUE("00:"&Tps!G53) -> 0.005775463 | F22: =TIMEVALUE("00:"&Tps!G68) -> 0.0053472222 | G22: =TIMEVALUE("00:"&Tps!G83) -> 0.005775463 | H22: =TIMEVALUE("00:"&Tps!G98) -> 0
A23: 6 | B23: =TIMEVALUE("00:"&Tps!G9) -> 0.0019560185 | C23: =TIMEVALUE("00:"&Tps!G24) -> 0.0022337963 | D23: =TIMEVALUE("00:"&Tps!G39) -> 0.0020486111 | E23: =TIMEVALUE("00:"&Tps!G54) -> 0.0022337963 | F23: =TIMEVALUE("00:"&Tps!G69) -> 0.0019560185 | G23: =TIMEVALUE("00:"&Tps!G84) -> 0.0022337963 | H23: =TIMEVALUE("00:"&Tps!G99) -> 0
A24: 7 | B24: =TIMEVALUE("00:"&Tps!G10) -> 0.0017013889 | C24: =TIMEVALUE("00:"&Tps!G25) -> 0.0016319444 | D24: =TIMEVALUE("00:"&Tps!G40) -> 0.0015856481 | E24: =TIMEVALUE("00:"&Tps!G55) -> 0.0016319444 | F24: =TIMEVALUE("00:"&Tps!G70) -> 0.0017013889 | G24: =TIMEVALUE("00:"&Tps!G85) -> 0.0016319444 | H24: =TIMEVALUE("00:"&Tps!G100) -> 0
A25: 8 | B25: =TIMEVALUE("00:"&Tps!G11) -> 0.0041666667 | C25: =TIMEVALUE("00:"&Tps!G26) -> 0.0045023148 | D25: =TIMEVALUE("00:"&Tps!G41) -> 0.0072800926 | E25: =TIMEVALUE("00:"&Tps!G56) -> 0.0045023148 | F25: =TIMEVALUE("00:"&Tps!G71) -> 0.0041666667 | G25: =TIMEVALUE("00:"&Tps!G86) -> 0.0045023148 | H25: =TIMEVALUE("00:"&Tps!G101) -> 0
A26: 9 | B26: =TIMEVALUE("00:"&Tps!G12) -> 0.0038657407 | C26: =TIMEVALUE("00:"&Tps!G27) -> 0.0038078704 | D26: =TIMEVALUE("00:"&Tps!G42) -> 0.0051736111 | E26: =TIMEVALUE("00:"&Tps!G57) -> 0.0038078704 | F26: =TIMEVALUE("00:"&Tps!G72) -> 0.0038657407 | G26: =TIMEVALUE("00:"&Tps!G87) -> 0.0038078704 | H26: =TIMEVALUE("00:"&Tps!G102) -> 0
A27: 10 | B27: =TIMEVALUE("00:"&Tps!G13) -> 0.0022453704 | C27: =TIMEVALUE("00:"&Tps!G28) -> 0.0024305556 | D27: =TIMEVALUE("00:"&Tps!G43) -> 0.0022222222 | E27: =TIMEVALUE("00:"&Tps!G58) -> 0.0024305556 | F27: =TIMEVALUE("00:"&Tps!G73) -> 0.0022453704 | G27: =TIMEVALUE("00:"&Tps!G88) -> 0.0024305556 | H27: =TIMEVALUE("00:"&Tps!G103) -> 0
A28: 11 | B28: =TIMEVALUE("00:"&Tps!G14) -> 0.0045601852 | C28: =TIMEVALUE("00:"&Tps!G29) -> 0.0040509259 | D28: =TIMEVALUE("00:"&Tps!G44) -> 0.0050578704 | E28: =TIMEVALUE("00:"&Tps!G59) -> 0.0040509259 | F28: =TIMEVALUE("00:"&Tps!G74) -> 0.0045601852 | G28: =TIMEVALUE("00:"&Tps!G89) -> 0.0040509259 | H28: =TIMEVALUE("00:"&Tps!G104) -> 0
A29: 12 | B29: =TIMEVALUE("00:"&Tps!G15) -> 0.005625 | C29: =TIMEVALUE("00:"&Tps!G30) -> 0.0051273148 | D29: =TIMEVALUE("00:"&Tps!G45) -> 0.0039583333 | E29: =TIMEVALUE("00:"&Tps!G60) -> 0.0051273148 | F29: =TIMEVALUE("00:"&Tps!G75) -> 0.005625 | G29: =TIMEVALUE("00:"&Tps!G90) -> 0.0051273148 | H29: =TIMEVALUE("00:"&Tps!G105) -> 0
... A31: 14 | B31: =TIMEVALUE("00:"&Tps!G17) -> 0.0034143519 | C31: =TIMEVALUE("00:"&Tps!G32) -> 0.003125 | D31: =TIMEVALUE("00:"&Tps!G47) -> 0.0038773148 | E31: =TIMEVALUE("00:"&Tps!G62) -> 0.003125 | F31: =TIMEVALUE("00:"&Tps!G77) -> 0.0034143519 | G31: =TIMEVALUE("00:"&Tps!G92) -> 0.003125 | H31: =TIMEVALUE("00:"&Tps!G107) -> 0
A32: National | B32: =TIMEVALUE("00:"&Tps!G18) -> 0.0037615741 | C32: =TIMEVALUE("00:"&Tps!G33) -> 0.0037731481 | D32: =TIMEVALUE("00:"&Tps!G48) -> 0.0041087963 | E32: =TIMEVALUE("00:"&Tps!G63) -> 0.0041087963 | F32: =TIMEVALUE("00:"&Tps!G78) -> 0.0037615741 | G32: =TIMEVALUE("00:"&Tps!G93) -> 0.0037731481 | H32: =TIMEVALUE("00:"&Tps!G108) -> 0

Sheet Caisse2
A1: Caisse2 midi | B1: 28 | C1: =B1+1 -> 29 | D1: =C1+1 -> 30 | E1: =D1+1 -> 31 | F1: =E1+1 -> 32 | G1: =F1+1 -> 33 | H1: =G1+1 -> 34
A2: 1 | B2: =TIMEVALUE("00:"&Tps!Q4) -> 0.0025578704 | C2: =TIMEVALUE("00:"&Tps!Q19) -> 0.002662037 | D2: =TIMEVALUE("00:"&Tps!Q34) -> 0.0028935185 | E2: =TIMEVALUE("00:"&Tps!Q49) -> 0.002662037 | F2: =TIMEVALUE("00:"&Tps!Q64) -> 0.0025578704 | G2: =TIMEVALUE("00:"&Tps!Q79) -> 0.002662037 | H2: =TIMEVALUE("00:"&Tps!Q94) -> 0
A3: 2 | B3: =TIMEVALUE("00:"&Tps!Q5) -> 0.0023958333 | C3: =TIMEVALUE("00:"&Tps!Q20) -> 0.0022106481 | D3: =TIMEVALUE("00:"&Tps!Q35) -> 0.0022916667 | E3: =TIMEVALUE("00:"&Tps!Q50) -> 0.0022106481 | F3: =TIMEVALUE("00:"&Tps!Q65) -> 0.0023958333 | G3: =TIMEVALUE("00:"&Tps!Q80) -> 0.0022106481 | H3: =TIMEVALUE("00:"&Tps!Q95) -> 0
A4: 3 | B4: =TIMEVALUE("00:"&Tps!Q6) -> 0.0045601852 | C4: =TIMEVALUE("00:"&Tps!Q21) -> 0.0045138889 | D4: =TIMEVALUE("00:"&Tps!Q36) -> 0.0040972222 | E4: =TIMEVALUE("00:"&Tps!Q51) -> 0.0045138889 | F4: =TIMEVALUE("00:"&Tps!Q66) -> 0.0045601852 | G4: =TIMEVALUE("00:"&Tps!Q81) -> 0.0045138889 | H4: =TIMEVALUE("00:"&Tps!Q96) -> 0
A5: 4 | B5: =TIMEVALUE("00:"&Tps!Q7) -> 0.0018402778 | C5: =TIMEVALUE("00:"&Tps!Q22) -> 0.001875 | D5: =TIMEVALUE("00:"&Tps!Q37) -> 0.0018287037 | E5: =TIMEVALUE("00:"&Tps!Q52) -> 0.001875 | F5: =TIMEVALUE("00:"&Tps!Q67) -> 0.0018402778 | G5: =TIMEVALUE("00:"&Tps!Q82) -> 0.001875 | H5: =TIMEVALUE("00:"&Tps!Q97) -> 0
A6: 5 | B6: =TIMEVALUE("00:"&Tps!Q8) -> 0.0016666667 | C6: =TIMEVALUE("00:"&Tps!Q23) -> 0.0019560185 | D6: =TIMEVALUE("00:"&Tps!Q38) -> 0.0022569444 | E6: =TIMEVALUE("00:"&Tps!Q53) -> 0.0019560185 | F6: =TIMEVALUE("00:"&Tps!Q68) -> 0.0016666667 | G6: =TIMEVALUE("00:"&Tps!Q83) -> 0.0019560185 | H6: =TIMEVALUE("00:"&Tps!Q98) -> 0
A7: 6 | B7: =TIMEVALUE("00:"&Tps!Q9) -> 0.0015046296 | C7: =TIMEVALUE("00:"&Tps!Q24) -> 0.0016550926 | D7: =TIMEVALUE("00:"&Tps!Q39) -> 0.0017013889 | E7: =TIMEVALUE("00:"&Tps!Q54) -> 0.0016550926 | F7: =TIMEVALUE("00:"&Tps!Q69) -> 0.0015046296 | G7: =TIMEVALUE("00:"&Tps!Q84) -> 0.0016550926 | H7: =TIMEVALUE("00:"&Tps!Q99) -> 0
A8: 7 | B8: =TIMEVALUE("00:"&Tps!Q10) -> 0.0015277778 | C8: =TIMEVALUE("00:"&Tps!Q25) -> 0.0013541667 | D8: =TIMEVALUE("00:"&Tps!Q40) -> 0.002025463 | E8: =TIMEVALUE("00:"&Tps!Q55) -> 0.0013541667 | F8: =TIMEVALUE("00:"&Tps!Q70) -> 0.0015277778 | G8: =TIMEVALUE("00:"&Tps!Q85) -> 0.0013541667 | H8: =TIMEVALUE("00:"&Tps!Q100) -> 0
A9: 8 | B9: =TIMEVALUE("00:"&Tps!Q11) -> 0.0031134259 | C9: =TIMEVALUE("00:"&Tps!Q26) -> 0.0026851852 | D9: =TIMEVALUE("00:"&Tps!Q41) -> 0.0031481481 | E9: =TIMEVALUE("00:"&Tps!Q56) -> 0.0026851852 | F9: =TIMEVALUE("00:"&Tps!Q71) -> 0.0031134259 | G9: =TIMEVALUE("00:"&Tps!Q86) -> 0.0026851852 | H9: =TIMEVALUE("00:"&Tps!Q101) -> 0
A10: 9 | B10: =TIMEVALUE("00:"&Tps!Q12) -> 0.005162037 | C10: =TIMEVALUE("00:"&Tps!Q27) -> 0.0042476852 | D10: =TIMEVALUE("00:"&Tps!Q42) -> 0.0036226852 | E10: =TIMEVALUE("00:"&Tps!Q57) -> 0.0042476852 | F10: =TIMEVALUE("00:"&Tps!Q72) -> 0.005162037 | G10: =TIMEVALUE("00:"&Tps!Q87) -> 0.0042476852 | H10: =TIMEVALUE("00:"&Tps!Q102) -> 0
A11: 10 | B11: =TIMEVALUE("00:"&Tps!Q13) -> 0.0031018519 | C11: =TIMEVALUE("00:"&Tps!Q28) -> 0.002974537 | D11: =TIMEVALUE("00:"&Tps!Q43) -> 0.0027893519 | E11: =TIMEVALUE("00:"&Tps!Q58) -> 0.002974537 | F11: =TIMEVALUE("00:"&Tps!Q73) -> 0.0031018519 | G11: =TIMEVALUE("00:"&Tps!Q88) -> 0.002974537 | H11: =TIMEVALUE("00:"&Tps!Q103) -> 0
A12: 11 | B12: =TIMEVALUE("00:"&Tps!Q14) -> 0.0026273148 | C12: =TIMEVALUE("00:"&Tps!Q29) -> 0.0027430556 | D12: =TIMEVALUE("00:"&Tps!Q44) -> 0.0030555556 | E12: =TIMEVALUE("00:"&Tps!Q59) -> 0.0027430556 | F12: =TIMEVALUE("00:"&Tps!Q74) -> 0.0026273148 | G12: =TIMEVALUE("00:"&Tps!Q89) -> 0.0027430556 | H12: =TIMEVALUE("00:"&Tps!Q104) -> 0
A13: 12 | B13: =TIMEVALUE("00:"&Tps!Q15) -> 0.0027083333 | C13: =TIMEVALUE("00:"&Tps!Q30) -> 0.0029861111 | D13: =TIMEVALUE("00:"&Tps!Q45) -> 0.002962963 | E13: =TIMEVALUE("00:"&Tps!Q60) -> 0.0029861111 | F13: =TIMEVALUE("00:"&Tps!Q75) -> 0.0027083333 | G13: =TIMEVALUE("00:"&Tps!Q90) -> 0.0029861111 | H13: =TIMEVALUE("00:"&Tps!Q105) -> 0
... A15: 14 | B15: =TIMEVALUE("00:"&Tps!Q17) -> 0.0024189815 | C15: =TIMEVALUE("00:"&Tps!Q32) -> 0.0025578704 | D15: =TIMEVALUE("00:"&Tps!Q47) -> 0.0026041667 | E15: =TIMEVALUE("00:"&Tps!Q62) -> 0.0025578704 | F15: =TIMEVALUE("00:"&Tps!Q77) -> 0.0024189815 | G15: =TIMEVALUE("00:"&Tps!Q92) -> 0.0025578704 | H15: =TIMEVALUE("00:"&Tps!Q107) -> 0
A16: National | B16: =TIMEVALUE("00:"&Tps!Q18) -> 0.0029513889 | C16: =TIMEVALUE("00:"&Tps!Q33) -> 0.0028356481 | D16: =TIMEVALUE("00:"&Tps!Q48) -> 0.0028125 | E16: =TIMEVALUE("00:"&Tps!Q63) -> 0.0028125 | F16: =TIMEVALUE("00:"&Tps!Q78) -> 0.0029513889 | G16: =TIMEVALUE("00:"&Tps!Q93) -> 0.0028356481 | H16: =TIMEVALUE("00:"&Tps!Q108) -> 0
A17: Caisse2 soir | B17: 28 | C17: =B17+1 -> 29 | D17: =C17+1 -> 30 | E17: =D17+1 -> 31 | F17: =E17+1 -> 32 | G17: =F17+1 -> 33 | H17: =G17+1 -> 34
A18: 1 | B18: =TIMEVALUE("00:"&Tps!R4) -> 0.0038425926 | C18: =TIMEVALUE("00:"&Tps!R19) -> 0.003599537 | D18: =TIMEVALUE("00:"&Tps!R34) -> 0.0034490741 | E18: =TIMEVALUE("00:"&Tps!R49) -> 0.003599537 | F18: =TIMEVALUE("00:"&Tps!R64) -> 0.0038425926 | G18: =TIMEVALUE("00:"&Tps!R79) -> 0.003599537 | H18: =TIMEVALUE("00:"&Tps!S94) -> 0
A19: 2 | B19: =TIMEVALUE("00:"&Tps!R5) -> 0.0031712963 | C19: =TIMEVALUE("00:"&Tps!R20) -> 0.0038888889 | D19: =TIMEVALUE("00:"&Tps!R35) -> 0.0029398148 | E19: =TIMEVALUE("00:"&Tps!R50) -> 0.0038888889 | F19: =TIMEVALUE("00:"&Tps!R65) -> 0.0031712963 | G19: =TIMEVALUE("00:"&Tps!R80) -> 0.0038888889 | H19: =TIMEVALUE("00:"&Tps!S95) -> 0
A20: 3 | B20: =TIMEVALUE("00:"&Tps!R6) -> 0.0031597222 | C20: =TIMEVALUE("00:"&Tps!R21) -> 0.0029282407 | D20: =TIMEVALUE("00:"&Tps!R36) -> 0.0036458333 | E20: =TIMEVALUE("00:"&Tps!R51) -> 0.0029282407 | F20: =TIMEVALUE("00:"&Tps!R66) -> 0.0031597222 | G20: =TIMEVALUE("00:"&Tps!R81) -> 0.0029282407 | H20: =TIMEVALUE("00:"&Tps!S96) -> 0
A21: 4 | B21: =TIMEVALUE("00:"&Tps!R7) -> 0.0039699074 | C21: =TIMEVALUE("00:"&Tps!R22) -> 0.0033449074 | D21: =TIMEVALUE("00:"&Tps!R37) -> 0.0025 | E21: =TIMEVALUE("00:"&Tps!R52) -> 0.0033449074 | F21: =TIMEVALUE("00:"&Tps!R67) -> 0.0039699074 | G21: =TIMEVALUE("00:"&Tps!R82) -> 0.0033449074 | H21: =TIMEVALUE("00:"&Tps!S97) -> 0
A22: 5 | B22: =TIMEVALUE("00:"&Tps!R8) -> 0.0026967593 | C22: =TIMEVALUE("00:"&Tps!R23) -> 0.0031828704 | D22: =TIMEVALUE("00:"&Tps!R38) -> 0.0026388889 | E22: =TIMEVALUE("00:"&Tps!R53) -> 0.0031828704 | F22: =TIMEVALUE("00:"&Tps!R68) -> 0.0026967593 | G22: =TIMEVALUE("00:"&Tps!R83) -> 0.0031828704 | H22: =TIMEVALUE("00:"&Tps!S98) -> 0
A23: 6 | B23: =TIMEVALUE("00:"&Tps!R9) -> 0.0016666667 | C23: =TIMEVALUE("00:"&Tps!R24) -> 0.0019212963 | D23: =TIMEVALUE("00:"&Tps!R39) -> 0.0017013889 | E23: =TIMEVALUE("00:"&Tps!R54) -> 0.0019212963 | F23: =TIMEVALUE("00:"&Tps!R69) -> 0.0016666667 | G23: =TIMEVALUE("00:"&Tps!R84) -> 0.0019212963 | H23: =TIMEVALUE("00:"&Tps!S99) -> 0
A24: 7 | B24: =TIMEVALUE("00:"&Tps!R10) -> 0.0015046296 | C24: =TIMEVALUE("00:"&Tps!R25) -> 0.0015972222 | D24: =TIMEVALUE("00:"&Tps!R40) -> 0.0014814815 | E24: =TIMEVALUE("00:"&Tps!R55) -> 0.0015972222 | F24: =TIMEVALUE("00:"&Tps!R70) -> 0.0015046296 | G24: =TIMEVALUE("00:"&Tps!R85) -> 0.0015972222 | H24: =TIMEVALUE("00:"&Tps!S100) -> 0
A25: 8 | B25: =TIMEVALUE("00:"&Tps!R11) -> 0.0039699074 | C25: =TIMEVALUE("00:"&Tps!R26) -> 0.0043055556 | D25: =TIMEVALUE("00:"&Tps!R41) -> 0.004525463 | E25: =TIMEVALUE("00:"&Tps!R56) -> 0.0043055556 | F25: =TIMEVALUE("00:"&Tps!R71) -> 0.0039699074 | G25: =TIMEVALUE("00:"&Tps!R86) -> 0.0043055556 | H25: =TIMEVALUE("00:"&Tps!S101) -> 0
A26: 9 | B26: =TIMEVALUE("00:"&Tps!R12) -> 0.004224537 | C26: =TIMEVALUE("00:"&Tps!R27) -> 0.0040740741 | D26: =TIMEVALUE("00:"&Tps!R42) -> 0.0052199074 | E26: =TIMEVALUE("00:"&Tps!R57) -> 0.0040740741 | F26: =TIMEVALUE("00:"&Tps!R72) -> 0.004224537 | G26: =TIMEVALUE("00:"&Tps!R87) -> 0.0040740741 | H26: =TIMEVALUE("00:"&Tps!S102) -> 0
A27: 10 | B27: =TIMEVALUE("00:"&Tps!R13) -> 0.002650463 | C27: =TIMEVALUE("00:"&Tps!R28) -> 0.0027083333 | D27: =TIMEVALUE("00:"&Tps!R43) -> 0.0028356481 | E27: =TIMEVALUE("00:"&Tps!R58) -> 0.0027083333 | F27: =TIMEVALUE("00:"&Tps!R73) -> 0.002650463 | G27: =TIMEVALUE("00:"&Tps!R88) -> 0.0027083333 | H27: =TIMEVALUE("00:"&Tps!S103) -> 0
A28: 11 | B28: =TIMEVALUE("00:"&Tps!R14) -> 0.0048726852 | C28: =TIMEVALUE("00:"&Tps!R29) -> 0.004849537 | D28: =TIMEVALUE("00:"&Tps!R44) -> 0.0048263889 | E28: =TIMEVALUE("00:"&Tps!R59) -> 0.004849537 | F28: =TIMEVALUE("00:"&Tps!R74) -> 0.0048726852 | G28: =TIMEVALUE("00:"&Tps!R89) -> 0.004849537 | H28: =TIMEVALUE("00:"&Tps!S104) -> 0
A29: 12 | B29: =TIMEVALUE("00:"&Tps!R15) -> 0.0035300926 | C29: =TIMEVALUE("00:"&Tps!R30) -> 0.0035069444 | D29: =TIMEVALUE("00:"&Tps!R45) -> 0.0032060185 | E29: =TIMEVALUE("00:"&Tps!R60) -> 0.0035069444 | F29: =TIMEVALUE("00:"&Tps!R75) -> 0.0035300926 | G29: =TIMEVALUE("00:"&Tps!R90) -> 0.0035069444 | H29: =TIMEVALUE("00:"&Tps!S105) -> 0
... A31: 14 | B31: =TIMEVALUE("00:"&Tps!R17) -> 0.0034953704 | C31: =TIMEVALUE("00:"&Tps!R32) -> 0.0032291667 | D31: =TIMEVALUE("00:"&Tps!R47) -> 0.0035648148 | E31: =TIMEVALUE("00:"&Tps!R62) -> 0.0032291667 | F31: =TIMEVALUE("00:"&Tps!R77) -> 0.0034953704 | G31: =TIMEVALUE("00:"&Tps!R92) -> 0.0032291667 | H31: =TIMEVALUE("00:"&Tps!S107) -> 0
A32: National | B32: =TIMEVALUE("00:"&Tps!R18) -> 0.0033564815 | C32: =TIMEVALUE("00:"&Tps!R33) -> 0.0033449074 | D32: =TIMEVALUE("00:"&Tps!R48) -> 0.0032986111 | E32: =TIMEVALUE("00:"&Tps!R63) -> 0.0032986111 | F32: =TIMEVALUE("00:"&Tps!R78) -> 0.0033564815 | G32: =TIMEVALUE("00:"&Tps!R93) -> 0.0033449074 | H32: =TIMEVALUE("00:"&Tps!S108) -> 0
