Workbook

Sheet CLASSEMENTS
A2: A-Team | D2: =TODAY() -> 45130 | I2: Team-B
D3: =AVERAGE(D5:D15) -> 5.3333333 | F3: =AVERAGE(F5:F15) -> 2.5
B4: classement | H4: classement | L4: PODIUM
A5: FABRICE.L | B5: =RANK(D5,$D$5:$D$15) -> 2 | D5: ='TIRS ET POINTS'!AB5 -> 10 | E5: - | F5: ='TIRS ET POINTS'!AB15 -> 15 | H5: =RANK(F5,$F$5:$F$15) -> 1 | I5: JOSCELYN | L5: =RANK($N$5,($D$5:$D$15,$F$5:$F$15)) -> 3 | N5: =D12 -> 10
A6: VERSAILLES | B6: =RANK(D6,$D$5:$D$15) -> 4 | D6: ='TIRS ET POINTS'!AB6 -> 0 | E6: - | F6: ='TIRS ET POINTS'!AB16 -> 0 | H6: =RANK(F6,$F$5:$F$15) -> 3 | I6: JULIEN | N6: Valeur récupérée par formule dans le tableau "D5:D15,F5:F15"
A7: GAEL | B7: =RANK(D7,$D$5:$D$15) -> 1 | D7: ='TIRS ET POINTS'!AB7 -> 33.333333 | E7: - | F7: ='TIRS ET POINTS'!AB17 -> 0 | H7: =RANK(F7,$F$5:$F$15) -> 3 | I7: POISSY
A8: FABRICE.B | B8: =RANK(D8,$D$5:$D$15) -> 4 | D8: ='TIRS ET POINTS'!AB8 -> 0 | E8: - | F8: ='TIRS ET POINTS'!AB18 -> 0 | H8: =RANK(F8,$F$5:$F$15) -> 3 | I8: AURORE
A9: MATTHIEU | B9: =RANK(D9,$D$5:$D$15) -> 4 | D9: ='TIRS ET POINTS'!AB9 -> 0 | E9: - | F9: ='TIRS ET POINTS'!AB19 -> 0 | H9: =RANK(F9,$F$5:$F$15) -> 3 | I9: JULIE
A10: THOMAS | B10: =RANK(D10,$D$5:$D$15) -> 4 | D10: ='TIRS ET POINTS'!AB10 -> 0 | E10: - | F10: ='TIRS ET POINTS'!AB20 -> 0 | H10: =RANK(F10,$F$5:$F$15) -> 3 | I10: QUENTIN
B11: =RANK(D11,$D$5:$D$15) -> 4 | H11: =RANK(F11,$F$5:$F$15) -> 3
A12: FLORIAN .G | B12: =RANK(D12,$D$5:$D$15) -> 2 | D12: ='TIRS ET POINTS'!AB21 -> 10 | E12: - | F12: ='TIRS ET POINTS'!AB21 -> 10 | H12: =RANK(F12,$F$5:$F$15) -> 2 | I12: FLORIAN .G
A13: MARCHELLA | B13: =RANK(D13,$D$5:$D$15) -> 4 | D13: ='TIRS ET POINTS'!AB22 -> 0 | F13: ='TIRS ET POINTS'!AB22 -> 0 | H13: =RANK(F13,$F$5:$F$15) -> 3 | I13: MARCHELLA
A14: ENCADREMENT | B14: =RANK(D14,$D$5:$D$15) -> 4 | D14: ='TIRS ET POINTS'!AB14 -> 0 | E14: - | F14: ='TIRS ET POINTS'!AB23 -> 0 | H14: =RANK(F14,$F$5:$F$15) -> 3 | I14: ENCADREMENT
A15: TELEVENTE | B15: =RANK(D15,$D$5:$D$15) -> 4 | D15: ='TIRS ET POINTS'!AB25 -> 0 | E15: - | F15: ='TIRS ET POINTS'!AB25 -> 0 | H15: =RANK(F15,$F$5:$F$15) -> 3 | I15: TELEVENTE

Sheet TIRS ET POINTS
A3: EQUIPE A | B3: départ | C3: 45120 | E3: 45125 | G3: 45128 | I3: 45129 | AB3: TOTAL
A4: Prénoms et Noms | B4: Tirs | C4: Tirs | D4: Points | E4: Tirs | F4: Points | G4: Tirs | H4: Points | I4: Tirs | J4: Points | K4: Tirs | L4: Points | M4: Tirs | N4: Points | O4: Tirs | P4: Points | Q4: Tirs | R4: Points | S4: Tirs | T4: Points | U4: Tirs | V4: Points | W4: Tirs | X4: Points | Y4: Tirs | Z4: Points | AA4: TOTAL | AB4: Au ratio
A5: FABRICE .L | E5: 1 | F5: 10 | AA5: =SUM(D5 +F5+H5+J5+L5+N5+P5+R5+T5+V5) -> 10 | AB5: =AVERAGE(B5,D5,F5,H5,J5,L5,N5,P5,R5,T5,V5,X5,Z5) -> 10
B6: 0 | AA6: =SUM(D6 +F6+H6+J6+L6+N6+P6+R6+T6+V6) -> 0 | AB6: =AVERAGE(B6,D6,F6,H6,J6,L6,N6,P6,R6,T6,V6,X6,Z6) -> 0
A7: GAEL | C7: 1 | D7: 50 | G7: 0 | H7: 0 | I7: 1 | J7: 50 | AA7: =SUM(D7 +F7+H7+J7+L7+N7+P7+R7+T7+V7) -> 100 | AB7: =AVERAGE(B7,D7,F7,H7,J7,L7,N7,P7,R7,T7,V7,X7,Z7) -> 33.333333
A8: FABRICE .B | B8: 0 | AA8: =SUM(D8 +F8+H8+J8+L8+N8+P8+R8+T8+V8) -> 0 | AB8: =AVERAGE(B8,D8,F8,H8,J8,L8,N8,P8,R8,T8,V8,X8,Z8) -> 0
A9: MATHIEU | B9: 0 | AA9: =SUM(D9 +F9+H9+J9+L9+N9+P9+R9+T9+V9) -> 0 | AB9: =AVERAGE(B9,D9,F9,H9,J9,L9,N9,P9,R9,T9,V9,X9,Z9) -> 0
A10: THOMAS | B10: 0 | AA10: =SUM(D10 +F10+H10+J10+L10+N10+P10+R10+T10+V10) -> 0 | AB10: =AVERAGE(B10,D10,F10,H10,J10,L10,N10,P10,R10,T10,V10,X10,Z10) -> 0
A13: EQUIPE B | B13: Départ | C13: 45118 | E13: 45119 | G13: 45124 | AB13: TOTAL AU RATIO
A14: Prénoms et Noms | B14: Tirs | C14: Tirs | D14: Points | E14: Tirs | F14: Points | G14: Tirs | H14: Points | I14: Tirs | J14: Points | K14: Tirs | L14: Points | M14: Tirs | N14: Points | O14: Tirs | P14: Points | Q14: Tirs | R14: Points | S14: Tirs | T14: Points | U14: Tirs | V14: Points | W14: Tirs | X14: Points | Y14: Tirs | Z14: Points | AA14: TOTAL
A15: JOSCELYN | C15: 1 | D15: 15 | AA15: =SUM(D15 +F15+H15+J15+L15+N15+P15+R15+T15+V15) -> 15 | AB15: =AVERAGE(B15,D15,F15,H15,J15,L15,N15,P15,R15,T15,V15,X15,Z15) -> 15
A16: JULIEN | B16: 0 | AA16: =SUM(D16 +F16+H16+J16+L16+N16+P16+R16+T16+V16) -> 0 | AB16: =AVERAGE(B16,D16,F16,H16,J16,L16,N16,P16,R16,T16,V16,X16,Z16) -> 0
B17: 0 | AA17: =SUM(D17 +F17+H17+J17+L17+N17+P17+R17+T17+V17) -> 0 | AB17: =AVERAGE(B17,D17,F17,H17,J17,L17,N17,P17,R17,T17,V17,X17,Z17) -> 0
A18: AURORE | B18: 0 | AA18: =SUM(D18 +F18+H18+J18+L18+N18+P18+R18+T18+V18) -> 0 | AB18: =AVERAGE(B18,D18,F18,H18,J18,L18,N18,P18,R18,T18,V18,X18,Z18) -> 0
A19: JULIE | B19: 0 | AA19: =SUM(D19 +F19+H19+J19+L19+N19+P19+R19+T19+V19) -> 0 | AB19: =AVERAGE(B19,D19,F19,H19,J19,L19,N19,P19,R19,T19,V19,X19,Z19) -> 0
A20: QUENTIN | B20: 0 | AA20: =SUM(D20 +F20+H20+J20+L20+N20+P20+R20+T20+V20) -> 0 | AB20: =AVERAGE(B20,D20,F20,H20,J20,L20,N20,P20,R20,T20,V20,X20,Z20) -> 0
A21: FLORIAN | C21: 1 | D21: 20 | E21: 1 | F21: 10 | G21: 0 | H21: 0 | I21: 1 | J21: 10 | AA21: =SUM(D21 +F21+H21+J21+L21+N21+P21+R21+T21+V21) -> 40 | AB21: =AVERAGE(B21,D21,F21,H21,J21,L21,N21,P21,R21,T21,V21,X21,Z21) -> 10
A22: MARCHELLA | B22: 0 | AA22: =SUM(D22 +F22+H22+J22+L22+N22+P22+R22+T22+V22) -> 0 | AB22: =AVERAGE(B22,D22,F22,H22,J22,L22,N22,P22,R22,T22,V22,X22,Z22) -> 0
A23: ENCADREMENT | B23: 0 | AA23: =SUM(D23 +F23+H23+J23+L23+N23+P23+R23+T23+V23) -> 0 | AB23: =AVERAGE(B23,D23,F23,H23,J23,L23,N23,P23,R23,T23,V23,X23,Z23) -> 0
B24: 0 | AA24: =SUM(D24 +F24+H24+J24+L24+N24+P24+R24+T24+V24) -> 0 | AB24: =AVERAGE(B24,D24,F24,H24,J24,L24,N24,P24,R24,T24,V24,X24,Z24) -> 0
A25: TELEVENTE | B25: 0 | AA25: =SUM(D25 +F25+H25+J25+L25+N25+P25+R25+T25+V25) -> 0 | AB25: =AVERAGE(B25,D25,F25,H25,J25,L25,N25,P25,R25,T25,V25,X25,Z25) -> 0
