Workbook

Sheet Commande
A3: Date | G3: Montant | H3: Groupe A (1,2,3,4….. | I3: Groupe B (1,2,3,4….. | J3: Groupe C (1,2,3,4….. | T3: Fournisseur
A4: 44931 | G4: 5 | T4: Albert
A5: 44958 | G5: 5 | H5: A1 | T5: Albert
A6: 44972 | G6: 20 | H6: A1 | T6: Albert
A7: 45015 | G7: 10 | H7: A2 | T7: Albert
A8: 45017 | G8: 100 | I8: B1 | T8: Pierre
A9: 45077 | G9: 100 | I9: B2 | T9: Pierre
A10: 45213 | G10: 2750 | H10: A1 | I10: B1 | T10: Pierre
A11: 45214 | G11: 2750 | H11: A1 | I11: B1 | T11: Pierre
A12: 45231 | G12: 1 | H12: A1 | T12: Martin
A13: 45231 | G13: 10 | H13: A1 | T13: Jean
A14: 45231 | G14: 100 | H14: A1 | T14: Cédric
A15: 45231 | G15: 1000 | H15: A1 | T15: Arthur
A16: 45231 | G16: 10000 | H16: A1 | T16: Frabrice
A17: 45292 | G17: 3000 | H17: A1 | T17: Martin
B20: Mon besoin
B21: Faire apparaitre le montant (colonne G) / dans le bon mois (en fonction de la colonne A) / dans le (ou les) bon onglet de groupe (en fonction des colonnes H,I,J,K,L)
B22: Que les montants s'additionnent lorsque plusieurs tombent sur la même case (groupe et mois)
B23: A noter qu'il s'agit de mois de 2023 dans les onglets Groupe, les commandes hors 2023 ne doivent pas etre prisent en compte
B24: Seulement les commandes de 3 fournisseurs doivent etre prisent en compte : Albert, Pierre et Martin (ne rien faire pour les commandes des autres fournisseurs)
B25: Sans ajouter de nouvelles colonnes

Sheet Groupe A1
D79: Janvier | E79: Février | F79: Mars | G79: Avril | H79: Mai | I79: Juin | J79: Juillet | K79: Août | L79: Septembre | M79: Octobre | N79: Novembre | O79: Décembre
D80: {=SUMPRODUCT((Commande!$H$4:$H$17="A1")*(TEXT(Commande!$A$4:$A$17,"mmmm")=D$79)*(YEAR(Commande!$A$4:$A$17)=2023)*(Commande!$T$4:$T$17="Albert")*(Commande!$G$4:$G$17))+ SUMPRODUCT((Commande!$H$4:$H$17="A1")*(TEXT(Commande!$A$4:$A$17,"mmmm")=D$79)*(YEAR(Commande!$A$4:$A$17)=2023)*(Commande!$T$4:$T$17="Pierre")*(Commande!$G$4:$G$17))+ SUMPRODUCT((Commande!$H$4:$H$17="A1")*(TEXT(Commande!$A$4:$A$17,"mmmm")=D$79)*(YEAR(Commande!$A$4:$A$17)=2023)*(Commande!$T$4:$T$17="Martin")*(Commande!$G$4:$G$17))} -> 0 | E80: {=SUMPRODUCT((Commande!$H$4:$H$17="A1")*(TEXT(Commande!$A$4:$A$17,"mmmm")=E$79)*(YEAR(Commande!$A$4:$A$17)=2023)*(Commande!$T$4:$T$17="Albert")*(Commande!$G$4:$G$17))+ SUMPRODUCT((Commande!$H$4:$H$17="A1")*(TEXT(Commande!$A$4:$A$17,"mmmm")=E$79)*(YEAR(Commande!$A$4:$A$17)=2023)*(Commande!$T$4:$T$17="Pierre")*(Commande!$G$4:$G$17))+ SUMPRODUCT((Commande!$H$4:$H$17="A1")*(TEXT(Commande!$A$4:$A$17,"mmmm")=E$79)*(YEAR(Commande!$A$4:$A$17)=2023)*(Commande!$T$4:$T$17="Martin")*(Commande!$G$4:$G$17))} -> 25 | F80: {=SUMPRODUCT((Commande!$H$4:$H$17="A1")*(TEXT(Commande!$A$4:$A$17,"mmmm")=F$79)*(YEAR(Commande!$A$4:$A$17)=2023)*(Commande!$T$4:$T$17="Albert")*(Commande!$G$4:$G$17))+ SUMPRODUCT((Commande!$H$4:$H$17="A1")*(TEXT(Commande!$A$4:$A$17,"mmmm")=F$79)*(YEAR(Commande!$A$4:$A$17)=2023)*(Commande!$T$4:$T$17="Pierre")*(Commande!$G$4:$G$17))+ SUMPRODUCT((Commande!$H$4:$H$17="A1")*(TEXT(Commande!$A$4:$A$17,"mmmm")=F$79)*(YEAR(Commande!$A$4:$A$17)=2023)*(Commande!$T$4:$T$17="Martin")*(Commande!$G$4:$G$17))} -> 0 | G80: {=SUMPRODUCT((Commande!$H$4:$H$17="A1")*(TEXT(Commande!$A$4:$A$17,"mmmm")=G$79)*(YEAR(Commande!$A$4:$A$17)=2023)*(Commande!$T$4:$T$17="Albert")*(Commande!$G$4:$G$17))+ SUMPRODUCT((Commande!$H$4:$H$17="A1")*(TEXT(Commande!$A$4:$A$17,"mmmm")=G$79)*(YEAR(Commande!$A$4:$A$17)=2023)*(Commande!$T$4:$T$17="Pierre")*(Commande!$G$4:$G$17))+ SUMPRODUCT((Commande!$H$4:$H$17="A1")*(TEXT(Commande!$A$4:$A$17,"mmmm")=G$79)*(YEAR(Commande!$A$4:$A$17)=2023)*(Commande!$T$4:$T$17="Martin")*(Commande!$G$4:$G$17))} -> 0 | H80: {=SUMPRODUCT((Commande!$H$4:$H$17="A1")*(TEXT(Commande!$A$4:$A$17,"mmmm")=H$79)*(YEAR(Commande!$A$4:$A$17)=2023)*(Commande!$T$4:$T$17="Albert")*(Commande!$G$4:$G$17))+ SUMPRODUCT((Commande!$H$4:$H$17="A1")*(TEXT(Commande!$A$4:$A$17,"mmmm")=H$79)*(YEAR(Commande!$A$4:$A$17)=2023)*(Commande!$T$4:$T$17="Pierre")*(Commande!$G$4:$G$17))+ SUMPRODUCT((Commande!$H$4:$H$17="A1")*(TEXT(Commande!$A$4:$A$17,"mmmm")=H$79)*(YEAR(Commande!$A$4:$A$17)=2023)*(Commande!$T$4:$T$17="Martin")*(Commande!$G$4:$G$17))} -> 0 | I80: {=SUMPRODUCT((Commande!$H$4:$H$17="A1")*(TEXT(Commande!$A$4:$A$17,"mmmm")=I$79)*(YEAR(Commande!$A$4:$A$17)=2023)*(Commande!$T$4:$T$17="Albert")*(Commande!$G$4:$G$17))+ SUMPRODUCT((Commande!$H$4:$H$17="A1")*(TEXT(Commande!$A$4:$A$17,"mmmm")=I$79)*(YEAR(Commande!$A$4:$A$17)=2023)*(Commande!$T$4:$T$17="Pierre")*(Commande!$G$4:$G$17))+ SUMPRODUCT((Commande!$H$4:$H$17="A1")*(TEXT(Commande!$A$4:$A$17,"mmmm")=I$79)*(YEAR(Commande!$A$4:$A$17)=2023)*(Commande!$T$4:$T$17="Martin")*(Commande!$G$4:$G$17))} -> 0 | J80: {=SUMPRODUCT((Commande!$H$4:$H$17="A1")*(TEXT(Commande!$A$4:$A$17,"mmmm")=J$79)*(YEAR(Commande!$A$4:$A$17)=2023)*(Commande!$T$4:$T$17="Albert")*(Commande!$G$4:$G$17))+ SUMPRODUCT((Commande!$H$4:$H$17="A1")*(TEXT(Commande!$A$4:$A$17,"mmmm")=J$79)*(YEAR(Commande!$A$4:$A$17)=2023)*(Commande!$T$4:$T$17="Pierre")*(Commande!$G$4:$G$17))+ SUMPRODUCT((Commande!$H$4:$H$17="A1")*(TEXT(Commande!$A$4:$A$17,"mmmm")=J$79)*(YEAR(Commande!$A$4:$A$17)=2023)*(Commande!$T$4:$T$17="Martin")*(Commande!$G$4:$G$17))} -> 0 | K80: {=SUMPRODUCT((Commande!$H$4:$H$17="A1")*(TEXT(Commande!$A$4:$A$17,"mmmm")=K$79)*(YEAR(Commande!$A$4:$A$17)=2023)*(Commande!$T$4:$T$17="Albert")*(Commande!$G$4:$G$17))+ SUMPRODUCT((Commande!$H$4:$H$17="A1")*(TEXT(Commande!$A$4:$A$17,"mmmm")=K$79)*(YEAR(Commande!$A$4:$A$17)=2023)*(Commande!$T$4:$T$17="Pierre")*(Commande!$G$4:$G$17))+ SUMPRODUCT((Commande!$H$4:$H$17="A1")*(TEXT(Commande!$A$4:$A$17,"mmmm")=K$79)*(YEAR(Commande!$A$4:$A$17)=2023)*(Commande!$T$4:$T$17="Martin")*(Commande!$G$4:$G$17))} -> 0 | ... O80: {=SUMPRODUCT((Commande!$H$4:$H$17="A1")*(TEXT(Commande!$A$4:$A$17,"mmmm")=O$79)*(YEAR(Commande!$A$4:$A$17)=2023)*(Commande!$T$4:$T$17="Albert")*(Commande!$G$4:$G$17))+ SUMPRODUCT((Commande!$H$4:$H$17="A1")*(TEXT(Commande!$A$4:$A$17,"mmmm")=O$79)*(YEAR(Commande!$A$4:$A$17)=2023)*(Commande!$T$4:$T$17="Pierre")*(Commande!$G$4:$G$17))+ SUMPRODUCT((Commande!$H$4:$H$17="A1")*(TEXT(Commande!$A$4:$A$17,"mmmm")=O$79)*(YEAR(Commande!$A$4:$A$17)=2023)*(Commande!$T$4:$T$17="Martin")*(Commande!$G$4:$G$17))} -> 0

Sheet Groupe A2
D79: Janvier | E79: Février | F79: Mars | G79: Avril | H79: Mai | I79: Juin | J79: Juillet | K79: Août | L79: Septembre | M79: Octobre | N79: Novembre | O79: Décembre
D80: {=SUMPRODUCT((Commande!$H$4:$H$17="A2")*(TEXT(Commande!$A$4:$A$17,"mmmm")=D$79)*(YEAR(Commande!$A$4:$A$17)=2023)*(Commande!$T$4:$T$17="Albert")*(Commande!$G$4:$G$17))+ SUMPRODUCT((Commande!$H$4:$H$17="A2")*(TEXT(Commande!$A$4:$A$17,"mmmm")=D$79)*(YEAR(Commande!$A$4:$A$17)=2023)*(Commande!$T$4:$T$17="Pierre")*(Commande!$G$4:$G$17))+ SUMPRODUCT((Commande!$H$4:$H$17="A2")*(TEXT(Commande!$A$4:$A$17,"mmmm")=D$79)*(YEAR(Commande!$A$4:$A$17)=2023)*(Commande!$T$4:$T$17="Martin")*(Commande!$G$4:$G$17))} -> 0 | E80: {=SUMPRODUCT((Commande!$H$4:$H$17="A2")*(TEXT(Commande!$A$4:$A$17,"mmmm")=E$79)*(YEAR(Commande!$A$4:$A$17)=2023)*(Commande!$T$4:$T$17="Albert")*(Commande!$G$4:$G$17))+ SUMPRODUCT((Commande!$H$4:$H$17="A2")*(TEXT(Commande!$A$4:$A$17,"mmmm")=E$79)*(YEAR(Commande!$A$4:$A$17)=2023)*(Commande!$T$4:$T$17="Pierre")*(Commande!$G$4:$G$17))+ SUMPRODUCT((Commande!$H$4:$H$17="A2")*(TEXT(Commande!$A$4:$A$17,"mmmm")=E$79)*(YEAR(Commande!$A$4:$A$17)=2023)*(Commande!$T$4:$T$17="Martin")*(Commande!$G$4:$G$17))} -> 0 | F80: {=SUMPRODUCT((Commande!$H$4:$H$17="A2")*(TEXT(Commande!$A$4:$A$17,"mmmm")=F$79)*(YEAR(Commande!$A$4:$A$17)=2023)*(Commande!$T$4:$T$17="Albert")*(Commande!$G$4:$G$17))+ SUMPRODUCT((Commande!$H$4:$H$17="A2")*(TEXT(Commande!$A$4:$A$17,"mmmm")=F$79)*(YEAR(Commande!$A$4:$A$17)=2023)*(Commande!$T$4:$T$17="Pierre")*(Commande!$G$4:$G$17))+ SUMPRODUCT((Commande!$H$4:$H$17="A2")*(TEXT(Commande!$A$4:$A$17,"mmmm")=F$79)*(YEAR(Commande!$A$4:$A$17)=2023)*(Commande!$T$4:$T$17="Martin")*(Commande!$G$4:$G$17))} -> 10 | G80: {=SUMPRODUCT((Commande!$H$4:$H$17="A2")*(TEXT(Commande!$A$4:$A$17,"mmmm")=G$79)*(YEAR(Commande!$A$4:$A$17)=2023)*(Commande!$T$4:$T$17="Albert")*(Commande!$G$4:$G$17))+ SUMPRODUCT((Commande!$H$4:$H$17="A2")*(TEXT(Commande!$A$4:$A$17,"mmmm")=G$79)*(YEAR(Commande!$A$4:$A$17)=2023)*(Commande!$T$4:$T$17="Pierre")*(Commande!$G$4:$G$17))+ SUMPRODUCT((Commande!$H$4:$H$17="A2")*(TEXT(Commande!$A$4:$A$17,"mmmm")=G$79)*(YEAR(Commande!$A$4:$A$17)=2023)*(Commande!$T$4:$T$17="Martin")*(Commande!$G$4:$G$17))} -> 0 | H80: {=SUMPRODUCT((Commande!$H$4:$H$17="A2")*(TEXT(Commande!$A$4:$A$17,"mmmm")=H$79)*(YEAR(Commande!$A$4:$A$17)=2023)*(Commande!$T$4:$T$17="Albert")*(Commande!$G$4:$G$17))+ SUMPRODUCT((Commande!$H$4:$H$17="A2")*(TEXT(Commande!$A$4:$A$17,"mmmm")=H$79)*(YEAR(Commande!$A$4:$A$17)=2023)*(Commande!$T$4:$T$17="Pierre")*(Commande!$G$4:$G$17))+ SUMPRODUCT((Commande!$H$4:$H$17="A2")*(TEXT(Commande!$A$4:$A$17,"mmmm")=H$79)*(YEAR(Commande!$A$4:$A$17)=2023)*(Commande!$T$4:$T$17="Martin")*(Commande!$G$4:$G$17))} -> 0 | I80: {=SUMPRODUCT((Commande!$H$4:$H$17="A2")*(TEXT(Commande!$A$4:$A$17,"mmmm")=I$79)*(YEAR(Commande!$A$4:$A$17)=2023)*(Commande!$T$4:$T$17="Albert")*(Commande!$G$4:$G$17))+ SUMPRODUCT((Commande!$H$4:$H$17="A2")*(TEXT(Commande!$A$4:$A$17,"mmmm")=I$79)*(YEAR(Commande!$A$4:$A$17)=2023)*(Commande!$T$4:$T$17="Pierre")*(Commande!$G$4:$G$17))+ SUMPRODUCT((Commande!$H$4:$H$17="A2")*(TEXT(Commande!$A$4:$A$17,"mmmm")=I$79)*(YEAR(Commande!$A$4:$A$17)=2023)*(Commande!$T$4:$T$17="Martin")*(Commande!$G$4:$G$17))} -> 0 | J80: {=SUMPRODUCT((Commande!$H$4:$H$17="A2")*(TEXT(Commande!$A$4:$A$17,"mmmm")=J$79)*(YEAR(Commande!$A$4:$A$17)=2023)*(Commande!$T$4:$T$17="Albert")*(Commande!$G$4:$G$17))+ SUMPRODUCT((Commande!$H$4:$H$17="A2")*(TEXT(Commande!$A$4:$A$17,"mmmm")=J$79)*(YEAR(Commande!$A$4:$A$17)=2023)*(Commande!$T$4:$T$17="Pierre")*(Commande!$G$4:$G$17))+ SUMPRODUCT((Commande!$H$4:$H$17="A2")*(TEXT(Commande!$A$4:$A$17,"mmmm")=J$79)*(YEAR(Commande!$A$4:$A$17)=2023)*(Commande!$T$4:$T$17="Martin")*(Commande!$G$4:$G$17))} -> 0 | K80: {=SUMPRODUCT((Commande!$H$4:$H$17="A2")*(TEXT(Commande!$A$4:$A$17,"mmmm")=K$79)*(YEAR(Commande!$A$4:$A$17)=2023)*(Commande!$T$4:$T$17="Albert")*(Commande!$G$4:$G$17))+ SUMPRODUCT((Commande!$H$4:$H$17="A2")*(TEXT(Commande!$A$4:$A$17,"mmmm")=K$79)*(YEAR(Commande!$A$4:$A$17)=2023)*(Commande!$T$4:$T$17="Pierre")*(Commande!$G$4:$G$17))+ SUMPRODUCT((Commande!$H$4:$H$17="A2")*(TEXT(Commande!$A$4:$A$17,"mmmm")=K$79)*(YEAR(Commande!$A$4:$A$17)=2023)*(Commande!$T$4:$T$17="Martin")*(Commande!$G$4:$G$17))} -> 0 | ... O80: {=SUMPRODUCT((Commande!$H$4:$H$17="A2")*(TEXT(Commande!$A$4:$A$17,"mmmm")=O$79)*(YEAR(Commande!$A$4:$A$17)=2023)*(Commande!$T$4:$T$17="Albert")*(Commande!$G$4:$G$17))+ SUMPRODUCT((Commande!$H$4:$H$17="A2")*(TEXT(Commande!$A$4:$A$17,"mmmm")=O$79)*(YEAR(Commande!$A$4:$A$17)=2023)*(Commande!$T$4:$T$17="Pierre")*(Commande!$G$4:$G$17))+ SUMPRODUCT((Commande!$H$4:$H$17="A2")*(TEXT(Commande!$A$4:$A$17,"mmmm")=O$79)*(YEAR(Commande!$A$4:$A$17)=2023)*(Commande!$T$4:$T$17="Martin")*(Commande!$G$4:$G$17))} -> 0

Sheet Groupe B1
D79: Janvier | E79: Février | F79: Mars | G79: Avril | H79: Mai | I79: Juin | J79: Juillet | K79: Août | L79: Septembre | M79: Octobre | N79: Novembre | O79: Décembre
D80: {=SUMPRODUCT((Commande!$I$4:$I$17="B1")*(TEXT(Commande!$A$4:$A$17,"mmmm")=D$79)*(YEAR(Commande!$A$4:$A$17)=2023)*(Commande!$T$4:$T$17="Albert")*(Commande!$G$4:$G$17))+ SUMPRODUCT((Commande!$I$4:$I$17="B1")*(TEXT(Commande!$A$4:$A$17,"mmmm")=D$79)*(YEAR(Commande!$A$4:$A$17)=2023)*(Commande!$T$4:$T$17="Pierre")*(Commande!$G$4:$G$17))+ SUMPRODUCT((Commande!$I$4:$I$17="B1")*(TEXT(Commande!$A$4:$A$17,"mmmm")=D$79)*(YEAR(Commande!$A$4:$A$17)=2023)*(Commande!$T$4:$T$17="Martin")*(Commande!$G$4:$G$17))} -> 0 | E80: {=SUMPRODUCT((Commande!$I$4:$I$17="B1")*(TEXT(Commande!$A$4:$A$17,"mmmm")=E$79)*(YEAR(Commande!$A$4:$A$17)=$C80)*(Commande!$T$4:$T$17="Albert")*(Commande!$G$4:$G$17))+ SUMPRODUCT((Commande!$I$4:$I$17="B1")*(TEXT(Commande!$A$4:$A$17,"mmmm")=E$79)*(YEAR(Commande!$A$4:$A$17)=$C80)*(Commande!$T$4:$T$17="Pierre")*(Commande!$G$4:$G$17))+ SUMPRODUCT((Commande!$I$4:$I$17="B1")*(TEXT(Commande!$A$4:$A$17,"mmmm")=E$79)*(YEAR(Commande!$A$4:$A$17)=$C80)*(Commande!$T$4:$T$17="Martin")*(Commande!$G$4:$G$17))} -> 0 | F80: {=SUMPRODUCT((Commande!$I$4:$I$17="B1")*(TEXT(Commande!$A$4:$A$17,"mmmm")=F$79)*(YEAR(Commande!$A$4:$A$17)=$C80)*(Commande!$T$4:$T$17="Albert")*(Commande!$G$4:$G$17))+ SUMPRODUCT((Commande!$I$4:$I$17="B1")*(TEXT(Commande!$A$4:$A$17,"mmmm")=F$79)*(YEAR(Commande!$A$4:$A$17)=$C80)*(Commande!$T$4:$T$17="Pierre")*(Commande!$G$4:$G$17))+ SUMPRODUCT((Commande!$I$4:$I$17="B1")*(TEXT(Commande!$A$4:$A$17,"mmmm")=F$79)*(YEAR(Commande!$A$4:$A$17)=$C80)*(Commande!$T$4:$T$17="Martin")*(Commande!$G$4:$G$17))} -> 0 | G80: {=SUMPRODUCT((Commande!$I$4:$I$17="B1")*(TEXT(Commande!$A$4:$A$17,"mmmm")=G$79)*(YEAR(Commande!$A$4:$A$17)=$C80)*(Commande!$T$4:$T$17="Albert")*(Commande!$G$4:$G$17))+ SUMPRODUCT((Commande!$I$4:$I$17="B1")*(TEXT(Commande!$A$4:$A$17,"mmmm")=G$79)*(YEAR(Commande!$A$4:$A$17)=$C80)*(Commande!$T$4:$T$17="Pierre")*(Commande!$G$4:$G$17))+ SUMPRODUCT((Commande!$I$4:$I$17="B1")*(TEXT(Commande!$A$4:$A$17,"mmmm")=G$79)*(YEAR(Commande!$A$4:$A$17)=$C80)*(Commande!$T$4:$T$17="Martin")*(Commande!$G$4:$G$17))} -> 0 | H80: {=SUMPRODUCT((Commande!$I$4:$I$17="B1")*(TEXT(Commande!$A$4:$A$17,"mmmm")=H$79)*(YEAR(Commande!$A$4:$A$17)=$C80)*(Commande!$T$4:$T$17="Albert")*(Commande!$G$4:$G$17))+ SUMPRODUCT((Commande!$I$4:$I$17="B1")*(TEXT(Commande!$A$4:$A$17,"mmmm")=H$79)*(YEAR(Commande!$A$4:$A$17)=$C80)*(Commande!$T$4:$T$17="Pierre")*(Commande!$G$4:$G$17))+ SUMPRODUCT((Commande!$I$4:$I$17="B1")*(TEXT(Commande!$A$4:$A$17,"mmmm")=H$79)*(YEAR(Commande!$A$4:$A$17)=$C80)*(Commande!$T$4:$T$17="Martin")*(Commande!$G$4:$G$17))} -> 0 | I80: {=SUMPRODUCT((Commande!$I$4:$I$17="B1")*(TEXT(Commande!$A$4:$A$17,"mmmm")=I$79)*(YEAR(Commande!$A$4:$A$17)=$C80)*(Commande!$T$4:$T$17="Albert")*(Commande!$G$4:$G$17))+ SUMPRODUCT((Commande!$I$4:$I$17="B1")*(TEXT(Commande!$A$4:$A$17,"mmmm")=I$79)*(YEAR(Commande!$A$4:$A$17)=$C80)*(Commande!$T$4:$T$17="Pierre")*(Commande!$G$4:$G$17))+ SUMPRODUCT((Commande!$I$4:$I$17="B1")*(TEXT(Commande!$A$4:$A$17,"mmmm")=I$79)*(YEAR(Commande!$A$4:$A$17)=$C80)*(Commande!$T$4:$T$17="Martin")*(Commande!$G$4:$G$17))} -> 0 | J80: {=SUMPRODUCT((Commande!$I$4:$I$17="B1")*(TEXT(Commande!$A$4:$A$17,"mmmm")=J$79)*(YEAR(Commande!$A$4:$A$17)=$C80)*(Commande!$T$4:$T$17="Albert")*(Commande!$G$4:$G$17))+ SUMPRODUCT((Commande!$I$4:$I$17="B1")*(TEXT(Commande!$A$4:$A$17,"mmmm")=J$79)*(YEAR(Commande!$A$4:$A$17)=$C80)*(Commande!$T$4:$T$17="Pierre")*(Commande!$G$4:$G$17))+ SUMPRODUCT((Commande!$I$4:$I$17="B1")*(TEXT(Commande!$A$4:$A$17,"mmmm")=J$79)*(YEAR(Commande!$A$4:$A$17)=$C80)*(Commande!$T$4:$T$17="Martin")*(Commande!$G$4:$G$17))} -> 0 | K80: {=SUMPRODUCT((Commande!$I$4:$I$17="B1")*(TEXT(Commande!$A$4:$A$17,"mmmm")=K$79)*(YEAR(Commande!$A$4:$A$17)=$C80)*(Commande!$T$4:$T$17="Albert")*(Commande!$G$4:$G$17))+ SUMPRODUCT((Commande!$I$4:$I$17="B1")*(TEXT(Commande!$A$4:$A$17,"mmmm")=K$79)*(YEAR(Commande!$A$4:$A$17)=$C80)*(Commande!$T$4:$T$17="Pierre")*(Commande!$G$4:$G$17))+ SUMPRODUCT((Commande!$I$4:$I$17="B1")*(TEXT(Commande!$A$4:$A$17,"mmmm")=K$79)*(YEAR(Commande!$A$4:$A$17)=$C80)*(Commande!$T$4:$T$17="Martin")*(Commande!$G$4:$G$17))} -> 0 | L80: {=SUMPRODUCT((Commande!$I$4:$I$17="B1")*(TEXT(Commande!$A$4:$A$17,"mmmm")=L$79)*(YEAR(Commande!$A$4:$A$17)=$C80)*(Commande!$T$4:$T$17="Albert")*(Commande!$G$4:$G$17))+ SUMPRODUCT((Commande!$I$4:$I$17="B1")*(TEXT(Commande!$A$4:$A$17,"mmmm")=L$79)*(YEAR(Commande!$A$4:$A$17)=$C80)*(Commande!$T$4:$T$17="Pierre")*(Commande!$G$4:$G$17))+ SUMPRODUCT((Commande!$I$4:$I$17="B1")*(TEXT(Commande!$A$4:$A$17,"mmmm")=L$79)*(YEAR(Commande!$A$4:$A$17)=$C80)*(Commande!$T$4:$T$17="Martin")*(Commande!$G$4:$G$17))} -> 0 | ... O80: {=SUMPRODUCT((Commande!$I$4:$I$17="B1")*(TEXT(Commande!$A$4:$A$17,"mmmm")=O$79)*(YEAR(Commande!$A$4:$A$17)=$C80)*(Commande!$T$4:$T$17="Albert")*(Commande!$G$4:$G$17))+ SUMPRODUCT((Commande!$I$4:$I$17="B1")*(TEXT(Commande!$A$4:$A$17,"mmmm")=O$79)*(YEAR(Commande!$A$4:$A$17)=$C80)*(Commande!$T$4:$T$17="Pierre")*(Commande!$G$4:$G$17))+ SUMPRODUCT((Commande!$I$4:$I$17="B1")*(TEXT(Commande!$A$4:$A$17,"mmmm")=O$79)*(YEAR(Commande!$A$4:$A$17)=$C80)*(Commande!$T$4:$T$17="Martin")*(Commande!$G$4:$G$17))} -> 0

Sheet Groupe B2
D79: Janvier | E79: Février | F79: Mars | G79: Avril | H79: Mai | I79: Juin | J79: Juillet | K79: Août | L79: Septembre | M79: Octobre | N79: Novembre | O79: Décembre
D80: {=SUMPRODUCT((Commande!$I$4:$I$17="B2")*(TEXT(Commande!$A$4:$A$17,"mmmm")=D$79)*(YEAR(Commande!$A$4:$A$17)=2023)*(Commande!$T$4:$T$17="Albert")*(Commande!$G$4:$G$17))+ SUMPRODUCT((Commande!$I$4:$I$17="B2")*(TEXT(Commande!$A$4:$A$17,"mmmm")=D$79)*(YEAR(Commande!$A$4:$A$17)=2023)*(Commande!$T$4:$T$17="Pierre")*(Commande!$G$4:$G$17))+ SUMPRODUCT((Commande!$I$4:$I$17="B2")*(TEXT(Commande!$A$4:$A$17,"mmmm")=D$79)*(YEAR(Commande!$A$4:$A$17)=2023)*(Commande!$T$4:$T$17="Martin")*(Commande!$G$4:$G$17))} -> 0 | E80: {=SUMPRODUCT((Commande!$I$4:$I$17="B2")*(TEXT(Commande!$A$4:$A$17,"mmmm")=E$79)*(YEAR(Commande!$A$4:$A$17)=2023)*(Commande!$T$4:$T$17="Albert")*(Commande!$G$4:$G$17))+ SUMPRODUCT((Commande!$I$4:$I$17="B2")*(TEXT(Commande!$A$4:$A$17,"mmmm")=E$79)*(YEAR(Commande!$A$4:$A$17)=2023)*(Commande!$T$4:$T$17="Pierre")*(Commande!$G$4:$G$17))+ SUMPRODUCT((Commande!$I$4:$I$17="B2")*(TEXT(Commande!$A$4:$A$17,"mmmm")=E$79)*(YEAR(Commande!$A$4:$A$17)=2023)*(Commande!$T$4:$T$17="Martin")*(Commande!$G$4:$G$17))} -> 0 | F80: {=SUMPRODUCT((Commande!$I$4:$I$17="B2")*(TEXT(Commande!$A$4:$A$17,"mmmm")=F$79)*(YEAR(Commande!$A$4:$A$17)=2023)*(Commande!$T$4:$T$17="Albert")*(Commande!$G$4:$G$17))+ SUMPRODUCT((Commande!$I$4:$I$17="B2")*(TEXT(Commande!$A$4:$A$17,"mmmm")=F$79)*(YEAR(Commande!$A$4:$A$17)=2023)*(Commande!$T$4:$T$17="Pierre")*(Commande!$G$4:$G$17))+ SUMPRODUCT((Commande!$I$4:$I$17="B2")*(TEXT(Commande!$A$4:$A$17,"mmmm")=F$79)*(YEAR(Commande!$A$4:$A$17)=2023)*(Commande!$T$4:$T$17="Martin")*(Commande!$G$4:$G$17))} -> 0 | G80: {=SUMPRODUCT((Commande!$I$4:$I$17="B2")*(TEXT(Commande!$A$4:$A$17,"mmmm")=G$79)*(YEAR(Commande!$A$4:$A$17)=2023)*(Commande!$T$4:$T$17="Albert")*(Commande!$G$4:$G$17))+ SUMPRODUCT((Commande!$I$4:$I$17="B2")*(TEXT(Commande!$A$4:$A$17,"mmmm")=G$79)*(YEAR(Commande!$A$4:$A$17)=2023)*(Commande!$T$4:$T$17="Pierre")*(Commande!$G$4:$G$17))+ SUMPRODUCT((Commande!$I$4:$I$17="B2")*(TEXT(Commande!$A$4:$A$17,"mmmm")=G$79)*(YEAR(Commande!$A$4:$A$17)=2023)*(Commande!$T$4:$T$17="Martin")*(Commande!$G$4:$G$17))} -> 0 | H80: {=SUMPRODUCT((Commande!$I$4:$I$17="B2")*(TEXT(Commande!$A$4:$A$17,"mmmm")=H$79)*(YEAR(Commande!$A$4:$A$17)=2023)*(Commande!$T$4:$T$17="Albert")*(Commande!$G$4:$G$17))+ SUMPRODUCT((Commande!$I$4:$I$17="B2")*(TEXT(Commande!$A$4:$A$17,"mmmm")=H$79)*(YEAR(Commande!$A$4:$A$17)=2023)*(Commande!$T$4:$T$17="Pierre")*(Commande!$G$4:$G$17))+ SUMPRODUCT((Commande!$I$4:$I$17="B2")*(TEXT(Commande!$A$4:$A$17,"mmmm")=H$79)*(YEAR(Commande!$A$4:$A$17)=2023)*(Commande!$T$4:$T$17="Martin")*(Commande!$G$4:$G$17))} -> 100 | I80: {=SUMPRODUCT((Commande!$I$4:$I$17="B2")*(TEXT(Commande!$A$4:$A$17,"mmmm")=I$79)*(YEAR(Commande!$A$4:$A$17)=2023)*(Commande!$T$4:$T$17="Albert")*(Commande!$G$4:$G$17))+ SUMPRODUCT((Commande!$I$4:$I$17="B2")*(TEXT(Commande!$A$4:$A$17,"mmmm")=I$79)*(YEAR(Commande!$A$4:$A$17)=2023)*(Commande!$T$4:$T$17="Pierre")*(Commande!$G$4:$G$17))+ SUMPRODUCT((Commande!$I$4:$I$17="B2")*(TEXT(Commande!$A$4:$A$17,"mmmm")=I$79)*(YEAR(Commande!$A$4:$A$17)=2023)*(Commande!$T$4:$T$17="Martin")*(Commande!$G$4:$G$17))} -> 0 | J80: {=SUMPRODUCT((Commande!$I$4:$I$17="B2")*(TEXT(Commande!$A$4:$A$17,"mmmm")=J$79)*(YEAR(Commande!$A$4:$A$17)=2023)*(Commande!$T$4:$T$17="Albert")*(Commande!$G$4:$G$17))+ SUMPRODUCT((Commande!$I$4:$I$17="B2")*(TEXT(Commande!$A$4:$A$17,"mmmm")=J$79)*(YEAR(Commande!$A$4:$A$17)=2023)*(Commande!$T$4:$T$17="Pierre")*(Commande!$G$4:$G$17))+ SUMPRODUCT((Commande!$I$4:$I$17="B2")*(TEXT(Commande!$A$4:$A$17,"mmmm")=J$79)*(YEAR(Commande!$A$4:$A$17)=2023)*(Commande!$T$4:$T$17="Martin")*(Commande!$G$4:$G$17))} -> 0 | K80: {=SUMPRODUCT((Commande!$I$4:$I$17="B2")*(TEXT(Commande!$A$4:$A$17,"mmmm")=K$79)*(YEAR(Commande!$A$4:$A$17)=2023)*(Commande!$T$4:$T$17="Albert")*(Commande!$G$4:$G$17))+ SUMPRODUCT((Commande!$I$4:$I$17="B2")*(TEXT(Commande!$A$4:$A$17,"mmmm")=K$79)*(YEAR(Commande!$A$4:$A$17)=2023)*(Commande!$T$4:$T$17="Pierre")*(Commande!$G$4:$G$17))+ SUMPRODUCT((Commande!$I$4:$I$17="B2")*(TEXT(Commande!$A$4:$A$17,"mmmm")=K$79)*(YEAR(Commande!$A$4:$A$17)=2023)*(Commande!$T$4:$T$17="Martin")*(Commande!$G$4:$G$17))} -> 0 | ... O80: {=SUMPRODUCT((Commande!$I$4:$I$17="B2")*(TEXT(Commande!$A$4:$A$17,"mmmm")=O$79)*(YEAR(Commande!$A$4:$A$17)=2023)*(Commande!$T$4:$T$17="Albert")*(Commande!$G$4:$G$17))+ SUMPRODUCT((Commande!$I$4:$I$17="B2")*(TEXT(Commande!$A$4:$A$17,"mmmm")=O$79)*(YEAR(Commande!$A$4:$A$17)=2023)*(Commande!$T$4:$T$17="Pierre")*(Commande!$G$4:$G$17))+ SUMPRODUCT((Commande!$I$4:$I$17="B2")*(TEXT(Commande!$A$4:$A$17,"mmmm")=O$79)*(YEAR(Commande!$A$4:$A$17)=2023)*(Commande!$T$4:$T$17="Martin")*(Commande!$G$4:$G$17))} -> 0
