Workbook
Name Liste: DONNEES!$B$4:$B$17
Name LISTE1: Feuil1!$R$11:$R$25
Name LISTE2: Feuil1!$S$11:$S$25
Name LISTE3: Feuil1!$T$11:$T$25
Name LISTE4: Feuil1!$U$11:$U$25

Sheet DONNEES
A4: B | B4: BANANE | C4: 4 | D4: B
A5: C | B5: CITRON | C5: 1 | D5: C
A6: B | B6: FIGUE | C6: 2 | D6: B
A7: C | B7: FRAISE | C7: 3 | D7: C
A8: C | B8: KIWI | C8: 3 | D8: C
A9: B | B9: MANDARINE | C9: 4 | D9: B
A10: B | B10: MANGUE | C10: 4 | D10: B
A11: C | B11: MELON | C11: 1 | D11: C
A12: B | B12: NOIX | C12: 2 | D12: B
A13: C | B13: ORANGE | C13: 1 | D13: C
A14: B | B14: PASTEC | C14: 2 | D14: B
A15: B | B15: POIRE | C15: 2 | D15: B
... A17: C | B17: RAISIN | C17: 3 | D17: C

Sheet Feuil1
B8: RECHERCHE
B10: LISTE3 | R10: 1 | S10: 2 | T10: 3 | U10: 4
R11: LISTE1 | S11: LISTE2 | T11: LISTE3 | U11: LISTE4
R12: =IFERROR(INDEX(DONNEES!$B$4:$B$17,_xlfn.AGGREGATE(15,6,(1/((DONNEES!$C$4:$C$17=Feuil1!$R$10))*ROW(DONNEES!$B$4:$B$17)-3),ROW()-11)),"") | S12: =IFERROR(INDEX(DONNEES!$B$4:$B$17,_xlfn.AGGREGATE(15,6,(1/((DONNEES!$C$4:$C$17=Feuil1!$S$10))*ROW(DONNEES!$B$4:$B$17)-3),ROW()-11)),"") | T12: =IFERROR(INDEX(DONNEES!$B$4:$B$17,_xlfn.AGGREGATE(15,6,(1/((DONNEES!$C$4:$C$17=Feuil1!$T$10))*ROW(DONNEES!$B$4:$B$17)-3),ROW()-11)),"") | U12: =IFERROR(INDEX(DONNEES!$B$4:$B$17,_xlfn.AGGREGATE(15,6,(1/((DONNEES!$C$4:$C$17=Feuil1!$U$10))*ROW(DONNEES!$B$4:$B$17)-3),ROW()-11)),"")
D13: =IF(INDIRECT(ADDRESS(ROW(),COLUMN()+1))="","",VLOOKUP(INDIRECT(ADDRESS(ROW(),COLUMN()+1)),DONNEES!$B$4:$D$17,3,0)) -> C | E13: MELON | F13: =IF(INDIRECT(ADDRESS(ROW(),COLUMN()-1))="","",VLOOKUP(INDIRECT(ADDRESS(ROW(),COLUMN()-1)),DONNEES!$B$4:$D$17,2,0)) -> 1 | H13: =IF(INDIRECT(ADDRESS(ROW(),COLUMN()+1))="","",VLOOKUP(INDIRECT(ADDRESS(ROW(),COLUMN()+1)),DONNEES!$B$4:$D$17,3,0)) -> B | I13: FIGUE | J13: =IF(INDIRECT(ADDRESS(ROW(),COLUMN()-1))="","",VLOOKUP(INDIRECT(ADDRESS(ROW(),COLUMN()-1)),DONNEES!$B$4:$D$17,2,0)) -> 2 | L13: =IF(INDIRECT(ADDRESS(ROW(),COLUMN()+1))="","",VLOOKUP(INDIRECT(ADDRESS(ROW(),COLUMN()+1)),DONNEES!$B$4:$D$17,3,0)) -> B | M13: BANANE | N13: =IF(INDIRECT(ADDRESS(ROW(),COLUMN()-1))="","",VLOOKUP(INDIRECT(ADDRESS(ROW(),COLUMN()-1)),DONNEES!$B$4:$D$17,2,0)) -> 4 | R13: =IFERROR(INDEX(DONNEES!$B$4:$B$17,_xlfn.AGGREGATE(15,6,(1/((DONNEES!$C$4:$C$17=Feuil1!$R$10))*ROW(DONNEES!$B$4:$B$17)-3),ROW()-11)),"") | S13: =IFERROR(INDEX(DONNEES!$B$4:$B$17,_xlfn.AGGREGATE(15,6,(1/((DONNEES!$C$4:$C$17=Feuil1!$S$10))*ROW(DONNEES!$B$4:$B$17)-3),ROW()-11)),"") | T13: =IFERROR(INDEX(DONNEES!$B$4:$B$17,_xlfn.AGGREGATE(15,6,(1/((DONNEES!$C$4:$C$17=Feuil1!$T$10))*ROW(DONNEES!$B$4:$B$17)-3),ROW()-11)),"") | U13: =IFERROR(INDEX(DONNEES!$B$4:$B$17,_xlfn.AGGREGATE(15,6,(1/((DONNEES!$C$4:$C$17=Feuil1!$U$10))*ROW(DONNEES!$B$4:$B$17)-3),ROW()-11)),"")
D14: =IF(INDIRECT(ADDRESS(ROW(),COLUMN()+1))="","",VLOOKUP(INDIRECT(ADDRESS(ROW(),COLUMN()+1)),DONNEES!$B$4:$D$17,3,0)) -> A | E14: POMME | F14: =IF(INDIRECT(ADDRESS(ROW(),COLUMN()-1))="","",VLOOKUP(INDIRECT(ADDRESS(ROW(),COLUMN()-1)),DONNEES!$B$4:$D$17,2,0)) -> 1 | H14: =IF(INDIRECT(ADDRESS(ROW(),COLUMN()+1))="","",VLOOKUP(INDIRECT(ADDRESS(ROW(),COLUMN()+1)),DONNEES!$B$4:$D$17,3,0)) -> C | I14: CITRON | J14: =IF(INDIRECT(ADDRESS(ROW(),COLUMN()-1))="","",VLOOKUP(INDIRECT(ADDRESS(ROW(),COLUMN()-1)),DONNEES!$B$4:$D$17,2,0)) -> 1 | L14: =IF(INDIRECT(ADDRESS(ROW(),COLUMN()+1))="","",VLOOKUP(INDIRECT(ADDRESS(ROW(),COLUMN()+1)),DONNEES!$B$4:$D$17,3,0)) -> C | M14: ORANGE | N14: =IF(INDIRECT(ADDRESS(ROW(),COLUMN()-1))="","",VLOOKUP(INDIRECT(ADDRESS(ROW(),COLUMN()-1)),DONNEES!$B$4:$D$17,2,0)) -> 1 | R14: =IFERROR(INDEX(DONNEES!$B$4:$B$17,_xlfn.AGGREGATE(15,6,(1/((DONNEES!$C$4:$C$17=Feuil1!$R$10))*ROW(DONNEES!$B$4:$B$17)-3),ROW()-11)),"") | S14: =IFERROR(INDEX(DONNEES!$B$4:$B$17,_xlfn.AGGREGATE(15,6,(1/((DONNEES!$C$4:$C$17=Feuil1!$S$10))*ROW(DONNEES!$B$4:$B$17)-3),ROW()-11)),"") | T14: =IFERROR(INDEX(DONNEES!$B$4:$B$17,_xlfn.AGGREGATE(15,6,(1/((DONNEES!$C$4:$C$17=Feuil1!$T$10))*ROW(DONNEES!$B$4:$B$17)-3),ROW()-11)),"") | U14: =IFERROR(INDEX(DONNEES!$B$4:$B$17,_xlfn.AGGREGATE(15,6,(1/((DONNEES!$C$4:$C$17=Feuil1!$U$10))*ROW(DONNEES!$B$4:$B$17)-3),ROW()-11)),"")
D15: =IF(INDIRECT(ADDRESS(ROW(),COLUMN()+1))="","",VLOOKUP(INDIRECT(ADDRESS(ROW(),COLUMN()+1)),DONNEES!$B$4:$D$17,3,0)) -> C | E15: ORANGE | F15: =IF(INDIRECT(ADDRESS(ROW(),COLUMN()-1))="","",VLOOKUP(INDIRECT(ADDRESS(ROW(),COLUMN()-1)),DONNEES!$B$4:$D$17,2,0)) -> 1 | H15: =IF(INDIRECT(ADDRESS(ROW(),COLUMN()+1))="","",VLOOKUP(INDIRECT(ADDRESS(ROW(),COLUMN()+1)),DONNEES!$B$4:$D$17,3,0)) -> B | I15: MANGUE | J15: =IF(INDIRECT(ADDRESS(ROW(),COLUMN()-1))="","",VLOOKUP(INDIRECT(ADDRESS(ROW(),COLUMN()-1)),DONNEES!$B$4:$D$17,2,0)) -> 4 | L15: =IF(INDIRECT(ADDRESS(ROW(),COLUMN()+1))="","",VLOOKUP(INDIRECT(ADDRESS(ROW(),COLUMN()+1)),DONNEES!$B$4:$D$17,3,0)) -> C | M15: RAISIN | N15: =IF(INDIRECT(ADDRESS(ROW(),COLUMN()-1))="","",VLOOKUP(INDIRECT(ADDRESS(ROW(),COLUMN()-1)),DONNEES!$B$4:$D$17,2,0)) -> 3 | R15: =IFERROR(INDEX(DONNEES!$B$4:$B$17,_xlfn.AGGREGATE(15,6,(1/((DONNEES!$C$4:$C$17=Feuil1!$R$10))*ROW(DONNEES!$B$4:$B$17)-3),ROW()-11)),"") | S15: =IFERROR(INDEX(DONNEES!$B$4:$B$17,_xlfn.AGGREGATE(15,6,(1/((DONNEES!$C$4:$C$17=Feuil1!$S$10))*ROW(DONNEES!$B$4:$B$17)-3),ROW()-11)),"") | T15: =IFERROR(INDEX(DONNEES!$B$4:$B$17,_xlfn.AGGREGATE(15,6,(1/((DONNEES!$C$4:$C$17=Feuil1!$T$10))*ROW(DONNEES!$B$4:$B$17)-3),ROW()-11)),"") | U15: =IFERROR(INDEX(DONNEES!$B$4:$B$17,_xlfn.AGGREGATE(15,6,(1/((DONNEES!$C$4:$C$17=Feuil1!$U$10))*ROW(DONNEES!$B$4:$B$17)-3),ROW()-11)),"")
D16: =IF(INDIRECT(ADDRESS(ROW(),COLUMN()+1))="","",VLOOKUP(INDIRECT(ADDRESS(ROW(),COLUMN()+1)),DONNEES!$B$4:$D$17,3,0)) -> C | E16: FRAISE | F16: =IF(INDIRECT(ADDRESS(ROW(),COLUMN()-1))="","",VLOOKUP(INDIRECT(ADDRESS(ROW(),COLUMN()-1)),DONNEES!$B$4:$D$17,2,0)) -> 3 | H16: =IF(INDIRECT(ADDRESS(ROW(),COLUMN()+1))="","",VLOOKUP(INDIRECT(ADDRESS(ROW(),COLUMN()+1)),DONNEES!$B$4:$D$17,3,0)) | J16: =IF(INDIRECT(ADDRESS(ROW(),COLUMN()-1))="","",VLOOKUP(INDIRECT(ADDRESS(ROW(),COLUMN()-1)),DONNEES!$B$4:$D$17,2,0)) | L16: =IF(INDIRECT(ADDRESS(ROW(),COLUMN()+1))="","",VLOOKUP(INDIRECT(ADDRESS(ROW(),COLUMN()+1)),DONNEES!$B$4:$D$17,3,0)) -> B | M16: NOIX | N16: =IF(INDIRECT(ADDRESS(ROW(),COLUMN()-1))="","",VLOOKUP(INDIRECT(ADDRESS(ROW(),COLUMN()-1)),DONNEES!$B$4:$D$17,2,0)) -> 2 | R16: =IFERROR(INDEX(DONNEES!$B$4:$B$17,_xlfn.AGGREGATE(15,6,(1/((DONNEES!$C$4:$C$17=Feuil1!$R$10))*ROW(DONNEES!$B$4:$B$17)-3),ROW()-11)),"") | S16: =IFERROR(INDEX(DONNEES!$B$4:$B$17,_xlfn.AGGREGATE(15,6,(1/((DONNEES!$C$4:$C$17=Feuil1!$S$10))*ROW(DONNEES!$B$4:$B$17)-3),ROW()-11)),"") | T16: =IFERROR(INDEX(DONNEES!$B$4:$B$17,_xlfn.AGGREGATE(15,6,(1/((DONNEES!$C$4:$C$17=Feuil1!$T$10))*ROW(DONNEES!$B$4:$B$17)-3),ROW()-11)),"") | U16: =IFERROR(INDEX(DONNEES!$B$4:$B$17,_xlfn.AGGREGATE(15,6,(1/((DONNEES!$C$4:$C$17=Feuil1!$U$10))*ROW(DONNEES!$B$4:$B$17)-3),ROW()-11)),"")
D17: =IF(INDIRECT(ADDRESS(ROW(),COLUMN()+1))="","",VLOOKUP(INDIRECT(ADDRESS(ROW(),COLUMN()+1)),DONNEES!$B$4:$D$17,3,0)) -> B | E17: PASTEC | F17: =IF(INDIRECT(ADDRESS(ROW(),COLUMN()-1))="","",VLOOKUP(INDIRECT(ADDRESS(ROW(),COLUMN()-1)),DONNEES!$B$4:$D$17,2,0)) -> 2 | H17: =IF(INDIRECT(ADDRESS(ROW(),COLUMN()+1))="","",VLOOKUP(INDIRECT(ADDRESS(ROW(),COLUMN()+1)),DONNEES!$B$4:$D$17,3,0)) | J17: =IF(INDIRECT(ADDRESS(ROW(),COLUMN()-1))="","",VLOOKUP(INDIRECT(ADDRESS(ROW(),COLUMN()-1)),DONNEES!$B$4:$D$17,2,0)) | L17: =IF(INDIRECT(ADDRESS(ROW(),COLUMN()+1))="","",VLOOKUP(INDIRECT(ADDRESS(ROW(),COLUMN()+1)),DONNEES!$B$4:$D$17,3,0)) | N17: =IF(INDIRECT(ADDRESS(ROW(),COLUMN()-1))="","",VLOOKUP(INDIRECT(ADDRESS(ROW(),COLUMN()-1)),DONNEES!$B$4:$D$17,2,0)) | R17: =IFERROR(INDEX(DONNEES!$B$4:$B$17,_xlfn.AGGREGATE(15,6,(1/((DONNEES!$C$4:$C$17=Feuil1!$R$10))*ROW(DONNEES!$B$4:$B$17)-3),ROW()-11)),"") | S17: =IFERROR(INDEX(DONNEES!$B$4:$B$17,_xlfn.AGGREGATE(15,6,(1/((DONNEES!$C$4:$C$17=Feuil1!$S$10))*ROW(DONNEES!$B$4:$B$17)-3),ROW()-11)),"") | T17: =IFERROR(INDEX(DONNEES!$B$4:$B$17,_xlfn.AGGREGATE(15,6,(1/((DONNEES!$C$4:$C$17=Feuil1!$T$10))*ROW(DONNEES!$B$4:$B$17)-3),ROW()-11)),"") | U17: =IFERROR(INDEX(DONNEES!$B$4:$B$17,_xlfn.AGGREGATE(15,6,(1/((DONNEES!$C$4:$C$17=Feuil1!$U$10))*ROW(DONNEES!$B$4:$B$17)-3),ROW()-11)),"")
D18: =IF(INDIRECT(ADDRESS(ROW(),COLUMN()+1))="","",VLOOKUP(INDIRECT(ADDRESS(ROW(),COLUMN()+1)),DONNEES!$B$4:$D$17,3,0)) -> C | E18: MELON | F18: =IF(INDIRECT(ADDRESS(ROW(),COLUMN()-1))="","",VLOOKUP(INDIRECT(ADDRESS(ROW(),COLUMN()-1)),DONNEES!$B$4:$D$17,2,0)) -> 1 | H18: =IF(INDIRECT(ADDRESS(ROW(),COLUMN()+1))="","",VLOOKUP(INDIRECT(ADDRESS(ROW(),COLUMN()+1)),DONNEES!$B$4:$D$17,3,0)) | J18: =IF(INDIRECT(ADDRESS(ROW(),COLUMN()-1))="","",VLOOKUP(INDIRECT(ADDRESS(ROW(),COLUMN()-1)),DONNEES!$B$4:$D$17,2,0)) | L18: =IF(INDIRECT(ADDRESS(ROW(),COLUMN()+1))="","",VLOOKUP(INDIRECT(ADDRESS(ROW(),COLUMN()+1)),DONNEES!$B$4:$D$17,3,0)) | N18: =IF(INDIRECT(ADDRESS(ROW(),COLUMN()-1))="","",VLOOKUP(INDIRECT(ADDRESS(ROW(),COLUMN()-1)),DONNEES!$B$4:$D$17,2,0)) | R18: =IFERROR(INDEX(DONNEES!$B$4:$B$17,_xlfn.AGGREGATE(15,6,(1/((DONNEES!$C$4:$C$17=Feuil1!R16))*ROW(DONNEES!$B$4:$B$17)-3),ROW()-11)),"") | S18: =IFERROR(INDEX(DONNEES!$B$4:$B$17,_xlfn.AGGREGATE(15,6,(1/((DONNEES!$C$4:$C$17=Feuil1!$S$10))*ROW(DONNEES!$B$4:$B$17)-3),ROW()-11)),"") | T18: =IFERROR(INDEX(DONNEES!$B$4:$B$17,_xlfn.AGGREGATE(15,6,(1/((DONNEES!$C$4:$C$17=Feuil1!$T$10))*ROW(DONNEES!$B$4:$B$17)-3),ROW()-11)),"") | U18: =IFERROR(INDEX(DONNEES!$B$4:$B$17,_xlfn.AGGREGATE(15,6,(1/((DONNEES!$C$4:$C$17=Feuil1!$U$10))*ROW(DONNEES!$B$4:$B$17)-3),ROW()-11)),"")
D19: =IF(INDIRECT(ADDRESS(ROW(),COLUMN()+1))="","",VLOOKUP(INDIRECT(ADDRESS(ROW(),COLUMN()+1)),DONNEES!$B$4:$D$17,3,0)) | F19: =IF(INDIRECT(ADDRESS(ROW(),COLUMN()-1))="","",VLOOKUP(INDIRECT(ADDRESS(ROW(),COLUMN()-1)),DONNEES!$B$4:$D$17,2,0)) | H19: =IF(INDIRECT(ADDRESS(ROW(),COLUMN()+1))="","",VLOOKUP(INDIRECT(ADDRESS(ROW(),COLUMN()+1)),DONNEES!$B$4:$D$17,3,0)) | J19: =IF(INDIRECT(ADDRESS(ROW(),COLUMN()-1))="","",VLOOKUP(INDIRECT(ADDRESS(ROW(),COLUMN()-1)),DONNEES!$B$4:$D$17,2,0)) | L19: =IF(INDIRECT(ADDRESS(ROW(),COLUMN()+1))="","",VLOOKUP(INDIRECT(ADDRESS(ROW(),COLUMN()+1)),DONNEES!$B$4:$D$17,3,0)) | N19: =IF(INDIRECT(ADDRESS(ROW(),COLUMN()-1))="","",VLOOKUP(INDIRECT(ADDRESS(ROW(),COLUMN()-1)),DONNEES!$B$4:$D$17,2,0)) | R19: =IFERROR(INDEX(DONNEES!$B$4:$B$17,_xlfn.AGGREGATE(15,6,(1/((DONNEES!$C$4:$C$17=Feuil1!R17))*ROW(DONNEES!$B$4:$B$17)-3),ROW()-11)),"") | S19: =IFERROR(INDEX(DONNEES!$B$4:$B$17,_xlfn.AGGREGATE(15,6,(1/((DONNEES!$C$4:$C$17=Feuil1!$S$10))*ROW(DONNEES!$B$4:$B$17)-3),ROW()-11)),"") | T19: =IFERROR(INDEX(DONNEES!$B$4:$B$17,_xlfn.AGGREGATE(15,6,(1/((DONNEES!$C$4:$C$17=Feuil1!$T$10))*ROW(DONNEES!$B$4:$B$17)-3),ROW()-11)),"") | U19: =IFERROR(INDEX(DONNEES!$B$4:$B$17,_xlfn.AGGREGATE(15,6,(1/((DONNEES!$C$4:$C$17=Feuil1!$U$10))*ROW(DONNEES!$B$4:$B$17)-3),ROW()-11)),"")
D20: =IF(INDIRECT(ADDRESS(ROW(),COLUMN()+1))="","",VLOOKUP(INDIRECT(ADDRESS(ROW(),COLUMN()+1)),DONNEES!$B$4:$D$17,3,0)) -> B | E20: BANANE | F20: =IF(INDIRECT(ADDRESS(ROW(),COLUMN()-1))="","",VLOOKUP(INDIRECT(ADDRESS(ROW(),COLUMN()-1)),DONNEES!$B$4:$D$17,2,0)) -> 4 | H20: =IF(INDIRECT(ADDRESS(ROW(),COLUMN()+1))="","",VLOOKUP(INDIRECT(ADDRESS(ROW(),COLUMN()+1)),DONNEES!$B$4:$D$17,3,0)) -> C | I20: RAISIN | J20: =IF(INDIRECT(ADDRESS(ROW(),COLUMN()-1))="","",VLOOKUP(INDIRECT(ADDRESS(ROW(),COLUMN()-1)),DONNEES!$B$4:$D$17,2,0)) -> 3 | L20: =IF(INDIRECT(ADDRESS(ROW(),COLUMN()+1))="","",VLOOKUP(INDIRECT(ADDRESS(ROW(),COLUMN()+1)),DONNEES!$B$4:$D$17,3,0)) | N20: =IF(INDIRECT(ADDRESS(ROW(),COLUMN()-1))="","",VLOOKUP(INDIRECT(ADDRESS(ROW(),COLUMN()-1)),DONNEES!$B$4:$D$17,2,0)) | R20: =IFERROR(INDEX(DONNEES!$B$4:$B$17,_xlfn.AGGREGATE(15,6,(1/((DONNEES!$C$4:$C$17=Feuil1!R18))*ROW(DONNEES!$B$4:$B$17)-3),ROW()-11)),"") | S20: =IFERROR(INDEX(DONNEES!$B$4:$B$17,_xlfn.AGGREGATE(15,6,(1/((DONNEES!$C$4:$C$17=Feuil1!$S$10))*ROW(DONNEES!$B$4:$B$17)-3),ROW()-11)),"") | T20: =IFERROR(INDEX(DONNEES!$B$4:$B$17,_xlfn.AGGREGATE(15,6,(1/((DONNEES!$C$4:$C$17=Feuil1!$T$10))*ROW(DONNEES!$B$4:$B$17)-3),ROW()-11)),"") | U20: =IFERROR(INDEX(DONNEES!$B$4:$B$17,_xlfn.AGGREGATE(15,6,(1/((DONNEES!$C$4:$C$17=Feuil1!$U$10))*ROW(DONNEES!$B$4:$B$17)-3),ROW()-11)),"")
D21: =IF(INDIRECT(ADDRESS(ROW(),COLUMN()+1))="","",VLOOKUP(INDIRECT(ADDRESS(ROW(),COLUMN()+1)),DONNEES!$B$4:$D$17,3,0)) | F21: =IF(INDIRECT(ADDRESS(ROW(),COLUMN()-1))="","",VLOOKUP(INDIRECT(ADDRESS(ROW(),COLUMN()-1)),DONNEES!$B$4:$D$17,2,0)) | H21: =IF(INDIRECT(ADDRESS(ROW(),COLUMN()+1))="","",VLOOKUP(INDIRECT(ADDRESS(ROW(),COLUMN()+1)),DONNEES!$B$4:$D$17,3,0)) -> C | I21: CITRON | J21: =IF(INDIRECT(ADDRESS(ROW(),COLUMN()-1))="","",VLOOKUP(INDIRECT(ADDRESS(ROW(),COLUMN()-1)),DONNEES!$B$4:$D$17,2,0)) -> 1 | L21: =IF(INDIRECT(ADDRESS(ROW(),COLUMN()+1))="","",VLOOKUP(INDIRECT(ADDRESS(ROW(),COLUMN()+1)),DONNEES!$B$4:$D$17,3,0)) | N21: =IF(INDIRECT(ADDRESS(ROW(),COLUMN()-1))="","",VLOOKUP(INDIRECT(ADDRESS(ROW(),COLUMN()-1)),DONNEES!$B$4:$D$17,2,0)) | R21: =IFERROR(INDEX(DONNEES!$B$4:$B$17,_xlfn.AGGREGATE(15,6,(1/((DONNEES!$C$4:$C$17=Feuil1!R19))*ROW(DONNEES!$B$4:$B$17)-3),ROW()-11)),"") | S21: =IFERROR(INDEX(DONNEES!$B$4:$B$17,_xlfn.AGGREGATE(15,6,(1/((DONNEES!$C$4:$C$17=Feuil1!$S$10))*ROW(DONNEES!$B$4:$B$17)-3),ROW()-11)),"") | T21: =IFERROR(INDEX(DONNEES!$B$4:$B$17,_xlfn.AGGREGATE(15,6,(1/((DONNEES!$C$4:$C$17=Feuil1!$T$10))*ROW(DONNEES!$B$4:$B$17)-3),ROW()-11)),"") | U21: =IFERROR(INDEX(DONNEES!$B$4:$B$17,_xlfn.AGGREGATE(15,6,(1/((DONNEES!$C$4:$C$17=Feuil1!$U$10))*ROW(DONNEES!$B$4:$B$17)-3),ROW()-11)),"")
D22: =IF(INDIRECT(ADDRESS(ROW(),COLUMN()+1))="","",VLOOKUP(INDIRECT(ADDRESS(ROW(),COLUMN()+1)),DONNEES!$B$4:$D$17,3,0)) | F22: =IF(INDIRECT(ADDRESS(ROW(),COLUMN()-1))="","",VLOOKUP(INDIRECT(ADDRESS(ROW(),COLUMN()-1)),DONNEES!$B$4:$D$17,2,0)) | H22: =IF(INDIRECT(ADDRESS(ROW(),COLUMN()+1))="","",VLOOKUP(INDIRECT(ADDRESS(ROW(),COLUMN()+1)),DONNEES!$B$4:$D$17,3,0)) | J22: =IF(INDIRECT(ADDRESS(ROW(),COLUMN()-1))="","",VLOOKUP(INDIRECT(ADDRESS(ROW(),COLUMN()-1)),DONNEES!$B$4:$D$17,2,0)) | L22: =IF(INDIRECT(ADDRESS(ROW(),COLUMN()+1))="","",VLOOKUP(INDIRECT(ADDRESS(ROW(),COLUMN()+1)),DONNEES!$B$4:$D$17,3,0)) | N22: =IF(INDIRECT(ADDRESS(ROW(),COLUMN()-1))="","",VLOOKUP(INDIRECT(ADDRESS(ROW(),COLUMN()-1)),DONNEES!$B$4:$D$17,2,0)) | R22: =IFERROR(INDEX(DONNEES!$B$4:$B$17,_xlfn.AGGREGATE(15,6,(1/((DONNEES!$C$4:$C$17=Feuil1!R20))*ROW(DONNEES!$B$4:$B$17)-3),ROW()-11)),"") | S22: =IFERROR(INDEX(DONNEES!$B$4:$B$17,_xlfn.AGGREGATE(15,6,(1/((DONNEES!$C$4:$C$17=Feuil1!$S$10))*ROW(DONNEES!$B$4:$B$17)-3),ROW()-11)),"") | T22: =IFERROR(INDEX(DONNEES!$B$4:$B$17,_xlfn.AGGREGATE(15,6,(1/((DONNEES!$C$4:$C$17=Feuil1!$T$10))*ROW(DONNEES!$B$4:$B$17)-3),ROW()-11)),"")
D23: =IF(INDIRECT(ADDRESS(ROW(),COLUMN()+1))="","",VLOOKUP(INDIRECT(ADDRESS(ROW(),COLUMN()+1)),DONNEES!$B$4:$D$17,3,0)) | F23: =IF(INDIRECT(ADDRESS(ROW(),COLUMN()-1))="","",VLOOKUP(INDIRECT(ADDRESS(ROW(),COLUMN()-1)),DONNEES!$B$4:$D$17,2,0)) | H23: =IF(INDIRECT(ADDRESS(ROW(),COLUMN()+1))="","",VLOOKUP(INDIRECT(ADDRESS(ROW(),COLUMN()+1)),DONNEES!$B$4:$D$17,3,0)) | J23: =IF(INDIRECT(ADDRESS(ROW(),COLUMN()-1))="","",VLOOKUP(INDIRECT(ADDRESS(ROW(),COLUMN()-1)),DONNEES!$B$4:$D$17,2,0)) | L23: =IF(INDIRECT(ADDRESS(ROW(),COLUMN()+1))="","",VLOOKUP(INDIRECT(ADDRESS(ROW(),COLUMN()+1)),DONNEES!$B$4:$D$17,3,0)) | N23: =IF(INDIRECT(ADDRESS(ROW(),COLUMN()-1))="","",VLOOKUP(INDIRECT(ADDRESS(ROW(),COLUMN()-1)),DONNEES!$B$4:$D$17,2,0)) | R23: =IFERROR(INDEX(DONNEES!$B$4:$B$17,_xlfn.AGGREGATE(15,6,(1/((DONNEES!$C$4:$C$17=Feuil1!R21))*ROW(DONNEES!$B$4:$B$17)-3),ROW()-11)),"") | S23: =IFERROR(INDEX(DONNEES!$B$4:$B$17,_xlfn.AGGREGATE(15,6,(1/((DONNEES!$C$4:$C$17=Feuil1!$S$10))*ROW(DONNEES!$B$4:$B$17)-3),ROW()-11)),"") | T23: =IFERROR(INDEX(DONNEES!$B$4:$B$17,_xlfn.AGGREGATE(15,6,(1/((DONNEES!$C$4:$C$17=Feuil1!$T$10))*ROW(DONNEES!$B$4:$B$17)-3),ROW()-11)),"")
D24: =IF(INDIRECT(ADDRESS(ROW(),COLUMN()+1))="","",VLOOKUP(INDIRECT(ADDRESS(ROW(),COLUMN()+1)),DONNEES!$B$4:$D$17,3,0)) | F24: =IF(INDIRECT(ADDRESS(ROW(),COLUMN()-1))="","",VLOOKUP(INDIRECT(ADDRESS(ROW(),COLUMN()-1)),DONNEES!$B$4:$D$17,2,0)) | H24: =IF(INDIRECT(ADDRESS(ROW(),COLUMN()+1))="","",VLOOKUP(INDIRECT(ADDRESS(ROW(),COLUMN()+1)),DONNEES!$B$4:$D$17,3,0)) | J24: =IF(INDIRECT(ADDRESS(ROW(),COLUMN()-1))="","",VLOOKUP(INDIRECT(ADDRESS(ROW(),COLUMN()-1)),DONNEES!$B$4:$D$17,2,0)) | L24: =IF(INDIRECT(ADDRESS(ROW(),COLUMN()+1))="","",VLOOKUP(INDIRECT(ADDRESS(ROW(),COLUMN()+1)),DONNEES!$B$4:$D$17,3,0)) | N24: =IF(INDIRECT(ADDRESS(ROW(),COLUMN()-1))="","",VLOOKUP(INDIRECT(ADDRESS(ROW(),COLUMN()-1)),DONNEES!$B$4:$D$17,2,0)) | R24: =IFERROR(INDEX(DONNEES!$B$4:$B$17,_xlfn.AGGREGATE(15,6,(1/((DONNEES!$C$4:$C$17=Feuil1!R22))*ROW(DONNEES!$B$4:$B$17)-3),ROW()-11)),"") | S24: =IFERROR(INDEX(DONNEES!$B$4:$B$17,_xlfn.AGGREGATE(15,6,(1/((DONNEES!$C$4:$C$17=Feuil1!$S$10))*ROW(DONNEES!$B$4:$B$17)-3),ROW()-11)),"") | T24: =IFERROR(INDEX(DONNEES!$B$4:$B$17,_xlfn.AGGREGATE(15,6,(1/((DONNEES!$C$4:$C$17=Feuil1!$T$10))*ROW(DONNEES!$B$4:$B$17)-3),ROW()-11)),"")
R25: =IFERROR(INDEX(DONNEES!$B$4:$B$17,_xlfn.AGGREGATE(15,6,(1/((DONNEES!$C$4:$C$17=Feuil1!R23))*ROW(DONNEES!$B$4:$B$17)-3),ROW()-11)),"")
E29: J'ai créé 3 listes de noms : LISTE1, LISTE2, LISTE3 Je recheche la formule à mettre dans la MFC pour colorier la cellule de gauche par rapport au nom de la cellule colonne E,I ou M. Actuellement je colore la cellule centrale en fonction de la donnée en B10 et de la feuille de données.
