Workbook
Name CACESSST: Tableau5[#All]
Name JOURSFERIES: Parametre!$K$20:$K$32
Name NBRCONGEACQUIS: Tableau5[#All]

Sheet Parametre
B1: ANNEE TRAVAILLE | C1: 44927 | D1: Renseigner l'année JJ/MM/AAAA
B2: ANNEE TRAVAILLE | C2: 2023 | D2: Renseigner l'année AAAA
B5: SALARIE | C5: CONGE PAYE | D5: SUPRA | E5: C. Ancienneté | F5: Autres | G5: CACES | H5: SST | I5: SECTEUR | K5: SECTEUR | M5: ABSENCE | N5: Colonne1
B6: a | G6: OUI | H6: OUI | I6: Mécanique | K6: Assemb./Condi | M6: Congé payé | N6: CP
B7: b | G7: NON | H7: NON | I7: Assem./Cond/Self | K7: Espace vert | M7: Congé ancienneté | N7: CA
B8: c | G8: NON | H8: NON | I8: Assemb./Condi | K8: Mécanique | M8: Supra | N8: SUP
B9: d | G9: NON | H9: NON | I9: Assemb./Condi | K9: Assem./Cond/Self | M9: Absence maladie | N9: AM
B10: e | G10: NON | H10: NON | I10: Assem./Cond/Self | K10: Mécanique / Self | M10: Absence S J | N10: ASJ
B11: f | G11: NON | H11: NON | I11: Assem./Cond/Self | K11: Espace vert / Self | M11: Congé Paternité Maternité | N11: CPM
B12: g | G12: OUI | H12: OUI | I12: Espace vert | M12: Heure à prendre | N12: HP
B13: h | G13: OUI | H13: NON | I13: Espace vert | M13: Férié | N13: F
B14: i | G14: OUI | H14: NON | I14: Mécanique / Self | M14: Présent | N14: P
B15: j | G15: OUI | H15: NON | I15: Mécanique
B16: -
B17: -
B18: -
B19: - | K19: JOURS FERIES | L19: =C2 -> 2023
B20: - | K20: =DATE(L19,1,1) -> 44927 | L20: Jour de l'an
B21: - | K21: =FLOOR(DAY(MINUTE($L$19/38)/2+56)&"/5/"&$L$19,7)-34 -> 45025 | L21: Pâques
B22: - | K22: =K21+1 -> 45026 | L22: Lundi de pâques
B23: - | K23: =DATE($L$19,5,1) -> 45047 | L23: Fête du travail
B24: - | K24: =DATE($L$19,5,8) -> 45054 | L24: Armistice 39/45
B25: - | K25: =K21+39 -> 45064 | L25: Ascension
B26: - | K26: =K21+49 -> 45074 | L26: Pentecôte
B27: - | K27: =K21+50 -> 45075 | L27: Lundi de pentencôte
B28: - | K28: =DATE($L$19,7,14) -> 45121 | L28: Fête national
B29: - | K29: =DATE($L$19,8,15) -> 45153 | L29: Assomption
B30: - | K30: =DATE($L$19,11,1) -> 45231 | L30: Toussaint
B31: - | K31: =DATE($L$19,11,11) -> 45241 | L31: Armistice 14/18
B32: - | K32: =DATE($L$19,12,25) -> 45285 | L32: Noël
B33: -
B34: -
B35: -
B36: -
B37: -
B38: -
B39: -
B40: -
B41: -
B42: -
B43: -
B44: -
... B50: -

Sheet Planning
AB1: HP : Peggy 45mn | AE1: Emmanuel A 7h00 | AL1: Peggy T : 3h15 mn | AW1: J-C Hanser 4heures | BN1: Claude 4h45 pas là de la journée | CL1: HP : Jean Christophe 5h00 | DD1: HP : J-C Hanser 2h00
A2: Date de Début planning | C2: 44713 | AZ2: Enrique : 7h00
A3: Date de Fin planning | C3: 46022 | BD3: Peggy 3h15 | BF3: Véronique 4h00 | BG3: Peggy 3h00
A4: Période 1 CP | C4: 44713 | D4: 45077
A5: Période 2 Année Civile | C5: 44927 | D5: 45291
C7: AQUIS | G7: POSE | K7: RESTE
C8: CONGE PAYE | D8: SUPRA | E8: C. Ancienneté | F8: Autres | G8: CONGE PAYE | H8: SUPRA | I8: C. Ancienneté | J8: Autres | K8: CONGE PAYE | L8: SUPRA | M8: C. Ancienneté | N8: Autres | O8: SECTEUR | P8: CACES | Q8: SST | R8: Nom-Prénom | S8: =C2 -> 44713 | T8: =IFERROR(IF(S8+1>$C$3,"",S8+1),"") -> 44714 | U8: =IFERROR(IF(T8+1>$C$3,"",T8+1),"") -> 44715 | V8: =IFERROR(IF(U8+1>$C$3,"",U8+1),"") -> 44716 | W8: =IFERROR(IF(V8+1>$C$3,"",V8+1),"") -> 44717 | X8: =IFERROR(IF(W8+1>$C$3,"",W8+1),"") -> 44718 | Y8: =IFERROR(IF(X8+1>$C$3,"",X8+1),"") -> 44719 | Z8: =IFERROR(IF(Y8+1>$C$3,"",Y8+1),"") -> 44720 | AA8: =IFERROR(IF(Z8+1>$C$3,"",Z8+1),"") -> 44721 | ... AZX8: =IFERROR(IF(AZW8+1>$C$3,"",AZW8+1),"")
C9: =IF(ISBLANK(R9), "",VLOOKUP(R9,NBRCONGEACQUIS,2,FALSE)) -> 0 | D9: =IF(ISBLANK(R9), "",VLOOKUP(R9,NBRCONGEACQUIS,3,FALSE)) -> 0 | E9: =IF(ISBLANK(R9), "",VLOOKUP(R9,NBRCONGEACQUIS,4,FALSE)) -> 0 | F9: =IF(ISBLANK(R9), "",VLOOKUP(R9,NBRCONGEACQUIS,5,FALSE)) -> 0 | G9: =SUMPRODUCT(($S$8:$XFD$8>=$C$4)*($S$8:$XFD$8<=$D$4)*($S9:$XFD9="CP")) -> 1 | H9: =COUNTIF(T9:NZ9,"SUP") -> 0 | I9: =COUNTIF(T9:NZ9,"CA") -> 5 | J9: =SUMPRODUCT(($S$8:$XFD$8>=$C$4)*($S$8:$XFD$8<=$D$4)*($S9:$XFD9="AM"))+ SUMPRODUCT(($S$8:$XFD$8>=$C$4)*($S$8:$XFD$8<=$D$4)*($S9:$XFD9="ASJ"))+ SUMPRODUCT(($S$8:$XFD$8>=$C$4)*($S$8:$XFD$8<=$D$4)*($S9:$XFD9="CPM")) -> 0 | K9: =C9-G9 -> -1 | L9: =D9-H9 -> 0 | M9: =E9-I9 -> -5 | N9: =F9--J9 -> 0 | O9: =IF(ISBLANK(R9),"",VLOOKUP(R9,CACESSST,8,FALSE)) -> Mécanique | P9: =IF(ISBLANK(R9),"",VLOOKUP(R9,CACESSST,6,FALSE)) -> OUI | Q9: =IF(ISBLANK(R9),"",VLOOKUP(R9,CACESSST,7,FALSE)) -> OUI | R9: =IF(ISBLANK(Parametre!B6), "",Parametre!B6) -> a | AE9: HP | BC9: CA | BD9: CA | BE9: CA | BF9: CA | BG9: CA | NQ9: CP
C10: =IF(ISBLANK(R10), "",VLOOKUP(R10,NBRCONGEACQUIS,2,FALSE)) -> 0 | D10: =IF(ISBLANK(R10), "",VLOOKUP(R10,NBRCONGEACQUIS,3,FALSE)) -> 0 | E10: =IF(ISBLANK(R10), "",VLOOKUP(R10,NBRCONGEACQUIS,4,FALSE)) -> 0 | F10: =IF(ISBLANK(R10), "",VLOOKUP(R10,NBRCONGEACQUIS,5,FALSE)) -> 0 | G10: =SUMPRODUCT(($S$8:$XFD$8>=$C$4)*($S$8:$XFD$8<=$D$4)*($S10:$XFD10="CP")) -> 0 | H10: =COUNTIF(T10:NZ10,"SUP") -> 0 | I10: =COUNTIF(T10:NZ10,"CA") -> 0 | J10: =SUMPRODUCT(($S$8:$XFD$8>=$C$4)*($S$8:$XFD$8<=$D$4)*($S10:$XFD10="AM"))+ SUMPRODUCT(($S$8:$XFD$8>=$C$4)*($S$8:$XFD$8<=$D$4)*($S10:$XFD10="ASJ"))+ SUMPRODUCT(($S$8:$XFD$8>=$C$4)*($S$8:$XFD$8<=$D$4)*($S10:$XFD10="CPM")) -> 39 | K10: =C10-G10 -> 0 | L10: =D10-H10 -> 0 | M10: =E10-I10 -> 0 | N10: =F10--J10 -> 39 | O10: =IF(ISBLANK(R10),"",VLOOKUP(R10,CACESSST,8,FALSE)) -> Assem./Cond/Self | P10: =IF(ISBLANK(R10),"",VLOOKUP(R10,CACESSST,6,FALSE)) -> NON | Q10: =IF(ISBLANK(R10),"",VLOOKUP(R10,CACESSST,7,FALSE)) -> NON | R10: =IF(ISBLANK(Parametre!B7), "",Parametre!B7) -> b | U10: AM | V10: AM | W10: AM | X10: AM | AA10: AM | AB10: AM | AC10: AM | AD10: AM | AE10: AM | AH10: AM | AI10: AM | AJ10: AM | AK10: AM | AL10: AM | AO10: AM | AP10: AM | AQ10: AM | AR10: AM | AS10: AM | AV10: AM | AW10: AM | AX10: AM | AY10: AM | AZ10: AM | BC10: AM | BD10: AM | BE10: AM | BF10: AM | BG10: AM | BJ10: AM | BK10: AM | BL10: AM | BM10: AM | BN10: AM | BQ10: AM | BR10: AM | BS10: AM | BT10: AM | BU10: AM
C11: =IF(ISBLANK(R11), "",VLOOKUP(R11,NBRCONGEACQUIS,2,FALSE)) -> 0 | D11: =IF(ISBLANK(R11), "",VLOOKUP(R11,NBRCONGEACQUIS,3,FALSE)) -> 0 | E11: =IF(ISBLANK(R11), "",VLOOKUP(R11,NBRCONGEACQUIS,4,FALSE)) -> 0 | F11: =IF(ISBLANK(R11), "",VLOOKUP(R11,NBRCONGEACQUIS,5,FALSE)) -> 0 | G11: =SUMPRODUCT(($S$8:$XFD$8>=$C$4)*($S$8:$XFD$8<=$D$4)*($S11:$XFD11="CP")) -> 0 | H11: =COUNTIF(T11:NZ11,"SUP") -> 4 | I11: =COUNTIF(T11:NZ11,"CA") -> 0 | J11: =SUMPRODUCT(($S$8:$XFD$8>=$C$4)*($S$8:$XFD$8<=$D$4)*($S11:$XFD11="AM"))+ SUMPRODUCT(($S$8:$XFD$8>=$C$4)*($S$8:$XFD$8<=$D$4)*($S11:$XFD11="ASJ"))+ SUMPRODUCT(($S$8:$XFD$8>=$C$4)*($S$8:$XFD$8<=$D$4)*($S11:$XFD11="CPM")) -> 0 | K11: =C11-G11 -> 0 | L11: =D11-H11 -> -4 | M11: =E11-I11 -> 0 | N11: =F11--J11 -> 0 | O11: =IF(ISBLANK(R11),"",VLOOKUP(R11,CACESSST,8,FALSE)) -> Assemb./Condi | P11: =IF(ISBLANK(R11),"",VLOOKUP(R11,CACESSST,6,FALSE)) -> NON | Q11: =IF(ISBLANK(R11),"",VLOOKUP(R11,CACESSST,7,FALSE)) -> NON | R11: =IF(ISBLANK(Parametre!B8), "",Parametre!B8) -> c | W11: HP | EJ11: SUP | EK11: SUP | EL11: SUP | EM11: SUP
C12: =IF(ISBLANK(R12), "",VLOOKUP(R12,NBRCONGEACQUIS,2,FALSE)) -> 0 | D12: =IF(ISBLANK(R12), "",VLOOKUP(R12,NBRCONGEACQUIS,3,FALSE)) -> 0 | E12: =IF(ISBLANK(R12), "",VLOOKUP(R12,NBRCONGEACQUIS,4,FALSE)) -> 0 | F12: =IF(ISBLANK(R12), "",VLOOKUP(R12,NBRCONGEACQUIS,5,FALSE)) -> 0 | G12: =SUMPRODUCT(($S$8:$XFD$8>=$C$4)*($S$8:$XFD$8<=$D$4)*($S12:$XFD12="CP")) -> 0 | H12: =COUNTIF(T12:NZ12,"SUP") -> 0 | I12: =COUNTIF(T12:NZ12,"CA") -> 0 | J12: =SUMPRODUCT(($S$8:$XFD$8>=$C$4)*($S$8:$XFD$8<=$D$4)*($S12:$XFD12="AM"))+ SUMPRODUCT(($S$8:$XFD$8>=$C$4)*($S$8:$XFD$8<=$D$4)*($S12:$XFD12="ASJ"))+ SUMPRODUCT(($S$8:$XFD$8>=$C$4)*($S$8:$XFD$8<=$D$4)*($S12:$XFD12="CPM")) -> 0 | K12: =C12-G12 -> 0 | L12: =D12-H12 -> 0 | M12: =E12-I12 -> 0 | N12: =F12--J12 -> 0 | O12: =IF(ISBLANK(R12),"",VLOOKUP(R12,CACESSST,8,FALSE)) -> Assemb./Condi | P12: =IF(ISBLANK(R12),"",VLOOKUP(R12,CACESSST,6,FALSE)) -> NON | Q12: =IF(ISBLANK(R12),"",VLOOKUP(R12,CACESSST,7,FALSE)) -> NON | R12: =IF(ISBLANK(Parametre!B9), "",Parametre!B9) -> d | BN12: HP
C13: =IF(ISBLANK(R13), "",VLOOKUP(R13,NBRCONGEACQUIS,2,FALSE)) -> 0 | D13: =IF(ISBLANK(R13), "",VLOOKUP(R13,NBRCONGEACQUIS,3,FALSE)) -> 0 | E13: =IF(ISBLANK(R13), "",VLOOKUP(R13,NBRCONGEACQUIS,4,FALSE)) -> 0 | F13: =IF(ISBLANK(R13), "",VLOOKUP(R13,NBRCONGEACQUIS,5,FALSE)) -> 0 | G13: =SUMPRODUCT(($S$8:$XFD$8>=$C$4)*($S$8:$XFD$8<=$D$4)*($S13:$XFD13="CP")) -> 0 | H13: =COUNTIF(T13:NZ13,"SUP") -> 1 | I13: =COUNTIF(T13:NZ13,"CA") -> 1 | J13: =SUMPRODUCT(($S$8:$XFD$8>=$C$4)*($S$8:$XFD$8<=$D$4)*($S13:$XFD13="AM"))+ SUMPRODUCT(($S$8:$XFD$8>=$C$4)*($S$8:$XFD$8<=$D$4)*($S13:$XFD13="ASJ"))+ SUMPRODUCT(($S$8:$XFD$8>=$C$4)*($S$8:$XFD$8<=$D$4)*($S13:$XFD13="CPM")) -> 0 | K13: =C13-G13 -> 0 | L13: =D13-H13 -> -1 | M13: =E13-I13 -> -1 | N13: =F13--J13 -> 0 | O13: =IF(ISBLANK(R13),"",VLOOKUP(R13,CACESSST,8,FALSE)) -> Assem./Cond/Self | P13: =IF(ISBLANK(R13),"",VLOOKUP(R13,CACESSST,6,FALSE)) -> NON | Q13: =IF(ISBLANK(R13),"",VLOOKUP(R13,CACESSST,7,FALSE)) -> NON | R13: =IF(ISBLANK(Parametre!B10), "",Parametre!B10) -> e | AB13: HP | AL13: HP | BD13: HP | BG13: HP | BJ13: SUP | BM13: CA
C14: =IF(ISBLANK(R14), "",VLOOKUP(R14,NBRCONGEACQUIS,2,FALSE)) -> 0 | D14: =IF(ISBLANK(R14), "",VLOOKUP(R14,NBRCONGEACQUIS,3,FALSE)) -> 0 | E14: =IF(ISBLANK(R14), "",VLOOKUP(R14,NBRCONGEACQUIS,4,FALSE)) -> 0 | F14: =IF(ISBLANK(R14), "",VLOOKUP(R14,NBRCONGEACQUIS,5,FALSE)) -> 0 | G14: =SUMPRODUCT(($S$8:$XFD$8>=$C$4)*($S$8:$XFD$8<=$D$4)*($S14:$XFD14="CP")) -> 0 | H14: =COUNTIF(T14:NZ14,"SUP") -> 1 | I14: =COUNTIF(T14:NZ14,"CA") -> 0 | J14: =SUMPRODUCT(($S$8:$XFD$8>=$C$4)*($S$8:$XFD$8<=$D$4)*($S14:$XFD14="AM"))+ SUMPRODUCT(($S$8:$XFD$8>=$C$4)*($S$8:$XFD$8<=$D$4)*($S14:$XFD14="ASJ"))+ SUMPRODUCT(($S$8:$XFD$8>=$C$4)*($S$8:$XFD$8<=$D$4)*($S14:$XFD14="CPM")) -> 0 | K14: =C14-G14 -> 0 | L14: =D14-H14 -> -1 | M14: =E14-I14 -> 0 | N14: =F14--J14 -> 0 | O14: =IF(ISBLANK(R14),"",VLOOKUP(R14,CACESSST,8,FALSE)) -> Assem./Cond/Self | P14: =IF(ISBLANK(R14),"",VLOOKUP(R14,CACESSST,6,FALSE)) -> NON | Q14: =IF(ISBLANK(R14),"",VLOOKUP(R14,CACESSST,7,FALSE)) -> NON | R14: =IF(ISBLANK(Parametre!B11), "",Parametre!B11) -> f | AE14: SUP | BF14: HP
C15: =IF(ISBLANK(R15), "",VLOOKUP(R15,NBRCONGEACQUIS,2,FALSE)) -> 0 | D15: =IF(ISBLANK(R15), "",VLOOKUP(R15,NBRCONGEACQUIS,3,FALSE)) -> 0 | E15: =IF(ISBLANK(R15), "",VLOOKUP(R15,NBRCONGEACQUIS,4,FALSE)) -> 0 | F15: =IF(ISBLANK(R15), "",VLOOKUP(R15,NBRCONGEACQUIS,5,FALSE)) -> 0 | G15: =SUMPRODUCT(($S$8:$XFD$8>=$C$4)*($S$8:$XFD$8<=$D$4)*($S15:$XFD15="CP")) -> 2 | H15: =COUNTIF(T15:NZ15,"SUP") -> 3 | I15: =COUNTIF(T15:NZ15,"CA") -> 0 | J15: =SUMPRODUCT(($S$8:$XFD$8>=$C$4)*($S$8:$XFD$8<=$D$4)*($S15:$XFD15="AM"))+ SUMPRODUCT(($S$8:$XFD$8>=$C$4)*($S$8:$XFD$8<=$D$4)*($S15:$XFD15="ASJ"))+ SUMPRODUCT(($S$8:$XFD$8>=$C$4)*($S$8:$XFD$8<=$D$4)*($S15:$XFD15="CPM")) -> 0 | K15: =C15-G15 -> -2 | L15: =D15-H15 -> -3 | M15: =E15-I15 -> 0 | N15: =F15--J15 -> 0 | O15: =IF(ISBLANK(R15),"",VLOOKUP(R15,CACESSST,8,FALSE)) -> Espace vert | P15: =IF(ISBLANK(R15),"",VLOOKUP(R15,CACESSST,6,FALSE)) -> OUI | Q15: =IF(ISBLANK(R15),"",VLOOKUP(R15,CACESSST,7,FALSE)) -> OUI | R15: =IF(ISBLANK(Parametre!B12), "",Parametre!B12) -> g | AB15: SUP | BG15: CP | BJ15: CP | BK15: SUP | BL15: SUP
C16: =IF(ISBLANK(R16), "",VLOOKUP(R16,NBRCONGEACQUIS,2,FALSE)) -> 0 | D16: =IF(ISBLANK(R16), "",VLOOKUP(R16,NBRCONGEACQUIS,3,FALSE)) -> 0 | E16: =IF(ISBLANK(R16), "",VLOOKUP(R16,NBRCONGEACQUIS,4,FALSE)) -> 0 | F16: =IF(ISBLANK(R16), "",VLOOKUP(R16,NBRCONGEACQUIS,5,FALSE)) -> 0 | G16: =SUMPRODUCT(($S$8:$XFD$8>=$C$4)*($S$8:$XFD$8<=$D$4)*($S16:$XFD16="CP")) -> 0 | H16: =COUNTIF(T16:NZ16,"SUP") -> 0 | I16: =COUNTIF(T16:NZ16,"CA") -> 0 | J16: =SUMPRODUCT(($S$8:$XFD$8>=$C$4)*($S$8:$XFD$8<=$D$4)*($S16:$XFD16="AM"))+ SUMPRODUCT(($S$8:$XFD$8>=$C$4)*($S$8:$XFD$8<=$D$4)*($S16:$XFD16="ASJ"))+ SUMPRODUCT(($S$8:$XFD$8>=$C$4)*($S$8:$XFD$8<=$D$4)*($S16:$XFD16="CPM")) -> 0 | K16: =C16-G16 -> 0 | L16: =D16-H16 -> 0 | M16: =E16-I16 -> 0 | N16: =F16--J16 -> 0 | O16: =IF(ISBLANK(R16),"",VLOOKUP(R16,CACESSST,8,FALSE)) -> Espace vert | P16: =IF(ISBLANK(R16),"",VLOOKUP(R16,CACESSST,6,FALSE)) -> OUI | Q16: =IF(ISBLANK(R16),"",VLOOKUP(R16,CACESSST,7,FALSE)) -> NON | R16: =IF(ISBLANK(Parametre!B13), "",Parametre!B13) -> h
C17: =IF(ISBLANK(R17), "",VLOOKUP(R17,NBRCONGEACQUIS,2,FALSE)) -> 0 | D17: =IF(ISBLANK(R17), "",VLOOKUP(R17,NBRCONGEACQUIS,3,FALSE)) -> 0 | E17: =IF(ISBLANK(R17), "",VLOOKUP(R17,NBRCONGEACQUIS,4,FALSE)) -> 0 | F17: =IF(ISBLANK(R17), "",VLOOKUP(R17,NBRCONGEACQUIS,5,FALSE)) -> 0 | G17: =SUMPRODUCT(($S$8:$XFD$8>=$C$4)*($S$8:$XFD$8<=$D$4)*($S17:$XFD17="CP")) -> 0 | H17: =COUNTIF(T17:NZ17,"SUP") -> 2 | I17: =COUNTIF(T17:NZ17,"CA") -> 0 | J17: =SUMPRODUCT(($S$8:$XFD$8>=$C$4)*($S$8:$XFD$8<=$D$4)*($S17:$XFD17="AM"))+ SUMPRODUCT(($S$8:$XFD$8>=$C$4)*($S$8:$XFD$8<=$D$4)*($S17:$XFD17="ASJ"))+ SUMPRODUCT(($S$8:$XFD$8>=$C$4)*($S$8:$XFD$8<=$D$4)*($S17:$XFD17="CPM")) -> 0 | K17: =C17-G17 -> 0 | L17: =D17-H17 -> -2 | M17: =E17-I17 -> 0 | N17: =F17--J17 -> 0 | O17: =IF(ISBLANK(R17),"",VLOOKUP(R17,CACESSST,8,FALSE)) -> Mécanique / Self | P17: =IF(ISBLANK(R17),"",VLOOKUP(R17,CACESSST,6,FALSE)) -> OUI | Q17: =IF(ISBLANK(R17),"",VLOOKUP(R17,CACESSST,7,FALSE)) -> NON | R17: =IF(ISBLANK(Parametre!B14), "",Parametre!B14) -> i | AW17: HP | CG17: SUP | CL17: HP | CO17: SUP | DD17: HP
C18: =IF(ISBLANK(R18), "",VLOOKUP(R18,NBRCONGEACQUIS,2,FALSE)) -> 0 | D18: =IF(ISBLANK(R18), "",VLOOKUP(R18,NBRCONGEACQUIS,3,FALSE)) -> 0 | E18: =IF(ISBLANK(R18), "",VLOOKUP(R18,NBRCONGEACQUIS,4,FALSE)) -> 0 | F18: =IF(ISBLANK(R18), "",VLOOKUP(R18,NBRCONGEACQUIS,5,FALSE)) -> 0 | G18: =SUMPRODUCT(($S$8:$XFD$8>=$C$4)*($S$8:$XFD$8<=$D$4)*($S18:$XFD18="CP")) -> 0 | H18: =COUNTIF(T18:NZ18,"SUP") -> 0 | I18: =COUNTIF(T18:NZ18,"CA") -> 0 | J18: =SUMPRODUCT(($S$8:$XFD$8>=$C$4)*($S$8:$XFD$8<=$D$4)*($S18:$XFD18="AM"))+ SUMPRODUCT(($S$8:$XFD$8>=$C$4)*($S$8:$XFD$8<=$D$4)*($S18:$XFD18="ASJ"))+ SUMPRODUCT(($S$8:$XFD$8>=$C$4)*($S$8:$XFD$8<=$D$4)*($S18:$XFD18="CPM")) -> 0 | K18: =C18-G18 -> 0 | L18: =D18-H18 -> 0 | M18: =E18-I18 -> 0 | N18: =F18--J18 -> 0 | O18: =IF(ISBLANK(R18),"",VLOOKUP(R18,CACESSST,8,FALSE)) -> Mécanique | P18: =IF(ISBLANK(R18),"",VLOOKUP(R18,CACESSST,6,FALSE)) -> OUI | Q18: =IF(ISBLANK(R18),"",VLOOKUP(R18,CACESSST,7,FALSE)) -> NON | R18: =IF(ISBLANK(Parametre!B15), "",Parametre!B15) -> j | AZ18: HP
C19: =IF(ISBLANK(R19), "",VLOOKUP(R19,NBRCONGEACQUIS,2,FALSE)) -> 0 | D19: =IF(ISBLANK(R19), "",VLOOKUP(R19,NBRCONGEACQUIS,3,FALSE)) -> 0 | E19: =IF(ISBLANK(R19), "",VLOOKUP(R19,NBRCONGEACQUIS,4,FALSE)) -> 0 | F19: =IF(ISBLANK(R19), "",VLOOKUP(R19,NBRCONGEACQUIS,5,FALSE)) -> 0 | G19: =SUMPRODUCT(($S$8:$XFD$8>=$C$4)*($S$8:$XFD$8<=$D$4)*($S19:$XFD19="CP")) -> 0 | H19: =COUNTIF(T19:NZ19,"SUP") -> 0 | I19: =COUNTIF(T19:NZ19,"CA") -> 0 | J19: =SUMPRODUCT(($S$8:$XFD$8>=$C$4)*($S$8:$XFD$8<=$D$4)*($S19:$XFD19="AM"))+ SUMPRODUCT(($S$8:$XFD$8>=$C$4)*($S$8:$XFD$8<=$D$4)*($S19:$XFD19="ASJ"))+ SUMPRODUCT(($S$8:$XFD$8>=$C$4)*($S$8:$XFD$8<=$D$4)*($S19:$XFD19="CPM")) -> 0 | K19: =C19-G19 -> 0 | L19: =D19-H19 -> 0 | M19: =E19-I19 -> 0 | N19: =F19--J19 -> 0 | O19: =IF(ISBLANK(R19),"",VLOOKUP(R19,CACESSST,8,FALSE)) -> 0 | P19: =IF(ISBLANK(R19),"",VLOOKUP(R19,CACESSST,6,FALSE)) -> 0 | Q19: =IF(ISBLANK(R19),"",VLOOKUP(R19,CACESSST,7,FALSE)) -> 0 | R19: =IF(ISBLANK(Parametre!B16), "",Parametre!B16) -> -
C20: =IF(ISBLANK(R20), "",VLOOKUP(R20,NBRCONGEACQUIS,2,FALSE)) -> 0 | D20: =IF(ISBLANK(R20), "",VLOOKUP(R20,NBRCONGEACQUIS,3,FALSE)) -> 0 | E20: =IF(ISBLANK(R20), "",VLOOKUP(R20,NBRCONGEACQUIS,4,FALSE)) -> 0 | F20: =IF(ISBLANK(R20), "",VLOOKUP(R20,NBRCONGEACQUIS,5,FALSE)) -> 0 | G20: =SUMPRODUCT(($S$8:$XFD$8>=$C$4)*($S$8:$XFD$8<=$D$4)*($S20:$XFD20="CP")) -> 0 | H20: =COUNTIF(T20:NZ20,"SUP") -> 0 | I20: =COUNTIF(T20:NZ20,"CA") -> 0 | J20: =SUMPRODUCT(($S$8:$XFD$8>=$C$4)*($S$8:$XFD$8<=$D$4)*($S20:$XFD20="AM"))+ SUMPRODUCT(($S$8:$XFD$8>=$C$4)*($S$8:$XFD$8<=$D$4)*($S20:$XFD20="ASJ"))+ SUMPRODUCT(($S$8:$XFD$8>=$C$4)*($S$8:$XFD$8<=$D$4)*($S20:$XFD20="CPM")) -> 0 | K20: =C20-G20 -> 0 | L20: =D20-H20 -> 0 | M20: =E20-I20 -> 0 | N20: =F20--J20 -> 0 | O20: =IF(ISBLANK(R20),"",VLOOKUP(R20,CACESSST,8,FALSE)) -> 0 | P20: =IF(ISBLANK(R20),"",VLOOKUP(R20,CACESSST,6,FALSE)) -> 0 | Q20: =IF(ISBLANK(R20),"",VLOOKUP(R20,CACESSST,7,FALSE)) -> 0 | R20: =IF(ISBLANK(Parametre!B17), "",Parametre!B17) -> -
C21: =IF(ISBLANK(R21), "",VLOOKUP(R21,NBRCONGEACQUIS,2,FALSE)) -> 0 | D21: =IF(ISBLANK(R21), "",VLOOKUP(R21,NBRCONGEACQUIS,3,FALSE)) -> 0 | E21: =IF(ISBLANK(R21), "",VLOOKUP(R21,NBRCONGEACQUIS,4,FALSE)) -> 0 | F21: =IF(ISBLANK(R21), "",VLOOKUP(R21,NBRCONGEACQUIS,5,FALSE)) -> 0 | G21: =SUMPRODUCT(($S$8:$XFD$8>=$C$4)*($S$8:$XFD$8<=$D$4)*($S21:$XFD21="CP")) -> 0 | H21: =COUNTIF(T21:NZ21,"SUP") -> 0 | I21: =COUNTIF(T21:NZ21,"CA") -> 0 | J21: =SUMPRODUCT(($S$8:$XFD$8>=$C$4)*($S$8:$XFD$8<=$D$4)*($S21:$XFD21="AM"))+ SUMPRODUCT(($S$8:$XFD$8>=$C$4)*($S$8:$XFD$8<=$D$4)*($S21:$XFD21="ASJ"))+ SUMPRODUCT(($S$8:$XFD$8>=$C$4)*($S$8:$XFD$8<=$D$4)*($S21:$XFD21="CPM")) -> 0 | K21: =C21-G21 -> 0 | L21: =D21-H21 -> 0 | M21: =E21-I21 -> 0 | N21: =F21--J21 -> 0 | O21: =IF(ISBLANK(R21),"",VLOOKUP(R21,CACESSST,8,FALSE)) -> 0 | P21: =IF(ISBLANK(R21),"",VLOOKUP(R21,CACESSST,6,FALSE)) -> 0 | Q21: =IF(ISBLANK(R21),"",VLOOKUP(R21,CACESSST,7,FALSE)) -> 0 | R21: =IF(ISBLANK(Parametre!B18), "",Parametre!B18) -> -
C22: =IF(ISBLANK(R22), "",VLOOKUP(R22,NBRCONGEACQUIS,2,FALSE)) -> 0 | D22: =IF(ISBLANK(R22), "",VLOOKUP(R22,NBRCONGEACQUIS,3,FALSE)) -> 0 | E22: =IF(ISBLANK(R22), "",VLOOKUP(R22,NBRCONGEACQUIS,4,FALSE)) -> 0 | F22: =IF(ISBLANK(R22), "",VLOOKUP(R22,NBRCONGEACQUIS,5,FALSE)) -> 0 | G22: =SUMPRODUCT(($S$8:$XFD$8>=$C$4)*($S$8:$XFD$8<=$D$4)*($S22:$XFD22="CP")) -> 0 | H22: =COUNTIF(T22:NZ22,"SUP") -> 0 | I22: =COUNTIF(T22:NZ22,"CA") -> 0 | J22: =SUMPRODUCT(($S$8:$XFD$8>=$C$4)*($S$8:$XFD$8<=$D$4)*($S22:$XFD22="AM"))+ SUMPRODUCT(($S$8:$XFD$8>=$C$4)*($S$8:$XFD$8<=$D$4)*($S22:$XFD22="ASJ"))+ SUMPRODUCT(($S$8:$XFD$8>=$C$4)*($S$8:$XFD$8<=$D$4)*($S22:$XFD22="CPM")) -> 0 | K22: =C22-G22 -> 0 | L22: =D22-H22 -> 0 | M22: =E22-I22 -> 0 | N22: =F22--J22 -> 0 | O22: =IF(ISBLANK(R22),"",VLOOKUP(R22,CACESSST,8,FALSE)) -> 0 | P22: =IF(ISBLANK(R22),"",VLOOKUP(R22,CACESSST,6,FALSE)) -> 0 | Q22: =IF(ISBLANK(R22),"",VLOOKUP(R22,CACESSST,7,FALSE)) -> 0 | R22: =IF(ISBLANK(Parametre!B19), "",Parametre!B19) -> -
C23: =IF(ISBLANK(R23), "",VLOOKUP(R23,NBRCONGEACQUIS,2,FALSE)) -> 0 | D23: =IF(ISBLANK(R23), "",VLOOKUP(R23,NBRCONGEACQUIS,3,FALSE)) -> 0 | E23: =IF(ISBLANK(R23), "",VLOOKUP(R23,NBRCONGEACQUIS,4,FALSE)) -> 0 | F23: =IF(ISBLANK(R23), "",VLOOKUP(R23,NBRCONGEACQUIS,5,FALSE)) -> 0 | G23: =SUMPRODUCT(($S$8:$XFD$8>=$C$4)*($S$8:$XFD$8<=$D$4)*($S23:$XFD23="CP")) -> 0 | H23: =COUNTIF(T23:NZ23,"SUP") -> 0 | I23: =COUNTIF(T23:NZ23,"CA") -> 0 | J23: =SUMPRODUCT(($S$8:$XFD$8>=$C$4)*($S$8:$XFD$8<=$D$4)*($S23:$XFD23="AM"))+ SUMPRODUCT(($S$8:$XFD$8>=$C$4)*($S$8:$XFD$8<=$D$4)*($S23:$XFD23="ASJ"))+ SUMPRODUCT(($S$8:$XFD$8>=$C$4)*($S$8:$XFD$8<=$D$4)*($S23:$XFD23="CPM")) -> 0 | K23: =C23-G23 -> 0 | L23: =D23-H23 -> 0 | M23: =E23-I23 -> 0 | N23: =F23--J23 -> 0 | O23: =IF(ISBLANK(R23),"",VLOOKUP(R23,CACESSST,8,FALSE)) -> 0 | P23: =IF(ISBLANK(R23),"",VLOOKUP(R23,CACESSST,6,FALSE)) -> 0 | Q23: =IF(ISBLANK(R23),"",VLOOKUP(R23,CACESSST,7,FALSE)) -> 0 | R23: =IF(ISBLANK(Parametre!B20), "",Parametre!B20) -> -
C24: =IF(ISBLANK(R24), "",VLOOKUP(R24,NBRCONGEACQUIS,2,FALSE)) -> 0 | D24: =IF(ISBLANK(R24), "",VLOOKUP(R24,NBRCONGEACQUIS,3,FALSE)) -> 0 | E24: =IF(ISBLANK(R24), "",VLOOKUP(R24,NBRCONGEACQUIS,4,FALSE)) -> 0 | F24: =IF(ISBLANK(R24), "",VLOOKUP(R24,NBRCONGEACQUIS,5,FALSE)) -> 0 | G24: =SUMPRODUCT(($S$8:$XFD$8>=$C$4)*($S$8:$XFD$8<=$D$4)*($S24:$XFD24="CP")) -> 0 | H24: =COUNTIF(T24:NZ24,"SUP") -> 0 | I24: =COUNTIF(T24:NZ24,"CA") -> 0 | J24: =SUMPRODUCT(($S$8:$XFD$8>=$C$4)*($S$8:$XFD$8<=$D$4)*($S24:$XFD24="AM"))+ SUMPRODUCT(($S$8:$XFD$8>=$C$4)*($S$8:$XFD$8<=$D$4)*($S24:$XFD24="ASJ"))+ SUMPRODUCT(($S$8:$XFD$8>=$C$4)*($S$8:$XFD$8<=$D$4)*($S24:$XFD24="CPM")) -> 0 | K24: =C24-G24 -> 0 | L24: =D24-H24 -> 0 | M24: =E24-I24 -> 0 | N24: =F24--J24 -> 0 | O24: =IF(ISBLANK(R24),"",VLOOKUP(R24,CACESSST,8,FALSE)) -> 0 | P24: =IF(ISBLANK(R24),"",VLOOKUP(R24,CACESSST,6,FALSE)) -> 0 | Q24: =IF(ISBLANK(R24),"",VLOOKUP(R24,CACESSST,7,FALSE)) -> 0 | R24: =IF(ISBLANK(Parametre!B21), "",Parametre!B21) -> -
C25: =IF(ISBLANK(R25), "",VLOOKUP(R25,NBRCONGEACQUIS,2,FALSE)) -> 0 | D25: =IF(ISBLANK(R25), "",VLOOKUP(R25,NBRCONGEACQUIS,3,FALSE)) -> 0 | E25: =IF(ISBLANK(R25), "",VLOOKUP(R25,NBRCONGEACQUIS,4,FALSE)) -> 0 | F25: =IF(ISBLANK(R25), "",VLOOKUP(R25,NBRCONGEACQUIS,5,FALSE)) -> 0 | G25: =SUMPRODUCT(($S$8:$XFD$8>=$C$4)*($S$8:$XFD$8<=$D$4)*($S25:$XFD25="CP")) -> 0 | H25: =COUNTIF(T25:NZ25,"SUP") -> 0 | I25: =COUNTIF(T25:NZ25,"CA") -> 0 | J25: =SUMPRODUCT(($S$8:$XFD$8>=$C$4)*($S$8:$XFD$8<=$D$4)*($S25:$XFD25="AM"))+ SUMPRODUCT(($S$8:$XFD$8>=$C$4)*($S$8:$XFD$8<=$D$4)*($S25:$XFD25="ASJ"))+ SUMPRODUCT(($S$8:$XFD$8>=$C$4)*($S$8:$XFD$8<=$D$4)*($S25:$XFD25="CPM")) -> 0 | K25: =C25-G25 -> 0 | L25: =D25-H25 -> 0 | M25: =E25-I25 -> 0 | N25: =F25--J25 -> 0 | O25: =IF(ISBLANK(R25),"",VLOOKUP(R25,CACESSST,8,FALSE)) -> 0 | P25: =IF(ISBLANK(R25),"",VLOOKUP(R25,CACESSST,6,FALSE)) -> 0 | Q25: =IF(ISBLANK(R25),"",VLOOKUP(R25,CACESSST,7,FALSE)) -> 0 | R25: =IF(ISBLANK(Parametre!B22), "",Parametre!B22) -> -
C26: =IF(ISBLANK(R26), "",VLOOKUP(R26,NBRCONGEACQUIS,2,FALSE)) -> 0 | D26: =IF(ISBLANK(R26), "",VLOOKUP(R26,NBRCONGEACQUIS,3,FALSE)) -> 0 | E26: =IF(ISBLANK(R26), "",VLOOKUP(R26,NBRCONGEACQUIS,4,FALSE)) -> 0 | F26: =IF(ISBLANK(R26), "",VLOOKUP(R26,NBRCONGEACQUIS,5,FALSE)) -> 0 | G26: =SUMPRODUCT(($S$8:$XFD$8>=$C$4)*($S$8:$XFD$8<=$D$4)*($S26:$XFD26="CP")) -> 0 | H26: =COUNTIF(T26:NZ26,"SUP") -> 0 | I26: =COUNTIF(T26:NZ26,"CA") -> 0 | J26: =SUMPRODUCT(($S$8:$XFD$8>=$C$4)*($S$8:$XFD$8<=$D$4)*($S26:$XFD26="AM"))+ SUMPRODUCT(($S$8:$XFD$8>=$C$4)*($S$8:$XFD$8<=$D$4)*($S26:$XFD26="ASJ"))+ SUMPRODUCT(($S$8:$XFD$8>=$C$4)*($S$8:$XFD$8<=$D$4)*($S26:$XFD26="CPM")) -> 0 | K26: =C26-G26 -> 0 | L26: =D26-H26 -> 0 | M26: =E26-I26 -> 0 | N26: =F26--J26 -> 0 | O26: =IF(ISBLANK(R26),"",VLOOKUP(R26,CACESSST,8,FALSE)) -> 0 | P26: =IF(ISBLANK(R26),"",VLOOKUP(R26,CACESSST,6,FALSE)) -> 0 | Q26: =IF(ISBLANK(R26),"",VLOOKUP(R26,CACESSST,7,FALSE)) -> 0 | R26: =IF(ISBLANK(Parametre!B23), "",Parametre!B23) -> -
C27: =IF(ISBLANK(R27), "",VLOOKUP(R27,NBRCONGEACQUIS,2,FALSE)) -> 0 | D27: =IF(ISBLANK(R27), "",VLOOKUP(R27,NBRCONGEACQUIS,3,FALSE)) -> 0 | E27: =IF(ISBLANK(R27), "",VLOOKUP(R27,NBRCONGEACQUIS,4,FALSE)) -> 0 | F27: =IF(ISBLANK(R27), "",VLOOKUP(R27,NBRCONGEACQUIS,5,FALSE)) -> 0 | G27: =SUMPRODUCT(($S$8:$XFD$8>=$C$4)*($S$8:$XFD$8<=$D$4)*($S27:$XFD27="CP")) -> 0 | H27: =COUNTIF(T27:NZ27,"SUP") -> 0 | I27: =COUNTIF(T27:NZ27,"CA") -> 0 | J27: =SUMPRODUCT(($S$8:$XFD$8>=$C$4)*($S$8:$XFD$8<=$D$4)*($S27:$XFD27="AM"))+ SUMPRODUCT(($S$8:$XFD$8>=$C$4)*($S$8:$XFD$8<=$D$4)*($S27:$XFD27="ASJ"))+ SUMPRODUCT(($S$8:$XFD$8>=$C$4)*($S$8:$XFD$8<=$D$4)*($S27:$XFD27="CPM")) -> 0 | K27: =C27-G27 -> 0 | L27: =D27-H27 -> 0 | M27: =E27-I27 -> 0 | N27: =F27--J27 -> 0 | O27: =IF(ISBLANK(R27),"",VLOOKUP(R27,CACESSST,8,FALSE)) -> 0 | P27: =IF(ISBLANK(R27),"",VLOOKUP(R27,CACESSST,6,FALSE)) -> 0 | Q27: =IF(ISBLANK(R27),"",VLOOKUP(R27,CACESSST,7,FALSE)) -> 0 | R27: =IF(ISBLANK(Parametre!B24), "",Parametre!B24) -> -
C28: =IF(ISBLANK(R28), "",VLOOKUP(R28,NBRCONGEACQUIS,2,FALSE)) -> 0 | D28: =IF(ISBLANK(R28), "",VLOOKUP(R28,NBRCONGEACQUIS,3,FALSE)) -> 0 | E28: =IF(ISBLANK(R28), "",VLOOKUP(R28,NBRCONGEACQUIS,4,FALSE)) -> 0 | F28: =IF(ISBLANK(R28), "",VLOOKUP(R28,NBRCONGEACQUIS,5,FALSE)) -> 0 | G28: =SUMPRODUCT(($S$8:$XFD$8>=$C$4)*($S$8:$XFD$8<=$D$4)*($S28:$XFD28="CP")) -> 0 | H28: =COUNTIF(T28:NZ28,"SUP") -> 0 | I28: =COUNTIF(T28:NZ28,"CA") -> 0 | J28: =SUMPRODUCT(($S$8:$XFD$8>=$C$4)*($S$8:$XFD$8<=$D$4)*($S28:$XFD28="AM"))+ SUMPRODUCT(($S$8:$XFD$8>=$C$4)*($S$8:$XFD$8<=$D$4)*($S28:$XFD28="ASJ"))+ SUMPRODUCT(($S$8:$XFD$8>=$C$4)*($S$8:$XFD$8<=$D$4)*($S28:$XFD28="CPM")) -> 0 | K28: =C28-G28 -> 0 | L28: =D28-H28 -> 0 | M28: =E28-I28 -> 0 | N28: =F28--J28 -> 0 | O28: =IF(ISBLANK(R28),"",VLOOKUP(R28,CACESSST,8,FALSE)) -> 0 | P28: =IF(ISBLANK(R28),"",VLOOKUP(R28,CACESSST,6,FALSE)) -> 0 | Q28: =IF(ISBLANK(R28),"",VLOOKUP(R28,CACESSST,7,FALSE)) -> 0 | R28: =IF(ISBLANK(Parametre!B25), "",Parametre!B25) -> -
C29: =IF(ISBLANK(R29), "",VLOOKUP(R29,NBRCONGEACQUIS,2,FALSE)) -> 0 | D29: =IF(ISBLANK(R29), "",VLOOKUP(R29,NBRCONGEACQUIS,3,FALSE)) -> 0 | E29: =IF(ISBLANK(R29), "",VLOOKUP(R29,NBRCONGEACQUIS,4,FALSE)) -> 0 | F29: =IF(ISBLANK(R29), "",VLOOKUP(R29,NBRCONGEACQUIS,5,FALSE)) -> 0 | G29: =SUMPRODUCT(($S$8:$XFD$8>=$C$4)*($S$8:$XFD$8<=$D$4)*($S29:$XFD29="CP")) -> 0 | H29: =COUNTIF(T29:NZ29,"SUP") -> 0 | I29: =COUNTIF(T29:NZ29,"CA") -> 0 | J29: =SUMPRODUCT(($S$8:$XFD$8>=$C$4)*($S$8:$XFD$8<=$D$4)*($S29:$XFD29="AM"))+ SUMPRODUCT(($S$8:$XFD$8>=$C$4)*($S$8:$XFD$8<=$D$4)*($S29:$XFD29="ASJ"))+ SUMPRODUCT(($S$8:$XFD$8>=$C$4)*($S$8:$XFD$8<=$D$4)*($S29:$XFD29="CPM")) -> 0 | K29: =C29-G29 -> 0 | L29: =D29-H29 -> 0 | M29: =E29-I29 -> 0 | N29: =F29--J29 -> 0 | O29: =IF(ISBLANK(R29),"",VLOOKUP(R29,CACESSST,8,FALSE)) -> 0 | P29: =IF(ISBLANK(R29),"",VLOOKUP(R29,CACESSST,6,FALSE)) -> 0 | Q29: =IF(ISBLANK(R29),"",VLOOKUP(R29,CACESSST,7,FALSE)) -> 0 | R29: =IF(ISBLANK(Parametre!B26), "",Parametre!B26) -> -
C30: =IF(ISBLANK(R30), "",VLOOKUP(R30,NBRCONGEACQUIS,2,FALSE)) -> 0 | D30: =IF(ISBLANK(R30), "",VLOOKUP(R30,NBRCONGEACQUIS,3,FALSE)) -> 0 | E30: =IF(ISBLANK(R30), "",VLOOKUP(R30,NBRCONGEACQUIS,4,FALSE)) -> 0 | F30: =IF(ISBLANK(R30), "",VLOOKUP(R30,NBRCONGEACQUIS,5,FALSE)) -> 0 | G30: =SUMPRODUCT(($S$8:$XFD$8>=$C$4)*($S$8:$XFD$8<=$D$4)*($S30:$XFD30="CP")) -> 0 | H30: =COUNTIF(T30:NZ30,"SUP") -> 0 | I30: =COUNTIF(T30:NZ30,"CA") -> 0 | J30: =SUMPRODUCT(($S$8:$XFD$8>=$C$4)*($S$8:$XFD$8<=$D$4)*($S30:$XFD30="AM"))+ SUMPRODUCT(($S$8:$XFD$8>=$C$4)*($S$8:$XFD$8<=$D$4)*($S30:$XFD30="ASJ"))+ SUMPRODUCT(($S$8:$XFD$8>=$C$4)*($S$8:$XFD$8<=$D$4)*($S30:$XFD30="CPM")) -> 0 | K30: =C30-G30 -> 0 | L30: =D30-H30 -> 0 | M30: =E30-I30 -> 0 | N30: =F30--J30 -> 0 | O30: =IF(ISBLANK(R30),"",VLOOKUP(R30,CACESSST,8,FALSE)) -> 0 | P30: =IF(ISBLANK(R30),"",VLOOKUP(R30,CACESSST,6,FALSE)) -> 0 | Q30: =IF(ISBLANK(R30),"",VLOOKUP(R30,CACESSST,7,FALSE)) -> 0 | R30: =IF(ISBLANK(Parametre!B27), "",Parametre!B27) -> -
... C50: =IF(ISBLANK(R50), "",VLOOKUP(R50,NBRCONGEACQUIS,2,FALSE)) -> 0 | D50: =IF(ISBLANK(R50), "",VLOOKUP(R50,NBRCONGEACQUIS,3,FALSE)) -> 0 | E50: =IF(ISBLANK(R50), "",VLOOKUP(R50,NBRCONGEACQUIS,4,FALSE)) -> 0 | F50: =IF(ISBLANK(R50), "",VLOOKUP(R50,NBRCONGEACQUIS,5,FALSE)) -> 0 | G50: =SUMPRODUCT(($S$8:$XFD$8>=$C$4)*($S$8:$XFD$8<=$D$4)*($S50:$XFD50="CP")) -> 0 | H50: =COUNTIF(T50:NZ50,"SUP") -> 0 | I50: =COUNTIF(T50:NZ50,"CA") -> 0 | J50: =SUMPRODUCT(($S$8:$XFD$8>=$C$4)*($S$8:$XFD$8<=$D$4)*($S50:$XFD50="AM"))+ SUMPRODUCT(($S$8:$XFD$8>=$C$4)*($S$8:$XFD$8<=$D$4)*($S50:$XFD50="ASJ"))+ SUMPRODUCT(($S$8:$XFD$8>=$C$4)*($S$8:$XFD$8<=$D$4)*($S50:$XFD50="CPM")) -> 0 | K50: =C50-G50 -> 0 | L50: =D50-H50 -> 0 | M50: =E50-I50 -> 0 | N50: =F50--J50 -> 0 | O50: =IF(ISBLANK(R50),"",VLOOKUP(R50,CACESSST,8,FALSE)) -> 0 | P50: =IF(ISBLANK(R50),"",VLOOKUP(R50,CACESSST,6,FALSE)) -> 0 | Q50: =IF(ISBLANK(R50),"",VLOOKUP(R50,CACESSST,7,FALSE)) -> 0 | R50: =IF(ISBLANK(Parametre!B47), "",Parametre!B47) -> -
