Workbook

Sheet resultat
A1: ID_TERMINAL | B1: SITE_TERMINAL | C1: ETAT_TERMINAL | D1: DATE_ENVOI | E1: CA01/01/2023 | F1: CA 02/01/2023 | G1: CA01/01/2023 | H1: CA01/01/2023 | I1: CA01/01/2023
A2: 705180016 | B2: CHABCHOUB MES MOURAD | C2: A | D2: 38741 | E2: =IFERROR(INDEX(CA!$A:$G,MATCH($A2,CA!$A:$A,0),MATCH(E$1,CA!$1:$1,0)),"") | F2: =IFERROR(INDEX(CA!$A:$G,MATCH($A2,CA!$A:$A,0),MATCH(F$1,CA!$1:$1,0)),"") | G2: =IFERROR(INDEX(CA!$A:$G,MATCH($A2,CA!$A:$A,0),MATCH(G$1,CA!$1:$1,0)),"") | H2: =IFERROR(INDEX(CA!$A:$G,MATCH($A2,CA!$A:$A,0),MATCH(H$1,CA!$1:$1,0)),"") | I2: =IFERROR(INDEX(CA!$A:$G,MATCH($A2,CA!$A:$A,0),MATCH(I$1,CA!$1:$1,0)),"")
A3: 706040011 | B3: Ben jannet Ghazi | C3: A | D3: 38842 | E3: =IFERROR(INDEX(CA!$A:$G,MATCH($A3,CA!$A:$A,0),MATCH(E$1,CA!$1:$1,0)),"") | F3: =IFERROR(INDEX(CA!$A:$G,MATCH($A3,CA!$A:$A,0),MATCH(F$1,CA!$1:$1,0)),"") | G3: =IFERROR(INDEX(CA!$A:$G,MATCH($A3,CA!$A:$A,0),MATCH(G$1,CA!$1:$1,0)),"") | H3: =IFERROR(INDEX(CA!$A:$G,MATCH($A3,CA!$A:$A,0),MATCH(H$1,CA!$1:$1,0)),"") | I3: =IFERROR(INDEX(CA!$A:$G,MATCH($A3,CA!$A:$A,0),MATCH(I$1,CA!$1:$1,0)),"")
A4: 706200060 | B4: STE YASMINE | C4: A | D4: 38877 | E4: =IFERROR(INDEX(CA!$A:$G,MATCH($A4,CA!$A:$A,0),MATCH(E$1,CA!$1:$1,0)),"") | F4: =IFERROR(INDEX(CA!$A:$G,MATCH($A4,CA!$A:$A,0),MATCH(F$1,CA!$1:$1,0)),"") | G4: =IFERROR(INDEX(CA!$A:$G,MATCH($A4,CA!$A:$A,0),MATCH(G$1,CA!$1:$1,0)),"") | H4: =IFERROR(INDEX(CA!$A:$G,MATCH($A4,CA!$A:$A,0),MATCH(H$1,CA!$1:$1,0)),"") | I4: =IFERROR(INDEX(CA!$A:$G,MATCH($A4,CA!$A:$A,0),MATCH(I$1,CA!$1:$1,0)),"")
A5: 706440013 | B5: hotel sidi mansour | C5: A | D5: 38950 | E5: =IFERROR(INDEX(CA!$A:$G,MATCH($A5,CA!$A:$A,0),MATCH(E$1,CA!$1:$1,0)),"") | F5: =IFERROR(INDEX(CA!$A:$G,MATCH($A5,CA!$A:$A,0),MATCH(F$1,CA!$1:$1,0)),"") | G5: =IFERROR(INDEX(CA!$A:$G,MATCH($A5,CA!$A:$A,0),MATCH(G$1,CA!$1:$1,0)),"") | H5: =IFERROR(INDEX(CA!$A:$G,MATCH($A5,CA!$A:$A,0),MATCH(H$1,CA!$1:$1,0)),"") | I5: =IFERROR(INDEX(CA!$A:$G,MATCH($A5,CA!$A:$A,0),MATCH(I$1,CA!$1:$1,0)),"")
A6: 707011714 | B6: MAGIC LIFE | C6: A | D6: 39003 | E6: =IFERROR(INDEX(CA!$A:$G,MATCH($A6,CA!$A:$A,0),MATCH(E$1,CA!$1:$1,0)),"") | F6: =IFERROR(INDEX(CA!$A:$G,MATCH($A6,CA!$A:$A,0),MATCH(F$1,CA!$1:$1,0)),"") | G6: =IFERROR(INDEX(CA!$A:$G,MATCH($A6,CA!$A:$A,0),MATCH(G$1,CA!$1:$1,0)),"") | H6: =IFERROR(INDEX(CA!$A:$G,MATCH($A6,CA!$A:$A,0),MATCH(H$1,CA!$1:$1,0)),"") | I6: =IFERROR(INDEX(CA!$A:$G,MATCH($A6,CA!$A:$A,0),MATCH(I$1,CA!$1:$1,0)),"")
A7: 707492013 | B7: LACOSTE EL MENZAH 5 | C7: A | D7: 39409 | E7: =IFERROR(INDEX(CA!$A:$G,MATCH($A7,CA!$A:$A,0),MATCH(E$1,CA!$1:$1,0)),"") | F7: =IFERROR(INDEX(CA!$A:$G,MATCH($A7,CA!$A:$A,0),MATCH(F$1,CA!$1:$1,0)),"") | G7: =IFERROR(INDEX(CA!$A:$G,MATCH($A7,CA!$A:$A,0),MATCH(G$1,CA!$1:$1,0)),"") | H7: =IFERROR(INDEX(CA!$A:$G,MATCH($A7,CA!$A:$A,0),MATCH(H$1,CA!$1:$1,0)),"") | I7: =IFERROR(INDEX(CA!$A:$G,MATCH($A7,CA!$A:$A,0),MATCH(I$1,CA!$1:$1,0)),"")
A8: 707559043 | B8: STE INCO | C8: A | D8: 39857 | E8: =IFERROR(INDEX(CA!$A:$G,MATCH($A8,CA!$A:$A,0),MATCH(E$1,CA!$1:$1,0)),"") | F8: =IFERROR(INDEX(CA!$A:$G,MATCH($A8,CA!$A:$A,0),MATCH(F$1,CA!$1:$1,0)),"") | G8: =IFERROR(INDEX(CA!$A:$G,MATCH($A8,CA!$A:$A,0),MATCH(G$1,CA!$1:$1,0)),"") | H8: =IFERROR(INDEX(CA!$A:$G,MATCH($A8,CA!$A:$A,0),MATCH(H$1,CA!$1:$1,0)),"") | I8: =IFERROR(INDEX(CA!$A:$G,MATCH($A8,CA!$A:$A,0),MATCH(I$1,CA!$1:$1,0)),"")
A9: 777723016 | B9: STAR WATCHES | C9: A | D9: 40189 | E9: =IFERROR(INDEX(CA!$A:$G,MATCH($A9,CA!$A:$A,0),MATCH(E$1,CA!$1:$1,0)),"") | F9: =IFERROR(INDEX(CA!$A:$G,MATCH($A9,CA!$A:$A,0),MATCH(F$1,CA!$1:$1,0)),"") | G9: =IFERROR(INDEX(CA!$A:$G,MATCH($A9,CA!$A:$A,0),MATCH(G$1,CA!$1:$1,0)),"") | H9: =IFERROR(INDEX(CA!$A:$G,MATCH($A9,CA!$A:$A,0),MATCH(H$1,CA!$1:$1,0)),"") | I9: =IFERROR(INDEX(CA!$A:$G,MATCH($A9,CA!$A:$A,0),MATCH(I$1,CA!$1:$1,0)),"")
A10: 778921015 | B10: HTL RIADH | C10: A | D10: 40266 | E10: =IFERROR(INDEX(CA!$A:$G,MATCH($A10,CA!$A:$A,0),MATCH(E$1,CA!$1:$1,0)),"") | F10: =IFERROR(INDEX(CA!$A:$G,MATCH($A10,CA!$A:$A,0),MATCH(F$1,CA!$1:$1,0)),"") | G10: =IFERROR(INDEX(CA!$A:$G,MATCH($A10,CA!$A:$A,0),MATCH(G$1,CA!$1:$1,0)),"") | H10: =IFERROR(INDEX(CA!$A:$G,MATCH($A10,CA!$A:$A,0),MATCH(H$1,CA!$1:$1,0)),"") | I10: =IFERROR(INDEX(CA!$A:$G,MATCH($A10,CA!$A:$A,0),MATCH(I$1,CA!$1:$1,0)),"")
A11: 772722013 | B11: ulysse thalasso | C11: A | D11: 40373 | E11: =IFERROR(INDEX(CA!$A:$G,MATCH($A11,CA!$A:$A,0),MATCH(E$1,CA!$1:$1,0)),"") | F11: =IFERROR(INDEX(CA!$A:$G,MATCH($A11,CA!$A:$A,0),MATCH(F$1,CA!$1:$1,0)),"") | G11: =IFERROR(INDEX(CA!$A:$G,MATCH($A11,CA!$A:$A,0),MATCH(G$1,CA!$1:$1,0)),"") | H11: =IFERROR(INDEX(CA!$A:$G,MATCH($A11,CA!$A:$A,0),MATCH(H$1,CA!$1:$1,0)),"") | I11: =IFERROR(INDEX(CA!$A:$G,MATCH($A11,CA!$A:$A,0),MATCH(I$1,CA!$1:$1,0)),"")
A12: 771921038 | B12: TUN TELECOM EZZAHRA | C12: A | D12: 40528 | E12: =IFERROR(INDEX(CA!$A:$G,MATCH($A12,CA!$A:$A,0),MATCH(E$1,CA!$1:$1,0)),"") | F12: =IFERROR(INDEX(CA!$A:$G,MATCH($A12,CA!$A:$A,0),MATCH(F$1,CA!$1:$1,0)),"") | G12: =IFERROR(INDEX(CA!$A:$G,MATCH($A12,CA!$A:$A,0),MATCH(G$1,CA!$1:$1,0)),"") | H12: =IFERROR(INDEX(CA!$A:$G,MATCH($A12,CA!$A:$A,0),MATCH(H$1,CA!$1:$1,0)),"") | I12: =IFERROR(INDEX(CA!$A:$G,MATCH($A12,CA!$A:$A,0),MATCH(I$1,CA!$1:$1,0)),"")
A13: 777728031 | B13: S P T V L | C13: A | D13: 40690 | E13: =IFERROR(INDEX(CA!$A:$G,MATCH($A13,CA!$A:$A,0),MATCH(E$1,CA!$1:$1,0)),"") | F13: =IFERROR(INDEX(CA!$A:$G,MATCH($A13,CA!$A:$A,0),MATCH(F$1,CA!$1:$1,0)),"") | G13: =IFERROR(INDEX(CA!$A:$G,MATCH($A13,CA!$A:$A,0),MATCH(G$1,CA!$1:$1,0)),"") | H13: =IFERROR(INDEX(CA!$A:$G,MATCH($A13,CA!$A:$A,0),MATCH(H$1,CA!$1:$1,0)),"") | I13: =IFERROR(INDEX(CA!$A:$G,MATCH($A13,CA!$A:$A,0),MATCH(I$1,CA!$1:$1,0)),"")
... A32: 700759012 | B32: HTL MAHDIA PALACE | C32: A | D32: 42177 | E32: =IFERROR(INDEX(CA!$A:$G,MATCH($A32,CA!$A:$A,0),MATCH(E$1,CA!$1:$1,0)),"") | F32: =IFERROR(INDEX(CA!$A:$G,MATCH($A32,CA!$A:$A,0),MATCH(F$1,CA!$1:$1,0)),"") | G32: =IFERROR(INDEX(CA!$A:$G,MATCH($A32,CA!$A:$A,0),MATCH(G$1,CA!$1:$1,0)),"") | H32: =IFERROR(INDEX(CA!$A:$G,MATCH($A32,CA!$A:$A,0),MATCH(H$1,CA!$1:$1,0)),"") | I32: =IFERROR(INDEX(CA!$A:$G,MATCH($A32,CA!$A:$A,0),MATCH(I$1,CA!$1:$1,0)),"")

Sheet CA
A1: ID_TERMINAL | B1: CA01/01/2023
A2: 799901749 | B2: 40
A3: 799901715 | B3: 4082.625
A4: 799901657 | B4: 80
A5: 799901608 | B5: 135
A6: 799901525 | B6: 118
A7: 799901483 | B7: 901.3
A8: 799901236 | B8: 2921.17
A9: 799901202 | B9: 326.52
A10: 799901194 | B10: 700
A11: 799901186 | B11: 1899
A12: 799901046 | B12: 3345
A13: 799725015 | B13: 171
... A178: 775531015 | B178: 463
