Workbook

Sheet Récapitulatif
A2: Mois de sélection : | C2: JANVIER
O3: JANVIER
B4: VENTE | C4: =OFFSET(Données!$A$1,14,MATCH($C$2,Données!$A$1:$BH$1,0)+2) -> 40000 | O4: FEVRIER
O5: MARS
B6: ACHAT LIQUIDE | C6: =SUMPRODUCT((LEFT(INDIRECT("Données!"&LEFT(ADDRESS(1,MATCH($C$2,Données!$A$1:$BH$1,0),4),FIND(1,ADDRESS(1,MATCH($C$2,Données!$A$1:$BH$1,0),4))-1)&":" & LEFT(ADDRESS(1,MATCH($C$2,Données!$A$1:$BH$1,0),4),FIND(1,ADDRESS(1,MATCH($C$2,Données!$A$1:$BH$1,0),4))-1)),3)="601")*INDIRECT("Données!"&LEFT(ADDRESS(1,MATCH($C$2,Données!$A$1:$BH$1,0)+2,4),FIND(1,ADDRESS(1,MATCH($C$2,Données!$A$1:$BH$1,0)+2,4))-1)&":"&LEFT(ADDRESS(1,MATCH($C$2,Données!$A$1:$BH$1,0)+2,4),FIND(1,ADDRESS(1,MATCH($C$2,Données!$A$1:$BH$1,0)+2,4))-1))) -> 13000 | O6: AVRIL
O7: MAI
B8: AUTRES ACHATS | C8: =SUMPRODUCT((LEFT(INDIRECT("Données!"&LEFT(ADDRESS(1,MATCH($C$2,Données!$A$1:$BH$1,0),4),FIND(1,ADDRESS(1,MATCH($C$2,Données!$A$1:$BH$1,0),4))-1)&":" & LEFT(ADDRESS(1,MATCH($C$2,Données!$A$1:$BH$1,0),4),FIND(1,ADDRESS(1,MATCH($C$2,Données!$A$1:$BH$1,0),4))-1)),3)="606")*INDIRECT("Données!"&LEFT(ADDRESS(1,MATCH($C$2,Données!$A$1:$BH$1,0)+2,4),FIND(1,ADDRESS(1,MATCH($C$2,Données!$A$1:$BH$1,0)+2,4))-1)&":"&LEFT(ADDRESS(1,MATCH($C$2,Données!$A$1:$BH$1,0)+2,4),FIND(1,ADDRESS(1,MATCH($C$2,Données!$A$1:$BH$1,0)+2,4))-1))) -> 9000 | O8: JUIN
O9: JUILLET
B10: LOCATIONS | C10: =SUMPRODUCT((LEFT(INDIRECT("Données!"&LEFT(ADDRESS(1,MATCH($C$2,Données!$A$1:$BH$1,0),4),FIND(1,ADDRESS(1,MATCH($C$2,Données!$A$1:$BH$1,0),4))-1)&":" & LEFT(ADDRESS(1,MATCH($C$2,Données!$A$1:$BH$1,0),4),FIND(1,ADDRESS(1,MATCH($C$2,Données!$A$1:$BH$1,0),4))-1)),3)="614")*INDIRECT("Données!"&LEFT(ADDRESS(1,MATCH($C$2,Données!$A$1:$BH$1,0)+2,4),FIND(1,ADDRESS(1,MATCH($C$2,Données!$A$1:$BH$1,0)+2,4))-1)&":"&LEFT(ADDRESS(1,MATCH($C$2,Données!$A$1:$BH$1,0)+2,4),FIND(1,ADDRESS(1,MATCH($C$2,Données!$A$1:$BH$1,0)+2,4))-1))) -> 1000 | O10: AOÛT
B11: AUTRES CHARGES | C11: =SUMPRODUCT((LEFT(INDIRECT("Données!"&LEFT(ADDRESS(1,MATCH($C$2,Données!$A$1:$BH$1,0),4),FIND(1,ADDRESS(1,MATCH($C$2,Données!$A$1:$BH$1,0),4))-1)&":" & LEFT(ADDRESS(1,MATCH($C$2,Données!$A$1:$BH$1,0),4),FIND(1,ADDRESS(1,MATCH($C$2,Données!$A$1:$BH$1,0),4))-1)),3)="615")*INDIRECT("Données!"&LEFT(ADDRESS(1,MATCH($C$2,Données!$A$1:$BH$1,0)+2,4),FIND(1,ADDRESS(1,MATCH($C$2,Données!$A$1:$BH$1,0)+2,4))-1)&":"&LEFT(ADDRESS(1,MATCH($C$2,Données!$A$1:$BH$1,0)+2,4),FIND(1,ADDRESS(1,MATCH($C$2,Données!$A$1:$BH$1,0)+2,4))-1))) -> 300 | O11: SEPTEMBRE
O12: OCTOBRE
B13: SALAIRE | C13: =SUMPRODUCT((LEFT(INDIRECT("Données!"&LEFT(ADDRESS(1,MATCH($C$2,Données!$A$1:$BH$1,0),4),FIND(1,ADDRESS(1,MATCH($C$2,Données!$A$1:$BH$1,0),4))-1)&":" & LEFT(ADDRESS(1,MATCH($C$2,Données!$A$1:$BH$1,0),4),FIND(1,ADDRESS(1,MATCH($C$2,Données!$A$1:$BH$1,0),4))-1)),3)="641")*INDIRECT("Données!"&LEFT(ADDRESS(1,MATCH($C$2,Données!$A$1:$BH$1,0)+2,4),FIND(1,ADDRESS(1,MATCH($C$2,Données!$A$1:$BH$1,0)+2,4))-1)&":"&LEFT(ADDRESS(1,MATCH($C$2,Données!$A$1:$BH$1,0)+2,4),FIND(1,ADDRESS(1,MATCH($C$2,Données!$A$1:$BH$1,0)+2,4))-1))) -> 4000 | O13: NOVEMBRE
O14: DÉCEMBRE
B15: RESULTAT | C15: =C4-C6-C8-C10-C11-C13 -> 12700

Sheet Données
A1: JANVIER | F1: FEVRIER | K1: MARS | P1: AVRIL | U1: MAI | Z1: JUIN | AE1: JUILLET | AJ1: AOÛT | AO1: SEPTEMBRE | AT1: OCTOBRE | AY1: NOVEMBRE | BD1: DÉCEMBRE
A2: 601013 | B2: ACHAT LIQUIDE | C2: 5000 | F2: 601013 | G2: ACHAT LIQUIDE | H2: 3000 | K2: 601013 | L2: ACHAT LIQUIDE | M2: 4000 | P2: 601013 | Q2: ACHAT LIQUIDE | R2: 4500 | U2: 601013 | V2: ACHAT LIQUIDE | W2: 3500
A3: 601100 | B3: ACHATS SOLIDE | C3: 8000 | F3: 601100 | G3: ACHATS SOLIDE | H3: 4000 | K3: 601100 | L3: ACHATS SOLIDE | M3: 5000 | P3: 601100 | Q3: ACHATS SOLIDE | R3: 5500 | U3: 601100 | V3: ACHATS SOLIDE | W3: 4500
A4: 606100 | B4: ACHATS FOURN.NON STOCK | C4: 3000 | F4: 606100 | G4: ACHATS FOURN.NON STOCK | H4: 2000 | K4: 606100 | L4: ACHATS FOURN.NON STOCK | M4: 3000 | P4: 606100 | Q4: ACHATS FOURN.NON STOCK | R4: 2000 | U4: 606100 | V4: ACHATS FOURN.NON STOCK | W4: 2000
A5: 606110 | B5: ACHATS ENERGIES | C5: 2000 | F5: 606110 | G5: ACHATS ENERGIES | H5: 1000 | K5: 606110 | L5: ACHATS ENERGIES | M5: 1500 | P5: 606110 | Q5: ACHATS ENERGIES | R5: 1000 | U5: 606110 | V5: ACHATS ENERGIES | W5: 1000
A6: 606300 | B6: ACHATS FOURN.ENTRETIEN | C6: 1000 | F6: 606300 | G6: ACHATS FOURN.ENTRETIEN | H6: 500 | K6: 606300 | L6: ACHATS FOURN.ENTRETIEN | M6: 500 | P6: 606300 | Q6: ACHATS FOURN.ENTRETIEN | R6: 600 | U6: 606300 | V6: ACHATS FOURN.ENTRETIEN | W6: 1000
A7: 606310 | B7: ACHATS PETIT EQUIP, | C7: 1500 | F7: 606310 | G7: ACHATS PETIT EQUIP, | H7: 200 | K7: 606310 | L7: ACHATS PETIT EQUIP, | M7: 200 | P7: 606310 | Q7: ACHATS PETIT EQUIP, | R7: 300 | U7: 606310 | V7: ACHATS PETIT EQUIP, | W7: 1500
A8: 606400 | B8: ACHATS FOURNIT.ADMINISTRATIVES | C8: 500 | F8: 606400 | G8: ACHATS FOURNIT.ADMINISTRATIVES | H8: 500 | K8: 606400 | L8: ACHATS FOURNIT.ADMINISTRATIVES | M8: 500 | P8: 606400 | Q8: ACHATS FOURNIT.ADMINISTRATIVES | R8: 500 | U8: 606400 | V8: ACHATS FOURNIT.ADMINISTRATIVES | W8: 500
A9: 606500 | B9: ACHATS EMBALLAGES | C9: 1000 | F9: 607300 | G9: ACHATS EMBALLAGES | H9: 800 | K9: 607300 | L9: ACHATS EMBALLAGES | M9: 900 | P9: 607300 | Q9: ACHATS EMBALLAGES | R9: 1000 | U9: 607300 | V9: ACHATS EMBALLAGES | W9: 1000
A10: 613200 | B10: LOCATIONS IMMOBILIERES | C10: 10000 | F10: 613200 | G10: LOCATIONS IMMOBILIERES | H10: 10000 | K10: 613200 | L10: LOCATIONS IMMOBILIERES | M10: 10000 | P10: 613200 | Q10: LOCATIONS IMMOBILIERES | R10: 12000 | U10: 613200 | V10: LOCATIONS IMMOBILIERES | W10: 10000
A11: 613510 | B11: LOCATIONS VEHICULES | C11: 2000 | F11: 613510 | G11: LOCATIONS VEHICULES | H11: 2000 | K11: 613510 | L11: LOCATIONS VEHICULES | M11: 2000 | P11: 613510 | Q11: LOCATIONS VEHICULES | R11: 2000 | U11: 613510 | V11: LOCATIONS VEHICULES | W11: 2000
A12: 614000 | B12: CHARGES COPROPRIETE | C12: 1000 | F12: 614000 | G12: CHARGES COPROPRIETE | H12: 1000 | K12: 614000 | L12: CHARGES COPROPRIETE | M12: 1000 | P12: 614000 | Q12: CHARGES COPROPRIETE | R12: 1000 | U12: 614000 | V12: CHARGES COPROPRIETE | W12: 1000
A13: 615600 | B13: MAINTENANCE | C13: 300 | F13: 615600 | G13: MAINTENANCE | H13: 400 | K13: 615600 | L13: MAINTENANCE | M13: 0 | P13: 615600 | Q13: MAINTENANCE | R13: 400 | U13: 615600 | V13: MAINTENANCE | W13: 300
A14: 641000 | B14: SALAIRE | C14: 4000 | F14: 641000 | G14: SALAIRE | H14: 5000 | K14: 641000 | L14: SALAIRE | M14: 5000 | P14: 641000 | Q14: SALAIRE | R14: 5000 | U14: 641000 | V14: SALAIRE | W14: 5500
A15: 707000 | B15: VENTE | D15: 40000 | F15: 707000 | G15: VENTE | I15: 35000 | K15: 707000 | L15: VENTE | N15: 35000 | P15: 707000 | Q15: VENTE | S15: 38000 | U15: 707000 | V15: VENTE | X15: 36000
B17: Totaux | C17: =SUM(C2:C16) -> 39300 | D17: =SUM(D2:D16) -> 40000 | H17: =SUM(H2:H16) -> 30400 | I17: =SUM(I2:I16) -> 35000 | M17: =SUM(M2:M16) -> 33600 | N17: =SUM(N2:N16) -> 35000 | R17: =SUM(R2:R16) -> 35800 | S17: =SUM(S2:S16) -> 38000 | W17: =SUM(W2:W16) -> 33800 | X17: =SUM(X2:X16) -> 36000
B18: Résultat | D18: =+D17-C17 -> 700 | I18: =+I17-H17 -> 4600 | N18: =+N17-M17 -> 1400 | S18: =+S17-R17 -> 2200 | X18: =+X17-W17 -> 2200
