Workbook

Sheet Feuil1
A2: MATRICULE | B2: MONTANT | C2: OBS
A3: 2 | B3: 2400 | C3: =IF(AND(MATCH(Tableau1[[#This Row],[MATRICULE]],feuil2!$A:$A,0)>0,COUNTIF(Feuil1!$A$1:$A3,Tableau1[[#This Row],[MATRICULE]])=1),1, IF(AND(MATCH(Tableau1[[#This Row],[MATRICULE]],feuil2!$A:$A,0)>0,COUNTIF(Feuil1!$A$1:$A3,Tableau1[[#This Row],[MATRICULE]])>1),C2+1)) -> 1
A4: 2 | B4: 2200 | C4: =IF(AND(MATCH(Tableau1[[#This Row],[MATRICULE]],feuil2!$A:$A,0)>0,COUNTIF(Feuil1!$A$1:$A4,Tableau1[[#This Row],[MATRICULE]])=1),1, IF(AND(MATCH(Tableau1[[#This Row],[MATRICULE]],feuil2!$A:$A,0)>0,COUNTIF(Feuil1!$A$1:$A4,Tableau1[[#This Row],[MATRICULE]])>1),C3+1)) -> 2
A5: 2 | B5: 1800 | C5: =IF(AND(MATCH(Tableau1[[#This Row],[MATRICULE]],feuil2!$A:$A,0)>0,COUNTIF(Feuil1!$A$1:$A5,Tableau1[[#This Row],[MATRICULE]])=1),1, IF(AND(MATCH(Tableau1[[#This Row],[MATRICULE]],feuil2!$A:$A,0)>0,COUNTIF(Feuil1!$A$1:$A5,Tableau1[[#This Row],[MATRICULE]])>1),C4+1)) -> 3
A6: 2 | B6: 2700 | C6: =IF(AND(MATCH(Tableau1[[#This Row],[MATRICULE]],feuil2!$A:$A,0)>0,COUNTIF(Feuil1!$A$1:$A6,Tableau1[[#This Row],[MATRICULE]])=1),1, IF(AND(MATCH(Tableau1[[#This Row],[MATRICULE]],feuil2!$A:$A,0)>0,COUNTIF(Feuil1!$A$1:$A6,Tableau1[[#This Row],[MATRICULE]])>1),C5+1)) -> 4
A7: 2 | B7: 1600 | C7: =IF(AND(MATCH(Tableau1[[#This Row],[MATRICULE]],feuil2!$A:$A,0)>0,COUNTIF(Feuil1!$A$1:$A7,Tableau1[[#This Row],[MATRICULE]])=1),1, IF(AND(MATCH(Tableau1[[#This Row],[MATRICULE]],feuil2!$A:$A,0)>0,COUNTIF(Feuil1!$A$1:$A7,Tableau1[[#This Row],[MATRICULE]])>1),C6+1)) -> 5
A8: 2 | B8: 800 | C8: =IF(AND(MATCH(Tableau1[[#This Row],[MATRICULE]],feuil2!$A:$A,0)>0,COUNTIF(Feuil1!$A$1:$A8,Tableau1[[#This Row],[MATRICULE]])=1),1, IF(AND(MATCH(Tableau1[[#This Row],[MATRICULE]],feuil2!$A:$A,0)>0,COUNTIF(Feuil1!$A$1:$A8,Tableau1[[#This Row],[MATRICULE]])>1),C7+1)) -> 6
A9: 2 | B9: 2400 | C9: =IF(AND(MATCH(Tableau1[[#This Row],[MATRICULE]],feuil2!$A:$A,0)>0,COUNTIF(Feuil1!$A$1:$A9,Tableau1[[#This Row],[MATRICULE]])=1),1, IF(AND(MATCH(Tableau1[[#This Row],[MATRICULE]],feuil2!$A:$A,0)>0,COUNTIF(Feuil1!$A$1:$A9,Tableau1[[#This Row],[MATRICULE]])>1),C8+1)) -> 7
A10: 2 | B10: 3000 | C10: =IF(AND(MATCH(Tableau1[[#This Row],[MATRICULE]],feuil2!$A:$A,0)>0,COUNTIF(Feuil1!$A$1:$A10,Tableau1[[#This Row],[MATRICULE]])=1),1, IF(AND(MATCH(Tableau1[[#This Row],[MATRICULE]],feuil2!$A:$A,0)>0,COUNTIF(Feuil1!$A$1:$A10,Tableau1[[#This Row],[MATRICULE]])>1),C9+1)) -> 8
A11: 2 | B11: 1900 | C11: =IF(AND(MATCH(Tableau1[[#This Row],[MATRICULE]],feuil2!$A:$A,0)>0,COUNTIF(Feuil1!$A$1:$A11,Tableau1[[#This Row],[MATRICULE]])=1),1, IF(AND(MATCH(Tableau1[[#This Row],[MATRICULE]],feuil2!$A:$A,0)>0,COUNTIF(Feuil1!$A$1:$A11,Tableau1[[#This Row],[MATRICULE]])>1),C10+1)) -> 9
A12: 2 | B12: 2500 | C12: =IF(AND(MATCH(Tableau1[[#This Row],[MATRICULE]],feuil2!$A:$A,0)>0,COUNTIF(Feuil1!$A$1:$A12,Tableau1[[#This Row],[MATRICULE]])=1),1, IF(AND(MATCH(Tableau1[[#This Row],[MATRICULE]],feuil2!$A:$A,0)>0,COUNTIF(Feuil1!$A$1:$A12,Tableau1[[#This Row],[MATRICULE]])>1),C11+1)) -> 10
A13: 2 | B13: 3300 | C13: =IF(AND(MATCH(Tableau1[[#This Row],[MATRICULE]],feuil2!$A:$A,0)>0,COUNTIF(Feuil1!$A$1:$A13,Tableau1[[#This Row],[MATRICULE]])=1),1, IF(AND(MATCH(Tableau1[[#This Row],[MATRICULE]],feuil2!$A:$A,0)>0,COUNTIF(Feuil1!$A$1:$A13,Tableau1[[#This Row],[MATRICULE]])>1),C12+1)) -> 11
A14: 2 | B14: 1400 | C14: =IF(AND(MATCH(Tableau1[[#This Row],[MATRICULE]],feuil2!$A:$A,0)>0,COUNTIF(Feuil1!$A$1:$A14,Tableau1[[#This Row],[MATRICULE]])=1),1, IF(AND(MATCH(Tableau1[[#This Row],[MATRICULE]],feuil2!$A:$A,0)>0,COUNTIF(Feuil1!$A$1:$A14,Tableau1[[#This Row],[MATRICULE]])>1),C13+1)) -> 12
... A31: 15 | B31: 3000 | C31: =IF(AND(MATCH(Tableau1[[#This Row],[MATRICULE]],feuil2!$A:$A,0)>0,COUNTIF(Feuil1!$A$1:$A31,Tableau1[[#This Row],[MATRICULE]])=1),1, IF(AND(MATCH(Tableau1[[#This Row],[MATRICULE]],feuil2!$A:$A,0)>0,COUNTIF(Feuil1!$A$1:$A31,Tableau1[[#This Row],[MATRICULE]])>1),C30+1)) -> 13

Sheet feuil2
A1: MATRICULE | B1: MONTANT
A2: 2 | B2: 30500
A3: 14 | B3: 0
A4: 15 | B4: 41000
