Workbook

Sheet BASE
A1: PRENOM | B1: SITE | C1: 44272 | D1: 44273 | E1: 44274 | F1: 44275 | G1: 44276 | H1: 44277 | I1: 44278 | J1: 44279 | K1: 44280 | L1: 44281 | M1: 44282 | N1: 44283 | O1: 44284 | P1: 44285 | Q1: 44286 | R1: 44287 | S1: 44288 | T1: 44289 | U1: 44290 | V1: 44291 | W1: 44292 | X1: 44293 | Y1: 44294 | Z1: 44295 | AA1: 44296 | AB1: 44297 | AC1: 44298 | AD1: 44299 | AE1: 44300 | AF1: 44301 | AG1: 44302 | AH1: 44303 | AI1: 44304 | AJ1: 44305 | AK1: 44306 | AL1: 44307 | AM1: 44308 | AN1: 44309 | AO1: 44310 | AP1: 44311 | AQ1: 44312 | AR1: 44313 | AS1: 44314 | AT1: 44315 | AU1: 44316 | AV1: 44317 | AW1: 44318 | AX1: 44319 | AY1: 44320 | AZ1: 44321 | BA1: 44322 | BB1: 44323 | BC1: 44324 | BD1: 44325 | BE1: 44326 | BF1: 44327 | BG1: 44328 | BH1: 44329 | BI1: 44330 | BJ1: 44331 | BK1: 44332 | BL1: 44333 | BM1: 44334 | BN1: 44335 | BO1: 44336 | BP1: 44337 | BQ1: 44338 | BR1: 44339 | BS1: 44340 | BT1: 44341 | BU1: 44342 | BV1: 44343 | BW1: 44344 | BX1: 44345 | BY1: 44346 | BZ1: 44347 | CA1: 44348 | CB1: 44349 | CC1: 44350 | CD1: 44351 | CE1: 44352 | CF1: 44353 | CG1: 44354 | CH1: 44355 | CI1: 44356 | CJ1: 44357 | CK1: 44358 | CL1: 44359 | CM1: 44360 | CN1: 44361 | CO1: 44362 | CP1: 44363 | CQ1: 44364 | CR1: 44365 | CS1: 44366 | CT1: 44367 | CU1: 44368 | CV1: 44369 | CW1: 44370 | CX1: 44371 | CY1: 44372 | CZ1: 44373 | DA1: 44374 | DB1: 44375 | DC1: 44376 | DD1: 44377 | DE1: 44378 | DF1: 44379 | DG1: 44380 | DH1: 44381 | DI1: 44382 | DJ1: 44383 | DK1: 44384 | DL1: 44385 | DM1: 44386 | DN1: 44387 | DO1: 44388 | DP1: 44389 | DQ1: 44390 | DR1: 44391 | DS1: 44392 | DT1: 44393 | DU1: 44394 | DV1: 44395 | DW1: 44396 | DX1: 44397 | DY1: 44398 | DZ1: 44399 | EA1: 44400 | EB1: 44401 | EC1: 44402 | ED1: 44403 | EE1: 44404 | EF1: 44405 | EG1: 44406 | EH1: 44407 | EI1: 44408 | EJ1: 44409 | EK1: 44410 | EL1: 44411 | EM1: 44412 | EN1: 44413 | EO1: 44414 | EP1: 44415 | EQ1: 44416 | ER1: 44417 | ES1: 44418 | ET1: 44419 | EU1: 44420 | EV1: 44421 | EW1: 44422 | EX1: 44423 | EY1: 44424 | EZ1: 44425 | FA1: 44426 | FB1: 44427 | FC1: 44428 | FD1: 44429 | FE1: 44430 | FF1: 44431 | FG1: 44432 | FH1: 44433 | FI1: 44434 | FJ1: 44435 | FK1: 44436 | FL1: 44437 | FM1: 44438 | FN1: 44439 | FO1: 44440 | FP1: 44441 | FQ1: 44442 | FR1: 44443 | FS1: 44444 | FT1: 44445 | FU1: 44446 | FV1: 44447 | FW1: 44448 | FX1: 44449 | FY1: 44450 | FZ1: 44451 | GA1: 44452 | GB1: 44453 | GC1: 44454 | GD1: 44455 | GE1: 44456 | GF1: 44457 | GG1: 44458 | GH1: 44459 | GI1: 44460 | GJ1: 44461 | GK1: 44462 | GL1: 44463 | GM1: 44464 | GN1: 44465 | GO1: 44466 | GP1: 44467 | GQ1: 44468 | GR1: 44469 | GS1: 44470 | GT1: 44471 | GU1: 44472 | GV1: 44473 | GW1: 44474 | GX1: 44475 | GY1: 44476 | GZ1: 44477 | HA1: 44478 | HB1: 44479 | HC1: 44480 | HD1: 44481 | HE1: 44482 | HF1: 44483 | HG1: 44484 | HH1: 44485 | HI1: 44486 | HJ1: 44487 | HK1: 44488 | HL1: 44489 | HM1: 44490 | HN1: 44491 | HO1: 44492 | HP1: 44493 | HQ1: 44494 | HR1: 44495 | HS1: 44496 | HT1: 44497 | HU1: 44498 | HV1: 44499 | HW1: 44500 | HX1: 44501 | HY1: 44502 | HZ1: 44503 | IA1: 44504 | IB1: 44505 | IC1: 44506 | ID1: 44507 | IE1: 44508 | IF1: 44509 | IG1: 44510 | IH1: 44511 | II1: 44512 | IJ1: 44513 | IK1: 44514 | IL1: 44515 | IM1: 44516 | IN1: 44517 | IO1: 44518 | IP1: 44519 | IQ1: 44520 | IR1: 44521 | IS1: 44522 | IT1: 44523 | IU1: 44524 | IV1: 44525 | IW1: 44526 | IX1: 44527 | IY1: 44528 | IZ1: 44529 | JA1: 44530 | JB1: 44531 | JC1: 44532 | JD1: 44533 | JE1: 44534 | JF1: 44535 | JG1: 44536 | JH1: 44537 | JI1: 44538 | JJ1: 44539 | JK1: 44540 | JL1: 44541 | JM1: 44542 | JN1: 44543 | JO1: 44544 | JP1: 44545 | JQ1: 44546 | JR1: 44547 | JS1: 44548 | JT1: 44549 | JU1: 44550 | JV1: 44551 | JW1: 44552 | JX1: 44553 | JY1: 44554 | JZ1: 44555 | KA1: 44556 | KB1: 44557 | KC1: 44558 | KD1: 44559 | KE1: 44560 | KF1: 44561
A2: JEAN | B2: PARIS | C2: 75.517462 | D2: 70.707539 | E2: 67.261984 | F2: 0 | G2: 0 | H2: 72.312027 | I2: 65.49391 | J2: 66.528084 | K2: 62.290721 | L2: 59.255314 | M2: 0 | N2: 0 | O2: 73.867411 | P2: 66.902641 | Q2: 67.959059 | R2: 63.630553 | S2: 60.529857 | T2: 0 | U2: 0 | V2: 0 | W2: 99.955683 | X2: 101.53402 | Y2: 95.06703 | Z2: 90.434444 | AA2: 0 | AB2: 0 | AC2: 91.772884 | AD2: 83.119853 | AE2: 84.432347 | AF2: 79.05461 | AG2: 75.202304 | AH2: 0 | AI2: 0 | AJ2: 85.335609 | AK2: 77.289531 | AL2: 78.509963 | AM2: 73.50944 | AN2: 69.927348 | AO2: 0 | AP2: 0 | AQ2: 59.499924 | AR2: 53.889827 | AS2: 54.740768 | AT2: 51.254173 | AU2: 48.756573 | AV2: 0 | AW2: 0 | AX2: 73.784975 | AY2: 66.827978 | AZ2: 67.883217 | BA2: 63.559542 | BB2: 60.462305 | BC2: 0 | BD2: 0 | BE2: 142.79519 | BF2: 129.33139 | BG2: 131.37359 | BH2: 0 | BI2: 0 | BJ2: 0 | BK2: 0 | BL2: 76.043636 | BM2: 68.873675 | BN2: 69.961217 | BO2: 65.505188 | BP2: 62.313141 | BQ2: 0 | BR2: 0 | BS2: 0 | BT2: 80.440546 | BU2: 81.710733 | BV2: 76.506344 | BW2: 72.778214 | BX2: 0 | BY2: 0 | BZ2: 55.153671 | CA2: 49.953372 | CB2: 50.742155 | CC2: 47.510242 | CD2: 45.195083 | CE2: 0 | CF2: 0 | CG2: 60.775242 | CH2: 55.044899 | CI2: 55.914079 | CJ2: 52.352752 | CK2: 49.801619 | CL2: 0 | CM2: 0 | CN2: 64.659549 | CO2: 58.562965 | CP2: 59.487696 | CQ2: 55.698755 | CR2: 52.984573 | CS2: 0 | CT2: 0 | CU2: 56.932096 | CV2: 51.564114 | CW2: 52.378331 | CX2: 49.042206 | CY2: 46.652395 | CZ2: 0 | DA2: 0 | DB2: 54.260042 | DC2: 49.144001 | DD2: 49.920004 | DE2: 46.740456 | DF2: 44.462809 | DG2: 0 | DH2: 0 | DI2: 56.769839 | DJ2: 51.417155 | DK2: 52.229052 | DL2: 48.902435 | DM2: 46.519435 | DN2: 0 | DO2: 0 | DP2: 76.233604 | DQ2: 69.045732 | DR2: 0 | DS2: 65.668829 | DT2: 62.468808 | DU2: 0 | DV2: 0 | DW2: 56.41494 | DX2: 51.095719 | DY2: 51.90254 | DZ2: 48.59672 | EA2: 46.228617 | EB2: 0 | EC2: 0 | ED2: 45.191382 | EE2: 40.930401 | EF2: 41.576708 | EG2: 38.928569 | EH2: 37.031592 | EI2: 0 | EJ2: 0 | EK2: 40.91793 | EL2: 37.059883 | EM2: 37.645073 | EN2: 35.247351 | EO2: 33.529758 | EP2: 0 | EQ2: 0 | ER2: 44.622617 | ES2: 40.415264 | ET2: 41.053436 | EU2: 38.438626 | EV2: 36.565524 | EW2: 0 | EX2: 0 | EY2: 42.569979 | EZ2: 38.556164 | FA2: 39.164981 | FB2: 36.670452 | FC2: 34.883512 | FD2: 0 | FE2: 0 | FF2: 38.155226 | FG2: 34.557667 | FH2: 35.103346 | FI2: 32.867514 | FJ2: 31.26589 | FK2: 0 | FL2: 0 | FM2: 49.096241 | FN2: 44.467081 | FO2: 45.169234 | FP2: 42.292276 | FQ2: 40.231387 | FR2: 0 | FS2: 0 | FT2: 60.163599 | FU2: 54.490927 | FV2: 55.351359 | FW2: 51.825873 | FX2: 49.300415 | FY2: 0 | FZ2: 0 | GA2: 63.795118 | GB2: 57.780038 | GC2: 58.692408 | GD2: 54.954121 | GE2: 52.276224 | GF2: 0 | GG2: 0 | GH2: 57.462027 | GI2: 52.044079 | GJ2: 52.865875 | GK2: 49.498697 | GL2: 47.086641 | GM2: 0 | GN2: 0 | GO2: 56.352202 | GP2: 51.038896 | GQ2: 51.84482 | GR2: 48.542676 | GS2: 46.177207 | GT2: 0 | GU2: 0 | GV2: 67.347554 | GW2: 60.997524 | GX2: 61.960699 | GY2: 58.014245 | GZ2: 55.18723 | HA2: 0 | HB2: 0 | HC2: 69.867977 | HD2: 63.280303 | HE2: 64.279524 | HF2: 60.185378 | HG2: 57.252563 | HH2: 0 | HI2: 0 | HJ2: 68.363043 | HK2: 61.917266 | HL2: 62.894963 | HM2: 58.889004 | HN2: 56.019362 | HO2: 0 | HP2: 0 | HQ2: 62.523632 | HR2: 56.628437 | HS2: 57.522622 | HT2: 53.858842 | HU2: 51.234318 | HV2: 0 | HW2: 0 | HX2: 0 | HY2: 70.867177 | HZ2: 71.986197 | IA2: 67.401191 | IB2: 64.116752 | IC2: 0 | ID2: 0 | IE2: 77.46135 | IF2: 70.157716 | IG2: 71.265533 | IH2: 0 | II2: 63.474871 | IJ2: 0 | IK2: 0 | IL2: 67.051325 | IM2: 60.729226 | IN2: 61.688164 | IO2: 57.759069 | IP2: 54.944488 | IQ2: 0 | IR2: 0 | IS2: 59.069731 | IT2: 53.500197 | IU2: 54.344985 | IV2: 50.883598 | IW2: 48.404057 | IX2: 0 | IY2: 0 | IZ2: 61.774727 | JA2: 55.950145 | JB2: 56.83362 | JC2: 53.213725 | JD2: 50.620637 | JE2: 0 | JF2: 0 | JG2: 67.256532 | JH2: 60.915085 | JI2: 61.876957 | JJ2: 57.935838 | JK2: 55.112643 | JL2: 0 | JM2: 0 | JN2: 71.316185 | JO2: 64.591964 | JP2: 65.611896 | JQ2: 61.432887 | JR2: 58.439282 | JS2: 0 | JT2: 0 | JU2: 64.236461 | JV2: 58.179768 | JW2: 59.098449 | JX2: 55.3343 | JY2: 52.637878 | JZ2: 0 | KA2: 0 | KB2: 43.061048 | KC2: 39.000932 | KD2: 39.616772 | KE2: 37.093466 | KF2: 35.285914
A3: MARQUE | B3: TOURS | C3: 36.770548 | D3: 34.428527 | E3: 32.750836 | F3: 0 | G3: 0 | H3: 35.209775 | I3: 31.889935 | J3: 32.393489 | K3: 30.330256 | L3: 28.852272 | M3: 0 | N3: 0 | O3: 31.435712 | P3: 28.471719 | Q3: 28.921298 | R3: 27.079219 | S3: 25.759657 | T3: 0 | U3: 0 | V3: 0 | W3: 38.331238 | X3: 38.936503 | Y3: 36.456526 | Z3: 34.680011 | AA3: 0 | AB3: 0 | AC3: 35.19328 | AD3: 31.874995 | AE3: 32.378313 | AF3: 30.316046 | AG3: 28.838755 | AH3: 0 | AI3: 0 | AJ3: 32.724698 | AK3: 29.63917 | AL3: 30.107184 | AM3: 28.189571 | AN3: 26.815902 | AO3: 0 | AP3: 0 | AQ3: 22.817169 | AR3: 20.665797 | AS3: 20.992117 | AT3: 19.65507 | AU3: 18.697284 | AV3: 0 | AW3: 0 | AX3: 31.197828 | AY3: 28.256265 | AZ3: 28.702442 | BA3: 26.874302 | BB3: 25.564725 | BC3: 0 | BD3: 0 | BE3: 60.376788 | BF3: 54.684014 | BG3: 55.547496 | BH3: 0 | BI3: 0 | BJ3: 0 | BK3: 0 | BL3: 32.152837 | BM3: 29.121228 | BN3: 29.581064 | BO3: 27.696961 | BP3: 26.347297 | BQ3: 0 | BR3: 0 | BS3: 0 | BT3: 34.011943 | BU3: 34.549004 | BV3: 32.34848 | BW3: 30.772149 | BX3: 0 | BY3: 0 | BZ3: 31.44395 | CA3: 28.47918 | CB3: 28.928878 | CC3: 27.086315 | CD3: 25.766407 | CE3: 0 | CF3: 0 | CG3: 36.049125 | CH3: 32.650145 | CI3: 33.165703 | CJ3: 31.053285 | CK3: 29.540068 | CL3: 0 | CM3: 0 | CN3: 38.35312 | CO3: 34.736902 | CP3: 35.285411 | CQ3: 33.037982 | CR3: 31.428052 | CS3: 0 | CT3: 0 | CU3: 33.769544 | CV3: 30.5855 | CW3: 31.068457 | CX3: 29.089618 | CY3: 27.67209 | CZ3: 0 | DA3: 0 | DB3: 30.295149 | DC3: 27.438696 | DD3: 27.871964 | DE3: 26.096719 | DF3: 24.825034 | DG3: 0 | DH3: 0 | DI3: 29.969793 | DJ3: 27.144017 | DK3: 27.572632 | DL3: 25.816452 | DM3: 24.558425 | DN3: 0 | DO3: 0 | DP3: 40.245055 | DQ3: 36.450451 | DR3: 0 | DS3: 34.667725 | DT3: 32.978378 | DU3: 0 | DV3: 0 | DW3: 29.782435 | DX3: 26.974325 | DY3: 27.40026 | DZ3: 25.65506 | EA3: 24.404897 | EB3: 0 | EC3: 0 | ED3: 23.857322 | EE3: 21.607876 | EF3: 21.949073 | EG3: 20.551074 | EH3: 19.549626 | EI3: 0 | EJ3: 0 | EK3: 16.406768 | EL3: 14.859815 | EM3: 15.094457 | EN3: 14.133048 | EO3: 13.444349 | EP3: 0 | EQ3: 0 | ER3: 17.892227 | ES3: 16.205214 | ET3: 16.461101 | EU3: 15.412647 | EV3: 14.661593 | EW3: 0 | EX3: 0 | EY3: 17.069186 | EZ3: 15.459776 | FA3: 15.703891 | FB3: 14.703666 | FC3: 13.987161 | FD3: 0 | FE3: 0 | FF3: 15.299012 | FG3: 13.856507 | FH3: 14.075307 | FI3: 13.178811 | FJ3: 12.536611 | FK3: 0 | FL3: 0 | FM3: 23.171136 | FN3: 20.986389 | FO3: 21.317772 | FP3: 19.959982 | FQ3: 18.987339 | FR3: 0 | FS3: 0 | FT3: 29.48783 | FU3: 26.707497 | FV3: 27.129219 | FW3: 25.401282 | FX3: 24.163485 | FY3: 0 | FZ3: 0 | GA3: 31.267737 | GB3: 28.319581 | GC3: 28.766758 | GD3: 26.934522 | GE3: 25.622011 | GF3: 0 | GG3: 0 | GH3: 28.163715 | GI3: 25.50823 | GJ3: 25.911015 | GK3: 24.260669 | GL3: 23.078454 | GM3: 0 | GN3: 0 | GO3: 27.845969 | GP3: 25.220443 | GQ3: 25.618684 | GR3: 23.986957 | GS3: 22.81808 | GT3: 0 | GU3: 0 | GV3: 33.645014 | GW3: 30.472711 | GX3: 30.953887 | GY3: 28.982346 | GZ3: 27.570045 | HA3: 0 | HB3: 0 | HC3: 34.904149 | HD3: 31.613126 | HE3: 32.112309 | HF3: 30.066985 | HG3: 28.60183 | HH3: 0 | HI3: 0 | HJ3: 34.152325 | HK3: 30.932189 | HL3: 31.420621 | HM3: 29.419352 | HN3: 27.985756 | HO3: 0 | HP3: 0 | HQ3: 31.235113 | HR3: 28.290034 | HS3: 28.736744 | HT3: 26.906419 | HU3: 25.595278 | HV3: 0 | HW3: 0 | HX3: 0 | HY3: 36.278907 | HZ3: 36.851765 | IA3: 34.504571 | IB3: 32.823174 | IC3: 0 | ID3: 0 | IE3: 39.65465 | IF3: 35.915714 | IG3: 36.482837 | IH3: 0 | II3: 32.494577 | IJ3: 0 | IK3: 0 | IL3: 34.325465 | IM3: 31.089004 | IN3: 31.579912 | IO3: 29.568497 | IP3: 28.127634 | IQ3: 0 | IR3: 0 | IS3: 30.239462 | IT3: 27.38826 | IU3: 27.820731 | IV3: 26.04875 | IW3: 24.779402 | IX3: 0 | IY3: 0 | IZ3: 33.880492 | JA3: 30.685987 | JB3: 31.17053 | JC3: 29.18519 | JD3: 27.763005 | JE3: 0 | JF3: 0 | JG3: 37.90327 | JH3: 34.329467 | JI3: 34.871542 | JJ3: 32.650474 | JK3: 31.059427 | JL3: 0 | JM3: 0 | JN3: 40.191138 | JO3: 36.401618 | JP3: 36.976414 | JQ3: 34.621281 | JR3: 32.934197 | JS3: 0 | JT3: 0 | JU3: 36.20127 | JV3: 32.787944 | JW3: 33.305679 | JX3: 31.184345 | JY3: 29.664742 | JZ3: 0 | KA3: 0 | KB3: 24.267599 | KC3: 21.979469 | KD3: 22.326533 | KE3: 20.904492 | KF3: 19.885823
A4: SYLVAIN | B4: LILLE | C4: 91.969009 | D4: 86.11124 | E4: 81.915067 | F4: 0 | G4: 0 | H4: 88.065267 | I4: 79.761817 | J4: 81.021287 | K4: 75.86081 | L4: 72.164137 | M4: 0 | N4: 0 | O4: 74.327342 | P4: 67.319206 | Q4: 68.382202 | R4: 64.026745 | S4: 60.906742 | T4: 0 | U4: 0 | V4: 0 | W4: 86.065534 | X4: 87.424542 | Y4: 81.856224 | Z4: 77.867396 | AA4: 0 | AB4: 0 | AC4: 79.019843 | AD4: 71.569263 | AE4: 72.699369 | AF4: 68.068939 | AG4: 64.751961 | AH4: 0 | AI4: 0 | AJ4: 73.477111 | AK4: 66.549141 | AL4: 67.599978 | AM4: 63.294342 | AN4: 60.210029 | AO4: 0 | AP4: 0 | AQ4: 51.231632 | AR4: 46.401132 | AS4: 47.133823 | AT4: 44.131736 | AU4: 41.98121 | AV4: 0 | AW4: 0 | AX4: 66.250753 | AY4: 60.004138 | AZ4: 60.951626 | BA4: 57.069444 | BB4: 54.288468 | BC4: 0 | BD4: 0 | BE4: 128.2143 | BF4: 116.1253 | BG4: 117.95896 | BH4: 0 | BI4: 0 | BJ4: 0 | BK4: 0 | BL4: 68.278781 | BM4: 61.840948 | BN4: 62.81744 | BO4: 58.816419 | BP4: 55.950313 | BQ4: 0 | BR4: 0 | BS4: 0 | BT4: 72.22672 | BU4: 73.367207 | BV4: 68.694241 | BW4: 65.346792 | BX4: 0 | BY4: 0 | BZ4: 54.906957 | CA4: 49.729919 | CB4: 50.515174 | CC4: 47.297719 | CD4: 44.992916 | CE4: 0 | CF4: 0 | CG4: 61.431555 | CH4: 55.63933 | CI4: 56.517896 | CJ4: 52.91811 | CK4: 50.339428 | CL4: 0 | CM4: 0 | CN4: 65.357808 | CO4: 59.195387 | CP4: 60.130105 | CQ4: 56.300247 | CR4: 53.556754 | CS4: 0 | CT4: 0 | CU4: 57.546907 | CV4: 52.120955 | CW4: 52.943965 | CX4: 49.571813 | CY4: 47.156194 | CZ4: 0 | DA4: 0 | DB4: 57.237567 | DC4: 51.840782 | DD4: 52.659368 | DE4: 49.305343 | DF4: 46.902709 | DG4: 0 | DH4: 0 | DI4: 62.070598 | DJ4: 56.21812 | DK4: 57.105825 | DL4: 53.468593 | DM4: 50.863085 | DN4: 0 | DO4: 0 | DP4: 83.35175 | DQ4: 75.492726 | DR4: 0 | DS4: 71.800512 | DT4: 68.301696 | DU4: 0 | DV4: 0 | DW4: 61.682562 | DX4: 55.86667 | DY4: 56.748827 | DZ4: 53.134332 | EA4: 50.545113 | EB4: 0 | EC4: 0 | ED4: 49.411028 | EE4: 44.752188 | EF4: 45.458842 | EG4: 42.563439 | EH4: 40.489336 | EI4: 0 | EJ4: 0 | EK4: 46.769578 | EL4: 42.359794 | EM4: 43.028671 | EN4: 40.288052 | EO4: 38.324828 | EP4: 0 | EQ4: 0 | ER4: 51.004069 | ES4: 46.195025 | ET4: 46.924463 | EU4: 43.93571 | EV4: 41.794737 | EW4: 0 | EX4: 0 | EY4: 48.657886 | EZ4: 44.070057 | FA4: 44.765941 | FB4: 41.91467 | FC4: 39.872182 | FD4: 0 | FE4: 0 | FF4: 43.611781 | FG4: 39.499737 | FH4: 40.123454 | FI4: 37.567876 | FJ4: 35.737206 | FK4: 0 | FL4: 0 | FM4: 52.42197 | FN4: 47.479236 | FO4: 48.228952 | FP4: 45.157112 | FQ4: 42.956621 | FR4: 0 | FS4: 0 | FT4: 63.079605 | FU4: 57.13199 | FV4: 58.034126 | FW4: 54.337767 | FX4: 51.689905 | FY4: 0 | FZ4: 0 | GA4: 66.887136 | GB4: 60.580518 | GC4: 61.537108 | GD4: 57.617634 | GE4: 54.809945 | GF4: 0 | GG4: 0 | GH4: 60.247093 | GI4: 54.566548 | GJ4: 55.428175 | GK4: 51.897797 | GL4: 49.368834 | GM4: 0 | GN4: 0 | GO4: 58.798128 | GP4: 53.254202 | GQ4: 54.095106 | GR4: 50.649635 | GS4: 48.181494 | GT4: 0 | GU4: 0 | GV4: 69.80931 | GW4: 63.227168 | GX4: 64.225549 | GY4: 60.134841 | GZ4: 57.204489 | HA4: 0 | HB4: 0 | HC4: 72.421862 | HD4: 65.593389 | HE4: 66.629134 | HF4: 62.385334 | HG4: 59.345317 | HH4: 0 | HI4: 0 | HJ4: 70.861919 | HK4: 64.180529 | HL4: 65.193964 | HM4: 61.041575 | HN4: 58.067038 | HO4: 0 | HP4: 0 | HQ4: 64.809059 | HR4: 58.698377 | HS4: 59.625247 | HT4: 55.827545 | HU4: 53.107087 | HV4: 0 | HW4: 0 | HX4: 0 | HY4: 76.069199 | HZ4: 77.27036 | IA4: 72.348791 | IB4: 68.823257 | IC4: 0 | ID4: 0 | IE4: 83.147418 | IF4: 75.30766 | IG4: 76.496796 | IH4: 0 | II4: 68.134259 | IJ4: 0 | IK4: 0 | IL4: 71.973243 | IM4: 65.187069 | IN4: 66.216398 | IO4: 61.998887 | IP4: 58.977701 | IQ4: 0 | IR4: 0 | IS4: 63.405759 | IT4: 57.427391 | IU4: 58.334192 | IV4: 54.618721 | IW4: 51.957168 | IX4: 0 | IY4: 0 | IZ4: 67.130729 | JA4: 60.801144 | JB4: 61.761217 | JC4: 57.827469 | JD4: 55.009555 | JE4: 0 | JF4: 0 | JG4: 73.4578 | JH4: 66.531651 | JI4: 67.582212 | JJ4: 63.277708 | JK4: 60.194205 | JL4: 0 | JM4: 0 | JN4: 77.891766 | JO4: 70.54755 | JP4: 71.661523 | JQ4: 67.097196 | JR4: 63.827571 | JS4: 0 | JT4: 0 | JU4: 70.159268 | JV4: 63.54413 | JW4: 64.547516 | JX4: 60.436301 | JY4: 57.491259 | JZ4: 0 | KA4: 0 | KB4: 47.031415 | KC4: 42.596943 | KD4: 43.269565 | KE4: 40.513603 | KF4: 38.539388
A5: JULIEN | B5: PARIS | C5: 18.749422 | D5: 17.555218 | E5: 16.699758 | F5: 0 | G5: 0 | H5: 17.953579 | I5: 16.260782 | J5: 16.517546 | K5: 15.465496 | L5: 14.711867 | M5: 0 | N5: 0 | O5: 15.664982 | P5: 14.187971 | Q5: 14.412004 | R5: 13.494062 | S5: 12.836501 | T5: 0 | U5: 0 | V5: 0 | W5: 18.714304 | X5: 19.00981 | Y5: 17.799021 | Z5: 16.93168 | AA5: 0 | AB5: 0 | AC5: 17.182271 | AD5: 15.562198 | AE5: 15.807931 | AF5: 14.801079 | AG5: 14.079827 | AH5: 0 | AI5: 0 | AJ5: 15.977046 | AK5: 14.470611 | AL5: 14.699107 | AM5: 13.762879 | AN5: 13.092218 | AO5: 0 | AP5: 0 | AQ5: 11.139933 | AR5: 10.089577 | AS5: 10.248896 | AT5: 9.5961143 | AU5: 9.1284987 | AV5: 0 | AW5: 0 | AX5: 13.657856 | AY5: 12.370091 | AZ5: 12.56542 | BA5: 11.765092 | BB5: 11.191783 | BC5: 0 | BD5: 0 | BE5: 26.431886 | BF5: 23.939691 | BG5: 24.317708 | BH5: 0 | BI5: 0 | BJ5: 0 | BK5: 0 | BL5: 14.075942 | BM5: 12.748757 | BN5: 12.950065 | BO5: 12.125238 | BP5: 11.534379 | BQ5: 0 | BR5: 0 | BS5: 0 | BT5: 14.889825 | BU5: 15.124941 | BV5: 14.16159 | BW5: 13.471501 | BX5: 0 | BY5: 0 | BZ5: 11.169372 | CA5: 10.116241 | CB5: 10.27598 | CC5: 9.6214735 | CD5: 9.1526222 | CE5: 0 | CF5: 0 | CG5: 12.473325 | CH5: 11.297247 | CI5: 11.475634 | CJ5: 10.744719 | CK5: 10.221132 | CL5: 0 | CM5: 0 | CN5: 13.270528 | CO5: 12.019283 | CP5: 12.209073 | CQ5: 11.431442 | CR5: 10.874391 | CS5: 0 | CT5: 0 | CU5: 11.684569 | CV5: 10.582861 | CW5: 10.749968 | CX5: 10.065272 | CY5: 9.5747946 | CZ5: 0 | DA5: 0 | DB5: 11.783703 | DC5: 10.672648 | DD5: 10.841173 | DE5: 10.150668 | DF5: 9.6560291 | DG5: 0 | DH5: 0 | DI5: 12.920504 | DJ5: 11.702263 | DK5: 11.887046 | DL5: 11.129926 | DM5: 10.587568 | DN5: 0 | DO5: 0 | DP5: 17.35035 | DQ5: 15.71443 | DR5: 0 | DS5: 14.945866 | DT5: 14.217558 | DU5: 0 | DV5: 0 | DW5: 12.839731 | DX5: 11.629106 | DY5: 11.812734 | DZ5: 11.060347 | EA5: 10.52138 | EB5: 0 | EC5: 0 | ED5: 10.285311 | EE5: 9.315535 | EF5: 9.4626308 | EG5: 8.8599289 | EH5: 8.4281874 | EI5: 0 | EJ5: 0 | EK5: 9.2286423 | EL5: 8.3584971 | EM5: 8.490481 | EN5: 7.9496981 | EO5: 7.5623118 | EP5: 0 | EQ5: 0 | ER5: 10.064198 | ES5: 9.1152708 | ET5: 9.2592044 | EU5: 8.6694593 | EV5: 8.2469993 | EW5: 0 | EX5: 0 | EY5: 9.601246 | EZ5: 8.6959689 | FA5: 8.8332816 | FB5: 8.2706647 | FC5: 7.8676379 | FD5: 0 | FE5: 0 | FF5: 8.6055412 | FG5: 7.7941466 | FH5: 7.9172192 | FI5: 7.412949 | FJ5: 7.0517183 | FK5: 0 | FL5: 0 | FM5: 10.900895 | FN5: 9.8730771 | FO5: 10.028977 | FP5: 9.3902027 | FQ5: 8.9326211 | FR5: 0 | FS5: 0 | FT5: 13.30414 | FU5: 12.049727 | FV5: 12.239997 | FW5: 11.460396 | FX5: 10.901935 | FY5: 0 | FZ5: 0 | GA5: 14.107188 | GB5: 12.777057 | GC5: 12.978812 | GD5: 12.152154 | GE5: 11.559984 | GF5: 0 | GG5: 0 | GH5: 12.706734 | GI5: 11.508649 | GJ5: 11.690375 | GK5: 10.945781 | GL5: 10.412397 | GM5: 0 | GN5: 0 | GO5: 12.665731 | GP5: 11.471512 | GQ5: 11.652651 | GR5: 10.910461 | GS5: 10.378798 | GT5: 0 | GU5: 0 | GV5: 15.467593 | GW5: 14.009193 | GX5: 14.230403 | GY5: 13.324028 | GZ5: 12.674753 | HA5: 0 | HB5: 0 | HC5: 16.046454 | HD5: 14.533474 | HE5: 14.762963 | HF5: 13.822668 | HG5: 13.149094 | HH5: 0 | HI5: 0 | HJ5: 15.700818 | HK5: 14.220428 | HL5: 14.444974 | HM5: 13.524932 | HN5: 12.865867 | HO5: 0 | HP5: 0 | HQ5: 14.359691 | HR5: 13.005752 | HS5: 13.211118 | HT5: 12.369664 | HU5: 11.766894 | HV5: 0 | HW5: 0 | HX5: 0 | HY5: 17.437035 | HZ5: 17.712372 | IA5: 16.584221 | IB5: 15.776077 | IC5: 0 | ID5: 0 | IE5: 19.059546 | IF5: 17.26247 | IG5: 17.535051 | IH5: 0 | II5: 15.618141 | IJ5: 0 | IK5: 0 | IL5: 16.498135 | IM5: 14.942568 | IN5: 15.178517 | IO5: 14.211754 | IP5: 13.51922 | IQ5: 0 | IR5: 0 | IS5: 14.534246 | IT5: 13.163849 | IU5: 13.371711 | IV5: 12.520028 | IW5: 11.909931 | IX5: 0 | IY5: 0 | IZ5: 13.939118 | JA5: 12.624834 | JB5: 12.824185 | JC5: 12.007376 | JD5: 11.422261 | JE5: 0 | JF5: 0 | JG5: 14.608212 | JH5: 13.230841 | JI5: 13.439761 | JJ5: 12.583745 | JK5: 11.970543 | JL5: 0 | JM5: 0 | JN5: 15.489975 | JO5: 14.029464 | JP5: 14.250995 | JQ5: 13.343308 | JR5: 12.693093 | JS5: 0 | JT5: 0 | JU5: 13.952249 | JV5: 12.636727 | JW5: 12.836265 | JX5: 12.018687 | JY5: 11.43302 | JZ5: 0 | KA5: 0 | KB5: 9.3529196 | KC5: 8.4710566 | KD5: 8.6048179 | KE5: 8.0567525 | KF5: 7.6641495
A6: NICOLAS | B6: TOURS | C6: 25.322836 | D6: 23.709953 | E6: 22.554574 | F6: 0 | G6: 0 | H6: 24.247976 | I6: 21.961696 | J6: 22.30848 | K6: 20.887589 | L6: 19.869744 | M6: 0 | N6: 0 | O6: 20.596483 | P6: 18.654493 | Q6: 18.949054 | R6: 17.742135 | S6: 16.877566 | T6: 0 | U6: 0 | V6: 0 | W6: 23.996525 | X6: 24.375439 | Y6: 22.822898 | Z6: 21.710746 | AA6: 0 | AB6: 0 | AC6: 22.032067 | AD6: 19.95472 | AE6: 20.269812 | AF6: 18.97877 | AG6: 18.053941 | AH6: 0 | AI6: 0 | AJ6: 20.48666 | AK6: 18.555025 | AL6: 18.848016 | AM6: 17.647532 | AN6: 16.787573 | AO6: 0 | AP6: 0 | AQ6: 14.284245 | AR6: 12.937419 | AS6: 13.141706 | AT6: 12.304674 | AU6: 11.705071 | AV6: 0 | AW6: 0 | AX6: 20.072205 | AY6: 18.179648 | AZ6: 18.466711 | BA6: 17.290514 | BB6: 16.447952 | BC6: 0 | BD6: 0 | BE6: 38.8455 | BF6: 35.182856 | BG6: 35.738407 | BH6: 0 | BI6: 0 | BJ6: 0 | BK6: 0 | BL6: 20.686643 | BM6: 18.736152 | BN6: 19.032003 | BO6: 17.8198 | BP6: 16.951447 | BQ6: 0 | BR6: 0 | BS6: 0 | BT6: 21.882763 | BU6: 22.2283 | BV6: 20.812516 | BW6: 19.798329 | BX6: 0 | BY6: 0 | BZ6: 13.05668 | CA6: 11.825599 | CB6: 12.01233 | CC6: 11.24723 | CD6: 10.699156 | CE6: 0 | CF6: 0 | CG6: 14.051881 | CH6: 12.726964 | CI6: 12.927928 | CJ6: 12.104512 | CK6: 11.514663 | CL6: 0 | CM6: 0 | CN6: 14.949973 | CO6: 13.540379 | CP6: 13.754186 | CQ6: 12.878143 | CR6: 12.250595 | CS6: 0 | CT6: 0 | CU6: 13.163304 | CV6: 11.92217 | CW6: 12.110426 | CX6: 11.339078 | CY6: 10.786528 | CZ6: 0 | DA6: 0 | DB6: 13.300209 | DC6: 12.046166 | DD6: 12.23638 | DE6: 11.45701 | DF6: 10.898714 | DG6: 0 | DH6: 0 | DI6: 14.605095 | DJ6: 13.228018 | DK6: 13.436894 | DL6: 12.581059 | DM6: 11.967988 | DN6: 0 | DO6: 0 | DP6: 19.61251 | DQ6: 17.763297 | DR6: 0 | DS6: 16.894526 | DT6: 16.071261 | DU6: 0 | DV6: 0 | DW6: 14.513791 | DX6: 13.145323 | DY6: 13.352892 | DZ6: 12.502409 | EA6: 11.89317 | EB6: 0 | EC6: 0 | ED6: 11.626322 | EE6: 10.530106 | EF6: 10.69638 | EG6: 10.015097 | EH6: 9.5270648 | EI6: 0 | EJ6: 0 | EK6: 11.375692 | EL6: 10.303107 | EM6: 10.465797 | EN6: 9.7992009 | EO6: 9.3216889 | EP6: 0 | EQ6: 0 | ER6: 12.405641 | ES6: 11.235945 | ET6: 11.413365 | EU6: 10.686415 | EV6: 10.165669 | EW6: 0 | EX6: 0 | EY6: 11.834983 | EZ6: 10.719092 | FA6: 10.888351 | FB6: 10.194841 | FC6: 9.6980493 | FD6: 0 | FE6: 0 | FF6: 10.607626 | FG6: 9.6074603 | FH6: 9.7591658 | FI6: 9.1375767 | FJ6: 8.6923055 | FK6: 0 | FL6: 0 | FM6: 12.381322 | FN6: 11.213919 | FO6: 11.390991 | FP6: 10.665466 | FQ6: 10.145742 | FR6: 0 | FS6: 0 | FT6: 14.774509 | FU6: 13.381458 | FV6: 13.592756 | FW6: 12.726995 | FX6: 12.106812 | FY6: 0 | FZ6: 0 | GA6: 15.666309 | GB6: 14.189172 | GC6: 14.413225 | GD6: 13.495206 | GE6: 12.837588 | GF6: 0 | GG6: 0 | GH6: 14.111078 | GI6: 12.78058 | GJ6: 12.98239 | GK6: 12.155505 | GL6: 11.563171 | GM6: 0 | GN6: 0 | GO6: 13.483385 | GP6: 12.212071 | GQ6: 12.404905 | GR6: 11.614801 | GS6: 11.048815 | GT6: 0 | GU6: 0 | GV6: 15.539959 | GW6: 14.074735 | GX6: 14.296981 | GY6: 13.386365 | GZ6: 12.734052 | HA6: 0 | HB6: 0 | HC6: 16.121528 | HD6: 14.60147 | HE6: 14.832033 | HF6: 13.887338 | HG6: 13.210613 | HH6: 0 | HI6: 0 | HJ6: 15.774275 | HK6: 14.286959 | HL6: 14.512556 | HM6: 13.58821 | HN6: 12.92606 | HO6: 0 | HP6: 0 | HQ6: 14.426873 | HR6: 13.0666 | HS6: 13.272927 | HT6: 12.427536 | HU6: 11.821947 | HV6: 0 | HW6: 0 | HX6: 0 | HY6: 15.741211 | HZ6: 15.98977 | IA6: 14.971336 | IB6: 14.241788 | IC6: 0 | ID6: 0 | IE6: 17.205926 | IF6: 15.583623 | IG6: 15.829695 | IH6: 0 | II6: 14.099212 | IJ6: 0 | IK6: 0 | IL6: 14.893623 | IM6: 13.489341 | IN6: 13.702343 | IO6: 12.829602 | IP6: 12.20442 | IQ6: 0 | IR6: 0 | IS6: 13.12073 | IT6: 11.88361 | IU6: 12.071256 | IV6: 11.302404 | IW6: 10.751641 | IX6: 0 | IY6: 0 | IZ6: 13.143509 | JA6: 11.904241 | JB6: 12.092214 | JC6: 11.322026 | JD6: 10.770307 | JE6: 0 | JF6: 0 | JG6: 14.049475 | JH6: 12.724786 | JI6: 12.925715 | JJ6: 12.10244 | JK6: 11.512692 | JL6: 0 | JM6: 0 | JN6: 14.897512 | JO6: 13.492863 | JP6: 13.705921 | JQ6: 12.832952 | JR6: 12.207606 | JS6: 0 | JT6: 0 | JU6: 13.418601 | JV6: 12.153395 | JW6: 12.345302 | JX6: 11.558995 | JY6: 10.995728 | JZ6: 0 | KA6: 0 | KB6: 8.9951878 | KC6: 8.1470545 | KD6: 8.2756996 | KE6: 7.7485967 | KF6: 7.37101
A7: JULIE | B7: LILLE | C7: 27.878233 | D7: 26.102589 | E7: 24.830618 | F7: 0 | G7: 0 | H7: 26.694906 | I7: 24.177911 | J7: 24.55969 | K7: 22.995413 | L7: 21.874854 | M7: 0 | N7: 0 | O7: 26.01818 | P7: 23.564992 | Q7: 23.937092 | R7: 22.412471 | S7: 21.320318 | T7: 0 | U7: 0 | V7: 0 | W7: 34.045883 | X7: 34.58348 | Y7: 32.38076 | Z7: 30.802856 | AA7: 0 | AB7: 0 | AC7: 31.258742 | AD7: 28.311435 | AE7: 28.758483 | AF7: 26.926773 | AG7: 25.61464 | AH7: 0 | AI7: 0 | AJ7: 29.066143 | AK7: 26.32557 | AL7: 26.741261 | AM7: 25.038034 | AN7: 23.817938 | AO7: 0 | AP7: 0 | AQ7: 20.266256 | AR7: 18.355402 | AS7: 18.645241 | AT7: 17.457672 | AU7: 16.606966 | AV7: 0 | AW7: 0 | AX7: 31.316608 | AY7: 28.363844 | AZ7: 28.81172 | BA7: 26.97662 | BB7: 25.662058 | BC7: 0 | BD7: 0 | BE7: 60.60666 | BF7: 54.892212 | BG7: 55.758981 | BH7: 0 | BI7: 0 | BJ7: 0 | BK7: 0 | BL7: 32.275253 | BM7: 29.232101 | BN7: 29.693687 | BO7: 27.802412 | BP7: 26.447609 | BQ7: 0 | BR7: 0 | BS7: 0 | BT7: 34.141436 | BU7: 34.680543 | BV7: 32.47164 | BW7: 30.889307 | BX7: 0 | BY7: 0 | BZ7: 17.722469 | CA7: 16.051462 | CB7: 16.304921 | CC7: 15.266414 | CD7: 14.522487 | CE7: 0 | CF7: 0 | CG7: 18.548721 | CH7: 16.799809 | CI7: 17.065085 | CJ7: 15.978161 | CK7: 15.19955 | CL7: 0 | CM7: 0 | CN7: 19.734219 | CO7: 17.87353 | CP7: 18.15576 | CQ7: 16.999368 | CR7: 16.170994 | CS7: 0 | CT7: 0 | CU7: 17.375786 | CV7: 15.737467 | CW7: 15.985968 | CX7: 14.967776 | CY7: 14.238401 | CZ7: 0 | DA7: 0 | DB7: 18.557195 | DC7: 16.807484 | DD7: 17.072881 | DE7: 15.98546 | DF7: 15.206494 | DG7: 0 | DH7: 0 | DI7: 21.240426 | DJ7: 19.23772 | DK7: 19.541491 | DL7: 18.296838 | DM7: 17.405239 | DN7: 0 | DO7: 0 | DP7: 28.522791 | DQ7: 25.833449 | DR7: 0 | DS7: 24.569982 | DT7: 23.372694 | DU7: 0 | DV7: 0 | DW7: 21.107641 | DX7: 19.117455 | DY7: 19.419327 | DZ7: 18.182455 | EA7: 17.296429 | EB7: 0 | EC7: 0 | ED7: 16.908348 | EE7: 15.314103 | EF7: 15.555919 | EG7: 14.565118 | EH7: 13.855364 | EI7: 0 | EJ7: 0 | EK7: 16.936639 | EL7: 15.339726 | EM7: 15.581946 | EN7: 14.589488 | EO7: 13.878547 | EP7: 0 | EQ7: 0 | ER7: 18.470072 | ES7: 16.728576 | ET7: 16.992727 | EU7: 15.910412 | EV7: 15.135102 | EW7: 0 | EX7: 0 | EY7: 17.62045 | EZ7: 15.959063 | FA7: 16.211063 | FB7: 15.178534 | FC7: 14.438889 | FD7: 0 | FE7: 0 | FF7: 15.793108 | FG7: 14.304016 | FH7: 14.529882 | FI7: 13.604432 | FJ7: 12.941492 | FK7: 0 | FL7: 0 | FM7: 18.121366 | FN7: 16.412748 | FO7: 16.671912 | FP7: 15.61003 | FQ7: 14.849358 | FR7: 0 | FS7: 0 | FT7: 21.515961 | FU7: 19.487276 | FV7: 19.794988 | FW7: 18.534188 | FX7: 17.631023 | FY7: 0 | FZ7: 0 | GA7: 22.81468 | GB7: 20.663542 | GC7: 20.989827 | GD7: 19.652925 | GE7: 18.695245 | GF7: 0 | GG7: 0 | GH7: 20.549814 | GI7: 18.612224 | GJ7: 18.906118 | GK7: 17.701934 | GL7: 16.839324 | GM7: 0 | GN7: 0 | GO7: 19.945807 | GP7: 18.065168 | GQ7: 18.350424 | GR7: 17.181633 | GS7: 16.344377 | GT7: 0 | GU7: 0 | GV7: 23.502707 | GW7: 21.286696 | GX7: 21.622822 | GY7: 20.245602 | GZ7: 19.259041 | HA7: 0 | HB7: 0 | HC7: 24.382275 | HD7: 22.083332 | HE7: 22.432037 | HF7: 21.003276 | HG7: 19.979793 | HH7: 0 | HI7: 0 | HJ7: 23.857089 | HK7: 21.607665 | HL7: 21.948858 | HM7: 20.550873 | HN7: 19.549435 | HO7: 0 | HP7: 0 | HQ7: 21.819272 | HR7: 19.761988 | HS7: 20.074038 | HT7: 18.795465 | HU7: 17.879568 | HV7: 0 | HW7: 0 | HX7: 0 | HY7: 26.679039 | HZ7: 27.100311 | IA7: 25.374215 | IB7: 24.137738 | IC7: 0 | ID7: 0 | IE7: 29.161517 | IF7: 26.411952 | IG7: 26.829007 | IH7: 0 | II7: 23.896092 | IJ7: 0 | IK7: 0 | IL7: 25.242503 | IM7: 22.862452 | IN7: 23.223459 | IO7: 21.74429 | IP7: 20.684698 | IQ7: 0 | IR7: 0 | IS7: 22.237709 | IT7: 20.140972 | IU7: 20.459006 | IV7: 19.155914 | IW7: 18.222452 | IX7: 0 | IY7: 0 | IZ7: 21.663845 | JA7: 19.621217 | JB7: 19.931043 | JC7: 18.661578 | JD7: 17.752205 | JE7: 0 | JF7: 0 | JG7: 22.869105 | JH7: 20.712835 | JI7: 21.039899 | JJ7: 19.699808 | JK7: 18.739842 | JL7: 0 | JM7: 0 | JN7: 24.249501 | JO7: 21.963077 | JP7: 22.309883 | JQ7: 20.888903 | JR7: 19.870993 | JS7: 0 | JT7: 0 | JU7: 21.842196 | JV7: 19.782751 | JW7: 20.095128 | JX7: 18.815212 | JY7: 17.898353 | JZ7: 0 | KA7: 0 | KB7: 14.641963 | KC7: 13.261409 | KD7: 13.470812 | KE7: 12.612818 | KF7: 11.998199
A8: VERONIQUE | B8: PARIS | C8: 743.19702 | D8: 695.86069 | E8: 661.95162 | F8: 0 | G8: 0 | H8: 711.65108 | I8: 644.55131 | J8: 654.72902 | K8: 613.02747 | L8: 583.15483 | M8: 0 | N8: 0 | O8: 587.89818 | P8: 532.46676 | Q8: 540.87462 | R8: 506.42477 | S8: 481.74685 | T8: 0 | U8: 0 | V8: 0 | W8: 666.43028 | X8: 676.95347 | Y8: 633.83638 | Z8: 602.94973 | AA8: 0 | AB8: 0 | AC8: 611.87346 | AD8: 554.18147 | AE8: 562.93221 | AF8: 527.07745 | AG8: 501.39313 | AH8: 0 | AI8: 0 | AJ8: 568.95448 | AK8: 515.30921 | AL8: 523.44614 | AM8: 490.10637 | AN8: 466.22364 | AO8: 0 | AP8: 0 | AQ8: 396.70132 | AR8: 359.29736 | AS8: 364.9708 | AT8: 341.72477 | AU8: 325.07263 | AV8: 0 | AW8: 0 | AX8: 545.67394 | AY8: 494.22374 | AZ8: 502.02772 | BA8: 470.05214 | BB8: 447.14665 | BC8: 0 | BD8: 0 | BE8: 1056.0363 | BF8: 956.46534 | BG8: 971.5683 | BH8: 0 | BI8: 0 | BJ8: 0 | BK8: 0 | BL8: 562.37778 | BM8: 509.35261 | BN8: 517.39549 | BO8: 484.44109 | BP8: 460.83443 | BQ8: 0 | BR8: 0 | BS8: 0 | BT8: 594.89496 | BU8: 604.28858 | BV8: 565.79972 | BW8: 538.22848 | BX8: 0 | BY8: 0 | BZ8: 315.95942 | CA8: 286.16841 | CB8: 290.68712 | CC8: 272.17243 | CD8: 258.90956 | CE8: 0 | CF8: 0 | CG8: 332.31907 | CH8: 300.98555 | CI8: 305.73823 | CJ8: 286.26489 | CK8: 272.31529 | CL8: 0 | CM8: 0 | CN8: 353.55847 | CO8: 320.22234 | CP8: 325.27877 | CQ8: 304.56084 | CR8: 289.71969 | CS8: 0 | CT8: 0 | CU8: 311.30475 | CV8: 281.95262 | CW8: 286.40476 | CX8: 268.16282 | CY8: 255.09533 | CZ8: 0 | DA8: 0 | DB8: 313.07698 | DC8: 283.55775 | DD8: 288.03524 | DE8: 269.68945 | DF8: 256.54757 | DG8: 0 | DH8: 0 | DI8: 342.5298 | DJ8: 310.23354 | DK8: 315.13224 | DL8: 295.06057 | DM8: 280.68237 | DN8: 0 | DO8: 0 | DP8: 459.96751 | DQ8: 416.59834 | DR8: 0 | DS8: 396.22327 | DT8: 376.91543 | DU8: 0 | DV8: 0 | DW8: 340.38846 | DX8: 308.2941 | DY8: 313.16218 | DZ8: 293.21599 | EA8: 278.92767 | EB8: 0 | EC8: 0 | ED8: 272.66935 | EE8: 246.96005 | EF8: 250.85964 | EG8: 234.88168 | EH8: 223.43597 | EI8: 0 | EJ8: 0 | EK8: 253.22783 | EL8: 229.35162 | EM8: 232.97317 | EN8: 218.13445 | EO8: 207.50482 | EP8: 0 | EQ8: 0 | ER8: 276.15493 | ES8: 250.11699 | ET8: 254.06643 | EU8: 237.88421 | EV8: 226.29219 | EW8: 0 | EX8: 0 | EY8: 263.45182 | EZ8: 238.61162 | FA8: 242.37939 | FB8: 226.94156 | FC8: 215.88277 | FD8: 0 | FE8: 0 | FF8: 236.13035 | FG8: 213.86622 | FH8: 217.24325 | FI8: 203.4064 | FJ8: 193.49448 | FK8: 0 | FL8: 0 | FM8: 273.68801 | FN8: 247.88266 | FO8: 251.79682 | FP8: 235.75917 | FQ8: 224.2707 | FR8: 0 | FS8: 0 | FT8: 325.92317 | FU8: 295.19271 | FV8: 299.85391 | FW8: 280.75536 | FX8: 267.07424 | FY8: 0 | FZ8: 0 | GA8: 345.59613 | GB8: 313.01075 | GC8: 317.95331 | GD8: 297.70196 | GE8: 283.19504 | GF8: 0 | GG8: 0 | GH8: 311.288 | GI8: 281.93744 | GJ8: 286.38934 | GK8: 268.14839 | GL8: 255.0816 | GM8: 0 | GN8: 0 | GO8: 303.94182 | GP8: 275.28392 | GQ8: 279.63076 | GR8: 261.82028 | GS8: 249.06186 | GT8: 0 | GU8: 0 | GV8: 361.08946 | GW8: 327.04326 | GX8: 332.2074 | GY8: 311.04816 | GZ8: 295.89088 | HA8: 0 | HB8: 0 | HC8: 374.60292 | HD8: 339.28257 | HE8: 344.63997 | HF8: 322.68887 | HG8: 306.96434 | HH8: 0 | HI8: 0 | HJ8: 366.5341 | HK8: 331.97453 | HL8: 337.21653 | HM8: 315.73825 | HN8: 300.35243 | HO8: 0 | HP8: 0 | HQ8: 335.22561 | HR8: 303.61804 | HS8: 308.41228 | HT8: 288.76863 | HU8: 274.69702 | HV8: 0 | HW8: 0 | HX8: 0 | HY8: 378.29478 | HZ8: 384.2682 | IA8: 359.79306 | IB8: 342.26046 | IC8: 0 | ID8: 0 | IE8: 413.49501 | IF8: 374.50762 | IG8: 380.42123 | IH8: 0 | II8: 338.83404 | IJ8: 0 | IK8: 0 | IL8: 357.92545 | IM8: 324.17757 | IN8: 329.29645 | IO8: 308.32263 | IP8: 293.29816 | IQ8: 0 | IR8: 0 | IS8: 315.31905 | IT8: 285.58842 | IU8: 290.09797 | IV8: 271.6208 | IW8: 258.38481 | IX8: 0 | IY8: 0 | IZ8: 329.57812 | JA8: 298.50304 | JB8: 303.21652 | JC8: 283.90379 | JD8: 270.06925 | JE8: 0 | JF8: 0 | JG8: 358.74317 | JH8: 324.91819 | JI8: 330.04878 | JJ8: 309.02703 | JK8: 293.96824 | JL8: 0 | JM8: 0 | JN8: 380.39717 | JO8: 344.53049 | JP8: 349.97076 | JQ8: 327.68012 | JR8: 311.71238 | JS8: 0 | JT8: 0 | JU8: 342.63425 | JV8: 310.32814 | JW8: 315.22834 | JX8: 295.15055 | JY8: 280.76796 | JZ8: 0 | KA8: 0 | KB8: 229.6856 | KC8: 208.02913 | KD8: 211.31399 | KE8: 197.8548 | KF8: 188.2134
A9: THOMAS | B9: TOURS | C9: 872.94918 | D9: 817.34856 | E9: 777.51942 | F9: 0 | G9: 0 | H9: 835.89574 | I9: 757.08126 | J9: 769.03586 | K9: 720.05378 | L9: 684.96579 | M9: 0 | N9: 0 | O9: 687.25118 | P9: 622.45202 | Q9: 632.28078 | R9: 592.00901 | S9: 563.1606 | T9: 0 | U9: 0 | V9: 0 | W9: 775.28264 | X9: 787.52465 | Y9: 737.36496 | Z9: 701.4334 | AA9: 0 | AB9: 0 | AC9: 711.8147 | AD9: 644.6995 | AE9: 654.87956 | AF9: 613.16841 | AG9: 583.28891 | AH9: 0 | AI9: 0 | AJ9: 661.88549 | AK9: 599.47799 | AL9: 608.94398 | AM9: 570.15861 | AN9: 542.37496 | AO9: 0 | AP9: 0 | AQ9: 461.4971 | AR9: 417.98372 | AS9: 424.58384 | AT9: 397.54089 | AU9: 378.16885 | AV9: 0 | AW9: 0 | AX9: 626.66303 | AY9: 567.57656 | AZ9: 576.53882 | BA9: 539.81742 | BB9: 513.51229 | BC9: 0 | BD9: 0 | BE9: 1212.7735 | BF9: 1098.4242 | BG9: 1115.7687 | BH9: 0 | BI9: 0 | BJ9: 0 | BK9: 0 | BL9: 645.84605 | BM9: 584.95087 | BN9: 594.18747 | BO9: 556.34198 | BP9: 529.23161 | BQ9: 0 | BR9: 0 | BS9: 0 | BT9: 683.18944 | BU9: 693.97726 | BV9: 649.77587 | BW9: 618.1125 | BX9: 0 | BY9: 0 | BZ9: 528.92098 | CA9: 479.05037 | CB9: 486.61476 | CC9: 455.62088 | CD9: 433.41862 | CE9: 0 | CF9: 0 | CG9: 593.25862 | CH9: 537.32178 | CI9: 545.8063 | CJ9: 511.04234 | CK9: 486.13941 | CL9: 0 | CM9: 0 | CN9: 631.17535 | CO9: 571.66344 | CP9: 580.69022 | CQ9: 543.70441 | CR9: 517.20986 | CS9: 0 | CT9: 0 | CU9: 555.74369 | CV9: 503.34403 | CW9: 511.29202 | CX9: 478.72638 | CY9: 455.39819 | CZ9: 0 | DA9: 0 | DB9: 543.30344 | DC9: 492.07674 | DD9: 499.84682 | DE9: 468.01015 | DF9: 445.20417 | DG9: 0 | DH9: 0 | DI9: 580.90149 | DJ9: 526.12976 | DK9: 534.43755 | DL9: 500.3977 | DM9: 476.01348 | DN9: 0 | DO9: 0 | DP9: 780.06587 | DQ9: 706.51545 | DR9: 0 | DS9: 671.96105 | DT9: 639.2166 | DU9: 0 | DV9: 0 | DW9: 577.26996 | DX9: 522.84065 | DY9: 531.0965 | DZ9: 497.26945 | EA9: 473.03767 | EB9: 0 | EC9: 0 | ED9: 462.42408 | EE9: 418.82329 | EF9: 425.43667 | EG9: 398.3394 | EH9: 378.92845 | EI9: 0 | EJ9: 0 | EK9: 454.41103 | EL9: 411.56577 | EM9: 418.06455 | EN9: 391.43683 | EO9: 372.36224 | EP9: 0 | EQ9: 0 | ER9: 495.55315 | ES9: 448.8287 | ET9: 455.91588 | EU9: 426.8773 | EV9: 406.0757 | EW9: 0 | EX9: 0 | EY9: 472.75774 | EZ9: 428.18261 | FA9: 434.94378 | FB9: 407.24097 | FC9: 387.39625 | FD9: 0 | FE9: 0 | FF9: 423.73003 | FG9: 383.7776 | FH9: 389.8376 | FI9: 365.00773 | FJ9: 347.22102 | FK9: 0 | FL9: 0 | FM9: 507.0119 | FN9: 459.20704 | FO9: 466.45809 | FP9: 436.74805 | FQ9: 415.46545 | FR9: 0 | FS9: 0 | FT9: 609.31147 | FU9: 551.86104 | FV9: 560.57514 | FW9: 524.87051 | FX9: 499.29374 | FY9: 0 | FZ9: 0 | GA9: 646.08995 | GB9: 585.17178 | GC9: 594.41186 | GD9: 556.55208 | GE9: 529.43147 | GF9: 0 | GG9: 0 | GH9: 581.95109 | GI9: 527.0804 | GJ9: 535.40321 | GK9: 501.30185 | GL9: 476.87357 | GM9: 0 | GN9: 0 | GO9: 559.65773 | GP9: 506.88903 | GQ9: 514.893 | GR9: 482.098 | GS9: 458.60552 | GT9: 0 | GU9: 0 | GV9: 650.98353 | GW9: 589.60395 | GX9: 598.91402 | GY9: 560.76748 | GZ9: 533.44146 | HA9: 0 | HB9: 0 | HC9: 675.34601 | HD9: 611.66936 | HE9: 621.32785 | HF9: 581.75371 | HG9: 553.40504 | HH9: 0 | HI9: 0 | HJ9: 660.79928 | HK9: 598.4942 | HL9: 607.94465 | HM9: 569.22292 | HN9: 541.48487 | HO9: 0 | HP9: 0 | HQ9: 604.35534 | HR9: 547.37222 | HS9: 556.01543 | HT9: 520.60123 | HU9: 495.2325 | HV9: 0 | HW9: 0 | HX9: 0 | HY9: 696.411 | HZ9: 707.4076 | IA9: 662.35079 | IB9: 630.07465 | IC9: 0 | ID9: 0 | IE9: 761.21186 | IF9: 689.43913 | IG9: 700.32564 | IH9: 0 | II9: 623.76688 | IJ9: 0 | IK9: 0 | IL9: 658.91266 | IM9: 596.78546 | IN9: 606.20894 | IO9: 567.59776 | IP9: 539.9389 | IQ9: 0 | IR9: 0 | IS9: 580.47763 | IT9: 525.74587 | IU9: 534.0476 | IV9: 500.03258 | IW9: 475.66616 | IX9: 0 | IY9: 0 | IZ9: 617.6503 | JA9: 559.41363 | JB9: 568.24698 | JC9: 532.05371 | JD9: 506.1269 | JE9: 0 | JF9: 0 | JG9: 677.23002 | JH9: 613.37572 | JI9: 623.06116 | JJ9: 583.37662 | JK9: 554.94886 | JL9: 0 | JM9: 0 | JN9: 718.10811 | JO9: 650.39953 | JP9: 660.66959 | JQ9: 618.58966 | JR9: 588.44598 | JS9: 0 | JT9: 0 | JU9: 646.81984 | JV9: 585.83284 | JW9: 595.08337 | JX9: 557.18081 | JY9: 530.02957 | JZ9: 0 | KA9: 0 | KB9: 433.59706 | KC9: 392.7143 | KD9: 398.91541 | KE9: 373.50735 | KF9: 355.30645
A10: ALEXANDRE | B10: LILLE | C10: 52.187159 | D10: 48.86321 | E10: 46.482121 | F10: 0 | G10: 0 | H10: 49.972008 | I10: 45.260275 | J10: 45.974952 | K10: 43.046676 | L10: 40.949026 | M10: 0 | N10: 0 | O10: 45.439518 | P10: 41.155141 | Q10: 41.804997 | R10: 39.142317 | S10: 37.234925 | T10: 0 | U10: 0 | V10: 0 | W10: 56.281975 | X10: 57.170689 | Y10: 53.529325 | Z10: 50.920858 | AA10: 0 | AB10: 0 | AC10: 51.674493 | AD10: 46.802237 | AE10: 47.541262 | AF10: 44.513223 | AG10: 42.344108 | AH10: 0 | AI10: 0 | AJ10: 48.049861 | AK10: 43.519362 | AL10: 44.206549 | AM10: 41.390908 | AN10: 39.373942 | AO10: 0 | AP10: 0 | AQ10: 33.50258 | AR10: 30.343707 | AS10: 30.822846 | AT10: 28.859651 | AU10: 27.453329 | AV10: 0 | AW10: 0 | AX10: 41.055635 | AY10: 37.184604 | AZ10: 37.771763 | BA10: 35.365972 | BB10: 33.642599 | BC10: 0 | BD10: 0 | BE10: 79.454484 | BF10: 71.962923 | BG10: 73.099245 | BH10: 0 | BI10: 0 | BJ10: 0 | BK10: 0 | BL10: 42.312405 | BM10: 38.322876 | BN10: 38.928009 | BO10: 36.448573 | BP10: 34.672446 | BQ10: 0 | BR10: 0 | BS10: 0 | BT10: 44.758946 | BU10: 45.465706 | BV10: 42.569866 | BW10: 40.49545 | BX10: 0 | BY10: 0 | BZ10: 31.003548 | CA10: 28.080302 | CB10: 28.523701 | CC10: 26.706945 | CD10: 25.405524 | CE10: 0 | CF10: 0 | CG10: 34.217861 | CH10: 30.991546 | CI10: 31.480915 | CJ10: 29.475806 | CK10: 28.039459 | CL10: 0 | CM10: 0 | CN10: 36.404815 | CO10: 32.972298 | CP10: 33.492943 | CQ10: 31.359682 | CR10: 29.831535 | CS10: 0 | CT10: 0 | CU10: 32.054082 | CV10: 29.031784 | CW10: 29.490207 | CX10: 27.611892 | CY10: 26.266373 | CZ10: 0 | DA10: 0 | DB10: 33.102027 | DC10: 29.980921 | DD10: 30.454331 | DE10: 28.514608 | DF10: 27.1251 | DG10: 0 | DH10: 0 | DI10: 36.965619 | DJ10: 33.480224 | DK10: 34.00889 | DL10: 31.842767 | DM10: 30.291079 | DN10: 0 | DO10: 0 | DP10: 49.639428 | DQ10: 44.959053 | DR10: 0 | DS10: 42.760186 | DT10: 40.676496 | DU10: 0 | DV10: 0 | DW10: 36.734527 | DX10: 33.270922 | DY10: 33.796282 | DZ10: 31.643701 | EA10: 30.101713 | EB10: 0 | EC10: 0 | ED10: 29.426319 | EE10: 26.651786 | EF10: 27.072628 | EG10: 25.348295 | EH10: 24.113081 | EI10: 0 | EJ10: 0 | EK10: 25.596592 | EL10: 23.183155 | EM10: 23.549226 | EN10: 22.049309 | EO10: 20.974853 | EP10: 0 | EQ10: 0 | ER10: 27.914093 | ES10: 25.282145 | ET10: 25.681359 | EU10: 24.04564 | EV10: 22.873904 | EW10: 0 | EX10: 0 | EY10: 26.630047 | EZ10: 24.119168 | FA10: 24.500019 | FB10: 22.939543 | FC10: 21.821706 | FD10: 0 | FE10: 0 | FF10: 23.868357 | FG10: 21.61787 | FH10: 21.959225 | FI10: 20.560579 | FJ10: 19.558669 | FK10: 0 | FL10: 0 | FM10: 29.990421 | FN10: 27.162701 | FO10: 27.59161 | FP10: 25.834222 | FQ10: 24.575328 | FR10: 0 | FS10: 0 | FT10: 36.524335 | FU10: 33.080548 | FV10: 33.602903 | FW10: 31.462638 | FX10: 29.929474 | FY10: 0 | FZ10: 0 | GA10: 38.72897 | GB10: 35.077314 | GC10: 35.631199 | GD10: 33.361746 | GE10: 31.736039 | GF10: 0 | GG10: 0 | GH10: 34.884255 | GI10: 31.595107 | GJ10: 32.094006 | GK10: 30.049847 | GL10: 28.585528 | GM10: 0 | GN10: 0 | GO10: 35.094737 | GP10: 31.785744 | GQ10: 32.287653 | GR10: 30.23116 | GS10: 28.758005 | GT10: 0 | GU10: 0 | GV10: 43.372196 | GW10: 39.282742 | GX10: 39.903031 | GY10: 37.361494 | GZ10: 35.54088 | HA10: 0 | HB10: 0 | HC10: 44.995362 | HD10: 40.752864 | HE10: 41.396367 | HF10: 38.759715 | HG10: 36.870966 | HH10: 0 | HI10: 0 | HJ10: 44.026177 | HK10: 39.87506 | HL10: 40.504703 | HM10: 37.924843 | HN10: 36.076778 | HO10: 0 | HP10: 0 | HQ10: 40.265563 | HR10: 36.469026 | HS10: 37.044886 | HT10: 34.685391 | HU10: 32.995183 | HV10: 0 | HW10: 0 | HX10: 0 | HY10: 44.378329 | HZ10: 45.07908 | IA10: 42.207865 | IB10: 40.151089 | IC10: 0 | ID10: 0 | IE10: 48.507721 | IF10: 43.934051 | IG10: 44.627787 | IH10: 0 | II10: 39.749131 | IJ10: 0 | IK10: 0 | IL10: 41.988772 | IM10: 38.029758 | IN10: 38.630262 | IO10: 36.169791 | IP10: 34.407248 | IQ10: 0 | IR10: 0 | IS10: 36.990552 | IT10: 33.502807 | IU10: 34.031829 | IV10: 31.864245 | IW10: 30.31151 | IX10: 0 | IY10: 0 | IZ10: 35.403403 | JA10: 32.065306 | JB10: 32.571629 | JC10: 30.49705 | JD10: 29.010938 | JE10: 0 | JF10: 0 | JG10: 37.067192 | JH10: 33.572221 | JI10: 34.102339 | JJ10: 31.930264 | JK10: 30.374312 | JL10: 0 | JM10: 0 | JN10: 39.304594 | JO10: 35.598664 | JP10: 36.160781 | JQ10: 33.857598 | JR10: 32.207728 | JS10: 0 | JT10: 0 | JU10: 35.402735 | JV10: 32.064701 | JW10: 32.571015 | JX10: 30.496475 | JY10: 29.010391 | JZ10: 0 | KA10: 0 | KB10: 23.732299 | KC10: 21.494641 | KD10: 21.83405 | KE10: 20.443377 | KF10: 19.447178
A11: MICKAEL | B11: PARIS | C11: 389.29368 | D11: 364.49846 | E11: 346.73656 | F11: 0 | G11: 0 | H11: 372.76961 | I11: 337.62212 | J11: 342.9533 | K11: 321.10963 | L11: 305.46206 | M11: 0 | N11: 0 | O11: 386.41604 | P11: 349.98185 | Q11: 355.5082 | R11: 332.86487 | S11: 316.64447 | T11: 0 | U11: 0 | V11: 0 | W11: 528.11456 | X11: 536.4537 | Y11: 502.28543 | Z11: 477.80922 | AA11: 0 | AB11: 0 | AC11: 484.88085 | AD11: 439.16267 | AE11: 446.09722 | AF11: 417.68402 | AG11: 397.33041 | AH11: 0 | AI11: 0 | AJ11: 450.86959 | AK11: 408.35825 | AL11: 414.80638 | AM11: 388.38618 | AN11: 369.46024 | AO11: 0 | AP11: 0 | AQ11: 314.36708 | AR11: 284.72621 | AS11: 289.22215 | AT11: 270.80076 | AU11: 257.60473 | AV11: 0 | AW11: 0 | AX11: 432.42086 | AY11: 391.649 | AZ11: 397.83329 | BA11: 372.49415 | BB11: 354.34263 | BC11: 0 | BD11: 0 | BE11: 836.85897 | BF11: 757.95367 | BG11: 769.92205 | BH11: 0 | BI11: 0 | BJ11: 0 | BK11: 0 | BL11: 445.65786 | BM11: 403.63792 | BN11: 410.01152 | BO11: 383.89671 | BP11: 365.18955 | BQ11: 0 | BR11: 0 | BS11: 0 | BT11: 471.42619 | BU11: 478.87019 | BV11: 448.36959 | BW11: 426.52068 | BX11: 0 | BY11: 0 | BZ11: 250.38294 | CA11: 226.77497 | CB11: 230.35583 | CC11: 215.68381 | CD11: 205.17361 | CE11: 0 | CF11: 0 | CG11: 263.34719 | CH11: 238.51685 | CI11: 242.28313 | CJ11: 226.85142 | CK11: 215.79703 | CL11: 0 | CM11: 0 | CN11: 280.17841 | CO11: 253.7611 | CP11: 257.76808 | CQ11: 241.3501 | CR11: 229.58919 | CS11: 0 | CT11: 0 | CU11: 246.69433 | CV11: 223.43415 | CW11: 226.96226 | CX11: 212.50639 | CY11: 202.15102 | CZ11: 0 | DA11: 0 | DB11: 248.09874 | DC11: 224.70614 | DD11: 228.25434 | DE11: 213.71617 | DF11: 203.30185 | DG11: 0 | DH11: 0 | DI11: 271.43871 | DJ11: 245.84544 | DK11: 249.72744 | DL11: 233.82159 | DM11: 222.42754 | DN11: 0 | DO11: 0 | DP11: 364.50255 | DQ11: 330.13453 | DR11: 0 | DS11: 313.98825 | DT11: 298.6877 | DU11: 0 | DV11: 0 | DW11: 269.7418 | DX11: 244.30853 | DY11: 248.16626 | DZ11: 232.35984 | EA11: 221.03702 | EB11: 0 | EC11: 0 | ED11: 216.0776 | EE11: 195.70419 | EF11: 198.79443 | EG11: 186.13265 | EH11: 177.06247 | EI11: 0 | EJ11: 0 | EK11: 200.67111 | EL11: 181.75034 | EM11: 184.62025 | EN11: 172.86126 | EO11: 164.43778 | EP11: 0 | EQ11: 0 | ER11: 218.83976 | ES11: 198.20591 | ET11: 201.33566 | EU11: 188.51202 | EV11: 179.32589 | EW11: 0 | EX11: 0 | EY11: 208.77314 | EZ11: 189.08846 | FA11: 192.07423 | FB11: 179.84048 | FC11: 171.07691 | FD11: 0 | FE11: 0 | FF11: 187.12216 | FG11: 169.47889 | FH11: 172.15503 | FI11: 161.18998 | FJ11: 153.33524 | FK11: 0 | FL11: 0 | FM11: 216.88483 | FN11: 196.43532 | FO11: 199.5371 | FP11: 186.82802 | FQ11: 177.72395 | FR11: 0 | FS11: 0 | FT11: 258.27874 | FU11: 233.9263 | FV11: 237.62008 | FW11: 222.48538 | FX11: 211.64374 | FY11: 0 | FZ11: 0 | GA11: 273.86863 | GB11: 248.04626 | GC11: 251.963 | GD11: 235.91476 | GE11: 224.41871 | GF11: 0 | GG11: 0 | GH11: 246.68105 | GI11: 223.42212 | GJ11: 226.95005 | GK11: 212.49495 | GL11: 202.14014 | GM11: 0 | GN11: 0 | GO11: 240.85956 | GP11: 218.14952 | GQ11: 221.59419 | GR11: 207.48022 | GS11: 197.36978 | GT11: 0 | GU11: 0 | GV11: 286.14637 | GW11: 259.16636 | GX11: 263.25869 | GY11: 246.491 | GZ11: 234.47957 | HA11: 0 | HB11: 0 | HC11: 296.85515 | HD11: 268.86543 | HE11: 273.11092 | HF11: 255.7157 | HG11: 243.25476 | HH11: 0 | HI11: 0 | HJ11: 290.46098 | HK11: 263.07415 | HL11: 267.2282 | HM11: 250.20767 | HN11: 238.01513 | HO11: 0 | HP11: 0 | HQ11: 265.65048 | HR11: 240.60297 | HS11: 244.40219 | HT11: 228.83551 | HU11: 217.68443 | HV11: 0 | HW11: 0 | HX11: 0 | HY11: 299.78077 | HZ11: 304.51442 | IA11: 285.11903 | IB11: 271.22527 | IC11: 0 | ID11: 0 | IE11: 327.67529 | IF11: 296.77962 | IG11: 301.46588 | IH11: 0 | II11: 268.51 | IJ11: 0 | IK11: 0 | IL11: 283.63903 | IM11: 256.89543 | IN11: 260.95191 | IO11: 244.33114 | IP11: 232.42496 | IQ11: 0 | IR11: 0 | IS11: 249.87547 | IT11: 226.31535 | IU11: 229.88896 | IV11: 215.24667 | IW11: 204.75777 | IX11: 0 | IY11: 0 | IZ11: 261.17512 | JA11: 236.54958 | JB11: 240.28479 | JC11: 224.98037 | JD11: 214.01714 | JE11: 0 | JF11: 0 | JG11: 284.28704 | JH11: 257.48234 | JI11: 261.54809 | JJ11: 244.88934 | JK11: 232.95596 | JL11: 0 | JM11: 0 | JN11: 301.44682 | JO11: 273.02416 | JP11: 277.33532 | JQ11: 259.67104 | JR11: 247.01735 | JS11: 0 | JT11: 0 | JU11: 271.52148 | JV11: 245.92041 | JW11: 249.80359 | JX11: 233.89289 | JY11: 222.49536 | JZ11: 0 | KA11: 0 | KB11: 182.01501 | KC11: 164.85327 | KD11: 167.45637 | KE11: 156.7906 | KF11: 149.15024
A12: JEANNE | B12: TOURS | C12: 93.102928 | D12: 87.172937 | E12: 82.925028 | F12: 0 | G12: 0 | H12: 89.151056 | I12: 80.74523 | J12: 82.020228 | K12: 76.796126 | L12: 73.053875 | M12: 0 | N12: 0 | O12: 80.794016 | P12: 73.176154 | Q12: 74.331633 | R12: 69.59724 | S12: 66.205789 | T12: 0 | U12: 0 | V12: 0 | W12: 99.789893 | X12: 101.36561 | Y12: 94.909349 | Z12: 90.284446 | AA12: 0 | AB12: 0 | AC12: 91.620667 | AD12: 82.981987 | AE12: 84.292305 | AF12: 78.923488 | AG12: 75.077571 | AH12: 0 | AI12: 0 | AJ12: 85.194068 | AK12: 77.161336 | AL12: 78.379744 | AM12: 73.387514 | AN12: 69.811364 | AO12: 0 | AP12: 0 | AQ12: 59.401235 | AR12: 53.800444 | AS12: 54.649974 | AT12: 51.169161 | AU12: 48.675704 | AV12: 0 | AW12: 0 | AX12: 79.320924 | AY12: 71.841956 | AZ12: 72.976368 | BA12: 68.328295 | BB12: 64.998679 | BC12: 0 | BD12: 0 | BE12: 153.50885 | BF12: 139.03489 | BG12: 141.2303 | BH12: 0 | BI12: 0 | BJ12: 0 | BK12: 0 | BL12: 81.749048 | BM12: 74.041138 | BN12: 75.210276 | BO12: 70.41992 | BP12: 66.988379 | BQ12: 0 | BR12: 0 | BS12: 0 | BT12: 86.47585 | BU12: 87.841337 | BV12: 82.246472 | BW12: 78.238627 | BX12: 0 | BY12: 0 | BZ12: 64.426625 | CA12: 58.352003 | CB12: 59.273403 | CC12: 55.498111 | CD12: 52.793706 | CE12: 0 | CF12: 0 | CG12: 71.8784 | CH12: 65.101169 | CI12: 66.129141 | CJ12: 61.917188 | CK12: 58.899983 | CL12: 0 | CM12: 0 | CN12: 76.472339 | CO12: 69.261957 | CP12: 70.35563 | CQ12: 65.874479 | CR12: 62.664437 | CS12: 0 | CT12: 0 | CU12: 67.333142 | CV12: 60.984471 | CW12: 61.947439 | CX12: 58.00183 | CY12: 55.17542 | CZ12: 0 | DA12: 0 | DB12: 63.755436 | DC12: 57.744098 | DD12: 58.6559 | DE12: 54.919938 | DF12: 52.243707 | DG12: 0 | DH12: 0 | DI12: 66.322925 | DJ12: 60.069505 | DK12: 61.018025 | DL12: 57.131614 | DM12: 54.347608 | DN12: 0 | DO12: 0 | DP12: 89.062003 | DQ12: 80.664574 | DR12: 0 | DS12: 76.719415 | DT12: 72.980902 | DU12: 0 | DV12: 0 | DW12: 65.908305 | DX12: 59.693979 | DY12: 60.636569 | DZ12: 56.774453 | EA12: 54.007852 | EB12: 0 | EC12: 0 | ED12: 52.796074 | EE12: 47.818066 | EF12: 48.573132 | EG12: 45.479371 | EH12: 43.263176 | EI12: 0 | EJ12: 0 | EK12: 48.827437 | EL12: 44.223622 | EM12: 44.92193 | EN12: 42.060725 | EO12: 40.011119 | EP12: 0 | EQ12: 0 | ER12: 53.248246 | ES12: 48.227604 | ET12: 48.989137 | EU12: 45.868879 | EV12: 43.633703 | EW12: 0 | EX12: 0 | EY12: 50.79883 | EZ12: 46.009138 | FA12: 46.73564 | FB12: 43.758914 | FC12: 41.626556 | FD12: 0 | FE12: 0 | FF12: 45.530698 | FG12: 41.237724 | FH12: 41.888884 | FI12: 39.220861 | FJ12: 37.309641 | FK12: 0 | FL12: 0 | FM12: 55.078498 | FN12: 49.885287 | FO12: 50.672995 | FP12: 47.445487 | FQ12: 45.133484 | FR12: 0 | FS12: 0 | FT12: 66.393755 | FU12: 60.133657 | FV12: 61.08319 | FW12: 57.192628 | FX12: 54.405649 | FY12: 0 | FZ12: 0 | GA12: 70.40133 | GB12: 63.763368 | GC12: 64.770216 | GD12: 60.644816 | GE12: 57.689614 | GF12: 0 | GG12: 0 | GH12: 63.412425 | GI12: 57.433429 | GJ12: 58.340325 | GK12: 54.624463 | GL12: 51.962631 | GM12: 0 | GN12: 0 | GO12: 62.164244 | GP12: 56.302936 | GQ12: 57.191981 | GR12: 53.54926 | GS12: 50.939822 | GT12: 0 | GU12: 0 | GV12: 74.255746 | GW12: 67.254361 | GX12: 68.316333 | GY12: 63.965071 | GZ12: 60.848074 | HA12: 0 | HB12: 0 | HC12: 77.034703 | HD12: 69.771296 | HE12: 70.873012 | HF12: 66.358908 | HG12: 63.12526 | HH12: 0 | HI12: 0 | HJ12: 75.3754 | HK12: 68.268445 | HL12: 69.34643 | HM12: 64.929559 | HN12: 61.765562 | HO12: 0 | HP12: 0 | HQ12: 68.937009 | HR12: 62.437114 | HS12: 63.42302 | HT12: 59.383427 | HU12: 56.489691 | HV12: 0 | HW12: 0 | HX12: 0 | HY12: 78.762259 | HZ12: 80.005945 | IA12: 74.910138 | IB12: 71.259791 | IC12: 0 | ID12: 0 | IE12: 86.091067 | IF12: 77.973759 | IG12: 79.204995 | IH12: 0 | II12: 70.5464 | IJ12: 0 | IK12: 0 | IL12: 74.521295 | IM12: 67.494872 | IN12: 68.560642 | IO12: 64.193819 | IP12: 61.065675 | IQ12: 0 | IR12: 0 | IS12: 65.650498 | IT12: 59.46048 | IU12: 60.399384 | IV12: 56.552375 | IW12: 53.796596 | IX12: 0 | IY12: 0 | IZ12: 63.655141 | JA12: 57.65326 | JB12: 58.563627 | JC12: 54.833543 | JD12: 52.161522 | JE12: 0 | JF12: 0 | JG12: 67.050939 | JH12: 60.728876 | JI12: 61.687809 | JJ12: 57.758736 | JK12: 54.944172 | JL12: 0 | JM12: 0 | JN12: 71.098182 | JO12: 64.394515 | JP12: 65.41133 | JQ12: 61.245096 | JR12: 58.260642 | JS12: 0 | JT12: 0 | JU12: 64.040099 | JV12: 58.001921 | JW12: 58.917794 | JX12: 55.165152 | JY12: 52.476971 | JZ12: 0 | KA12: 0 | KB12: 42.929417 | KC12: 38.881712 | KD12: 39.495669 | KE12: 36.980077 | KF12: 35.17805
... A25: SYLVAIN | B25: LILLE | C25: 254.68558 | D25: 238.46393 | E25: 226.84366 | F25: 0 | G25: 0 | H25: 243.87513 | I25: 220.88076 | J25: 224.36855 | K25: 210.07788 | L25: 199.84085 | M25: 0 | N25: 0 | O25: 211.75712 | P25: 191.79108 | Q25: 194.81954 | R25: 182.41093 | S25: 173.5221 | T25: 0 | U25: 0 | V25: 0 | W25: 251.8574 | X25: 255.83432 | Y25: 239.5395 | Z25: 227.86682 | AA25: 0 | AB25: 0 | AC25: 231.23928 | AD25: 209.43631 | AE25: 212.74339 | AF25: 199.19316 | AG25: 189.48654 | AH25: 0 | AI25: 0 | AJ25: 215.01933 | AK25: 194.74571 | AL25: 197.82082 | AM25: 185.22105 | AN25: 176.19528 | AO25: 0 | AP25: 0 | AQ25: 149.9214 | AR25: 135.78569 | AS25: 137.9298 | AT25: 129.14466 | AU25: 122.85148 | AV25: 0 | AW25: 0 | AX25: 206.79651 | AY25: 187.29819 | AZ25: 190.2557 | BA25: 178.13778 | BB25: 169.45718 | BC25: 0 | BD25: 0 | BE25: 400.21083 | BF25: 362.47597 | BG25: 368.19961 | BH25: 0 | BI25: 0 | BJ25: 0 | BK25: 0 | BL25: 213.12684 | BM25: 193.03165 | BN25: 196.07969 | BO25: 183.59082 | BP25: 174.6445 | BQ25: 0 | BR25: 0 | BS25: 0 | BT25: 225.45002 | BU25: 229.00996 | BV25: 214.42366 | BW25: 203.97487 | BX25: 0 | BY25: 0 | BZ25: 165.24763 | CA25: 149.66685 | CB25: 152.03015 | CC25: 142.34691 | CD25: 135.4104 | CE25: 0 | CF25: 0 | CG25: 183.9295 | CH25: 166.58725 | CI25: 169.21773 | CJ25: 158.43977 | CK25: 150.71905 | CL25: 0 | CM25: 0 | CN25: 195.68492 | CO25: 177.23429 | CP25: 180.03288 | CQ25: 168.56608 | CR25: 160.35191 | CS25: 0 | CT25: 0 | CU25: 172.29865 | CV25: 156.05304 | CW25: 158.51718 | CX25: 148.42077 | CY25: 141.18827 | CZ25: 0 | DA25: 0 | DB25: 170.0303 | DC25: 153.99857 | DD25: 156.43027 | DE25: 146.46678 | DF25: 139.3295 | DG25: 0 | DH25: 0 | DI25: 183.21206 | DJ25: 165.93746 | DK25: 168.55768 | DL25: 157.82176 | DM25: 150.13115 | DN25: 0 | DO25: 0 | DP25: 246.02704 | DQ25: 222.82978 | DR25: 0 | DS25: 211.93158 | DT25: 201.60422 | DU25: 0 | DV25: 0 | DW25: 182.0667 | DX25: 164.9001 | DY25: 167.50393 | DZ25: 156.83513 | EA25: 149.1926 | EB25: 0 | EC25: 0 | ED25: 145.84516 | EE25: 132.09379 | EF25: 134.1796 | EG25: 125.63332 | EH25: 119.51125 | EI25: 0 | EJ25: 0 | EK25: 135.77091 | EL25: 122.96942 | EM25: 124.91115 | EN25: 116.95521 | EO25: 111.25602 | EP25: 0 | EQ25: 0 | ER25: 148.06353 | ES25: 134.103 | ET25: 136.22054 | EU25: 127.54426 | EV25: 121.32907 | EW25: 0 | EX25: 0 | EY25: 141.25262 | EZ25: 127.93427 | FA25: 129.9544 | FB25: 121.67724 | FC25: 115.74794 | FD25: 0 | FE25: 0 | FF25: 126.60391 | FG25: 114.66675 | FH25: 116.47738 | FI25: 109.0586 | FJ25: 103.74421 | FK25: 0 | FL25: 0 | FM25: 152.19469 | FN25: 137.84464 | FO25: 140.02126 | FP25: 131.10291 | FQ25: 124.7143 | FR25: 0 | FS25: 0 | FT25: 183.14164 | FU25: 165.87368 | FV25: 168.49289 | FW25: 157.76109 | FX25: 150.07345 | FY25: 0 | FZ25: 0 | GA25: 194.1962 | GB25: 175.88593 | GC25: 178.66324 | GD25: 167.28367 | GE25: 159.13199 | GF25: 0 | GG25: 0 | GH25: 174.91789 | GI25: 158.42532 | GJ25: 160.92692 | GK25: 150.67703 | GL25: 143.33458 | GM25: 0 | GN25: 0 | GO25: 170.30583 | GP25: 154.24813 | GQ25: 156.68377 | GR25: 146.70413 | GS25: 139.55529 | GT25: 0 | GU25: 0 | GV25: 201.54076 | GW25: 182.53799 | GX25: 185.42034 | GY25: 173.61039 | GZ25: 165.15041 | HA25: 0 | HB25: 0 | HC25: 209.08324 | HD25: 189.36931 | HE25: 192.35953 | HF25: 180.1076 | HG25: 171.33102 | HH25: 0 | HI25: 0 | HJ25: 204.57966 | HK25: 185.29036 | HL25: 188.21617 | HM25: 176.22814 | HN25: 167.6406 | HO25: 0 | HP25: 0 | HQ25: 187.10494 | HR25: 169.46329 | HS25: 172.13918 | HT25: 161.17515 | HU25: 153.32113 | HV25: 0 | HW25: 0 | HX25: 0 | HY25: 202.43212 | HZ25: 205.6286 | IA25: 192.53153 | IB25: 183.14953 | IC25: 0 | ID25: 0 | IE25: 221.26837 | IF25: 200.40554 | IG25: 203.57002 | IH25: 0 | II25: 181.31599 | IJ25: 0 | IK25: 0 | IL25: 191.53213 | IM25: 173.47306 | IN25: 176.21226 | IO25: 164.9888 | IP25: 156.94895 | IQ25: 0 | IR25: 0 | IS25: 168.73271 | IT25: 152.82333 | IU25: 155.23647 | IV25: 145.34902 | IW25: 138.26621 | IX25: 0 | IY25: 0 | IZ25: 172.58947 | JA25: 156.31645 | JB25: 158.78475 | JC25: 148.67129 | JD25: 141.42659 | JE25: 0 | JF25: 0 | JG25: 186.16167 | JH25: 168.60896 | JI25: 171.27136 | JJ25: 160.3626 | JK25: 152.54818 | JL25: 0 | JM25: 0 | JN25: 197.39852 | JO25: 178.78632 | JP25: 181.60942 | JQ25: 170.0422 | JR25: 161.7561 | JS25: 0 | JT25: 0 | JU25: 177.80231 | JV25: 161.03778 | JW25: 163.58063 | JX25: 153.16171 | JY25: 145.69819 | JZ25: 0 | KA25: 0 | KB25: 119.19016 | KC25: 107.95202 | KD25: 109.65662 | KE25: 102.67228 | KF25: 97.669094
A27: PARIS | C27: {=SUMIF($B$2:$B$25,$A27,C$2:C$25)} -> 1671.8651 | D27: =SUMIF($B$2:$B$25,$A27,D$2:D$25) -> 1565.3792 | E27: =SUMIF($B$2:$B$25,$A27,E$2:E$25) -> 1489.0988 | F27: =SUMIF($B$2:$B$25,$A27,F$2:F$25) -> 0 | G27: =SUMIF($B$2:$B$25,$A27,G$2:G$25) -> 0 | H27: =SUMIF($B$2:$B$25,$A27,H$2:H$25) -> 1600.9006 | I27: =SUMIF($B$2:$B$25,$A27,I$2:I$25) -> 1449.9558 | J27: =SUMIF($B$2:$B$25,$A27,J$2:J$25) -> 1472.8512 | K27: =SUMIF($B$2:$B$25,$A27,K$2:K$25) -> 1379.0411 | ... KF27: =SUMIF($B$2:$B$25,$A27,KF$2:KF$25) -> 573.26459
A28: TOURS | C28: =SUMIF($B$2:$B$25,$A28,C$2:C$25) -> 1917.1489 | D28: =SUMIF($B$2:$B$25,$A28,D$2:D$25) -> 1795.0402 | E28: =SUMIF($B$2:$B$25,$A28,E$2:E$25) -> 1707.5684 | F28: =SUMIF($B$2:$B$25,$A28,F$2:F$25) -> 0 | G28: =SUMIF($B$2:$B$25,$A28,G$2:G$25) -> 0 | H28: =SUMIF($B$2:$B$25,$A28,H$2:H$25) -> 1835.773 | I28: =SUMIF($B$2:$B$25,$A28,I$2:I$25) -> 1662.6827 | J28: =SUMIF($B$2:$B$25,$A28,J$2:J$25) -> 1688.9371 | ... KF28: =SUMIF($B$2:$B$25,$A28,KF$2:KF$25) -> 852.66202
A29: LILLE | C29: =SUMIF($B$2:$B$25,$A29,C$2:C$25) -> 541.24984 | D29: =SUMIF($B$2:$B$25,$A29,D$2:D$25) -> 506.7761 | E29: =SUMIF($B$2:$B$25,$A29,E$2:E$25) -> 482.08106 | F29: =SUMIF($B$2:$B$25,$A29,F$2:F$25) -> 0 | G29: =SUMIF($B$2:$B$25,$A29,G$2:G$25) -> 0 | H29: =SUMIF($B$2:$B$25,$A29,H$2:H$25) -> 518.27581 | I29: =SUMIF($B$2:$B$25,$A29,I$2:I$25) -> 469.4089 | J29: =SUMIF($B$2:$B$25,$A29,J$2:J$25) -> 476.82105 | ... KF29: =SUMIF($B$2:$B$25,$A29,KF$2:KF$25) -> 218.16101

Sheet DESTINATAIRE
C1: PRENOM | I1: SITE
C2: JEAN | I2: PARIS
D6: DATE | E6: VALEUR | J6: DATE | K6: VALEUR
D7: 44272 | E7: =SUMPRODUCT((BASE!$A$2:$A$25=$C$2)*(BASE!$C$1:$KF$1=$D7),(BASE!$C$2:$KF$25)) -> 75.517462 | J7: 44272 | K7: =SUMPRODUCT((BASE!$A$27:$A$29=$I$2)*(BASE!$C$1:$KF$1=$D7),(BASE!$C$27:$KF$29)) -> 1671.8651
D8: 44273 | E8: =SUMPRODUCT((BASE!$A$2:$A$25=$C$2)*(BASE!$C$1:$KF$1=$D8),(BASE!$C$2:$KF$25)) -> 70.707539 | J8: 44273 | K8: =SUMPRODUCT((BASE!$A$27:$A$29=$I$2)*(BASE!$C$1:$KF$1=$D8),(BASE!$C$27:$KF$29)) -> 1565.3792
D9: 44274 | E9: =SUMPRODUCT((BASE!$A$2:$A$25=$C$2)*(BASE!$C$1:$KF$1=$D9),(BASE!$C$2:$KF$25)) -> 67.261984 | J9: 44274 | K9: =SUMPRODUCT((BASE!$A$27:$A$29=$I$2)*(BASE!$C$1:$KF$1=$D9),(BASE!$C$27:$KF$29)) -> 1489.0988
D10: 44275 | E10: =SUMPRODUCT((BASE!$A$2:$A$25=$C$2)*(BASE!$C$1:$KF$1=$D10),(BASE!$C$2:$KF$25)) -> 0 | J10: 44275 | K10: =SUMPRODUCT((BASE!$A$27:$A$29=$I$2)*(BASE!$C$1:$KF$1=$D10),(BASE!$C$27:$KF$29)) -> 0
D11: 44276 | E11: =SUMPRODUCT((BASE!$A$2:$A$25=$C$2)*(BASE!$C$1:$KF$1=$D11),(BASE!$C$2:$KF$25)) -> 0 | J11: 44276 | K11: =SUMPRODUCT((BASE!$A$27:$A$29=$I$2)*(BASE!$C$1:$KF$1=$D11),(BASE!$C$27:$KF$29)) -> 0
D12: 44277 | E12: =SUMPRODUCT((BASE!$A$2:$A$25=$C$2)*(BASE!$C$1:$KF$1=$D12),(BASE!$C$2:$KF$25)) -> 72.312027 | J12: 44277 | K12: =SUMPRODUCT((BASE!$A$27:$A$29=$I$2)*(BASE!$C$1:$KF$1=$D12),(BASE!$C$27:$KF$29)) -> 1600.9006
D13: 44278 | E13: =SUMPRODUCT((BASE!$A$2:$A$25=$C$2)*(BASE!$C$1:$KF$1=$D13),(BASE!$C$2:$KF$25)) -> 65.49391 | J13: 44278 | K13: =SUMPRODUCT((BASE!$A$27:$A$29=$I$2)*(BASE!$C$1:$KF$1=$D13),(BASE!$C$27:$KF$29)) -> 1449.9558
D14: 44279 | E14: =SUMPRODUCT((BASE!$A$2:$A$25=$C$2)*(BASE!$C$1:$KF$1=$D14),(BASE!$C$2:$KF$25)) -> 66.528084 | J14: 44279 | K14: =SUMPRODUCT((BASE!$A$27:$A$29=$I$2)*(BASE!$C$1:$KF$1=$D14),(BASE!$C$27:$KF$29)) -> 1472.8512
D15: 44280 | E15: =SUMPRODUCT((BASE!$A$2:$A$25=$C$2)*(BASE!$C$1:$KF$1=$D15),(BASE!$C$2:$KF$25)) -> 62.290721 | J15: 44280 | K15: =SUMPRODUCT((BASE!$A$27:$A$29=$I$2)*(BASE!$C$1:$KF$1=$D15),(BASE!$C$27:$KF$29)) -> 1379.0411
D16: 44281 | E16: =SUMPRODUCT((BASE!$A$2:$A$25=$C$2)*(BASE!$C$1:$KF$1=$D16),(BASE!$C$2:$KF$25)) -> 59.255314 | J16: 44281 | K16: =SUMPRODUCT((BASE!$A$27:$A$29=$I$2)*(BASE!$C$1:$KF$1=$D16),(BASE!$C$27:$KF$29)) -> 1311.8408
D17: 44282 | E17: =SUMPRODUCT((BASE!$A$2:$A$25=$C$2)*(BASE!$C$1:$KF$1=$D17),(BASE!$C$2:$KF$25)) -> 0 | J17: 44282 | K17: =SUMPRODUCT((BASE!$A$27:$A$29=$I$2)*(BASE!$C$1:$KF$1=$D17),(BASE!$C$27:$KF$29)) -> 0
D18: 44283 | E18: =SUMPRODUCT((BASE!$A$2:$A$25=$C$2)*(BASE!$C$1:$KF$1=$D18),(BASE!$C$2:$KF$25)) -> 0 | J18: 44283 | K18: =SUMPRODUCT((BASE!$A$27:$A$29=$I$2)*(BASE!$C$1:$KF$1=$D18),(BASE!$C$27:$KF$29)) -> 0
... D224: 44489 | E224: =SUMPRODUCT((BASE!$A$2:$A$25=$C$2)*(BASE!$C$1:$KF$1=$D224),(BASE!$C$2:$KF$25)) -> 62.894963 | J224: 44489 | K224: =SUMPRODUCT((BASE!$A$27:$A$29=$I$2)*(BASE!$C$1:$KF$1=$D224),(BASE!$C$27:$KF$29)) -> 1036.6517
