Workbook

Sheet budget v1
A1: Option | B1: Ordre | C1: Tâches | D1: Pièce | E1: Description des travaux | F1: Retenu | G1: Av % | H1: Estimé | I1: Total
A2: 1 | E2: Excavation | F2: x | G2: =SUMIF(Table4[Corps de métier],Table7[[#This Row],[Description des travaux]],Table4[Total]) -> 10310 | H2: =IF(Table7[[#This Row],[Av %]]>0,Table7[[#This Row],[Av %]]*((1+$G$91)+$G$84),"") -> 11856.5 | I2: =IFERROR(IF(Table7[[#This Row],[Retenu]]="x",Table7[[#This Row],[Estimé]],""),"") -> 11856.5
A3: 2 | E3: Coffrage | F3: x | G3: =SUMIF(Table4[Corps de métier],Table7[[#This Row],[Description des travaux]],Table4[Total]) -> 12978 | H3: =IF(Table7[[#This Row],[Av %]]>0,Table7[[#This Row],[Av %]]*((1+$G$91)+$G$84),"") -> 14924.7 | I3: =IFERROR(IF(Table7[[#This Row],[Retenu]]="x",Table7[[#This Row],[Estimé]],""),"") -> 14924.7
A4: 3 | E4: Structure | F4: x | G4: =SUMIF(Table4[Corps de métier],Table7[[#This Row],[Description des travaux]],Table4[Total]) -> 67240.37 | H4: =IF(Table7[[#This Row],[Av %]]>0,Table7[[#This Row],[Av %]]*((1+$G$91)+$G$84),"") -> 77326.425 | I4: =IFERROR(IF(Table7[[#This Row],[Retenu]]="x",Table7[[#This Row],[Estimé]],""),"") -> 77326.425
A5: 4 | E5: Toiture | F5: x | G5: =SUMIF(Table4[Corps de métier],Table7[[#This Row],[Description des travaux]],Table4[Total]) -> 3584 | H5: =IF(Table7[[#This Row],[Av %]]>0,Table7[[#This Row],[Av %]]*((1+$G$91)+$G$84),"") -> 4121.6 | I5: =IFERROR(IF(Table7[[#This Row],[Retenu]]="x",Table7[[#This Row],[Estimé]],""),"") -> 4121.6
A6: 5 | E6: Porte et fenetre ext | F6: x | G6: =SUMIF(Table4[Corps de métier],Table7[[#This Row],[Description des travaux]],Table4[Total]) -> 11000 | H6: =IF(Table7[[#This Row],[Av %]]>0,Table7[[#This Row],[Av %]]*((1+$G$91)+$G$84),"") -> 12650 | I6: =IFERROR(IF(Table7[[#This Row],[Retenu]]="x",Table7[[#This Row],[Estimé]],""),"") -> 12650
A7: 6 | E7: Plomberie | F7: x | G7: =SUMIF(Table4[Corps de métier],Table7[[#This Row],[Description des travaux]],Table4[Total]) -> 5372.5 | H7: =IF(Table7[[#This Row],[Av %]]>0,Table7[[#This Row],[Av %]]*((1+$G$91)+$G$84),"") -> 6178.375 | I7: =IFERROR(IF(Table7[[#This Row],[Retenu]]="x",Table7[[#This Row],[Estimé]],""),"") -> 6178.375
A8: 7 | E8: Electricien | F8: x | G8: =SUMIF(Table4[Corps de métier],Table7[[#This Row],[Description des travaux]],Table4[Total]) -> 7000 | H8: =IF(Table7[[#This Row],[Av %]]>0,Table7[[#This Row],[Av %]]*((1+$G$91)+$G$84),"") -> 8050 | I8: =IFERROR(IF(Table7[[#This Row],[Retenu]]="x",Table7[[#This Row],[Estimé]],""),"") -> 8050
A9: 8 | E9: Charpentier | F9: x | G9: =SUMIF(Table4[Corps de métier],Table7[[#This Row],[Description des travaux]],Table4[Total]) -> 26943.54 | H9: =IF(Table7[[#This Row],[Av %]]>0,Table7[[#This Row],[Av %]]*((1+$G$91)+$G$84),"") -> 30985.071 | I9: =IFERROR(IF(Table7[[#This Row],[Retenu]]="x",Table7[[#This Row],[Estimé]],""),"") -> 30985.071
A10: 9 | E10: Ventilation | F10: x | G10: =SUMIF(Table4[Corps de métier],Table7[[#This Row],[Description des travaux]],Table4[Total]) -> 500 | H10: =IF(Table7[[#This Row],[Av %]]>0,Table7[[#This Row],[Av %]]*((1+$G$91)+$G$84),"") -> 575 | I10: =IFERROR(IF(Table7[[#This Row],[Retenu]]="x",Table7[[#This Row],[Estimé]],""),"") -> 575
A11: 10 | E11: Revetement exterieur | F11: x | G11: =SUMIF(Table4[Corps de métier],Table7[[#This Row],[Description des travaux]],Table4[Total]) -> 1941 | H11: =IF(Table7[[#This Row],[Av %]]>0,Table7[[#This Row],[Av %]]*((1+$G$91)+$G$84),"") -> 2232.15 | I11: =IFERROR(IF(Table7[[#This Row],[Retenu]]="x",Table7[[#This Row],[Estimé]],""),"") -> 2232.15
A12: 11 | E12: Maconnerie | F12: x | G12: =SUMIF(Table4[Corps de métier],Table7[[#This Row],[Description des travaux]],Table4[Total]) -> 7475 | H12: =IF(Table7[[#This Row],[Av %]]>0,Table7[[#This Row],[Av %]]*((1+$G$91)+$G$84),"") -> 8596.25 | I12: =IFERROR(IF(Table7[[#This Row],[Retenu]]="x",Table7[[#This Row],[Estimé]],""),"") -> 8596.25
A13: 12 | E13: Platrier | F13: x | G13: =SUMIF(Table4[Corps de métier],Table7[[#This Row],[Description des travaux]],Table4[Total]) -> 1575 | H13: =IF(Table7[[#This Row],[Av %]]>0,Table7[[#This Row],[Av %]]*((1+$G$91)+$G$84),"") -> 1811.25 | I13: =IFERROR(IF(Table7[[#This Row],[Retenu]]="x",Table7[[#This Row],[Estimé]],""),"") -> 1811.25
... A22: 21 | E22: Conteneur | F22: x | G22: =SUMIF(Table4[Corps de métier],Table7[[#This Row],[Description des travaux]],Table4[Total]) -> 2400 | H22: =IF(Table7[[#This Row],[Av %]]>0,Table7[[#This Row],[Av %]]*((1+$G$91)+$G$84),"") -> 2760 | I22: =IFERROR(IF(Table7[[#This Row],[Retenu]]="x",Table7[[#This Row],[Estimé]],""),"") -> 2760
H23: =IF('budget v1'!G23>0,'budget v1'!G23*((1+$G$91)+$G$84),"") | I23: =IFERROR(IF('budget v1'!F23="x",'budget v1'!H23,""),"")
H24: =IF('budget v1'!G24>0,'budget v1'!G24*((1+$G$91)+$G$84),"") | I24: =IFERROR(IF('budget v1'!F24="x",'budget v1'!H24,""),"")
H25: =IF('budget v1'!G25>0,'budget v1'!G25*((1+$G$91)+$G$84),"") | I25: =IFERROR(IF('budget v1'!F25="x",'budget v1'!H25,""),"")
H26: =IF('budget v1'!G26>0,'budget v1'!G26*((1+$G$91)+$G$84),"") | I26: =IFERROR(IF('budget v1'!F26="x",'budget v1'!H26,""),"")
H27: =IF('budget v1'!G27>0,'budget v1'!G27*((1+$G$91)+$G$84),"") | I27: =IFERROR(IF('budget v1'!F27="x",'budget v1'!H27,""),"")
H28: =IF('budget v1'!G28>0,'budget v1'!G28*((1+$G$91)+$G$84),"") | I28: =IFERROR(IF('budget v1'!F28="x",'budget v1'!H28,""),"")
H29: =IF('budget v1'!G29>0,'budget v1'!G29*((1+$G$91)+$G$84),"") | I29: =IFERROR(IF('budget v1'!F29="x",'budget v1'!H29,""),"")
H30: =IF('budget v1'!G30>0,'budget v1'!G30*((1+$G$91)+$G$84),"") | I30: =IFERROR(IF('budget v1'!F30="x",'budget v1'!H30,""),"")
H31: =IF('budget v1'!G31>0,'budget v1'!G31*((1+$G$91)+$G$84),"") | I31: =IFERROR(IF('budget v1'!F31="x",'budget v1'!H31,""),"")
H32: =IF('budget v1'!G32>0,'budget v1'!G32*((1+$G$91)+$G$84),"") | I32: =IFERROR(IF('budget v1'!F32="x",'budget v1'!H32,""),"")
H33: =IF('budget v1'!G33>0,'budget v1'!G33*((1+$G$91)+$G$84),"") | I33: =IFERROR(IF('budget v1'!F33="x",'budget v1'!H33,""),"")
H34: =IF('budget v1'!G34>0,'budget v1'!G34*((1+$G$91)+$G$84),"") | I34: =IFERROR(IF('budget v1'!F34="x",'budget v1'!H34,""),"")
... H82: =IF('budget v1'!G82>0,'budget v1'!G82*((1+$G$91)+$G$84),"") | I82: =IFERROR(IF('budget v1'!F82="x",'budget v1'!H82,""),"")
E83: Sous-total | G83: =SUBTOTAL(109,'budget v1'!$G$2:$G$82) -> 206734.91 | I83: =SUBTOTAL(109,'budget v1'!$I$2:$I$82) -> 237745.15
E84: Rabais | G84: 0 | I84: =('budget v1'!$I$83*(G83/I83))*G84 -> 0
E85: TPS | I85: =(('budget v1'!$I$83)-I84)*0.05 -> 11887.257
E86: TVQ | I86: =(('budget v1'!$I$83-I84)*0.09975) -> 23715.078
E87: Total | I87: ='budget v1'!$I$83-I84+I85+I86 -> 273347.48
E88: 1er versement - À la signature du contrat | I88: =I87*0.3 -> 82004.245
E89: 2e versement - Avant de débuter les travaux | I89: =I87*0.4 -> 109338.99
E90: 3e versement - À la fin des travaux | I90: =I87*0.3 -> 82004.245
E91: Profit | G91: 0.15

Sheet Soumission rapide
A1: Corps de métier | B1: Travaux | C1: À inclure | D1: Cout Général | E1: Cout Matériaux | F1: % Surplus | G1: Coût M-O | H1: Général | I1: Cuisine | J1: Salle à manger | K1: Salon 1 | L1: Salon 2 | M1: SDB1 | N1: SDB 2 | O1: Chambre 1 | P1: Chambre 2 | Q1: Chambre 3 | R1: Chambre 4 | S1: Extérieur | T1: Divers | U1: Divers2 | V1: Divers3 | W1: Divers4 | X1: Divers5 | Y1: Total Général | Z1: Total Matériaux | AA1: Total M-O | AB1: Total
A2: Prix P² | B2: Travaux structuraux | Y2: =IF('Soumission rapide'!$D2*(SUM('Soumission rapide'!$H2:$X2))>0,'Soumission rapide'!$D2*(SUM('Soumission rapide'!$H2:$X2)),"") | Z2: =IF('Soumission rapide'!$E2*(1+'Soumission rapide'!$F2)*(SUM('Soumission rapide'!$H2:$X2))>0,'Soumission rapide'!$E2*(1+'Soumission rapide'!$F2)*(SUM('Soumission rapide'!$H2:$X2)),"") | AA2: =IF('Soumission rapide'!$G2*(SUM('Soumission rapide'!$H2:$X2))>0,'Soumission rapide'!$G2*(SUM('Soumission rapide'!$H2:$X2)),"") | AB2: =IF(SUM('Soumission rapide'!$Y2:$AA2)>0,SUM('Soumission rapide'!$Y2:$AA2),"")
A3: Prix P² | B3: Cuisine ébéniste | D3: 170 | I3: 106 | Y3: =IF('Soumission rapide'!$D3*(SUM('Soumission rapide'!$H3:$X3))>0,'Soumission rapide'!$D3*(SUM('Soumission rapide'!$H3:$X3)),"") -> 18020 | Z3: =IF('Soumission rapide'!$E3*(1+'Soumission rapide'!$F3)*(SUM('Soumission rapide'!$H3:$X3))>0,'Soumission rapide'!$E3*(1+'Soumission rapide'!$F3)*(SUM('Soumission rapide'!$H3:$X3)),"") | AA3: =IF('Soumission rapide'!$G3*(SUM('Soumission rapide'!$H3:$X3))>0,'Soumission rapide'!$G3*(SUM('Soumission rapide'!$H3:$X3)),"") | AB3: =IF(SUM('Soumission rapide'!$Y3:$AA3)>0,SUM('Soumission rapide'!$Y3:$AA3),"") -> 18020
A4: Prix P² | B4: Cuisine Ikea | E4: 35 | G4: 60 | Y4: =IF('Soumission rapide'!$D4*(SUM('Soumission rapide'!$H4:$X4))>0,'Soumission rapide'!$D4*(SUM('Soumission rapide'!$H4:$X4)),"") | Z4: =IF('Soumission rapide'!$E4*(1+'Soumission rapide'!$F4)*(SUM('Soumission rapide'!$H4:$X4))>0,'Soumission rapide'!$E4*(1+'Soumission rapide'!$F4)*(SUM('Soumission rapide'!$H4:$X4)),"") | AA4: =IF('Soumission rapide'!$G4*(SUM('Soumission rapide'!$H4:$X4))>0,'Soumission rapide'!$G4*(SUM('Soumission rapide'!$H4:$X4)),"") | AB4: =IF(SUM('Soumission rapide'!$Y4:$AA4)>0,SUM('Soumission rapide'!$Y4:$AA4),"")
A5: Prix P² | B5: Salle de bain | D5: 180 | Y5: =IF('Soumission rapide'!$D5*(SUM('Soumission rapide'!$H5:$X5))>0,'Soumission rapide'!$D5*(SUM('Soumission rapide'!$H5:$X5)),"") | Z5: =IF('Soumission rapide'!$E5*(1+'Soumission rapide'!$F5)*(SUM('Soumission rapide'!$H5:$X5))>0,'Soumission rapide'!$E5*(1+'Soumission rapide'!$F5)*(SUM('Soumission rapide'!$H5:$X5)),"") | AA5: =IF('Soumission rapide'!$G5*(SUM('Soumission rapide'!$H5:$X5))>0,'Soumission rapide'!$G5*(SUM('Soumission rapide'!$H5:$X5)),"") | AB5: =IF(SUM('Soumission rapide'!$Y5:$AA5)>0,SUM('Soumission rapide'!$Y5:$AA5),"")
A6: Prix P² | B6: Piece divers | D6: 25 | Y6: =IF('Soumission rapide'!$D6*(SUM('Soumission rapide'!$H6:$X6))>0,'Soumission rapide'!$D6*(SUM('Soumission rapide'!$H6:$X6)),"") | Z6: =IF('Soumission rapide'!$E6*(1+'Soumission rapide'!$F6)*(SUM('Soumission rapide'!$H6:$X6))>0,'Soumission rapide'!$E6*(1+'Soumission rapide'!$F6)*(SUM('Soumission rapide'!$H6:$X6)),"") | AA6: =IF('Soumission rapide'!$G6*(SUM('Soumission rapide'!$H6:$X6))>0,'Soumission rapide'!$G6*(SUM('Soumission rapide'!$H6:$X6)),"") | AB6: =IF(SUM('Soumission rapide'!$Y6:$AA6)>0,SUM('Soumission rapide'!$Y6:$AA6),"")
A7: Prix P² | B7: Construction neuve bungalow (p²) | D7: 170 | Y7: =IF('Soumission rapide'!$D7*(SUM('Soumission rapide'!$H7:$X7))>0,'Soumission rapide'!$D7*(SUM('Soumission rapide'!$H7:$X7)),"") | Z7: =IF('Soumission rapide'!$E7*(1+'Soumission rapide'!$F7)*(SUM('Soumission rapide'!$H7:$X7))>0,'Soumission rapide'!$E7*(1+'Soumission rapide'!$F7)*(SUM('Soumission rapide'!$H7:$X7)),"") | AA7: =IF('Soumission rapide'!$G7*(SUM('Soumission rapide'!$H7:$X7))>0,'Soumission rapide'!$G7*(SUM('Soumission rapide'!$H7:$X7)),"") | AB7: =IF(SUM('Soumission rapide'!$Y7:$AA7)>0,SUM('Soumission rapide'!$Y7:$AA7),"")
A8: Prix P² | B8: Construction neuve cottage (p²) | D8: 160 | H8: =479+400 -> 879 | Y8: =IF('Soumission rapide'!$D8*(SUM('Soumission rapide'!$H8:$X8))>0,'Soumission rapide'!$D8*(SUM('Soumission rapide'!$H8:$X8)),"") -> 140640 | Z8: =IF('Soumission rapide'!$E8*(1+'Soumission rapide'!$F8)*(SUM('Soumission rapide'!$H8:$X8))>0,'Soumission rapide'!$E8*(1+'Soumission rapide'!$F8)*(SUM('Soumission rapide'!$H8:$X8)),"") | AA8: =IF('Soumission rapide'!$G8*(SUM('Soumission rapide'!$H8:$X8))>0,'Soumission rapide'!$G8*(SUM('Soumission rapide'!$H8:$X8)),"") | AB8: =IF(SUM('Soumission rapide'!$Y8:$AA8)>0,SUM('Soumission rapide'!$Y8:$AA8),"") -> 140640
A9: Prix P² | B9: Construction neuve jumelé (p²) | D9: 150 | Y9: =IF('Soumission rapide'!$D9*(SUM('Soumission rapide'!$H9:$X9))>0,'Soumission rapide'!$D9*(SUM('Soumission rapide'!$H9:$X9)),"") | Z9: =IF('Soumission rapide'!$E9*(1+'Soumission rapide'!$F9)*(SUM('Soumission rapide'!$H9:$X9))>0,'Soumission rapide'!$E9*(1+'Soumission rapide'!$F9)*(SUM('Soumission rapide'!$H9:$X9)),"") | AA9: =IF('Soumission rapide'!$G9*(SUM('Soumission rapide'!$H9:$X9))>0,'Soumission rapide'!$G9*(SUM('Soumission rapide'!$H9:$X9)),"") | AB9: =IF(SUM('Soumission rapide'!$Y9:$AA9)>0,SUM('Soumission rapide'!$Y9:$AA9),"")
A10: Prix P² | B10: Coustruction neuve finition sous-sol (p²) | D10: 40 | Y10: =IF('Soumission rapide'!$D10*(SUM('Soumission rapide'!$H10:$X10))>0,'Soumission rapide'!$D10*(SUM('Soumission rapide'!$H10:$X10)),"") | Z10: =IF('Soumission rapide'!$E10*(1+'Soumission rapide'!$F10)*(SUM('Soumission rapide'!$H10:$X10))>0,'Soumission rapide'!$E10*(1+'Soumission rapide'!$F10)*(SUM('Soumission rapide'!$H10:$X10)),"") | AA10: =IF('Soumission rapide'!$G10*(SUM('Soumission rapide'!$H10:$X10))>0,'Soumission rapide'!$G10*(SUM('Soumission rapide'!$H10:$X10)),"") | AB10: =IF(SUM('Soumission rapide'!$Y10:$AA10)>0,SUM('Soumission rapide'!$Y10:$AA10),"")
Y11: =IF('Soumission rapide'!$D11*(SUM('Soumission rapide'!$H11:$X11))>0,'Soumission rapide'!$D11*(SUM('Soumission rapide'!$H11:$X11)),"") | Z11: =IF('Soumission rapide'!$E11*(1+'Soumission rapide'!$F11)*(SUM('Soumission rapide'!$H11:$X11))>0,'Soumission rapide'!$E11*(1+'Soumission rapide'!$F11)*(SUM('Soumission rapide'!$H11:$X11)),"") | AA11: =IF('Soumission rapide'!$G11*(SUM('Soumission rapide'!$H11:$X11))>0,'Soumission rapide'!$G11*(SUM('Soumission rapide'!$H11:$X11)),"") | AB11: =IF(SUM('Soumission rapide'!$Y11:$AA11)>0,SUM('Soumission rapide'!$Y11:$AA11),"")
Y12: =IF('Soumission rapide'!$D12*(SUM('Soumission rapide'!$H12:$X12))>0,'Soumission rapide'!$D12*(SUM('Soumission rapide'!$H12:$X12)),"") | Z12: =IF('Soumission rapide'!$E12*(1+'Soumission rapide'!$F12)*(SUM('Soumission rapide'!$H12:$X12))>0,'Soumission rapide'!$E12*(1+'Soumission rapide'!$F12)*(SUM('Soumission rapide'!$H12:$X12)),"") | AA12: =IF('Soumission rapide'!$G12*(SUM('Soumission rapide'!$H12:$X12))>0,'Soumission rapide'!$G12*(SUM('Soumission rapide'!$H12:$X12)),"") | AB12: =IF(SUM('Soumission rapide'!$Y12:$AA12)>0,SUM('Soumission rapide'!$Y12:$AA12),"")
Y13: =IF('Soumission rapide'!$D13*(SUM('Soumission rapide'!$H13:$X13))>0,'Soumission rapide'!$D13*(SUM('Soumission rapide'!$H13:$X13)),"") | Z13: =IF('Soumission rapide'!$E13*(1+'Soumission rapide'!$F13)*(SUM('Soumission rapide'!$H13:$X13))>0,'Soumission rapide'!$E13*(1+'Soumission rapide'!$F13)*(SUM('Soumission rapide'!$H13:$X13)),"") | AA13: =IF('Soumission rapide'!$G13*(SUM('Soumission rapide'!$H13:$X13))>0,'Soumission rapide'!$G13*(SUM('Soumission rapide'!$H13:$X13)),"") | AB13: =IF(SUM('Soumission rapide'!$Y13:$AA13)>0,SUM('Soumission rapide'!$Y13:$AA13),"")
Y14: =IF('Soumission rapide'!$D14*(SUM('Soumission rapide'!$H14:$X14))>0,'Soumission rapide'!$D14*(SUM('Soumission rapide'!$H14:$X14)),"") | Z14: =IF('Soumission rapide'!$E14*(1+'Soumission rapide'!$F14)*(SUM('Soumission rapide'!$H14:$X14))>0,'Soumission rapide'!$E14*(1+'Soumission rapide'!$F14)*(SUM('Soumission rapide'!$H14:$X14)),"") | AA14: =IF('Soumission rapide'!$G14*(SUM('Soumission rapide'!$H14:$X14))>0,'Soumission rapide'!$G14*(SUM('Soumission rapide'!$H14:$X14)),"") | AB14: =IF(SUM('Soumission rapide'!$Y14:$AA14)>0,SUM('Soumission rapide'!$Y14:$AA14),"")
A15: Amenagement ext | B15: Pose de tourbe sans exc (p²) | C15: x | D15: 4 | S15: 277 | Y15: =IF('Soumission rapide'!$D15*(SUM('Soumission rapide'!$H15:$X15))>0,'Soumission rapide'!$D15*(SUM('Soumission rapide'!$H15:$X15)),"") -> 1108 | Z15: =IF('Soumission rapide'!$E15*(1+'Soumission rapide'!$F15)*(SUM('Soumission rapide'!$H15:$X15))>0,'Soumission rapide'!$E15*(1+'Soumission rapide'!$F15)*(SUM('Soumission rapide'!$H15:$X15)),"") | AA15: =IF('Soumission rapide'!$G15*(SUM('Soumission rapide'!$H15:$X15))>0,'Soumission rapide'!$G15*(SUM('Soumission rapide'!$H15:$X15)),"") | AB15: =IF(SUM('Soumission rapide'!$Y15:$AA15)>0,SUM('Soumission rapide'!$Y15:$AA15),"") -> 1108
A16: Amenagement ext | B16: Pose de tourbe avec exc (p²) | D16: 5.5 | Y16: =IF('Soumission rapide'!$D16*(SUM('Soumission rapide'!$H16:$X16))>0,'Soumission rapide'!$D16*(SUM('Soumission rapide'!$H16:$X16)),"") | Z16: =IF('Soumission rapide'!$E16*(1+'Soumission rapide'!$F16)*(SUM('Soumission rapide'!$H16:$X16))>0,'Soumission rapide'!$E16*(1+'Soumission rapide'!$F16)*(SUM('Soumission rapide'!$H16:$X16)),"") | AA16: =IF('Soumission rapide'!$G16*(SUM('Soumission rapide'!$H16:$X16))>0,'Soumission rapide'!$G16*(SUM('Soumission rapide'!$H16:$X16)),"") | AB16: =IF(SUM('Soumission rapide'!$Y16:$AA16)>0,SUM('Soumission rapide'!$Y16:$AA16),"")
A17: Amenagement ext | B17: Haie de cèdre 6 p de haut (Pl) | D17: 35 | Y17: =IF('Soumission rapide'!$D17*(SUM('Soumission rapide'!$H17:$X17))>0,'Soumission rapide'!$D17*(SUM('Soumission rapide'!$H17:$X17)),"") | Z17: =IF('Soumission rapide'!$E17*(1+'Soumission rapide'!$F17)*(SUM('Soumission rapide'!$H17:$X17))>0,'Soumission rapide'!$E17*(1+'Soumission rapide'!$F17)*(SUM('Soumission rapide'!$H17:$X17)),"") | AA17: =IF('Soumission rapide'!$G17*(SUM('Soumission rapide'!$H17:$X17))>0,'Soumission rapide'!$G17*(SUM('Soumission rapide'!$H17:$X17)),"") | AB17: =IF(SUM('Soumission rapide'!$Y17:$AA17)>0,SUM('Soumission rapide'!$Y17:$AA17),"")
A18: Amenagement ext | B18: Ensemencement p² | Y18: =IF('Soumission rapide'!$D18*(SUM('Soumission rapide'!$H18:$X18))>0,'Soumission rapide'!$D18*(SUM('Soumission rapide'!$H18:$X18)),"") | Z18: =IF('Soumission rapide'!$E18*(1+'Soumission rapide'!$F18)*(SUM('Soumission rapide'!$H18:$X18))>0,'Soumission rapide'!$E18*(1+'Soumission rapide'!$F18)*(SUM('Soumission rapide'!$H18:$X18)),"") | AA18: =IF('Soumission rapide'!$G18*(SUM('Soumission rapide'!$H18:$X18))>0,'Soumission rapide'!$G18*(SUM('Soumission rapide'!$H18:$X18)),"") | AB18: =IF(SUM('Soumission rapide'!$Y18:$AA18)>0,SUM('Soumission rapide'!$Y18:$AA18),"")
A19: Amenagement ext | B19: Installation cloture bois traité (Pl) | D19: 155 | Y19: =IF('Soumission rapide'!$D19*(SUM('Soumission rapide'!$H19:$X19))>0,'Soumission rapide'!$D19*(SUM('Soumission rapide'!$H19:$X19)),"") | Z19: =IF('Soumission rapide'!$E19*(1+'Soumission rapide'!$F19)*(SUM('Soumission rapide'!$H19:$X19))>0,'Soumission rapide'!$E19*(1+'Soumission rapide'!$F19)*(SUM('Soumission rapide'!$H19:$X19)),"") | AA19: =IF('Soumission rapide'!$G19*(SUM('Soumission rapide'!$H19:$X19))>0,'Soumission rapide'!$G19*(SUM('Soumission rapide'!$H19:$X19)),"") | AB19: =IF(SUM('Soumission rapide'!$Y19:$AA19)>0,SUM('Soumission rapide'!$Y19:$AA19),"")
A20: Amenagement ext | B20: Installation cloture composite (Pl) | D20: 225 | Y20: =IF('Soumission rapide'!$D20*(SUM('Soumission rapide'!$H20:$X20))>0,'Soumission rapide'!$D20*(SUM('Soumission rapide'!$H20:$X20)),"") | Z20: =IF('Soumission rapide'!$E20*(1+'Soumission rapide'!$F20)*(SUM('Soumission rapide'!$H20:$X20))>0,'Soumission rapide'!$E20*(1+'Soumission rapide'!$F20)*(SUM('Soumission rapide'!$H20:$X20)),"") | AA20: =IF('Soumission rapide'!$G20*(SUM('Soumission rapide'!$H20:$X20))>0,'Soumission rapide'!$G20*(SUM('Soumission rapide'!$H20:$X20)),"") | AB20: =IF(SUM('Soumission rapide'!$Y20:$AA20)>0,SUM('Soumission rapide'!$Y20:$AA20),"")
A21: Amenagement ext | B21: Installation cloture verre (Pl) | D21: 150 | Y21: =IF('Soumission rapide'!$D21*(SUM('Soumission rapide'!$H21:$X21))>0,'Soumission rapide'!$D21*(SUM('Soumission rapide'!$H21:$X21)),"") | Z21: =IF('Soumission rapide'!$E21*(1+'Soumission rapide'!$F21)*(SUM('Soumission rapide'!$H21:$X21))>0,'Soumission rapide'!$E21*(1+'Soumission rapide'!$F21)*(SUM('Soumission rapide'!$H21:$X21)),"") | AA21: =IF('Soumission rapide'!$G21*(SUM('Soumission rapide'!$H21:$X21))>0,'Soumission rapide'!$G21*(SUM('Soumission rapide'!$H21:$X21)),"") | AB21: =IF(SUM('Soumission rapide'!$Y21:$AA21)>0,SUM('Soumission rapide'!$Y21:$AA21),"")
A22: Amenagement ext | B22: Installation porte cloture verre (un) | D22: 1000 | Y22: =IF('Soumission rapide'!$D22*(SUM('Soumission rapide'!$H22:$X22))>0,'Soumission rapide'!$D22*(SUM('Soumission rapide'!$H22:$X22)),"") | Z22: =IF('Soumission rapide'!$E22*(1+'Soumission rapide'!$F22)*(SUM('Soumission rapide'!$H22:$X22))>0,'Soumission rapide'!$E22*(1+'Soumission rapide'!$F22)*(SUM('Soumission rapide'!$H22:$X22)),"") | AA22: =IF('Soumission rapide'!$G22*(SUM('Soumission rapide'!$H22:$X22))>0,'Soumission rapide'!$G22*(SUM('Soumission rapide'!$H22:$X22)),"") | AB22: =IF(SUM('Soumission rapide'!$Y22:$AA22)>0,SUM('Soumission rapide'!$Y22:$AA22),"")
A23: Amenagement ext | B23: Installation cloture aluminium Pl | D23: 60 | Y23: =IF('Soumission rapide'!$D23*(SUM('Soumission rapide'!$H23:$X23))>0,'Soumission rapide'!$D23*(SUM('Soumission rapide'!$H23:$X23)),"") | Z23: =IF('Soumission rapide'!$E23*(1+'Soumission rapide'!$F23)*(SUM('Soumission rapide'!$H23:$X23))>0,'Soumission rapide'!$E23*(1+'Soumission rapide'!$F23)*(SUM('Soumission rapide'!$H23:$X23)),"") | AA23: =IF('Soumission rapide'!$G23*(SUM('Soumission rapide'!$H23:$X23))>0,'Soumission rapide'!$G23*(SUM('Soumission rapide'!$H23:$X23)),"") | AB23: =IF(SUM('Soumission rapide'!$Y23:$AA23)>0,SUM('Soumission rapide'!$Y23:$AA23),"")
A24: Amenagement ext | B24: Installation cloture fer forgé Pl | D24: 50 | Y24: =IF('Soumission rapide'!$D24*(SUM('Soumission rapide'!$H24:$X24))>0,'Soumission rapide'!$D24*(SUM('Soumission rapide'!$H24:$X24)),"") | Z24: =IF('Soumission rapide'!$E24*(1+'Soumission rapide'!$F24)*(SUM('Soumission rapide'!$H24:$X24))>0,'Soumission rapide'!$E24*(1+'Soumission rapide'!$F24)*(SUM('Soumission rapide'!$H24:$X24)),"") | AA24: =IF('Soumission rapide'!$G24*(SUM('Soumission rapide'!$H24:$X24))>0,'Soumission rapide'!$G24*(SUM('Soumission rapide'!$H24:$X24)),"") | AB24: =IF(SUM('Soumission rapide'!$Y24:$AA24)>0,SUM('Soumission rapide'!$Y24:$AA24),"")
A25: Amenagement ext | B25: Balcon avec pieux bois traité P² | D25: 55 | Y25: =IF('Soumission rapide'!$D25*(SUM('Soumission rapide'!$H25:$X25))>0,'Soumission rapide'!$D25*(SUM('Soumission rapide'!$H25:$X25)),"") | Z25: =IF('Soumission rapide'!$E25*(1+'Soumission rapide'!$F25)*(SUM('Soumission rapide'!$H25:$X25))>0,'Soumission rapide'!$E25*(1+'Soumission rapide'!$F25)*(SUM('Soumission rapide'!$H25:$X25)),"") | AA25: =IF('Soumission rapide'!$G25*(SUM('Soumission rapide'!$H25:$X25))>0,'Soumission rapide'!$G25*(SUM('Soumission rapide'!$H25:$X25)),"") | AB25: =IF(SUM('Soumission rapide'!$Y25:$AA25)>0,SUM('Soumission rapide'!$Y25:$AA25),"")
A26: Amenagement ext | B26: Balcon avec pieux bois cedre P² | D26: 75 | Y26: =IF('Soumission rapide'!$D26*(SUM('Soumission rapide'!$H26:$X26))>0,'Soumission rapide'!$D26*(SUM('Soumission rapide'!$H26:$X26)),"") | Z26: =IF('Soumission rapide'!$E26*(1+'Soumission rapide'!$F26)*(SUM('Soumission rapide'!$H26:$X26))>0,'Soumission rapide'!$E26*(1+'Soumission rapide'!$F26)*(SUM('Soumission rapide'!$H26:$X26)),"") | AA26: =IF('Soumission rapide'!$G26*(SUM('Soumission rapide'!$H26:$X26))>0,'Soumission rapide'!$G26*(SUM('Soumission rapide'!$H26:$X26)),"") | AB26: =IF(SUM('Soumission rapide'!$Y26:$AA26)>0,SUM('Soumission rapide'!$Y26:$AA26),"")
A27: Amenagement ext | B27: Balcon avec pieux composite P² | D27: 135 | Y27: =IF('Soumission rapide'!$D27*(SUM('Soumission rapide'!$H27:$X27))>0,'Soumission rapide'!$D27*(SUM('Soumission rapide'!$H27:$X27)),"") | Z27: =IF('Soumission rapide'!$E27*(1+'Soumission rapide'!$F27)*(SUM('Soumission rapide'!$H27:$X27))>0,'Soumission rapide'!$E27*(1+'Soumission rapide'!$F27)*(SUM('Soumission rapide'!$H27:$X27)),"") | AA27: =IF('Soumission rapide'!$G27*(SUM('Soumission rapide'!$H27:$X27))>0,'Soumission rapide'!$G27*(SUM('Soumission rapide'!$H27:$X27)),"") | AB27: =IF(SUM('Soumission rapide'!$Y27:$AA27)>0,SUM('Soumission rapide'!$Y27:$AA27),"")
A28: Amenagement ext | B28: Balcon pavé-uni P² | Y28: =IF('Soumission rapide'!$D28*(SUM('Soumission rapide'!$H28:$X28))>0,'Soumission rapide'!$D28*(SUM('Soumission rapide'!$H28:$X28)),"") | Z28: =IF('Soumission rapide'!$E28*(1+'Soumission rapide'!$F28)*(SUM('Soumission rapide'!$H28:$X28))>0,'Soumission rapide'!$E28*(1+'Soumission rapide'!$F28)*(SUM('Soumission rapide'!$H28:$X28)),"") | AA28: =IF('Soumission rapide'!$G28*(SUM('Soumission rapide'!$H28:$X28))>0,'Soumission rapide'!$G28*(SUM('Soumission rapide'!$H28:$X28)),"") | AB28: =IF(SUM('Soumission rapide'!$Y28:$AA28)>0,SUM('Soumission rapide'!$Y28:$AA28),"")
A29: Amenagement ext | B29: Balcon béton P² | D29: 88 | Y29: =IF('Soumission rapide'!$D29*(SUM('Soumission rapide'!$H29:$X29))>0,'Soumission rapide'!$D29*(SUM('Soumission rapide'!$H29:$X29)),"") | Z29: =IF('Soumission rapide'!$E29*(1+'Soumission rapide'!$F29)*(SUM('Soumission rapide'!$H29:$X29))>0,'Soumission rapide'!$E29*(1+'Soumission rapide'!$F29)*(SUM('Soumission rapide'!$H29:$X29)),"") | AA29: =IF('Soumission rapide'!$G29*(SUM('Soumission rapide'!$H29:$X29))>0,'Soumission rapide'!$G29*(SUM('Soumission rapide'!$H29:$X29)),"") | AB29: =IF(SUM('Soumission rapide'!$Y29:$AA29)>0,SUM('Soumission rapide'!$Y29:$AA29),"")
A30: Amenagement ext | B30: Pavé uni sans excavation arrière (p²) | D30: =30 -> 30 | Y30: =IF('Soumission rapide'!$D30*(SUM('Soumission rapide'!$H30:$X30))>0,'Soumission rapide'!$D30*(SUM('Soumission rapide'!$H30:$X30)),"") | Z30: =IF('Soumission rapide'!$E30*(1+'Soumission rapide'!$F30)*(SUM('Soumission rapide'!$H30:$X30))>0,'Soumission rapide'!$E30*(1+'Soumission rapide'!$F30)*(SUM('Soumission rapide'!$H30:$X30)),"") | AA30: =IF('Soumission rapide'!$G30*(SUM('Soumission rapide'!$H30:$X30))>0,'Soumission rapide'!$G30*(SUM('Soumission rapide'!$H30:$X30)),"") | AB30: =IF(SUM('Soumission rapide'!$Y30:$AA30)>0,SUM('Soumission rapide'!$Y30:$AA30),"")
A31: Amenagement ext | B31: Pavé uni avec excavation arrière (p²) | D31: =30+12 -> 42 | Y31: =IF('Soumission rapide'!$D31*(SUM('Soumission rapide'!$H31:$X31))>0,'Soumission rapide'!$D31*(SUM('Soumission rapide'!$H31:$X31)),"") | Z31: =IF('Soumission rapide'!$E31*(1+'Soumission rapide'!$F31)*(SUM('Soumission rapide'!$H31:$X31))>0,'Soumission rapide'!$E31*(1+'Soumission rapide'!$F31)*(SUM('Soumission rapide'!$H31:$X31)),"") | AA31: =IF('Soumission rapide'!$G31*(SUM('Soumission rapide'!$H31:$X31))>0,'Soumission rapide'!$G31*(SUM('Soumission rapide'!$H31:$X31)),"") | AB31: =IF(SUM('Soumission rapide'!$Y31:$AA31)>0,SUM('Soumission rapide'!$Y31:$AA31),"")
A32: Amenagement ext | B32: Pavé uni sans excavation avant (p²) | C32: x | D32: 33 | S32: 200 | Y32: =IF('Soumission rapide'!$D32*(SUM('Soumission rapide'!$H32:$X32))>0,'Soumission rapide'!$D32*(SUM('Soumission rapide'!$H32:$X32)),"") -> 6600 | Z32: =IF('Soumission rapide'!$E32*(1+'Soumission rapide'!$F32)*(SUM('Soumission rapide'!$H32:$X32))>0,'Soumission rapide'!$E32*(1+'Soumission rapide'!$F32)*(SUM('Soumission rapide'!$H32:$X32)),"") | AA32: =IF('Soumission rapide'!$G32*(SUM('Soumission rapide'!$H32:$X32))>0,'Soumission rapide'!$G32*(SUM('Soumission rapide'!$H32:$X32)),"") | AB32: =IF(SUM('Soumission rapide'!$Y32:$AA32)>0,SUM('Soumission rapide'!$Y32:$AA32),"") -> 6600
A33: Amenagement ext | B33: Pavé uni avec excavation avant (p²) | D33: =28+12 -> 40 | Y33: =IF('Soumission rapide'!$D33*(SUM('Soumission rapide'!$H33:$X33))>0,'Soumission rapide'!$D33*(SUM('Soumission rapide'!$H33:$X33)),"") | Z33: =IF('Soumission rapide'!$E33*(1+'Soumission rapide'!$F33)*(SUM('Soumission rapide'!$H33:$X33))>0,'Soumission rapide'!$E33*(1+'Soumission rapide'!$F33)*(SUM('Soumission rapide'!$H33:$X33)),"") | AA33: =IF('Soumission rapide'!$G33*(SUM('Soumission rapide'!$H33:$X33))>0,'Soumission rapide'!$G33*(SUM('Soumission rapide'!$H33:$X33)),"") | AB33: =IF(SUM('Soumission rapide'!$Y33:$AA33)>0,SUM('Soumission rapide'!$Y33:$AA33),"") | AD33: Structure
A34: Amenagement ext | B34: Asphalte sans exc (p²) | D34: 15 | Y34: =IF('Soumission rapide'!$D34*(SUM('Soumission rapide'!$H34:$X34))>0,'Soumission rapide'!$D34*(SUM('Soumission rapide'!$H34:$X34)),"") | Z34: =IF('Soumission rapide'!$E34*(1+'Soumission rapide'!$F34)*(SUM('Soumission rapide'!$H34:$X34))>0,'Soumission rapide'!$E34*(1+'Soumission rapide'!$F34)*(SUM('Soumission rapide'!$H34:$X34)),"") | AA34: =IF('Soumission rapide'!$G34*(SUM('Soumission rapide'!$H34:$X34))>0,'Soumission rapide'!$G34*(SUM('Soumission rapide'!$H34:$X34)),"") | AB34: =IF(SUM('Soumission rapide'!$Y34:$AA34)>0,SUM('Soumission rapide'!$Y34:$AA34),"") | AD34: Toiture
A35: Amenagement ext | B35: Asphalte avec exc (p²) | D35: 25 | Y35: =IF('Soumission rapide'!$D35*(SUM('Soumission rapide'!$H35:$X35))>0,'Soumission rapide'!$D35*(SUM('Soumission rapide'!$H35:$X35)),"") | Z35: =IF('Soumission rapide'!$E35*(1+'Soumission rapide'!$F35)*(SUM('Soumission rapide'!$H35:$X35))>0,'Soumission rapide'!$E35*(1+'Soumission rapide'!$F35)*(SUM('Soumission rapide'!$H35:$X35)),"") | AA35: =IF('Soumission rapide'!$G35*(SUM('Soumission rapide'!$H35:$X35))>0,'Soumission rapide'!$G35*(SUM('Soumission rapide'!$H35:$X35)),"") | AB35: =IF(SUM('Soumission rapide'!$Y35:$AA35)>0,SUM('Soumission rapide'!$Y35:$AA35),"") | AD35: Ventilation
A36: Amenagement ext | B36: Dalle béton 8'' epais, 12'' roche sans exc (p²) | S36: 17 | Y36: =IF('Soumission rapide'!$D36*(SUM('Soumission rapide'!$H36:$X36))>0,'Soumission rapide'!$D36*(SUM('Soumission rapide'!$H36:$X36)),"") | Z36: =IF('Soumission rapide'!$E36*(1+'Soumission rapide'!$F36)*(SUM('Soumission rapide'!$H36:$X36))>0,'Soumission rapide'!$E36*(1+'Soumission rapide'!$F36)*(SUM('Soumission rapide'!$H36:$X36)),"") | AA36: =IF('Soumission rapide'!$G36*(SUM('Soumission rapide'!$H36:$X36))>0,'Soumission rapide'!$G36*(SUM('Soumission rapide'!$H36:$X36)),"") | AB36: =IF(SUM('Soumission rapide'!$Y36:$AA36)>0,SUM('Soumission rapide'!$Y36:$AA36),"")
A37: Amenagement ext | B37: Dalle béton 8'' epais, 12'' roche avec exc (p²) | D37: 50 | Y37: =IF('Soumission rapide'!$D37*(SUM('Soumission rapide'!$H37:$X37))>0,'Soumission rapide'!$D37*(SUM('Soumission rapide'!$H37:$X37)),"") | Z37: =IF('Soumission rapide'!$E37*(1+'Soumission rapide'!$F37)*(SUM('Soumission rapide'!$H37:$X37))>0,'Soumission rapide'!$E37*(1+'Soumission rapide'!$F37)*(SUM('Soumission rapide'!$H37:$X37)),"") | AA37: =IF('Soumission rapide'!$G37*(SUM('Soumission rapide'!$H37:$X37))>0,'Soumission rapide'!$G37*(SUM('Soumission rapide'!$H37:$X37)),"") | AB37: =IF(SUM('Soumission rapide'!$Y37:$AA37)>0,SUM('Soumission rapide'!$Y37:$AA37),"")
A38: Amenagement ext | B38: Muret de pierre (p²) | C38: x | D38: 65 | S38: =23*3 -> 69 | Y38: =IF('Soumission rapide'!$D38*(SUM('Soumission rapide'!$H38:$X38))>0,'Soumission rapide'!$D38*(SUM('Soumission rapide'!$H38:$X38)),"") -> 4485 | Z38: =IF('Soumission rapide'!$E38*(1+'Soumission rapide'!$F38)*(SUM('Soumission rapide'!$H38:$X38))>0,'Soumission rapide'!$E38*(1+'Soumission rapide'!$F38)*(SUM('Soumission rapide'!$H38:$X38)),"") | AA38: =IF('Soumission rapide'!$G38*(SUM('Soumission rapide'!$H38:$X38))>0,'Soumission rapide'!$G38*(SUM('Soumission rapide'!$H38:$X38)),"") | AB38: =IF(SUM('Soumission rapide'!$Y38:$AA38)>0,SUM('Soumission rapide'!$Y38:$AA38),"") -> 4485
Y39: =IF('Soumission rapide'!$D39*(SUM('Soumission rapide'!$H39:$X39))>0,'Soumission rapide'!$D39*(SUM('Soumission rapide'!$H39:$X39)),"") | Z39: =IF('Soumission rapide'!$E39*(1+'Soumission rapide'!$F39)*(SUM('Soumission rapide'!$H39:$X39))>0,'Soumission rapide'!$E39*(1+'Soumission rapide'!$F39)*(SUM('Soumission rapide'!$H39:$X39)),"") | AA39: =IF('Soumission rapide'!$G39*(SUM('Soumission rapide'!$H39:$X39))>0,'Soumission rapide'!$G39*(SUM('Soumission rapide'!$H39:$X39)),"") | AB39: =IF(SUM('Soumission rapide'!$Y39:$AA39)>0,SUM('Soumission rapide'!$Y39:$AA39),"")
Y40: =IF('Soumission rapide'!$D40*(SUM('Soumission rapide'!$H40:$X40))>0,'Soumission rapide'!$D40*(SUM('Soumission rapide'!$H40:$X40)),"") | Z40: =IF('Soumission rapide'!$E40*(1+'Soumission rapide'!$F40)*(SUM('Soumission rapide'!$H40:$X40))>0,'Soumission rapide'!$E40*(1+'Soumission rapide'!$F40)*(SUM('Soumission rapide'!$H40:$X40)),"") | AA40: =IF('Soumission rapide'!$G40*(SUM('Soumission rapide'!$H40:$X40))>0,'Soumission rapide'!$G40*(SUM('Soumission rapide'!$H40:$X40)),"") | AB40: =IF(SUM('Soumission rapide'!$Y40:$AA40)>0,SUM('Soumission rapide'!$Y40:$AA40),"")
...
