Workbook

Sheet Feuil1
A1: A1 | B1: A2 | C1: A3 | D1: A4 | E1: A5
A2: 00001 | B2: A | C2: 05AB | D2: SAF | E2: =IFERROR(IF($D1="DIFFERENCE",VLOOKUP($C1,Feuil2!$C$1:$J$13,8,TRUE),""),"")
A3: 00001 | B3: A | C3: 05AB | D3: SOL | E3: =IFERROR(IF($D2="DIFFERENCE",VLOOKUP($C2,Feuil2!$C$1:$J$13,8,TRUE),""),"")
A4: 00001 | B4: A | C4: 05AB | D4: DIFFERENCE | E4: =IFERROR(IF($D3="DIFFERENCE",VLOOKUP($C3,Feuil2!$C$1:$J$13,8,TRUE),""),"")
A5: 00002 | B5: A | C5: 42CV | D5: SAF | E5: =IFERROR(IF($D4="DIFFERENCE",VLOOKUP($C4,Feuil2!$C$1:$J$13,8,TRUE),""),"") -> 100
A6: 00002 | B6: A | C6: 42CV | D6: SOL | E6: =IFERROR(IF($D5="DIFFERENCE",VLOOKUP($C5,Feuil2!$C$1:$J$13,8,TRUE),""),"")
A7: 00002 | B7: A | C7: 42CV | D7: DIFFERENCE | E7: =IFERROR(IF($D6="DIFFERENCE",VLOOKUP($C6,Feuil2!$C$1:$J$13,8,TRUE),""),"")
A8: 00003 | B8: B | C8: 42BG | D8: SAF | E8: =IFERROR(IF($D7="DIFFERENCE",VLOOKUP($C7,Feuil2!$C$1:$J$13,8,TRUE),""),"") -> 0
A9: 00003 | B9: B | C9: 42BG | D9: SOL | E9: =IFERROR(IF($D8="DIFFERENCE",VLOOKUP($C8,Feuil2!$C$1:$J$13,8,TRUE),""),"")
A10: 00003 | B10: B | C10: 42BG | D10: DIFFERENCE | E10: =IFERROR(IF($D9="DIFFERENCE",VLOOKUP($C9,Feuil2!$C$1:$J$13,8,TRUE),""),"")
A11: 00004 | B11: C | C11: 00PO | D11: SAF | E11: =IFERROR(IF($D10="DIFFERENCE",VLOOKUP($C10,Feuil2!$C$1:$J$13,8,TRUE),""),"") -> 100
A12: 00004 | B12: C | C12: 00PO | D12: SOL | E12: =IFERROR(IF($D11="DIFFERENCE",VLOOKUP($C11,Feuil2!$C$1:$J$13,8,TRUE),""),"")
A13: 00004 | B13: C | C13: 00PO | D13: DIFFERENCE | E13: =IFERROR(IF($D12="DIFFERENCE",VLOOKUP($C12,Feuil2!$C$1:$J$13,8,TRUE),""),"")
A16: A1 | B16: A2 | C16: A3 | D16: A4 | E16: A5
A17: 00001 | B17: A | C17: 05AB | D17: SAF | E17: =IFERROR(IF($D16="DIFFERENCE",VLOOKUP($C16,Feuil2!$C$1:$J$13,8,FALSE),""),"")
A18: 00001 | B18: A | C18: 05AB | D18: SOL | E18: =IFERROR(IF($D17="DIFFERENCE",VLOOKUP($C17,Feuil2!$C$1:$J$13,8,FALSE),""),"")
A19: 00001 | B19: A | C19: 05AB | D19: DIFFERENCE | E19: =IFERROR(IF($D18="DIFFERENCE",VLOOKUP($C18,Feuil2!$C$1:$J$13,8,FALSE),""),"")
A20: 00002 | B20: A | C20: 42CV | D20: SAF | E20: =IFERROR(IF($D19="DIFFERENCE",VLOOKUP($C19,Feuil2!$C$1:$J$13,8,FALSE),""),"") -> 300
A21: 00002 | B21: A | C21: 42CV | D21: SOL | E21: =IFERROR(IF($D20="DIFFERENCE",VLOOKUP($C20,Feuil2!$C$1:$J$13,8,FALSE),""),"")
A22: 00002 | B22: A | C22: 42CV | D22: DIFFERENCE | E22: =IFERROR(IF($D21="DIFFERENCE",VLOOKUP($C21,Feuil2!$C$1:$J$13,8,FALSE),""),"")
A23: 00003 | B23: B | C23: 42BG | D23: SAF | E23: =IFERROR(IF($D22="DIFFERENCE",VLOOKUP($C22,Feuil2!$C$1:$J$13,8,FALSE),""),"") -> 480
A24: 00003 | B24: B | C24: 42BG | D24: SOL | E24: =IFERROR(IF($D23="DIFFERENCE",VLOOKUP($C23,Feuil2!$C$1:$J$13,8,FALSE),""),"")
A25: 00003 | B25: B | C25: 42BG | D25: DIFFERENCE | E25: =IFERROR(IF($D24="DIFFERENCE",VLOOKUP($C24,Feuil2!$C$1:$J$13,8,FALSE),""),"")
A26: 00004 | B26: C | C26: 00PO | D26: SAF | E26: =IFERROR(IF($D25="DIFFERENCE",VLOOKUP($C25,Feuil2!$C$1:$J$13,8,FALSE),""),"") -> 6500
A27: 00004 | B27: C | C27: 00PO | D27: SOL | E27: =IFERROR(IF($D26="DIFFERENCE",VLOOKUP($C26,Feuil2!$C$1:$J$13,8,FALSE),""),"")
A28: 00004 | B28: C | C28: 00PO | D28: DIFFERENCE | E28: =IFERROR(IF($D27="DIFFERENCE",VLOOKUP($C27,Feuil2!$C$1:$J$13,8,FALSE),""),"")
A30: RESULTAT ATTENDU
A31: A1 | B31: A2 | C31: A3 | D31: A4 | E31: A5
A32: 00001 | B32: A | C32: 05AB | D32: SAF
A33: 00001 | B33: A | C33: 05AB | D33: SOL
A34: 00001 | B34: A | C34: 05AB | D34: DIFFERENCE | E34: 100
A35: 00002 | B35: A | C35: 42CV | D35: SAF
A36: 00002 | B36: A | C36: 42CV | D36: SOL
A37: 00002 | B37: A | C37: 42CV | D37: DIFFERENCE | E37: 0
A38: 00003 | B38: B | C38: 42BG | D38: SAF
A39: 00003 | B39: B | C39: 42BG | D39: SOL
A40: 00003 | B40: B | C40: 42BG | D40: DIFFERENCE | E40: -3500
A41: 00004 | B41: C | C41: 00PO | D41: SAF
A42: 00004 | B42: C | C42: 00PO | D42: SOL
A43: 00004 | B43: C | C43: 00PO | D43: DIFFERENCE | E43: 0

Sheet Feuil2
A1: A1 | B1: A2 | C1: A3 | D1: B1 | E1: A4 | F1: B2 | G1: B3 | H1: B4 | I1: B5 | J1: A5
A2: 00001 | B2: A | C2: 05AB | D2: xxx1 | E2: SAF | F2: 45870 | G2: 45870 | H2: 45870 | I2: xxxxxxx | J2: 300
A3: 00001 | B3: A | C3: 05AB | D3: xxx1 | E3: SOL | G3: 45870 | H3: 45870 | I3: xxxxxxx | J3: 200
A4: 00001 | B4: A | C4: 05AB | D4: xxx1 | E4: DIFFERENCE | F4: 45870 | G4: 45870 | H4: 45870 | I4: xxxxxxx | J4: 100
A5: 00002 | B5: A | C5: 42CV | D5: xxx2 | E5: SAF | F5: 45870 | G5: 45870 | H5: 45870 | I5: xxxxxxx | J5: 480
A6: 00002 | B6: A | C6: 42CV | D6: xxx2 | E6: SOL | G6: 45870 | H6: 45870 | I6: xxxxxxx | J6: 480
A7: 00002 | B7: A | C7: 42CV | D7: xxx2 | E7: DIFFERENCE | F7: 45870 | G7: 45870 | H7: 45870 | I7: xxxxxxx | J7: 0
A8: 00003 | B8: B | C8: 42BG | D8: xxx2 | E8: SAF | F8: 45870 | G8: 45870 | H8: 45870 | I8: xxxxxxx | J8: 6500
A9: 00003 | B9: B | C9: 42BG | D9: xxx2 | E9: SOL | G9: 45870 | H9: 45870 | I9: xxxxxxx | J9: 10000
A10: 00003 | B10: B | C10: 42BG | D10: xxx2 | E10: DIFFERENCE | F10: 45870 | G10: 45870 | H10: 45870 | I10: xxxxxxx | J10: -3500
A11: 00004 | B11: C | C11: 00PO | D11: xxx3 | E11: SAF | F11: 45870 | G11: 45870 | H11: 45870 | I11: xxxxxxx | J11: 500
A12: 00004 | B12: C | C12: 00PO | D12: xxx3 | E12: SOL | G12: 45870 | H12: 45870 | I12: xxxxxxx | J12: 500
A13: 00004 | B13: C | C13: 00PO | D13: xxx3 | E13: DIFFERENCE | F13: 45870 | G13: 45870 | H13: 45870 | I13: xxxxxxx | J13: 0
