Workbook

Sheet Planning
B2: janvier | I2: fevrier | Q2: CA | R2: F | S2: D
B3: 40909 | C3: 40910 | D3: 40911 | E3: 40912 | F3: 40913 | G3: 40914 | H3: 40915 | I3: 40940 | J3: 40941 | K3: 40942 | L3: 40943 | M3: 40944 | N3: 40945 | O3: 40946
A4: ERIC | B4: L1 | C4: L1 | D4: L1 | E4: F | F4: F | G4: CA | I4: CA | J4: CA | K4: L1 | L4: L1 | M4: L1 | N4: L1 | Q4: =SUMPRODUCT(($A$4:$A$7=$A4)*($B$4:$N$7="CA")) -> 3 | R4: =SUMPRODUCT(($A$4:$A$7=$A4)*($B$4:$N$7="F")) -> 2 | S4: =SUMPRODUCT(($A$4:$A$7=$A4)*($B$4:$N$7="D")) -> 0
A5: PIERRE | B5: L2 | C5: L2 | D5: L2 | E5: L2 | F5: L2 | G5: L2 | I5: L1 | J5: L1 | K5: CA | L5: CA | M5: CA | N5: CA | Q5: =SUMPRODUCT(($A$4:$A$7=$A5)*($B$4:$N$7="CA")) -> 4 | R5: =SUMPRODUCT(($A$4:$A$7=$A5)*($B$4:$N$7="F")) -> 0 | S5: =SUMPRODUCT(($A$4:$A$7=$A5)*($B$4:$N$7="D")) -> 0
A6: AKIM | B6: CA | C6: CA | D6: CA | E6: L1 | F6: L1 | G6: L1 | I6: L3 | J6: L3 | K6: L3 | L6: F | M6: L3 | N6: L3 | Q6: =SUMPRODUCT(($A$4:$A$7=$A6)*($B$4:$N$7="CA")) -> 3 | R6: =SUMPRODUCT(($A$4:$A$7=$A6)*($B$4:$N$7="F")) -> 1 | S6: =SUMPRODUCT(($A$4:$A$7=$A6)*($B$4:$N$7="D")) -> 0
A7: PEDRO | B7: L3 | C7: L3 | D7: L3 | E7: L3 | F7: D | G7: D | I7: L2 | J7: L2 | K7: L2 | L7: L2 | M7: L2 | N7: L2 | Q7: =SUMPRODUCT(($A$4:$A$7=$A7)*($B$4:$N$7="CA")) -> 0 | R7: =SUMPRODUCT(($A$4:$A$7=$A7)*($B$4:$N$7="F")) -> 0 | S7: =SUMPRODUCT(($A$4:$A$7=$A7)*($B$4:$N$7="D")) -> 2
A10: LIGNE1 | B10: L1
A11: LIGNE2 | B11: L2
A12: LIGNE3 | B12: L3
A13: FORMATION | B13: F
A14: CONGE AN | B14: CA
A15: DISPO | B15: D

Sheet Aff mensuelle janv
B2: CA | C2: F | D2: D
A3: ERIC | B3: =SUMPRODUCT((Planning!$A$4:$A$7=Planning!$A4)*(Planning!$B$4:$G$7="CA")) -> 1 | C3: =SUMPRODUCT((Planning!$A$4:$A$7=Planning!$A4)*(Planning!$B$4:$G$7="F")) -> 2 | D3: =SUMPRODUCT((Planning!$A$4:$A$7=Planning!$A4)*(Planning!$B$4:$G$7="D")) -> 0
A4: PIERRE | B4: =SUMPRODUCT((Planning!$A$4:$A$7=Planning!$A5)*(Planning!$B$4:$G$7="CA")) -> 0 | C4: =SUMPRODUCT((Planning!$A$4:$A$7=Planning!$A5)*(Planning!$B$4:$G$7="F")) -> 0 | D4: =SUMPRODUCT((Planning!$A$4:$A$7=Planning!$A5)*(Planning!$B$4:$G$7="D")) -> 0
A5: AKIM | B5: =SUMPRODUCT((Planning!$A$4:$A$7=Planning!$A6)*(Planning!$B$4:$G$7="CA")) -> 3 | C5: =SUMPRODUCT((Planning!$A$4:$A$7=Planning!$A6)*(Planning!$B$4:$G$7="F")) -> 0 | D5: =SUMPRODUCT((Planning!$A$4:$A$7=Planning!$A6)*(Planning!$B$4:$G$7="D")) -> 0
A6: PEDRO | B6: =SUMPRODUCT((Planning!$A$4:$A$7=Planning!$A7)*(Planning!$B$4:$G$7="CA")) -> 0 | C6: =SUMPRODUCT((Planning!$A$4:$A$7=Planning!$A7)*(Planning!$B$4:$G$7="F")) -> 0 | D6: =SUMPRODUCT((Planning!$A$4:$A$7=Planning!$A7)*(Planning!$B$4:$G$7="D")) -> 2

Sheet Aff mensuelle fev
B2: CA | C2: F | D2: D
A3: ERIC | B3: =SUMPRODUCT((Planning!$A$4:$A$7=Planning!$A4)*(Planning!$I$4:$N$7="CA")) -> 2 | C3: =SUMPRODUCT((Planning!$A$4:$A$7=Planning!$A4)*(Planning!$I$4:$N$7="F")) -> 0 | D3: =SUMPRODUCT((Planning!$A$4:$A$7=Planning!$A4)*(Planning!$I$4:$N$7="D")) -> 0
A4: PIERRE | B4: =SUMPRODUCT((Planning!$A$4:$A$7=Planning!$A5)*(Planning!$I$4:$N$7="CA")) -> 4 | C4: =SUMPRODUCT((Planning!$A$4:$A$7=Planning!$A5)*(Planning!$I$4:$N$7="F")) -> 0 | D4: =SUMPRODUCT((Planning!$A$4:$A$7=Planning!$A5)*(Planning!$I$4:$N$7="D")) -> 0
A5: AKIM | B5: =SUMPRODUCT((Planning!$A$4:$A$7=Planning!$A6)*(Planning!$I$4:$N$7="CA")) -> 0 | C5: =SUMPRODUCT((Planning!$A$4:$A$7=Planning!$A6)*(Planning!$I$4:$N$7="F")) -> 1 | D5: =SUMPRODUCT((Planning!$A$4:$A$7=Planning!$A6)*(Planning!$I$4:$N$7="D")) -> 0
A6: PEDRO | B6: =SUMPRODUCT((Planning!$A$4:$A$7=Planning!$A7)*(Planning!$I$4:$N$7="CA")) -> 0 | C6: =SUMPRODUCT((Planning!$A$4:$A$7=Planning!$A7)*(Planning!$I$4:$N$7="F")) -> 0 | D6: =SUMPRODUCT((Planning!$A$4:$A$7=Planning!$A7)*(Planning!$I$4:$N$7="D")) -> 0

Sheet Feuil3
