Workbook
Name Liste: Trame!$A$1:$A$8

Sheet Trame
A1: Matin + Cantine + Soir | B1: =B2+B3+B5 -> 7
A2: Matin | B2: 1
A3: Cantine | B3: 4
A4: --- | B4: 0
A5: Soir | B5: 2
A6: Matin + Cantine | B6: =B2+B3 -> 5
A7: Matin + Soir | B7: =B2+B5 -> 3
A8: Cantine + Soir | B8: =B3+B5 -> 6

Sheet Feuil1
A1: SEPTEMBRE 2020
A4: 44074 | B4: Matin | C4: =VLOOKUP(Feuil1!B4,Trame!A1:B8,2,FALSE) -> 1 | E4: Nb de matins | F4: 14
A5: =A4+1 -> 44075 | B5: Cantine | C5: =VLOOKUP(Feuil1!B5,Trame!A1:B8,2,FALSE) -> 4 | E5: Nb de cantine | F5: 16
A6: =A5+1 -> 44076 | E6: Nb de soirs | F6: 11
A7: =A6+1 -> 44077 | B7: Cantine | C7: =VLOOKUP(Feuil1!B7,Trame!A1:B8,2,FALSE) -> 4
A8: =A7+1 -> 44078 | B8: Cantine | C8: =VLOOKUP(Feuil1!B8,Trame!A1:B8,2,FALSE) -> 4
A10: =A8+3 -> 44081 | B10: Matin + Cantine | C10: =VLOOKUP(Feuil1!B10,Trame!A1:B8,2,FALSE) -> 5
A11: =A10+1 -> 44082 | B11: --- | C11: =VLOOKUP(Feuil1!B11,Trame!A1:B8,2,FALSE) -> 0 | D11: malade
A12: =A11+1 -> 44083
A13: =A12+1 -> 44084 | B13: Matin + Cantine + Soir | C13: =VLOOKUP(Feuil1!B13,Trame!A1:B8,2,FALSE) -> 7
A14: =A13+1 -> 44085 | B14: Matin + Cantine + Soir | C14: =VLOOKUP(Feuil1!B14,Trame!A1:B8,2,FALSE) -> 7
A16: =A14+3 -> 44088 | B16: Matin + Cantine + Soir | C16: =VLOOKUP(Feuil1!B16,Trame!A1:B8,2,FALSE) -> 7
A17: =A16+1 -> 44089 | B17: Matin + Cantine + Soir | C17: =VLOOKUP(Feuil1!B17,Trame!A1:B8,2,FALSE) -> 7
A18: =A17+1 -> 44090
A19: =A18+1 -> 44091 | B19: Matin + Cantine + Soir | C19: =VLOOKUP(Feuil1!B19,Trame!A1:B8,2,FALSE) -> 7
A20: =A19+1 -> 44092 | B20: Matin + Cantine | C20: =VLOOKUP(Feuil1!B20,Trame!A1:B8,2,FALSE) -> 5
A22: =A20+3 -> 44095 | B22: Matin + Cantine + Soir | C22: =VLOOKUP(Feuil1!B22,Trame!A1:B8,2,FALSE) -> 7
A23: =A22+1 -> 44096 | B23: Matin + Cantine + Soir | C23: =VLOOKUP(Feuil1!B23,Trame!A1:B8,2,FALSE) -> 7
A24: =A23+1 -> 44097
A25: =A24+1 -> 44098 | B25: Matin + Cantine + Soir | C25: =VLOOKUP(Feuil1!B25,Trame!A1:B8,2,FALSE) -> 7
A26: =A25+1 -> 44099 | B26: Matin + Cantine + Soir | C26: =VLOOKUP(Feuil1!B26,Trame!A1:B8,2,FALSE) -> 7
A28: =A26+3 -> 44102 | B28: Matin + Cantine + Soir | C28: =VLOOKUP(Feuil1!B28,Trame!A1:B8,2,FALSE) -> 7
A29: =A28+1 -> 44103 | B29: Matin + Cantine + Soir | C29: =VLOOKUP(Feuil1!B29,Trame!A1:B8,2,FALSE) -> 7
A30: =A29+1 -> 44104
