Workbook

Sheet Hoja1
B13: Colonne1 | C13: Colonne2 | D13: Colonne3 | E13: Colonne4 | F13: Colonne5 | G13: Colonne6 | H13: Colonne7 | J13: Colonne8 | K13: Colonne9
F14: SousColonne1 | G14: SousColonne2 | H14: SousColonne3 | I14: SousColonne4 | J14: SousColonne5
K15: =F15+G15+I15+J15 -> 0
K16: =F16 -> 0
K17: =F17+G17+I17+J17 -> 0
K18: =F18+G18+I18+J18 -> 0
K19: =F19+G19+I19+J19 -> 0
K20: =F20+G20+I20+J20 -> 0
K21: =F21+G21+I21+J21 -> 0
K22: =F22+G22+I22+J22 -> 0
K23: =F23+G23+I23+J23 -> 0
K24: =F24+G24+I24+J24 -> 0
K25: =F25+G25+I25+J25 -> 0
K26: =F26+G26+I26+J26 -> 0
K27: =F27+G27+I27+J27 -> 0
K28: =F28+G28+I28+J28 -> 0
... K34: =F34+G34+I34+J34 -> 0
F35: =SUM(F16:F34) -> 0 | G35: =SUM(G16:G34) -> 0 | I35: =SUM(I16:I34) -> 0 | J35: =SUM(J16:J34) -> 0
K36: =SUM(K15:K34) -> 0
K38: =K36-K37 -> 0

Sheet Hoja 2
B1: Colonne1 | C1: Colonne2 | D1: Colonne3 | G1: Colonne4 | I1: Colonne5 | J1: Colonne6 | K1: Colonne7 | Y1: 11 | Z1: 1 | AA1: =DATE(Z1+2019,Y1,1) -> 44136 | AO1: Enero | AP1: 2020
D2: Entrer | E2: Sortie | F2: Total | G2: SousColonne1 | AO2: Febrero | AP2: 2021
G3: Sous SousColonne1 | H3: Sous SousColonne2 | AO3: Marzo | AP3: 2022
A4: =AA1 -> 44136 | F4: =IF(WEEKDAY(A4,2)<5,SUM(E4-D4)-[1]Feuil2!$A$1,SUM(E4-D4)) -> 0 | H4: =SUM(G4*0.15) -> 0 | AO4: Abril | AP4: 2023
A5: =A4+1 -> 44137 | D5: 0.35416667 | F5: =IF(WEEKDAY(A5,2)<5,SUM(E5-D5)-'Hoja 3'!$A$1,SUM(E5-D5)) -> -0.39583333 | H5: =SUM(G5*0.15) -> 0 | AO5: Mayo | AP5: 2024
A6: =A5+1 -> 44138 | D6: 0.35416667 | F6: =IF(WEEKDAY(A6,2)<5,SUM(E6-D6)-'Hoja 3'!$A$1,SUM(E6-D6)) -> -0.39583333 | H6: =SUM(G6*0.15) -> 0 | AO6: Junio | AP6: 2025
A7: =A6+1 -> 44139 | D7: 0.35416667 | F7: =IF(WEEKDAY(A7,2)<5,SUM(E7-D7)-'Hoja 3'!$A$1,SUM(E7-D7)) -> -0.39583333 | H7: =SUM(G7*0.15) -> 0 | AO7: Julio | AP7: 2026
A8: =A7+1 -> 44140 | D8: 0.35416667 | F8: =IF(WEEKDAY(A8,2)<5,SUM(E8-D8)-'Hoja 3'!$A$1,SUM(E8-D8)) -> -0.39583333 | H8: =SUM(G8*0.15) -> 0 | AO8: Agosto | AP8: 2027
A9: =A8+1 -> 44141 | D9: 0.35416667 | F9: =IF(WEEKDAY(A9,2)<5,SUM(E9-D9)-'Hoja 3'!$A$1,SUM(E9-D9)) -> -0.35416667 | H9: =SUM(G9*0.15) -> 0 | AO9: Septiembre | AP9: 2028
A10: =A9+1 -> 44142 | F10: =IF(WEEKDAY(A10,2)<5,SUM(E10-D10)-'Hoja 3'!$A$1,SUM(E10-D10)) -> 0 | H10: =SUM(G10*0.15) -> 0 | AO10: Octubre | AP10: 2029
A11: =A10+1 -> 44143 | F11: =IF(WEEKDAY(A11,2)<5,SUM(E11-D11)-'Hoja 3'!$A$1,SUM(E11-D11)) -> 0 | H11: =SUM(G11*0.15) -> 0 | AO11: Noviembre | AP11: 2030
A12: =A11+1 -> 44144 | D12: 0.35416667 | F12: =IF(WEEKDAY(A12,2)<5,SUM(E12-D12)-'Hoja 3'!$A$1,SUM(E12-D12)) -> -0.39583333 | H12: =SUM(G12*0.15) -> 0 | AO12: Diciembre | AP12: 2031
A13: =A12+1 -> 44145 | D13: 0.35416667 | F13: =IF(WEEKDAY(A13,2)<5,SUM(E13-D13)-'Hoja 3'!$A$1,SUM(E13-D13)) -> -0.39583333 | H13: =SUM(G13*0.15) -> 0
A14: =A13+1 -> 44146 | D14: 0.35416667 | F14: =IF(WEEKDAY(A14,2)<5,SUM(E14-D14)-'Hoja 3'!$A$1,SUM(E14-D14)) -> -0.39583333 | H14: =SUM(G14*0.15) -> 0
A15: =A14+1 -> 44147 | D15: 0.35416667 | F15: =IF(WEEKDAY(A15,2)<5,SUM(E15-D15)-'Hoja 3'!$A$1,SUM(E15-D15)) -> -0.39583333 | H15: =SUM(G15*0.15) -> 0
A16: =A15+1 -> 44148 | D16: 0.35416667 | F16: =IF(WEEKDAY(A16,2)<5,SUM(E16-D16)-'Hoja 3'!$A$1,SUM(E16-D16)) -> -0.35416667 | H16: =SUM(G16*0.15) -> 0
A17: =A16+1 -> 44149 | F17: =IF(WEEKDAY(A17,2)<5,SUM(E17-D17)-'Hoja 3'!$A$1,SUM(E17-D17)) -> 0 | H17: =SUM(G17*0.15) -> 0
A18: =A17+1 -> 44150 | F18: =IF(WEEKDAY(A18,2)<5,SUM(E18-D18)-'Hoja 3'!$A$1,SUM(E18-D18)) -> 0 | H18: =SUM(G18*0.15) -> 0
A19: =A18+1 -> 44151 | D19: 0.35416667 | F19: =IF(WEEKDAY(A19,2)<5,SUM(E19-D19)-'Hoja 3'!$A$1,SUM(E19-D19)) -> -0.39583333 | H19: =SUM(G19*0.15) -> 0
A20: =A19+1 -> 44152 | D20: 0.35416667 | F20: =IF(WEEKDAY(A20,2)<5,SUM(E20-D20)-'Hoja 3'!$A$1,SUM(E20-D20)) -> -0.39583333 | H20: =SUM(G20*0.15) -> 0
A21: =A20+1 -> 44153 | D21: 0.35416667 | F21: =IF(WEEKDAY(A21,2)<5,SUM(E21-D21)-'Hoja 3'!$A$1,SUM(E21-D21)) -> -0.39583333 | H21: =SUM(G21*0.15) -> 0
A22: =A21+1 -> 44154 | D22: 0.35416667 | F22: =IF(WEEKDAY(A22,2)<5,SUM(E22-D22)-'Hoja 3'!$A$1,SUM(E22-D22)) -> -0.39583333 | H22: =SUM(G22*0.15) -> 0
A23: =A22+1 -> 44155 | D23: 0.35416667 | F23: =IF(WEEKDAY(A23,2)<5,SUM(E23-D23)-'Hoja 3'!$A$1,SUM(E23-D23)) -> -0.35416667 | H23: =SUM(G23*0.15) -> 0
A24: =A23+1 -> 44156 | F24: =IF(WEEKDAY(A24,2)<5,SUM(E24-D24)-'Hoja 3'!$A$1,SUM(E24-D24)) -> 0 | H24: =SUM(G24*0.15) -> 0
A25: =A24+1 -> 44157 | F25: =IF(WEEKDAY(A25,2)<5,SUM(E25-D25)-'Hoja 3'!$A$1,SUM(E25-D25)) -> 0 | H25: =SUM(G25*0.15) -> 0
A26: =A25+1 -> 44158 | D26: 0.35416667 | F26: =IF(WEEKDAY(A26,2)<5,SUM(E26-D26)-'Hoja 3'!$A$1,SUM(E26-D26)) -> -0.39583333 | H26: =SUM(G26*0.15) -> 0
A27: =A26+1 -> 44159 | D27: 0.35416667 | F27: =IF(WEEKDAY(A27,2)<5,SUM(E27-D27)-'Hoja 3'!$A$1,SUM(E27-D27)) -> -0.39583333 | H27: =SUM(G27*0.15) -> 0
A28: =A27+1 -> 44160 | D28: 0.35416667 | F28: =IF(WEEKDAY(A28,2)<5,SUM(E28-D28)-'Hoja 3'!$A$1,SUM(E28-D28)) -> -0.39583333 | H28: =SUM(G28*0.15) -> 0
A29: =A28+1 -> 44161 | D29: 0.35416667 | F29: =IF(WEEKDAY(A29,2)<5,SUM(E29-D29)-'Hoja 3'!$A$1,SUM(E29-D29)) -> -0.39583333 | H29: =SUM(G29*0.15) -> 0
A30: =A29+1 -> 44162 | D30: 0.35416667 | F30: =IF(WEEKDAY(A30,2)<5,SUM(E30-D30)-'Hoja 3'!$A$1,SUM(E30-D30)) -> -0.35416667 | H30: =SUM(G30*0.15) -> 0
A31: =A30+1 -> 44163 | F31: =IF(WEEKDAY(A31,2)<5,SUM(E31-D31)-'Hoja 3'!$A$1,SUM(E31-D31)) -> 0 | H31: =SUM(G31*0.15) -> 0
A32: =A31+1 -> 44164 | F32: =IF(WEEKDAY(A32,2)<5,SUM(E32-D32)-'Hoja 3'!$A$1,SUM(E32-D32)) -> 0 | H32: =SUM(G32*0.15) -> 0
A33: =A32+1 -> 44165 | D33: 0.35416667 | F33: =IF(WEEKDAY(A33,2)<5,SUM(E33-D33)-'Hoja 3'!$A$1,SUM(E33-D33)) -> -0.39583333 | H33: =SUM(G33*0.15) -> 0
A34: =A33+1 -> 44166 | D34: 0.35416667 | F34: =IF(WEEKDAY(A34,2)<5,SUM(E34-D34)-'Hoja 3'!$A$1,SUM(E34-D34)) -> -0.39583333 | H34: =SUM(G34*0.15) -> 0
D35: Total | F35: =SUMIF(F4:F34,">0",F4:F34) -> 0 | G35: Total | H35: =SUM(H4:H34) -> 0 | I35: Total | K35: =SUM(I4:K34) -> 0
I36: Total | K36: =SUM(K35+H35) -> 0

Sheet Hoja 3
A1: 0.041666667 | B1: 10 | C1: 1 | D1: =DATE(C1+2019,B1,1) -> 44105 | E1: Enero | F1: 2020
E2: Febrero | F2: 2021
E3: Marzo | F3: 2022
E4: Abril | F4: 2023
E5: Mayo | F5: 2024
E6: Junio | F6: 2025
E7: Julio | F7: 2026
E8: Agosto | F8: 2027
E9: Septiembre | F9: 2028
E10: Octubre | F10: 2029
E11: Noviembre | F11: 2030
E12: Diciembre | F12: 2031
