Workbook

Sheet 2021
A2: 2021 | B2: Dates/semaines | C2: Magasins | D2: Chiffres années | E2: Diffèrence année ant. | F2: chiffres semaines | G2: Dif sem année ant. | H2: Différence sem. ant. | I2: Colonne1 | J2: Colonne2
B3: 1 | C3: Gozée | F3: 120252
B4: 1 | C4: Naninne | F4: 104717
B5: 1 | C5: Gembloux | F5: 102113
B6: 1 | C6: Fleurus | F6: 99377
B7: 1 | C7: Eghezée | F7: 68074
B8: 1 | C8: Champion | F8: 63108
B9: 1 | C9: Charleroi | F9: 61258
B10: 1 | C10: Gosselies | F10: 52987
B11: 2 | C11: Gozée | D11: 201103 | F11: 80851 | H11: =IF(F3="","",(F11-F3)/F3) -> -0.32765359
B12: 2 | C12: Naninne | D12: 178862 | F12: 74146 | H12: =IF(F4="","",(F12-F4)/F4) -> -0.29193923
B13: 2 | C13: Gembloux | D13: 165952 | F13: 63838 | H13: =IF(F5="","",(F13-F5)/F5) -> -0.37482985
B14: 2 | C14: Fleurus | D14: 164429 | F14: 65052 | H14: =IF(F6="","",(F14-F6)/F6) -> -0.34540185
B15: 2 | C15: Eghezée | D15: 111683 | F15: 43609 | H15: =IF(F7="","",(F15-F7)/F7) -> -0.35938831
B16: 2 | C16: Champion | D16: 103518 | F16: 40410 | H16: =IF(F8="","",(F16-F8)/F8) -> -0.35966914
B17: 2 | C17: Charleroi | D17: 99882 | F17: 38624 | H17: =IF(F9="","",(F17-F9)/F9) -> -0.36948643
B18: 2 | C18: Gosselies | D18: 85443 | F18: 32456 | H18: =IF(F10="","",(F18-F10)/F10) -> -0.3874724
B19: 3 | C19: Gozée | D19: 284967 | F19: 83864 | H19: =IF(F11="","",(F19-F11)/F11) -> 0.037266082
B20: 3 | C20: Naninne | D20: 254095 | F20: 75233 | H20: =IF(F12="","",(F20-F12)/F12) -> 0.014660265
B21: 3 | C21: Gembloux | D21: 233725 | F21: 67773 | H21: =IF(F13="","",(F21-F13)/F13) -> 0.061640402
B22: 3 | C22: Fleurus | D22: 228290 | F22: 63861 | H22: =IF(F14="","",(F22-F14)/F14) -> -0.01830843
... B42: 5 | C42: Gosselies | D42: 198820 | F42: 45008 | H42: =IF(F34="","",(F42-F34)/F34) -> 0.22058903
B43: 6 | C43: Gozée | H43: =IF(F35="","",(F43-F35)/F35) -> -1
B44: 6 | C44: Naninne | H44: =IF(F36="","",(F44-F36)/F36) -> -1
B45: 6 | C45: Gembloux | H45: =IF(F37="","",(F45-F37)/F37) -> -1
B46: 6 | C46: Fleurus | H46: =IF(F38="","",(F46-F38)/F38) -> -1
B47: 6 | C47: Eghezée | H47: =IF(F39="","",(F47-F39)/F39) -> -1
B48: 6 | C48: Champion | H48: =IF(F40="","",(F48-F40)/F40) -> -1
B49: 6 | C49: Charleroi | H49: =IF(F41="","",(F49-F41)/F41) -> -1
B50: 6 | C50: Gosselies | H50: =IF(F42="","",(F50-F42)/F42) -> -1
B51: 7 | C51: Gozée | D51: 679583 | F51: 104778 | H51: =IF(F43="","",(F51-F43)/F43)
B52: 7 | C52: Naninne | D52: 610896 | F52: 86679 | H52: =IF(F44="","",(F52-F44)/F44)
B53: 7 | C53: Gembloux | D53: 554607 | F53: 75652 | H53: =IF(F45="","",(F53-F45)/F45)
B54: 7 | C54: Fleurus | D54: 553640 | F54: 75824 | H54: =IF(F46="","",(F54-F46)/F46)
B55: 7 | C55: Eghezée | D55: 399067 | F55: 56647 | H55: =IF(F47="","",(F55-F47)/F47)
B56: 7 | C56: Champion | D56: 347224 | F56: 49206 | H56: =IF(F48="","",(F56-F48)/F48)
B57: 7 | C57: Charleroi | D57: 326232 | F57: 43107 | H57: =IF(F49="","",(F57-F49)/F49)
B58: 7 | C58: Gosselies | D58: 284987 | F58: 37560 | H58: =IF(F50="","",(F58-F50)/F50)
B59: 8 | C59: Gozée | D59: 818626 | F59: 139043 | H59: =IF(F51="","",(F59-F51)/F51) -> 0.32702476
B60: 8 | C60: Naninne | D60: 743266 | F60: 132370 | H60: =IF(F52="","",(F60-F52)/F52) -> 0.52712883
B61: 8 | C61: Gembloux | D61: 672730 | F61: 118124 | H61: =IF(F53="","",(F61-F53)/F53) -> 0.56141278
B62: 8 | C62: Fleurus | D62: 668256 | F62: 114616 | H62: =IF(F54="","",(F62-F54)/F54) -> 0.51160582
... B188: 24 | C188: Naninne | D188: 2965111 | F188: 130164 | H188: =IF(F180="","",(F188-F180)/F180) -> -0.31118861
B189: 24 | C189: Gembloux | D189: 2800752 | H189: =IF(F181="","",(F189-F181)/F181) -> -1
B190: 24 | C190: Fleurus | D190: 2821320 | F190: 133413 | H190: =IF(F182="","",(F190-F182)/F182) -> -0.28014439
B191: 24 | C191: Eghezée | D191: 2093833 | F191: 91239 | H191: =IF(F183="","",(F191-F183)/F183) -> -0.35915068
B192: 24 | C192: Champion | D192: 2086809 | F192: 103555 | H192: =IF(F184="","",(F192-F184)/F184) -> -0.34357073
B193: 24 | C193: Charleroi | D193: 1667112 | F193: 83709 | H193: =IF(F185="","",(F193-F185)/F185) -> -0.31454611
B194: 24 | C194: Gosselies | D194: 1577358 | F194: 69781 | H194: =IF(F186="","",(F194-F186)/F186) -> -0.39414645
B195: 25 | C195: Gozée | H195: =IF(F187="","",(F195-F187)/F187) -> -1
B196: 25 | C196: Naninne | H196: =IF(F188="","",(F196-F188)/F188) -> -1
B197: 25 | C197: Gembloux | H197: =IF(F189="","",(F197-F189)/F189)
B198: 25 | C198: Fleurus | H198: =IF(F190="","",(F198-F190)/F190) -> -1
B199: 25 | C199: Eghezée | H199: =IF(F191="","",(F199-F191)/F191) -> -1
B200: 25 | C200: Champion | H200: =IF(F192="","",(F200-F192)/F192) -> -1
B201: 25 | C201: Charleroi | H201: =IF(F193="","",(F201-F193)/F193) -> -1
B202: 25 | C202: Gosselies | H202: =IF(F194="","",(F202-F194)/F194) -> -1
B203: 26 | C203: Gozée | H203: =IF(F195="","",(F203-F195)/F195)
B204: 26 | C204: Naninne | H204: =IF(F196="","",(F204-F196)/F196)
B205: 26 | C205: Gembloux | H205: =IF(F197="","",(F205-F197)/F197)
B206: 26 | C206: Fleurus | H206: =IF(F198="","",(F206-F198)/F198)
... B210: 26 | C210: Gosselies | H210: =IF(F202="","",(F210-F202)/F202)
B211: 27 | C211: Gozée | D211: 3627507 | F211: 128838 | H211: =IF(F203="","",(F211-F203)/F203)
B212: 27 | C212: Naninne | D212: 3257226 | F212: 112440 | H212: =IF(F204="","",(F212-F204)/F204)
B213: 27 | C213: Gembloux | D213: 3245563 | F213: 116286 | H213: =IF(F205="","",(F213-F205)/F205)
B214: 27 | C214: Fleurus | D214: 3117954 | F214: 113245 | H214: =IF(F206="","",(F214-F206)/F206)
B215: 27 | C215: Eghezée | D215: 2316559 | F215: 87291 | H215: =IF(F207="","",(F215-F207)/F207)
B216: 27 | C216: Champion | D216: 2302091 | F216: 78023 | H216: =IF(F208="","",(F216-F208)/F208)
B217: 27 | C217: Charleroi | D217: 1861606 | F217: 68908 | H217: =IF(F209="","",(F217-F209)/F209)
B218: 27 | C218: Gosselies | D218: 1760356 | F218: 69637 | H218: =IF(F210="","",(F218-F210)/F210)
B219: 28 | C219: Gozée | H219: =IF(F211="","",(F219-F211)/F211) -> -1
B220: 28 | C220: Naninne | H220: =IF(F212="","",(F220-F212)/F212) -> -1
B221: 28 | C221: Gembloux | H221: =IF(F213="","",(F221-F213)/F213) -> -1
B222: 28 | C222: Fleurus | H222: =IF(F214="","",(F222-F214)/F214) -> -1
B223: 28 | C223: Eghezée | H223: =IF(F215="","",(F223-F215)/F215) -> -1
B224: 28 | C224: Champion | H224: =IF(F216="","",(F224-F216)/F216) -> -1
B225: 28 | C225: Charleroi | H225: =IF(F217="","",(F225-F217)/F217) -> -1
B226: 28 | C226: Gosselies | H226: =IF(F218="","",(F226-F218)/F218) -> -1
B227: 29 | C227: Gozée | D227: 3873768 | F227: 127347 | H227: =IF(F219="","",(F227-F219)/F219)
B228: 29 | C228: Naninne | D228: 3465513 | F228: 113135 | H228: =IF(F220="","",(F228-F220)/F220)
B229: 29 | C229: Gembloux | D229: 3464713 | F229: 113635 | H229: =IF(F221="","",(F229-F221)/F221)
B230: 29 | C230: Fleurus | D230: 3332659 | F230: 108021 | H230: =IF(F222="","",(F230-F222)/F222)
B231: 29 | C231: Eghezée | D231: 2484199 | F231: 76557 | H231: =IF(F223="","",(F231-F223)/F223)
B232: 29 | C232: Champion | D232: 2450597 | F232: 78338 | H232: =IF(F224="","",(F232-F224)/F224)
B233: 29 | C233: Charleroi | D233: 1996172 | F233: 63216 | H233: =IF(F225="","",(F233-F225)/F225)
B234: 29 | C234: Gosselies | D234: 1894481 | F234: 71586 | H234: =IF(F226="","",(F234-F226)/F226)
B235: 30 | C235: Gozée | H235: =IF(F227="","",(F235-F227)/F227) -> -1
B236: 30 | C236: Naninne | H236: =IF(F228="","",(F236-F228)/F228) -> -1
B237: 30 | C237: Gembloux | H237: =IF(F229="","",(F237-F229)/F229) -> -1
B238: 30 | C238: Fleurus | H238: =IF(F230="","",(F238-F230)/F230) -> -1
B239: 30 | C239: Eghezée | H239: =IF(F231="","",(F239-F231)/F231) -> -1
B240: 30 | C240: Champion | H240: =IF(F232="","",(F240-F232)/F232) -> -1
B241: 30 | C241: Charleroi | H241: =IF(F233="","",(F241-F233)/F233) -> -1
B242: 30 | C242: Gosselies | H242: =IF(F234="","",(F242-F234)/F234) -> -1
B243: 31 | C243: Gozée | H243: =IF(F235="","",(F243-F235)/F235)
B244: 31 | C244: Naninne | H244: =IF(F236="","",(F244-F236)/F236)
B245: 31 | C245: Gembloux | H245: =IF(F237="","",(F245-F237)/F237)
B246: 31 | C246: Fleurus | H246: =IF(F238="","",(F246-F238)/F238)
... B250: 31 | C250: Gosselies | H250: =IF(F242="","",(F250-F242)/F242)
B251: 32 | C251: Gozée | D251: 4217721 | F251: 112071 | H251: =IF(F243="","",(F251-F243)/F243)
...

Sheet année20
B2: données semaines | D2: Semaines | E2: A | F2: B | G2: C | H2: D | I2: E | J2: F | K2: G | L2: H
B3: =C3&" "&D3 -> C.A. SEM 1 | C3: C.A. SEM | D3: 1 | E3: 45820 | F3: 43862 | G3: 40291 | H3: 39188 | I3: 37765 | K3: 19196
B4: =C4&" "&D4 -> DIF 2019 1 | C4: DIF 2019 | D4: 1
B5: =C5&" "&D5 -> DIF SEM/PR 1 | C5: DIF SEM/PR | D5: 1
B6: =C6&" "&D6 -> CHIF. AFF M 1 | C6: CHIF. AFF M | D6: 1 | E6: 45820 | F6: 43862 | G6: 40291 | H6: 39188 | I6: 37765 | K6: 19196
B7: =C7&" "&D7 -> DIF 2019 1 | C7: DIF 2019 | D7: 1
B8: =C8&" "&D8 -> DIF AN/PR 1 | C8: DIF AN/PR | D8: 1
B9: =C9&" "&D9 -> CENTRALE 1 | C9: CENTRALE | D9: 1
B10: =C10&" "&D10 -> C.A. SEM 2 | C10: C.A. SEM | D10: 2 | E10: 67847 | F10: 59532 | G10: 61432 | H10: 59094 | I10: 47169 | K10: 27403
B11: =C11&" "&D11 -> DIF 2019 2 | C11: DIF 2019 | D11: 2
B12: =C12&" "&D12 -> DIF SEM/PR 2 | C12: DIF SEM/PR | D12: 2
B13: =C13&" "&D13 -> CHIF. AFF M 2 | C13: CHIF. AFF M | D13: 2 | E13: 113667 | F13: 103394 | G13: 101722 | H13: 98281 | I13: 84934 | K13: 46599
B14: =C14&" "&D14 -> DIF 2019 2 | C14: DIF 2019 | D14: 2
B15: =C15&" "&D15 -> DIF AN/PR 2 | C15: DIF AN/PR | D15: 2
B16: =C16&" "&D16 -> CENTRALE 2 | C16: CENTRALE | D16: 2
B17: =C17&" "&D17 -> C.A. SEM 3 | C17: C.A. SEM | D17: 3 | E17: 64855 | F17: 55133 | G17: 55567 | H17: 58205 | K17: 22938
B18: =C18&" "&D18 -> DIF 2019 3 | C18: DIF 2019 | D18: 3
B19: =C19&" "&D19 -> DIF SEM/PR 3 | C19: DIF SEM/PR | D19: 3
B20: =C20&" "&D20 -> CHIF. AFF M 3 | C20: CHIF. AFF M | D20: 3 | E20: 178523 | F20: 158527 | G20: 157289 | H20: 156486 | K20: 69538
B21: =C21&" "&D21 -> DIF 2019 3 | C21: DIF 2019 | D21: 3
B22: =C22&" "&D22 -> DIF AN/PR 3 | C22: DIF AN/PR | D22: 3
B23: =C23&" "&D23 -> CENTRALE 3 | C23: CENTRALE | D23: 3
B24: =C24&" "&D24 -> C.A. SEM 4 | C24: C.A. SEM | D24: 4 | E24: 65956 | F24: 64279 | G24: 58011 | H24: 60447 | I24: 46727 | K24: 21779
B25: =C25&" "&D25 -> DIF 2019 4 | C25: DIF 2019 | D25: 4
B26: =C26&" "&D26 -> DIF SEM/PR 4 | C26: DIF SEM/PR | D26: 4
B27: =C27&" "&D27 -> CHIF. AFF M 4 | C27: CHIF. AFF M | D27: 4 | E27: 244479 | F27: 222806 | G27: 215300 | H27: 216933 | I27: 177230 | K27: 91317
B28: =C28&" "&D28 -> DIF 2019 4 | C28: DIF 2019 | D28: 4
B29: =C29&" "&D29 -> DIF AN/PR 4 | C29: DIF AN/PR | D29: 4
B30: =C30&" "&D30 -> CENTRALE 4 | C30: CENTRALE | D30: 4
B31: =C31&" "&D31 -> C.A. SEM 5 | C31: C.A. SEM | D31: 5 | E31: 87612 | F31: 66212 | G31: 67301 | H31: 64788 | I31: 54950 | K31: 31364
B32: =C32&" "&D32 -> DIF 2019 5 | C32: DIF 2019 | D32: 5
B33: =C33&" "&D33 -> DIF SEM/PR 5 | C33: DIF SEM/PR | D33: 5
B34: =C34&" "&D34 -> CHIF. AFF M 5 | C34: CHIF. AFF M | D34: 5 | E34: 332091 | F34: 289018 | G34: 282601 | H34: 281721 | I34: 232180 | K34: 122680
B35: =C35&" "&D35 -> DIF 2019 5 | C35: DIF 2019 | D35: 5
B36: =C36&" "&D36 -> DIF AN/PR 5 | C36: DIF AN/PR | D36: 5
B37: =C37&" "&D37 -> CENTRALE 5 | C37: CENTRALE | D37: 5
B38: =C38&" "&D38 -> C.A. SEM 6 | C38: C.A. SEM | D38: 6 | E38: 72821 | F38: 61371 | G38: 64406 | H38: 65302 | I38: 54259 | K38: 28656
B39: =C39&" "&D39 -> DIF 2019 6 | C39: DIF 2019 | D39: 6
B40: =C40&" "&D40 -> DIF SEM/PR 6 | C40: DIF SEM/PR | D40: 6
B41: =C41&" "&D41 -> CHIF. AFF M 6 | C41: CHIF. AFF M | D41: 6 | E41: 404912 | F41: 350388 | G41: 347007 | H41: 347023 | I41: 286439 | K41: 151336
B42: =C42&" "&D42 -> DIF 2019 6 | C42: DIF 2019 | D42: 6
B43: =C43&" "&D43 -> DIF AN/PR 6 | C43: DIF AN/PR | D43: 6
B44: =C44&" "&D44 -> CENTRALE 6 | C44: CENTRALE | D44: 6
B45: =C45&" "&D45 -> C.A. SEM 7 | C45: C.A. SEM | D45: 7 | E45: 66151 | F45: 55406 | G45: 60630 | H45: 60819 | I45: 53401 | K45: 26012
B46: =C46&" "&D46 -> DIF 2020 7 | C46: DIF 2020 | D46: 7
B47: =C47&" "&D47 -> DIF SEM/PR 7 | C47: DIF SEM/PR | D47: 7
B48: =C48&" "&D48 -> CHIF. AFF M 7 | C48: CHIF. AFF M | D48: 7 | E48: 471063 | F48: 405794 | G48: 407638 | H48: 407842 | I48: 339840 | K48: 177348
B49: =C49&" "&D49 -> DIF 2020 7 | C49: DIF 2020 | D49: 7
B50: =C50&" "&D50 -> DIF AN/PR 7 | C50: DIF AN/PR | D50: 7
B51: =C51&" "&D51 -> CENTRALE 7 | C51: CENTRALE | D51: 7
B52: =C52&" "&D52 -> C.A. SEM 8 | C52: C.A. SEM | D52: 8 | E52: 87501 | F52: 78048 | G52: 74255 | H52: 78372 | I52: 73912 | K52: 35795
B53: =C53&" "&D53 -> DIF 2020 8 | C53: DIF 2020 | D53: 8
B54: =C54&" "&D54 -> DIF SEM/PR 8 | C54: DIF SEM/PR | D54: 8
B55: =C55&" "&D55 -> CHIF. AFF M 8 | C55: CHIF. AFF M | D55: 8 | E55: 558563 | F55: 483842 | G55: 481893 | H55: 486214 | I55: 413752 | K55: 213142
B56: =C56&" "&D56 -> DIF 2020 8 | C56: DIF 2020 | D56: 8
B57: =C57&" "&D57 -> DIF AN/PR 8 | C57: DIF AN/PR | D57: 8
B58: =C58&" "&D58 -> CENTRALE 8 | C58: CENTRALE | D58: 8
B59: =C59&" "&D59 -> C.A. SEM 9 | C59: C.A. SEM | D59: 9 | E59: 81968 | F59: 73558 | G59: 75017 | H59: 78340 | I59: 64002 | K59: 30626
B60: =C60&" "&D60 -> DIF 2020 9 | C60: DIF 2020 | D60: 9
B61: =C61&" "&D61 -> DIF SEM/PR 9 | C61: DIF SEM/PR | D61: 9
B62: =C62&" "&D62 -> CHIF. AFF M 9 | C62: CHIF. AFF M | D62: 9 | E62: 640532 | F62: 557400 | G62: 556910 | H62: 564555 | I62: 477754 | K62: 243769
B63: =C63&" "&D63 -> DIF 2020 9 | C63: DIF 2020 | D63: 9
B64: =C64&" "&D64 -> DIF AN/PR 9 | C64: DIF AN/PR | D64: 9
B65: =C65&" "&D65 -> CENTRALE 9 | C65: CENTRALE | D65: 9
B66: =C66&" "&D66 -> C.A. SEM 10 | C66: C.A. SEM | D66: 10 | E66: 87690 | F66: 72955 | G66: 71586 | H66: 75927 | I66: 65614 | K66: 39011
B67: =C67&" "&D67 -> DIF 2020 10 | C67: DIF 2020 | D67: 10
B68: =C68&" "&D68 -> DIF SEM/PR 10 | C68: DIF SEM/PR | D68: 10
B69: =C69&" "&D69 -> CHIF. AFF M 10 | C69: CHIF. AFF M | D69: 10 | E69: 728221 | F69: 630355 | G69: 628496 | H69: 640482 | I69: 543368 | K69: 282780
B70: =C70&" "&D70 -> DIF 2020 10 | C70: DIF 2020 | D70: 10
B71: =C71&" "&D71 -> DIF AN/PR 10 | C71: DIF AN/PR | D71: 10
B72: =C72&" "&D72 -> CENTRALE 10 | C72: CENTRALE | D72: 10
B73: =C73&" "&D73 -> C.A. SEM 11 | C73: C.A. SEM | D73: 11 | E73: 63401 | F73: 55744 | G73: 58544 | H73: 60696 | I73: 52399 | K73: 30854
B74: =C74&" "&D74 -> DIF 2020 11 | C74: DIF 2020 | D74: 11
B75: =C75&" "&D75 -> DIF SEM/PR 11 | C75: DIF SEM/PR | D75: 11
B76: =C76&" "&D76 -> CHIF. AFF M 11 | C76: CHIF. AFF M | D76: 11 | E76: 791623 | F76: 686099 | G76: 687040 | H76: 701178 | I76: 595767 | K76: 313634
B77: =C77&" "&D77 -> DIF 2020 11 | C77: DIF 2020 | D77: 11
B78: =C78&" "&D78 -> DIF AN/PR 11 | C78: DIF AN/PR | D78: 11
B79: =C79&" "&D79 -> CENTRALE 11 | C79: CENTRALE | D79: 11
B80: =C80&" "&D80 -> C.A. SEM 12 | C80: C.A. SEM | D80: 12 | E80: 102736 | F80: 107220 | G80: 88887 | H80: 76267 | I80: 78759 | K80: 34729
B81: =C81&" "&D81 -> DIF 2019 12 | C81: DIF 2019 | D81: 12
B82: =C82&" "&D82 -> DIF SEM/PR 12 | C82: DIF SEM/PR | D82: 12
B83: =C83&" "&D83 -> CHIF. AFF M 12 | C83: CHIF. AFF M | D83: 12 | E83: 894359 | F83: 793318 | G83: 775927 | H83: 777445 | I83: 674525 | K83: 348363
B84: =C84&" "&D84 -> DIF 2019 12 | C84: DIF 2019 | D84: 12
B85: =C85&" "&D85 -> DIF AN/PR 12 | C85: DIF AN/PR | D85: 12
B86: =C86&" "&D86 -> CENTRALE 12 | C86: CENTRALE | D86: 12
B87: =C87&" "&D87 -> C.A. SEM 13 | C87: C.A. SEM | D87: 13 | E87: 16352 | F87: 28666 | G87: 20161 | H87: 12425 | I87: 16564 | K87: 7400
B88: =C88&" "&D88 -> DIF 2019 13 | C88: DIF 2019 | D88: 13
B89: =C89&" "&D89 -> DIF SEM/PR 13 | C89: DIF SEM/PR | D89: 13
B90: =C90&" "&D90 -> CHIF. AFF M 13 | C90: CHIF. AFF M | D90: 13 | E90: 910711 | F90: 821984 | G90: 796088 | H90: 789871 | I90: 691090 | K90: 355762
B91: =C91&" "&D91 -> DIF 2019 13 | C91: DIF 2019 | D91: 13
B92: =C92&" "&D92 -> DIF AN/PR 13 | C92: DIF AN/PR | D92: 13
B93: =C93&" "&D93 -> CENTRALE 13 | C93: CENTRALE | D93: 13
B94: =C94&" "&D94 -> C.A. SEM 14 | C94: C.A. SEM | D94: 14 | E94: 19876 | F94: 23578 | G94: 17989 | H94: 11500 | I94: 16879 | K94: 8900
B95: =C95&" "&D95 -> DIF 2019 14 | C95: DIF 2019 | D95: 14
B96: =C96&" "&D96 -> DIF SEM/PR 14 | C96: DIF SEM/PR | D96: 14
B97: =C97&" "&D97 -> CHIF. AFF M 14 | C97: CHIF. AFF M | D97: 14 | E97: =E90+E94 -> 930587 | F97: =F90+F94 -> 845562 | G97: =G90+G94 -> 814077 | H97: =H90+H94 -> 801371 | I97: =I90+I94 -> 707969 | K97: =K90+K94 -> 364662
B98: =C98&" "&D98 -> DIF 2019 14 | C98: DIF 2019 | D98: 14
B99: =C99&" "&D99 -> DIF AN/PR 14 | C99: DIF AN/PR | D99: 14
B100: =C100&" "&D100 -> CENTRALE 14 | C100: CENTRALE | D100: 14
B101: =C101&" "&D101 -> C.A. SEM 15 | C101: C.A. SEM | D101: 15 | E101: =E104-E97 -> 48662 | F101: =F104-F97 -> 55914 | G101: =G104-G97 -> 52438 | H101: =H104-H97 -> 58794 | I101: =I104-I97 -> 28665 | K101: =K104-K97 -> 10187
...

Sheet année21
O1: 1 | P1: 2 | Q1: 3 | R1: 4 | S1: 5 | T1: 6 | U1: 7 | V1: 8
B2: données semaines | C2: données | D2: Semaines | E2: A | F2: B | G2: C | H2: D | I2: E | J2: F | K2: G | L2: H
B3: =C3&" "&D3 -> C.A. SEM 1 | C3: C.A. SEM | D3: 1 | E3: 120252 | F3: 104717 | G3: 102113 | H3: 99377 | I3: 68074 | J3: 63108 | K3: 61258 | L3: 52987
B4: =C4&" "&D4 -> DIF 2020 1 | C4: DIF 2020 | D4: 1 | E4: =(année21!E3-année20!E3)/année20!E3 -> 1.6244435 | F4: =(année21!F3-année20!F3)/année20!F3 -> 1.3874196 | G4: =(année21!G3-année20!G3)/année20!G3 -> 1.5343873 | H4: =(année21!H3-année20!H3)/année20!H3 -> 1.5359038 | I4: =(année21!I3-année20!I3)/année20!I3 -> 0.80256852 | J4: =(année21!J3-année20!J3)/année20!J3 -> #DIV/0! | K4: =(année21!K3-année20!K3)/année20!K3 -> 2.1911857 | L4: =(année21!L3-année20!L3)/année20!L3 -> #DIV/0!
B5: =C5&" "&D5 -> DIF SEM/PR 1 | C5: DIF SEM/PR | D5: 1
B6: =C6&" "&D6 -> CHIF. AFF M 1 | C6: CHIF. AFF M | D6: 1 | E6: =E3 -> 120252 | F6: =F3 -> 104717 | G6: =G3 -> 102113 | H6: =H3 -> 99377 | I6: =I3 -> 68074 | J6: =J3 -> 63108 | K6: =K3 -> 61258 | L6: =L3 -> 52987
B7: =C7&" "&D7 -> DIF 2020 1 | C7: DIF 2020 | D7: 1 | E7: =année21!E3-année20!E6 -> 74432 | F7: =année21!F3-année20!F6 -> 60855 | G7: =année21!G3-année20!G6 -> 61822 | H7: =année21!H3-année20!H6 -> 60189 | I7: =année21!I3-année20!I6 -> 30309 | J7: =année21!J3-année20!J6 -> 63108 | K7: =année21!K3-année20!K6 -> 42062 | L7: =année21!L3-année20!L6 -> 52987
B8: =C8&" "&D8 -> DIF AN/PR 1 | C8: DIF AN/PR | D8: 1
B9: =C9&" "&D9 -> CENTRALE 1 | C9: CENTRALE | D9: 1
B10: =C10&" "&D10 -> C.A. SEM 2 | C10: C.A. SEM | D10: 2 | E10: 80851 | F10: 74146 | G10: 63838 | H10: 65052 | I10: 43609 | J10: 40410 | K10: 38624 | L10: 32456
B11: =C11&" "&D11 -> DIF 2020 2 | C11: DIF 2020 | D11: 2 | E11: =(année21!E10-année20!E10)/année20!E10 -> 0.19166654 | F11: =(année21!F10-année20!F10)/année20!F10 -> 0.24548142 | G11: =(année21!G10-année20!G10)/année20!G10 -> 0.039165256 | H11: =(année21!H10-année20!H10)/année20!H10 -> 0.10082242 | I11: =(année21!I10-année20!I10)/année20!I10 -> -0.075473298 | J11: =(année21!J10-année20!J10)/année20!J10 -> #DIV/0! | K11: =(année21!K10-année20!K10)/année20!K10 -> 0.40948071 | L11: =(année21!L10-année20!L10)/année20!L10 -> #DIV/0!
B12: =C12&" "&D12 -> DIF SEM/PR 2 | C12: DIF SEM/PR | D12: 2 | E12: =IF(E3="","",(E10-E3)/E3) -> -0.32765359 | F12: =IF(F3="","",(F10-F3)/F3) -> -0.29193923 | G12: =IF(G3="","",(G10-G3)/G3) -> -0.37482985 | H12: =IF(H3="","",(H10-H3)/H3) -> -0.34540185 | I12: =IF(I3="","",(I10-I3)/I3) -> -0.35938831 | J12: =IF(J3="","",(J10-J3)/J3) -> -0.35966914 | K12: =IF(K3="","",(K10-K3)/K3) -> -0.36948643 | L12: =IF(L3="","",(L10-L3)/L3) -> -0.3874724
B13: =C13&" "&D13 -> CHIF. AFF M 2 | C13: CHIF. AFF M | D13: 2 | E13: 201103 | F13: 178862 | G13: 165952 | H13: 164429 | I13: 111683 | J13: 103518 | K13: 99882 | L13: 85443
B14: =C14&" "&D14 -> DIF 2020 2 | C14: DIF 2020 | D14: 2
B15: =C15&" "&D15 -> DIF AN/PR 2 | C15: DIF AN/PR | D15: 2
B16: =C16&" "&D16 -> CENTRALE 2 | C16: CENTRALE | D16: 2
B17: =C17&" "&D17 -> C.A. SEM 3 | C17: C.A. SEM | D17: 3 | E17: 83864 | F17: 75233 | G17: 67773 | H17: 63861 | I17: 46283 | J17: 38850 | K17: 41318 | L17: 31495
B18: =C18&" "&D18 -> DIF 2020 3 | C18: DIF 2020 | D18: 3 | E18: =(année21!E17-année20!E17)/année20!E17 -> 0.29309999 | F18: =(année21!F17-année20!F17)/année20!F17 -> 0.36457294 | G18: =(année21!G17-année20!G17)/année20!G17 -> 0.21966275 | H18: =(année21!H17-année20!H17)/année20!H17 -> 0.097173782 | I18: =(année21!I17-année20!I17)/année20!I17 -> #DIV/0! | J18: =(année21!J17-année20!J17)/année20!J17 -> #DIV/0! | K18: =(année21!K17-année20!K17)/année20!K17 -> 0.80129044 | L18: =(année21!L17-année20!L17)/année20!L17 -> #DIV/0!
B19: =C19&" "&D19 -> DIF SEM/PR 3 | C19: DIF SEM/PR | D19: 3 | E19: =IF(E10="","",(E17-E10)/E10) -> 0.037266082 | F19: =IF(F10="","",(F17-F10)/F10) -> 0.014660265 | G19: =IF(G10="","",(G17-G10)/G10) -> 0.061640402 | H19: =IF(H10="","",(H17-H10)/H10) -> -0.01830843 | I19: =IF(I10="","",(I17-I10)/I10) -> 0.061317618 | J19: =IF(J10="","",(J17-J10)/J10) -> -0.038604306 | K19: =IF(K10="","",(K17-K10)/K10) -> 0.069749379 | L19: =IF(L10="","",(L17-L10)/L10) -> -0.029609317
B20: =C20&" "&D20 -> CHIF. AFF M 3 | C20: CHIF. AFF M | D20: 3 | E20: 284967 | F20: 254095 | G20: 233725 | H20: 228290 | I20: 157966 | J20: 142368 | K20: 141200 | L20: 116937
B21: =C21&" "&D21 -> DIF 2020 3 | C21: DIF 2020 | D21: 3
B22: =C22&" "&D22 -> DIF AN/PR 3 | C22: DIF AN/PR | D22: 3
B23: =C23&" "&D23 -> CENTRALE 3 | C23: CENTRALE | D23: 3
B24: =C24&" "&D24 -> C.A. SEM 4 | C24: C.A. SEM | D24: 4 | E24: 91462 | F24: 81100 | G24: 73860 | H24: 73971 | I24: 55437 | J24: 43877 | K24: 39218 | L24: 36874
B25: =C25&" "&D25 -> DIF 2020 4 | C25: DIF 2020 | D25: 4 | E25: =(année21!E24-année20!E24)/année20!E24 -> 0.38671235 | F25: =(année21!F24-année20!F24)/année20!F24 -> 0.26168733 | G25: =(année21!G24-année20!G24)/année20!G24 -> 0.27320681 | H25: =(année21!H24-année20!H24)/année20!H24 -> 0.22373319 | I25: =(année21!I24-année20!I24)/année20!I24 -> 0.18640187 | J25: =(année21!J24-année20!J24)/année20!J24 -> #DIV/0! | K25: =(année21!K24-année20!K24)/année20!K24 -> 0.80072547 | L25: =(année21!L24-année20!L24)/année20!L24 -> #DIV/0!
B26: =C26&" "&D26 -> DIF SEM/PR 4 | C26: DIF SEM/PR | D26: 4 | E26: =IF(E17="","",(E24-E17)/E17) -> 0.090599065 | F26: =IF(F17="","",(F24-F17)/F17) -> 0.077984395 | G26: =IF(G17="","",(G24-G17)/G17) -> 0.089814528 | H26: =IF(H17="","",(H24-H17)/H17) -> 0.15831259 | I26: =IF(I17="","",(I24-I17)/I17) -> 0.1977832 | J26: =IF(J17="","",(J24-J17)/J17) -> 0.12939511 | K26: =IF(K17="","",(K24-K17)/K17) -> -0.050825306 | L26: =IF(L17="","",(L24-L17)/L17) -> 0.17078901
B27: =C27&" "&D27 -> CHIF. AFF M 4 | C27: CHIF. AFF M | D27: 4 | E27: 376429 | F27: 355195 | G27: 307585 | H27: 302261 | I27: 213403 | J27: 186245 | K27: 180418 | L27: 153811
B28: =C28&" "&D28 -> DIF 2020 4 | C28: DIF 2020 | D28: 4
B29: =C29&" "&D29 -> DIF AN/PR 4 | C29: DIF AN/PR | D29: 4
B30: =C30&" "&D30 -> CENTRALE 4 | C30: CENTRALE | D30: 4
B31: =C31&" "&D31 -> C.A. SEM 5 | C31: C.A. SEM | D31: 5 | E31: 98541 | F31: 94424 | G31: 85685 | H31: 87274 | I31: 67384 | J31: 59710 | K31: 52976 | L31: 45008
B32: =C32&" "&D32 -> DIF 2020 5 | C32: DIF 2020 | D32: 5 | E32: =(année21!E31-année20!E31)/année20!E31 -> 0.12474319 | F32: =(année21!F31-année20!F31)/année20!F31 -> 0.42608591 | G32: =(année21!G31-année20!G31)/année20!G31 -> 0.27316087 | H32: =(année21!H31-année20!H31)/année20!H31 -> 0.34707045 | I32: =(année21!I31-année20!I31)/année20!I31 -> 0.22627843 | J32: =(année21!J31-année20!J31)/année20!J31 -> #DIV/0! | K32: =(année21!K31-année20!K31)/année20!K31 -> 0.68907027 | L32: =(année21!L31-année20!L31)/année20!L31 -> #DIV/0!
B33: =C33&" "&D33 -> DIF SEM/PR 5 | C33: DIF SEM/PR | D33: 5 | E33: =IF(E24="","",(E31-E24)/E24) -> 0.077398264 | F33: =IF(F24="","",(F31-F24)/F24) -> 0.164291 | G33: =IF(G24="","",(G31-G24)/G24) -> 0.16010019 | H33: =IF(H24="","",(H31-H24)/H24) -> 0.17984075 | I33: =IF(I24="","",(I31-I24)/I24) -> 0.21550589 | J33: =IF(J24="","",(J31-J24)/J24) -> 0.36084965 | K33: =IF(K24="","",(K31-K24)/K24) -> 0.3508083 | L33: =IF(L24="","",(L31-L24)/L24) -> 0.22058903
B34: =C34&" "&D34 -> CHIF. AFF M 5 | C34: CHIF. AFF M | D34: 5 | E34: 474970 | F34: 429618 | G34: 393270 | H34: 389535 | I34: 280788 | J34: 245955 | K34: 233394 | L34: 198820
B35: =C35&" "&D35 -> DIF 2020 5 | C35: DIF 2020 | D35: 5
B36: =C36&" "&D36 -> DIF AN/PR 5 | C36: DIF AN/PR | D36: 5
B37: =C37&" "&D37 -> CENTRALE 5 | C37: CENTRALE | D37: 5
B38: =C38&" "&D38 -> C.A. SEM 6 | C38: C.A. SEM | D38: 6 | E38: =E41-E34 -> 99835 | F38: =F41-F34 -> 94599 | G38: =G41-G34 -> 85685 | H38: =H41-H34 -> 88281 | I38: =I41-I34 -> 61632 | J38: =J41-J34 -> 52063 | K38: =K41-K34 -> 49731 | L38: =L41-L34 -> 48607
B39: =C39&" "&D39 -> DIF 2020 6 | C39: DIF 2020 | D39: 6 | E39: =(année21!E38-année20!E38)/année20!E38 -> 0.37096442 | F39: =(année21!F38-année20!F38)/année20!F38 -> 0.54142836 | G39: =(année21!G38-année20!G38)/année20!G38 -> 0.33038847 | H39: =(année21!H38-année20!H38)/année20!H38 -> 0.35188815 | I39: =(année21!I38-année20!I38)/année20!I38 -> 0.13588529 | J39: =(année21!J38-année20!J38)/année20!J38 -> #DIV/0! | K39: =(année21!K38-année20!K38)/année20!K38 -> 0.73544807 | L39: =(année21!L38-année20!L38)/année20!L38 -> #DIV/0!
B40: =C40&" "&D40 -> DIF SEM/PR 6 | C40: DIF SEM/PR | D40: 6 | E40: =IF(E31="","",(E38-E31)/E31) -> 0.01313159 | F40: =IF(F31="","",(F38-F31)/F31) -> 0.0018533424 | G40: =IF(G31="","",(G38-G31)/G31) -> 0 | H40: =IF(H31="","",(H38-H31)/H31) -> 0.011538373 | I40: =IF(I31="","",(I38-I31)/I31) -> -0.08536151 | J40: =IF(J31="","",(J38-J31)/J31) -> -0.128069 | K40: =IF(K31="","",(K38-K31)/K31) -> -0.061254153 | L40: =IF(L31="","",(L38-L31)/L31) -> 0.079963562
B41: =C41&" "&D41 -> CHIF. AFF M 6 | C41: CHIF. AFF M | D41: 6 | E41: =E48-E45 -> 574805 | F41: =F48-F45 -> 524217 | G41: =G48-G45 -> 478955 | H41: =H48-H45 -> 477816 | I41: =I48-I45 -> 342420 | J41: =J48-J45 -> 298018 | K41: =K48-K45 -> 283125 | L41: =L48-L45 -> 247427
B42: =C42&" "&D42 -> DIF 2020 6 | C42: DIF 2020 | D42: 6
B43: =C43&" "&D43 -> DIF AN/PR 6 | C43: DIF AN/PR | D43: 6
B44: =C44&" "&D44 -> CENTRALE 6 | C44: CENTRALE | D44: 6
B45: =C45&" "&D45 -> C.A. SEM 7 | C45: C.A. SEM | D45: 7 | E45: 104778 | F45: 86679 | G45: 75652 | H45: 75824 | I45: 56647 | J45: 49206 | K45: 43107 | L45: 37560
B46: =C46&" "&D46 -> DIF 2020 7 | C46: DIF 2020 | D46: 7 | E46: =(année21!E45-année20!E45)/année20!E45 -> 0.58392163 | F46: =(année21!F45-année20!F45)/année20!F45 -> 0.56443345 | G46: =(année21!G45-année20!G45)/année20!G45 -> 0.24776513 | H46: =(année21!H45-année20!H45)/année20!H45 -> 0.24671566 | I46: =(année21!I45-année20!I45)/année20!I45 -> 0.060785379 | J46: =(année21!J45-année20!J45)/année20!J45 -> #DIV/0! | K46: =(année21!K45-année20!K45)/année20!K45 -> 0.65719668 | L46: =(année21!L45-année20!L45)/année20!L45 -> #DIV/0!
B47: =C47&" "&D47 -> DIF SEM/PR 7 | C47: DIF SEM/PR | D47: 7 | E47: =IF(E38="","",(E45-E38)/E38) -> 0.049511694 | F47: =IF(F38="","",(F45-F38)/F38) -> -0.083721815 | G47: =IF(G38="","",(G45-G38)/G38) -> -0.11709167 | H47: =IF(H38="","",(H45-H38)/H38) -> -0.14110624 | I47: =IF(I38="","",(I45-I38)/I38) -> -0.080883307 | J47: =IF(J38="","",(J45-J38)/J38) -> -0.054875824 | K47: =IF(K38="","",(K45-K38)/K38) -> -0.1331966 | L47: =IF(L38="","",(L45-L38)/L38) -> -0.22727179
B48: =C48&" "&D48 -> CHIF. AFF M 7 | C48: CHIF. AFF M | D48: 7 | E48: 679583 | F48: 610896 | G48: 554607 | H48: 553640 | I48: 399067 | J48: 347224 | K48: 326232 | L48: 284987
B49: =C49&" "&D49 -> DIF 2020 7 | C49: DIF 2020 | D49: 7
B50: =C50&" "&D50 -> DIF AN/PR 7 | C50: DIF AN/PR | D50: 7
B51: =C51&" "&D51 -> CENTRALE 7 | C51: CENTRALE | D51: 7
B52: =C52&" "&D52 -> C.A. SEM 8 | C52: C.A. SEM | D52: 8 | E52: 139043 | F52: 132370 | G52: 118124 | H52: 114616 | I52: 81114 | J52: 76600 | K52: 76931 | L52: 64602
B53: =C53&" "&D53 -> DIF 2020 8 | C53: DIF 2020 | D53: 8 | E53: =(année21!E52-année20!E52)/année20!E52 -> 0.5890447 | F53: =(année21!F52-année20!F52)/année20!F52 -> 0.69600759 | G53: =(année21!G52-année20!G52)/année20!G52 -> 0.5907885 | H53: =(année21!H52-année20!H52)/année20!H52 -> 0.46246108 | I53: =(année21!I52-année20!I52)/année20!I52 -> 0.097440199 | J53: =(année21!J52-année20!J52)/année20!J52 -> #DIV/0! | K53: =(année21!K52-année20!K52)/année20!K52 -> 1.1492108 | L53: =(année21!L52-année20!L52)/année20!L52 -> #DIV/0!
B54: =C54&" "&D54 -> DIF SEM/PR 8 | C54: DIF SEM/PR | D54: 8 | E54: =IF(E45="","",(E52-E45)/E45) -> 0.32702476 | F54: =IF(F45="","",(F52-F45)/F45) -> 0.52712883 | G54: =IF(G45="","",(G52-G45)/G45) -> 0.56141278 | H54: =IF(H45="","",(H52-H45)/H45) -> 0.51160582 | I54: =IF(I45="","",(I52-I45)/I45) -> 0.43192049 | J54: =IF(J45="","",(J52-J45)/J45) -> 0.55672073 | K54: =IF(K45="","",(K52-K45)/K45) -> 0.78465214 | L54: =IF(L45="","",(L52-L45)/L45) -> 0.71996805
B55: =C55&" "&D55 -> CHIF. AFF M 8 | C55: CHIF. AFF M | D55: 8 | E55: 818626 | F55: 743266 | G55: 672730 | H55: 668256 | I55: 480180 | J55: 423824 | K55: 403163 | L55: 349588
B56: =C56&" "&D56 -> DIF 2020 8 | C56: DIF 2020 | D56: 8
B57: =C57&" "&D57 -> DIF AN/PR 8 | C57: DIF AN/PR | D57: 8
B58: =C58&" "&D58 -> CENTRALE 8 | C58: CENTRALE | D58: 8
B59: =C59&" "&D59 -> C.A. SEM 9 | C59: C.A. SEM | D59: 9 | E59: 120506 | F59: 105929 | G59: 97189 | H59: 99514 | I59: 75823 | J59: 65786 | K59: 62251 | L59: 54611
B60: =C60&" "&D60 -> DIF 2020 9 | C60: DIF 2020 | D60: 9 | E60: =(année21!E59-année20!E59)/année20!E59 -> 0.47015909 | F60: =(année21!F59-année20!F59)/année20!F59 -> 0.4400745 | G60: =(année21!G59-année20!G59)/année20!G59 -> 0.29555967 | H60: =(année21!H59-année20!H59)/année20!H59 -> 0.27028338 | I60: =(année21!I59-année20!I59)/année20!I59 -> 0.18469735 | J60: =(année21!J59-année20!J59)/année20!J59 -> #DIV/0! | K60: =(année21!K59-année20!K59)/année20!K59 -> 1.0326193 | L60: =(année21!L59-année20!L59)/année20!L59 -> #DIV/0!
B61: =C61&" "&D61 -> DIF SEM/PR 9 | C61: DIF SEM/PR | D61: 9 | E61: =IF(E52="","",(E59-E52)/E52) -> -0.13331847 | F61: =IF(F52="","",(F59-F52)/F52) -> -0.1997507 | G61: =IF(G52="","",(G59-G52)/G52) -> -0.17722901 | H61: =IF(H52="","",(H59-H52)/H52) -> -0.13176171 | I61: =IF(I52="","",(I59-I52)/I52) -> -0.065229184 | J61: =IF(J52="","",(J59-J52)/J52) -> -0.14117493 | K61: =IF(K52="","",(K59-K52)/K52) -> -0.19082035 | L61: =IF(L52="","",(L59-L52)/L52) -> -0.15465465
B62: =C62&" "&D62 -> CHIF. AFF M 9 | C62: CHIF. AFF M | D62: 9 | E62: 939132 | F62: 849195 | G62: 769919 | H62: 767770 | I62: 556003 | J62: 489610 | K62: 465414 | L62: 404199
B63: =C63&" "&D63 -> DIF 2020 9 | C63: DIF 2020 | D63: 9
B64: =C64&" "&D64 -> DIF AN/PR 9 | C64: DIF AN/PR | D64: 9
B65: =C65&" "&D65 -> CENTRALE 9 | C65: CENTRALE | D65: 9
B66: =C66&" "&D66 -> C.A. SEM 10 | C66: C.A. SEM | D66: 10 | E66: 90887 | F66: 95258 | G66: 88446 | H66: 79552 | I66: 65671 | J66: 55154 | K66: 50872 | L66: 45935
B67: =C67&" "&D67 -> DIF 2020 10 | C67: DIF 2020 | D67: 10 | E67: =(année21!E66-année20!E66)/année20!E66 -> 0.036457977 | F67: =(année21!F66-année20!F66)/année20!F66 -> 0.305709 | G67: =(année21!G66-année20!G66)/année20!G66 -> 0.23552091 | H67: =(année21!H66-année20!H66)/année20!H66 -> 0.047743227 | I67: =(année21!I66-année20!I66)/année20!I66 -> 0.00086871704 | J67: =(année21!J66-année20!J66)/année20!J66 -> #DIV/0! | K67: =(année21!K66-année20!K66)/année20!K66 -> 0.30404245 | L67: =(année21!L66-année20!L66)/année20!L66 -> #DIV/0!
B68: =C68&" "&D68 -> DIF SEM/PR 10 | C68: DIF SEM/PR | D68: 10 | E68: =IF(E59="","",(E66-E59)/E59) -> -0.24578859 | F68: =IF(F59="","",(F66-F59)/F59) -> -0.10073729 | G68: =IF(G59="","",(G66-G59)/G59) -> -0.08995874 | H68: =IF(H59="","",(H66-H59)/H59) -> -0.20059489 | I68: =IF(I59="","",(I66-I59)/I59) -> -0.13389077 | J68: =IF(J59="","",(J66-J59)/J59) -> -0.16161493 | K68: =IF(K59="","",(K66-K59)/K59) -> -0.18279224 | L68: =IF(L59="","",(L66-L59)/L59) -> -0.15886909
B69: =C69&" "&D69 -> CHIF. AFF M 10 | C69: CHIF. AFF M | D69: 10 | E69: 1030019 | F69: 944453 | G69: 858365 | H69: 847321 | I69: 621674 | J69: 544764 | K69: 516286 | L69: 450134
B70: =C70&" "&D70 -> DIF 2020 10 | C70: DIF 2020 | D70: 10
B71: =C71&" "&D71 -> DIF AN/PR 10 | C71: DIF AN/PR | D71: 10
B72: =C72&" "&D72 -> CENTRALE 10 | C72: CENTRALE | D72: 10
B73: =C73&" "&D73 -> C.A. SEM 11 | C73: C.A. SEM | D73: 11 | E73: 110386 | F73: 112110 | G73: 98332 | H73: 94856 | I73: 75041 | J73: 76451 | K73: 53501 | L73: 50520
B74: =C74&" "&D74 -> DIF 2020 11 | C74: DIF 2020 | D74: 11 | E74: =(année21!E73-année20!E73)/année20!E73 -> 0.74107664 | F74: =(année21!F73-année20!F73)/année20!F73 -> 1.0111582 | G74: =(année21!G73-année20!G73)/année20!G73 -> 0.67962558 | H74: =(année21!H73-année20!H73)/année20!H73 -> 0.5628048 | I74: =(année21!I73-année20!I73)/année20!I73 -> 0.43210748 | J74: =(année21!J73-année20!J73)/année20!J73 -> #DIV/0! | K74: =(année21!K73-année20!K73)/année20!K73 -> 0.73400532 | L74: =(année21!L73-année20!L73)/année20!L73 -> #DIV/0!
B75: =C75&" "&D75 -> DIF SEM/PR 11 | C75: DIF SEM/PR | D75: 11 | E75: =IF(E66="","",(E73-E66)/E66) -> 0.21454113 | F75: =IF(F66="","",(F73-F66)/F66) -> 0.17690903 | G75: =IF(G66="","",(G73-G66)/G66) -> 0.11177442 | H75: =IF(H66="","",(H73-H66)/H66) -> 0.19237731 | I75: =IF(I66="","",(I73-I66)/I66) -> 0.14268094 | J75: =IF(J66="","",(J73-J66)/J66) -> 0.386137 | K75: =IF(K66="","",(K73-K66)/K66) -> 0.051678723 | L75: =IF(L66="","",(L73-L66)/L66) -> 0.099814956
B76: =C76&" "&D76 -> CHIF. AFF M 11 | C76: CHIF. AFF M | D76: 11 | E76: 1140405 | F76: 1056563 | G76: 956697 | H76: 942177 | I76: 696715 | J76: 621215 | K76: 569787 | L76: 500654
B77: =C77&" "&D77 -> DIF 2020 11 | C77: DIF 2020 | D77: 11
B78: =C78&" "&D78 -> DIF AN/PR 11 | C78: DIF AN/PR | D78: 11
B79: =C79&" "&D79 -> CENTRALE 11 | C79: CENTRALE | D79: 11
B80: =C80&" "&D80 -> C.A. SEM 12 | C80: C.A. SEM | D80: 12 | E80: 138177 | F80: 140684 | G80: 142614 | H80: 121368 | I80: 93585 | J80: 107231 | K80: 70053 | L80: 72540
B81: =C81&" "&D81 -> DIF 2020 12 | C81: DIF 2020 | D81: 12 | E81: =(année21!E80-année20!E80)/année20!E80 -> 0.34497158 | F81: =(année21!F80-année20!F80)/année20!F80 -> 0.31210595 | G81: =(année21!G80-année20!G80)/année20!G80 -> 0.60444159 | H81: =(année21!H80-année20!H80)/année20!H80 -> 0.59135668 | I81: =(année21!I80-année20!I80)/année20!I80 -> 0.18824515 | J81: =(année21!J80-année20!J80)/année20!J80 -> #DIV/0! | K81: =(année21!K80-année20!K80)/année20!K80 -> 1.0171327 | L81: =(année21!L80-année20!L80)/année20!L80 -> #DIV/0!
B82: =C82&" "&D82 -> DIF SEM/PR 12 | C82: DIF SEM/PR | D82: 12 | E82: =IF(E73="","",(E80-E73)/E73) -> 0.251762 | F82: =IF(F73="","",(F80-F73)/F73) -> 0.25487468 | G82: =IF(G73="","",(G80-G73)/G73) -> 0.45033153 | H82: =IF(H73="","",(H80-H73)/H73) -> 0.27949734 | I82: =IF(I73="","",(I80-I73)/I73) -> 0.24711824 | J82: =IF(J73="","",(J80-J73)/J73) -> 0.40261082 | K82: =IF(K73="","",(K80-K73)/K73) -> 0.30937739 | L82: =IF(L73="","",(L80-L73)/L73) -> 0.43586698
B83: =C83&" "&D83 -> CHIF. AFF M 12 | C83: CHIF. AFF M | D83: 12 | E83: 1278582 | F83: 1197248 | G83: 1099311 | H83: 1063545 | I83: 790300 | J83: 728445 | K83: 639840 | L83: 573194
B84: =C84&" "&D84 -> DIF 2020 12 | C84: DIF 2020 | D84: 12
B85: =C85&" "&D85 -> DIF AN/PR 12 | C85: DIF AN/PR | D85: 12
B86: =C86&" "&D86 -> CENTRALE 12 | C86: CENTRALE | D86: 12
B87: =C87&" "&D87 -> C.A. SEM 13 | C87: C.A. SEM | D87: 13 | E87: 167505 | F87: 153676 | G87: 170433 | H87: 157075 | I87: 113358 | J87: 119877 | K87: 90991 | L87: 79193
B88: =C88&" "&D88 -> DIF 2020 13 | C88: DIF 2020 | D88: 13 | E88: =(année21!E87-année20!E87)/année20!E87 -> 9.2437011 | F88: =(année21!F87-année20!F87)/année20!F87 -> 4.3609154 | G88: =(année21!G87-année20!G87)/année20!G87 -> 7.4535985 | H88: =(année21!H87-année20!H87)/année20!H87 -> 11.641851 | I88: =(année21!I87-année20!I87)/année20!I87 -> 5.8436368 | J88: =(année21!J87-année20!J87)/année20!J87 -> #DIV/0! | K88: =(année21!K87-année20!K87)/année20!K87 -> 11.296081 | L88: =(année21!L87-année20!L87)/année20!L87 -> #DIV/0!
B89: =C89&" "&D89 -> DIF SEM/PR 13 | C89: DIF SEM/PR | D89: 13 | E89: =IF(E80="","",(E87-E80)/E80) -> 0.21224951 | F89: =IF(F80="","",(F87-F80)/F80) -> 0.09234881 | G89: =IF(G80="","",(G87-G80)/G80) -> 0.195065 | H89: =IF(H80="","",(H87-H80)/H80) -> 0.2942044 | I89: =IF(I80="","",(I87-I80)/I80) -> 0.21128386 | J89: =IF(J80="","",(J87-J80)/J80) -> 0.11793231 | K89: =IF(K80="","",(K87-K80)/K80) -> 0.29888798 | L89: =IF(L80="","",(L87-L80)/L80) -> 0.091714916
B90: =C90&" "&D90 -> CHIF. AFF M 13 | C90: CHIF. AFF M | D90: 13 | E90: 1455206 | F90: 1350924 | G90: 1269744 | H90: 1220621 | I90: 903658 | J90: 848322 | K90: 730832 | L90: 852387
B91: =C91&" "&D91 -> DIF 2020 13 | C91: DIF 2020 | D91: 13
B92: =C92&" "&D92 -> DIF AN/PR 13 | C92: DIF AN/PR | D92: 13
B93: =C93&" "&D93 -> CENTRALE 13 | C93: CENTRALE | D93: 13
B94: =C94&" "&D94 -> C.A. SEM 14 | C94: C.A. SEM | D94: 14 | E94: 148270 | F94: 132795 | G94: 133429 | H94: 126269 | I94: 100840 | J94: 90804 | K94: 67868 | L94: 67236
B95: =C95&" "&D95 -> DIF 2020 14 | C95: DIF 2020 | D95: 14 | E95: =(année21!E94-année20!E94)/année20!E94 -> 6.4597505 | F95: =(année21!F94-année20!F94)/année20!F94 -> 4.6321571 | G95: =(année21!G94-année20!G94)/année20!G94 -> 6.417255 | H95: =(année21!H94-année20!H94)/année20!H94 -> 9.979913 | I95: =(année21!I94-année20!I94)/année20!I94 -> 4.9742876 | J95: =(année21!J94-année20!J94)/année20!J94 -> #DIV/0! | K95: =(année21!K94-année20!K94)/année20!K94 -> 6.625618 | L95: =(année21!L94-année20!L94)/année20!L94 -> #DIV/0!
B96: =C96&" "&D96 -> DIF SEM/PR 14 | C96: DIF SEM/PR | D96: 14 | E96: =IF(E87="","",(E94-E87)/E87) -> -0.11483239 | F96: =IF(F87="","",(F94-F87)/F87) -> -0.13587678 | G96: =IF(G87="","",(G94-G87)/G87) -> -0.21711758 | H96: =IF(H87="","",(H94-H87)/H87) -> -0.19612287 | I96: =IF(I87="","",(I94-I87)/I87) -> -0.11042891 | J96: =IF(J87="","",(J94-J87)/J87) -> -0.24252359 | K96: =IF(K87="","",(K94-K87)/K87) -> -0.25412403 | L96: =IF(L87="","",(L94-L87)/L87) -> -0.15098557
B97: =C97&" "&D97 -> CHIF. AFF M 14 | C97: CHIF. AFF M | D97: 14 | E97: 1607650 | F97: 1483719 | G97: 1403173 | H97: 1346890 | I97: 1004497 | J97: 941126 | K97: 798730 | L97: 719623
B98: =C98&" "&D98 -> DIF 2020 14 | C98: DIF 2020 | D98: 14
B99: =C99&" "&D99 -> DIF AN/PR 14 | C99: DIF AN/PR | D99: 14
B100: =C100&" "&D100 -> CENTRALE 14 | C100: CENTRALE | D100: 14
...

Sheet Feuil1
A2: Années | C2: Données € | E2: Sem | G2: sem&données | K2: A | L2: B | M2: C | N2: D | O2: E | P2: F | Q2: G | R2: H
A3: 2020 | C3: C.A. SEM | E3: 1 | G3: =C3&" "&E3 -> C.A. SEM 1 | I3: Chiffre semaine C.A. SEM | J3: =$A$3 -> 2020 | K3: =IF($A$3=2020,VLOOKUP($G$3,année20!$B$3:$L$380,4,FALSE),IF($A$3=2021,VLOOKUP($G$3,année21!$B$3:$L$380,4,FALSE),"")) -> 45820 | L3: =IF($A$3=2020,VLOOKUP($G$3,année20!$B$3:$L$380,5,FALSE),IF($A$3=2021,VLOOKUP($G$3,année21!$B$3:$L$380,5,FALSE),"")) -> 43862 | M3: =IF($A$3=2020,VLOOKUP($G$3,année20!$B$3:$L$380,6,FALSE),IF($A$3=2021,VLOOKUP($G$3,année21!$B$3:$L$380,6,FALSE),"")) -> 40291 | N3: =IF($A$3=2020,VLOOKUP($G$3,année20!$B$3:$L$380,7,FALSE),IF($A$3=2021,VLOOKUP($G$3,année21!$B$3:$L$380,7,FALSE),"")) -> 39188 | O3: =IF($A$3=2020,VLOOKUP($G$3,année20!$B$3:$L$380,8,FALSE),IF($A$3=2021,VLOOKUP($G$3,année21!$B$3:$L$380,8,FALSE),"")) -> 37765 | P3: =IF($A$3=2020,VLOOKUP($G$3,année20!$B$3:$L$380,9,FALSE),IF($A$3=2021,VLOOKUP($G$3,année21!$B$3:$L$380,9,FALSE),"")) -> 0 | Q3: =IF($A$3=2020,VLOOKUP($G$3,année20!$B$3:$L$380,10,FALSE),IF($A$3=2021,VLOOKUP($G$3,année21!$B$3:$L$380,10,FALSE),"")) -> 19196 | R3: =IF($A$3=2020,VLOOKUP($G$3,année20!$B$3:$L$380,11,FALSE),IF($A$3=2021,VLOOKUP($G$3,année21!$B$3:$L$380,11,FALSE),"")) -> 0
I5: Différence année précédente DIF 2020 | J5: =$A$3 -> 2020 | K5: =IF($C$3="DIF 2020",VLOOKUP($G$3,année21!$B$3:$L$380,4,FALSE),"") | L5: =IF($C$3="DIF 2020",VLOOKUP($G$3,année21!$B$3:$L$380,5,FALSE),"") | M5: =IF($C$3="DIF 2020",VLOOKUP($G$3,année21!$B$3:$L$380,6,FALSE),"") | N5: =IF($C$3="DIF 2020",VLOOKUP($G$3,année21!$B$3:$L$380,7,FALSE),"") | O5: =IF($C$3="DIF 2020",VLOOKUP($G$3,année21!$B$3:$L$380,8,FALSE),"") | P5: =IF($C$3="DIF 2020",VLOOKUP($G$3,année21!$B$3:$L$380,9,FALSE),"") | Q5: =IF($C$3="DIF 2020",VLOOKUP($G$3,année21!$B$3:$L$380,10,FALSE),"") | R5: =IF($C$3="DIF 2020",VLOOKUP($G$3,année21!$B$3:$L$380,11,FALSE),"")
I7: Différence semaine précédente DIF SEM/PR | J7: =$A$3 -> 2020 | K7: =IF($C$3="DIF SEM/PR",VLOOKUP($G$3,année21!$B$3:$L$380,4,FALSE),"") | L7: =IF($C$3="DIF SEM/PR",VLOOKUP($G$3,année21!$B$3:$L$380,5,FALSE),"") | M7: =IF($C$3="DIF SEM/PR",VLOOKUP($G$3,année21!$B$3:$L$380,6,FALSE),"") | N7: =IF($C$3="DIF SEM/PR",VLOOKUP($G$3,année21!$B$3:$L$380,7,FALSE),"") | O7: =IF($C$3="DIF SEMPR",VLOOKUP($G$3,année21!$B$3:$L$380,8,FALSE),"") | P7: =IF($C$3="DIF SEM/PR",VLOOKUP($G$3,année21!$B$3:$L$380,9,FALSE),"") | Q7: =IF($C$3="DIF SEM/PR",VLOOKUP($G$3,année21!$B$3:$L$380,10,FALSE),"") | R7: =IF($C$3="DIF SEM/PR",VLOOKUP($G$3,année21!$B$3:$L$380,11,FALSE),"")
I9: Chiffre d'affaire | J9: =$A$3 -> 2020
I11: Chiffre d'affaire année précedente
I13: Différence chiffre d'affaire entre année
I15: Centrale | J15: =$A$3 -> 2020

Sheet Listes
B4: semaines | D4: Données | E4: Années
B5: 1 | D5: C.A. SEM | E5: 2020
B6: 2 | D6: DIF 2020 | E6: 2021
B7: 3 | D7: DIF SEM/PR | E7: 2022
B8: 4 | D8: CHIF. AFF M | E8: 2023
B9: 5 | D9: DIF 2020 | E9: 2024
B10: 6 | D10: DIF AN/PR | E10: 2025
B11: 7 | D11: CENTRALE | E11: 2026
B12: 8 | E12: 2027
B13: 9 | E13: 2028
B14: 10 | E14: 2029
B15: 11 | E15: 2030
B16: 12
B17: 13
B18: 14
B19: 15
B20: 16
B21: 17
B22: 18
B23: 19
B24: 20
B25: 21
B26: 22
B27: 23
... B58: 54
