Workbook

Sheet 2021
A2: 2021 | B2: Dates/semaines | C2: Magasins | D2: Chiffres années | E2: Diffèrence année ant. | F2: chiffres semaines | G2: Dif sem année ant. | H2: Différence sem. ant. | I2: Colonne1 | J2: Colonne2
B3: 1 | C3: Gozée | F3: 120252
B4: 1 | C4: Naninne | F4: 104717
B5: 1 | C5: Gembloux | F5: 102113
B6: 1 | C6: Fleurus | F6: 99377
B7: 1 | C7: Eghezée | F7: 68074
B8: 1 | C8: Champion | F8: 63108
B9: 1 | C9: Charleroi | F9: 61258
B10: 1 | C10: Gosselies | F10: 52987
B11: 2 | C11: Gozée | D11: 201103 | F11: 80851 | H11: =IF(F3="","",(F11-F3)/F3) -> -0.32765359
B12: 2 | C12: Naninne | D12: 178862 | F12: 74146 | H12: =IF(F4="","",(F12-F4)/F4) -> -0.29193923
B13: 2 | C13: Gembloux | D13: 165952 | F13: 63838 | H13: =IF(F5="","",(F13-F5)/F5) -> -0.37482985
B14: 2 | C14: Fleurus | D14: 164429 | F14: 65052 | H14: =IF(F6="","",(F14-F6)/F6) -> -0.34540185
B15: 2 | C15: Eghezée | D15: 111683 | F15: 43609 | H15: =IF(F7="","",(F15-F7)/F7) -> -0.35938831
B16: 2 | C16: Champion | D16: 103518 | F16: 40410 | H16: =IF(F8="","",(F16-F8)/F8) -> -0.35966914
B17: 2 | C17: Charleroi | D17: 99882 | F17: 38624 | H17: =IF(F9="","",(F17-F9)/F9) -> -0.36948643
B18: 2 | C18: Gosselies | D18: 85443 | F18: 32456 | H18: =IF(F10="","",(F18-F10)/F10) -> -0.3874724
B19: 3 | C19: Gozée | D19: 284967 | F19: 83864 | H19: =IF(F11="","",(F19-F11)/F11) -> 0.037266082
B20: 3 | C20: Naninne | D20: 254095 | F20: 75233 | H20: =IF(F12="","",(F20-F12)/F12) -> 0.014660265
B21: 3 | C21: Gembloux | D21: 233725 | F21: 67773 | H21: =IF(F13="","",(F21-F13)/F13) -> 0.061640402
B22: 3 | C22: Fleurus | D22: 228290 | F22: 63861 | H22: =IF(F14="","",(F22-F14)/F14) -> -0.01830843
... B42: 5 | C42: Gosselies | D42: 198820 | F42: 45008 | H42: =IF(F34="","",(F42-F34)/F34) -> 0.22058903
B43: 6 | C43: Gozée | H43: =IF(F35="","",(F43-F35)/F35) -> -1
B44: 6 | C44: Naninne | H44: =IF(F36="","",(F44-F36)/F36) -> -1
B45: 6 | C45: Gembloux | H45: =IF(F37="","",(F45-F37)/F37) -> -1
B46: 6 | C46: Fleurus | H46: =IF(F38="","",(F46-F38)/F38) -> -1
B47: 6 | C47: Eghezée | H47: =IF(F39="","",(F47-F39)/F39) -> -1
B48: 6 | C48: Champion | H48: =IF(F40="","",(F48-F40)/F40) -> -1
B49: 6 | C49: Charleroi | H49: =IF(F41="","",(F49-F41)/F41) -> -1
B50: 6 | C50: Gosselies | H50: =IF(F42="","",(F50-F42)/F42) -> -1
B51: 7 | C51: Gozée | D51: 679583 | F51: 104778 | H51: =IF(F43="","",(F51-F43)/F43)
B52: 7 | C52: Naninne | D52: 610896 | F52: 86679 | H52: =IF(F44="","",(F52-F44)/F44)
B53: 7 | C53: Gembloux | D53: 554607 | F53: 75652 | H53: =IF(F45="","",(F53-F45)/F45)
B54: 7 | C54: Fleurus | D54: 553640 | F54: 75824 | H54: =IF(F46="","",(F54-F46)/F46)
B55: 7 | C55: Eghezée | D55: 399067 | F55: 56647 | H55: =IF(F47="","",(F55-F47)/F47)
B56: 7 | C56: Champion | D56: 347224 | F56: 49206 | H56: =IF(F48="","",(F56-F48)/F48)
B57: 7 | C57: Charleroi | D57: 326232 | F57: 43107 | H57: =IF(F49="","",(F57-F49)/F49)
B58: 7 | C58: Gosselies | D58: 284987 | F58: 37560 | H58: =IF(F50="","",(F58-F50)/F50)
B59: 8 | C59: Gozée | D59: 818626 | F59: 139043 | H59: =IF(F51="","",(F59-F51)/F51) -> 0.32702476
B60: 8 | C60: Naninne | D60: 743266 | F60: 132370 | H60: =IF(F52="","",(F60-F52)/F52) -> 0.52712883
...

Sheet année20
B2: données semaines | D2: Semaines | E2: A | F2: B | G2: C | H2: D | I2: E | J2: F | K2: G | L2: H
B3: =C3&" "&D3 -> C.A. SEM 1 | C3: C.A. SEM | D3: 1 | E3: 45820 | F3: 43862 | G3: 40291 | H3: 39188 | I3: 37765 | K3: 19196
B4: =C4&" "&D4 -> DIF 2019 1 | C4: DIF 2019 | D4: 1
B5: =C5&" "&D5 -> DIF SEM/PR 1 | C5: DIF SEM/PR | D5: 1
B6: =C6&" "&D6 -> CHIF. AFF M 1 | C6: CHIF. AFF M | D6: 1 | E6: 45820 | F6: 43862 | G6: 40291 | H6: 39188 | I6: 37765 | K6: 19196
B7: =C7&" "&D7 -> DIF 2019 1 | C7: DIF 2019 | D7: 1
B8: =C8&" "&D8 -> DIF AN/PR 1 | C8: DIF AN/PR | D8: 1
B9: =C9&" "&D9 -> CENTRALE 1 | C9: CENTRALE | D9: 1
B10: =C10&" "&D10 -> C.A. SEM 2 | C10: C.A. SEM | D10: 2 | E10: 67847 | F10: 59532 | G10: 61432 | H10: 59094 | I10: 47169 | K10: 27403
B11: =C11&" "&D11 -> DIF 2019 2 | C11: DIF 2019 | D11: 2
B12: =C12&" "&D12 -> DIF SEM/PR 2 | C12: DIF SEM/PR | D12: 2
B13: =C13&" "&D13 -> CHIF. AFF M 2 | C13: CHIF. AFF M | D13: 2 | E13: 113667 | F13: 103394 | G13: 101722 | H13: 98281 | I13: 84934 | K13: 46599
B14: =C14&" "&D14 -> DIF 2019 2 | C14: DIF 2019 | D14: 2
B15: =C15&" "&D15 -> DIF AN/PR 2 | C15: DIF AN/PR | D15: 2
B16: =C16&" "&D16 -> CENTRALE 2 | C16: CENTRALE | D16: 2
B17: =C17&" "&D17 -> C.A. SEM 3 | C17: C.A. SEM | D17: 3 | E17: 64855 | F17: 55133 | G17: 55567 | H17: 58205 | K17: 22938
B18: =C18&" "&D18 -> DIF 2019 3 | C18: DIF 2019 | D18: 3
B19: =C19&" "&D19 -> DIF SEM/PR 3 | C19: DIF SEM/PR | D19: 3
B20: =C20&" "&D20 -> CHIF. AFF M 3 | C20: CHIF. AFF M | D20: 3 | E20: 178523 | F20: 158527 | G20: 157289 | H20: 156486 | K20: 69538
B21: =C21&" "&D21 -> DIF 2019 3 | C21: DIF 2019 | D21: 3
B22: =C22&" "&D22 -> DIF AN/PR 3 | C22: DIF AN/PR | D22: 3
B23: =C23&" "&D23 -> CENTRALE 3 | C23: CENTRALE | D23: 3
B24: =C24&" "&D24 -> C.A. SEM 4 | C24: C.A. SEM | D24: 4 | E24: 65956 | F24: 64279 | G24: 58011 | H24: 60447 | I24: 46727 | K24: 21779
B25: =C25&" "&D25 -> DIF 2019 4 | C25: DIF 2019 | D25: 4
B26: =C26&" "&D26 -> DIF SEM/PR 4 | C26: DIF SEM/PR | D26: 4
B27: =C27&" "&D27 -> CHIF. AFF M 4 | C27: CHIF. AFF M | D27: 4 | E27: 244479 | F27: 222806 | G27: 215300 | H27: 216933 | I27: 177230 | K27: 91317
B28: =C28&" "&D28 -> DIF 2019 4 | C28: DIF 2019 | D28: 4
B29: =C29&" "&D29 -> DIF AN/PR 4 | C29: DIF AN/PR | D29: 4
B30: =C30&" "&D30 -> CENTRALE 4 | C30: CENTRALE | D30: 4
B31: =C31&" "&D31 -> C.A. SEM 5 | C31: C.A. SEM | D31: 5 | E31: 87612 | F31: 66212 | G31: 67301 | H31: 64788 | I31: 54950 | K31: 31364
B32: =C32&" "&D32 -> DIF 2019 5 | C32: DIF 2019 | D32: 5
B33: =C33&" "&D33 -> DIF SEM/PR 5 | C33: DIF SEM/PR | D33: 5
B34: =C34&" "&D34 -> CHIF. AFF M 5 | C34: CHIF. AFF M | D34: 5 | E34: 332091 | F34: 289018 | G34: 282601 | H34: 281721 | I34: 232180 | K34: 122680
B35: =C35&" "&D35 -> DIF 2019 5 | C35: DIF 2019 | D35: 5
B36: =C36&" "&D36 -> DIF AN/PR 5 | C36: DIF AN/PR | D36: 5
B37: =C37&" "&D37 -> CENTRALE 5 | C37: CENTRALE | D37: 5
B38: =C38&" "&D38 -> C.A. SEM 6 | C38: C.A. SEM | D38: 6 | E38: 72821 | F38: 61371 | G38: 64406 | H38: 65302 | I38: 54259 | K38: 28656
B39: =C39&" "&D39 -> DIF 2019 6 | C39: DIF 2019 | D39: 6
B40: =C40&" "&D40 -> DIF SEM/PR 6 | C40: DIF SEM/PR | D40: 6
B41: =C41&" "&D41 -> CHIF. AFF M 6 | C41: CHIF. AFF M | D41: 6 | E41: 404912 | F41: 350388 | G41: 347007 | H41: 347023 | I41: 286439 | K41: 151336
...

Sheet année21
O1: 1 | P1: 2 | Q1: 3 | R1: 4 | S1: 5 | T1: 6 | U1: 7 | V1: 8
B2: données semaines | C2: données | D2: Semaines | E2: A | F2: B | G2: C | H2: D | I2: E | J2: F | K2: G | L2: H
B3: =C3&" "&D3 -> C.A. SEM 1 | C3: C.A. SEM | D3: 1 | E3: 120252 | F3: 104717 | G3: 102113 | H3: 99377 | I3: 68074 | J3: 63108 | K3: 61258 | L3: 52987
B4: =C4&" "&D4 -> DIF 2020 1 | C4: DIF 2020 | D4: 1 | E4: =(année21!E3-année20!E3)/année20!E3 -> 1.6244435 | F4: =(année21!F3-année20!F3)/année20!F3 -> 1.3874196 | G4: =(année21!G3-année20!G3)/année20!G3 -> 1.5343873 | H4: =(année21!H3-année20!H3)/année20!H3 -> 1.5359038 | I4: =(année21!I3-année20!I3)/année20!I3 -> 0.80256852 | J4: =(année21!J3-année20!J3)/année20!J3 -> #DIV/0! | K4: =(année21!K3-année20!K3)/année20!K3 -> 2.1911857 | L4: =(année21!L3-année20!L3)/année20!L3 -> #DIV/0!
B5: =C5&" "&D5 -> DIF SEM/PR 1 | C5: DIF SEM/PR | D5: 1
B6: =C6&" "&D6 -> CHIF. AFF M 1 | C6: CHIF. AFF M | D6: 1 | E6: =E3 -> 120252 | F6: =F3 -> 104717 | G6: =G3 -> 102113 | H6: =H3 -> 99377 | I6: =I3 -> 68074 | J6: =J3 -> 63108 | K6: =K3 -> 61258 | L6: =L3 -> 52987
B7: =C7&" "&D7 -> DIF 2020 1 | C7: DIF 2020 | D7: 1 | E7: =année21!E3-année20!E6 -> 74432 | F7: =année21!F3-année20!F6 -> 60855 | G7: =année21!G3-année20!G6 -> 61822 | H7: =année21!H3-année20!H6 -> 60189 | I7: =année21!I3-année20!I6 -> 30309 | J7: =année21!J3-année20!J6 -> 63108 | K7: =année21!K3-année20!K6 -> 42062 | L7: =année21!L3-année20!L6 -> 52987
B8: =C8&" "&D8 -> DIF AN/PR 1 | C8: DIF AN/PR | D8: 1
B9: =C9&" "&D9 -> CENTRALE 1 | C9: CENTRALE | D9: 1
B10: =C10&" "&D10 -> C.A. SEM 2 | C10: C.A. SEM | D10: 2 | E10: 80851 | F10: 74146 | G10: 63838 | H10: 65052 | I10: 43609 | J10: 40410 | K10: 38624 | L10: 32456
B11: =C11&" "&D11 -> DIF 2020 2 | C11: DIF 2020 | D11: 2 | E11: =(année21!E10-année20!E10)/année20!E10 -> 0.19166654 | F11: =(année21!F10-année20!F10)/année20!F10 -> 0.24548142 | G11: =(année21!G10-année20!G10)/année20!G10 -> 0.039165256 | H11: =(année21!H10-année20!H10)/année20!H10 -> 0.10082242 | I11: =(année21!I10-année20!I10)/année20!I10 -> -0.075473298 | J11: =(année21!J10-année20!J10)/année20!J10 -> #DIV/0! | K11: =(année21!K10-année20!K10)/année20!K10 -> 0.40948071 | L11: =(année21!L10-année20!L10)/année20!L10 -> #DIV/0!
B12: =C12&" "&D12 -> DIF SEM/PR 2 | C12: DIF SEM/PR | D12: 2 | E12: =IF(E3="","",(E10-E3)/E3) -> -0.32765359 | F12: =IF(F3="","",(F10-F3)/F3) -> -0.29193923 | G12: =IF(G3="","",(G10-G3)/G3) -> -0.37482985 | H12: =IF(H3="","",(H10-H3)/H3) -> -0.34540185 | I12: =IF(I3="","",(I10-I3)/I3) -> -0.35938831 | J12: =IF(J3="","",(J10-J3)/J3) -> -0.35966914 | K12: =IF(K3="","",(K10-K3)/K3) -> -0.36948643 | L12: =IF(L3="","",(L10-L3)/L3) -> -0.3874724
B13: =C13&" "&D13 -> CHIF. AFF M 2 | C13: CHIF. AFF M | D13: 2 | E13: 201103 | F13: 178862 | G13: 165952 | H13: 164429 | I13: 111683 | J13: 103518 | K13: 99882 | L13: 85443
B14: =C14&" "&D14 -> DIF 2020 2 | C14: DIF 2020 | D14: 2
B15: =C15&" "&D15 -> DIF AN/PR 2 | C15: DIF AN/PR | D15: 2
B16: =C16&" "&D16 -> CENTRALE 2 | C16: CENTRALE | D16: 2
B17: =C17&" "&D17 -> C.A. SEM 3 | C17: C.A. SEM | D17: 3 | E17: 83864 | F17: 75233 | G17: 67773 | H17: 63861 | I17: 46283 | J17: 38850 | K17: 41318 | L17: 31495
B18: =C18&" "&D18 -> DIF 2020 3 | C18: DIF 2020 | D18: 3 | E18: =(année21!E17-année20!E17)/année20!E17 -> 0.29309999 | F18: =(année21!F17-année20!F17)/année20!F17 -> 0.36457294 | G18: =(année21!G17-année20!G17)/année20!G17 -> 0.21966275 | H18: =(année21!H17-année20!H17)/année20!H17 -> 0.097173782 | I18: =(année21!I17-année20!I17)/année20!I17 -> #DIV/0! | J18: =(année21!J17-année20!J17)/année20!J17 -> #DIV/0! | K18: =(année21!K17-année20!K17)/année20!K17 -> 0.80129044 | L18: =(année21!L17-année20!L17)/année20!L17 -> #DIV/0!
B19: =C19&" "&D19 -> DIF SEM/PR 3 | C19: DIF SEM/PR | D19: 3 | E19: =IF(E10="","",(E17-E10)/E10) -> 0.037266082 | F19: =IF(F10="","",(F17-F10)/F10) -> 0.014660265 | G19: =IF(G10="","",(G17-G10)/G10) -> 0.061640402 | H19: =IF(H10="","",(H17-H10)/H10) -> -0.01830843 | I19: =IF(I10="","",(I17-I10)/I10) -> 0.061317618 | J19: =IF(J10="","",(J17-J10)/J10) -> -0.038604306 | K19: =IF(K10="","",(K17-K10)/K10) -> 0.069749379 | L19: =IF(L10="","",(L17-L10)/L10) -> -0.029609317
B20: =C20&" "&D20 -> CHIF. AFF M 3 | C20: CHIF. AFF M | D20: 3 | E20: 284967 | F20: 254095 | G20: 233725 | H20: 228290 | I20: 157966 | J20: 142368 | K20: 141200 | L20: 116937
B21: =C21&" "&D21 -> DIF 2020 3 | C21: DIF 2020 | D21: 3
B22: =C22&" "&D22 -> DIF AN/PR 3 | C22: DIF AN/PR | D22: 3
B23: =C23&" "&D23 -> CENTRALE 3 | C23: CENTRALE | D23: 3
B24: =C24&" "&D24 -> C.A. SEM 4 | C24: C.A. SEM | D24: 4 | E24: 91462 | F24: 81100 | G24: 73860 | H24: 73971 | I24: 55437 | J24: 43877 | K24: 39218 | L24: 36874
B25: =C25&" "&D25 -> DIF 2020 4 | C25: DIF 2020 | D25: 4 | E25: =(année21!E24-année20!E24)/année20!E24 -> 0.38671235 | F25: =(année21!F24-année20!F24)/année20!F24 -> 0.26168733 | G25: =(année21!G24-année20!G24)/année20!G24 -> 0.27320681 | H25: =(année21!H24-année20!H24)/année20!H24 -> 0.22373319 | I25: =(année21!I24-année20!I24)/année20!I24 -> 0.18640187 | J25: =(année21!J24-année20!J24)/année20!J24 -> #DIV/0! | K25: =(année21!K24-année20!K24)/année20!K24 -> 0.80072547 | L25: =(année21!L24-année20!L24)/année20!L24 -> #DIV/0!
B26: =C26&" "&D26 -> DIF SEM/PR 4 | C26: DIF SEM/PR | D26: 4 | E26: =IF(E17="","",(E24-E17)/E17) -> 0.090599065 | F26: =IF(F17="","",(F24-F17)/F17) -> 0.077984395 | G26: =IF(G17="","",(G24-G17)/G17) -> 0.089814528 | H26: =IF(H17="","",(H24-H17)/H17) -> 0.15831259 | I26: =IF(I17="","",(I24-I17)/I17) -> 0.1977832 | J26: =IF(J17="","",(J24-J17)/J17) -> 0.12939511 | K26: =IF(K17="","",(K24-K17)/K17) -> -0.050825306 | L26: =IF(L17="","",(L24-L17)/L17) -> 0.17078901
B27: =C27&" "&D27 -> CHIF. AFF M 4 | C27: CHIF. AFF M | D27: 4 | E27: 376429 | F27: 355195 | G27: 307585 | H27: 302261 | I27: 213403 | J27: 186245 | K27: 180418 | L27: 153811
B28: =C28&" "&D28 -> DIF 2020 4 | C28: DIF 2020 | D28: 4
B29: =C29&" "&D29 -> DIF AN/PR 4 | C29: DIF AN/PR | D29: 4
B30: =C30&" "&D30 -> CENTRALE 4 | C30: CENTRALE | D30: 4
B31: =C31&" "&D31 -> C.A. SEM 5 | C31: C.A. SEM | D31: 5 | E31: 98541 | F31: 94424 | G31: 85685 | H31: 87274 | I31: 67384 | J31: 59710 | K31: 52976 | L31: 45008
B32: =C32&" "&D32 -> DIF 2020 5 | C32: DIF 2020 | D32: 5 | E32: =(année21!E31-année20!E31)/année20!E31 -> 0.12474319 | F32: =(année21!F31-année20!F31)/année20!F31 -> 0.42608591 | G32: =(année21!G31-année20!G31)/année20!G31 -> 0.27316087 | H32: =(année21!H31-année20!H31)/année20!H31 -> 0.34707045 | I32: =(année21!I31-année20!I31)/année20!I31 -> 0.22627843 | J32: =(année21!J31-année20!J31)/année20!J31 -> #DIV/0! | K32: =(année21!K31-année20!K31)/année20!K31 -> 0.68907027 | L32: =(année21!L31-année20!L31)/année20!L31 -> #DIV/0!
B33: =C33&" "&D33 -> DIF SEM/PR 5 | C33: DIF SEM/PR | D33: 5 | E33: =IF(E24="","",(E31-E24)/E24) -> 0.077398264 | F33: =IF(F24="","",(F31-F24)/F24) -> 0.164291 | G33: =IF(G24="","",(G31-G24)/G24) -> 0.16010019 | H33: =IF(H24="","",(H31-H24)/H24) -> 0.17984075 | I33: =IF(I24="","",(I31-I24)/I24) -> 0.21550589 | J33: =IF(J24="","",(J31-J24)/J24) -> 0.36084965 | K33: =IF(K24="","",(K31-K24)/K24) -> 0.3508083 | L33: =IF(L24="","",(L31-L24)/L24) -> 0.22058903
B34: =C34&" "&D34 -> CHIF. AFF M 5 | C34: CHIF. AFF M | D34: 5 | E34: 474970 | F34: 429618 | G34: 393270 | H34: 389535 | I34: 280788 | J34: 245955 | K34: 233394 | L34: 198820
B35: =C35&" "&D35 -> DIF 2020 5 | C35: DIF 2020 | D35: 5
B36: =C36&" "&D36 -> DIF AN/PR 5 | C36: DIF AN/PR | D36: 5
B37: =C37&" "&D37 -> CENTRALE 5 | C37: CENTRALE | D37: 5
B38: =C38&" "&D38 -> C.A. SEM 6 | C38: C.A. SEM | D38: 6 | E38: =E41-E34 -> 99835 | F38: =F41-F34 -> 94599 | G38: =G41-G34 -> 85685 | H38: =H41-H34 -> 88281 | I38: =I41-I34 -> 61632 | J38: =J41-J34 -> 52063 | K38: =K41-K34 -> 49731 | L38: =L41-L34 -> 48607
B39: =C39&" "&D39 -> DIF 2020 6 | C39: DIF 2020 | D39: 6 | E39: =(année21!E38-année20!E38)/année20!E38 -> 0.37096442 | F39: =(année21!F38-année20!F38)/année20!F38 -> 0.54142836 | G39: =(année21!G38-année20!G38)/année20!G38 -> 0.33038847 | H39: =(année21!H38-année20!H38)/année20!H38 -> 0.35188815 | I39: =(année21!I38-année20!I38)/année20!I38 -> 0.13588529 | J39: =(année21!J38-année20!J38)/année20!J38 -> #DIV/0! | K39: =(année21!K38-année20!K38)/année20!K38 -> 0.73544807 | L39: =(année21!L38-année20!L38)/année20!L38 -> #DIV/0!
B40: =C40&" "&D40 -> DIF SEM/PR 6 | C40: DIF SEM/PR | D40: 6 | E40: =IF(E31="","",(E38-E31)/E31) -> 0.01313159 | F40: =IF(F31="","",(F38-F31)/F31) -> 0.0018533424 | G40: =IF(G31="","",(G38-G31)/G31) -> 0 | H40: =IF(H31="","",(H38-H31)/H31) -> 0.011538373 | I40: =IF(I31="","",(I38-I31)/I31) -> -0.08536151 | J40: =IF(J31="","",(J38-J31)/J31) -> -0.128069 | K40: =IF(K31="","",(K38-K31)/K31) -> -0.061254153 | L40: =IF(L31="","",(L38-L31)/L31) -> 0.079963562
...

Sheet Feuil1
A2: Années | C2: Données € | E2: Sem | G2: sem&données | K2: A | L2: B | M2: C | N2: D | O2: E | P2: F | Q2: G | R2: H
A3: 2020 | C3: C.A. SEM | E3: 1 | G3: =C3&" "&E3 -> C.A. SEM 1 | I3: Chiffre semaine C.A. SEM | J3: =$A$3 -> 2020 | K3: =IF($A$3=2020,VLOOKUP($G$3,année20!$B$3:$L$380,4,FALSE),IF($A$3=2021,VLOOKUP($G$3,année21!$B$3:$L$380,4,FALSE),"")) -> 45820 | L3: =IF($A$3=2020,VLOOKUP($G$3,année20!$B$3:$L$380,5,FALSE),IF($A$3=2021,VLOOKUP($G$3,année21!$B$3:$L$380,5,FALSE),"")) -> 43862 | M3: =IF($A$3=2020,VLOOKUP($G$3,année20!$B$3:$L$380,6,FALSE),IF($A$3=2021,VLOOKUP($G$3,année21!$B$3:$L$380,6,FALSE),"")) -> 40291 | N3: =IF($A$3=2020,VLOOKUP($G$3,année20!$B$3:$L$380,7,FALSE),IF($A$3=2021,VLOOKUP($G$3,année21!$B$3:$L$380,7,FALSE),"")) -> 39188 | O3: =IF($A$3=2020,VLOOKUP($G$3,année20!$B$3:$L$380,8,FALSE),IF($A$3=2021,VLOOKUP($G$3,année21!$B$3:$L$380,8,FALSE),"")) -> 37765 | P3: =IF($A$3=2020,VLOOKUP($G$3,année20!$B$3:$L$380,9,FALSE),IF($A$3=2021,VLOOKUP($G$3,année21!$B$3:$L$380,9,FALSE),"")) -> 0 | Q3: =IF($A$3=2020,VLOOKUP($G$3,année20!$B$3:$L$380,10,FALSE),IF($A$3=2021,VLOOKUP($G$3,année21!$B$3:$L$380,10,FALSE),"")) -> 19196 | R3: =IF($A$3=2020,VLOOKUP($G$3,année20!$B$3:$L$380,11,FALSE),IF($A$3=2021,VLOOKUP($G$3,année21!$B$3:$L$380,11,FALSE),"")) -> 0
I5: Différence année précédente DIF 2020 | J5: =$A$3 -> 2020 | K5: =IF($C$3="DIF 2020",VLOOKUP($G$3,année21!$B$3:$L$380,4,FALSE),"") | L5: =IF($C$3="DIF 2020",VLOOKUP($G$3,année21!$B$3:$L$380,5,FALSE),"") | M5: =IF($C$3="DIF 2020",VLOOKUP($G$3,année21!$B$3:$L$380,6,FALSE),"") | N5: =IF($C$3="DIF 2020",VLOOKUP($G$3,année21!$B$3:$L$380,7,FALSE),"") | O5: =IF($C$3="DIF 2020",VLOOKUP($G$3,année21!$B$3:$L$380,8,FALSE),"") | P5: =IF($C$3="DIF 2020",VLOOKUP($G$3,année21!$B$3:$L$380,9,FALSE),"") | Q5: =IF($C$3="DIF 2020",VLOOKUP($G$3,année21!$B$3:$L$380,10,FALSE),"") | R5: =IF($C$3="DIF 2020",VLOOKUP($G$3,année21!$B$3:$L$380,11,FALSE),"")
I7: Différence semaine précédente DIF SEM/PR | J7: =$A$3 -> 2020 | K7: =IF($C$3="DIF SEM/PR",VLOOKUP($G$3,année21!$B$3:$L$380,4,FALSE),"") | L7: =IF($C$3="DIF SEM/PR",VLOOKUP($G$3,année21!$B$3:$L$380,5,FALSE),"") | M7: =IF($C$3="DIF SEM/PR",VLOOKUP($G$3,année21!$B$3:$L$380,6,FALSE),"") | N7: =IF($C$3="DIF SEM/PR",VLOOKUP($G$3,année21!$B$3:$L$380,7,FALSE),"") | O7: =IF($C$3="DIF SEMPR",VLOOKUP($G$3,année21!$B$3:$L$380,8,FALSE),"") | P7: =IF($C$3="DIF SEM/PR",VLOOKUP($G$3,année21!$B$3:$L$380,9,FALSE),"") | Q7: =IF($C$3="DIF SEM/PR",VLOOKUP($G$3,année21!$B$3:$L$380,10,FALSE),"") | R7: =IF($C$3="DIF SEM/PR",VLOOKUP($G$3,année21!$B$3:$L$380,11,FALSE),"")
I9: Chiffre d'affaire | J9: =$A$3 -> 2020
I11: Chiffre d'affaire année précedente
I13: Différence chiffre d'affaire entre année
I15: Centrale | J15: =$A$3 -> 2020

Sheet Listes
B4: semaines | D4: Données | E4: Années
B5: 1 | D5: C.A. SEM | E5: 2020
B6: 2 | D6: DIF 2020 | E6: 2021
B7: 3 | D7: DIF SEM/PR | E7: 2022
B8: 4 | D8: CHIF. AFF M | E8: 2023
B9: 5 | D9: DIF 2020 | E9: 2024
B10: 6 | D10: DIF AN/PR | E10: 2025
B11: 7 | D11: CENTRALE | E11: 2026
B12: 8 | E12: 2027
B13: 9 | E13: 2028
B14: 10 | E14: 2029
B15: 11 | E15: 2030
B16: 12
B17: 13
B18: 14
B19: 15
B20: 16
B21: 17
B22: 18
B23: 19
B24: 20
B25: 21
B26: 22
B27: 23
... B58: 54
