Workbook

Sheet Tableau 1
D1: mercredi | E1: jeudi | F1: vendredi | G1: samedi | H1: dimanche | I1: lundi | J1: mardi | K1: mercredi | L1: jeudi | M1: vendredi | N1: samedi | O1: dimanche | P1: lundi | Q1: mardi | R1: mercredi | S1: jeudi | T1: vendredi | U1: samedi | V1: dimanche | W1: lundi | X1: mardi | Y1: mercredi | Z1: jeudi | AA1: vendredi | AB1: samedi | AC1: dimanche | AD1: lundi | AE1: mardi | AF1: mercredi | AG1: jeudi | AH1: vendredi | AI1: H. SUPPL | AM1: Codes
A2: SERVICE | B2: Agents : | D2: 21 | E2: 22 | F2: 23 | G2: 24 | H2: 25 | I2: 26 | J2: 27 | K2: 28 | L2: 29 | M2: 30 | N2: 31 | O2: 1 | P2: 2 | Q2: 3 | R2: 4 | S2: 5 | T2: 6 | U2: 7 | V2: 8 | W2: 9 | X2: 10 | Y2: 11 | Z2: 12 | AA2: 13 | AB2: 14 | AC2: 15 | AD2: 16 | AE2: 17 | AF2: 18 | AG2: 19 | AH2: 20 | AI2: Norm | AJ2: DIM | AK2: Nuit | AL2: à payer | AM2: Montant | AN2: Code | AO2: Montant | AP2: Code
B3: Agent 1 | C3: HS Normales | D3: 2 | E3: 2 | F3: 2 | N3: 2 | W3: 2 | AI3: =SUM(D3:AH3) -> 10 | AL3: =IF(AJ7>25,25-AL4-AL5,AI3) -> 0 | AM3: =IF(AL3>14,14,AL3) -> 0 | AN3: 1900 | AO3: =AL3-AM3 -> 0 | AP3: 1910
B4: agent 1 | C4: HS Dimanche / Férié | O4: 5 | Y4: 1 | AC4: 5 | AJ4: =SUM(D4:AH4) -> 11 | AL4: =IF(SUM(D4:AH4,AK5)>=25,25-AK5,SUM(D4:AH4)) -> 9 | AM4: =IF(AJ4>14,14,AJ4) -> 11 | AN4: 1921 | AO4: =AJ4-AM4 -> 0 | AP4: 1925
B5: agent 1 | C5: HS Nuit | I5: 2 | J5: 2 | K5: 2 | R5: 2 | S5: 2 | T5: 2 | X5: 2 | AB5: 2 | AK5: =SUM(D5:AH5) -> 16 | AL5: =IF(SUM(D5:AH5)>=25,25,SUM(D5:AH5)) -> 16 | AM5: =IF(AK5>14,14,AK5) -> 14 | AN5: 1931 | AO5: =AK5-AM5 -> 2 | AP5: 1935
B6: agent 1 | AM6: Reliquat normales | AP6: =SUM(D3:AH3,-AL3) -> 10
B7: agent 1 | AI7: Total HS | AJ7: =SUM(AI3:AK5) -> 37 | AM7: Reliquats dimanche | AP7: =SUM(D4:AH4,-AL4) -> 2

Sheet Tableau 2
A1: Nom/Prenom | B1: Code | C1: Nombre
A2: Agent 1 | B2: 1900 | C2: =INDIRECT(CONCATENATE(ADDRESS(MATCH(A2,'Tableau 1'!B:B,0)+0,MATCH(B2,INDIRECT(CONCATENATE(ADDRESS(MATCH(A2,'Tableau 1'!B:B,0)+0,1,4,1,"Tableau 1"),":",ADDRESS(MATCH(A2,'Tableau 1'!B:B,0)+0,42,4,1,"Tableau 1")),1),0)-1,4,1,"Tableau 1")),1) -> #REF!
A3: Agent 1 | B3: 1910 | C3: =INDIRECT(CONCATENATE(ADDRESS(MATCH(A3,'Tableau 1'!B:B,0)+0,MATCH(B3,INDIRECT(CONCATENATE(ADDRESS(MATCH(A3,'Tableau 1'!B:B,0)+0,1,4,1,"Tableau 1"),":",ADDRESS(MATCH(A3,'Tableau 1'!B:B,0)+0,42,4,1,"Tableau 1")),1),0)-1,4,1,"Tableau 1")),1) -> #REF!
A4: Agent 1 | B4: 1921 | C4: =INDIRECT(CONCATENATE(ADDRESS(MATCH(A4,'Tableau 1'!B:B,0)+1,MATCH(B4,INDIRECT(CONCATENATE(ADDRESS(MATCH(A4,'Tableau 1'!B:B,0)+1,1,4,1,"Tableau 1"),":",ADDRESS(MATCH(A4,'Tableau 1'!B:B,0)+1,42,4,1,"Tableau 1")),1),0)-1,4,1,"Tableau 1")),1) -> #REF!
A5: Agent 1 | B5: 1925 | C5: =INDIRECT(CONCATENATE(ADDRESS(MATCH(A5,'Tableau 1'!B:B,0)+1,MATCH(B5,INDIRECT(CONCATENATE(ADDRESS(MATCH(A5,'Tableau 1'!B:B,0)+1,1,4,1,"Tableau 1"),":",ADDRESS(MATCH(A5,'Tableau 1'!B:B,0)+1,42,4,1,"Tableau 1")),1),0)-1,4,1,"Tableau 1")),1) -> #REF!
A6: Agent 1 | B6: 1931 | C6: =INDIRECT(CONCATENATE(ADDRESS(MATCH(A6,'Tableau 1'!B:B,0)+2,MATCH(B6,INDIRECT(CONCATENATE(ADDRESS(MATCH(A6,'Tableau 1'!B:B,0)+2,1,4,1,"Tableau 1"),":",ADDRESS(MATCH(A6,'Tableau 1'!B:B,0)+2,42,4,1,"Tableau 1")),1),0)-1,4,1,"Tableau 1")),1) -> #REF!
A7: Agent 1 | B7: 1935 | C7: =INDIRECT(CONCATENATE(ADDRESS(MATCH(A7,'Tableau 1'!B:B,0)+2,MATCH(B7,INDIRECT(CONCATENATE(ADDRESS(MATCH(A7,'Tableau 1'!B:B,0)+2,1,4,1,"Tableau 1"),":",ADDRESS(MATCH(A7,'Tableau 1'!B:B,0)+2,42,4,1,"Tableau 1")),1),0)-1,4,1,"Tableau 1")),1) -> #REF!
