Workbook
Name Annee: [1]Semainier!$R$7:$R$27
Name Férié: Calendrier!$BK$9:$BK$21

Sheet Calendrier
A2: 1er jour de l'année désirée | C2: PLANIFICATION VACANCES | F2: =BL9 -> Nouvel An | Q2: =BL10 -> Saint-Joseph | U2: =BL11 -> Vendredi Saint | V2: =BL12 -> Lundi de Pâques | X2: =BL14 -> Pentecôte | AA2: =BL13 -> Ascension | AD2: =BL15 -> Fête-Dieu | AJ2: =BL16 -> Fête Nationale | AL2: =BL17 -> Assomption | AW2: =BL18 -> Toussaint | BB2: =BL19 -> Imm. Concep. | BE2: =BL20 -> Noël | BF2: =BL21 -> Nouvel An
A3: 43466 | C3: =A3 -> 43466 | F3: =BK9 -> 43466 | Q3: =BK10 -> 43543 | U3: =BK11 -> 43574 | V3: =BK12 -> 43577 | X3: =BK14 -> 43592 | AA3: =BK13 -> 43615 | AD3: =BK15 -> 43639 | AJ3: =BK16 -> 43678 | AL3: =BK17 -> 43692 | AW3: =BK18 -> 43770 | BB3: =BK19 -> 43807 | BE3: =BK20 -> 43824 | BF3: =BK21 -> 43831
C4: Mois | D4: % | E4: Jours | F4: =MONTH(C3) -> 1 | J4: =F4+31 -> 32 | O4: =J4+30 -> 62 | S4: =O4+30 -> 92 | X4: =S4+30 -> 122 | AB4: =X4+33 -> 155 | AF4: =AB4+30 -> 185 | AK4: =AF4+31 -> 216 | AO4: =AK4+30 -> 246 | AT4: =AO4+31 -> 277 | AX4: =AT4+30 -> 307 | BB4: =AX4+30 -> 337 | BH4: Nombre de jours de vacances planifiés
C5: N° semaine | F5: =WEEKNUM(A3) -> 1 | G5: =F5+1 -> 2 | H5: =G5+1 -> 3 | I5: =H5+1 -> 4 | J5: =I5+1 -> 5 | K5: =J5+1 -> 6 | L5: =K5+1 -> 7 | M5: =L5+1 -> 8 | N5: =M5+1 -> 9 | ... BE5: =BD5+1 -> 52 | BF5: =BE5-51 -> 1
C6: du lundi | F6: =F7-6 -> 43465 | G6: =DATE(YEAR(C3),1,8)-WEEKDAY(DATE(YEAR(C3),1,6)) -> 43472 | H6: =G6+7 -> 43479 | I6: =H6+7 -> 43486 | J6: =I6+7 -> 43493 | K6: =J6+7 -> 43500 | L6: =K6+7 -> 43507 | M6: =L6+7 -> 43514 | N6: =M6+7 -> 43521 | O6: =N6+7 -> 43528 | ... BF6: =BE6+7 -> 43829
C7: au dimanche | F7: =G6-1 -> 43471 | G7: =G6+6 -> 43478 | H7: =G7+7 -> 43485 | I7: =H7+7 -> 43492 | J7: =I7+7 -> 43499 | K7: =J7+7 -> 43506 | L7: =K7+7 -> 43513 | M7: =L7+7 -> 43520 | N7: =M7+7 -> 43527 | O7: =N7+7 -> 43534 | ... BF7: =BE7+7 -> 43835
C8: Toto 1 | D8: 100 | E8: 25 | BH8: =IF(E8="","",COUNTIF(F8:BF8,"V")*5) -> 0 | BJ8: Sem. | BK8: =YEAR(C3) -> 2019 | GA8: Diserens Jean-Michel
C9: Toto 2 | D9: 100 | E9: 30 | BH9: =IF(E9="","",COUNTIF(F9:BF9,"V")*5) -> 0 | BK9: =DATE(BK8,1,1) -> 43466 | BL9: Nouvel An | GA9: Lehane Christian
C10: Toto 3 | D10: 100 | E10: 35 | BH10: =IF(E10="","",COUNTIF(F10:BF10,"V")*5) -> 0 | BJ10: =WEEKNUM(BK10) -> 12 | BK10: =DATE(BK8,3,19) -> 43543 | BL10: Saint-Joseph | GA10: Pillet François
C11: Toto 4 | D11: 100 | E11: 35 | BH11: =IF(E11="","",COUNTIF(F11:BF11,"V")*5) -> 0 | BJ11: =WEEKNUM(BK11) -> 16 | BK11: =BK12-3 -> 43574 | BL11: Vendredi Saint | BM11: -2 | GA11: Chambovey Noël
C12: Toto 5 | D12: 100 | E12: 25 | O12: M | BH12: =IF(E12="","",COUNTIF(F12:BF12,"V")*5) -> 0 | BJ12: =WEEKNUM(BK12) -> 17 | BK12: =ROUND(DATE(BK8,4,MOD(234-11*MOD(BK8,19),30))/7,0)*7-6+1 -> 43577 | BL12: Lundi de Pâques | BM12: +1 | GA12: Desponds Stéphane
C13: Toto 6 | D13: 100 | E13: 30 | O13: S | BH13: =IF(E13="","",COUNTIF(F13:BF13,"V")*5) -> 0 | BJ13: =WEEKNUM(BK13) -> 22 | BK13: =BK12+38 -> 43615 | BL13: Ascension | BM13: +39 | GA13: Gross Cédric
C14: Toto 7 | D14: 100 | E14: 25 | AV14: V | AW14: V | AX14: V | AY14: V | AZ14: V | BH14: =IF(E14="","",COUNTIF(F14:BF14,"V")*5) -> 25 | BJ14: =WEEKNUM(BK14) -> 19 | BK14: =BK10+49 -> 43592 | BL14: Pentecôte | BM14: +49 | GA14: Lambert Christophe
C15: Toto 8 | D15: 100 | E15: 25 | O15: A | R15: H | BH15: =IF(E15="","",COUNTIF(F15:BF15,"V")*5) -> 0 | BJ15: =WEEKNUM(BK15) -> 26 | BK15: =BK12+62 -> 43639 | BL15: Fête-Dieu | BM15: +63 | GA15: Giroud David
C16: Toto 9 | D16: 100 | E16: 30 | Q16: p | BH16: =IF(E16="","",COUNTIF(F16:BF16,"V")*5) -> 0 | BJ16: =WEEKNUM(BK16) -> 31 | BK16: =DATE(BK8,8,1) -> 43678 | BL16: Fête Nationale | GA16: Valencia Juan
C17: Toto 10 | D17: 100 | E17: 25 | O17: V | P17: V | Q17: V | R17: V | S17: V | U17: V | BH17: =IF(E17="","",COUNTIF(F17:BF17,"V")*5) -> 30 | BJ17: =WEEKNUM(BK17) -> 33 | BK17: =DATE(BK8,8,15) -> 43692 | BL17: Assomption | GA17: Bear Florian
C18: Toto 11 | D18: 100 | E18: 30 | O18: P | Q18: C | Z18: V | AA18: V | BH18: =IF(E18="","",COUNTIF(F18:BF18,"V")*5) -> 10 | BJ18: =WEEKNUM(BK18) -> 44 | BK18: =DATE(BK8,11,1) -> 43770 | BL18: Toussaint | GA18: Almeida Anne-Marie
C19: Toto 12 | D19: 70 | E19: 30 | P19: P | BH19: =IF(E19="","",COUNTIF(F19:BF19,"V")*5) -> 0 | BJ19: =WEEKNUM(BK19) -> 50 | BK19: =DATE(BK8,12,8) -> 43807 | BL19: Imm. Concep. | GA19: Perez Maria
C20: Toto 13 | D20: 60 | E20: 35 | Q20: S | X20: V | Y20: V | BH20: =IF(E20="","",COUNTIF(F20:BF20,"V")*5) -> 10 | BK20: =DATE(BK8,12,25) -> 43824 | BL20: Noël | GA20: Gillioz Marie-Hélène
C21: Toto 14 | D21: 60 | E21: 30 | P21: H | BH21: =IF(E21="","",COUNTIF(F21:BF21,"V")*5) -> 0 | BK21: =DATE(BK8+1,1,1) -> 43831 | BL21: Nouvel An | GA21: Leuba Larisa
C22: Toto 15 | D22: 60 | E22: 30 | R22: A | BH22: =IF(E22="","",COUNTIF(F22:BF22,"V")*5) -> 0 | GA22: Witschard Ginette
C23: Toto 16 | D23: 60 | E23: 30 | R23: C | W23: A | X23: B | BH23: =IF(E23="","",COUNTIF(F23:BF23,"V")*5) -> 0 | GA23: Mendes Maria
C24: Toto 17 | D24: 60 | E24: 30 | P24: R | R24: B | BH24: =IF(E24="","",COUNTIF(F24:BF24,"V")*5) -> 0 | GA24: Bourgeois Fabienne
BH25: =IF(E25="","",COUNTIF(F25:BF25,"V")*5)
BH26: =IF(E26="","",COUNTIF(F26:BF26,"V")*5)
BH27: =IF(E27="","",COUNTIF(F27:BF27,"V")*5)
BH28: =IF(E28="","",COUNTIF(F28:BF28,"V")*5)
BH29: =IF(E29="","",COUNTIF(F29:BF29,"V")*5)
E30: Total d'absences = | F30: =COUNTIF(F8:F29,"><") -> 0 | G30: =COUNTIF(G8:G29,"><") -> 0 | H30: =COUNTIF(H8:H29,"><") -> 0 | I30: =COUNTIF(I8:I29,"><") -> 0 | J30: =COUNTIF(J8:J29,"><") -> 0 | K30: =COUNTIF(K8:K29,"><") -> 0 | L30: =COUNTIF(L8:L29,"><") -> 0 | M30: =COUNTIF(M8:M29,"><") -> 0 | ... BF30: =COUNTIF(BF8:BF29,"><") -> 0
D32: V = vacances | I32: M = service militaire/PC | Q32: A = autres | V32: S = séances | AA32: C = congé copain | AG32: P = congé paternité | AN32: H = Heures suppl. | AT32: R = réserve | AY32: B = Assurance
F35: =COUNTIF(F8:F29,"*A faire*") -> 0 | P35: https://pgj.pagesperso-orange.fr/paques.htm

Sheet 3 semaines
A1: 1 | B1: Semaine
A2: =YEAR(Calendrier!C3) -> 2019 | B2: Année | C2: =A2 -> 2019
E7: =A1 -> 1 | L7: =A1+1 -> 2 | S7: =A1+2 -> 3
E8: ="Semaine"&" "&A1 -> Semaine 1 | L8: ="Semaine"&" "&A1+1 -> Semaine 2 | S8: ="Semaine"&" "&A1+2 -> Semaine 3
E9: =7*A1+DATE(A2,1,3)-WEEKDAY(DATE(A2,1,3))-5 -> 43465 | F9: =E9+1 -> 43466 | G9: =F9+1 -> 43467 | H9: =G9+1 -> 43468 | I9: =H9+1 -> 43469 | J9: =I9+1 -> 43470 | K9: =J9+1 -> 43471 | L9: =K9+1 -> 43472 | M9: =L9+1 -> 43473 | ... Y9: =X9+1 -> 43485
E10: =7*A1+DATE(A2,1,3)-WEEKDAY(DATE(A2,1,3))-5 -> 43465 | F10: =E10+1 -> 43466 | G10: =F10+1 -> 43467 | H10: =G10+1 -> 43468 | I10: =H10+1 -> 43469 | J10: =I10+1 -> 43470 | K10: =J10+1 -> 43471 | L10: =K10+1 -> 43472 | M10: =L10+1 -> 43473 | ... Y10: =X10+1 -> 43485
C11: =Calendrier!C8 -> Toto 1 | D11: =HLOOKUP($E$7,Calendrier!F5:BE5,E7) -> 1
C12: =Calendrier!C9 -> Toto 2 | D12: =HLOOKUP($E$7,Calendrier!F6:BE6,E8) -> #N/A
C13: =Calendrier!C10 -> Toto 3 | D13: =HLOOKUP($E$7,Calendrier!F7:BE7,E9) -> #N/A
C14: =Calendrier!C11 -> Toto 4 | D14: =HLOOKUP($E$7,Calendrier!F8:BE8,E10) -> #N/A
C15: =Calendrier!C12 -> Toto 5 | D15: =HLOOKUP($E$7,Calendrier!F9:BE9,E11) -> #N/A
C16: =Calendrier!C13 -> Toto 6 | D16: =HLOOKUP($E$7,Calendrier!F10:BE10,E12) -> #N/A
C17: =Calendrier!C14 -> Toto 7 | D17: =HLOOKUP($E$7,Calendrier!F11:BE11,E13) -> #N/A
C18: =Calendrier!C15 -> Toto 8 | D18: =HLOOKUP($E$7,Calendrier!F12:BE12,E14) -> #N/A
C19: =Calendrier!C16 -> Toto 9 | D19: =HLOOKUP($E$7,Calendrier!F13:BE13,E15) -> #N/A
C20: =Calendrier!C17 -> Toto 10
C21: =Calendrier!C18 -> Toto 11
C22: =Calendrier!C19 -> Toto 12
C23: =Calendrier!C20 -> Toto 13
C24: =Calendrier!C21 -> Toto 14
C25: =Calendrier!C22 -> Toto 15
C26: =Calendrier!C23 -> Toto 16
C27: =Calendrier!C24 -> Toto 17
C28: =Calendrier!C25 -> 0
C29: =Calendrier!C26 -> 0
C30: =Calendrier!C27 -> 0
C31: =Calendrier!C28 -> 0
C32: =Calendrier!C29 -> 0
