Workbook
Name Feuilles: RécapH!$H$3:$H$22
Name valuevx: 42.314159

Sheet RécapH
A2: Mois | B2: Nombre H Production | C2: Nombre H Préparation | D2: Numéro de chantier | E2: Nombre d'h /Chantier | H2: Feuilles | J2: Cette formule ne fonctionne pas…
A3: 44105 | B3: =SUMPRODUCT(SUMIF(INDIRECT(Feuilles&"!$F$7"),$A3,INDIRECT(Feuilles&"!$E$11:$E$22"))) -> #REF! | C3: 169 | D3: 541-00070 | E3: =IF(RécapH!$D$3:$D$29="","",SUMPRODUCT(SUMIF(INDIRECT([1]!#REF!),$D3,INDIRECT([1]!#REF!)))) -> #REF! | H3: S 49 | J3: SOMMEPROD(SOMME.SI(INDIRECT(Feuilles&"!$F$7");$A3;INDIRECT(Feuilles&"!$E$11:$E$22")))
A4: 44136 | B4: =SUMPRODUCT(SUMIF(INDIRECT(Feuilles&"!$F$7"),$A4,INDIRECT(Feuilles&"!E25"))) -> #REF! | C4: 110 | D4: 543-00066 | E4: =IF(RécapH!$D$3:$D$29="","",SUMPRODUCT(SUMIF(INDIRECT([1]!#REF!),$D4,INDIRECT([1]!#REF!)))) -> #REF! | H4: S 50
A5: 44166 | B5: =SUMPRODUCT(SUMIF(INDIRECT(Feuilles&"!$F$7"),$A5,INDIRECT(Feuilles&"!$E$11:$E$22"))) -> #REF! | C5: 131 | D5: 551-00062 | E5: =IF(RécapH!$D$3:$D$29="","",SUMPRODUCT(SUMIF(INDIRECT([1]!#REF!),$D5,INDIRECT([1]!#REF!)))) -> #REF! | H5: S 51
A6: 44197 | B6: ='S 01'!E24+'S 02'!E24+'[1]S 03'!E24+'[1]S 04'!E24 -> 215.5 | C6: 152 | E6: =IF(RécapH!$D$3:$D$29="","",SUMPRODUCT(SUMIF(INDIRECT([1]!#REF!),$D6,INDIRECT([1]!#REF!)))) | H6: S 52
A7: 44228 | B7: ='S 05'!E24+'S 06'!E24+'[1]S 07'!E24+'[1]S 08'!E24 -> 309 | C7: 152 | E7: =IF(RécapH!$D$3:$D$29="","",SUMPRODUCT(SUMIF(INDIRECT([1]!#REF!),$D7,INDIRECT([1]!#REF!)))) | H7: S 53
A8: 44256 | B8: ='[1]S 09'!E24+'[1]S 10'!E24+'[1]S 11'!E24+'[1]S 12'!E24+'[1]S 13(1)'!E24 -> 406 | C8: 139.5 | E8: =IF(RécapH!$D$3:$D$29="","",SUMPRODUCT(SUMIF(INDIRECT([1]!#REF!),$D8,INDIRECT([1]!#REF!)))) | H8: S 01
A9: 44287 | E9: =IF(RécapH!$D$3:$D$29="","",SUMPRODUCT(SUMIF(INDIRECT([1]!#REF!),$D9,INDIRECT([1]!#REF!)))) | H9: S 02
A10: 44317 | E10: =IF(RécapH!$D$3:$D$29="","",SUMPRODUCT(SUMIF(INDIRECT([1]!#REF!),$D10,INDIRECT([1]!#REF!)))) | H10: S 03
A11: 44348 | E11: =IF(RécapH!$D$3:$D$29="","",SUMPRODUCT(SUMIF(INDIRECT([1]!#REF!),$D11,INDIRECT([1]!#REF!)))) | H11: S 04
A12: 44378 | E12: =IF(RécapH!$D$3:$D$29="","",SUMPRODUCT(SUMIF(INDIRECT([1]!#REF!),$D12,INDIRECT([1]!#REF!)))) | H12: S 05
A13: 44409 | E13: =IF(RécapH!$D$3:$D$29="","",SUMPRODUCT(SUMIF(INDIRECT([1]!#REF!),$D13,INDIRECT([1]!#REF!)))) | H13: S 06
A14: 44440 | E14: =IF(RécapH!$D$3:$D$29="","",SUMPRODUCT(SUMIF(INDIRECT([1]!#REF!),$D14,INDIRECT([1]!#REF!)))) | H14: S 07
A15: 44470 | E15: =IF(RécapH!$D$3:$D$29="","",SUMPRODUCT(SUMIF(INDIRECT([1]!#REF!),$D15,INDIRECT([1]!#REF!)))) | H15: S 08
A16: 44501 | E16: =IF(RécapH!$D$3:$D$29="","",SUMPRODUCT(SUMIF(INDIRECT([1]!#REF!),$D16,INDIRECT([1]!#REF!)))) | H16: S 09
A17: 44531 | E17: =IF(RécapH!$D$3:$D$29="","",SUMPRODUCT(SUMIF(INDIRECT([1]!#REF!),$D17,INDIRECT([1]!#REF!)))) | H17: S 10
A18: 44562 | E18: =IF(RécapH!$D$3:$D$29="","",SUMPRODUCT(SUMIF(INDIRECT([1]!#REF!),$D18,INDIRECT([1]!#REF!)))) | H18: S 11
A19: 44593 | E19: =IF(RécapH!$D$3:$D$29="","",SUMPRODUCT(SUMIF(INDIRECT([1]!#REF!),$D19,INDIRECT([1]!#REF!)))) | H19: S 12
A20: 44621 | E20: =IF(RécapH!$D$3:$D$29="","",SUMPRODUCT(SUMIF(INDIRECT([1]!#REF!),$D20,INDIRECT([1]!#REF!)))) | H20: S 13(1)
... A29: 44896 | E29: =IF(RécapH!$D$3:$D$29="","",SUMPRODUCT(SUMIF(INDIRECT([1]!#REF!),$D29,INDIRECT([1]!#REF!)))) | H29: S 21
A30: TOTAL: | B30: =SUBTOTAL(9,RécapH!$B$3:$B$29) -> #REF! | C30: =SUBTOTAL(9,RécapH!$C$3:$C$29) -> 853.5 | H30: S 22
A31: SOUS TOTAL: | B31: =B30*45 -> #REF! | H31: S 23
H32: S 24
H33: S 25
H34: S 26
H35: S 27
H36: S 28
H37: S 29
H38: S 30
H39: S 31
H40: S 32
H41: S 33
H42: S 34
H43: S 35
... H59: S 51

Sheet S 49
H3: POINTAGE SEMAINIER
K5: SEMAINE N° : | M5: =MID(CELL("nomfichier",$A$1),FIND("]",CELL("nomfichier",$A$1))+1,100) -> #VALUE! | N5: /2020 | O5: 44166
H7: DU : 01/12/2020 AU 04/12/2020
A10: N° CHANTIER | B10: CODE AGENT | C10: CODE AGENCE | D10: NOM AGENT | E10: HEURES
F11: NUIT | G11: PREP TRAN
A12: 541-00070 | E12: 29.5
A24: TOTAL | E24: =SUM(E12:E23) -> 29.5 | F24: =SUM(F12:F23) -> 0 | G24: =SUM(G12:G23) -> 0

Sheet S 50
H3: POINTAGE SEMAINIER
K5: SEMAINE N° : | M5: =MID(CELL("nomfichier",$A$1),FIND("]",CELL("nomfichier",$A$1))+1,100) -> #VALUE! | N5: /2020 | O5: 44166
H7: DU : 07/12/2020 AU 11/12/2020
A10: N° CHANTIER | B10: CODE AGENT | C10: CODE AGENCE | D10: NOM AGENT | E10: HEURES
F11: NUIT | G11: PREP TRAN
A12: 541-00070 | E12: 38
A24: TOTAL | E24: =SUM(E12:E23) -> 38 | F24: =SUM(F12:F23) -> 0 | G24: =SUM(G12:G23) -> 0

Sheet S 01
H3: POINTAGE SEMAINIER
K5: SEMAINE N° : | M5: =MID(CELL("nomfichier",$A$1),FIND("]",CELL("nomfichier",$A$1))+1,100) -> #VALUE! | N5: /2021 | O5: 44197
H7: DU : 04/01/2021 AU 08/01/2021
A10: N° CHANTIER | B10: CODE AGENT | C10: CODE AGENCE | D10: NOM AGENT | E10: HEURES
F11: NUIT | G11: PREP TRAN
A12: 541-00070 | E12: 38
A13: 543-00066 | E13: 8.5
A14: 543-00066 | E14: 38
A24: TOTAL | E24: =SUM(E12:E23) -> 84.5 | F24: =SUM(F12:F23) -> 0 | G24: =SUM(G12:G23) -> 0 | I24: FERIE LE 01 JANVIER

Sheet S 02
H3: POINTAGE SEMAINIER
K5: SEMAINE N° : | M5: =MID(CELL("nomfichier",$A$1),FIND("]",CELL("nomfichier",$A$1))+1,100) -> #VALUE! | N5: /2021 | O5: 44197
H7: DU : 11/01/2021 AU 15/01/2021
A10: N° CHANTIER | B10: CODE AGENT | C10: CODE AGENCE | D10: NOM AGENT | E10: HEURES
F11: NUIT | G11: PREP TRAN
A12: 541-00070 | E12: 12.5
A13: 543-00066 | E13: 25.5
A24: TOTAL | E24: =SUM(E12:E23) -> 38 | F24: =SUM(F12:F23) -> 0 | G24: =SUM(G12:G23) -> 0

Sheet S 05
H3: POINTAGE SEMAINIER
K5: SEMAINE N° : | M5: =MID(CELL("nomfichier",$A$1),FIND("]",CELL("nomfichier",$A$1))+1,100) -> #VALUE! | N5: /2021 | O5: 44228
H7: DU : 01/02/2021 AU 05/02/2021
A10: N° CHANTIER | B10: CODE AGENT | C10: CODE AGENCE | D10: NOM AGENT | E10: HEURES
F11: NUIT | G11: PREP TRAN
A12: 543-00066 | E12: 38
A24: TOTAL | E24: =SUM(E12:E23) -> 38 | F24: =SUM(F12:F23) -> 0 | G24: =SUM(G12:G23) -> 0

Sheet S 06
H3: POINTAGE SEMAINIER
K5: SEMAINE N° : | M5: =MID(CELL("nomfichier",$A$1),FIND("]",CELL("nomfichier",$A$1))+1,100) -> #VALUE! | N5: /2021 | O5: 44228
H7: DU : 08/02/2021 AU 12/02/2021
A10: N° CHANTIER | B10: CODE AGENT | C10: CODE AGENCE | D10: NOM AGENT | E10: HEURES
F11: NUIT | G11: PREP TRAN
A12: 543-00066 | E12: 38
A13: 543-00066 | E13: 35
A24: TOTAL | E24: =SUM(E12:E23) -> 73 | F24: =SUM(F12:F23) -> 0 | G24: =SUM(G12:G23) -> 0
