Workbook

Sheet Liste BP
A1: N° Prix | B1: Libellé du Prix - Désignation des missions | G1: Période de travail | H1: Prix réèl | I1: Prix BP
A2: Modèle | B2: ModèleB ModèleB | G2: Modèle
A3: BP 51001.01 J | B3: Pose fil/câble H 07 cuivre de 1,5 à 16 mm² Le ml de pose de câble | G3: JOUR
A4: BP 51001.01 NW | B4: Pose fil/câble H 07 cuivre de 1,5 à 16 mm² Le ml de pose de câble | G4: NUIT / WEEK-END
A5: BP 51001.02 J | B5: Pose fil/câble H 07 de 25 à 50 mm² Le ml de pose de câble | G5: JOUR
A6: BP 51001.02 NW | B6: Pose fil/câble H 07 de 25 à 50 mm² Le ml de pose de câble | G6: NUIT / WEEK-END
A7: BP 51001.03 J | B7: Pose fil/câble H 07 de 70 à 95 mm² Le ml de pose de câble | G7: JOUR
A8: BP 51001.03 NW | B8: Pose fil/câble H 07 de 70 à 95 mm² Le ml de pose de câble | G8: NUIT / WEEK-END
A9: BP 51001.04 J | B9: Pose fil/câble H 07 de 120 à 185 mm² Le ml de pose de câble | G9: JOUR
A10: BP 51001.04 NW | B10: Pose fil/câble H 07 de 120 à 185 mm² Le ml de pose de câble | G10: NUIT / WEEK-END
A11: BP 51002 J | B11: Dépose fil/câble H 07 toute section Le ml de dépose de câble | G11: JOUR
A12: BP 51002 NW | B12: Dépose fil/câble H 07 toute section Le ml de dépose de câble | G12: NUIT / WEEK-END
A13: BP 51003.01 J | B13: Pose tout type de câble U1000 1,5 à 16 mm² Le ml de pose | G13: JOUR

Sheet Modèle
A1: Modèle
A2: ='Liste BP'!#REF! -> #REF! | B2: Désignation chantier | E2: N° de Prix | G2: Désignation du prix | L2: Date d'établissement
A3: ='Liste BP'!#REF! -> #REF! | E3: Modèle | G3: =IF(E3="","",VLOOKUP(E3,'Liste BP'!$A:$G,2,FALSE)) -> ModèleB ModèleB | L3: 44124
A4: ='Liste BP'!#REF! -> #REF! | E4: =IF(E3="","",VLOOKUP(E3,'Liste BP'!$A:$G,7,FALSE)) -> Modèle
A5: ='Liste BP'!#REF! -> #REF! | B5: Eléments de base du prix | E5: Décomposition du prix
A6: ='Liste BP'!#REF! -> #REF! | B6: Désignation | C6: unité | D6: Quantités ou durées d'utilisations élémentaires | E6: Matériel / Engin | G6: Mains-d'œuvre | I6: Fournitures | K6: TOTAL | L6: Sous-traitants
A7: ='Liste BP'!#REF! -> #REF! | E7: Prix Unitaire | F7: Total | G7: Prix Unitaire | H7: Total | I7: Prix Unitaire | J7: Total | L7: Prix Unitaire | M7: Total
A8: ='Liste BP'!A3 -> BP 51001.01 J | B8: Main d'œuvre
A9: ='Liste BP'!A4 -> BP 51001.01 NW | B9: OS | C9: =IF($E$4="NUIT / WEEK-END","h/n","h") -> h | E9: 0 | F9: =D9*E9 -> 0 | G9: =IF($C9="h","49.00€","85.40€") -> 49.00€ | H9: =D9*G9 -> 0 | K9: =F9+H9+J9 -> 0
A10: ='Liste BP'!A5 -> BP 51001.02 J | B10: OHQ | C10: =IF($E$4="NUIT / WEEK-END","h/n","h") -> h | E10: 0 | F10: =D10*E10 -> 0 | G10: =IF($C10="h","53.00€","92.20€") -> 53.00€ | H10: =D10*G10 -> 0 | K10: =F10+H10+J10 -> 0
A11: ='Liste BP'!A6 -> BP 51001.02 NW | B11: CHEF EQUIPE | C11: =IF($E$4="NUIT / WEEK-END","h/n","h") -> h | E11: 0 | F11: =D11*E11 -> 0 | G11: =IF($C11="h","59.00€","100.60€") -> 59.00€ | H11: =D11*G11 -> 0 | K11: =F11+H11+J11 -> 0
A12: ='Liste BP'!A7 -> BP 51001.03 J | B12: DESSINATEUR BE | C12: =IF($E$4="NUIT / WEEK-END","h/n","h") -> h | E12: 0 | F12: =D12*E12 -> 0 | G12: =IF($C12="h","63.00€","105.80€") -> 63.00€ | H12: =D12*G12 -> 0 | K12: =F12+H12+J12 -> 0
A13: ='Liste BP'!A8 -> BP 51001.03 NW | B13: Engin et véhicule
A14: ='Liste BP'!A9 -> BP 51001.04 J | B14: Camionnette chantier | C14: séance | E14: 56 | F14: =D14*E14 -> 0 | K14: =F14+H14+J14 -> 0 | L14: 0 | M14: =D14*L14 -> 0
A15: ='Liste BP'!A10 -> BP 51001.04 NW | B15: Camion grue | C15: séance | E15: 542 | F15: =D15*E15 -> 0 | K15: =F15+H15+J15 -> 0 | L15: 0 | M15: =D15*L15 -> 0
A16: ='Liste BP'!A11 -> BP 51002 J | B16: Mini-pelle | C16: séance | E16: 161 | F16: =D16*E16 -> 0 | K16: =F16+H16+J16 -> 0 | L16: 0 | M16: =D16*L16 -> 0
A17: ='Liste BP'!A12 -> BP 51002 NW | B17: Compacteuse | C17: séance | E17: 26 | F17: =D17*E17 -> 0 | K17: =F17+H17+J17 -> 0 | L17: 0 | M17: =D17*L17 -> 0
A18: ='Liste BP'!A13 -> BP 51003.01 J | B18: Pelle rail/route | C18: séance | E18: 550 | F18: =D18*E18 -> 0 | K18: =F18+H18+J18 -> 0 | L18: 0 | M18: =D18*L18 -> 0
A19: ='Liste BP'!#REF! -> #REF! | B19: Dumper rail/route | C19: séance | E19: 458 | F19: =D19*E19 -> 0 | K19: =F19+H19+J19 -> 0 | L19: 0 | M19: =D19*L19 -> 0
A20: ='Liste BP'!#REF! -> #REF! | B20: Remorque Lorry 18 T | C20: séance | E20: 425 | F20: =D20*E20 -> 0 | K20: =F20+H20+J20 -> 0 | L20: 0 | M20: =D20*L20 -> 0
A21: ='Liste BP'!#REF! -> #REF! | B21: Outillage électroportatif | C21: séance | E21: 24 | F21: =D21*E21 -> 0 | K21: =F21+H21+J21 -> 0 | L21: 0 | M21: =D21*L21 -> 0
A22: ='Liste BP'!#REF! -> #REF! | B22: Brouette à moteur | C22: séance | E22: 26 | F22: =D22*E22 -> 0 | K22: =F22+H22+J22 -> 0 | L22: 0 | M22: =D22*L22 -> 0
A23: ='Liste BP'!#REF! -> #REF! | B23: Fournitures, Frais de chantier, Prestations
A24: ='Liste BP'!#REF! -> #REF! | I24: 0 | J24: =D24*I24 -> 0 | K24: =F24+H24+J24 -> 0 | L24: 0 | M24: =D24*L24 -> 0
A25: ='Liste BP'!#REF! -> #REF! | I25: 0 | J25: =D25*I25 -> 0 | K25: =F25+H25+J25 -> 0 | L25: 0 | M25: =D25*L25 -> 0
A26: ='Liste BP'!#REF! -> #REF! | I26: 0 | J26: =D26*I26 -> 0 | K26: =F26+H26+J26 -> 0 | L26: 0 | M26: =D26*L26 -> 0
A27: ='Liste BP'!#REF! -> #REF! | I27: 0 | J27: =D27*I27 -> 0 | K27: =F27+H27+J27 -> 0 | L27: 0 | M27: =D27*L27 -> 0
A28: ='Liste BP'!#REF! -> #REF! | I28: 0 | J28: =D28*I28 -> 0 | K28: =F28+H28+J28 -> 0 | L28: 0 | M28: =D28*L28 -> 0
A29: ='Liste BP'!#REF! -> #REF! | I29: 0 | J29: =D29*I29 -> 0 | K29: =F29+H29+J29 -> 0 | L29: 0 | M29: =D29*L29 -> 0
A30: ='Liste BP'!#REF! -> #REF! | I30: 0 | J30: =D30*I30 -> 0 | K30: =F30+H30+J30 -> 0 | L30: 0 | M30: =D30*L30 -> 0
A31: ='Liste BP'!#REF! -> #REF! | I31: 0 | J31: =D31*I31 -> 0 | K31: =F31+H31+J31 -> 0 | L31: 0 | M31: =D31*L31 -> 0
A32: ='Liste BP'!#REF! -> #REF! | B32: DEBOURSES | F32: =SUM(F14:F22) -> 0 | H32: =SUM(H9:H12) -> 0 | J32: =SUM(J24:J31) -> 0 | K32: =SUM(E32:J32) -> 0 | M32: =SUM(M14:M31) -> 0
A33: ='Liste BP'!#REF! -> #REF! | K33: TOTAL T4 | L33: =M32 -> 0
A34: ='Liste BP'!#REF! -> #REF! | D34: Total 1 :(T1) = | F34: =K32 -> 0 | K34: K4 : Frais de sous-traitance
A35: ='Liste BP'!#REF! -> #REF! | L35: 25 | M35: %
A36: ='Liste BP'!#REF! -> #REF! | D36: K1 Frais généraux de siège : | F36: 11 | G36: % du total 1 | K36: TOTAL 5 : (T5) = T4(1+K4/100) :
A37: ='Liste BP'!#REF! -> #REF! | D37: K2 Frais généraux de chantier : | F37: 12 | G37: % du total 1 | K37: =L33*(1+L35/100) -> 0
A38: ='Liste BP'!#REF! -> #REF! | D38: K3 aléas et bénéfice | F38: 5 | G38: % du total 2
A39: ='Liste BP'!#REF! -> #REF! | K39: TOTAL GENERAL : (T3+T5)
A40: ='Liste BP'!#REF! -> #REF! | D40: Total 2 (T2) = T1 (1+K1/100 + K2/100)= | G40: =F34*(1+F36/100+F37/100) -> 0 | K40: =K37+G41 -> 0
A41: ='Liste BP'!#REF! -> #REF! | D41: Total 3 (T3) = T2(1+ K3/100)= | G41: =G40*(1+F38/100) -> 0 | K41: Arrondi à
A42: ='Liste BP'!#REF! -> #REF! | K42: =ROUNDDOWN(K40,0) -> 0
A43: ='Liste BP'!#REF! -> #REF!
A44: ='Liste BP'!#REF! -> #REF!
A45: ='Liste BP'!#REF! -> #REF!
A46: ='Liste BP'!#REF! -> #REF!
A47: ='Liste BP'!#REF! -> #REF!
A48: ='Liste BP'!#REF! -> #REF!
A49: ='Liste BP'!#REF! -> #REF!
A50: ='Liste BP'!#REF! -> #REF!
A51: ='Liste BP'!#REF! -> #REF!
A52: ='Liste BP'!#REF! -> #REF!
A53: ='Liste BP'!#REF! -> #REF!
A54: ='Liste BP'!#REF! -> #REF!
... A226: ='Liste BP'!#REF! -> #REF!

Sheet BP 51001.01 J
A1: Modèle
A2: ='Liste BP'!#REF! -> #REF! | B2: Désignation chantier | E2: N° de Prix | G2: Désignation du prix | L2: Date d'établissement
A3: ='Liste BP'!#REF! -> #REF! | E3: BP 51001.01 J | G3: =IF(E3="","",VLOOKUP(E3,'Liste BP'!$A:$G,2,FALSE)) -> Pose fil/câble H 07 cuivre de 1,5 à 16 mm² Le ml de pose de câble | L3: 44124
A4: ='Liste BP'!#REF! -> #REF! | E4: =IF(E3="","",VLOOKUP(E3,'Liste BP'!$A:$G,7,FALSE)) -> JOUR
A5: ='Liste BP'!#REF! -> #REF! | B5: Eléments de base du prix | E5: Décomposition du prix
A6: ='Liste BP'!#REF! -> #REF! | B6: Désignation | C6: unité | D6: Quantités ou durées d'utilisations élémentaires | E6: Matériel / Engin | G6: Mains-d'œuvre | I6: Fournitures | K6: TOTAL | L6: Sous-traitants
A7: ='Liste BP'!#REF! -> #REF! | E7: Prix Unitaire | F7: Total | G7: Prix Unitaire | H7: Total | I7: Prix Unitaire | J7: Total | L7: Prix Unitaire | M7: Total
A8: ='Liste BP'!A3 -> BP 51001.01 J | B8: Main d'œuvre
A9: ='Liste BP'!A4 -> BP 51001.01 NW | B9: OS | C9: =IF($E$4="NUIT / WEEK-END","h/n","h") -> h | D9: 0.02 | E9: 0 | F9: =D9*E9 -> 0 | G9: =IF($C9="h","49.00€","85.40€") -> 49.00€ | H9: =D9*G9 -> 0.98 | K9: =F9+H9+J9 -> 0.98
A10: ='Liste BP'!A5 -> BP 51001.02 J | B10: OHQ | C10: =IF($E$4="NUIT / WEEK-END","h/n","h") -> h | D10: 0.008 | E10: 0 | F10: =D10*E10 -> 0 | G10: =IF($C10="h","53.00€","92.20€") -> 53.00€ | H10: =D10*G10 -> 0.424 | K10: =F10+H10+J10 -> 0.424
A11: ='Liste BP'!A6 -> BP 51001.02 NW | B11: CHEF EQUIPE | C11: =IF($E$4="NUIT / WEEK-END","h/n","h") -> h | D11: 0.002 | E11: 0 | F11: =D11*E11 -> 0 | G11: =IF($C11="h","59.00€","100.60€") -> 59.00€ | H11: =D11*G11 -> 0.118 | K11: =F11+H11+J11 -> 0.118
A12: ='Liste BP'!A7 -> BP 51001.03 J | B12: DESSINATEUR BE | C12: =IF($E$4="NUIT / WEEK-END","h/n","h") -> h | E12: 0 | F12: =D12*E12 -> 0 | G12: =IF($C12="h","63.00€","105.80€") -> 63.00€ | H12: =D12*G12 -> 0 | K12: =F12+H12+J12 -> 0
A13: ='Liste BP'!A8 -> BP 51001.03 NW | B13: Engin et véhicule
A14: ='Liste BP'!A9 -> BP 51001.04 J | B14: Camionnette chantier | C14: séance | D14: 0.002 | E14: 56 | F14: =D14*E14 -> 0.112 | K14: =F14+H14+J14 -> 0.112 | L14: 0 | M14: =D14*L14 -> 0
A15: ='Liste BP'!A10 -> BP 51001.04 NW | B15: Camion grue | C15: séance | E15: 542 | F15: =D15*E15 -> 0 | K15: =F15+H15+J15 -> 0 | L15: 0 | M15: =D15*L15 -> 0
A16: ='Liste BP'!A11 -> BP 51002 J | B16: Mini-pelle | C16: séance | E16: 161 | F16: =D16*E16 -> 0 | K16: =F16+H16+J16 -> 0 | L16: 0 | M16: =D16*L16 -> 0
A17: ='Liste BP'!A12 -> BP 51002 NW | B17: Compacteuse | C17: séance | E17: 26 | F17: =D17*E17 -> 0 | K17: =F17+H17+J17 -> 0 | L17: 0 | M17: =D17*L17 -> 0
A18: ='Liste BP'!A13 -> BP 51003.01 J | B18: Pelle rail/route | C18: séance | E18: 550 | F18: =D18*E18 -> 0 | K18: =F18+H18+J18 -> 0 | L18: 0 | M18: =D18*L18 -> 0
A19: ='Liste BP'!#REF! -> #REF! | B19: Dumper rail/route | C19: séance | E19: 458 | F19: =D19*E19 -> 0 | K19: =F19+H19+J19 -> 0 | L19: 0 | M19: =D19*L19 -> 0
A20: ='Liste BP'!#REF! -> #REF! | B20: Remorque Lorry 18 T | C20: séance | E20: 425 | F20: =D20*E20 -> 0 | K20: =F20+H20+J20 -> 0 | L20: 0 | M20: =D20*L20 -> 0
A21: ='Liste BP'!#REF! -> #REF! | B21: Outillage électroportatif | C21: séance | E21: 24 | F21: =D21*E21 -> 0 | K21: =F21+H21+J21 -> 0 | L21: 0 | M21: =D21*L21 -> 0
A22: ='Liste BP'!#REF! -> #REF! | B22: Brouette à moteur | C22: séance | E22: 26 | F22: =D22*E22 -> 0 | K22: =F22+H22+J22 -> 0 | L22: 0 | M22: =D22*L22 -> 0
A23: ='Liste BP'!#REF! -> #REF! | B23: Fournitures, Frais de chantier, Prestations
A24: ='Liste BP'!#REF! -> #REF! | I24: 0 | J24: =D24*I24 -> 0 | K24: =F24+H24+J24 -> 0 | L24: 0 | M24: =D24*L24 -> 0
A25: ='Liste BP'!#REF! -> #REF! | I25: 0 | J25: =D25*I25 -> 0 | K25: =F25+H25+J25 -> 0 | L25: 0 | M25: =D25*L25 -> 0
A26: ='Liste BP'!#REF! -> #REF! | I26: 0 | J26: =D26*I26 -> 0 | K26: =F26+H26+J26 -> 0 | L26: 0 | M26: =D26*L26 -> 0
A27: ='Liste BP'!#REF! -> #REF! | I27: 0 | J27: =D27*I27 -> 0 | K27: =F27+H27+J27 -> 0 | L27: 0 | M27: =D27*L27 -> 0
A28: ='Liste BP'!#REF! -> #REF! | I28: 0 | J28: =D28*I28 -> 0 | K28: =F28+H28+J28 -> 0 | L28: 0 | M28: =D28*L28 -> 0
A29: ='Liste BP'!#REF! -> #REF! | I29: 0 | J29: =D29*I29 -> 0 | K29: =F29+H29+J29 -> 0 | L29: 0 | M29: =D29*L29 -> 0
A30: ='Liste BP'!#REF! -> #REF! | I30: 0 | J30: =D30*I30 -> 0 | K30: =F30+H30+J30 -> 0 | L30: 0 | M30: =D30*L30 -> 0
A31: ='Liste BP'!#REF! -> #REF! | I31: 0 | J31: =D31*I31 -> 0 | K31: =F31+H31+J31 -> 0 | L31: 0 | M31: =D31*L31 -> 0
A32: ='Liste BP'!#REF! -> #REF! | B32: DEBOURSES | F32: =SUM(F14:F22) -> 0.112 | H32: =SUM(H9:H12) -> 1.522 | J32: =SUM(J24:J31) -> 0 | K32: =SUM(E32:J32) -> 1.634 | M32: =SUM(M14:M31) -> 0
A33: ='Liste BP'!#REF! -> #REF! | K33: TOTAL T4 | L33: =M32 -> 0
A34: ='Liste BP'!#REF! -> #REF! | D34: Total 1 :(T1) = | F34: =K32 -> 1.634 | K34: K4 : Frais de sous-traitance
A35: ='Liste BP'!#REF! -> #REF! | L35: 25 | M35: %
A36: ='Liste BP'!#REF! -> #REF! | D36: K1 Frais généraux de siège : | F36: 11 | G36: % du total 1 | K36: TOTAL 5 : (T5) = T4(1+K4/100) :
A37: ='Liste BP'!#REF! -> #REF! | D37: K2 Frais généraux de chantier : | F37: 12 | G37: % du total 1 | K37: =L33*(1+L35/100) -> 0
A38: ='Liste BP'!#REF! -> #REF! | D38: K3 aléas et bénéfice | F38: 5 | G38: % du total 2
A39: ='Liste BP'!#REF! -> #REF! | K39: TOTAL GENERAL : (T3+T5)
A40: ='Liste BP'!#REF! -> #REF! | D40: Total 2 (T2) = T1 (1+K1/100 + K2/100)= | G40: =F34*(1+F36/100+F37/100) -> 2.00982 | K40: =K37+G41 -> 2.110311
A41: ='Liste BP'!#REF! -> #REF! | D41: Total 3 (T3) = T2(1+ K3/100)= | G41: =G40*(1+F38/100) -> 2.110311 | K41: Arrondi à
A42: ='Liste BP'!#REF! -> #REF! | K42: =ROUNDDOWN(K40,1) -> 2.1
A43: ='Liste BP'!#REF! -> #REF!
A44: ='Liste BP'!#REF! -> #REF!
A45: ='Liste BP'!#REF! -> #REF!
A46: ='Liste BP'!#REF! -> #REF!
A47: ='Liste BP'!#REF! -> #REF!
A48: ='Liste BP'!#REF! -> #REF!
A49: ='Liste BP'!#REF! -> #REF!
A50: ='Liste BP'!#REF! -> #REF!
A51: ='Liste BP'!#REF! -> #REF!
A52: ='Liste BP'!#REF! -> #REF!
A53: ='Liste BP'!#REF! -> #REF!
A54: ='Liste BP'!#REF! -> #REF!
... A226: ='Liste BP'!#REF! -> #REF!

Sheet BP 51001.01 NW
A1: Modèle
A2: ='Liste BP'!#REF! -> #REF! | B2: Désignation chantier | E2: N° de Prix | G2: Désignation du prix | L2: Date d'établissement
A3: ='Liste BP'!#REF! -> #REF! | E3: BP 51001.01 NW | G3: =IF(E3="","",VLOOKUP(E3,'Liste BP'!$A:$G,2,FALSE)) -> Pose fil/câble H 07 cuivre de 1,5 à 16 mm² Le ml de pose de câble | L3: 44124
A4: ='Liste BP'!#REF! -> #REF! | E4: =IF(E3="","",VLOOKUP(E3,'Liste BP'!$A:$G,7,FALSE)) -> NUIT / WEEK-END
A5: ='Liste BP'!#REF! -> #REF! | B5: Eléments de base du prix | E5: Décomposition du prix
A6: ='Liste BP'!#REF! -> #REF! | B6: Désignation | C6: unité | D6: Quantités ou durées d'utilisations élémentaires | E6: Matériel / Engin | G6: Mains-d'œuvre | I6: Fournitures | K6: TOTAL | L6: Sous-traitants
A7: ='Liste BP'!#REF! -> #REF! | E7: Prix Unitaire | F7: Total | G7: Prix Unitaire | H7: Total | I7: Prix Unitaire | J7: Total | L7: Prix Unitaire | M7: Total
A8: ='Liste BP'!A3 -> BP 51001.01 J | B8: Main d'œuvre
A9: ='Liste BP'!A4 -> BP 51001.01 NW | B9: OS | C9: =IF($E$4="NUIT / WEEK-END","h/n","h") -> h/n | D9: 0.02 | E9: 0 | F9: =D9*E9 -> 0 | G9: =IF($C9="h","49.00€","85.40€") -> 85.40€ | H9: =D9*G9 -> 1.708 | K9: =F9+H9+J9 -> 1.708
A10: ='Liste BP'!A5 -> BP 51001.02 J | B10: OHQ | C10: =IF($E$4="NUIT / WEEK-END","h/n","h") -> h/n | D10: 0.008 | E10: 0 | F10: =D10*E10 -> 0 | G10: =IF($C10="h","53.00€","92.20€") -> 92.20€ | H10: =D10*G10 -> 0.7376 | K10: =F10+H10+J10 -> 0.7376
A11: ='Liste BP'!A6 -> BP 51001.02 NW | B11: CHEF EQUIPE | C11: =IF($E$4="NUIT / WEEK-END","h/n","h") -> h/n | D11: 0.002 | E11: 0 | F11: =D11*E11 -> 0 | G11: =IF($C11="h","59.00€","100.60€") -> 100.60€ | H11: =D11*G11 -> 0.2012 | K11: =F11+H11+J11 -> 0.2012
A12: ='Liste BP'!A7 -> BP 51001.03 J | B12: DESSINATEUR BE | C12: =IF($E$4="NUIT / WEEK-END","h/n","h") -> h/n | E12: 0 | F12: =D12*E12 -> 0 | G12: =IF($C12="h","63.00€","105.80€") -> 105.80€ | H12: =D12*G12 -> 0 | K12: =F12+H12+J12 -> 0
A13: ='Liste BP'!A8 -> BP 51001.03 NW | B13: Engin et véhicule
A14: ='Liste BP'!A9 -> BP 51001.04 J | B14: Camionnette chantier | C14: séance | D14: 0.002 | E14: 56 | F14: =D14*E14 -> 0.112 | K14: =F14+H14+J14 -> 0.112 | L14: 0 | M14: =D14*L14 -> 0
A15: ='Liste BP'!A10 -> BP 51001.04 NW | B15: Camion grue | C15: séance | E15: 542 | F15: =D15*E15 -> 0 | K15: =F15+H15+J15 -> 0 | L15: 0 | M15: =D15*L15 -> 0
A16: ='Liste BP'!A11 -> BP 51002 J | B16: Mini-pelle | C16: séance | E16: 161 | F16: =D16*E16 -> 0 | K16: =F16+H16+J16 -> 0 | L16: 0 | M16: =D16*L16 -> 0
A17: ='Liste BP'!A12 -> BP 51002 NW | B17: Compacteuse | C17: séance | E17: 26 | F17: =D17*E17 -> 0 | K17: =F17+H17+J17 -> 0 | L17: 0 | M17: =D17*L17 -> 0
A18: ='Liste BP'!A13 -> BP 51003.01 J | B18: Pelle rail/route | C18: séance | E18: 550 | F18: =D18*E18 -> 0 | K18: =F18+H18+J18 -> 0 | L18: 0 | M18: =D18*L18 -> 0
A19: ='Liste BP'!#REF! -> #REF! | B19: Dumper rail/route | C19: séance | E19: 458 | F19: =D19*E19 -> 0 | K19: =F19+H19+J19 -> 0 | L19: 0 | M19: =D19*L19 -> 0
A20: ='Liste BP'!#REF! -> #REF! | B20: Remorque Lorry 18 T | C20: séance | E20: 425 | F20: =D20*E20 -> 0 | K20: =F20+H20+J20 -> 0 | L20: 0 | M20: =D20*L20 -> 0
A21: ='Liste BP'!#REF! -> #REF! | B21: Outillage électroportatif | C21: séance | E21: 24 | F21: =D21*E21 -> 0 | K21: =F21+H21+J21 -> 0 | L21: 0 | M21: =D21*L21 -> 0
A22: ='Liste BP'!#REF! -> #REF! | B22: Brouette à moteur | C22: séance | E22: 26 | F22: =D22*E22 -> 0 | K22: =F22+H22+J22 -> 0 | L22: 0 | M22: =D22*L22 -> 0
A23: ='Liste BP'!#REF! -> #REF! | B23: Fournitures, Frais de chantier, Prestations
A24: ='Liste BP'!#REF! -> #REF! | I24: 0 | J24: =D24*I24 -> 0 | K24: =F24+H24+J24 -> 0 | L24: 0 | M24: =D24*L24 -> 0
A25: ='Liste BP'!#REF! -> #REF! | I25: 0 | J25: =D25*I25 -> 0 | K25: =F25+H25+J25 -> 0 | L25: 0 | M25: =D25*L25 -> 0
A26: ='Liste BP'!#REF! -> #REF! | I26: 0 | J26: =D26*I26 -> 0 | K26: =F26+H26+J26 -> 0 | L26: 0 | M26: =D26*L26 -> 0
A27: ='Liste BP'!#REF! -> #REF! | I27: 0 | J27: =D27*I27 -> 0 | K27: =F27+H27+J27 -> 0 | L27: 0 | M27: =D27*L27 -> 0
A28: ='Liste BP'!#REF! -> #REF! | I28: 0 | J28: =D28*I28 -> 0 | K28: =F28+H28+J28 -> 0 | L28: 0 | M28: =D28*L28 -> 0
A29: ='Liste BP'!#REF! -> #REF! | I29: 0 | J29: =D29*I29 -> 0 | K29: =F29+H29+J29 -> 0 | L29: 0 | M29: =D29*L29 -> 0
A30: ='Liste BP'!#REF! -> #REF! | I30: 0 | J30: =D30*I30 -> 0 | K30: =F30+H30+J30 -> 0 | L30: 0 | M30: =D30*L30 -> 0
A31: ='Liste BP'!#REF! -> #REF! | I31: 0 | J31: =D31*I31 -> 0 | K31: =F31+H31+J31 -> 0 | L31: 0 | M31: =D31*L31 -> 0
A32: ='Liste BP'!#REF! -> #REF! | B32: DEBOURSES | F32: =SUM(F14:F22) -> 0.112 | H32: =SUM(H9:H12) -> 2.6468 | J32: =SUM(J24:J31) -> 0 | K32: =SUM(E32:J32) -> 2.7588 | M32: =SUM(M14:M31) -> 0
A33: ='Liste BP'!#REF! -> #REF! | K33: TOTAL T4 | L33: =M32 -> 0
A34: ='Liste BP'!#REF! -> #REF! | D34: Total 1 :(T1) = | F34: =K32 -> 2.7588 | K34: K4 : Frais de sous-traitance
A35: ='Liste BP'!#REF! -> #REF! | L35: 25 | M35: %
A36: ='Liste BP'!#REF! -> #REF! | D36: K1 Frais généraux de siège : | F36: 11 | G36: % du total 1 | K36: TOTAL 5 : (T5) = T4(1+K4/100) :
A37: ='Liste BP'!#REF! -> #REF! | D37: K2 Frais généraux de chantier : | F37: 12 | G37: % du total 1 | K37: =L33*(1+L35/100) -> 0
A38: ='Liste BP'!#REF! -> #REF! | D38: K3 aléas et bénéfice | F38: 5 | G38: % du total 2
A39: ='Liste BP'!#REF! -> #REF! | K39: TOTAL GENERAL : (T3+T5)
A40: ='Liste BP'!#REF! -> #REF! | D40: Total 2 (T2) = T1 (1+K1/100 + K2/100)= | G40: =F34*(1+F36/100+F37/100) -> 3.393324 | K40: =K37+G41 -> 3.5629902
A41: ='Liste BP'!#REF! -> #REF! | D41: Total 3 (T3) = T2(1+ K3/100)= | G41: =G40*(1+F38/100) -> 3.5629902 | K41: Arrondi à
A42: ='Liste BP'!#REF! -> #REF! | K42: =ROUNDDOWN(K40,0) -> 3
A43: ='Liste BP'!#REF! -> #REF!
A44: ='Liste BP'!#REF! -> #REF!
A45: ='Liste BP'!#REF! -> #REF!
A46: ='Liste BP'!#REF! -> #REF!
A47: ='Liste BP'!#REF! -> #REF!
A48: ='Liste BP'!#REF! -> #REF!
A49: ='Liste BP'!#REF! -> #REF!
A50: ='Liste BP'!#REF! -> #REF!
A51: ='Liste BP'!#REF! -> #REF!
A52: ='Liste BP'!#REF! -> #REF!
A53: ='Liste BP'!#REF! -> #REF!
A54: ='Liste BP'!#REF! -> #REF!
... A226: ='Liste BP'!#REF! -> #REF!

Sheet BP 51001.02 J
A1: Modèle
A2: ='Liste BP'!#REF! -> #REF! | B2: Désignation chantier | E2: N° de Prix | G2: Désignation du prix | L2: Date d'établissement
A3: ='Liste BP'!#REF! -> #REF! | E3: BP 51001.02 J | G3: =IF(E3="","",VLOOKUP(E3,'Liste BP'!$A:$G,2,FALSE)) -> Pose fil/câble H 07 de 25 à 50 mm² Le ml de pose de câble | L3: 44124
A4: ='Liste BP'!#REF! -> #REF! | E4: =IF(E3="","",VLOOKUP(E3,'Liste BP'!$A:$G,7,FALSE)) -> JOUR
A5: ='Liste BP'!#REF! -> #REF! | B5: Eléments de base du prix | E5: Décomposition du prix
A6: ='Liste BP'!#REF! -> #REF! | B6: Désignation | C6: unité | D6: Quantités ou durées d'utilisations élémentaires | E6: Matériel / Engin | G6: Mains-d'œuvre | I6: Fournitures | K6: TOTAL | L6: Sous-traitants
A7: ='Liste BP'!#REF! -> #REF! | E7: Prix Unitaire | F7: Total | G7: Prix Unitaire | H7: Total | I7: Prix Unitaire | J7: Total | L7: Prix Unitaire | M7: Total
A8: ='Liste BP'!A3 -> BP 51001.01 J | B8: Main d'œuvre
A9: ='Liste BP'!A4 -> BP 51001.01 NW | B9: OS | C9: =IF($E$4="NUIT / WEEK-END","h/n","h") -> h | D9: 0.02 | E9: 0 | F9: =D9*E9 -> 0 | G9: =IF($C9="h","49.00€","85.40€") -> 49.00€ | H9: =D9*G9 -> 0.98 | K9: =F9+H9+J9 -> 0.98
A10: ='Liste BP'!A5 -> BP 51001.02 J | B10: OHQ | C10: =IF($E$4="NUIT / WEEK-END","h/n","h") -> h | D10: 0.008 | E10: 0 | F10: =D10*E10 -> 0 | G10: =IF($C10="h","53.00€","92.20€") -> 53.00€ | H10: =D10*G10 -> 0.424 | K10: =F10+H10+J10 -> 0.424
A11: ='Liste BP'!A6 -> BP 51001.02 NW | B11: CHEF EQUIPE | C11: =IF($E$4="NUIT / WEEK-END","h/n","h") -> h | D11: 0.005 | E11: 0 | F11: =D11*E11 -> 0 | G11: =IF($C11="h","59.00€","100.60€") -> 59.00€ | H11: =D11*G11 -> 0.295 | K11: =F11+H11+J11 -> 0.295
A12: ='Liste BP'!A7 -> BP 51001.03 J | B12: DESSINATEUR BE | C12: =IF($E$4="NUIT / WEEK-END","h/n","h") -> h | E12: 0 | F12: =D12*E12 -> 0 | G12: =IF($C12="h","63.00€","105.80€") -> 63.00€ | H12: =D12*G12 -> 0 | K12: =F12+H12+J12 -> 0
A13: ='Liste BP'!A8 -> BP 51001.03 NW | B13: Engin et véhicule
A14: ='Liste BP'!A9 -> BP 51001.04 J | B14: Camionnette chantier | C14: séance | D14: 0.002 | E14: 56 | F14: =D14*E14 -> 0.112 | K14: =F14+H14+J14 -> 0.112 | L14: 0 | M14: =D14*L14 -> 0
A15: ='Liste BP'!A10 -> BP 51001.04 NW | B15: Camion grue | C15: séance | E15: 542 | F15: =D15*E15 -> 0 | K15: =F15+H15+J15 -> 0 | L15: 0 | M15: =D15*L15 -> 0
A16: ='Liste BP'!A11 -> BP 51002 J | B16: Mini-pelle | C16: séance | E16: 161 | F16: =D16*E16 -> 0 | K16: =F16+H16+J16 -> 0 | L16: 0 | M16: =D16*L16 -> 0
A17: ='Liste BP'!A12 -> BP 51002 NW | B17: Compacteuse | C17: séance | E17: 26 | F17: =D17*E17 -> 0 | K17: =F17+H17+J17 -> 0 | L17: 0 | M17: =D17*L17 -> 0
A18: ='Liste BP'!A13 -> BP 51003.01 J | B18: Pelle rail/route | C18: séance | E18: 550 | F18: =D18*E18 -> 0 | K18: =F18+H18+J18 -> 0 | L18: 0 | M18: =D18*L18 -> 0
A19: ='Liste BP'!#REF! -> #REF! | B19: Dumper rail/route | C19: séance | E19: 458 | F19: =D19*E19 -> 0 | K19: =F19+H19+J19 -> 0 | L19: 0 | M19: =D19*L19 -> 0
A20: ='Liste BP'!#REF! -> #REF! | B20: Remorque Lorry 18 T | C20: séance | E20: 425 | F20: =D20*E20 -> 0 | K20: =F20+H20+J20 -> 0 | L20: 0 | M20: =D20*L20 -> 0
A21: ='Liste BP'!#REF! -> #REF! | B21: Outillage électroportatif | C21: séance | E21: 24 | F21: =D21*E21 -> 0 | K21: =F21+H21+J21 -> 0 | L21: 0 | M21: =D21*L21 -> 0
A22: ='Liste BP'!#REF! -> #REF! | B22: Matériel de déroulage | C22: séance | D22: 0.003 | E22: 8 | F22: 0.04 | K22: =F22+H22+J22 -> 0.04 | L22: 0 | M22: =D22*L22 -> 0
A23: ='Liste BP'!#REF! -> #REF! | B23: Fournitures, Frais de chantier, Prestations
A24: ='Liste BP'!#REF! -> #REF! | I24: 0 | J24: =D24*I24 -> 0 | K24: =F24+H24+J24 -> 0 | L24: 0 | M24: =D24*L24 -> 0
A25: ='Liste BP'!#REF! -> #REF! | I25: 0 | J25: =D25*I25 -> 0 | K25: =F25+H25+J25 -> 0 | L25: 0 | M25: =D25*L25 -> 0
A26: ='Liste BP'!#REF! -> #REF! | I26: 0 | J26: =D26*I26 -> 0 | K26: =F26+H26+J26 -> 0 | L26: 0 | M26: =D26*L26 -> 0
A27: ='Liste BP'!#REF! -> #REF! | I27: 0 | J27: =D27*I27 -> 0 | K27: =F27+H27+J27 -> 0 | L27: 0 | M27: =D27*L27 -> 0
A28: ='Liste BP'!#REF! -> #REF! | I28: 0 | J28: =D28*I28 -> 0 | K28: =F28+H28+J28 -> 0 | L28: 0 | M28: =D28*L28 -> 0
A29: ='Liste BP'!#REF! -> #REF! | I29: 0 | J29: =D29*I29 -> 0 | K29: =F29+H29+J29 -> 0 | L29: 0 | M29: =D29*L29 -> 0
A30: ='Liste BP'!#REF! -> #REF! | I30: 0 | J30: =D30*I30 -> 0 | K30: =F30+H30+J30 -> 0 | L30: 0 | M30: =D30*L30 -> 0
A31: ='Liste BP'!#REF! -> #REF! | I31: 0 | J31: =D31*I31 -> 0 | K31: =F31+H31+J31 -> 0 | L31: 0 | M31: =D31*L31 -> 0
A32: ='Liste BP'!#REF! -> #REF! | B32: DEBOURSES | F32: =SUM(F14:F22) -> 0.152 | H32: =SUM(H9:H12) -> 1.699 | J32: =SUM(J24:J31) -> 0 | K32: =SUM(E32:J32) -> 1.851 | M32: =SUM(M14:M31) -> 0
A33: ='Liste BP'!#REF! -> #REF! | K33: TOTAL T4 | L33: =M32 -> 0
A34: ='Liste BP'!#REF! -> #REF! | D34: Total 1 :(T1) = | F34: =K32 -> 1.851 | K34: K4 : Frais de sous-traitance
A35: ='Liste BP'!#REF! -> #REF! | L35: 25 | M35: %
A36: ='Liste BP'!#REF! -> #REF! | D36: K1 Frais généraux de siège : | F36: 11 | G36: % du total 1 | K36: TOTAL 5 : (T5) = T4(1+K4/100) :
A37: ='Liste BP'!#REF! -> #REF! | D37: K2 Frais généraux de chantier : | F37: 12 | G37: % du total 1 | K37: =L33*(1+L35/100) -> 0
A38: ='Liste BP'!#REF! -> #REF! | D38: K3 aléas et bénéfice | F38: 5 | G38: % du total 2
A39: ='Liste BP'!#REF! -> #REF! | K39: TOTAL GENERAL : (T3+T5)
A40: ='Liste BP'!#REF! -> #REF! | D40: Total 2 (T2) = T1 (1+K1/100 + K2/100)= | G40: =F34*(1+F36/100+F37/100) -> 2.27673 | K40: =K37+G41 -> 2.3905665
A41: ='Liste BP'!#REF! -> #REF! | D41: Total 3 (T3) = T2(1+ K3/100)= | G41: =G40*(1+F38/100) -> 2.3905665 | K41: Arrondi à
A42: ='Liste BP'!#REF! -> #REF! | K42: =ROUNDDOWN(K40,1) -> 2.3
A43: ='Liste BP'!#REF! -> #REF!
A44: ='Liste BP'!#REF! -> #REF!
A45: ='Liste BP'!#REF! -> #REF!
A46: ='Liste BP'!#REF! -> #REF!
A47: ='Liste BP'!#REF! -> #REF!
A48: ='Liste BP'!#REF! -> #REF!
A49: ='Liste BP'!#REF! -> #REF!
A50: ='Liste BP'!#REF! -> #REF!
A51: ='Liste BP'!#REF! -> #REF!
A52: ='Liste BP'!#REF! -> #REF!
A53: ='Liste BP'!#REF! -> #REF!
A54: ='Liste BP'!#REF! -> #REF!
... A226: ='Liste BP'!#REF! -> #REF!

Sheet BP 51001.02 NW
A1: Modèle
A2: ='Liste BP'!#REF! -> #REF! | B2: Désignation chantier | E2: N° de Prix | G2: Désignation du prix | L2: Date d'établissement
A3: ='Liste BP'!#REF! -> #REF! | E3: BP 51001.02 NW | G3: =IF(E3="","",VLOOKUP(E3,'Liste BP'!$A:$G,2,FALSE)) -> Pose fil/câble H 07 de 25 à 50 mm² Le ml de pose de câble | L3: 44124
A4: ='Liste BP'!#REF! -> #REF! | E4: =IF(E3="","",VLOOKUP(E3,'Liste BP'!$A:$G,7,FALSE)) -> NUIT / WEEK-END
A5: ='Liste BP'!#REF! -> #REF! | B5: Eléments de base du prix | E5: Décomposition du prix
A6: ='Liste BP'!#REF! -> #REF! | B6: Désignation | C6: unité | D6: Quantités ou durées d'utilisations élémentaires | E6: Matériel / Engin | G6: Mains-d'œuvre | I6: Fournitures | K6: TOTAL | L6: Sous-traitants
A7: ='Liste BP'!#REF! -> #REF! | E7: Prix Unitaire | F7: Total | G7: Prix Unitaire | H7: Total | I7: Prix Unitaire | J7: Total | L7: Prix Unitaire | M7: Total
A8: ='Liste BP'!A3 -> BP 51001.01 J | B8: Main d'œuvre
A9: ='Liste BP'!A4 -> BP 51001.01 NW | B9: OS | C9: =IF($E$4="NUIT / WEEK-END","h/n","h") -> h/n | D9: 0.02 | E9: 0 | F9: =D9*E9 -> 0 | G9: =IF($C9="h","49.00€","85.40€") -> 85.40€ | H9: =D9*G9 -> 1.708 | K9: =F9+H9+J9 -> 1.708
A10: ='Liste BP'!A5 -> BP 51001.02 J | B10: OHQ | C10: =IF($E$4="NUIT / WEEK-END","h/n","h") -> h/n | D10: 0.008 | E10: 0 | F10: =D10*E10 -> 0 | G10: =IF($C10="h","53.00€","92.20€") -> 92.20€ | H10: =D10*G10 -> 0.7376 | K10: =F10+H10+J10 -> 0.7376
A11: ='Liste BP'!A6 -> BP 51001.02 NW | B11: CHEF EQUIPE | C11: =IF($E$4="NUIT / WEEK-END","h/n","h") -> h/n | D11: 0.005 | E11: 0 | F11: =D11*E11 -> 0 | G11: =IF($C11="h","59.00€","100.60€") -> 100.60€ | H11: =D11*G11 -> 0.503 | K11: =F11+H11+J11 -> 0.503
A12: ='Liste BP'!A7 -> BP 51001.03 J | B12: DESSINATEUR BE | C12: =IF($E$4="NUIT / WEEK-END","h/n","h") -> h/n | E12: 0 | F12: =D12*E12 -> 0 | G12: =IF($C12="h","63.00€","105.80€") -> 105.80€ | H12: =D12*G12 -> 0 | K12: =F12+H12+J12 -> 0
A13: ='Liste BP'!A8 -> BP 51001.03 NW | B13: Engin et véhicule
A14: ='Liste BP'!A9 -> BP 51001.04 J | B14: Camionnette chantier | C14: séance | D14: 0.002 | E14: 56 | F14: =D14*E14 -> 0.112 | K14: =F14+H14+J14 -> 0.112 | L14: 0 | M14: =D14*L14 -> 0
A15: ='Liste BP'!A10 -> BP 51001.04 NW | B15: Camion grue | C15: séance | E15: 542 | F15: =D15*E15 -> 0 | K15: =F15+H15+J15 -> 0 | L15: 0 | M15: =D15*L15 -> 0
A16: ='Liste BP'!A11 -> BP 51002 J | B16: Mini-pelle | C16: séance | E16: 161 | F16: =D16*E16 -> 0 | K16: =F16+H16+J16 -> 0 | L16: 0 | M16: =D16*L16 -> 0
A17: ='Liste BP'!A12 -> BP 51002 NW | B17: Compacteuse | C17: séance | E17: 26 | F17: =D17*E17 -> 0 | K17: =F17+H17+J17 -> 0 | L17: 0 | M17: =D17*L17 -> 0
A18: ='Liste BP'!A13 -> BP 51003.01 J | B18: Pelle rail/route | C18: séance | E18: 550 | F18: =D18*E18 -> 0 | K18: =F18+H18+J18 -> 0 | L18: 0 | M18: =D18*L18 -> 0
A19: ='Liste BP'!#REF! -> #REF! | B19: Dumper rail/route | C19: séance | E19: 458 | F19: =D19*E19 -> 0 | K19: =F19+H19+J19 -> 0 | L19: 0 | M19: =D19*L19 -> 0
A20: ='Liste BP'!#REF! -> #REF! | B20: Remorque Lorry 18 T | C20: séance | E20: 425 | F20: =D20*E20 -> 0 | K20: =F20+H20+J20 -> 0 | L20: 0 | M20: =D20*L20 -> 0
A21: ='Liste BP'!#REF! -> #REF! | B21: Outillage électroportatif | C21: séance | E21: 24 | F21: =D21*E21 -> 0 | K21: =F21+H21+J21 -> 0 | L21: 0 | M21: =D21*L21 -> 0
A22: ='Liste BP'!#REF! -> #REF! | B22: Matériel de déroulage | C22: séance | D22: 0.003 | E22: 8 | F22: 0.04 | K22: =F22+H22+J22 -> 0.04 | L22: 0 | M22: =D22*L22 -> 0
A23: ='Liste BP'!#REF! -> #REF! | B23: Fournitures, Frais de chantier, Prestations
A24: ='Liste BP'!#REF! -> #REF! | I24: 0 | J24: =D24*I24 -> 0 | K24: =F24+H24+J24 -> 0 | L24: 0 | M24: =D24*L24 -> 0
A25: ='Liste BP'!#REF! -> #REF! | I25: 0 | J25: =D25*I25 -> 0 | K25: =F25+H25+J25 -> 0 | L25: 0 | M25: =D25*L25 -> 0
A26: ='Liste BP'!#REF! -> #REF! | I26: 0 | J26: =D26*I26 -> 0 | K26: =F26+H26+J26 -> 0 | L26: 0 | M26: =D26*L26 -> 0
A27: ='Liste BP'!#REF! -> #REF! | I27: 0 | J27: =D27*I27 -> 0 | K27: =F27+H27+J27 -> 0 | L27: 0 | M27: =D27*L27 -> 0
A28: ='Liste BP'!#REF! -> #REF! | I28: 0 | J28: =D28*I28 -> 0 | K28: =F28+H28+J28 -> 0 | L28: 0 | M28: =D28*L28 -> 0
A29: ='Liste BP'!#REF! -> #REF! | I29: 0 | J29: =D29*I29 -> 0 | K29: =F29+H29+J29 -> 0 | L29: 0 | M29: =D29*L29 -> 0
A30: ='Liste BP'!#REF! -> #REF! | I30: 0 | J30: =D30*I30 -> 0 | K30: =F30+H30+J30 -> 0 | L30: 0 | M30: =D30*L30 -> 0
A31: ='Liste BP'!#REF! -> #REF! | I31: 0 | J31: =D31*I31 -> 0 | K31: =F31+H31+J31 -> 0 | L31: 0 | M31: =D31*L31 -> 0
A32: ='Liste BP'!#REF! -> #REF! | B32: DEBOURSES | F32: =SUM(F14:F22) -> 0.152 | H32: =SUM(H9:H12) -> 2.9486 | J32: =SUM(J24:J31) -> 0 | K32: =SUM(E32:J32) -> 3.1006 | M32: =SUM(M14:M31) -> 0
A33: ='Liste BP'!#REF! -> #REF! | K33: TOTAL T4 | L33: =M32 -> 0
A34: ='Liste BP'!#REF! -> #REF! | D34: Total 1 :(T1) = | F34: =K32 -> 3.1006 | K34: K4 : Frais de sous-traitance
A35: ='Liste BP'!#REF! -> #REF! | L35: 25 | M35: %
A36: ='Liste BP'!#REF! -> #REF! | D36: K1 Frais généraux de siège : | F36: 11 | G36: % du total 1 | K36: TOTAL 5 : (T5) = T4(1+K4/100) :
A37: ='Liste BP'!#REF! -> #REF! | D37: K2 Frais généraux de chantier : | F37: 12 | G37: % du total 1 | K37: =L33*(1+L35/100) -> 0
A38: ='Liste BP'!#REF! -> #REF! | D38: K3 aléas et bénéfice | F38: 5 | G38: % du total 2
A39: ='Liste BP'!#REF! -> #REF! | K39: TOTAL GENERAL : (T3+T5)
A40: ='Liste BP'!#REF! -> #REF! | D40: Total 2 (T2) = T1 (1+K1/100 + K2/100)= | G40: =F34*(1+F36/100+F37/100) -> 3.813738 | K40: =K37+G41 -> 4.0044249
A41: ='Liste BP'!#REF! -> #REF! | D41: Total 3 (T3) = T2(1+ K3/100)= | G41: =G40*(1+F38/100) -> 4.0044249 | K41: Arrondi à
A42: ='Liste BP'!#REF! -> #REF! | K42: 3.2
A43: ='Liste BP'!#REF! -> #REF!
A44: ='Liste BP'!#REF! -> #REF!
A45: ='Liste BP'!#REF! -> #REF!
A46: ='Liste BP'!#REF! -> #REF!
A47: ='Liste BP'!#REF! -> #REF!
A48: ='Liste BP'!#REF! -> #REF!
A49: ='Liste BP'!#REF! -> #REF!
A50: ='Liste BP'!#REF! -> #REF!
A51: ='Liste BP'!#REF! -> #REF!
A52: ='Liste BP'!#REF! -> #REF!
A53: ='Liste BP'!#REF! -> #REF!
A54: ='Liste BP'!#REF! -> #REF!
... A226: ='Liste BP'!#REF! -> #REF!
