Workbook
Name G0.006: #REF!

Sheet Suivi reception
A1: Selection | B1: DATE | C1: Réf picking | D1: SKU | E1: Désignation | F1: FOURNISSEUR | G1: LOT | H1: DLC | I1: Qté | J1: PAL/COLIS | K1: Quantité pal | L1: TOTAL | M1: Qté Boite | N1: Commentaire
B2: 46196 | C2: =INDEX(Réference!A:A,MATCH('Suivi reception'!D2,Réference!F:F,0)) -> B0.20 | D2: CFBOULBOEUF | E2: =INDEX(Réference!G:G,MATCH('Suivi reception'!D2,Réference!F:F,0)) -> Boulettes de bœuf sauce tomate Olive | F2: BOCA | G2: 63103 | H2: 46661 | I2: 6 | J2: PAL | K2: 960 | L2: =IF(ISBLANK(I2),"",I2*K2) -> 5760 | M2: 10
B3: 46196 | C3: =INDEX(Réference!A:A,MATCH('Suivi reception'!D3,Réference!F:F,0)) -> B0.20 | D3: CFBOULBOEUF | E3: =INDEX(Réference!G:G,MATCH('Suivi reception'!D3,Réference!F:F,0)) -> Boulettes de bœuf sauce tomate Olive | F3: BOCA | G3: 63103 | H3: 46661 | I3: 1 | J3: PAL | K3: 176 | L3: =IF(ISBLANK(I3),"",I3*K3) -> 176 | M3: 10
B4: 46196 | C4: =INDEX(Réference!A:A,MATCH('Suivi reception'!D4,Réference!F:F,0)) -> B0.07 | D4: CFLASSAUM | E4: =INDEX(Réference!G:G,MATCH('Suivi reception'!D4,Réference!F:F,0)) -> Lasagnes saumon épinard | F4: BOCA | G4: 63197 | H4: 46657 | I4: 6 | J4: PAL | K4: 1512 | L4: =IF(ISBLANK(I4),"",I4*K4) -> 9072 | M4: 36
B5: 46196 | C5: =INDEX(Réference!A:A,MATCH('Suivi reception'!D5,Réference!F:F,0)) -> B0.07 | D5: CFLASSAUM | E5: =INDEX(Réference!G:G,MATCH('Suivi reception'!D5,Réference!F:F,0)) -> Lasagnes saumon épinard | F5: BOCA | G5: 63197 | H5: 46657 | I5: 1 | J5: PAL | K5: 1067 | L5: =IF(ISBLANK(I5),"",I5*K5) -> 1067 | M5: 36
B6: 46196 | C6: =INDEX(Réference!A:A,MATCH('Suivi reception'!D6,Réference!F:F,0)) -> C0.11 | D6: CFBLANQUET | E6: =INDEX(Réference!G:G,MATCH('Suivi reception'!D6,Réference!F:F,0)) -> Blanquette de poulet et riz | F6: BOCA | G6: 63108 | H6: 46658 | I6: 10 | J6: PAL | K6: 960 | L6: =IF(ISBLANK(I6),"",I6*K6) -> 9600 | M6: 10
B7: 46196 | C7: =INDEX(Réference!A:A,MATCH('Suivi reception'!D7,Réference!F:F,0)) -> C0.11 | D7: CFBLANQUET | E7: =INDEX(Réference!G:G,MATCH('Suivi reception'!D7,Réference!F:F,0)) -> Blanquette de poulet et riz | F7: BOCA | G7: 63108 | H7: 46658 | I7: 1 | J7: PAL | K7: 284 | L7: =IF(ISBLANK(I7),"",I7*K7) -> 284 | M7: 10
B8: 46196 | C8: =INDEX(Réference!A:A,MATCH('Suivi reception'!D8,Réference!F:F,0)) -> B0.13 | D8: CFCOLCUR | E8: =INDEX(Réference!G:G,MATCH('Suivi reception'!D8,Réference!F:F,0)) -> Colin sauce curry coco et riz basmati | F8: BOCA | G8: 63114 | H8: 46658 | I8: 5 | J8: PAL | K8: 960 | L8: =IF(ISBLANK(I8),"",I8*K8) -> 4800 | M8: 10
B9: 46196 | C9: =INDEX(Réference!A:A,MATCH('Suivi reception'!D9,Réference!F:F,0)) -> B0.13 | D9: CFCOLCUR | E9: =INDEX(Réference!G:G,MATCH('Suivi reception'!D9,Réference!F:F,0)) -> Colin sauce curry coco et riz basmati | F9: BOCA | G9: 63114 | H9: 46658 | I9: 1 | J9: PAL | K9: 704 | L9: =IF(ISBLANK(I9),"",I9*K9) -> 704 | M9: 10
B10: 46196 | C10: =INDEX(Réference!A:A,MATCH('Suivi reception'!D10,Réference!F:F,0)) -> B0.13 | D10: CFCOLCUR | E10: =INDEX(Réference!G:G,MATCH('Suivi reception'!D10,Réference!F:F,0)) -> Colin sauce curry coco et riz basmati | F10: BOCA | G10: 63114 | H10: 46658 | I10: 1 | J10: PAL | K10: 480 | L10: =IF(ISBLANK(I10),"",I10*K10) -> 480 | M10: 10
B11: 46197 | C11: =INDEX(Réference!A:A,MATCH('Suivi reception'!D11,Réference!F:F,0)) -> G0.012 | D11: AIRBISPPO | E11: =INDEX(Réference!G:G,MATCH('Suivi reception'!D11,Réference!F:F,0)) -> Sachet de 2 portions de biscuits apéritifs BIO soufflés aux petits pois et oignons | F11: AIRC | G11: 127349 | H11: 46538 | I11: 5 | J11: PAL | K11: 924 | L11: =IF(ISBLANK(I11),"",I11*K11) -> 4620 | M11: 12
B12: 46197 | C12: =INDEX(Réference!A:A,MATCH('Suivi reception'!D12,Réference!F:F,0)) -> G0.012 | D12: AIRBISPPO | E12: =INDEX(Réference!G:G,MATCH('Suivi reception'!D12,Réference!F:F,0)) -> Sachet de 2 portions de biscuits apéritifs BIO soufflés aux petits pois et oignons | F12: AIRC | G12: 127349 | H12: 46538 | I12: 1 | J12: PAL | K12: 660 | L12: =IF(ISBLANK(I12),"",I12*K12) -> 660 | M12: 12
B13: 46197 | C13: =INDEX(Réference!A:A,MATCH('Suivi reception'!D13,Réference!F:F,0)) -> G0.024 | D13: GUCAAM | E13: =INDEX(Réference!G:G,MATCH('Suivi reception'!D13,Réference!F:F,0)) -> Mix apéro cacahuètes et amandes grillées | F13: DACO | G13: 16152006 | H13: 46354 | I13: 1 | J13: PAL | K13: 3600 | L13: =IF(ISBLANK(I13),"",I13*K13) -> 3600 | M13: 100
... B88: 46204 | C88: =INDEX(Réference!A:A,MATCH('Suivi reception'!D88,Réference!F:F,0)) -> E0.09 | D88: GEFILET | E88: =INDEX(Réference!G:G,MATCH('Suivi reception'!D88,Réference!F:F,0)) -> Filet mignon de porc et écrasés de pommes de terre | F88: GEND | G88: 2606097010 | H88: 46730 | I88: 1 | J88: PAL | K88: 530 | L88: =IF(ISBLANK(I88),"",I88*K88) -> 530 | M88: 10
B89: 46205 | C89: =INDEX(Réference!A:A,MATCH('Suivi reception'!D89,Réference!F:F,0)) -> GRAADE | D89: 700490001 | E89: =INDEX(Réference!G:G,MATCH('Suivi reception'!D89,Réference!F:F,0)) -> Grand coffret GRAADE | F89: SICA | G89: 02072026 | H89: 46570 | I89: 3 | J89: PAL | K89: 500 | L89: =IF(ISBLANK(I89),"",I89*K89) -> 1500 | M89: 500
B90: 46205 | C90: =INDEX(Réference!A:A,MATCH('Suivi reception'!D90,Réference!F:F,0)) -> GRAADE | D90: 700490001 | E90: =INDEX(Réference!G:G,MATCH('Suivi reception'!D90,Réference!F:F,0)) -> Grand coffret GRAADE | F90: SICA | G90: 02072026 | H90: 46570 | I90: 1 | J90: PAL | K90: 350 | L90: =IF(ISBLANK(I90),"",I90*K90) -> 350 | M90: 500
B91: 46205 | C91: =INDEX(Réference!A:A,MATCH('Suivi reception'!D91,Réference!F:F,0)) -> D0.02 | D91: CFCOLOMBO | E91: =INDEX(Réference!G:G,MATCH('Suivi reception'!D91,Réference!F:F,0)) -> Colombo de porc et riz | F91: BOCA | G91: 63310 | H91: 46668 | I91: 9 | J91: PAL | K91: 960 | L91: =IF(ISBLANK(I91),"",I91*K91) -> 8640 | M91: 10
B92: 46205 | C92: =INDEX(Réference!A:A,MATCH('Suivi reception'!D92,Réference!F:F,0)) -> D0.02 | D92: CFCOLOMBO | E92: =INDEX(Réference!G:G,MATCH('Suivi reception'!D92,Réference!F:F,0)) -> Colombo de porc et riz | F92: BOCA | G92: 63310 | H92: 46668 | I92: 1 | J92: PAL | K92: 1055 | L92: =IF(ISBLANK(I92),"",I92*K92) -> 1055 | M92: 10
B93: 46205 | C93: =INDEX(Réference!A:A,MATCH('Suivi reception'!D93,Réference!F:F,0)) -> B0.07 | D93: CFLASSAUM | E93: =INDEX(Réference!G:G,MATCH('Suivi reception'!D93,Réference!F:F,0)) -> Lasagnes saumon épinard | F93: BOCA | G93: 63327 | H93: 46671 | I93: 6 | J93: PAL | K93: 1512 | L93: =IF(ISBLANK(I93),"",I93*K93) -> 9072 | M93: 36
B94: 46205 | C94: =INDEX(Réference!A:A,MATCH('Suivi reception'!D94,Réference!F:F,0)) -> B0.07 | D94: CFLASSAUM | E94: =INDEX(Réference!G:G,MATCH('Suivi reception'!D94,Réference!F:F,0)) -> Lasagnes saumon épinard | F94: BOCA | G94: 63327 | H94: 46671 | I94: 1 | J94: PAL | K94: 972 | L94: =IF(ISBLANK(I94),"",I94*K94) -> 972 | M94: 36
B95: 46205 | C95: =INDEX(Réference!A:A,MATCH('Suivi reception'!D95,Réference!F:F,0)) -> D0.15 | D95: GEGOULASH | E95: =INDEX(Réference!G:G,MATCH('Suivi reception'!D95,Réference!F:F,0)) -> Goulash de Bœuf | F95: GEND | G95: 2606158011 | H95: 46736 | I95: 5 | J95: PAL | K95: 924 | L95: =IF(ISBLANK(I95),"",I95*K95) -> 4620 | M95: 11
B96: 46205 | C96: =INDEX(Réference!A:A,MATCH('Suivi reception'!D96,Réference!F:F,0)) -> D0.15 | D96: GEGOULASH | E96: =INDEX(Réference!G:G,MATCH('Suivi reception'!D96,Réference!F:F,0)) -> Goulash de Bœuf | F96: GEND | G96: 2606158011 | H96: 46736 | I96: 1 | J96: PAL | K96: 506 | L96: =IF(ISBLANK(I96),"",I96*K96) -> 506 | M96: 11
B97: 46205 | C97: =INDEX(Réference!A:A,MATCH('Suivi reception'!D97,Réference!F:F,0)) -> D0.13 | D97: GEGASOJA | E97: =INDEX(Réference!G:G,MATCH('Suivi reception'!D97,Réference!F:F,0)) -> GALETTE DE SOJA TOMATE BASILIC ET LEGUMES DU SOLEIL | F97: GEND | G97: 2606010562 | H97: 46722 | I97: 6 | J97: PAL | K97: 840 | L97: =IF(ISBLANK(I97),"",I97*K97) -> 5040 | M97: 10
B98: 46205 | C98: =INDEX(Réference!A:A,MATCH('Suivi reception'!D98,Réference!F:F,0)) -> D0.13 | D98: GEGASOJA | E98: =INDEX(Réference!G:G,MATCH('Suivi reception'!D98,Réference!F:F,0)) -> GALETTE DE SOJA TOMATE BASILIC ET LEGUMES DU SOLEIL | F98: GEND | G98: 2606220037 | H98: 46743 | I98: 7 | J98: PAL | K98: 840 | L98: =IF(ISBLANK(I98),"",I98*K98) -> 5880 | M98: 10
B99: 46205 | C99: =INDEX(Réference!A:A,MATCH('Suivi reception'!D99,Réference!F:F,0)) -> D0.13 | D99: GEGASOJA | E99: =INDEX(Réference!G:G,MATCH('Suivi reception'!D99,Réference!F:F,0)) -> GALETTE DE SOJA TOMATE BASILIC ET LEGUMES DU SOLEIL | F99: GEND | G99: 2606220037 | H99: 46743 | I99: 1 | J99: PAL | K99: 820 | L99: =IF(ISBLANK(I99),"",I99*K99) -> 820 | M99: 10
B100: 46206 | C100: =INDEX(Réference!A:A,MATCH('Suivi reception'!D100,Réference!F:F,0)) -> B0.01 | D100: GESALBOPO | E100: =INDEX(Réference!G:G,MATCH('Suivi reception'!D100,Réference!F:F,0)) -> Salade de boulgour et poulet | F100: GEND | G100: 2606178479 | H100: 46738 | I100: 8 | J100: PAL | K100: 924 | L100: =IF(ISBLANK(I100),"",I100*K100) -> 7392 | M100: 11
B101: 46206 | C101: =INDEX(Réference!A:A,MATCH('Suivi reception'!D101,Réference!F:F,0)) -> B0.01 | D101: GESALBOPO | E101: =INDEX(Réference!G:G,MATCH('Suivi reception'!D101,Réference!F:F,0)) -> Salade de boulgour et poulet | F101: GEND | G101: 2606178479 | H101: 46738 | I101: 1 | J101: PAL | K101: 187 | L101: =IF(ISBLANK(I101),"",I101*K101) -> 187 | M101: 11
B102: 46209 | C102: =INDEX(Réference!A:A,MATCH('Suivi reception'!D102,Réference!F:F,0)) -> E0.18 | D102: GEPOUMOU | E102: =INDEX(Réference!G:G,MATCH('Suivi reception'!D102,Réference!F:F,0)) -> Emincés de poulet à la moutarde et duo lentilles cuisinées (Poulet Moutarde) | F102: GEND | G102: 2606230027 | H102: 46744 | I102: 7 | J102: PAL | K102: 840 | L102: =IF(ISBLANK(I102),"",I102*K102) -> 5880 | M102: 10
... B169: 46225 | C169: =INDEX(Réference!A:A,MATCH('Suivi reception'!D169,Réference!F:F,0)) -> F0.024 | D169: COMP-DESSUGR | E169: =INDEX(Réference!G:G,MATCH('Suivi reception'!D169,Réference!F:F,0)) -> Destock sucre & graisse (cure 1 mois) - Oxydation des graisses & maintien de la glycémie | F169: NOVA | G169: I2188 | H169: 47299 | I169: 1 | J169: PAL | K169: 1561 | L169: =IF(ISBLANK(I169),"",I169*K169) -> 1561 | M169: 109
B170: 46226 | C170: =INDEX(Réference!A:A,MATCH('Suivi reception'!D170,Réference!F:F,0)) -> B0.05 | D170: GEPOUCHOU | E170: =INDEX(Réference!G:G,MATCH('Suivi reception'!D170,Réference!F:F,0)) -> Poulet Roti gratin choufleur | F170: GEND | G170: 2607080036 | H170: 46760 | I170: 15 | J170: PAL | K170: 924 | L170: =IF(ISBLANK(I170),"",I170*K170) -> 13860
B171: 46226 | C171: =INDEX(Réference!A:A,MATCH('Suivi reception'!D171,Réference!F:F,0)) -> B0.05 | D171: GEPOUCHOU | E171: =INDEX(Réference!G:G,MATCH('Suivi reception'!D171,Réference!F:F,0)) -> Poulet Roti gratin choufleur | F171: GEND | G171: 2607080036 | H171: 46760 | I171: 1 | J171: PAL | K171: 781 | L171: =IF(ISBLANK(I171),"",I171*K171) -> 781
B172: 46226 | C172: =INDEX(Réference!A:A,MATCH('Suivi reception'!D172,Réference!F:F,0)) -> E0.02 | D172: GETRIOQUI | E172: =INDEX(Réference!G:G,MATCH('Suivi reception'!D172,Réference!F:F,0)) -> Trio de quinoa haricots rouges et poivrons | F172: GEND | G172: 2607150035 | H172: 46767 | I172: 8 | J172: PAL | K172: 840 | L172: =IF(ISBLANK(I172),"",I172*K172) -> 6720
B173: 46226 | C173: =INDEX(Réference!A:A,MATCH('Suivi reception'!D173,Réference!F:F,0)) -> E0.02 | D173: GETRIOQUI | E173: =INDEX(Réference!G:G,MATCH('Suivi reception'!D173,Réference!F:F,0)) -> Trio de quinoa haricots rouges et poivrons | F173: GEND | G173: 2607150035 | H173: 46767 | I173: 1 | J173: PAL | K173: 210 | L173: =IF(ISBLANK(I173),"",I173*K173) -> 210
B174: 46226 | C174: =INDEX(Réference!A:A,MATCH('Suivi reception'!D174,Réference!F:F,0)) -> C0.03 | D174: GESALCIT | E174: =INDEX(Réference!G:G,MATCH('Suivi reception'!D174,Réference!F:F,0)) -> Salade Poulet zeste de citron | F174: GEND | G174: 2607092070 | H174: 46761 | I174: 8 | J174: PAL | K174: 1344 | L174: =IF(ISBLANK(I174),"",I174*K174) -> 10752 | M174: 7
B175: 46226 | C175: =INDEX(Réference!A:A,MATCH('Suivi reception'!D175,Réference!F:F,0)) -> C0.03 | D175: GESALCIT | E175: =INDEX(Réference!G:G,MATCH('Suivi reception'!D175,Réference!F:F,0)) -> Salade Poulet zeste de citron | F175: GEND | G175: 2607092070 | H175: 46761 | I175: 1 | J175: PAL | K175: 1288 | L175: =IF(ISBLANK(I175),"",I175*K175) -> 1288 | M175: 7
B176: 46226 | C176: =INDEX(Réference!A:A,MATCH('Suivi reception'!D176,Réference!F:F,0)) -> D0.20 | D176: GESAMED | E176: =INDEX(Réference!G:G,MATCH('Suivi reception'!D176,Réference!F:F,0)) -> Salade de thon à la méditerranéenne | F176: GEND | G176: 2607072034 | H176: 46759 | I176: 7 | J176: PAL | K176: 1344 | L176: =IF(ISBLANK(I176),"",I176*K176) -> 9408 | M176: 7
B177: 46226 | C177: =INDEX(Réference!A:A,MATCH('Suivi reception'!D177,Réference!F:F,0)) -> D0.20 | D177: GESAMED | E177: =INDEX(Réference!G:G,MATCH('Suivi reception'!D177,Réference!F:F,0)) -> Salade de thon à la méditerranéenne | F177: GEND | G177: 2607072034 | H177: 46759 | I177: 1 | J177: PAL | K177: 1162 | L177: =IF(ISBLANK(I177),"",I177*K177) -> 1162 | M177: 7
B178: 46226 | C178: =INDEX(Réference!A:A,MATCH('Suivi reception'!D178,Réference!F:F,0)) -> C0.02 | D178: GESALVEG | E178: =INDEX(Réference!G:G,MATCH('Suivi reception'!D178,Réference!F:F,0)) -> Salade végétarienne | F178: GEND | G178: 2607102097 | H178: 46762 | I178: 5 | J178: PAL | K178: 1344 | L178: =IF(ISBLANK(I178),"",I178*K178) -> 6720 | M178: 7
B179: 46226 | C179: =INDEX(Réference!A:A,MATCH('Suivi reception'!D179,Réference!F:F,0)) -> C0.02 | D179: GESALVEG | E179: =INDEX(Réference!G:G,MATCH('Suivi reception'!D179,Réference!F:F,0)) -> Salade végétarienne | F179: GEND | G179: 2607102097 | H179: 46762 | I179: 1 | J179: PAL | K179: 525 | L179: =IF(ISBLANK(I179),"",I179*K179) -> 525 | M179: 7
B180: 46226 | C180: =INDEX(Réference!A:A,MATCH('Suivi reception'!D180,Réference!F:F,0)) -> B0.10 | D180: GESALIT | E180: =INDEX(Réference!G:G,MATCH('Suivi reception'!D180,Réference!F:F,0)) -> Salade italienne thon | F180: GEND | G180: 2607082037 | H180: 46760 | I180: 13 | J180: PAL | K180: 1344 | L180: =IF(ISBLANK(I180),"",I180*K180) -> 17472 | M180: 7
B181: 46226 | C181: =INDEX(Réference!A:A,MATCH('Suivi reception'!D181,Réference!F:F,0)) -> F0.038 | D181: PAINFRAIS | E181: =INDEX(Réference!G:G,MATCH('Suivi reception'!D181,Réference!F:F,0)) -> Pain hyperprotéiné (2 tranches) | F181: RIET | G181: CE2623069 | H181: 46583 | I181: 5 | J181: PAL | K181: 7200 | L181: =IF(ISBLANK(I181),"",I181*K181) -> 36000 | M181: 120
B182: 46226 | C182: =INDEX(Réference!A:A,MATCH('Suivi reception'!D182,Réference!F:F,0)) -> B0.13 | D182: CFCOLCUR | E182: =INDEX(Réference!G:G,MATCH('Suivi reception'!D182,Réference!F:F,0)) -> Colin sauce curry coco et riz basmati | F182: BOCA | G182: 63305 | H182: 46684 | I182: 6 | J182: PAL | K182: 960 | L182: =IF(ISBLANK(I182),"",I182*K182) -> 5760 | M182: 10
B183: 46226 | C183: =INDEX(Réference!A:A,MATCH('Suivi reception'!D183,Réference!F:F,0)) -> B0.13 | D183: CFCOLCUR | E183: =INDEX(Réference!G:G,MATCH('Suivi reception'!D183,Réference!F:F,0)) -> Colin sauce curry coco et riz basmati | F183: BOCA | G183: 63305 | H183: 46684 | I183: 1 | J183: PAL | K183: 314 | L183: =IF(ISBLANK(I183),"",I183*K183) -> 314 | M183: 10
B184: 46226 | C184: =INDEX(Réference!A:A,MATCH('Suivi reception'!D184,Réference!F:F,0)) -> D0.07 | D184: CFCURRYVEG | E184: =INDEX(Réference!G:G,MATCH('Suivi reception'!D184,Réference!F:F,0)) -> Curry végétarien | F184: BOCA | G184: 63316 | H184: 46685 | I184: 5 | J184: PAL | K184: 1152 | L184: =IF(ISBLANK(I184),"",I184*K184) -> 5760 | M184: 12
B185: 46226 | C185: =INDEX(Réference!A:A,MATCH('Suivi reception'!D185,Réference!F:F,0)) -> D0.07 | D185: CFCURRYVEG | E185: =INDEX(Réference!G:G,MATCH('Suivi reception'!D185,Réference!F:F,0)) -> Curry végétarien | F185: BOCA | G185: 63316 | H185: 46685 | I185: 1 | J185: PAL | K185: 440 | L185: =IF(ISBLANK(I185),"",I185*K185) -> 440 | M185: 12
... B222: 46232 | C222: =INDEX(Réference!A:A,MATCH('Suivi reception'!D222,Réference!F:F,0)) -> G0.020 | D222: PANCAKE-U | E222: =INDEX(Réference!G:G,MATCH('Suivi reception'!D222,Réference!F:F,0)) -> Pancakes x2 | F222: LEMA | G222: 269A | H222: 46291 | I222: 4 | J222: PAL | K222: 5760 | L222: =IF(ISBLANK(I222),"",I222*K222) -> 23040 | M222: 120
B223: 46232 | C223: =INDEX(Réference!A:A,MATCH('Suivi reception'!D223,Réference!F:F,0)) -> GRAADE | D223: 490330001 | E223: =INDEX(Réference!G:G,MATCH('Suivi reception'!D223,Réference!F:F,0)) -> Gourde 1l GRAADE | I223: 2 | J223: COL | K223: 50 | L223: =IF(ISBLANK(I223),"",I223*K223) -> 100 | M223: 50
B224: 46232 | C224: =INDEX(Réference!A:A,MATCH('Suivi reception'!D224,Réference!F:F,0)) -> GRAADE | D224: 490330002 | E224: =INDEX(Réference!G:G,MATCH('Suivi reception'!D224,Réference!F:F,0)) -> Shaker 600ml GRAADE | I224: 1 | J224: COL | K224: 60 | L224: =IF(ISBLANK(I224),"",I224*K224) -> 60 | M224: 60
B225: 46232 | C225: =INDEX(Réference!A:A,MATCH('Suivi reception'!D225,Réference!F:F,0)) -> GRAADE | D225: 490330002 | E225: =INDEX(Réference!G:G,MATCH('Suivi reception'!D225,Réference!F:F,0)) -> Shaker 600ml GRAADE | I225: 1 | J225: COL | K225: 40 | L225: =IF(ISBLANK(I225),"",I225*K225) -> 40 | M225: 60
B226: 46232 | C226: =INDEX(Réference!A:A,MATCH('Suivi reception'!D226,Réference!F:F,0)) -> GRAADE | D226: 490330003 | E226: =INDEX(Réference!G:G,MATCH('Suivi reception'!D226,Réference!F:F,0)) -> Cadenas zinc GRAADE | I226: 1 | J226: COL | K226: 100 | L226: =IF(ISBLANK(I226),"",I226*K226) -> 100 | M226: 15
B227: 46233 | C227: =INDEX(Réference!A:A,MATCH('Suivi reception'!D227,Réference!F:F,0)) -> E0.20 | D227: PAPEP1PRO | E227: =INDEX(Réference!G:G,MATCH('Suivi reception'!D227,Réference!F:F,0)) -> Lot de 4 petits pains protéinés spécial multigrain | F227: PATR | G227: 20260727 | H227: 46316 | I227: 4 | J227: PAL | K227: 576 | L227: =IF(ISBLANK(I227),"",I227*K227) -> 2304 | M227: 12
B228: 46233 | C228: =INDEX(Réference!A:A,MATCH('Suivi reception'!D228,Réference!F:F,0)) -> E0.20 | D228: PAPEP1PRO | E228: =INDEX(Réference!G:G,MATCH('Suivi reception'!D228,Réference!F:F,0)) -> Lot de 4 petits pains protéinés spécial multigrain | F228: PATR | G228: 20260727 | H228: 46316 | I228: 1 | J228: PAL | K228: 504 | L228: =IF(ISBLANK(I228),"",I228*K228) -> 504 | M228: 12
B229: 46233 | C229: =INDEX(Réference!A:A,MATCH('Suivi reception'!D229,Réference!F:F,0)) -> E0.20 | D229: PAPEP1PRO | E229: =INDEX(Réference!G:G,MATCH('Suivi reception'!D229,Réference!F:F,0)) -> Lot de 4 petits pains protéinés spécial multigrain | F229: PATR | G229: 20260713 | H229: 46302 | I229: 1 | J229: PAL | K229: 72 | L229: =IF(ISBLANK(I229),"",I229*K229) -> 72 | M229: 12
B230: 46234 | C230: =INDEX(Réference!A:A,MATCH('Suivi reception'!D230,Réference!F:F,0)) -> F0.036 | D230: TABLIER | E230: =INDEX(Réference!G:G,MATCH('Suivi reception'!D230,Réference!F:F,0)) -> Tablier de cuisine Cheef | I230: 5 | J230: COL | K230: 100 | L230: =IF(ISBLANK(I230),"",I230*K230) -> 500 | M230: 100
B231: 46237 | C231: =INDEX(Réference!A:A,MATCH('Suivi reception'!D231,Réference!F:F,0)) -> B0.21 | D231: INFUSCAMP | E231: =INDEX(Réference!G:G,MATCH('Suivi reception'!D231,Réference!F:F,0)) -> Fusilli campagnardes | F231: INAR | G231: L6142583 | H231: 46531 | I231: 7 | J231: PAL | K231: 1080 | L231: =IF(ISBLANK(I231),"",I231*K231) -> 7560 | M231: 27
B232: 46237 | C232: =INDEX(Réference!A:A,MATCH('Suivi reception'!D232,Réference!F:F,0)) -> B0.21 | D232: INFUSCAMP | E232: =INDEX(Réference!G:G,MATCH('Suivi reception'!D232,Réference!F:F,0)) -> Fusilli campagnardes | F232: INAR | G232: L6142583 | H232: 46531 | I232: 1 | J232: PAL | K232: 756 | L232: =IF(ISBLANK(I232),"",I232*K232) -> 756 | M232: 27
B233: 46237 | C233: =INDEX(Réference!A:A,MATCH('Suivi reception'!D233,Réference!F:F,0)) -> B0.21 | D233: INFUSCAMP | E233: =INDEX(Réference!G:G,MATCH('Suivi reception'!D233,Réference!F:F,0)) -> Fusilli campagnardes | F233: INAR | G233: L6142583 | H233: 46531 | I233: 1 | J233: PAL | K233: 1053 | L233: =IF(ISBLANK(I233),"",I233*K233) -> 1053 | M233: 27
B234: 46237 | C234: =INDEX(Réference!A:A,MATCH('Suivi reception'!D234,Réference!F:F,0)) -> D0.08 | D234: INPAELLA | E234: =INDEX(Réference!G:G,MATCH('Suivi reception'!D234,Réference!F:F,0)) -> Paella | F234: INAR | G234: L6198606 | H234: 46769 | I234: 11 | J234: PAL | K234: 1080 | L234: =IF(ISBLANK(I234),"",I234*K234) -> 11880 | M234: 27
B235: 46237 | C235: =INDEX(Réference!A:A,MATCH('Suivi reception'!D235,Réference!F:F,0)) -> C0.21 | D235: INPOUCHA | E235: =INDEX(Réference!G:G,MATCH('Suivi reception'!D235,Réference!F:F,0)) -> Poulet riz champignons | F235: INAR | G235: L6206553 | H235: 46776 | I235: 17 | J235: PAL | K235: 1080 | L235: =IF(ISBLANK(I235),"",I235*K235) -> 18360 | M235: 27
B236: 46237 | C236: =INDEX(Réference!A:A,MATCH('Suivi reception'!D236,Réference!F:F,0)) -> C0.21 | D236: INPOUCHA | E236: =INDEX(Réference!G:G,MATCH('Suivi reception'!D236,Réference!F:F,0)) -> Poulet riz champignons | F236: INAR | G236: L6206553 | H236: 46776 | I236: 1 | J236: PAL | K236: 270 | L236: =IF(ISBLANK(I236),"",I236*K236) -> 270 | M236: 27
B237: 46237 | C237: =INDEX(Réference!A:A,MATCH('Suivi reception'!D237,Réference!F:F,0)) -> B0.19 | D237: INFUSAU | E237: =INDEX(Réference!G:G,MATCH('Suivi reception'!D237,Réference!F:F,0)) -> Fusilli au saumon, pointe d'ail | F237: INAR | G237: L6168985 | H237: 46559 | I237: 8 | J237: PAL | K237: 1512 | L237: =IF(ISBLANK(I237),"",I237*K237) -> 12096 | M237: 18
B238: 46237 | C238: =INDEX(Réference!A:A,MATCH('Suivi reception'!D238,Réference!F:F,0)) -> B0.19 | D238: INFUSAU | E238: =INDEX(Réference!G:G,MATCH('Suivi reception'!D238,Réference!F:F,0)) -> Fusilli au saumon, pointe d'ail | F238: INAR | G238: L6168985 | H238: 46559 | I238: 1 | J238: PAL | K238: 1206 | L238: =IF(ISBLANK(I238),"",I238*K238) -> 1206 | M238: 18
B239: 46237 | C239: =INDEX(Réference!A:A,MATCH('Suivi reception'!D239,Réference!F:F,0)) -> E0.04 | D239: GESANETH | E239: =INDEX(Réference!G:G,MATCH('Suivi reception'!D239,Réference!F:F,0)) -> Saumon Aneth Riz | F239: GEND | G239: 2607200034 | H239: 46772 | I239: 12 | J239: PAL | K239: 840 | L239: =IF(ISBLANK(I239),"",I239*K239) -> 10080 | M239: 10
B240: 46237 | C240: =INDEX(Réference!A:A,MATCH('Suivi reception'!D240,Réference!F:F,0)) -> G0.017 | D240: FCCAKEVA | E240: =INDEX(Réference!G:G,MATCH('Suivi reception'!D240,Réference!F:F,0)) -> Mini cake vanille | F240: FRAN | G240: 262080023 | H240: 46352 | I240: 1 | J240: PAL | K240: 4200 | L240: =IF(ISBLANK(I240),"",I240*K240) -> 4200 | M240: 50
B241: 46237 | C241: =INDEX(Réference!A:A,MATCH('Suivi reception'!D241,Réference!F:F,0)) -> G0.017 | D241: FCCAKEVA | E241: =INDEX(Réference!G:G,MATCH('Suivi reception'!D241,Réference!F:F,0)) -> Mini cake vanille | F241: FRAN | G241: 262080024 | H241: 46352 | I241: 1 | J241: PAL | K241: 4200 | L241: =IF(ISBLANK(I241),"",I241*K241) -> 4200 | M241: 50
B242: 46237 | C242: =INDEX(Réference!A:A,MATCH('Suivi reception'!D242,Réference!F:F,0)) -> G0.017 | D242: FCCAKEVA | E242: =INDEX(Réference!G:G,MATCH('Suivi reception'!D242,Réference!F:F,0)) -> Mini cake vanille | F242: FRAN | G242: 262080025 | H242: 46352 | I242: 1 | J242: PAL | K242: 3182 | L242: =IF(ISBLANK(I242),"",I242*K242) -> 3182 | M242: 50
... B260: 46238 | C260: =INDEX(Réference!A:A,MATCH('Suivi reception'!D260,Réference!F:F,0)) -> C0.18 | D260: GEBOBOUR | E260: =INDEX(Réference!G:G,MATCH('Suivi reception'!D260,Réference!F:F,0)) -> Bœuf bourguignon | F260: GEND | G260: 2607230164 | H260: 46775 | I260: 1 | J260: PAL | K260: 946 | L260: =IF(ISBLANK(I260),"",I260*K260) -> 946 | M260: 11
B261: 46238 | C261: =INDEX(Réference!A:A,MATCH('Suivi reception'!D261,Réference!F:F,0)) -> F0.040 | D261: LUNCHBAG | E261: =INDEX(Réference!G:G,MATCH('Suivi reception'!D261,Réference!F:F,0)) -> Lunch bag isotherme Cheef | I261: 4 | J261: PAL | K261: 240 | L261: =IF(ISBLANK(I261),"",I261*K261) -> 960 | M261: 40
B262: 46238 | C262: =INDEX(Réference!A:A,MATCH('Suivi reception'!D262,Réference!F:F,0)) -> F0.040 | D262: LUNCHBAG | E262: =INDEX(Réference!G:G,MATCH('Suivi reception'!D262,Réference!F:F,0)) -> Lunch bag isotherme Cheef | I262: 1 | J262: PAL | K262: 80 | L262: =IF(ISBLANK(I262),"",I262*K262) -> 80 | M262: 40
B263: 46238 | C263: =INDEX(Réference!A:A,MATCH('Suivi reception'!D263,Réference!F:F,0)) -> G0.013 | D263: GOURDE | E263: =INDEX(Réference!G:G,MATCH('Suivi reception'!D263,Réference!F:F,0)) -> Gourde isotherme Cheef 500ml | I263: 4 | J263: PAL | K263: 600 | L263: =IF(ISBLANK(I263),"",I263*K263) -> 2400 | M263: 50
B264: 46238 | C264: =INDEX(Réference!A:A,MATCH('Suivi reception'!D264,Réference!F:F,0)) -> G0.013 | D264: GOURDE | E264: =INDEX(Réference!G:G,MATCH('Suivi reception'!D264,Réference!F:F,0)) -> Gourde isotherme Cheef 500ml | I264: 1 | J264: PAL | K264: 200 | L264: =IF(ISBLANK(I264),"",I264*K264) -> 200 | M264: 50
B265: 46238 | C265: =INDEX(Réference!A:A,MATCH('Suivi reception'!D265,Réference!F:F,0)) -> G0.027 | D265: METRE-RB | E265: =INDEX(Réference!G:G,MATCH('Suivi reception'!D265,Réference!F:F,0)) -> Mètre ruban | I265: 1 | J265: PAL | K265: 4300 | L265: =IF(ISBLANK(I265),"",I265*K265) -> 4300 | M265: 50
B266: 46239 | C266: =INDEX(Réference!A:A,MATCH('Suivi reception'!D266,Réference!F:F,0)) -> F0.018 | D266: FCCAKECITPAV | E266: =INDEX(Réference!G:G,MATCH('Suivi reception'!D266,Réference!F:F,0)) -> Mini cakes citron pavot | F266: FRAN | G266: 262100049 | H266: 46354 | I266: 1 | J266: PAL | K266: 3700 | L266: =IF(ISBLANK(I266),"",I266*K266) -> 3700 | M266: 50
B267: 46239 | C267: =INDEX(Réference!A:A,MATCH('Suivi reception'!D267,Réference!F:F,0)) -> F0.019 | D267: FCMARBREBIO | E267: =INDEX(Réference!G:G,MATCH('Suivi reception'!D267,Réference!F:F,0)) -> Mini cake marbré cacao & vanille | F267: FRAN | G267: 262100045 | H267: 46354 | I267: 1 | J267: PAL | K267: 3600 | L267: =IF(ISBLANK(I267),"",I267*K267) -> 3600 | M267: 50
B268: 46240 | C268: =INDEX(Réference!A:A,MATCH('Suivi reception'!D268,Réference!F:F,0)) -> F0.040 | D268: LUNCHBAG | E268: =INDEX(Réference!G:G,MATCH('Suivi reception'!D268,Réference!F:F,0)) -> Lunch bag isotherme Cheef | I268: 2 | J268: PAL | K268: 240 | L268: =IF(ISBLANK(I268),"",I268*K268) -> 480 | M268: 40
B269: 46240 | C269: =INDEX(Réference!A:A,MATCH('Suivi reception'!D269,Réference!F:F,0)) -> G0.013 | D269: GOURDE | E269: =INDEX(Réference!G:G,MATCH('Suivi reception'!D269,Réference!F:F,0)) -> Gourde isotherme Cheef 500ml | I269: 4 | J269: PAL | K269: 600 | L269: =IF(ISBLANK(I269),"",I269*K269) -> 2400 | M269: 50
B270: 46240 | C270: =INDEX(Réference!A:A,MATCH('Suivi reception'!D270,Réference!F:F,0)) -> G0.027 | D270: METRE-RB | E270: =INDEX(Réference!G:G,MATCH('Suivi reception'!D270,Réference!F:F,0)) -> Mètre ruban | I270: 1 | J270: PAL | K270: 6000 | L270: =IF(ISBLANK(I270),"",I270*K270) -> 6000 | M270: 50
B271: 46241 | C271: =INDEX(Réference!A:A,MATCH('Suivi reception'!D271,Réference!F:F,0)) -> D0.17 | D271: COPOULAIG | E271: =INDEX(Réference!G:G,MATCH('Suivi reception'!D271,Réference!F:F,0)) -> Poulet sauce aigre douce et son quinoa | F271: COFI | G271: 26131 | H271: 46702 | I271: 5 | J271: PAL | K271: 672 | L271: =IF(ISBLANK(I271),"",I271*K271) -> 3360 | M271: 8 | N271: RETOUR LOGIBEX
B272: 46241 | C272: =INDEX(Réference!A:A,MATCH('Suivi reception'!D272,Réference!F:F,0)) -> D0.17 | D272: COPOULAIG | E272: =INDEX(Réference!G:G,MATCH('Suivi reception'!D272,Réference!F:F,0)) -> Poulet sauce aigre douce et son quinoa | F272: COFI | G272: 26131 | H272: 46702 | I272: 1 | J272: PAL | K272: 144 | L272: =IF(ISBLANK(I272),"",I272*K272) -> 144 | M272: 8 | N272: RETOUR LOGIBEX
B273: 46241 | C273: =INDEX(Réference!A:A,MATCH('Suivi reception'!D273,Réference!F:F,0)) -> D0.14 | D273: COTAJINEPO | E273: =INDEX(Réference!G:G,MATCH('Suivi reception'!D273,Réference!F:F,0)) -> Tajine de poulet | F273: COFI | G273: 26156 | H273: 46726 | I273: 2 | J273: PAL | K273: 672 | L273: =IF(ISBLANK(I273),"",I273*K273) -> 1344 | M273: 8 | N273: RETOUR LOGIBEX
B274: 46241 | C274: =INDEX(Réference!A:A,MATCH('Suivi reception'!D274,Réference!F:F,0)) -> D0.14 | D274: COTAJINEPO | E274: =INDEX(Réference!G:G,MATCH('Suivi reception'!D274,Réference!F:F,0)) -> Tajine de poulet | F274: COFI | G274: 26156 | H274: 46726 | I274: 1 | J274: PAL | K274: 304 | L274: =IF(ISBLANK(I274),"",I274*K274) -> 304 | M274: 8 | N274: RETOUR LOGIBEX
B275: 46241 | C275: =INDEX(Réference!A:A,MATCH('Suivi reception'!D275,Réference!F:F,0)) -> B0.09 | D275: COLASBOL | E275: =INDEX(Réference!G:G,MATCH('Suivi reception'!D275,Réference!F:F,0)) -> Lasagnes à la Bolognaise | F275: COFI | G275: 26180 | H275: 46933 | I275: 4 | J275: PAL | K275: 672 | L275: =IF(ISBLANK(I275),"",I275*K275) -> 2688 | M275: 8 | N275: RETOUR LOGIBEX
B276: 46241 | C276: =INDEX(Réference!A:A,MATCH('Suivi reception'!D276,Réference!F:F,0)) -> B0.09 | D276: COLASBOL | E276: =INDEX(Réference!G:G,MATCH('Suivi reception'!D276,Réference!F:F,0)) -> Lasagnes à la Bolognaise | F276: COFI | G276: 26180 | H276: 46933 | I276: 1 | J276: PAL | K276: 80 | L276: =IF(ISBLANK(I276),"",I276*K276) -> 80 | M276: 8 | N276: RETOUR LOGIBEX
B277: 46241 | C277: =INDEX(Réference!A:A,MATCH('Suivi reception'!D277,Réference!F:F,0)) -> D0.18 | D277: COMERCIT | E277: =INDEX(Réference!G:G,MATCH('Suivi reception'!D277,Réference!F:F,0)) -> Filet de merlu sauce citron et son riz | F277: COFI | G277: 26077 | H277: 46648 | I277: 10 | J277: PAL | K277: 672 | L277: =IF(ISBLANK(I277),"",I277*K277) -> 6720 | M277: 8 | N277: RETOUR LOGIBEX
B278: 46241 | C278: =INDEX(Réference!A:A,MATCH('Suivi reception'!D278,Réference!F:F,0)) -> A0.19 | D278: COMERKERI | E278: =INDEX(Réference!G:G,MATCH('Suivi reception'!D278,Réference!F:F,0)) -> Merlu Kerala riz complet | F278: COFI | G278: 26173 | H278: 46743 | I278: 4 | J278: PAL | K278: 672 | L278: =IF(ISBLANK(I278),"",I278*K278) -> 2688 | M278: 8 | N278: RETOUR LOGIBEX
B279: 46241 | C279: =INDEX(Réference!A:A,MATCH('Suivi reception'!D279,Réference!F:F,0)) -> A0.19 | D279: COMERKERI | E279: =INDEX(Réference!G:G,MATCH('Suivi reception'!D279,Réference!F:F,0)) -> Merlu Kerala riz complet | F279: COFI | G279: 26173 | H279: 46743 | I279: 1 | J279: PAL | K279: 464 | L279: =IF(ISBLANK(I279),"",I279*K279) -> 464 | M279: 8 | N279: RETOUR LOGIBEX
B280: 46241 | C280: =INDEX(Réference!A:A,MATCH('Suivi reception'!D280,Réference!F:F,0)) -> F0.016 | D280: COMPABRBAN | E280: =INDEX(Réference!G:G,MATCH('Suivi reception'!D280,Réference!F:F,0)) -> Compote pomme abricot banane Bio | F280: PROA | G280: 141 | H280: 46619 | I280: 4 | J280: COL | K280: 72 | L280: =IF(ISBLANK(I280),"",I280*K280) -> 288 | M280: 72
B281: 46241 | C281: =INDEX(Réference!A:A,MATCH('Suivi reception'!D281,Réference!F:F,0)) -> G0.015 | D281: CRKPOIROM | E281: =INDEX(Réference!G:G,MATCH('Suivi reception'!D281,Réference!F:F,0)) -> Crackers pois chiche & romarin | F281: GRAA | G281: L19426 | H281: 46551 | I281: 4 | J281: PAL | K281: 2160 | L281: =IF(ISBLANK(I281),"",I281*K281) -> 8640 | M281: 10
B282: 46241 | C282: =INDEX(Réference!A:A,MATCH('Suivi reception'!D282,Réference!F:F,0)) -> G0.016 | D282: CRKPATPIM | E282: =INDEX(Réference!G:G,MATCH('Suivi reception'!D282,Réference!F:F,0)) -> Crackers patate douce & piment jalapeño | F282: GRAA | G282: L17126 | H282: 46527 | I282: 2 | J282: PAL | K282: 2160 | L282: =IF(ISBLANK(I282),"",I282*K282) -> 4320 | M282: 10
B283: 46241 | C283: =INDEX(Réference!A:A,MATCH('Suivi reception'!D283,Réference!F:F,0)) -> G0.019 | D283: CRKTOMPAP | E283: =INDEX(Réference!G:G,MATCH('Suivi reception'!D283,Réference!F:F,0)) -> Crackers tomate et paprika fumé | F283: GRAA | G283: L15226 | H283: 46508 | I283: 3 | J283: PAL | K283: 2160 | L283: =IF(ISBLANK(I283),"",I283*K283) -> 6480 | M283: 10
B284: 46241 | C284: =INDEX(Réference!A:A,MATCH('Suivi reception'!D284,Réference!F:F,0)) -> G0.019 | D284: CRKTOMPAP | E284: =INDEX(Réference!G:G,MATCH('Suivi reception'!D284,Réference!F:F,0)) -> Crackers tomate et paprika fumé | F284: GRAA | G284: L12726 | H284: 46484 | I284: 1 | J284: PAL | K284: 2160 | L284: =IF(ISBLANK(I284),"",I284*K284) -> 2160 | M284: 10
B285: 46244 | C285: =INDEX(Réference!A:A,MATCH('Suivi reception'!D285,Réference!F:F,0)) -> F0.019 | D285: FCMARBREBIO | E285: =INDEX(Réference!G:G,MATCH('Suivi reception'!D285,Réference!F:F,0)) -> Mini cake marbré cacao & vanille | F285: FRAN | G285: 262100046 | H285: 46354 | I285: 1 | J285: PAL | K285: 4200 | L285: =IF(ISBLANK(I285),"",I285*K285) -> 4200 | M285: 50
B286: 46244 | C286: =INDEX(Réference!A:A,MATCH('Suivi reception'!D286,Réference!F:F,0)) -> F0.019 | D286: FCMARBREBIO | E286: =INDEX(Réference!G:G,MATCH('Suivi reception'!D286,Réference!F:F,0)) -> Mini cake marbré cacao & vanille | F286: FRAN | G286: 262100046 | H286: 46354 | I286: 1 | J286: PAL | K286: 3350 | L286: =IF(ISBLANK(I286),"",I286*K286) -> 3350 | M286: 50
B287: 46245 | C287: =INDEX(Réference!A:A,MATCH('Suivi reception'!D287,Réference!F:F,0)) -> B0.05 | D287: GEPOUCHOU | E287: =INDEX(Réference!G:G,MATCH('Suivi reception'!D287,Réference!F:F,0)) -> Poulet Roti gratin choufleur | F287: GEND | G287: 2604130487 | H287: 46673 | I287: 19 | J287: PAL | K287: 924 | L287: =IF(ISBLANK(I287),"",I287*K287) -> 17556 | M287: 11 | N287: RETOUR LOGIBEX
B288: 46245 | C288: =INDEX(Réference!A:A,MATCH('Suivi reception'!D288,Réference!F:F,0)) -> B0.05 | D288: GEPOUCHOU | E288: =INDEX(Réference!G:G,MATCH('Suivi reception'!D288,Réference!F:F,0)) -> Poulet Roti gratin choufleur | F288: GEND | G288: 2604130487 | H288: 46673 | I288: 1 | J288: PAL | K288: 220 | L288: =IF(ISBLANK(I288),"",I288*K288) -> 220 | M288: 11 | N288: RETOUR LOGIBEX
B289: 46245 | C289: =INDEX(Réference!A:A,MATCH('Suivi reception'!D289,Réference!F:F,0)) -> B0.20 | D289: CFBOULBOEUF | E289: =INDEX(Réference!G:G,MATCH('Suivi reception'!D289,Réference!F:F,0)) -> Boulettes de bœuf sauce tomate Olive | F289: BOCA | G289: 63103 | H289: 46661 | I289: 6 | J289: PAL | K289: 960 | L289: =IF(ISBLANK(I289),"",I289*K289) -> 5760 | M289: 10 | N289: RETOUR LOGIBEX
B290: 46245 | C290: =INDEX(Réference!A:A,MATCH('Suivi reception'!D290,Réference!F:F,0)) -> B0.20 | D290: CFBOULBOEUF | E290: =INDEX(Réference!G:G,MATCH('Suivi reception'!D290,Réference!F:F,0)) -> Boulettes de bœuf sauce tomate Olive | F290: BOCA | G290: 63103 | H290: 46661 | I290: 1 | J290: PAL | K290: 176 | L290: =IF(ISBLANK(I290),"",I290*K290) -> 176 | M290: 10 | N290: RETOUR LOGIBEX
B291: 46247 | C291: =INDEX(Réference!A:A,MATCH('Suivi reception'!D291,Réference!F:F,0)) -> F0.010 | D291: FDBISCHONOI | E291: =INDEX(Réference!G:G,MATCH('Suivi reception'!D291,Réference!F:F,0)) -> Biscuits chocolat noisettes | F291: FOOD | G291: L3166 | H291: 46599 | I291: 3 | J291: PAL | K291: 6336 | L291: =IF(ISBLANK(I291),"",I291*K291) -> 19008 | M291: 99
B292: 46247 | C292: =INDEX(Réference!A:A,MATCH('Suivi reception'!D292,Réference!F:F,0)) -> F0.010 | D292: FDBISCHONOI | E292: =INDEX(Réference!G:G,MATCH('Suivi reception'!D292,Réference!F:F,0)) -> Biscuits chocolat noisettes | F292: FOOD | G292: L3166 | H292: 46599 | I292: 1 | J292: PAL | K292: 4257 | L292: =IF(ISBLANK(I292),"",I292*K292) -> 4257 | M292: 99
B293: 46247 | C293: =INDEX(Réference!A:A,MATCH('Suivi reception'!D293,Réference!F:F,0)) -> C0.01 | D293: SATRPANO | E293: =INDEX(Réference!G:G,MATCH('Suivi reception'!D293,Réference!F:F,0)) -> sachet de 4 tranches de pain noir | F293: SALE | G293: 120826121126 | H293: 46338 | I293: 3 | J293: PAL | K293: 720 | L293: =IF(ISBLANK(I293),"",I293*K293) -> 2160 | M293: 30
...

Sheet Fiche Palette
A3: =INDEX(Réference!A:A,MATCH('Fiche Palette'!A4,Réference!F:F,0)) -> H0.011
