Workbook
Name G0.006: #REF!

Sheet Suivi reception
A1: Selection | B1: DATE | C1: Réf picking | D1: SKU | E1: Désignation | F1: FOURNISSEUR | G1: LOT | H1: DLC | I1: Qté | J1: PAL/COLIS | K1: Quantité pal | L1: TOTAL | M1: Qté Boite | N1: Commentaire
B2: 46196 | C2: =INDEX(Réference!A:A,MATCH('Suivi reception'!D2,Réference!F:F,0)) -> B0.20 | D2: CFBOULBOEUF | E2: =INDEX(Réference!G:G,MATCH('Suivi reception'!D2,Réference!F:F,0)) -> Boulettes de bœuf sauce tomate Olive | F2: BOCA | G2: 63103 | H2: 46661 | I2: 6 | J2: PAL | K2: 960 | L2: =IF(ISBLANK(I2),"",I2*K2) -> 5760 | M2: 10
B3: 46196 | C3: =INDEX(Réference!A:A,MATCH('Suivi reception'!D3,Réference!F:F,0)) -> B0.20 | D3: CFBOULBOEUF | E3: =INDEX(Réference!G:G,MATCH('Suivi reception'!D3,Réference!F:F,0)) -> Boulettes de bœuf sauce tomate Olive | F3: BOCA | G3: 63103 | H3: 46661 | I3: 1 | J3: PAL | K3: 176 | L3: =IF(ISBLANK(I3),"",I3*K3) -> 176 | M3: 10
B4: 46196 | C4: =INDEX(Réference!A:A,MATCH('Suivi reception'!D4,Réference!F:F,0)) -> B0.07 | D4: CFLASSAUM | E4: =INDEX(Réference!G:G,MATCH('Suivi reception'!D4,Réference!F:F,0)) -> Lasagnes saumon épinard | F4: BOCA | G4: 63197 | H4: 46657 | I4: 6 | J4: PAL | K4: 1512 | L4: =IF(ISBLANK(I4),"",I4*K4) -> 9072 | M4: 36
B5: 46196 | C5: =INDEX(Réference!A:A,MATCH('Suivi reception'!D5,Réference!F:F,0)) -> B0.07 | D5: CFLASSAUM | E5: =INDEX(Réference!G:G,MATCH('Suivi reception'!D5,Réference!F:F,0)) -> Lasagnes saumon épinard | F5: BOCA | G5: 63197 | H5: 46657 | I5: 1 | J5: PAL | K5: 1067 | L5: =IF(ISBLANK(I5),"",I5*K5) -> 1067 | M5: 36
B6: 46196 | C6: =INDEX(Réference!A:A,MATCH('Suivi reception'!D6,Réference!F:F,0)) -> C0.11 | D6: CFBLANQUET | E6: =INDEX(Réference!G:G,MATCH('Suivi reception'!D6,Réference!F:F,0)) -> Blanquette de poulet et riz | F6: BOCA | G6: 63108 | H6: 46658 | I6: 10 | J6: PAL | K6: 960 | L6: =IF(ISBLANK(I6),"",I6*K6) -> 9600 | M6: 10
B7: 46196 | C7: =INDEX(Réference!A:A,MATCH('Suivi reception'!D7,Réference!F:F,0)) -> C0.11 | D7: CFBLANQUET | E7: =INDEX(Réference!G:G,MATCH('Suivi reception'!D7,Réference!F:F,0)) -> Blanquette de poulet et riz | F7: BOCA | G7: 63108 | H7: 46658 | I7: 1 | J7: PAL | K7: 284 | L7: =IF(ISBLANK(I7),"",I7*K7) -> 284 | M7: 10
B8: 46196 | C8: =INDEX(Réference!A:A,MATCH('Suivi reception'!D8,Réference!F:F,0)) -> B0.13 | D8: CFCOLCUR | E8: =INDEX(Réference!G:G,MATCH('Suivi reception'!D8,Réference!F:F,0)) -> Colin sauce curry coco et riz basmati | F8: BOCA | G8: 63114 | H8: 46658 | I8: 5 | J8: PAL | K8: 960 | L8: =IF(ISBLANK(I8),"",I8*K8) -> 4800 | M8: 10
B9: 46196 | C9: =INDEX(Réference!A:A,MATCH('Suivi reception'!D9,Réference!F:F,0)) -> B0.13 | D9: CFCOLCUR | E9: =INDEX(Réference!G:G,MATCH('Suivi reception'!D9,Réference!F:F,0)) -> Colin sauce curry coco et riz basmati | F9: BOCA | G9: 63114 | H9: 46658 | I9: 1 | J9: PAL | K9: 704 | L9: =IF(ISBLANK(I9),"",I9*K9) -> 704 | M9: 10
B10: 46196 | C10: =INDEX(Réference!A:A,MATCH('Suivi reception'!D10,Réference!F:F,0)) -> B0.13 | D10: CFCOLCUR | E10: =INDEX(Réference!G:G,MATCH('Suivi reception'!D10,Réference!F:F,0)) -> Colin sauce curry coco et riz basmati | F10: BOCA | G10: 63114 | H10: 46658 | I10: 1 | J10: PAL | K10: 480 | L10: =IF(ISBLANK(I10),"",I10*K10) -> 480 | M10: 10
B11: 46197 | C11: =INDEX(Réference!A:A,MATCH('Suivi reception'!D11,Réference!F:F,0)) -> G0.012 | D11: AIRBISPPO | E11: =INDEX(Réference!G:G,MATCH('Suivi reception'!D11,Réference!F:F,0)) -> Sachet de 2 portions de biscuits apéritifs BIO soufflés aux petits pois et oignons | F11: AIRC | G11: 127349 | H11: 46538 | I11: 5 | J11: PAL | K11: 924 | L11: =IF(ISBLANK(I11),"",I11*K11) -> 4620 | M11: 12
B12: 46197 | C12: =INDEX(Réference!A:A,MATCH('Suivi reception'!D12,Réference!F:F,0)) -> G0.012 | D12: AIRBISPPO | E12: =INDEX(Réference!G:G,MATCH('Suivi reception'!D12,Réference!F:F,0)) -> Sachet de 2 portions de biscuits apéritifs BIO soufflés aux petits pois et oignons | F12: AIRC | G12: 127349 | H12: 46538 | I12: 1 | J12: PAL | K12: 660 | L12: =IF(ISBLANK(I12),"",I12*K12) -> 660 | M12: 12
B13: 46197 | C13: =INDEX(Réference!A:A,MATCH('Suivi reception'!D13,Réference!F:F,0)) -> G0.024 | D13: GUCAAM | E13: =INDEX(Réference!G:G,MATCH('Suivi reception'!D13,Réference!F:F,0)) -> Mix apéro cacahuètes et amandes grillées | F13: DACO | G13: 16152006 | H13: 46354 | I13: 1 | J13: PAL | K13: 3600 | L13: =IF(ISBLANK(I13),"",I13*K13) -> 3600 | M13: 100
... B88: 46204 | C88: =INDEX(Réference!A:A,MATCH('Suivi reception'!D88,Réference!F:F,0)) -> E0.09 | D88: GEFILET | E88: =INDEX(Réference!G:G,MATCH('Suivi reception'!D88,Réference!F:F,0)) -> Filet mignon de porc et écrasés de pommes de terre | F88: GEND | G88: 2606097010 | H88: 46730 | I88: 1 | J88: PAL | K88: 530 | L88: =IF(ISBLANK(I88),"",I88*K88) -> 530 | M88: 10
B89: 46205 | C89: =INDEX(Réference!A:A,MATCH('Suivi reception'!D89,Réference!F:F,0)) -> GRAADE | D89: 700490001 | E89: =INDEX(Réference!G:G,MATCH('Suivi reception'!D89,Réference!F:F,0)) -> Grand coffret GRAADE | F89: SICA | G89: 02072026 | H89: 46570 | I89: 3 | J89: PAL | K89: 500 | L89: =IF(ISBLANK(I89),"",I89*K89) -> 1500 | M89: 500
B90: 46205 | C90: =INDEX(Réference!A:A,MATCH('Suivi reception'!D90,Réference!F:F,0)) -> GRAADE | D90: 700490001 | E90: =INDEX(Réference!G:G,MATCH('Suivi reception'!D90,Réference!F:F,0)) -> Grand coffret GRAADE | F90: SICA | G90: 02072026 | H90: 46570 | I90: 1 | J90: PAL | K90: 350 | L90: =IF(ISBLANK(I90),"",I90*K90) -> 350 | M90: 500
B91: 46205 | C91: =INDEX(Réference!A:A,MATCH('Suivi reception'!D91,Réference!F:F,0)) -> D0.02 | D91: CFCOLOMBO | E91: =INDEX(Réference!G:G,MATCH('Suivi reception'!D91,Réference!F:F,0)) -> Colombo de porc et riz | F91: BOCA | G91: 63310 | H91: 46668 | I91: 9 | J91: PAL | K91: 960 | L91: =IF(ISBLANK(I91),"",I91*K91) -> 8640 | M91: 10
B92: 46205 | C92: =INDEX(Réference!A:A,MATCH('Suivi reception'!D92,Réference!F:F,0)) -> D0.02 | D92: CFCOLOMBO | E92: =INDEX(Réference!G:G,MATCH('Suivi reception'!D92,Réference!F:F,0)) -> Colombo de porc et riz | F92: BOCA | G92: 63310 | H92: 46668 | I92: 1 | J92: PAL | K92: 1055 | L92: =IF(ISBLANK(I92),"",I92*K92) -> 1055 | M92: 10
B93: 46205 | C93: =INDEX(Réference!A:A,MATCH('Suivi reception'!D93,Réference!F:F,0)) -> B0.07 | D93: CFLASSAUM | E93: =INDEX(Réference!G:G,MATCH('Suivi reception'!D93,Réference!F:F,0)) -> Lasagnes saumon épinard | F93: BOCA | G93: 63327 | H93: 46671 | I93: 6 | J93: PAL | K93: 1512 | L93: =IF(ISBLANK(I93),"",I93*K93) -> 9072 | M93: 36
B94: 46205 | C94: =INDEX(Réference!A:A,MATCH('Suivi reception'!D94,Réference!F:F,0)) -> B0.07 | D94: CFLASSAUM | E94: =INDEX(Réference!G:G,MATCH('Suivi reception'!D94,Réference!F:F,0)) -> Lasagnes saumon épinard | F94: BOCA | G94: 63327 | H94: 46671 | I94: 1 | J94: PAL | K94: 972 | L94: =IF(ISBLANK(I94),"",I94*K94) -> 972 | M94: 36
B95: 46205 | C95: =INDEX(Réference!A:A,MATCH('Suivi reception'!D95,Réference!F:F,0)) -> D0.15 | D95: GEGOULASH | E95: =INDEX(Réference!G:G,MATCH('Suivi reception'!D95,Réference!F:F,0)) -> Goulash de Bœuf | F95: GEND | G95: 2606158011 | H95: 46736 | I95: 5 | J95: PAL | K95: 924 | L95: =IF(ISBLANK(I95),"",I95*K95) -> 4620 | M95: 11
B96: 46205 | C96: =INDEX(Réference!A:A,MATCH('Suivi reception'!D96,Réference!F:F,0)) -> D0.15 | D96: GEGOULASH | E96: =INDEX(Réference!G:G,MATCH('Suivi reception'!D96,Réference!F:F,0)) -> Goulash de Bœuf | F96: GEND | G96: 2606158011 | H96: 46736 | I96: 1 | J96: PAL | K96: 506 | L96: =IF(ISBLANK(I96),"",I96*K96) -> 506 | M96: 11
B97: 46205 | C97: =INDEX(Réference!A:A,MATCH('Suivi reception'!D97,Réference!F:F,0)) -> D0.13 | D97: GEGASOJA | E97: =INDEX(Réference!G:G,MATCH('Suivi reception'!D97,Réference!F:F,0)) -> GALETTE DE SOJA TOMATE BASILIC ET LEGUMES DU SOLEIL | F97: GEND | G97: 2606010562 | H97: 46722 | I97: 6 | J97: PAL | K97: 840 | L97: =IF(ISBLANK(I97),"",I97*K97) -> 5040 | M97: 10
B98: 46205 | C98: =INDEX(Réference!A:A,MATCH('Suivi reception'!D98,Réference!F:F,0)) -> D0.13 | D98: GEGASOJA | E98: =INDEX(Réference!G:G,MATCH('Suivi reception'!D98,Réference!F:F,0)) -> GALETTE DE SOJA TOMATE BASILIC ET LEGUMES DU SOLEIL | F98: GEND | G98: 2606220037 | H98: 46743 | I98: 7 | J98: PAL | K98: 840 | L98: =IF(ISBLANK(I98),"",I98*K98) -> 5880 | M98: 10
B99: 46205 | C99: =INDEX(Réference!A:A,MATCH('Suivi reception'!D99,Réference!F:F,0)) -> D0.13 | D99: GEGASOJA | E99: =INDEX(Réference!G:G,MATCH('Suivi reception'!D99,Réference!F:F,0)) -> GALETTE DE SOJA TOMATE BASILIC ET LEGUMES DU SOLEIL | F99: GEND | G99: 2606220037 | H99: 46743 | I99: 1 | J99: PAL | K99: 820 | L99: =IF(ISBLANK(I99),"",I99*K99) -> 820 | M99: 10
B100: 46206 | C100: =INDEX(Réference!A:A,MATCH('Suivi reception'!D100,Réference!F:F,0)) -> B0.01 | D100: GESALBOPO | E100: =INDEX(Réference!G:G,MATCH('Suivi reception'!D100,Réference!F:F,0)) -> Salade de boulgour et poulet | F100: GEND | G100: 2606178479 | H100: 46738 | I100: 8 | J100: PAL | K100: 924 | L100: =IF(ISBLANK(I100),"",I100*K100) -> 7392 | M100: 11
B101: 46206 | C101: =INDEX(Réference!A:A,MATCH('Suivi reception'!D101,Réference!F:F,0)) -> B0.01 | D101: GESALBOPO | E101: =INDEX(Réference!G:G,MATCH('Suivi reception'!D101,Réference!F:F,0)) -> Salade de boulgour et poulet | F101: GEND | G101: 2606178479 | H101: 46738 | I101: 1 | J101: PAL | K101: 187 | L101: =IF(ISBLANK(I101),"",I101*K101) -> 187 | M101: 11
B102: 46209 | C102: =INDEX(Réference!A:A,MATCH('Suivi reception'!D102,Réference!F:F,0)) -> E0.18 | D102: GEPOUMOU | E102: =INDEX(Réference!G:G,MATCH('Suivi reception'!D102,Réference!F:F,0)) -> Emincés de poulet à la moutarde et duo lentilles cuisinées (Poulet Moutarde) | F102: GEND | G102: 2606230027 | H102: 46744 | I102: 7 | J102: PAL | K102: 840 | L102: =IF(ISBLANK(I102),"",I102*K102) -> 5880 | M102: 10
... B169: 46225 | C169: =INDEX(Réference!A:A,MATCH('Suivi reception'!D169,Réference!F:F,0)) -> F0.024 | D169: COMP-DESSUGR | E169: =INDEX(Réference!G:G,MATCH('Suivi reception'!D169,Réference!F:F,0)) -> Destock sucre & graisse (cure 1 mois) - Oxydation des graisses & maintien de la glycémie | F169: NOVA | G169: I2188 | H169: 47299 | I169: 1 | J169: PAL | K169: 1561 | L169: =IF(ISBLANK(I169),"",I169*K169) -> 1561 | M169: 109
B170: 46226 | C170: =INDEX(Réference!A:A,MATCH('Suivi reception'!D170,Réference!F:F,0)) -> B0.05 | D170: GEPOUCHOU | E170: =INDEX(Réference!G:G,MATCH('Suivi reception'!D170,Réference!F:F,0)) -> Poulet Roti gratin choufleur | F170: GEND | G170: 2607080036 | H170: 46760 | I170: 15 | J170: PAL | K170: 924 | L170: =IF(ISBLANK(I170),"",I170*K170) -> 13860
B171: 46226 | C171: =INDEX(Réference!A:A,MATCH('Suivi reception'!D171,Réference!F:F,0)) -> B0.05 | D171: GEPOUCHOU | E171: =INDEX(Réference!G:G,MATCH('Suivi reception'!D171,Réference!F:F,0)) -> Poulet Roti gratin choufleur | F171: GEND | G171: 2607080036 | H171: 46760 | I171: 1 | J171: PAL | K171: 781 | L171: =IF(ISBLANK(I171),"",I171*K171) -> 781
B172: 46226 | C172: =INDEX(Réference!A:A,MATCH('Suivi reception'!D172,Réference!F:F,0)) -> E0.02 | D172: GETRIOQUI | E172: =INDEX(Réference!G:G,MATCH('Suivi reception'!D172,Réference!F:F,0)) -> Trio de quinoa haricots rouges et poivrons | F172: GEND | G172: 2607150035 | H172: 46767 | I172: 8 | J172: PAL | K172: 840 | L172: =IF(ISBLANK(I172),"",I172*K172) -> 6720
B173: 46226 | C173: =INDEX(Réference!A:A,MATCH('Suivi reception'!D173,Réference!F:F,0)) -> E0.02 | D173: GETRIOQUI | E173: =INDEX(Réference!G:G,MATCH('Suivi reception'!D173,Réference!F:F,0)) -> Trio de quinoa haricots rouges et poivrons | F173: GEND | G173: 2607150035 | H173: 46767 | I173: 1 | J173: PAL | K173: 210 | L173: =IF(ISBLANK(I173),"",I173*K173) -> 210
B174: 46226 | C174: =INDEX(Réference!A:A,MATCH('Suivi reception'!D174,Réference!F:F,0)) -> C0.03 | D174: GESALCIT | E174: =INDEX(Réference!G:G,MATCH('Suivi reception'!D174,Réference!F:F,0)) -> Salade Poulet zeste de citron | F174: GEND | G174: 2607092070 | H174: 46761 | I174: 8 | J174: PAL | K174: 1344 | L174: =IF(ISBLANK(I174),"",I174*K174) -> 10752 | M174: 7
B175: 46226 | C175: =INDEX(Réference!A:A,MATCH('Suivi reception'!D175,Réference!F:F,0)) -> C0.03 | D175: GESALCIT | E175: =INDEX(Réference!G:G,MATCH('Suivi reception'!D175,Réference!F:F,0)) -> Salade Poulet zeste de citron | F175: GEND | G175: 2607092070 | H175: 46761 | I175: 1 | J175: PAL | K175: 1288 | L175: =IF(ISBLANK(I175),"",I175*K175) -> 1288 | M175: 7
B176: 46226 | C176: =INDEX(Réference!A:A,MATCH('Suivi reception'!D176,Réference!F:F,0)) -> D0.20 | D176: GESAMED | E176: =INDEX(Réference!G:G,MATCH('Suivi reception'!D176,Réference!F:F,0)) -> Salade de thon à la méditerranéenne | F176: GEND | G176: 2607072034 | H176: 46759 | I176: 7 | J176: PAL | K176: 1344 | L176: =IF(ISBLANK(I176),"",I176*K176) -> 9408 | M176: 7
B177: 46226 | C177: =INDEX(Réference!A:A,MATCH('Suivi reception'!D177,Réference!F:F,0)) -> D0.20 | D177: GESAMED | E177: =INDEX(Réference!G:G,MATCH('Suivi reception'!D177,Réference!F:F,0)) -> Salade de thon à la méditerranéenne | F177: GEND | G177: 2607072034 | H177: 46759 | I177: 1 | J177: PAL | K177: 1162 | L177: =IF(ISBLANK(I177),"",I177*K177) -> 1162 | M177: 7
B178: 46226 | C178: =INDEX(Réference!A:A,MATCH('Suivi reception'!D178,Réference!F:F,0)) -> C0.02 | D178: GESALVEG | E178: =INDEX(Réference!G:G,MATCH('Suivi reception'!D178,Réference!F:F,0)) -> Salade végétarienne | F178: GEND | G178: 2607102097 | H178: 46762 | I178: 5 | J178: PAL | K178: 1344 | L178: =IF(ISBLANK(I178),"",I178*K178) -> 6720 | M178: 7
B179: 46226 | C179: =INDEX(Réference!A:A,MATCH('Suivi reception'!D179,Réference!F:F,0)) -> C0.02 | D179: GESALVEG | E179: =INDEX(Réference!G:G,MATCH('Suivi reception'!D179,Réference!F:F,0)) -> Salade végétarienne | F179: GEND | G179: 2607102097 | H179: 46762 | I179: 1 | J179: PAL | K179: 525 | L179: =IF(ISBLANK(I179),"",I179*K179) -> 525 | M179: 7
B180: 46226 | C180: =INDEX(Réference!A:A,MATCH('Suivi reception'!D180,Réference!F:F,0)) -> B0.10 | D180: GESALIT | E180: =INDEX(Réference!G:G,MATCH('Suivi reception'!D180,Réference!F:F,0)) -> Salade italienne thon | F180: GEND | G180: 2607082037 | H180: 46760 | I180: 13 | J180: PAL | K180: 1344 | L180: =IF(ISBLANK(I180),"",I180*K180) -> 17472 | M180: 7
...

Sheet Fiche Palette
A3: =INDEX(Réference!A:A,MATCH('Fiche Palette'!A4,Réference!F:F,0)) -> H0.011
