Workbook

Sheet CONVERTISSEUR
E9: entrer la valeur du SEN
D10: SEN | E10: 1313
E12: cas 1 | F12: cas 2 | G12: cas 3 | H12: cas 4 | I12: cas 5 | J12: cas 6 | K12: cas 7 | L12: cas 8 | M12: cas 9
D13: YSN | E13: {=BROUILLON!AC73:AK74} -> 2140 | F13: 2143 | G13: aucun | H13: aucun | I13: aucun | J13: aucun | K13: aucun | L13: aucun | M13: aucun
D14: Nb fils | E14: 5 fils (1NO) | F14: 4 fils (1NO) | G14: aucun | H14: aucun | I14: aucun | J14: aucun | K14: aucun | L14: aucun | M14: aucun

Sheet FACADE
D9: entrer la valeur du SEN
C10: SEN | D10: =CONVERTISSEUR!E10 -> 1313
C12: cas 1 | D12: cas 2 | E12: cas 3 | F12: cas 4
B13: YSN | C13: {=CHOOSE(BROUILLON!D56,BROUILLON!G54:J55,BROUILLON!G57:J58,BROUILLON!G60:J61,BROUILLON!G63:J64,BROUILLON!G66:J67,BROUILLON!G69:J70,BROUILLON!G72:J73,BROUILLON!G75:J76,BROUILLON!G78:J79,BROUILLON!G81:J82,BROUILLON!L54:O55,BROUILLON!L57:O58,BROUILLON!L60:O61,BROUILLON!L63:O64,BROUILLON!L66:O67,BROUILLON!L69:O70,BROUILLON!L72:O73,BROUILLON!L75:O76,BROUILLON!L78:O79,BROUILLON!L81:O82,BROUILLON!Q54:T55,BROUILLON!Q57:T58,BROUILLON!Q60:T61,BROUILLON!Q63:T64,BROUILLON!Q66:T67,BROUILLON!Q69:T70,BROUILLON!Q72:T73,BROUILLON!Q75:T76,BROUILLON!V57:Y58,BROUILLON!Q81:T82,BROUILLON!V54:Y55,BROUILLON!V57:Y58,BROUILLON!V60:Y61,BROUILLON!V63:Y64,BROUILLON!V66:Y67,BROUILLON!V69:Y70)} -> #VALUE! | D13: #VALUE! | E13: #VALUE! | F13: #VALUE!
B14: Nb fils | C14: #VALUE! | D14: #VALUE! | E14: #VALUE! | F14: #VALUE!
C15: #VALUE! | D15: #VALUE! | E15: #VALUE! | F15: #VALUE!
C16: #VALUE! | D16: #VALUE! | E16: #VALUE! | F16: #VALUE!
C17: #VALUE! | D17: #VALUE! | E17: #VALUE! | F17: #VALUE!
C18: #VALUE! | D18: #VALUE! | E18: #VALUE! | F18: #VALUE!
C19: #VALUE! | D19: #VALUE! | E19: #VALUE! | F19: #VALUE!
C20: #VALUE! | D20: #VALUE! | E20: #VALUE! | F20: #VALUE!

Sheet BROUILLON
D8: remplacé par : | E8: YSN xxxx = racine du câble
D9: * SEN 1119 | E9: 1 | F9: 2 | G9: 3 | H9: 4 | I9: 5 | J9: 6 | K9: 7 | L9: 8 | M9: 9 | N9: 10 | O9: 11 | P9: 12 | Q9: 13 | R9: 14 | S9: 15 | T9: 16 | U9: 17 | V9: 18 | W9: 19 | X9: 20 | Y9: 21 | Z9: 22 | AA9: 23 | AB9: 24 | AC9: 25 | AD9: 26 | AE9: 27 | AF9: 28 | AG9: 27 | AH9: 28 | AI9: 29 | AJ9: 30 | AK9: 30 | AL9: 32 | AM9: 33 | AN9: 34 | AO9: 35 | AP9: 36 | AQ9: 37 | AR9: 38 | AS9: 39 | AT9: 40 | AU9: 41 | AV9: 42 | AW9: 43 | AX9: 44
D10: ** SEN 1130 | E10: 1253 | F10: 1254 | G10: 1255 | H10: 1256 | I10: 1257 | J10: 1258 | K10: 1264 | L10: 1265 | M10: 1260 | N10: 1299 | O10: 1319 | P10: 1336 | Q10: 1337 | R10: 1385 | S10: 1397 | T10: 1398 | U10: 1627 | V10: 1648 | W10: 1654 | X10: 1656 | Y10: 1678 | Z10: 1717 | AA10: 1866 | AB10: 1886 | AC10: 1955 | AD10: 2005 | AE10: 2007 | AF10: 2062 | AG10: 2007 | AH10: 2062 | AI10: 2140 | AJ10: 2141 | AK10: 2142 | AL10: 2143 | AM10: 2144 | AN10: 2145 | AO10: 2146 | AP10: 2147 | AQ10: 2285 | AR10: 2506 | AS10: 2395 | AT10: 2520 | AU10: 2594 | AV10: 2611
E11: 3 fils (Xplat) | F11: 2 fils (voyant) | G11: 4 fils | H11: 4 fils | I11: 4 fils | J11: 4 fils | K11: 5 fils | L11: 5 fils | M11: 4 fils | N11: 5 fils | O11: 2 fils (bouton) | P11: 4 fils | Q11: 5 fils | R11: 2 fils (voyant) | S11: 4 fils | T11: 3 fils | U11: 3 fils (simple° | V11: 6 fils | W11: 4 fils | Y11: 5 fils ( 1NO) | Z11: 2 fils (voyant) | AA11: 5 fils (avec FB) | AB11: 6 fils | AC11: 3 fils (voy clign) | AD11: 3 fils | AE11: 2 fils | AF11: 5 fils (1NC) | AG11: 2 fils | AH11: 5 fils (1NC) | AI11: 5 fils (1NO) | AJ11: 5 fils (1NC) | AK11: 4 fils (1NC) | AL11: 4 fils (1NO) | AM11: 2 fils (1NO) | AN11: 2 fils (1NC) | AO11: 2 fils (voyant) | AP11: 3 fils (voyant bi) | AQ11: 6fils | AR11: 3fils (VG) | AS11: 4fils (VG) | AT11: 4fils | AU11: 4fils | AV11: 4fils
C12: Référence CI nu | D12: 831 | I12: X
D13: 832 | K13: X
D14: 845 | L14: X
D15: 846 | J15: X
D16: 850 | E16: X
D17: 855 | F17: X | H17: X | O17: X
D18: 858 | H18: X | AA18: X | AD18: X
D19: 868 | F19: X | G19: X | Z19: X
D20: 873 | M20: X | AE20: X | AG20: X
D21: 886 | J21: X
D22: 890 | G22: X
D23: 891 | N23: X | W23: X
D24: 897 | P24: X | Q24: X | R24: X
D25: 918 | H25: X
D26: 923 | S26: X | Y26: X | AF26: X | AH26: X
D27: 926 | P27: X | Q27: X | R27: X
D28: 942 | H28: X
D29: 955 | M29: X | AE29: X | AG29: X
D30: 980 | U30: X
D31: 987 | V31: X | X31: X
D32: 988 | F32: X | H32: X
D33: 1000 | Y33: X
D34: 1008 | H34: X
D35: 1027 | AB35: X
D36: 1028 | Y36: X | AY36: 873 | AZ36: 886 | BA36: 890 | BB36: 891 | BC36: 897 | BD36: 918 | BE36: 923 | BF36: 926 | BG36: 942 | BH36: 955 | BI36: 980 | BJ36: 987 | BK36: 988 | BL36: 1000 | BM36: 1008 | BN36: 1027 | BO36: 1028 | BP36: 1039 | BQ36: 1067 | BR36: 1119 | BS36: 1130 | BT36: 1185 | BU36: 1186 | BV36: 1227 | BW36: 1235 | BX36: 1237 | BY36: 1256 | BZ36: 1308
D37: 1039 | H37: X | AC37: X
D38: 1067 | F38: X | G38: X | Z38: X
D39: 1119 | H39: X (provisoire) | AI39: X | AJ39: X | AK39: X | AL39: X | AM39: X | AN39: X | AO39: X | AP39: X
D40: 1130 | AI40: X | AJ40: X | AK40: X | AL40: X | AM40: X | AN40: X | AO40: X | AP40: X
D41: 1185 | AI41: X
D42: 1186 | AQ42: X | AV42: X
D43: 1227 | AB43: X
D44: 1235 | AI44: X | AR44: X
D45: 1237 | AI45: X | AS45: X
D46: 1256 | AT46: X
D47: 1308 | AU47: X
D48: 1313 | AI48: X | AL48: X
F54: 1 | G54: {=IF(FACADE!D10=BROUILLON!D12,I10:I11)} -> FALSE | H54: aucun | I54: aucun | J54: aucun | K54: 11 | L54: {=IF(FACADE!D10=D22,G10:G11)} -> FALSE | M54: aucun | N54: aucun | O54: aucun | P54: 21 | Q54: {=IF(FACADE!D10=D32,F10:F11)} -> FALSE | R54: {=IF(FACADE!D10=D32,H10:H11)} -> FALSE | S54: aucun | T54: aucun | U54: 31 | V54: {=IF(CONVERTISSEUR!$E$10=BROUILLON!$D$42,AQ10:AQ11)} -> FALSE | W54: {=IF(CONVERTISSEUR!$E$10=BROUILLON!$D$42,AV10:AV11)} -> FALSE | X54: aucun | Y54: aucun
D55: ligne n°: | G55: FALSE | H55: aucun | I55: aucun | J55: aucun | L55: FALSE | M55: aucun | N55: aucun | O55: aucun | Q55: FALSE | R55: FALSE | S55: aucun | T55: aucun | V55: FALSE | W55: FALSE | X55: aucun | Y55: aucun
D56: =MATCH(FACADE!D10,D12:D48,1) -> 37
F57: 2 | G57: {=IF(FACADE!D10=BROUILLON!D13,K10:K11)} -> FALSE | H57: aucun | I57: aucun | J57: aucun | K57: 12 | L57: {=IF(FACADE!D10=D23,N10:N11)} -> FALSE | M57: {=IF(FACADE!D10=D23,W10:W11)} -> FALSE | N57: aucun | O57: aucun | P57: 22 | Q57: {=IF(FACADE!D10=D33,Y10:Y11)} -> FALSE | R57: aucun | S57: aucun | T57: aucun | U57: 32 | V57: {=IF(FACADE!D10=D43,AB10:AB11)} -> FALSE | W57: aucun | X57: aucun | Y57: aucun
G58: FALSE | H58: aucun | I58: aucun | J58: aucun | L58: FALSE | M58: FALSE | N58: aucun | O58: aucun | Q58: FALSE | R58: aucun | S58: aucun | T58: aucun | V58: FALSE | W58: aucun | X58: aucun | Y58: aucun
AC59: SEN | AD59: =FACADE!D10 -> 1313
F60: 3 | G60: {=IF(FACADE!D10=BROUILLON!D14,L10:L11)} -> FALSE | H60: aucun | I60: aucun | J60: aucun | K60: 13 | L60: {=IF(FACADE!D10=D24,P10:P11)} -> FALSE | M60: {=IF(FACADE!D10=D24,Q10:Q11)} -> FALSE | N60: {=IF(FACADE!D10=D24,R10:R11)} -> FALSE | O60: aucun | P60: 23 | Q60: {=IF(FACADE!D10=D34,H10:H11)} -> FALSE | R60: aucun | S60: aucun | T60: aucun | U60: 33 | V60: {=IF(CONVERTISSEUR!$E$10=BROUILLON!$D$44,AI10:AI11)} -> FALSE | W60: {=IF(CONVERTISSEUR!$E$10=BROUILLON!$D$44,AR10:AR11)} -> FALSE | X60: aucun | Y60: aucun
G61: FALSE | H61: aucun | I61: aucun | J61: aucun | L61: FALSE | M61: FALSE | N61: FALSE | O61: aucun | Q61: FALSE | R61: aucun | S61: aucun | T61: aucun | V61: FALSE | W61: FALSE | X61: aucun | Y61: aucun | AC61: cas 1 | AD61: cas 2 | AE61: cas 3 | AF61: cas 4
AB62: YSN | AC62: {=CHOOSE(BROUILLON!D56,BROUILLON!G54:J55,BROUILLON!G57:J58,BROUILLON!G60:J61,BROUILLON!G63:J64,BROUILLON!G66:J67,BROUILLON!G69:J70,BROUILLON!G72:J73,BROUILLON!G75:J76,BROUILLON!G78:J79,BROUILLON!G81:J82,BROUILLON!L54:O55,BROUILLON!L57:O58,BROUILLON!L60:O61,BROUILLON!L63:O64,BROUILLON!L66:O67,BROUILLON!L69:O70,BROUILLON!L72:O73,BROUILLON!L75:O76,BROUILLON!L78:O79,BROUILLON!L81:O82,BROUILLON!Q54:T55,BROUILLON!Q57:T58,BROUILLON!Q60:T61,BROUILLON!Q63:T64,BROUILLON!Q66:T67,BROUILLON!Q69:T70,BROUILLON!Q72:T73,Q75:Y76,Q78:X79,BROUILLON!Q81:T82,BROUILLON!V54:Y55,BROUILLON!V57:Y58,BROUILLON!V60:Y61,BROUILLON!V63:Y64,BROUILLON!V66:Y67,BROUILLON!V69:Y70,V72:Y73)} -> 2140 | AD62: 2143 | AE62: aucun | AF62: aucun | AG62: #N/A | AH62: #N/A | AI62: #N/A | AJ62: #N/A | AK62: #N/A | AL62: #N/A | AM62: #N/A
F63: 4 | G63: {=IF(FACADE!D10=BROUILLON!D15,J10:J11)} -> FALSE | H63: aucun | I63: aucun | J63: aucun | K63: 14 | L63: {=IF(FACADE!D10=D25,H10:H11)} -> FALSE | M63: aucun | N63: aucun | O63: aucun | P63: 24 | Q63: {=IF(FACADE!D10=D35,AB10:AB11)} -> FALSE | R63: aucun | S63: aucun | T63: aucun | U63: 34 | V63: {=IF(CONVERTISSEUR!$E$10=BROUILLON!$D$45,AI10:AI11)} -> FALSE | W63: {=IF(CONVERTISSEUR!$E$10=BROUILLON!$D$45,AS10:AS11)} -> FALSE | X63: aucun | Y63: aucun | AB63: Nb fils | AC63: 5 fils (1NO) | AD63: 4 fils (1NO) | AE63: aucun | AF63: aucun | AG63: #N/A | AH63: #N/A | AI63: #N/A | AJ63: #N/A | AK63: #N/A | AL63: #N/A | AM63: #N/A
G64: FALSE | H64: aucun | I64: aucun | J64: aucun | L64: FALSE | M64: aucun | N64: aucun | O64: aucun | Q64: FALSE | R64: aucun | S64: aucun | T64: aucun | V64: FALSE | W64: FALSE | X64: aucun | Y64: aucun
O65: aucun
F66: 5 | G66: {=IF(FACADE!D10=BROUILLON!D16,E10:E11)} -> FALSE | H66: aucun | I66: aucun | J66: aucun | K66: 15 | L66: {=IF(FACADE!D10=D26,S10:S11)} -> FALSE | M66: {=IF(FACADE!D10=D26,Y10:Y11)} -> FALSE | N66: {=IF(FACADE!D10=D26,AF10:AF11)} -> FALSE | O66: aucun | P66: 25 | Q66: {=IF(FACADE!D10=D36,Y10:Y11)} -> FALSE | R66: aucun | S66: aucun | T66: aucun | U66: 35 | V66: {=IF(CONVERTISSEUR!$E$10=BROUILLON!$D$46,AT10:AT11)} -> FALSE | W66: aucun | X66: aucun | Y66: aucun
G67: FALSE | H67: aucun | I67: aucun | J67: aucun | L67: FALSE | M67: FALSE | N67: FALSE | O67: aucun | Q67: FALSE | R67: aucun | S67: aucun | T67: aucun | V67: FALSE | W67: aucun | X67: aucun | Y67: aucun
F69: 6 | G69: {=IF(FACADE!D10=D17,F10:F11)} -> FALSE | H69: {=IF(FACADE!D10=BROUILLON!D17,H10:H11)} -> FALSE | I69: {=IF(FACADE!D10=BROUILLON!D17,O10:O11)} -> FALSE | J69: aucun | K69: 16 | L69: {=IF(FACADE!D10=D27,P10:P11)} -> FALSE | M69: {=IF(FACADE!D10=D27,Q10:Q11)} -> FALSE | N69: {=IF(FACADE!D10=D27,R10:R11)} -> FALSE | O69: aucun | P69: 26 | Q69: {=IF(FACADE!D10=D37,H10:H11)} -> FALSE | R69: {=IF(FACADE!D10=D37,AC10:AC11)} -> FALSE | S69: aucun | T69: aucun | U69: 36 | V69: {=IF(CONVERTISSEUR!$E$10=BROUILLON!$D$47,AU10:AU11)} -> FALSE | W69: aucun | X69: aucun | Y69: aucun | AC69: {=IF(FACADE!D10=BROUILLON!D12,X83:AA84,IF(FACADE!D10=BROUILLON!D13,BROUILLON!AC62:AF63,IF(FACADE!D10=BROUILLON!D14,BROUILLON!AC62:AF63,IF(FACADE!D10=BROUILLON!D15,AC62:AF63,IF(FACADE!D10=BROUILLON!D16,AC62:AF63,IF(FACADE!D10=BROUILLON!D17,AC62:AF63,IF(FACADE!D10=BROUILLON!D18,AC62:AF63,IF(FACADE!D10=BROUILLON!D19,AC62:AF63,IF(FACADE!D10=BROUILLON!D20,AC62:AF63,IF(FACADE!D10=BROUILLON!D21,AC62:AF63,IF(FACADE!D10=BROUILLON!D22,AC62:AF63,IF(FACADE!D10=BROUILLON!D23,AC62:AF63,IF(FACADE!D10=BROUILLON!D24,AC62:AF63,IF(FACADE!D10=BROUILLON!D25,AC62:AF63,IF(FACADE!D10=BROUILLON!D26,AC62:AF63,IF(FACADE!D10=BROUILLON!D27,AC62:AF63,IF(FACADE!D10=BROUILLON!D28,AC62:AF63,IF(FACADE!D10=BROUILLON!D29,AC62:AF63,IF(FACADE!D10=BROUILLON!D30,AC62:AF63,IF(FACADE!D10=BROUILLON!D31,AC62:AF63,IF(FACADE!D10=BROUILLON!D32,AC62:AF63,IF(FACADE!D10=BROUILLON!D33,AC62:AF63,IF(FACADE!D10=BROUILLON!D34,AC62:AF63,IF(FACADE!D10=BROUILLON!D35,AC62:AF63,IF(FACADE!D10=BROUILLON!D36,AC62:AF63,IF(FACADE!D10=BROUILLON!D37,AC62:AF63,IF(FACADE!D10=BROUILLON!D38,AC62:AF63,IF(FACADE!D10=BROUILLON!D39,AC62:AK63,IF(FACADE!D10=BROUILLON!D40,AC62:AJ63,IF(FACADE!D10=BROUILLON!D41,AC62:AF63,IF(FACADE!D10=BROUILLON!D42,AC62:AF63,IF(FACADE!D10=BROUILLON!D43,AC62:AF63,IF(FACADE!D10=BROUILLON!D44,AC62:AF63,IF(FACADE!D10=BROUILLON!D45,AC62:AF63,IF(FACADE!D10=BROUILLON!D47,AC62:AF63,IF(FACADE!D10=BROUILLON!D48,AC62:AF63,BROUILLON!X83:AA84))))))))))))))))))))))))))))))))))))} -> 2140 | AD69: 2143 | AE69: aucun | AF69: aucun | AG69: #N/A | AH69: #N/A | AI69: #N/A | AJ69: #N/A | AK69: #N/A
G70: FALSE | H70: FALSE | I70: FALSE | J70: aucun | L70: FALSE | M70: FALSE | N70: FALSE | O70: aucun | Q70: FALSE | R70: FALSE | S70: aucun | T70: aucun | V70: FALSE | W70: aucun | X70: aucun | Y70: aucun | AC70: 5 fils (1NO) | AD70: 4 fils (1NO) | AE70: aucun | AF70: aucun | AG70: #N/A | AH70: #N/A | AI70: #N/A | AJ70: #N/A | AK70: #N/A
F72: 7 | G72: {=IF(FACADE!D10=D18,F10:F11)} -> FALSE | H72: {=IF(FACADE!D10=D18,AA10:AA11)} -> FALSE | I72: {=IF(FACADE!D10=D18,AD10:AD11)} -> FALSE | J72: aucun | K72: 17 | L72: {=IF(FACADE!D10=D28,H10:H11)} -> FALSE | M72: aucun | N72: aucun | O72: aucun | P72: 27 | Q72: {=IF(FACADE!D10=D38,F10:F11)} -> FALSE | R72: {=IF(FACADE!D10=D38,G10:G11)} -> FALSE | S72: {=IF(FACADE!D10=D38,Z10:Z11)} -> FALSE | T72: aucun | U72: 37 | V72: {=IF(CONVERTISSEUR!$E$10=BROUILLON!$D$48,AI10:AI11)} -> 2140 | W72: {=IF(CONVERTISSEUR!$E$10=BROUILLON!$D$48,AL10:AL11)} -> 2143 | X72: aucun | Y72: aucun
G73: FALSE | H73: FALSE | I73: FALSE | J73: aucun | L73: FALSE | M73: aucun | N73: aucun | O73: aucun | Q73: FALSE | R73: FALSE | S73: FALSE | T73: aucun | V73: 5 fils (1NO) | W73: 4 fils (1NO) | X73: aucun | Y73: aucun | AC73: =IF(ISNA(AC69),"aucun",AC69) -> 2140 | AD73: =IF(ISNA(AD69),"aucun",AD69) -> 2143 | AE73: =IF(ISNA(AE69),"aucun",AE69) -> aucun | AF73: =IF(ISNA(AF69),"aucun",AF69) -> aucun | AG73: =IF(ISNA(AG69),"aucun",AG69) -> aucun | AH73: =IF(ISNA(AH69),"aucun",AH69) -> aucun | AI73: =IF(ISNA(AI69),"aucun",AI69) -> aucun | AJ73: =IF(ISNA(AJ69),"aucun",AJ69) -> aucun | AK73: =IF(ISNA(AK69),"aucun",AK69) -> aucun
AC74: =IF(ISNA(AC70),"aucun",AC70) -> 5 fils (1NO) | AD74: =IF(ISNA(AD70),"aucun",AD70) -> 4 fils (1NO) | AE74: =IF(ISNA(AE70),"aucun",AE70) -> aucun | AF74: =IF(ISNA(AF70),"aucun",AF70) -> aucun | AG74: =IF(ISNA(AG70),"aucun",AG70) -> aucun | AH74: =IF(ISNA(AH70),"aucun",AH70) -> aucun | AI74: =IF(ISNA(AI70),"aucun",AI70) -> aucun | AJ74: =IF(ISNA(AJ70),"aucun",AJ70) -> aucun | AK74: =IF(ISNA(AK70),"aucun",AK70) -> aucun
F75: 8 | G75: {=IF(FACADE!D10=D19,F10:F11)} -> FALSE | H75: {=IF(FACADE!D10=D19,G10:G11)} -> FALSE | I75: {=IF(FACADE!D10=D19,Z10:Z11)} -> FALSE | J75: aucun | K75: 18 | L75: {=IF(FACADE!D10=D29,M10:M11)} -> FALSE | M75: {=IF(FACADE!D10=D29,AE10:AE11)} -> FALSE | N75: aucun | O75: aucun | P75: 28 | Q75: {=IF(FACADE!D10=D39,H10:H11)} -> FALSE | R75: {=IF(CONVERTISSEUR!$E$10=BROUILLON!$D$39,AI10:AI11)} -> FALSE | S75: {=IF(CONVERTISSEUR!$E$10=BROUILLON!$D$39,AJ10:AJ11)} -> FALSE | T75: {=IF(CONVERTISSEUR!$E$10=BROUILLON!$D$39,AK10:AK11)} -> FALSE | U75: {=IF(CONVERTISSEUR!$E$10=BROUILLON!$D$39,AL10:AL11)} -> FALSE | V75: {=IF(CONVERTISSEUR!$E$10=BROUILLON!$D$39,AM10:AM11)} -> FALSE | W75: {=IF(CONVERTISSEUR!$E$10=BROUILLON!$D$39,AN10:AN11)} -> FALSE | X75: {=IF(CONVERTISSEUR!$E$10=BROUILLON!$D$39,AO10:AO11)} -> FALSE | Y75: {=IF(CONVERTISSEUR!$E$10=BROUILLON!$D$39,AP10:AP11)} -> FALSE
G76: FALSE | H76: FALSE | I76: FALSE | J76: aucun | L76: FALSE | M76: FALSE | N76: aucun | O76: aucun | Q76: FALSE | R76: FALSE | S76: FALSE | T76: FALSE | U76: FALSE | V76: FALSE | W76: FALSE | X76: FALSE | Y76: FALSE
F78: 9 | G78: {=IF(FACADE!D10=D20,M10:M11)} -> FALSE | H78: {=IF(FACADE!D10=D20,AE10:AE11)} -> FALSE | I78: aucun | J78: aucun | K78: 19 | L78: {=IF(FACADE!D10=D30,U10:U11)} -> FALSE | M78: {=IF(FACADE!D10=D30,V10:V11)} -> FALSE | N78: aucun | O78: aucun | P78: 29 | Q78: {=IF(CONVERTISSEUR!$E$10=BROUILLON!$D$40,AI10:AI11)} -> FALSE | R78: {=IF(CONVERTISSEUR!$E$10=BROUILLON!$D$40,AJ10:AJ11)} -> FALSE | S78: {=IF(CONVERTISSEUR!$E$10=BROUILLON!$D$40,AK10:AK11)} -> FALSE | T78: {=IF(CONVERTISSEUR!$E$10=BROUILLON!$D$40,AL10:AL11)} -> FALSE | U78: {=IF(CONVERTISSEUR!$E$10=BROUILLON!$D$40,AM10:AM11)} -> FALSE | V78: {=IF(CONVERTISSEUR!$E$10=BROUILLON!$D$40,AN10:AN11)} -> FALSE | W78: {=IF(CONVERTISSEUR!$E$10=BROUILLON!$D$40,AO10:AO11)} -> FALSE | X78: {=IF(CONVERTISSEUR!$E$10=BROUILLON!$D$40,AP10:AP11)} -> FALSE
G79: FALSE | H79: FALSE | I79: aucun | J79: aucun | L79: FALSE | M79: FALSE | N79: aucun | O79: aucun | Q79: FALSE | R79: FALSE | S79: FALSE | T79: FALSE | U79: FALSE | V79: FALSE | W79: FALSE | X79: FALSE
F81: 10 | G81: {=IF(FACADE!D10=D21,J10:J11)} -> FALSE | H81: aucun | I81: aucun | J81: aucun | K81: 20 | L81: {=IF(FACADE!D10=D31,V10:V11)} -> FALSE | M81: =IF(FACADE!D10=D31,X10) -> FALSE | N81: aucun | O81: aucun | P81: 30 | Q81: {=IF(CONVERTISSEUR!$E$10=BROUILLON!$D$41,AI10:AI11)} -> FALSE | R81: aucun | S81: aucun | T81: aucun
G82: FALSE | H82: aucun | I82: aucun | J82: aucun | L82: FALSE | M82: non définis | N82: aucun | O82: aucun | Q82: FALSE | R82: aucun | S82: aucun | T82: aucun
X83: SEN n'existe pas | Y83: aucun | Z83: aucun | AA83: aucun
X84: SEN n'existe pas | Y84: aucun | Z84: aucun | AA84: aucun
XFD1048576: fin
