Workbook

Sheet CONVERTISSEUR
E9: entrer la valeur du SEN
D10: SEN | E10: 1313
E12: cas 1 | F12: cas 2 | G12: cas 3 | H12: cas 4 | I12: cas 5 | J12: cas 6 | K12: cas 7 | L12: cas 8 | M12: cas 9
D13: YSN | E13: {=BROUILLON!AC73:AK74} -> 2140 | F13: 2143 | G13: aucun | H13: aucun | I13: aucun | J13: aucun | K13: aucun | L13: aucun | M13: aucun
D14: Nb fils | E14: 5 fils (1NO) | F14: 4 fils (1NO) | G14: aucun | H14: aucun | I14: aucun | J14: aucun | K14: aucun | L14: aucun | M14: aucun

Sheet FACADE
D9: entrer la valeur du SEN
C10: SEN | D10: =CONVERTISSEUR!E10 -> 1313
C12: cas 1 | D12: cas 2 | E12: cas 3 | F12: cas 4
B13: YSN | C13: {=CHOOSE(BROUILLON!D56,BROUILLON!G54:J55,BROUILLON!G57:J58,BROUILLON!G60:J61,BROUILLON!G63:J64,BROUILLON!G66:J67,BROUILLON!G69:J70,BROUILLON!G72:J73,BROUILLON!G75:J76,BROUILLON!G78:J79,BROUILLON!G81:J82,BROUILLON!L54:O55,BROUILLON!L57:O58,BROUILLON!L60:O61,BROUILLON!L63:O64,BROUILLON!L66:O67,BROUILLON!L69:O70,BROUILLON!L72:O73,BROUILLON!L75:O76,BROUILLON!L78:O79,BROUILLON!L81:O82,BROUILLON!Q54:T55,BROUILLON!Q57:T58,BROUILLON!Q60:T61,BROUILLON!Q63:T64,BROUILLON!Q66:T67,BROUILLON!Q69:T70,BROUILLON!Q72:T73,BROUILLON!Q75:T76,BROUILLON!V57:Y58,BROUILLON!Q81:T82,BROUILLON!V54:Y55,BROUILLON!V57:Y58,BROUILLON!V60:Y61,BROUILLON!V63:Y64,BROUILLON!V66:Y67,BROUILLON!V69:Y70)} -> #VALUE! | D13: #VALUE! | E13: #VALUE! | F13: #VALUE!
B14: Nb fils | C14: #VALUE! | D14: #VALUE! | E14: #VALUE! | F14: #VALUE!
C15: #VALUE! | D15: #VALUE! | E15: #VALUE! | F15: #VALUE!
C16: #VALUE! | D16: #VALUE! | E16: #VALUE! | F16: #VALUE!
C17: #VALUE! | D17: #VALUE! | E17: #VALUE! | F17: #VALUE!
C18: #VALUE! | D18: #VALUE! | E18: #VALUE! | F18: #VALUE!
C19: #VALUE! | D19: #VALUE! | E19: #VALUE! | F19: #VALUE!
C20: #VALUE! | D20: #VALUE! | E20: #VALUE! | F20: #VALUE!

Sheet BROUILLON
D8: remplacé par : | E8: YSN xxxx = racine du câble
D9: * SEN 1119 | E9: 1 | F9: 2 | G9: 3 | H9: 4 | I9: 5 | J9: 6 | K9: 7 | L9: 8 | M9: 9 | N9: 10 | O9: 11 | P9: 12 | Q9: 13 | R9: 14 | S9: 15 | T9: 16 | U9: 17 | V9: 18 | W9: 19 | X9: 20 | Y9: 21 | Z9: 22 | AA9: 23 | AB9: 24 | AC9: 25 | AD9: 26 | AE9: 27 | AF9: 28 | AG9: 27 | AH9: 28 | AI9: 29 | AJ9: 30 | AK9: 30 | AL9: 32 | AM9: 33 | AN9: 34 | AO9: 35 | AP9: 36 | AQ9: 37 | AR9: 38 | AS9: 39 | AT9: 40 | AU9: 41 | AV9: 42 | AW9: 43 | AX9: 44
D10: ** SEN 1130 | E10: 1253 | F10: 1254 | G10: 1255 | H10: 1256 | I10: 1257 | J10: 1258 | K10: 1264 | L10: 1265 | M10: 1260 | N10: 1299 | O10: 1319 | P10: 1336 | Q10: 1337 | R10: 1385 | S10: 1397 | T10: 1398 | U10: 1627 | V10: 1648 | W10: 1654 | X10: 1656 | Y10: 1678 | Z10: 1717 | AA10: 1866 | AB10: 1886 | AC10: 1955 | AD10: 2005 | AE10: 2007 | AF10: 2062 | AG10: 2007 | AH10: 2062 | AI10: 2140 | AJ10: 2141 | AK10: 2142 | AL10: 2143 | AM10: 2144 | AN10: 2145 | AO10: 2146 | AP10: 2147 | AQ10: 2285 | AR10: 2506 | AS10: 2395 | AT10: 2520 | AU10: 2594 | AV10: 2611
E11: 3 fils (Xplat) | F11: 2 fils (voyant) | G11: 4 fils | H11: 4 fils | I11: 4 fils | J11: 4 fils | K11: 5 fils | L11: 5 fils | M11: 4 fils | N11: 5 fils | O11: 2 fils (bouton) | P11: 4 fils | Q11: 5 fils | R11: 2 fils (voyant) | S11: 4 fils | T11: 3 fils | U11: 3 fils (simple° | V11: 6 fils | W11: 4 fils | Y11: 5 fils ( 1NO) | Z11: 2 fils (voyant) | AA11: 5 fils (avec FB) | AB11: 6 fils | AC11: 3 fils (voy clign) | AD11: 3 fils | AE11: 2 fils | AF11: 5 fils (1NC) | AG11: 2 fils | AH11: 5 fils (1NC) | AI11: 5 fils (1NO) | AJ11: 5 fils (1NC) | AK11: 4 fils (1NC) | AL11: 4 fils (1NO) | AM11: 2 fils (1NO) | AN11: 2 fils (1NC) | AO11: 2 fils (voyant) | AP11: 3 fils (voyant bi) | AQ11: 6fils | AR11: 3fils (VG) | AS11: 4fils (VG) | AT11: 4fils | AU11: 4fils | AV11: 4fils
C12: Référence CI nu | D12: 831 | I12: X
D13: 832 | K13: X
D14: 845 | L14: X
D15: 846 | J15: X
D16: 850 | E16: X
D17: 855 | F17: X | H17: X | O17: X
D18: 858 | H18: X | AA18: X | AD18: X
D19: 868 | F19: X | G19: X | Z19: X
D20: 873 | M20: X | AE20: X | AG20: X
D21: 886 | J21: X
D22: 890 | G22: X
D23: 891 | N23: X | W23: X
D24: 897 | P24: X | Q24: X | R24: X
D25: 918 | H25: X
D26: 923 | S26: X | Y26: X | AF26: X | AH26: X
D27: 926 | P27: X | Q27: X | R27: X
D28: 942 | H28: X
D29: 955 | M29: X | AE29: X | AG29: X
D30: 980 | U30: X
D31: 987 | V31: X | X31: X
D32: 988 | F32: X | H32: X
D33: 1000 | Y33: X
D34: 1008 | H34: X
D35: 1027 | AB35: X
D36: 1028 | Y36: X | AY36: 873 | AZ36: 886 | BA36: 890 | BB36: 891 | BC36: 897 | BD36: 918 | BE36: 923 | BF36: 926 | BG36: 942 | BH36: 955 | BI36: 980 | BJ36: 987 | BK36: 988 | BL36: 1000 | BM36: 1008 | BN36: 1027 | BO36: 1028 | BP36: 1039 | BQ36: 1067 | BR36: 1119 | BS36: 1130 | BT36: 1185 | BU36: 1186 | BV36: 1227 | BW36: 1235 | BX36: 1237 | BY36: 1256 | BZ36: 1308
D37: 1039 | H37: X | AC37: X
D38: 1067 | F38: X | G38: X | Z38: X
D39: 1119 | H39: X (provisoire) | AI39: X | AJ39: X | AK39: X | AL39: X | AM39: X | AN39: X | AO39: X | AP39: X
D40: 1130 | AI40: X | AJ40: X | AK40: X | AL40: X | AM40: X | AN40: X | AO40: X | AP40: X
D41: 1185 | AI41: X
D42: 1186 | AQ42: X | AV42: X
D43: 1227 | AB43: X
D44: 1235 | AI44: X | AR44: X
D45: 1237 | AI45: X | AS45: X
D46: 1256 | AT46: X
D47: 1308 | AU47: X
...
