Workbook

Sheet Mois 1
A1: REMUNERATION
A2: 45717
A6: NOM DU MANDATAIRE : | B6: DUPONT Michel | G6: NOM DE L'AMBASSADEUR : | J6: YYYY yyyy
A7: N° MANDATAIRE : | B7: MA-aamm-0001
A8: DATE D'ENTRÉE : | B8: 44623
A11: PRODUCTION AMBASSADEUR
A12: Nom du Mandataire | B12: Date entrée | C12: Niveau Amb. | D12: N° de la Vente | E12: Signature Acte Authentique | F12: CA HT MaKaza | G12: % Mand. | H12: Base de Calcul CA HT Mand. | I12: % Rem | J12: Commissions | K12: Payé le | L12: Cumul CA HT pour % Rem.
A14: MANDATAIRE 1
A15: MARTIN Paul | B15: 45114 | C15: 1 | F15: 12000 | G15: 1 | H15: 12000 | I15: =IF(ISNUMBER(H15),IF(C15=1,4%,IF(C15=2,2%,"")), "") -> 0.04 | J15: =IF(ISNUMBER(H15),H15*I15,"") -> 480 | L15: =IF(ISNUMBER(I15),G15*H15,"") -> 12000
A16: MARTIN Paul | B16: 45114 | C16: 1 | I16: =IF(ISNUMBER(H16),IF(C16=1,4%,IF(C16=2,2%,"")), "") | J16: =IF(ISNUMBER(H16),H16*I16,"") | L16: =IF(ISNUMBER(I16),L15+(G16*H16),"")
A17: Sous-Total | J17: =SUM(J15:J16) -> 480 | L17: {=IFERROR(LOOKUP(2,1/(L15:L16<>""),L15:L16),"")} -> 12000
A18: MANDATAIRE 2
A19: PALAT Louise | B19: 45324 | C19: 2 | F19: 10000 | G19: 1 | H19: 5000 | I19: =IF(ISNUMBER(H19),IF(C19=1,4%,IF(C19=2,2%,"")), "") -> 0.02 | J19: =IF(ISNUMBER(H19),H19*I19,"") -> 100 | L19: =IF(ISNUMBER(I19),G19*H19,"") -> 5000
A20: PALAT Louise | B20: 45324 | C20: 2 | F20: 8000 | G20: 1 | H20: 8000 | I20: =IF(ISNUMBER(H20),IF(C20=1,4%,IF(C20=2,2%,"")), "") -> 0.02 | J20: =IF(ISNUMBER(H20),H20*I20,"") -> 160 | L20: =IF(ISNUMBER(I20),L19+(G20*H20),"") -> 13000
A21: Sous-Total | J21: =SUM(J19:J20) -> 260 | L21: {=IFERROR(LOOKUP(2,1/(L19:L20<>""),L19:L20),"")} -> 13000
A22: MANDATAIRE 3
A23: DUPONT Clarissz | B23: 45476 | C23: 1 | F23: 5000 | G23: 1 | H23: 5000 | I23: =IF(ISNUMBER(H23),IF(C23=1,4%,IF(C23=2,2%,"")), "") -> 0.04 | J23: =IF(ISNUMBER(H23),H23*I23,"") -> 200 | L23: =IF(ISNUMBER(I23),G23*H23,"") -> 5000
A24: DUPONT Clarissz | B24: 45476 | C24: 1 | I24: =IF(ISNUMBER(H24),IF(C24=1,4%,IF(C24=2,2%,"")), "") | J24: =IF(ISNUMBER(H24),H24*I24,"") | L24: =IF(ISNUMBER(I24),L23+(G24*H24),"")
A25: Sous-Total | J25: =SUM(J23:J24) -> 200 | L25: {=IFERROR(LOOKUP(2,1/(L23:L24<>""),L23:L24),"")} -> 5000
A26: MANDATAIRE 4
A27: DEPAR Louise | B27: 45873 | C27: 1 | F27: 10000 | G27: 1 | H27: 8000 | I27: =IF(ISNUMBER(H27),IF(C27=1,4%,IF(C27=2,2%,"")), "") -> 0.04 | J27: =IF(ISNUMBER(H27),H27*I27,"") -> 320 | L27: =IF(ISNUMBER(I27),G27*H27,"") -> 8000
A28: DEPAR Louise | B28: 45873 | C28: 1 | I28: =IF(ISNUMBER(H28),IF(C28=1,4%,IF(C28=2,2%,"")), "") | J28: =IF(ISNUMBER(H28),H28*I28,"") | L28: =IF(ISNUMBER(I28),L27+(G28*H28),"")
A29: Sous-Total | J29: =SUM(J27:J28) -> 320 | L29: {=IFERROR(LOOKUP(2,1/(L27:L28<>""),L27:L28),"")} -> 8000
A30: MANDATAIRE 5
I31: =IF(ISNUMBER(H31),IF(C31=1,4%,IF(C31=2,2%,"")), "") | J31: =IF(ISNUMBER(H31),H31*I31,"") | L31: =IF(ISNUMBER(I31),G31*H31,"")
I32: =IF(ISNUMBER(H32),IF(C32=1,4%,IF(C32=2,2%,"")), "") | J32: =IF(ISNUMBER(H32),H32*I32,"") | L32: =IF(ISNUMBER(I32),L31+(G32*H32),"")
A33: Sous-Total | J33: =SUM(J31:J32) -> 0 | L33: {=IFERROR(LOOKUP(2,1/(L31:L32<>""),L31:L32),"")}
A34: MANDATAIRE 6
I35: =IF(ISNUMBER(H35),IF(C35=1,4%,IF(C35=2,2%,"")), "") | J35: =IF(ISNUMBER(H35),H35*I35,"") | L35: =IF(ISNUMBER(I35),G35*H35,"")
I36: =IF(ISNUMBER(H36),IF(C36=1,4%,IF(C36=2,2%,"")), "") | J36: =IF(ISNUMBER(H36),H36*I36,"") | L36: =IF(ISNUMBER(I36),L35+(G36*H36),"")
A37: Sous-Total | J37: =SUM(J35:J36) -> 0 | L37: {=IFERROR(LOOKUP(2,1/(L35:L36<>""),L35:L36),"")}
A38: MANDATAIRE 7
J39: =IF(ISNUMBER(H39),H39*I39,"") | L39: =IF(ISNUMBER(I39),G39*H39,"")
I40: =IF(ISNUMBER(H40),IF(C40=1,4%,IF(C40=2,2%,"")), "") | J40: =IF(ISNUMBER(H40),H40*I40,"") | L40: =IF(ISNUMBER(I40),L39+(G40*H40),"")
A41: Sous-Total | J41: =SUM(J39:J40) -> 0 | L41: {=IFERROR(LOOKUP(2,1/(L39:L40<>""),L39:L40),"")}
A42: MANDATAIRE 8
I43: =IF(ISNUMBER(H43),IF(C43=1,4%,IF(C43=2,2%,"")), "") | J43: =IF(ISNUMBER(H43),H43*I43,"") | L43: =IF(ISNUMBER(I43),G43*H43,"")
I44: =IF(ISNUMBER(H44),IF(C44=1,4%,IF(C44=2,2%,"")), "") | J44: =IF(ISNUMBER(H44),H44*I44,"") | L44: =IF(ISNUMBER(I44),L43+(G44*H44),"")
A45: Sous-Total | J45: =SUM(J43:J44) -> 0 | L45: {=IFERROR(LOOKUP(2,1/(L43:L44<>""),L43:L44),"")}
A46: MANDATAIRE 9
...

Sheet Mois 2
A1: REMUNERATION
A2: 45748
A6: NOM DU MANDATAIRE : | B6: DUPONT Michel | G6: NOM DE L'AMBASSADEUR : | J6: YYYY yyyy
A7: N° MANDATAIRE : | B7: MA-aamm-0001
A8: DATE D'ENTRÉE : | B8: 44623
A11: PRODUCTION AMBASSADEUR
A12: Nom du Mandataire | B12: Date entrée | C12: Niveau Amb. | D12: N° de la Vente | E12: Signature Acte Authentique | F12: CA HT MaKaza | G12: % Mand. | H12: Base de Calcul CA HT Mand. | I12: % Rem | J12: Commissions | K12: Payé le | L12: Cumul CA HT pour % Rem.
A14: MANDATAIRE 1
A15: MARTIN Paul | B15: 45114 | C15: 1 | F15: 10000 | G15: 1 | H15: 10000 | I15: =IF(ISNUMBER(H15),IF(C15=1,4%,IF(C15=2,2%,"")), "") -> 0.04 | J15: =IF(ISNUMBER(H15),H15*I15,"") -> 400 | L15: =IF(ISNUMBER(I15),'Mois 1'!L17+(G15*H15),"") -> 22000
A16: MARTIN Paul | B16: 45114 | C16: 1 | I16: =IF(ISNUMBER(H16),IF(C16=1,4%,IF(C16=2,2%,"")), "") | J16: =IF(ISNUMBER(H16),H16*I16,"") | L16: =IF(ISNUMBER(I16),L15+(G16*H16),"")
A17: Sous-Total | J17: =SUM(J15:J16) -> 400 | L17: {=IFERROR(LOOKUP(2,1/(L15:L16<>""),L15:L16),'Mois 1'!L17)} -> 22000
A18: MANDATAIRE 2
A19: PALAT Louise | B19: 45324 | C19: 2 | F19: 10000 | G19: 1 | H19: 10000 | I19: =IF(ISNUMBER(H19),IF(C19=1,4%,IF(C19=2,2%,"")), "") -> 0.02 | J19: =IF(ISNUMBER(H19),H19*I19,"") -> 200 | L19: =IF(ISNUMBER(I19),'Mois 1'!L21+(G19*H19),"") -> 23000
A20: PALAT Louise | B20: 45324 | C20: 2 | I20: =IF(ISNUMBER(H20),IF(C20=1,4%,IF(C20=2,2%,"")), "") | J20: =IF(ISNUMBER(H20),H20*I20,"") | L20: =IF(ISNUMBER(I20),L19+(G20*H20),"")
A21: Sous-Total | J21: =SUM(J19:J20) -> 200 | L21: {=IFERROR(LOOKUP(2,1/(L19:L20<>""),L19:L20),'Mois 1'!L21)} -> 23000
A22: MANDATAIRE 3
A23: DUPONT Clarissz | B23: 45476 | C23: 1 | I23: =IF(ISNUMBER(H23),IF(C23=1,4%,IF(C23=2,2%,"")), "") | J23: =IF(ISNUMBER(H23),H23*I23,"") | L23: =IF(ISNUMBER(I23),'Mois 1'!L25+(G23*H23),"")
A24: DUPONT Clarissz | B24: 45476 | C24: 1 | I24: =IF(ISNUMBER(H24),IF(C24=1,4%,IF(C24=2,2%,"")), "") | J24: =IF(ISNUMBER(H24),H24*I24,"") | L24: =IF(ISNUMBER(I24),L23+(G24*H24),"")
A25: Sous-Total | J25: =SUM(J23:J24) -> 0 | L25: {=IFERROR(LOOKUP(2,1/(L23:L24<>""),L23:L24),'Mois 1'!L25)} -> 5000
A26: MANDATAIRE 4
A27: DEPAR Louise | B27: 45873 | C27: 1 | I27: =IF(ISNUMBER(H27),IF(C27=1,4%,IF(C27=2,2%,"")), "") | J27: =IF(ISNUMBER(H27),H27*I27,"") | L27: =IF(ISNUMBER(I27),'Mois 1'!L29+(G27*H27),"")
A28: DEPAR Louise | B28: 45873 | C28: 1 | I28: =IF(ISNUMBER(H28),IF(C28=1,4%,IF(C28=2,2%,"")), "") | J28: =IF(ISNUMBER(H28),H28*I28,"") | L28: =IF(ISNUMBER(I28),L27+(G28*H28),"")
A29: Sous-Total | J29: =SUM(J27:J28) -> 0 | L29: {=IFERROR(LOOKUP(2,1/(L27:L28<>""),L27:L28),'Mois 1'!L29)} -> 8000
A30: MANDATAIRE 5
I31: =IF(ISNUMBER(H31),IF(C31=1,4%,IF(C31=2,2%,"")), "") | J31: =IF(ISNUMBER(H31),H31*I31,"") | L31: =IF(ISNUMBER(I31),'Mois 1'!L33+(G31*H31),"")
I32: =IF(ISNUMBER(H32),IF(C32=1,4%,IF(C32=2,2%,"")), "") | J32: =IF(ISNUMBER(H32),H32*I32,"") | L32: =IF(ISNUMBER(I32),L31+(G32*H32),"")
A33: Sous-Total | J33: =SUM(J31:J32) -> 0 | L33: {=IFERROR(LOOKUP(2,1/(L31:L32<>""),L31:L32),'Mois 1'!L33)}
A34: MANDATAIRE 6
I35: =IF(ISNUMBER(H35),IF(C35=1,4%,IF(C35=2,2%,"")), "") | J35: =IF(ISNUMBER(H35),H35*I35,"") | L35: =IF(ISNUMBER(I35),'Mois 1'!L37+(G35*H35),"")
I36: =IF(ISNUMBER(H36),IF(C36=1,4%,IF(C36=2,2%,"")), "") | J36: =IF(ISNUMBER(H36),H36*I36,"") | L36: =IF(ISNUMBER(I36),L35+(G36*H36),"")
A37: Sous-Total | J37: =SUM(J35:J36) -> 0 | L37: {=IFERROR(LOOKUP(2,1/(L35:L36<>""),L35:L36),'Mois 1'!L37)}
A38: MANDATAIRE 7
J39: =IF(ISNUMBER(H39),H39*I39,"") | L39: =IF(ISNUMBER(I39),'Mois 1'!L41+(G39*H39),"")
I40: =IF(ISNUMBER(H40),IF(C40=1,4%,IF(C40=2,2%,"")), "") | J40: =IF(ISNUMBER(H40),H40*I40,"") | L40: =IF(ISNUMBER(I40),L39+(G40*H40),"")
A41: Sous-Total | J41: =SUM(J39:J40) -> 0 | L41: {=IFERROR(LOOKUP(2,1/(L39:L40<>""),L39:L40),'Mois 1'!L41)}
A42: MANDATAIRE 8
I43: =IF(ISNUMBER(H43),IF(C43=1,4%,IF(C43=2,2%,"")), "") | J43: =IF(ISNUMBER(H43),H43*I43,"") | L43: =IF(ISNUMBER(I43),'Mois 1'!L45+(G43*H43),"")
I44: =IF(ISNUMBER(H44),IF(C44=1,4%,IF(C44=2,2%,"")), "") | J44: =IF(ISNUMBER(H44),H44*I44,"") | L44: =IF(ISNUMBER(I44),L43+(G44*H44),"")
A45: Sous-Total | J45: =SUM(J43:J44) -> 0 | L45: {=IFERROR(LOOKUP(2,1/(L43:L44<>""),L43:L44),'Mois 1'!L45)}
A46: MANDATAIRE 9
...

Sheet Mois 3
A1: REMUNERATION
A2: 45778
A6: NOM DU MANDATAIRE : | B6: DUPONT Michel | G6: NOM DE L'AMBASSADEUR : | J6: YYYY yyyy
A7: N° MANDATAIRE : | B7: MA-aamm-0001
A8: DATE D'ENTRÉE : | B8: 44623
A11: PRODUCTION AMBASSADEUR
A12: Nom du Mandataire | B12: Date entrée | C12: Niveau Amb. | D12: N° de la Vente | E12: Signature Acte Authentique | F12: CA HT MaKaza | G12: % Mand. | H12: Base de Calcul CA HT Mand. | I12: % Rem | J12: Commissions | K12: Payé le | L12: Cumul CA HT pour % Rem.
A14: MANDATAIRE 1
A15: MARTIN Paul | B15: 45114 | C15: 1 | I15: =IF(ISNUMBER(H15),IF(C15=1,4%,IF(C15=2,2%,"")), "") | J15: =IF(ISNUMBER(H15),H15*I15,"") | L15: =IF(ISNUMBER(I15),'Mois 2'!L17+(G15*H15),"")
A16: MARTIN Paul | B16: 45114 | C16: 1 | I16: =IF(ISNUMBER(H16),IF(C16=1,4%,IF(C16=2,2%,"")), "") | J16: =IF(ISNUMBER(H16),H16*I16,"") | L16: =IF(ISNUMBER(I16),L15+(G16*H16),"")
A17: Sous-Total | J17: =SUM(J15:J16) -> 0 | L17: {=IFERROR(LOOKUP(2,1/(L15:L16<>""),L15:L16),'Mois 2'!L17)} -> 22000
A18: MANDATAIRE 2
A19: PALAT Louise | B19: 45324 | C19: 2 | I19: =IF(ISNUMBER(H19),IF(C19=1,4%,IF(C19=2,2%,"")), "") | J19: =IF(ISNUMBER(H19),H19*I19,"") | L19: =IF(ISNUMBER(I19),'Mois 2'!L21+(G19*H19),"")
A20: PALAT Louise | B20: 45324 | C20: 2 | I20: =IF(ISNUMBER(H20),IF(C20=1,4%,IF(C20=2,2%,"")), "") | J20: =IF(ISNUMBER(H20),H20*I20,"") | L20: =IF(ISNUMBER(I20),L19+(G20*H20),"")
A21: Sous-Total | J21: =SUM(J19:J20) -> 0 | L21: {=IFERROR(LOOKUP(2,1/(L19:L20<>""),L19:L20),'Mois 2'!L21)} -> 23000
A22: MANDATAIRE 3
A23: DUPONT Clarissz | B23: 45476 | C23: 1 | I23: =IF(ISNUMBER(H23),IF(C23=1,4%,IF(C23=2,2%,"")), "") | J23: =IF(ISNUMBER(H23),H23*I23,"") | L23: =IF(ISNUMBER(I23),'Mois 2'!L25+(G23*H23),"")
A24: DUPONT Clarissz | B24: 45476 | C24: 1 | I24: =IF(ISNUMBER(H24),IF(C24=1,4%,IF(C24=2,2%,"")), "") | J24: =IF(ISNUMBER(H24),H24*I24,"") | L24: =IF(ISNUMBER(I24),L23+(G24*H24),"")
A25: Sous-Total | J25: =SUM(J23:J24) -> 0 | L25: {=IFERROR(LOOKUP(2,1/(L23:L24<>""),L23:L24),'Mois 2'!L25)} -> 5000
A26: MANDATAIRE 4
A27: DEPAR Louise | B27: 45873 | C27: 1 | I27: =IF(ISNUMBER(H27),IF(C27=1,4%,IF(C27=2,2%,"")), "") | J27: =IF(ISNUMBER(H27),H27*I27,"") | L27: =IF(ISNUMBER(I27),'Mois 2'!L29+(G27*H27),"")
A28: DEPAR Louise | B28: 45873 | C28: 1 | I28: =IF(ISNUMBER(H28),IF(C28=1,4%,IF(C28=2,2%,"")), "") | J28: =IF(ISNUMBER(H28),H28*I28,"") | L28: =IF(ISNUMBER(I28),L27+(G28*H28),"")
A29: Sous-Total | J29: =SUM(J27:J28) -> 0 | L29: {=IFERROR(LOOKUP(2,1/(L27:L28<>""),L27:L28),'Mois 2'!L29)} -> 8000
A30: MANDATAIRE 5
I31: =IF(ISNUMBER(H31),IF(C31=1,4%,IF(C31=2,2%,"")), "") | J31: =IF(ISNUMBER(H31),H31*I31,"") | L31: =IF(ISNUMBER(I31),'Mois 2'!L33+(G31*H31),"")
I32: =IF(ISNUMBER(H32),IF(C32=1,4%,IF(C32=2,2%,"")), "") | J32: =IF(ISNUMBER(H32),H32*I32,"") | L32: =IF(ISNUMBER(I32),L31+(G32*H32),"")
A33: Sous-Total | J33: =SUM(J31:J32) -> 0 | L33: {=IFERROR(LOOKUP(2,1/(L31:L32<>""),L31:L32),'Mois 2'!L33)}
A34: MANDATAIRE 6
I35: =IF(ISNUMBER(H35),IF(C35=1,4%,IF(C35=2,2%,"")), "") | J35: =IF(ISNUMBER(H35),H35*I35,"") | L35: =IF(ISNUMBER(I35),'Mois 2'!L37+(G35*H35),"")
I36: =IF(ISNUMBER(H36),IF(C36=1,4%,IF(C36=2,2%,"")), "") | J36: =IF(ISNUMBER(H36),H36*I36,"") | L36: =IF(ISNUMBER(I36),L35+(G36*H36),"")
A37: Sous-Total | J37: =SUM(J35:J36) -> 0 | L37: {=IFERROR(LOOKUP(2,1/(L35:L36<>""),L35:L36),'Mois 2'!L37)}
A38: MANDATAIRE 7
J39: =IF(ISNUMBER(H39),H39*I39,"") | L39: =IF(ISNUMBER(I39),'Mois 2'!L41+(G39*H39),"")
I40: =IF(ISNUMBER(H40),IF(C40=1,4%,IF(C40=2,2%,"")), "") | J40: =IF(ISNUMBER(H40),H40*I40,"") | L40: =IF(ISNUMBER(I40),L39+(G40*H40),"")
A41: Sous-Total | J41: =SUM(J39:J40) -> 0 | L41: {=IFERROR(LOOKUP(2,1/(L39:L40<>""),L39:L40),'Mois 2'!L41)}
A42: MANDATAIRE 8
I43: =IF(ISNUMBER(H43),IF(C43=1,4%,IF(C43=2,2%,"")), "") | J43: =IF(ISNUMBER(H43),H43*I43,"") | L43: =IF(ISNUMBER(I43),'Mois 2'!L45+(G43*H43),"")
I44: =IF(ISNUMBER(H44),IF(C44=1,4%,IF(C44=2,2%,"")), "") | J44: =IF(ISNUMBER(H44),H44*I44,"") | L44: =IF(ISNUMBER(I44),L43+(G44*H44),"")
A45: Sous-Total | J45: =SUM(J43:J44) -> 0 | L45: {=IFERROR(LOOKUP(2,1/(L43:L44<>""),L43:L44),'Mois 2'!L45)}
A46: MANDATAIRE 9
...

Sheet Mois 4
A1: REMUNERATION
A2: 45809
A6: NOM DU MANDATAIRE : | B6: DUPONT Michel | G6: NOM DE L'AMBASSADEUR : | J6: YYYY yyyy
A7: N° MANDATAIRE : | B7: MA-aamm-0001
A8: DATE D'ENTRÉE : | B8: 44623
A11: PRODUCTION AMBASSADEUR
A12: Nom du Mandataire | B12: Date entrée | C12: Niveau Amb. | D12: N° de la Vente | E12: Signature Acte Authentique | F12: CA HT MaKaza | G12: % Mand. | H12: Base de Calcul CA HT Mand. | I12: % Rem | J12: Commissions | K12: Payé le | L12: Cumul CA HT pour % Rem.
A14: MANDATAIRE 1
A15: MARTIN Paul | B15: 45114 | C15: 1 | I15: =IF(ISNUMBER(H15),IF(C15=1,4%,IF(C15=2,2%,"")), "") | J15: =IF(ISNUMBER(H15),H15*I15,"") | L15: =IF(ISNUMBER(I15),'Mois 3'!L17+(G15*H15),"")
A16: MARTIN Paul | B16: 45114 | C16: 1 | I16: =IF(ISNUMBER(H16),IF(C16=1,4%,IF(C16=2,2%,"")), "") | J16: =IF(ISNUMBER(H16),H16*I16,"") | L16: =IF(ISNUMBER(I16),L15+(G16*H16),"")
A17: Sous-Total | J17: =SUM(J15:J16) -> 0 | L17: {=IFERROR(LOOKUP(2,1/(L15:L16<>""),L15:L16),'Mois 3'!L17)} -> 22000
A18: MANDATAIRE 2
A19: PALAT Louise | B19: 45324 | C19: 2 | I19: =IF(ISNUMBER(H19),IF(C19=1,4%,IF(C19=2,2%,"")), "") | J19: =IF(ISNUMBER(H19),H19*I19,"") | L19: =IF(ISNUMBER(I19),'Mois 3'!L21+(G19*H19),"")
A20: PALAT Louise | B20: 45324 | C20: 2 | I20: =IF(ISNUMBER(H20),IF(C20=1,4%,IF(C20=2,2%,"")), "") | J20: =IF(ISNUMBER(H20),H20*I20,"") | L20: =IF(ISNUMBER(I20),L19+(G20*H20),"")
A21: Sous-Total | J21: =SUM(J19:J20) -> 0 | L21: {=IFERROR(LOOKUP(2,1/(L19:L20<>""),L19:L20),'Mois 3'!L21)} -> 23000
A22: MANDATAIRE 3
A23: DUPONT Clarissz | B23: 45476 | C23: 1 | I23: =IF(ISNUMBER(H23),IF(C23=1,4%,IF(C23=2,2%,"")), "") | J23: =IF(ISNUMBER(H23),H23*I23,"") | L23: =IF(ISNUMBER(I23),'Mois 3'!L25+(G23*H23),"")
A24: DUPONT Clarissz | B24: 45476 | C24: 1 | I24: =IF(ISNUMBER(H24),IF(C24=1,4%,IF(C24=2,2%,"")), "") | J24: =IF(ISNUMBER(H24),H24*I24,"") | L24: =IF(ISNUMBER(I24),L23+(G24*H24),"")
A25: Sous-Total | J25: =SUM(J23:J24) -> 0 | L25: {=IFERROR(LOOKUP(2,1/(L23:L24<>""),L23:L24),'Mois 3'!L25)} -> 5000
A26: MANDATAIRE 4
A27: DEPAR Louise | B27: 45873 | C27: 1 | I27: =IF(ISNUMBER(H27),IF(C27=1,4%,IF(C27=2,2%,"")), "") | J27: =IF(ISNUMBER(H27),H27*I27,"") | L27: =IF(ISNUMBER(I27),'Mois 3'!L29+(G27*H27),"")
A28: DEPAR Louise | B28: 45873 | C28: 1 | I28: =IF(ISNUMBER(H28),IF(C28=1,4%,IF(C28=2,2%,"")), "") | J28: =IF(ISNUMBER(H28),H28*I28,"") | L28: =IF(ISNUMBER(I28),L27+(G28*H28),"")
A29: Sous-Total | J29: =SUM(J27:J28) -> 0 | L29: {=IFERROR(LOOKUP(2,1/(L27:L28<>""),L27:L28),'Mois 3'!L29)} -> 8000
A30: MANDATAIRE 5
I31: =IF(ISNUMBER(H31),IF(C31=1,4%,IF(C31=2,2%,"")), "") | J31: =IF(ISNUMBER(H31),H31*I31,"") | L31: =IF(ISNUMBER(I31),'Mois 3'!L33+(G31*H31),"")
I32: =IF(ISNUMBER(H32),IF(C32=1,4%,IF(C32=2,2%,"")), "") | J32: =IF(ISNUMBER(H32),H32*I32,"") | L32: =IF(ISNUMBER(I32),L31+(G32*H32),"")
A33: Sous-Total | J33: =SUM(J31:J32) -> 0 | L33: {=IFERROR(LOOKUP(2,1/(L31:L32<>""),L31:L32),'Mois 3'!L33)}
A34: MANDATAIRE 6
I35: =IF(ISNUMBER(H35),IF(C35=1,4%,IF(C35=2,2%,"")), "") | J35: =IF(ISNUMBER(H35),H35*I35,"") | L35: =IF(ISNUMBER(I35),'Mois 3'!L37+(G35*H35),"")
I36: =IF(ISNUMBER(H36),IF(C36=1,4%,IF(C36=2,2%,"")), "") | J36: =IF(ISNUMBER(H36),H36*I36,"") | L36: =IF(ISNUMBER(I36),L35+(G36*H36),"")
A37: Sous-Total | J37: =SUM(J35:J36) -> 0 | L37: {=IFERROR(LOOKUP(2,1/(L35:L36<>""),L35:L36),'Mois 3'!L37)}
A38: MANDATAIRE 7
J39: =IF(ISNUMBER(H39),H39*I39,"") | L39: =IF(ISNUMBER(I39),'Mois 3'!L41+(G39*H39),"")
I40: =IF(ISNUMBER(H40),IF(C40=1,4%,IF(C40=2,2%,"")), "") | J40: =IF(ISNUMBER(H40),H40*I40,"") | L40: =IF(ISNUMBER(I40),L39+(G40*H40),"")
A41: Sous-Total | J41: =SUM(J39:J40) -> 0 | L41: {=IFERROR(LOOKUP(2,1/(L39:L40<>""),L39:L40),'Mois 3'!L41)}
A42: MANDATAIRE 8
I43: =IF(ISNUMBER(H43),IF(C43=1,4%,IF(C43=2,2%,"")), "") | J43: =IF(ISNUMBER(H43),H43*I43,"") | L43: =IF(ISNUMBER(I43),'Mois 3'!L45+(G43*H43),"")
I44: =IF(ISNUMBER(H44),IF(C44=1,4%,IF(C44=2,2%,"")), "") | J44: =IF(ISNUMBER(H44),H44*I44,"") | L44: =IF(ISNUMBER(I44),L43+(G44*H44),"")
A45: Sous-Total | J45: =SUM(J43:J44) -> 0 | L45: {=IFERROR(LOOKUP(2,1/(L43:L44<>""),L43:L44),'Mois 3'!L45)}
A46: MANDATAIRE 9
...

Sheet Mois 5
A1: REMUNERATION
A2: 45839
A6: NOM DU MANDATAIRE : | B6: DUPONT Michel | G6: NOM DE L'AMBASSADEUR : | J6: YYYY yyyy
A7: N° MANDATAIRE : | B7: MA-aamm-0001
A8: DATE D'ENTRÉE : | B8: 44623
A11: PRODUCTION AMBASSADEUR
A12: Nom du Mandataire | B12: Date entrée | C12: Niveau Amb. | D12: N° de la Vente | E12: Signature Acte Authentique | F12: CA HT MaKaza | G12: % Mand. | H12: Base de Calcul CA HT Mand. | I12: % Rem | J12: Commissions | K12: Payé le | L12: Cumul CA HT pour % Rem.
A14: MANDATAIRE 1
A15: MARTIN Paul | B15: 45114 | C15: 1 | I15: =IF(ISNUMBER(H15),IF(C15=1,4%,IF(C15=2,2%,"")), "") | J15: =IF(ISNUMBER(H15),H15*I15,"") | L15: =IF(ISNUMBER(I15),'Mois 4'!L17+(G15*H15),"")
A16: MARTIN Paul | B16: 45114 | C16: 1 | I16: =IF(ISNUMBER(H16),IF(C16=1,4%,IF(C16=2,2%,"")), "") | J16: =IF(ISNUMBER(H16),H16*I16,"") | L16: =IF(ISNUMBER(I16),L15+(G16*H16),"")
A17: Sous-Total | J17: =SUM(J15:J16) -> 0 | L17: {=IFERROR(LOOKUP(2,1/(L15:L16<>""),L15:L16),'Mois 4'!L17)} -> 22000
A18: MANDATAIRE 2
A19: PALAT Louise | B19: 45324 | C19: 2 | I19: =IF(ISNUMBER(H19),IF(C19=1,4%,IF(C19=2,2%,"")), "") | J19: =IF(ISNUMBER(H19),H19*I19,"") | L19: =IF(ISNUMBER(I19),'Mois 4'!L21+(G19*H19),"")
A20: PALAT Louise | B20: 45324 | C20: 2 | I20: =IF(ISNUMBER(H20),IF(C20=1,4%,IF(C20=2,2%,"")), "") | J20: =IF(ISNUMBER(H20),H20*I20,"") | L20: =IF(ISNUMBER(I20),L19+(G20*H20),"")
A21: Sous-Total | J21: =SUM(J19:J20) -> 0 | L21: {=IFERROR(LOOKUP(2,1/(L19:L20<>""),L19:L20),'Mois 4'!L21)} -> 23000
A22: MANDATAIRE 3
A23: DUPONT Clarissz | B23: 45476 | C23: 1 | I23: =IF(ISNUMBER(H23),IF(C23=1,4%,IF(C23=2,2%,"")), "") | J23: =IF(ISNUMBER(H23),H23*I23,"") | L23: =IF(ISNUMBER(I23),'Mois 4'!L25+(G23*H23),"")
A24: DUPONT Clarissz | B24: 45476 | C24: 1 | I24: =IF(ISNUMBER(H24),IF(C24=1,4%,IF(C24=2,2%,"")), "") | J24: =IF(ISNUMBER(H24),H24*I24,"") | L24: =IF(ISNUMBER(I24),L23+(G24*H24),"")
A25: Sous-Total | J25: =SUM(J23:J24) -> 0 | L25: {=IFERROR(LOOKUP(2,1/(L23:L24<>""),L23:L24),'Mois 4'!L25)} -> 5000
A26: MANDATAIRE 4
A27: DEPAR Louise | B27: 45873 | C27: 1 | I27: =IF(ISNUMBER(H27),IF(C27=1,4%,IF(C27=2,2%,"")), "") | J27: =IF(ISNUMBER(H27),H27*I27,"") | L27: =IF(ISNUMBER(I27),'Mois 4'!L29+(G27*H27),"")
A28: DEPAR Louise | B28: 45873 | C28: 1 | I28: =IF(ISNUMBER(H28),IF(C28=1,4%,IF(C28=2,2%,"")), "") | J28: =IF(ISNUMBER(H28),H28*I28,"") | L28: =IF(ISNUMBER(I28),L27+(G28*H28),"")
A29: Sous-Total | J29: =SUM(J27:J28) -> 0 | L29: {=IFERROR(LOOKUP(2,1/(L27:L28<>""),L27:L28),'Mois 4'!L29)} -> 8000
A30: MANDATAIRE 5
I31: =IF(ISNUMBER(H31),IF(C31=1,4%,IF(C31=2,2%,"")), "") | J31: =IF(ISNUMBER(H31),H31*I31,"") | L31: =IF(ISNUMBER(I31),'Mois 4'!L33+(G31*H31),"")
I32: =IF(ISNUMBER(H32),IF(C32=1,4%,IF(C32=2,2%,"")), "") | J32: =IF(ISNUMBER(H32),H32*I32,"") | L32: =IF(ISNUMBER(I32),L31+(G32*H32),"")
A33: Sous-Total | J33: =SUM(J31:J32) -> 0 | L33: {=IFERROR(LOOKUP(2,1/(L31:L32<>""),L31:L32),'Mois 4'!L33)}
A34: MANDATAIRE 6
I35: =IF(ISNUMBER(H35),IF(C35=1,4%,IF(C35=2,2%,"")), "") | J35: =IF(ISNUMBER(H35),H35*I35,"") | L35: =IF(ISNUMBER(I35),'Mois 4'!L37+(G35*H35),"")
I36: =IF(ISNUMBER(H36),IF(C36=1,4%,IF(C36=2,2%,"")), "") | J36: =IF(ISNUMBER(H36),H36*I36,"") | L36: =IF(ISNUMBER(I36),L35+(G36*H36),"")
A37: Sous-Total | J37: =SUM(J35:J36) -> 0 | L37: {=IFERROR(LOOKUP(2,1/(L35:L36<>""),L35:L36),'Mois 4'!L37)}
A38: MANDATAIRE 7
J39: =IF(ISNUMBER(H39),H39*I39,"") | L39: =IF(ISNUMBER(I39),'Mois 4'!L41+(G39*H39),"")
I40: =IF(ISNUMBER(H40),IF(C40=1,4%,IF(C40=2,2%,"")), "") | J40: =IF(ISNUMBER(H40),H40*I40,"") | L40: =IF(ISNUMBER(I40),L39+(G40*H40),"")
A41: Sous-Total | J41: =SUM(J39:J40) -> 0 | L41: {=IFERROR(LOOKUP(2,1/(L39:L40<>""),L39:L40),'Mois 4'!L41)}
A42: MANDATAIRE 8
I43: =IF(ISNUMBER(H43),IF(C43=1,4%,IF(C43=2,2%,"")), "") | J43: =IF(ISNUMBER(H43),H43*I43,"") | L43: =IF(ISNUMBER(I43),'Mois 4'!L45+(G43*H43),"")
I44: =IF(ISNUMBER(H44),IF(C44=1,4%,IF(C44=2,2%,"")), "") | J44: =IF(ISNUMBER(H44),H44*I44,"") | L44: =IF(ISNUMBER(I44),L43+(G44*H44),"")
A45: Sous-Total | J45: =SUM(J43:J44) -> 0 | L45: {=IFERROR(LOOKUP(2,1/(L43:L44<>""),L43:L44),'Mois 4'!L45)}
A46: MANDATAIRE 9
...

Sheet Mois 6
A1: REMUNERATION
A2: 45870
A6: NOM DU MANDATAIRE : | B6: DUPONT Michel | G6: NOM DE L'AMBASSADEUR : | J6: YYYY yyyy
A7: N° MANDATAIRE : | B7: MA-aamm-0001
A8: DATE D'ENTRÉE : | B8: 44623
A11: PRODUCTION AMBASSADEUR
A12: Nom du Mandataire | B12: Date entrée | C12: Niveau Amb. | D12: N° de la Vente | E12: Signature Acte Authentique | F12: CA HT MaKaza | G12: % Mand. | H12: Base de Calcul CA HT Mand. | I12: % Rem | J12: Commissions | K12: Payé le | L12: Cumul CA HT pour % Rem.
A14: MANDATAIRE 1
A15: MARTIN Paul | B15: 45114 | C15: 1 | I15: =IF(ISNUMBER(H15),IF(C15=1,4%,IF(C15=2,2%,"")), "") | J15: =IF(ISNUMBER(H15),H15*I15,"") | L15: =IF(ISNUMBER(I15),'Mois 5'!L17+(G15*H15),"")
A16: MARTIN Paul | B16: 45114 | C16: 1 | I16: =IF(ISNUMBER(H16),IF(C16=1,4%,IF(C16=2,2%,"")), "") | J16: =IF(ISNUMBER(H16),H16*I16,"") | L16: =IF(ISNUMBER(I16),L15+(G16*H16),"")
A17: Sous-Total | J17: =SUM(J15:J16) -> 0 | L17: {=IFERROR(LOOKUP(2,1/(L15:L16<>""),L15:L16),'Mois 5'!L17)} -> 22000
A18: MANDATAIRE 2
A19: PALAT Louise | B19: 45324 | C19: 2 | I19: =IF(ISNUMBER(H19),IF(C19=1,4%,IF(C19=2,2%,"")), "") | J19: =IF(ISNUMBER(H19),H19*I19,"") | L19: =IF(ISNUMBER(I19),'Mois 5'!L21+(G19*H19),"")
A20: PALAT Louise | B20: 45324 | C20: 2 | I20: =IF(ISNUMBER(H20),IF(C20=1,4%,IF(C20=2,2%,"")), "") | J20: =IF(ISNUMBER(H20),H20*I20,"") | L20: =IF(ISNUMBER(I20),L19+(G20*H20),"")
A21: Sous-Total | J21: =SUM(J19:J20) -> 0 | L21: {=IFERROR(LOOKUP(2,1/(L19:L20<>""),L19:L20),'Mois 5'!L21)} -> 23000
A22: MANDATAIRE 3
A23: DUPONT Clarissz | B23: 45476 | C23: 1 | I23: =IF(ISNUMBER(H23),IF(C23=1,4%,IF(C23=2,2%,"")), "") | J23: =IF(ISNUMBER(H23),H23*I23,"") | L23: =IF(ISNUMBER(I23),'Mois 5'!L25+(G23*H23),"")
A24: DUPONT Clarissz | B24: 45476 | C24: 1 | I24: =IF(ISNUMBER(H24),IF(C24=1,4%,IF(C24=2,2%,"")), "") | J24: =IF(ISNUMBER(H24),H24*I24,"") | L24: =IF(ISNUMBER(I24),L23+(G24*H24),"")
A25: Sous-Total | J25: =SUM(J23:J24) -> 0 | L25: {=IFERROR(LOOKUP(2,1/(L23:L24<>""),L23:L24),'Mois 5'!L25)} -> 5000
A26: MANDATAIRE 4
A27: DEPAR Louise | B27: 45873 | C27: 1 | I27: =IF(ISNUMBER(H27),IF(C27=1,4%,IF(C27=2,2%,"")), "") | J27: =IF(ISNUMBER(H27),H27*I27,"") | L27: =IF(ISNUMBER(I27),'Mois 5'!L29+(G27*H27),"")
A28: DEPAR Louise | B28: 45873 | C28: 1 | I28: =IF(ISNUMBER(H28),IF(C28=1,4%,IF(C28=2,2%,"")), "") | J28: =IF(ISNUMBER(H28),H28*I28,"") | L28: =IF(ISNUMBER(I28),L27+(G28*H28),"")
A29: Sous-Total | J29: =SUM(J27:J28) -> 0 | L29: {=IFERROR(LOOKUP(2,1/(L27:L28<>""),L27:L28),'Mois 5'!L29)} -> 8000
A30: MANDATAIRE 5
I31: =IF(ISNUMBER(H31),IF(C31=1,4%,IF(C31=2,2%,"")), "") | J31: =IF(ISNUMBER(H31),H31*I31,"") | L31: =IF(ISNUMBER(I31),'Mois 5'!L33+(G31*H31),"")
I32: =IF(ISNUMBER(H32),IF(C32=1,4%,IF(C32=2,2%,"")), "") | J32: =IF(ISNUMBER(H32),H32*I32,"") | L32: =IF(ISNUMBER(I32),L31+(G32*H32),"")
A33: Sous-Total | J33: =SUM(J31:J32) -> 0 | L33: {=IFERROR(LOOKUP(2,1/(L31:L32<>""),L31:L32),'Mois 5'!L33)}
A34: MANDATAIRE 6
I35: =IF(ISNUMBER(H35),IF(C35=1,4%,IF(C35=2,2%,"")), "") | J35: =IF(ISNUMBER(H35),H35*I35,"") | L35: =IF(ISNUMBER(I35),'Mois 5'!L37+(G35*H35),"")
I36: =IF(ISNUMBER(H36),IF(C36=1,4%,IF(C36=2,2%,"")), "") | J36: =IF(ISNUMBER(H36),H36*I36,"") | L36: =IF(ISNUMBER(I36),L35+(G36*H36),"")
A37: Sous-Total | J37: =SUM(J35:J36) -> 0 | L37: {=IFERROR(LOOKUP(2,1/(L35:L36<>""),L35:L36),'Mois 5'!L37)}
A38: MANDATAIRE 7
J39: =IF(ISNUMBER(H39),H39*I39,"") | L39: =IF(ISNUMBER(I39),'Mois 5'!L41+(G39*H39),"")
I40: =IF(ISNUMBER(H40),IF(C40=1,4%,IF(C40=2,2%,"")), "") | J40: =IF(ISNUMBER(H40),H40*I40,"") | L40: =IF(ISNUMBER(I40),L39+(G40*H40),"")
A41: Sous-Total | J41: =SUM(J39:J40) -> 0 | L41: {=IFERROR(LOOKUP(2,1/(L39:L40<>""),L39:L40),'Mois 5'!L41)}
A42: MANDATAIRE 8
I43: =IF(ISNUMBER(H43),IF(C43=1,4%,IF(C43=2,2%,"")), "") | J43: =IF(ISNUMBER(H43),H43*I43,"") | L43: =IF(ISNUMBER(I43),'Mois 5'!L45+(G43*H43),"")
I44: =IF(ISNUMBER(H44),IF(C44=1,4%,IF(C44=2,2%,"")), "") | J44: =IF(ISNUMBER(H44),H44*I44,"") | L44: =IF(ISNUMBER(I44),L43+(G44*H44),"")
A45: Sous-Total | J45: =SUM(J43:J44) -> 0 | L45: {=IFERROR(LOOKUP(2,1/(L43:L44<>""),L43:L44),'Mois 5'!L45)}
A46: MANDATAIRE 9
...

Sheet Mois 7
A1: REMUNERATION
A2: 45901
A6: NOM DU MANDATAIRE : | B6: DUPONT Michel | G6: NOM DE L'AMBASSADEUR : | J6: YYYY yyyy
A7: N° MANDATAIRE : | B7: MA-aamm-0001
A8: DATE D'ENTRÉE : | B8: 44623
A11: PRODUCTION AMBASSADEUR
A12: Nom du Mandataire | B12: Date entrée | C12: Niveau Amb. | D12: N° de la Vente | E12: Signature Acte Authentique | F12: CA HT MaKaza | G12: % Mand. | H12: Base de Calcul CA HT Mand. | I12: % Rem | J12: Commissions | K12: Payé le | L12: Cumul CA HT pour % Rem.
A14: MANDATAIRE 1
A15: MARTIN Paul | B15: 45114 | C15: 1 | I15: =IF(ISNUMBER(H15),IF(C15=1,4%,IF(C15=2,2%,"")), "") | J15: =IF(ISNUMBER(H15),H15*I15,"") | L15: =IF(ISNUMBER(I15),'Mois 6'!L17+(G15*H15),"")
A16: MARTIN Paul | B16: 45114 | C16: 1 | I16: =IF(ISNUMBER(H16),IF(C16=1,4%,IF(C16=2,2%,"")), "") | J16: =IF(ISNUMBER(H16),H16*I16,"") | L16: =IF(ISNUMBER(I16),L15+(G16*H16),"")
A17: Sous-Total | J17: =SUM(J15:J16) -> 0 | L17: {=IFERROR(LOOKUP(2,1/(L15:L16<>""),L15:L16),'Mois 6'!L17)} -> 22000
A18: MANDATAIRE 2
A19: PALAT Louise | B19: 45324 | C19: 2 | I19: =IF(ISNUMBER(H19),IF(C19=1,4%,IF(C19=2,2%,"")), "") | J19: =IF(ISNUMBER(H19),H19*I19,"") | L19: =IF(ISNUMBER(I19),'Mois 6'!L21+(G19*H19),"")
A20: PALAT Louise | B20: 45324 | C20: 2 | I20: =IF(ISNUMBER(H20),IF(C20=1,4%,IF(C20=2,2%,"")), "") | J20: =IF(ISNUMBER(H20),H20*I20,"") | L20: =IF(ISNUMBER(I20),L19+(G20*H20),"")
A21: Sous-Total | J21: =SUM(J19:J20) -> 0 | L21: {=IFERROR(LOOKUP(2,1/(L19:L20<>""),L19:L20),'Mois 6'!L21)} -> 23000
A22: MANDATAIRE 3
A23: DUPONT Clarissz | B23: 45476 | C23: 1 | I23: =IF(ISNUMBER(H23),IF(C23=1,4%,IF(C23=2,2%,"")), "") | J23: =IF(ISNUMBER(H23),H23*I23,"") | L23: =IF(ISNUMBER(I23),'Mois 6'!L25+(G23*H23),"")
A24: DUPONT Clarissz | B24: 45476 | C24: 1 | I24: =IF(ISNUMBER(H24),IF(C24=1,4%,IF(C24=2,2%,"")), "") | J24: =IF(ISNUMBER(H24),H24*I24,"") | L24: =IF(ISNUMBER(I24),L23+(G24*H24),"")
A25: Sous-Total | J25: =SUM(J23:J24) -> 0 | L25: {=IFERROR(LOOKUP(2,1/(L23:L24<>""),L23:L24),'Mois 6'!L25)} -> 5000
A26: MANDATAIRE 4
A27: DEPAR Louise | B27: 45873 | C27: 1 | I27: =IF(ISNUMBER(H27),IF(C27=1,4%,IF(C27=2,2%,"")), "") | J27: =IF(ISNUMBER(H27),H27*I27,"") | L27: =IF(ISNUMBER(I27),'Mois 6'!L29+(G27*H27),"")
A28: DEPAR Louise | B28: 45873 | C28: 1 | I28: =IF(ISNUMBER(H28),IF(C28=1,4%,IF(C28=2,2%,"")), "") | J28: =IF(ISNUMBER(H28),H28*I28,"") | L28: =IF(ISNUMBER(I28),L27+(G28*H28),"")
A29: Sous-Total | J29: =SUM(J27:J28) -> 0 | L29: {=IFERROR(LOOKUP(2,1/(L27:L28<>""),L27:L28),'Mois 6'!L29)} -> 8000
A30: MANDATAIRE 5
I31: =IF(ISNUMBER(H31),IF(C31=1,4%,IF(C31=2,2%,"")), "") | J31: =IF(ISNUMBER(H31),H31*I31,"") | L31: =IF(ISNUMBER(I31),'Mois 6'!L33+(G31*H31),"")
I32: =IF(ISNUMBER(H32),IF(C32=1,4%,IF(C32=2,2%,"")), "") | J32: =IF(ISNUMBER(H32),H32*I32,"") | L32: =IF(ISNUMBER(I32),L31+(G32*H32),"")
A33: Sous-Total | J33: =SUM(J31:J32) -> 0 | L33: {=IFERROR(LOOKUP(2,1/(L31:L32<>""),L31:L32),'Mois 6'!L33)}
A34: MANDATAIRE 6
I35: =IF(ISNUMBER(H35),IF(C35=1,4%,IF(C35=2,2%,"")), "") | J35: =IF(ISNUMBER(H35),H35*I35,"") | L35: =IF(ISNUMBER(I35),'Mois 6'!L37+(G35*H35),"")
I36: =IF(ISNUMBER(H36),IF(C36=1,4%,IF(C36=2,2%,"")), "") | J36: =IF(ISNUMBER(H36),H36*I36,"") | L36: =IF(ISNUMBER(I36),L35+(G36*H36),"")
A37: Sous-Total | J37: =SUM(J35:J36) -> 0 | L37: {=IFERROR(LOOKUP(2,1/(L35:L36<>""),L35:L36),'Mois 6'!L37)}
A38: MANDATAIRE 7
J39: =IF(ISNUMBER(H39),H39*I39,"") | L39: =IF(ISNUMBER(I39),'Mois 6'!L41+(G39*H39),"")
I40: =IF(ISNUMBER(H40),IF(C40=1,4%,IF(C40=2,2%,"")), "") | J40: =IF(ISNUMBER(H40),H40*I40,"") | L40: =IF(ISNUMBER(I40),L39+(G40*H40),"")
A41: Sous-Total | J41: =SUM(J39:J40) -> 0 | L41: {=IFERROR(LOOKUP(2,1/(L39:L40<>""),L39:L40),'Mois 6'!L41)}
A42: MANDATAIRE 8
I43: =IF(ISNUMBER(H43),IF(C43=1,4%,IF(C43=2,2%,"")), "") | J43: =IF(ISNUMBER(H43),H43*I43,"") | L43: =IF(ISNUMBER(I43),'Mois 6'!L45+(G43*H43),"")
I44: =IF(ISNUMBER(H44),IF(C44=1,4%,IF(C44=2,2%,"")), "") | J44: =IF(ISNUMBER(H44),H44*I44,"") | L44: =IF(ISNUMBER(I44),L43+(G44*H44),"")
A45: Sous-Total | J45: =SUM(J43:J44) -> 0 | L45: {=IFERROR(LOOKUP(2,1/(L43:L44<>""),L43:L44),'Mois 6'!L45)}
A46: MANDATAIRE 9
...

Sheet Mois 8
A1: REMUNERATION
A2: 45931
A6: NOM DU MANDATAIRE : | B6: DUPONT Michel | G6: NOM DE L'AMBASSADEUR : | J6: YYYY yyyy
A7: N° MANDATAIRE : | B7: MA-aamm-0001
A8: DATE D'ENTRÉE : | B8: 44623
A11: PRODUCTION AMBASSADEUR
A12: Nom du Mandataire | B12: Date entrée | C12: Niveau Amb. | D12: N° de la Vente | E12: Signature Acte Authentique | F12: CA HT MaKaza | G12: % Mand. | H12: Base de Calcul CA HT Mand. | I12: % Rem | J12: Commissions | K12: Payé le | L12: Cumul CA HT pour % Rem.
A14: MANDATAIRE 1
A15: MARTIN Paul | B15: 45114 | C15: 1 | I15: =IF(ISNUMBER(H15),IF(C15=1,4%,IF(C15=2,2%,"")), "") | J15: =IF(ISNUMBER(H15),H15*I15,"") | L15: =IF(ISNUMBER(I15),'Mois 7'!L17+(G15*H15),"")
A16: MARTIN Paul | B16: 45114 | C16: 1 | I16: =IF(ISNUMBER(H16),IF(C16=1,4%,IF(C16=2,2%,"")), "") | J16: =IF(ISNUMBER(H16),H16*I16,"") | L16: =IF(ISNUMBER(I16),L15+(G16*H16),"")
A17: Sous-Total | J17: =SUM(J15:J16) -> 0 | L17: {=IFERROR(LOOKUP(2,1/(L15:L16<>""),L15:L16),'Mois 7'!L17)} -> 22000
A18: MANDATAIRE 2
A19: PALAT Louise | B19: 45324 | C19: 2 | I19: =IF(ISNUMBER(H19),IF(C19=1,4%,IF(C19=2,2%,"")), "") | J19: =IF(ISNUMBER(H19),H19*I19,"") | L19: =IF(ISNUMBER(I19),'Mois 7'!L21+(G19*H19),"")
A20: PALAT Louise | B20: 45324 | C20: 2 | I20: =IF(ISNUMBER(H20),IF(C20=1,4%,IF(C20=2,2%,"")), "") | J20: =IF(ISNUMBER(H20),H20*I20,"") | L20: =IF(ISNUMBER(I20),L19+(G20*H20),"")
A21: Sous-Total | J21: =SUM(J19:J20) -> 0 | L21: {=IFERROR(LOOKUP(2,1/(L19:L20<>""),L19:L20),'Mois 7'!L21)} -> 23000
A22: MANDATAIRE 3
A23: DUPONT Clarissz | B23: 45476 | C23: 1 | I23: =IF(ISNUMBER(H23),IF(C23=1,4%,IF(C23=2,2%,"")), "") | J23: =IF(ISNUMBER(H23),H23*I23,"") | L23: =IF(ISNUMBER(I23),'Mois 7'!L25+(G23*H23),"")
A24: DUPONT Clarissz | B24: 45476 | C24: 1 | I24: =IF(ISNUMBER(H24),IF(C24=1,4%,IF(C24=2,2%,"")), "") | J24: =IF(ISNUMBER(H24),H24*I24,"") | L24: =IF(ISNUMBER(I24),L23+(G24*H24),"")
A25: Sous-Total | J25: =SUM(J23:J24) -> 0 | L25: {=IFERROR(LOOKUP(2,1/(L23:L24<>""),L23:L24),'Mois 7'!L25)} -> 5000
A26: MANDATAIRE 4
A27: DEPAR Louise | B27: 45873 | C27: 1 | I27: =IF(ISNUMBER(H27),IF(C27=1,4%,IF(C27=2,2%,"")), "") | J27: =IF(ISNUMBER(H27),H27*I27,"") | L27: =IF(ISNUMBER(I27),'Mois 7'!L29+(G27*H27),"")
A28: DEPAR Louise | B28: 45873 | C28: 1 | I28: =IF(ISNUMBER(H28),IF(C28=1,4%,IF(C28=2,2%,"")), "") | J28: =IF(ISNUMBER(H28),H28*I28,"") | L28: =IF(ISNUMBER(I28),L27+(G28*H28),"")
A29: Sous-Total | J29: =SUM(J27:J28) -> 0 | L29: {=IFERROR(LOOKUP(2,1/(L27:L28<>""),L27:L28),'Mois 7'!L29)} -> 8000
A30: MANDATAIRE 5
I31: =IF(ISNUMBER(H31),IF(C31=1,4%,IF(C31=2,2%,"")), "") | J31: =IF(ISNUMBER(H31),H31*I31,"") | L31: =IF(ISNUMBER(I31),'Mois 7'!L33+(G31*H31),"")
I32: =IF(ISNUMBER(H32),IF(C32=1,4%,IF(C32=2,2%,"")), "") | J32: =IF(ISNUMBER(H32),H32*I32,"") | L32: =IF(ISNUMBER(I32),L31+(G32*H32),"")
A33: Sous-Total | J33: =SUM(J31:J32) -> 0 | L33: {=IFERROR(LOOKUP(2,1/(L31:L32<>""),L31:L32),'Mois 7'!L33)}
A34: MANDATAIRE 6
I35: =IF(ISNUMBER(H35),IF(C35=1,4%,IF(C35=2,2%,"")), "") | J35: =IF(ISNUMBER(H35),H35*I35,"") | L35: =IF(ISNUMBER(I35),'Mois 7'!L37+(G35*H35),"")
I36: =IF(ISNUMBER(H36),IF(C36=1,4%,IF(C36=2,2%,"")), "") | J36: =IF(ISNUMBER(H36),H36*I36,"") | L36: =IF(ISNUMBER(I36),L35+(G36*H36),"")
A37: Sous-Total | J37: =SUM(J35:J36) -> 0 | L37: {=IFERROR(LOOKUP(2,1/(L35:L36<>""),L35:L36),'Mois 7'!L37)}
A38: MANDATAIRE 7
J39: =IF(ISNUMBER(H39),H39*I39,"") | L39: =IF(ISNUMBER(I39),'Mois 7'!L41+(G39*H39),"")
I40: =IF(ISNUMBER(H40),IF(C40=1,4%,IF(C40=2,2%,"")), "") | J40: =IF(ISNUMBER(H40),H40*I40,"") | L40: =IF(ISNUMBER(I40),L39+(G40*H40),"")
A41: Sous-Total | J41: =SUM(J39:J40) -> 0 | L41: {=IFERROR(LOOKUP(2,1/(L39:L40<>""),L39:L40),'Mois 7'!L41)}
A42: MANDATAIRE 8
I43: =IF(ISNUMBER(H43),IF(C43=1,4%,IF(C43=2,2%,"")), "") | J43: =IF(ISNUMBER(H43),H43*I43,"") | L43: =IF(ISNUMBER(I43),'Mois 7'!L45+(G43*H43),"")
I44: =IF(ISNUMBER(H44),IF(C44=1,4%,IF(C44=2,2%,"")), "") | J44: =IF(ISNUMBER(H44),H44*I44,"") | L44: =IF(ISNUMBER(I44),L43+(G44*H44),"")
A45: Sous-Total | J45: =SUM(J43:J44) -> 0 | L45: {=IFERROR(LOOKUP(2,1/(L43:L44<>""),L43:L44),'Mois 7'!L45)}
A46: MANDATAIRE 9
...

Sheet Mois 9
A1: REMUNERATION
A2: 45962
A6: NOM DU MANDATAIRE : | B6: DUPONT Michel | G6: NOM DE L'AMBASSADEUR : | J6: YYYY yyyy
A7: N° MANDATAIRE : | B7: MA-aamm-0001
A8: DATE D'ENTRÉE : | B8: 44623
A11: PRODUCTION AMBASSADEUR
A12: Nom du Mandataire | B12: Date entrée | C12: Niveau Amb. | D12: N° de la Vente | E12: Signature Acte Authentique | F12: CA HT MaKaza | G12: % Mand. | H12: Base de Calcul CA HT Mand. | I12: % Rem | J12: Commissions | K12: Payé le | L12: Cumul CA HT pour % Rem.
A14: MANDATAIRE 1
A15: MARTIN Paul | B15: 45114 | C15: 1 | I15: =IF(ISNUMBER(H15),IF(C15=1,4%,IF(C15=2,2%,"")), "") | J15: =IF(ISNUMBER(H15),H15*I15,"") | L15: =IF(ISNUMBER(I15),'Mois 8'!L17+(G15*H15),"")
A16: MARTIN Paul | B16: 45114 | C16: 1 | I16: =IF(ISNUMBER(H16),IF(C16=1,4%,IF(C16=2,2%,"")), "") | J16: =IF(ISNUMBER(H16),H16*I16,"") | L16: =IF(ISNUMBER(I16),L15+(G16*H16),"")
A17: Sous-Total | J17: =SUM(J15:J16) -> 0 | L17: {=IFERROR(LOOKUP(2,1/(L15:L16<>""),L15:L16),'Mois 8'!L17)} -> 22000
A18: MANDATAIRE 2
A19: PALAT Louise | B19: 45324 | C19: 2 | I19: =IF(ISNUMBER(H19),IF(C19=1,4%,IF(C19=2,2%,"")), "") | J19: =IF(ISNUMBER(H19),H19*I19,"") | L19: =IF(ISNUMBER(I19),'Mois 8'!L21+(G19*H19),"")
A20: PALAT Louise | B20: 45324 | C20: 2 | I20: =IF(ISNUMBER(H20),IF(C20=1,4%,IF(C20=2,2%,"")), "") | J20: =IF(ISNUMBER(H20),H20*I20,"") | L20: =IF(ISNUMBER(I20),L19+(G20*H20),"")
A21: Sous-Total | J21: =SUM(J19:J20) -> 0 | L21: {=IFERROR(LOOKUP(2,1/(L19:L20<>""),L19:L20),'Mois 8'!L21)} -> 23000
A22: MANDATAIRE 3
A23: DUPONT Clarissz | B23: 45476 | C23: 1 | I23: =IF(ISNUMBER(H23),IF(C23=1,4%,IF(C23=2,2%,"")), "") | J23: =IF(ISNUMBER(H23),H23*I23,"") | L23: =IF(ISNUMBER(I23),'Mois 8'!L25+(G23*H23),"")
A24: DUPONT Clarissz | B24: 45476 | C24: 1 | I24: =IF(ISNUMBER(H24),IF(C24=1,4%,IF(C24=2,2%,"")), "") | J24: =IF(ISNUMBER(H24),H24*I24,"") | L24: =IF(ISNUMBER(I24),L23+(G24*H24),"")
A25: Sous-Total | J25: =SUM(J23:J24) -> 0 | L25: {=IFERROR(LOOKUP(2,1/(L23:L24<>""),L23:L24),'Mois 8'!L25)} -> 5000
A26: MANDATAIRE 4
A27: DEPAR Louise | B27: 45873 | C27: 1 | I27: =IF(ISNUMBER(H27),IF(C27=1,4%,IF(C27=2,2%,"")), "") | J27: =IF(ISNUMBER(H27),H27*I27,"") | L27: =IF(ISNUMBER(I27),'Mois 8'!L29+(G27*H27),"")
A28: DEPAR Louise | B28: 45873 | C28: 1 | I28: =IF(ISNUMBER(H28),IF(C28=1,4%,IF(C28=2,2%,"")), "") | J28: =IF(ISNUMBER(H28),H28*I28,"") | L28: =IF(ISNUMBER(I28),L27+(G28*H28),"")
A29: Sous-Total | J29: =SUM(J27:J28) -> 0 | L29: {=IFERROR(LOOKUP(2,1/(L27:L28<>""),L27:L28),'Mois 8'!L29)} -> 8000
A30: MANDATAIRE 5
I31: =IF(ISNUMBER(H31),IF(C31=1,4%,IF(C31=2,2%,"")), "") | J31: =IF(ISNUMBER(H31),H31*I31,"") | L31: =IF(ISNUMBER(I31),'Mois 8'!L33+(G31*H31),"")
I32: =IF(ISNUMBER(H32),IF(C32=1,4%,IF(C32=2,2%,"")), "") | J32: =IF(ISNUMBER(H32),H32*I32,"") | L32: =IF(ISNUMBER(I32),L31+(G32*H32),"")
A33: Sous-Total | J33: =SUM(J31:J32) -> 0 | L33: {=IFERROR(LOOKUP(2,1/(L31:L32<>""),L31:L32),'Mois 8'!L33)}
A34: MANDATAIRE 6
I35: =IF(ISNUMBER(H35),IF(C35=1,4%,IF(C35=2,2%,"")), "") | J35: =IF(ISNUMBER(H35),H35*I35,"") | L35: =IF(ISNUMBER(I35),'Mois 8'!L37+(G35*H35),"")
I36: =IF(ISNUMBER(H36),IF(C36=1,4%,IF(C36=2,2%,"")), "") | J36: =IF(ISNUMBER(H36),H36*I36,"") | L36: =IF(ISNUMBER(I36),L35+(G36*H36),"")
A37: Sous-Total | J37: =SUM(J35:J36) -> 0 | L37: {=IFERROR(LOOKUP(2,1/(L35:L36<>""),L35:L36),'Mois 8'!L37)}
A38: MANDATAIRE 7
J39: =IF(ISNUMBER(H39),H39*I39,"") | L39: =IF(ISNUMBER(I39),'Mois 8'!L41+(G39*H39),"")
I40: =IF(ISNUMBER(H40),IF(C40=1,4%,IF(C40=2,2%,"")), "") | J40: =IF(ISNUMBER(H40),H40*I40,"") | L40: =IF(ISNUMBER(I40),L39+(G40*H40),"")
A41: Sous-Total | J41: =SUM(J39:J40) -> 0 | L41: {=IFERROR(LOOKUP(2,1/(L39:L40<>""),L39:L40),'Mois 8'!L41)}
A42: MANDATAIRE 8
I43: =IF(ISNUMBER(H43),IF(C43=1,4%,IF(C43=2,2%,"")), "") | J43: =IF(ISNUMBER(H43),H43*I43,"") | L43: =IF(ISNUMBER(I43),'Mois 8'!L45+(G43*H43),"")
I44: =IF(ISNUMBER(H44),IF(C44=1,4%,IF(C44=2,2%,"")), "") | J44: =IF(ISNUMBER(H44),H44*I44,"") | L44: =IF(ISNUMBER(I44),L43+(G44*H44),"")
A45: Sous-Total | J45: =SUM(J43:J44) -> 0 | L45: {=IFERROR(LOOKUP(2,1/(L43:L44<>""),L43:L44),'Mois 8'!L45)}
A46: MANDATAIRE 9
...

Sheet Mois 10
A1: REMUNERATION
A2: 45992
A6: NOM DU MANDATAIRE : | B6: DUPONT Michel | G6: NOM DE L'AMBASSADEUR : | J6: YYYY yyyy
A7: N° MANDATAIRE : | B7: MA-aamm-0001
A8: DATE D'ENTRÉE : | B8: 44623
A11: PRODUCTION AMBASSADEUR
A12: Nom du Mandataire | B12: Date entrée | C12: Niveau Amb. | D12: N° de la Vente | E12: Signature Acte Authentique | F12: CA HT MaKaza | G12: % Mand. | H12: Base de Calcul CA HT Mand. | I12: % Rem | J12: Commissions | K12: Payé le | L12: Cumul CA HT pour % Rem.
A14: MANDATAIRE 1
A15: MARTIN Paul | B15: 45114 | C15: 1 | I15: =IF(ISNUMBER(H15),IF(C15=1,4%,IF(C15=2,2%,"")), "") | J15: =IF(ISNUMBER(H15),H15*I15,"") | L15: =IF(ISNUMBER(I15),'Mois 9'!L17+(G15*H15),"")
A16: MARTIN Paul | B16: 45114 | C16: 1 | I16: =IF(ISNUMBER(H16),IF(C16=1,4%,IF(C16=2,2%,"")), "") | J16: =IF(ISNUMBER(H16),H16*I16,"") | L16: =IF(ISNUMBER(I16),L15+(G16*H16),"")
A17: Sous-Total | J17: =SUM(J15:J16) -> 0 | L17: {=IFERROR(LOOKUP(2,1/(L15:L16<>""),L15:L16),'Mois 9'!L17)} -> 22000
A18: MANDATAIRE 2
A19: PALAT Louise | B19: 45324 | C19: 2 | I19: =IF(ISNUMBER(H19),IF(C19=1,4%,IF(C19=2,2%,"")), "") | J19: =IF(ISNUMBER(H19),H19*I19,"") | L19: =IF(ISNUMBER(I19),'Mois 9'!L21+(G19*H19),"")
A20: PALAT Louise | B20: 45324 | C20: 2 | I20: =IF(ISNUMBER(H20),IF(C20=1,4%,IF(C20=2,2%,"")), "") | J20: =IF(ISNUMBER(H20),H20*I20,"") | L20: =IF(ISNUMBER(I20),L19+(G20*H20),"")
A21: Sous-Total | J21: =SUM(J19:J20) -> 0 | L21: {=IFERROR(LOOKUP(2,1/(L19:L20<>""),L19:L20),'Mois 9'!L21)} -> 23000
A22: MANDATAIRE 3
A23: DUPONT Clarissz | B23: 45476 | C23: 1 | I23: =IF(ISNUMBER(H23),IF(C23=1,4%,IF(C23=2,2%,"")), "") | J23: =IF(ISNUMBER(H23),H23*I23,"") | L23: =IF(ISNUMBER(I23),'Mois 9'!L25+(G23*H23),"")
A24: DUPONT Clarissz | B24: 45476 | C24: 1 | I24: =IF(ISNUMBER(H24),IF(C24=1,4%,IF(C24=2,2%,"")), "") | J24: =IF(ISNUMBER(H24),H24*I24,"") | L24: =IF(ISNUMBER(I24),L23+(G24*H24),"")
A25: Sous-Total | J25: =SUM(J23:J24) -> 0 | L25: {=IFERROR(LOOKUP(2,1/(L23:L24<>""),L23:L24),'Mois 9'!L25)} -> 5000
A26: MANDATAIRE 4
A27: DEPAR Louise | B27: 45873 | C27: 1 | I27: =IF(ISNUMBER(H27),IF(C27=1,4%,IF(C27=2,2%,"")), "") | J27: =IF(ISNUMBER(H27),H27*I27,"") | L27: =IF(ISNUMBER(I27),'Mois 9'!L29+(G27*H27),"")
A28: DEPAR Louise | B28: 45873 | C28: 1 | I28: =IF(ISNUMBER(H28),IF(C28=1,4%,IF(C28=2,2%,"")), "") | J28: =IF(ISNUMBER(H28),H28*I28,"") | L28: =IF(ISNUMBER(I28),L27+(G28*H28),"")
A29: Sous-Total | J29: =SUM(J27:J28) -> 0 | L29: {=IFERROR(LOOKUP(2,1/(L27:L28<>""),L27:L28),'Mois 9'!L29)} -> 8000
A30: MANDATAIRE 5
I31: =IF(ISNUMBER(H31),IF(C31=1,4%,IF(C31=2,2%,"")), "") | J31: =IF(ISNUMBER(H31),H31*I31,"") | L31: =IF(ISNUMBER(I31),'Mois 9'!L33+(G31*H31),"")
I32: =IF(ISNUMBER(H32),IF(C32=1,4%,IF(C32=2,2%,"")), "") | J32: =IF(ISNUMBER(H32),H32*I32,"") | L32: =IF(ISNUMBER(I32),L31+(G32*H32),"")
A33: Sous-Total | J33: =SUM(J31:J32) -> 0 | L33: {=IFERROR(LOOKUP(2,1/(L31:L32<>""),L31:L32),'Mois 9'!L33)}
A34: MANDATAIRE 6
I35: =IF(ISNUMBER(H35),IF(C35=1,4%,IF(C35=2,2%,"")), "") | J35: =IF(ISNUMBER(H35),H35*I35,"") | L35: =IF(ISNUMBER(I35),'Mois 9'!L37+(G35*H35),"")
I36: =IF(ISNUMBER(H36),IF(C36=1,4%,IF(C36=2,2%,"")), "") | J36: =IF(ISNUMBER(H36),H36*I36,"") | L36: =IF(ISNUMBER(I36),L35+(G36*H36),"")
A37: Sous-Total | J37: =SUM(J35:J36) -> 0 | L37: {=IFERROR(LOOKUP(2,1/(L35:L36<>""),L35:L36),'Mois 9'!L37)}
A38: MANDATAIRE 7
J39: =IF(ISNUMBER(H39),H39*I39,"") | L39: =IF(ISNUMBER(I39),'Mois 9'!L41+(G39*H39),"")
I40: =IF(ISNUMBER(H40),IF(C40=1,4%,IF(C40=2,2%,"")), "") | J40: =IF(ISNUMBER(H40),H40*I40,"") | L40: =IF(ISNUMBER(I40),L39+(G40*H40),"")
A41: Sous-Total | J41: =SUM(J39:J40) -> 0 | L41: {=IFERROR(LOOKUP(2,1/(L39:L40<>""),L39:L40),'Mois 9'!L41)}
A42: MANDATAIRE 8
I43: =IF(ISNUMBER(H43),IF(C43=1,4%,IF(C43=2,2%,"")), "") | J43: =IF(ISNUMBER(H43),H43*I43,"") | L43: =IF(ISNUMBER(I43),'Mois 9'!L45+(G43*H43),"")
I44: =IF(ISNUMBER(H44),IF(C44=1,4%,IF(C44=2,2%,"")), "") | J44: =IF(ISNUMBER(H44),H44*I44,"") | L44: =IF(ISNUMBER(I44),L43+(G44*H44),"")
A45: Sous-Total | J45: =SUM(J43:J44) -> 0 | L45: {=IFERROR(LOOKUP(2,1/(L43:L44<>""),L43:L44),'Mois 9'!L45)}
A46: MANDATAIRE 9
...

Sheet Mois 11
A1: REMUNERATION
A2: 46023
A6: NOM DU MANDATAIRE : | B6: DUPONT Michel | G6: NOM DE L'AMBASSADEUR : | J6: YYYY yyyy
A7: N° MANDATAIRE : | B7: MA-aamm-0001
A8: DATE D'ENTRÉE : | B8: 44623
A11: PRODUCTION AMBASSADEUR
A12: Nom du Mandataire | B12: Date entrée | C12: Niveau Amb. | D12: N° de la Vente | E12: Signature Acte Authentique | F12: CA HT MaKaza | G12: % Mand. | H12: Base de Calcul CA HT Mand. | I12: % Rem | J12: Commissions | K12: Payé le | L12: Cumul CA HT pour % Rem.
A14: MANDATAIRE 1
A15: MARTIN Paul | B15: 45114 | C15: 1 | I15: =IF(ISNUMBER(H15),IF(C15=1,4%,IF(C15=2,2%,"")), "") | J15: =IF(ISNUMBER(H15),H15*I15,"") | L15: =IF(ISNUMBER(I15),'Mois 10'!L17+(G15*H15),"")
A16: MARTIN Paul | B16: 45114 | C16: 1 | I16: =IF(ISNUMBER(H16),IF(C16=1,4%,IF(C16=2,2%,"")), "") | J16: =IF(ISNUMBER(H16),H16*I16,"") | L16: =IF(ISNUMBER(I16),L15+(G16*H16),"")
A17: Sous-Total | J17: =SUM(J15:J16) -> 0 | L17: {=IFERROR(LOOKUP(2,1/(L15:L16<>""),L15:L16),'Mois 10'!L17)} -> 22000
A18: MANDATAIRE 2
A19: PALAT Louise | B19: 45324 | C19: 2 | I19: =IF(ISNUMBER(H19),IF(C19=1,4%,IF(C19=2,2%,"")), "") | J19: =IF(ISNUMBER(H19),H19*I19,"") | L19: =IF(ISNUMBER(I19),'Mois 10'!L21+(G19*H19),"")
A20: PALAT Louise | B20: 45324 | C20: 2 | I20: =IF(ISNUMBER(H20),IF(C20=1,4%,IF(C20=2,2%,"")), "") | J20: =IF(ISNUMBER(H20),H20*I20,"") | L20: =IF(ISNUMBER(I20),L19+(G20*H20),"")
A21: Sous-Total | J21: =SUM(J19:J20) -> 0 | L21: {=IFERROR(LOOKUP(2,1/(L19:L20<>""),L19:L20),'Mois 10'!L21)} -> 23000
A22: MANDATAIRE 3
A23: DUPONT Clarissz | B23: 45476 | C23: 1 | I23: =IF(ISNUMBER(H23),IF(C23=1,4%,IF(C23=2,2%,"")), "") | J23: =IF(ISNUMBER(H23),H23*I23,"") | L23: =IF(ISNUMBER(I23),'Mois 10'!L25+(G23*H23),"")
A24: DUPONT Clarissz | B24: 45476 | C24: 1 | I24: =IF(ISNUMBER(H24),IF(C24=1,4%,IF(C24=2,2%,"")), "") | J24: =IF(ISNUMBER(H24),H24*I24,"") | L24: =IF(ISNUMBER(I24),L23+(G24*H24),"")
A25: Sous-Total | J25: =SUM(J23:J24) -> 0 | L25: {=IFERROR(LOOKUP(2,1/(L23:L24<>""),L23:L24),'Mois 10'!L25)} -> 5000
A26: MANDATAIRE 4
A27: DEPAR Louise | B27: 45873 | C27: 1 | I27: =IF(ISNUMBER(H27),IF(C27=1,4%,IF(C27=2,2%,"")), "") | J27: =IF(ISNUMBER(H27),H27*I27,"") | L27: =IF(ISNUMBER(I27),'Mois 10'!L29+(G27*H27),"")
A28: DEPAR Louise | B28: 45873 | C28: 1 | I28: =IF(ISNUMBER(H28),IF(C28=1,4%,IF(C28=2,2%,"")), "") | J28: =IF(ISNUMBER(H28),H28*I28,"") | L28: =IF(ISNUMBER(I28),L27+(G28*H28),"")
A29: Sous-Total | J29: =SUM(J27:J28) -> 0 | L29: {=IFERROR(LOOKUP(2,1/(L27:L28<>""),L27:L28),'Mois 10'!L29)} -> 8000
A30: MANDATAIRE 5
I31: =IF(ISNUMBER(H31),IF(C31=1,4%,IF(C31=2,2%,"")), "") | J31: =IF(ISNUMBER(H31),H31*I31,"") | L31: =IF(ISNUMBER(I31),'Mois 10'!L33+(G31*H31),"")
I32: =IF(ISNUMBER(H32),IF(C32=1,4%,IF(C32=2,2%,"")), "") | J32: =IF(ISNUMBER(H32),H32*I32,"") | L32: =IF(ISNUMBER(I32),L31+(G32*H32),"")
A33: Sous-Total | J33: =SUM(J31:J32) -> 0 | L33: {=IFERROR(LOOKUP(2,1/(L31:L32<>""),L31:L32),'Mois 10'!L33)}
A34: MANDATAIRE 6
I35: =IF(ISNUMBER(H35),IF(C35=1,4%,IF(C35=2,2%,"")), "") | J35: =IF(ISNUMBER(H35),H35*I35,"") | L35: =IF(ISNUMBER(I35),'Mois 10'!L37+(G35*H35),"")
I36: =IF(ISNUMBER(H36),IF(C36=1,4%,IF(C36=2,2%,"")), "") | J36: =IF(ISNUMBER(H36),H36*I36,"") | L36: =IF(ISNUMBER(I36),L35+(G36*H36),"")
A37: Sous-Total | J37: =SUM(J35:J36) -> 0 | L37: {=IFERROR(LOOKUP(2,1/(L35:L36<>""),L35:L36),'Mois 10'!L37)}
A38: MANDATAIRE 7
J39: =IF(ISNUMBER(H39),H39*I39,"") | L39: =IF(ISNUMBER(I39),'Mois 10'!L41+(G39*H39),"")
I40: =IF(ISNUMBER(H40),IF(C40=1,4%,IF(C40=2,2%,"")), "") | J40: =IF(ISNUMBER(H40),H40*I40,"") | L40: =IF(ISNUMBER(I40),L39+(G40*H40),"")
A41: Sous-Total | J41: =SUM(J39:J40) -> 0 | L41: {=IFERROR(LOOKUP(2,1/(L39:L40<>""),L39:L40),'Mois 10'!L41)}
A42: MANDATAIRE 8
I43: =IF(ISNUMBER(H43),IF(C43=1,4%,IF(C43=2,2%,"")), "") | J43: =IF(ISNUMBER(H43),H43*I43,"") | L43: =IF(ISNUMBER(I43),'Mois 10'!L45+(G43*H43),"")
I44: =IF(ISNUMBER(H44),IF(C44=1,4%,IF(C44=2,2%,"")), "") | J44: =IF(ISNUMBER(H44),H44*I44,"") | L44: =IF(ISNUMBER(I44),L43+(G44*H44),"")
A45: Sous-Total | J45: =SUM(J43:J44) -> 0 | L45: {=IFERROR(LOOKUP(2,1/(L43:L44<>""),L43:L44),'Mois 10'!L45)}
A46: MANDATAIRE 9
...

Sheet Mois 12
A1: REMUNERATION
A2: 46054
A6: NOM DU MANDATAIRE : | B6: DUPONT Michel | G6: NOM DE L'AMBASSADEUR : | J6: YYYY yyyy
A7: N° MANDATAIRE : | B7: MA-aamm-0001
A8: DATE D'ENTRÉE : | B8: 44623
A11: PRODUCTION AMBASSADEUR
A12: Nom du Mandataire | B12: Date entrée | C12: Niveau Amb. | D12: N° de la Vente | E12: Signature Acte Authentique | F12: CA HT MaKaza | G12: % Mand. | H12: Base de Calcul CA HT Mand. | I12: % Rem | J12: Commissions | K12: Payé le | L12: Cumul CA HT pour % Rem. | M12: Cumul CA HT pour % Rem. sur 12 mois
A14: MANDATAIRE 1
A15: MARTIN Paul | B15: 45845 | C15: 1 | I15: =IF(ISNUMBER(H15),IF(C15=1,4%,IF(C15=2,2%,"")), "") | J15: =IF(ISNUMBER(H15),H15*I15,"") | L15: =IF(ISNUMBER(I15),'Mois 11'!L17+(G15*H15),"")
A16: MARTIN Paul | B16: 45114 | C16: 1 | I16: =IF(ISNUMBER(H16),IF(C16=1,4%,IF(C16=2,2%,"")), "") | J16: =IF(ISNUMBER(H16),H16*I16,"") | L16: =IF(ISNUMBER(I16),L15+(G16*H16),"")
A17: Sous-Total | J17: =SUM(J15:J16) -> 0 | L17: {=IFERROR(LOOKUP(2,1/(L15:L16<>""),L15:L16),'Mois 11'!L17)} -> 22000 | M17: =IF(B15>'Mois 1'!$A$2,L17/(MIN(12,DATEDIF(EOMONTH(B15,-1)+1,DATE(IF(MONTH(B15)>IF(MONTH($B$8)=1,12,MONTH($B$8)-1),YEAR(B15)+1,YEAR(B15)),IF(MONTH($B$8)=1,12,MONTH($B$8)-1),1),"m")+1))*12,L17) -> 33000
A18: MANDATAIRE 2
A19: PALAT Louise | B19: 45324 | C19: 2 | I19: =IF(ISNUMBER(H19),IF(C19=1,4%,IF(C19=2,2%,"")), "") | J19: =IF(ISNUMBER(H19),H19*I19,"") | L19: =IF(ISNUMBER(I19),'Mois 11'!L21+(G19*H19),"")
A20: PALAT Louise | B20: 45324 | C20: 2 | I20: =IF(ISNUMBER(H20),IF(C20=1,4%,IF(C20=2,2%,"")), "") | J20: =IF(ISNUMBER(H20),H20*I20,"") | L20: =IF(ISNUMBER(I20),L19+(G20*H20),"")
A21: Sous-Total | J21: =SUM(J19:J20) -> 0 | L21: {=IFERROR(LOOKUP(2,1/(L19:L20<>""),L19:L20),'Mois 11'!L21)} -> 23000 | M21: =IF(B19>'Mois 1'!$A$2,L21/(MIN(12,DATEDIF(EOMONTH(B19,-1)+1,DATE(IF(MONTH(B19)>IF(MONTH($B$8)=1,12,MONTH($B$8)-1),YEAR(B19)+1,YEAR(B19)),IF(MONTH($B$8)=1,12,MONTH($B$8)-1),1),"m")+1))*12,L21) -> 23000
A22: MANDATAIRE 3
A23: DUPONT Clarissz | B23: 45476 | C23: 1 | D23: 156 | E23: 46055 | F23: 10000 | G23: 1 | H23: 10000 | I23: =IF(ISNUMBER(H23),IF(C23=1,4%,IF(C23=2,2%,"")), "") -> 0.04 | J23: =IF(ISNUMBER(H23),H23*I23,"") -> 400 | L23: =IF(ISNUMBER(I23),'Mois 11'!L25+(G23*H23),"") -> 15000
A24: DUPONT Clarissz | B24: 45476 | C24: 1 | I24: =IF(ISNUMBER(H24),IF(C24=1,4%,IF(C24=2,2%,"")), "") | J24: =IF(ISNUMBER(H24),H24*I24,"") | L24: =IF(ISNUMBER(I24),L23+(G24*H24),"")
A25: Sous-Total | J25: =SUM(J23:J24) -> 400 | L25: {=IFERROR(LOOKUP(2,1/(L23:L24<>""),L23:L24),'Mois 11'!L25)} -> 15000 | M25: =IF(B23>'Mois 1'!$A$2,L25/(MIN(12,DATEDIF(EOMONTH(B23,-1)+1,DATE(IF(MONTH(B23)>IF(MONTH($B$8)=1,12,MONTH($B$8)-1),YEAR(B23)+1,YEAR(B23)),IF(MONTH($B$8)=1,12,MONTH($B$8)-1),1),"m")+1))*12,L25) -> 15000
A26: MANDATAIRE 4
A27: DEPAR Louise | B27: 45873 | C27: 1 | I27: =IF(ISNUMBER(H27),IF(C27=1,4%,IF(C27=2,2%,"")), "") | J27: =IF(ISNUMBER(H27),H27*I27,"") | L27: =IF(ISNUMBER(I27),'Mois 11'!L29+(G27*H27),"")
A28: DEPAR Louise | B28: 45873 | C28: 1 | I28: =IF(ISNUMBER(H28),IF(C28=1,4%,IF(C28=2,2%,"")), "") | J28: =IF(ISNUMBER(H28),H28*I28,"") | L28: =IF(ISNUMBER(I28),L27+(G28*H28),"")
A29: Sous-Total | J29: =SUM(J27:J28) -> 0 | L29: {=IFERROR(LOOKUP(2,1/(L27:L28<>""),L27:L28),'Mois 11'!L29)} -> 8000 | M29: =IF(B27>'Mois 1'!$A$2,L29/(MIN(12,DATEDIF(EOMONTH(B27,-1)+1,DATE(IF(MONTH(B27)>IF(MONTH($B$8)=1,12,MONTH($B$8)-1),YEAR(B27)+1,YEAR(B27)),IF(MONTH($B$8)=1,12,MONTH($B$8)-1),1),"m")+1))*12,L29) -> 13714.286
A30: MANDATAIRE 5
I31: =IF(ISNUMBER(H31),IF(C31=1,4%,IF(C31=2,2%,"")), "") | J31: =IF(ISNUMBER(H31),H31*I31,"") | L31: =IF(ISNUMBER(I31),'Mois 11'!L33+(G31*H31),"")
I32: =IF(ISNUMBER(H32),IF(C32=1,4%,IF(C32=2,2%,"")), "") | J32: =IF(ISNUMBER(H32),H32*I32,"") | L32: =IF(ISNUMBER(I32),L31+(G32*H32),"")
A33: Sous-Total | J33: =SUM(J31:J32) -> 0 | L33: {=IFERROR(LOOKUP(2,1/(L31:L32<>""),L31:L32),'Mois 11'!L33)} | M33: =IF(B31>'Mois 1'!$A$2,L33/(MIN(12,DATEDIF(EOMONTH(B31,-1)+1,DATE(IF(MONTH(B31)>IF(MONTH($B$8)=1,12,MONTH($B$8)-1),YEAR(B31)+1,YEAR(B31)),IF(MONTH($B$8)=1,12,MONTH($B$8)-1),1),"m")+1))*12,L33)
A34: MANDATAIRE 6
I35: =IF(ISNUMBER(H35),IF(C35=1,4%,IF(C35=2,2%,"")), "") | J35: =IF(ISNUMBER(H35),H35*I35,"") | L35: =IF(ISNUMBER(I35),'Mois 11'!L37+(G35*H35),"")
I36: =IF(ISNUMBER(H36),IF(C36=1,4%,IF(C36=2,2%,"")), "") | J36: =IF(ISNUMBER(H36),H36*I36,"") | L36: =IF(ISNUMBER(I36),L35+(G36*H36),"")
A37: Sous-Total | J37: =SUM(J35:J36) -> 0 | L37: {=IFERROR(LOOKUP(2,1/(L35:L36<>""),L35:L36),'Mois 11'!L37)} | M37: =IF(B35>'Mois 1'!$A$2,L37/(MIN(12,DATEDIF(EOMONTH(B35,-1)+1,DATE(IF(MONTH(B35)>IF(MONTH($B$8)=1,12,MONTH($B$8)-1),YEAR(B35)+1,YEAR(B35)),IF(MONTH($B$8)=1,12,MONTH($B$8)-1),1),"m")+1))*12,L37)
A38: MANDATAIRE 7
J39: =IF(ISNUMBER(H39),H39*I39,"") | L39: =IF(ISNUMBER(I39),'Mois 11'!L41+(G39*H39),"")
I40: =IF(ISNUMBER(H40),IF(C40=1,4%,IF(C40=2,2%,"")), "") | J40: =IF(ISNUMBER(H40),H40*I40,"") | L40: =IF(ISNUMBER(I40),L39+(G40*H40),"")
A41: Sous-Total | J41: =SUM(J39:J40) -> 0 | L41: {=IFERROR(LOOKUP(2,1/(L39:L40<>""),L39:L40),'Mois 11'!L41)} | M41: =IF(B39>'Mois 1'!$A$2,L41/(MIN(12,DATEDIF(EOMONTH(B39,-1)+1,DATE(IF(MONTH(B39)>IF(MONTH($B$8)=1,12,MONTH($B$8)-1),YEAR(B39)+1,YEAR(B39)),IF(MONTH($B$8)=1,12,MONTH($B$8)-1),1),"m")+1))*12,L41)
A42: MANDATAIRE 8
I43: =IF(ISNUMBER(H43),IF(C43=1,4%,IF(C43=2,2%,"")), "") | J43: =IF(ISNUMBER(H43),H43*I43,"") | L43: =IF(ISNUMBER(I43),'Mois 11'!L45+(G43*H43),"")
I44: =IF(ISNUMBER(H44),IF(C44=1,4%,IF(C44=2,2%,"")), "") | J44: =IF(ISNUMBER(H44),H44*I44,"") | L44: =IF(ISNUMBER(I44),L43+(G44*H44),"")
A45: Sous-Total | J45: =SUM(J43:J44) -> 0 | L45: {=IFERROR(LOOKUP(2,1/(L43:L44<>""),L43:L44),'Mois 11'!L45)} | M45: =IF(B43>'Mois 1'!$A$2,L45/(MIN(12,DATEDIF(EOMONTH(B43,-1)+1,DATE(IF(MONTH(B43)>IF(MONTH($B$8)=1,12,MONTH($B$8)-1),YEAR(B43)+1,YEAR(B43)),IF(MONTH($B$8)=1,12,MONTH($B$8)-1),1),"m")+1))*12,L45)
A46: MANDATAIRE 9
...
