Workbook

Sheet Mois 1
A1: REMUNERATION
A2: 45717
A6: NOM DU MANDATAIRE : | B6: DUPONT Michel | G6: NOM DE L'AMBASSADEUR : | J6: YYYY yyyy
A7: N° MANDATAIRE : | B7: MA-aamm-0001
A8: DATE D'ENTRÉE : | B8: 44623
A11: PRODUCTION AMBASSADEUR
A12: Nom du Mandataire | B12: Date entrée | C12: Niveau Amb. | D12: N° de la Vente | E12: Signature Acte Authentique | F12: CA HT MaKaza | G12: % Mand. | H12: Base de Calcul CA HT Mand. | I12: % Rem | J12: Commissions | K12: Payé le | L12: Cumul CA HT pour % Rem.
A14: MANDATAIRE 1
A15: MARTIN Paul | B15: 45114 | C15: 1 | F15: 12000 | G15: 1 | H15: 12000 | I15: =IF(ISNUMBER(H15),IF(C15=1,4%,IF(C15=2,2%,"")), "") -> 0.04 | J15: =IF(ISNUMBER(H15),H15*I15,"") -> 480 | L15: =IF(ISNUMBER(I15),G15*H15,"") -> 12000
A16: MARTIN Paul | B16: 45114 | C16: 1 | I16: =IF(ISNUMBER(H16),IF(C16=1,4%,IF(C16=2,2%,"")), "") | J16: =IF(ISNUMBER(H16),H16*I16,"") | L16: =IF(ISNUMBER(I16),L15+(G16*H16),"")
A17: Sous-Total | J17: =SUM(J15:J16) -> 480 | L17: {=IFERROR(LOOKUP(2,1/(L15:L16<>""),L15:L16),"")} -> 12000
A18: MANDATAIRE 2
A19: PALAT Louise | B19: 45324 | C19: 2 | F19: 10000 | G19: 1 | H19: 5000 | I19: =IF(ISNUMBER(H19),IF(C19=1,4%,IF(C19=2,2%,"")), "") -> 0.02 | J19: =IF(ISNUMBER(H19),H19*I19,"") -> 100 | L19: =IF(ISNUMBER(I19),G19*H19,"") -> 5000
A20: PALAT Louise | B20: 45324 | C20: 2 | F20: 8000 | G20: 1 | H20: 8000 | I20: =IF(ISNUMBER(H20),IF(C20=1,4%,IF(C20=2,2%,"")), "") -> 0.02 | J20: =IF(ISNUMBER(H20),H20*I20,"") -> 160 | L20: =IF(ISNUMBER(I20),L19+(G20*H20),"") -> 13000
A21: Sous-Total | J21: =SUM(J19:J20) -> 260 | L21: {=IFERROR(LOOKUP(2,1/(L19:L20<>""),L19:L20),"")} -> 13000
A22: MANDATAIRE 3
A23: DUPONT Clarissz | B23: 45476 | C23: 1 | F23: 5000 | G23: 1 | H23: 5000 | I23: =IF(ISNUMBER(H23),IF(C23=1,4%,IF(C23=2,2%,"")), "") -> 0.04 | J23: =IF(ISNUMBER(H23),H23*I23,"") -> 200 | L23: =IF(ISNUMBER(I23),G23*H23,"") -> 5000
A24: DUPONT Clarissz | B24: 45476 | C24: 1 | I24: =IF(ISNUMBER(H24),IF(C24=1,4%,IF(C24=2,2%,"")), "") | J24: =IF(ISNUMBER(H24),H24*I24,"") | L24: =IF(ISNUMBER(I24),L23+(G24*H24),"")
A25: Sous-Total | J25: =SUM(J23:J24) -> 200 | L25: {=IFERROR(LOOKUP(2,1/(L23:L24<>""),L23:L24),"")} -> 5000
A26: MANDATAIRE 4
A27: DEPAR Louise | B27: 45873 | C27: 1 | F27: 10000 | G27: 1 | H27: 8000 | I27: =IF(ISNUMBER(H27),IF(C27=1,4%,IF(C27=2,2%,"")), "") -> 0.04 | J27: =IF(ISNUMBER(H27),H27*I27,"") -> 320 | L27: =IF(ISNUMBER(I27),G27*H27,"") -> 8000
A28: DEPAR Louise | B28: 45873 | C28: 1 | I28: =IF(ISNUMBER(H28),IF(C28=1,4%,IF(C28=2,2%,"")), "") | J28: =IF(ISNUMBER(H28),H28*I28,"") | L28: =IF(ISNUMBER(I28),L27+(G28*H28),"")
A29: Sous-Total | J29: =SUM(J27:J28) -> 320 | L29: {=IFERROR(LOOKUP(2,1/(L27:L28<>""),L27:L28),"")} -> 8000
A30: MANDATAIRE 5
I31: =IF(ISNUMBER(H31),IF(C31=1,4%,IF(C31=2,2%,"")), "") | J31: =IF(ISNUMBER(H31),H31*I31,"") | L31: =IF(ISNUMBER(I31),G31*H31,"")
I32: =IF(ISNUMBER(H32),IF(C32=1,4%,IF(C32=2,2%,"")), "") | J32: =IF(ISNUMBER(H32),H32*I32,"") | L32: =IF(ISNUMBER(I32),L31+(G32*H32),"")
A33: Sous-Total | J33: =SUM(J31:J32) -> 0 | L33: {=IFERROR(LOOKUP(2,1/(L31:L32<>""),L31:L32),"")}
A34: MANDATAIRE 6
I35: =IF(ISNUMBER(H35),IF(C35=1,4%,IF(C35=2,2%,"")), "") | J35: =IF(ISNUMBER(H35),H35*I35,"") | L35: =IF(ISNUMBER(I35),G35*H35,"")
I36: =IF(ISNUMBER(H36),IF(C36=1,4%,IF(C36=2,2%,"")), "") | J36: =IF(ISNUMBER(H36),H36*I36,"") | L36: =IF(ISNUMBER(I36),L35+(G36*H36),"")
A37: Sous-Total | J37: =SUM(J35:J36) -> 0 | L37: {=IFERROR(LOOKUP(2,1/(L35:L36<>""),L35:L36),"")}
A38: MANDATAIRE 7
J39: =IF(ISNUMBER(H39),H39*I39,"") | L39: =IF(ISNUMBER(I39),G39*H39,"")
I40: =IF(ISNUMBER(H40),IF(C40=1,4%,IF(C40=2,2%,"")), "") | J40: =IF(ISNUMBER(H40),H40*I40,"") | L40: =IF(ISNUMBER(I40),L39+(G40*H40),"")
A41: Sous-Total | J41: =SUM(J39:J40) -> 0 | L41: {=IFERROR(LOOKUP(2,1/(L39:L40<>""),L39:L40),"")}
A42: MANDATAIRE 8
I43: =IF(ISNUMBER(H43),IF(C43=1,4%,IF(C43=2,2%,"")), "") | J43: =IF(ISNUMBER(H43),H43*I43,"") | L43: =IF(ISNUMBER(I43),G43*H43,"")
I44: =IF(ISNUMBER(H44),IF(C44=1,4%,IF(C44=2,2%,"")), "") | J44: =IF(ISNUMBER(H44),H44*I44,"") | L44: =IF(ISNUMBER(I44),L43+(G44*H44),"")
A45: Sous-Total | J45: =SUM(J43:J44) -> 0 | L45: {=IFERROR(LOOKUP(2,1/(L43:L44<>""),L43:L44),"")}
A46: MANDATAIRE 9
I47: =IF(ISNUMBER(H47),IF(C47=1,4%,IF(C47=2,2%,"")), "") | J47: =IF(ISNUMBER(H47),H47*I47,"") | L47: =IF(ISNUMBER(I47),G47*H47,"")
I48: =IF(ISNUMBER(H48),IF(C48=1,4%,IF(C48=2,2%,"")), "") | J48: =IF(ISNUMBER(H48),H48*I48,"") | L48: =IF(ISNUMBER(I48),L47+(G48*H48),"")
A49: Sous-Total | J49: =SUM(J47:J48) -> 0 | L49: {=IFERROR(LOOKUP(2,1/(L47:L48<>""),L47:L48),"")}
A50: MANDATAIRE 10
I51: =IF(ISNUMBER(H51),IF(C51=1,4%,IF(C51=2,2%,"")), "") | J51: =IF(ISNUMBER(H51),H51*I51,"") | L51: =IF(ISNUMBER(I51),G51*H51,"")
I52: =IF(ISNUMBER(H52),IF(C52=1,4%,IF(C52=2,2%,"")), "") | J52: =IF(ISNUMBER(H52),H52*I52,"") | L52: =IF(ISNUMBER(I52),L51+(G52*H52),"")
A53: Sous-Total | J53: =SUM(J51:J52) -> 0 | L53: {=IFERROR(LOOKUP(2,1/(L51:L52<>""),L51:L52),"")}
A54: MANDATAIRE 11
I55: =IF(ISNUMBER(H55),IF(C55=1,4%,IF(C55=2,2%,"")), "") | J55: =IF(ISNUMBER(H55),H55*I55,"") | L55: =IF(ISNUMBER(I55),G55*H55,"")
I56: =IF(ISNUMBER(H56),IF(C56=1,4%,IF(C56=2,2%,"")), "") | J56: =IF(ISNUMBER(H56),H56*I56,"") | L56: =IF(ISNUMBER(I56),L55+(G56*H56),"")
A57: Sous-Total | J57: =SUM(J55:J56) -> 0 | L57: {=IFERROR(LOOKUP(2,1/(L55:L56<>""),L55:L56),"")}
A58: MANDATAIRE 12
I59: =IF(ISNUMBER(H59),IF(C59=1,4%,IF(C59=2,2%,"")), "") | J59: =IF(ISNUMBER(H59),H59*I59,"") | L59: =IF(ISNUMBER(I59),G59*H59,"")
I60: =IF(ISNUMBER(H60),IF(C60=1,4%,IF(C60=2,2%,"")), "") | J60: =IF(ISNUMBER(H60),H60*I60,"") | L60: =IF(ISNUMBER(I60),L59+(G60*H60),"")
A61: Sous-Total | J61: =SUM(J59:J60) -> 0 | L61: {=IFERROR(LOOKUP(2,1/(L59:L60<>""),L59:L60),"")}
A62: MANDATAIRE 13
I63: =IF(ISNUMBER(H63),IF(C63=1,4%,IF(C63=2,2%,"")), "") | J63: =IF(ISNUMBER(H63),H63*I63,"") | L63: =IF(ISNUMBER(I63),G63*H63,"")
I64: =IF(ISNUMBER(H64),IF(C64=1,4%,IF(C64=2,2%,"")), "") | J64: =IF(ISNUMBER(H64),H64*I64,"") | L64: =IF(ISNUMBER(I64),L63+(G64*H64),"")
A65: Sous-Total | J65: =SUM(J63:J64) -> 0 | L65: {=IFERROR(LOOKUP(2,1/(L63:L64<>""),L63:L64),"")}
A66: MANDATAIRE 14
I67: =IF(ISNUMBER(H67),IF(C67=1,4%,IF(C67=2,2%,"")), "") | J67: =IF(ISNUMBER(H67),H67*I67,"") | L67: =IF(ISNUMBER(I67),G67*H67,"")
I68: =IF(ISNUMBER(H68),IF(C68=1,4%,IF(C68=2,2%,"")), "") | J68: =IF(ISNUMBER(H68),H68*I68,"") | L68: =IF(ISNUMBER(I68),L67+(G68*H68),"")
A69: Sous-Total | J69: =SUM(J67:J68) -> 0 | L69: {=IFERROR(LOOKUP(2,1/(L67:L68<>""),L67:L68),"")}
A70: MANDATAIRE 15
I71: =IF(ISNUMBER(H71),IF(C71=1,4%,IF(C71=2,2%,"")), "") | J71: =IF(ISNUMBER(H71),H71*I71,"") | L71: =IF(ISNUMBER(I71),G71*H71,"")
I72: =IF(ISNUMBER(H72),IF(C72=1,4%,IF(C72=2,2%,"")), "") | J72: =IF(ISNUMBER(H72),H72*I72,"") | L72: =IF(ISNUMBER(I72),L71+(G72*H72),"")
A73: Sous-Total | J73: =SUM(J71:J72) -> 0 | L73: {=IFERROR(LOOKUP(2,1/(L71:L72<>""),L71:L72),"")}
A74: MANDATAIRE 16
I75: =IF(ISNUMBER(H75),IF(C75=1,4%,IF(C75=2,2%,"")), "") | J75: =IF(ISNUMBER(H75),H75*I75,"") | L75: =IF(ISNUMBER(I75),G75*H75,"")
I76: =IF(ISNUMBER(H76),IF(C76=1,4%,IF(C76=2,2%,"")), "") | J76: =IF(ISNUMBER(H76),H76*I76,"") | L76: =IF(ISNUMBER(I76),L75+(G76*H76),"")
A77: Sous-Total | J77: =SUM(J75:J76) -> 0 | L77: {=IFERROR(LOOKUP(2,1/(L75:L76<>""),L75:L76),"")}
A78: MANDATAIRE 17
I79: =IF(ISNUMBER(H79),IF(C79=1,4%,IF(C79=2,2%,"")), "") | J79: =IF(ISNUMBER(H79),H79*I79,"") | L79: =IF(ISNUMBER(I79),G79*H79,"")
I80: =IF(ISNUMBER(H80),IF(C80=1,4%,IF(C80=2,2%,"")), "") | J80: =IF(ISNUMBER(H80),H80*I80,"") | L80: =IF(ISNUMBER(I80),L79+(G80*H80),"")
A81: Sous-Total | J81: =SUM(J79:J80) -> 0 | L81: {=IFERROR(LOOKUP(2,1/(L79:L80<>""),L79:L80),"")}
A82: MANDATAIRE 18
I83: =IF(ISNUMBER(H83),IF(C83=1,4%,IF(C83=2,2%,"")), "") | J83: =IF(ISNUMBER(H83),H83*I83,"") | L83: =IF(ISNUMBER(I83),G83*H83,"")
I84: =IF(ISNUMBER(H84),IF(C84=1,4%,IF(C84=2,2%,"")), "") | J84: =IF(ISNUMBER(H84),H84*I84,"") | L84: =IF(ISNUMBER(I84),L83+(G84*H84),"")
A85: Sous-Total | J85: =SUM(J83:J84) -> 0 | L85: {=IFERROR(LOOKUP(2,1/(L83:L84<>""),L83:L84),"")}
A86: MANDATAIRE 19
I87: =IF(ISNUMBER(H87),IF(C87=1,4%,IF(C87=2,2%,"")), "") | J87: =IF(ISNUMBER(H87),H87*I87,"") | L87: =IF(ISNUMBER(I87),G87*H87,"")
I88: =IF(ISNUMBER(H88),IF(C88=1,4%,IF(C88=2,2%,"")), "") | J88: =IF(ISNUMBER(H88),H88*I88,"") | L88: =IF(ISNUMBER(I88),L87+(G88*H88),"")
A89: Sous-Total | J89: =SUM(J87:J88) -> 0 | L89: {=IFERROR(LOOKUP(2,1/(L87:L88<>""),L87:L88),"")}
A90: MANDATAIRE 20
I91: =IF(ISNUMBER(H91),IF(C91=1,4%,IF(C91=2,2%,"")), "") | J91: =IF(ISNUMBER(H91),H91*I91,"") | L91: =IF(ISNUMBER(I91),G91*H91,"")
I92: =IF(ISNUMBER(H92),IF(C92=1,4%,IF(C92=2,2%,"")), "") | J92: =IF(ISNUMBER(H92),H92*I92,"") | L92: =IF(ISNUMBER(I92),L91+(G92*H92),"")
A93: Sous-Total | J93: =SUM(J91:J92) -> 0 | L93: {=IFERROR(LOOKUP(2,1/(L91:L92<>""),L91:L92),"")}
A94: TOTAL MENSUEL | J94: =J17+J21+J25+J29+J33+J37+J41+J45+J49+J53+J57+J61+J65+J69+J73+J77+J81+J85+J89+J93 -> 1260

Sheet Mois 2
A1: REMUNERATION
A2: 45748
A6: NOM DU MANDATAIRE : | B6: DUPONT Michel | G6: NOM DE L'AMBASSADEUR : | J6: YYYY yyyy
A7: N° MANDATAIRE : | B7: MA-aamm-0001
A8: DATE D'ENTRÉE : | B8: 44623
A11: PRODUCTION AMBASSADEUR
A12: Nom du Mandataire | B12: Date entrée | C12: Niveau Amb. | D12: N° de la Vente | E12: Signature Acte Authentique | F12: CA HT MaKaza | G12: % Mand. | H12: Base de Calcul CA HT Mand. | I12: % Rem | J12: Commissions | K12: Payé le | L12: Cumul CA HT pour % Rem.
A14: MANDATAIRE 1
A15: MARTIN Paul | B15: 45114 | C15: 1 | F15: 10000 | G15: 1 | H15: 10000 | I15: =IF(ISNUMBER(H15),IF(C15=1,4%,IF(C15=2,2%,"")), "") -> 0.04 | J15: =IF(ISNUMBER(H15),H15*I15,"") -> 400 | L15: =IF(ISNUMBER(I15),'Mois 1'!L17+(G15*H15),"") -> 22000
A16: MARTIN Paul | B16: 45114 | C16: 1 | I16: =IF(ISNUMBER(H16),IF(C16=1,4%,IF(C16=2,2%,"")), "") | J16: =IF(ISNUMBER(H16),H16*I16,"") | L16: =IF(ISNUMBER(I16),L15+(G16*H16),"")
A17: Sous-Total | J17: =SUM(J15:J16) -> 400 | L17: {=IFERROR(LOOKUP(2,1/(L15:L16<>""),L15:L16),'Mois 1'!L17)} -> 22000
A18: MANDATAIRE 2
A19: PALAT Louise | B19: 45324 | C19: 2 | F19: 10000 | G19: 1 | H19: 10000 | I19: =IF(ISNUMBER(H19),IF(C19=1,4%,IF(C19=2,2%,"")), "") -> 0.02 | J19: =IF(ISNUMBER(H19),H19*I19,"") -> 200 | L19: =IF(ISNUMBER(I19),'Mois 1'!L21+(G19*H19),"") -> 23000
A20: PALAT Louise | B20: 45324 | C20: 2 | I20: =IF(ISNUMBER(H20),IF(C20=1,4%,IF(C20=2,2%,"")), "") | J20: =IF(ISNUMBER(H20),H20*I20,"") | L20: =IF(ISNUMBER(I20),L19+(G20*H20),"")
A21: Sous-Total | J21: =SUM(J19:J20) -> 200 | L21: {=IFERROR(LOOKUP(2,1/(L19:L20<>""),L19:L20),'Mois 1'!L21)} -> 23000
A22: MANDATAIRE 3
A23: DUPONT Clarissz | B23: 45476 | C23: 1 | I23: =IF(ISNUMBER(H23),IF(C23=1,4%,IF(C23=2,2%,"")), "") | J23: =IF(ISNUMBER(H23),H23*I23,"") | L23: =IF(ISNUMBER(I23),'Mois 1'!L25+(G23*H23),"")
A24: DUPONT Clarissz | B24: 45476 | C24: 1 | I24: =IF(ISNUMBER(H24),IF(C24=1,4%,IF(C24=2,2%,"")), "") | J24: =IF(ISNUMBER(H24),H24*I24,"") | L24: =IF(ISNUMBER(I24),L23+(G24*H24),"")
A25: Sous-Total | J25: =SUM(J23:J24) -> 0 | L25: {=IFERROR(LOOKUP(2,1/(L23:L24<>""),L23:L24),'Mois 1'!L25)} -> 5000
A26: MANDATAIRE 4
A27: DEPAR Louise | B27: 45873 | C27: 1 | I27: =IF(ISNUMBER(H27),IF(C27=1,4%,IF(C27=2,2%,"")), "") | J27: =IF(ISNUMBER(H27),H27*I27,"") | L27: =IF(ISNUMBER(I27),'Mois 1'!L29+(G27*H27),"")
A28: DEPAR Louise | B28: 45873 | C28: 1 | I28: =IF(ISNUMBER(H28),IF(C28=1,4%,IF(C28=2,2%,"")), "") | J28: =IF(ISNUMBER(H28),H28*I28,"") | L28: =IF(ISNUMBER(I28),L27+(G28*H28),"")
A29: Sous-Total | J29: =SUM(J27:J28) -> 0 | L29: {=IFERROR(LOOKUP(2,1/(L27:L28<>""),L27:L28),'Mois 1'!L29)} -> 8000
A30: MANDATAIRE 5
I31: =IF(ISNUMBER(H31),IF(C31=1,4%,IF(C31=2,2%,"")), "") | J31: =IF(ISNUMBER(H31),H31*I31,"") | L31: =IF(ISNUMBER(I31),'Mois 1'!L33+(G31*H31),"")
I32: =IF(ISNUMBER(H32),IF(C32=1,4%,IF(C32=2,2%,"")), "") | J32: =IF(ISNUMBER(H32),H32*I32,"") | L32: =IF(ISNUMBER(I32),L31+(G32*H32),"")
A33: Sous-Total | J33: =SUM(J31:J32) -> 0 | L33: {=IFERROR(LOOKUP(2,1/(L31:L32<>""),L31:L32),'Mois 1'!L33)}
A34: MANDATAIRE 6
I35: =IF(ISNUMBER(H35),IF(C35=1,4%,IF(C35=2,2%,"")), "") | J35: =IF(ISNUMBER(H35),H35*I35,"") | L35: =IF(ISNUMBER(I35),'Mois 1'!L37+(G35*H35),"")
I36: =IF(ISNUMBER(H36),IF(C36=1,4%,IF(C36=2,2%,"")), "") | J36: =IF(ISNUMBER(H36),H36*I36,"") | L36: =IF(ISNUMBER(I36),L35+(G36*H36),"")
A37: Sous-Total | J37: =SUM(J35:J36) -> 0 | L37: {=IFERROR(LOOKUP(2,1/(L35:L36<>""),L35:L36),'Mois 1'!L37)}
A38: MANDATAIRE 7
J39: =IF(ISNUMBER(H39),H39*I39,"") | L39: =IF(ISNUMBER(I39),'Mois 1'!L41+(G39*H39),"")
I40: =IF(ISNUMBER(H40),IF(C40=1,4%,IF(C40=2,2%,"")), "") | J40: =IF(ISNUMBER(H40),H40*I40,"") | L40: =IF(ISNUMBER(I40),L39+(G40*H40),"")
A41: Sous-Total | J41: =SUM(J39:J40) -> 0 | L41: {=IFERROR(LOOKUP(2,1/(L39:L40<>""),L39:L40),'Mois 1'!L41)}
A42: MANDATAIRE 8
I43: =IF(ISNUMBER(H43),IF(C43=1,4%,IF(C43=2,2%,"")), "") | J43: =IF(ISNUMBER(H43),H43*I43,"") | L43: =IF(ISNUMBER(I43),'Mois 1'!L45+(G43*H43),"")
I44: =IF(ISNUMBER(H44),IF(C44=1,4%,IF(C44=2,2%,"")), "") | J44: =IF(ISNUMBER(H44),H44*I44,"") | L44: =IF(ISNUMBER(I44),L43+(G44*H44),"")
A45: Sous-Total | J45: =SUM(J43:J44) -> 0 | L45: {=IFERROR(LOOKUP(2,1/(L43:L44<>""),L43:L44),'Mois 1'!L45)}
A46: MANDATAIRE 9
I47: =IF(ISNUMBER(H47),IF(C47=1,4%,IF(C47=2,2%,"")), "") | J47: =IF(ISNUMBER(H47),H47*I47,"") | L47: =IF(ISNUMBER(I47),'Mois 1'!L49+(G47*H47),"")
I48: =IF(ISNUMBER(H48),IF(C48=1,4%,IF(C48=2,2%,"")), "") | J48: =IF(ISNUMBER(H48),H48*I48,"") | L48: =IF(ISNUMBER(I48),L47+(G48*H48),"")
A49: Sous-Total | J49: =SUM(J47:J48) -> 0 | L49: {=IFERROR(LOOKUP(2,1/(L47:L48<>""),L47:L48),'Mois 1'!L49)}
A50: MANDATAIRE 10
I51: =IF(ISNUMBER(H51),IF(C51=1,4%,IF(C51=2,2%,"")), "") | J51: =IF(ISNUMBER(H51),H51*I51,"") | L51: =IF(ISNUMBER(I51),'Mois 1'!L53+(G51*H51),"")
I52: =IF(ISNUMBER(H52),IF(C52=1,4%,IF(C52=2,2%,"")), "") | J52: =IF(ISNUMBER(H52),H52*I52,"") | L52: =IF(ISNUMBER(I52),L51+(G52*H52),"")
A53: Sous-Total | J53: =SUM(J51:J52) -> 0 | L53: {=IFERROR(LOOKUP(2,1/(L51:L52<>""),L51:L52),'Mois 1'!L53)}
A54: MANDATAIRE 11
I55: =IF(ISNUMBER(H55),IF(C55=1,4%,IF(C55=2,2%,"")), "") | J55: =IF(ISNUMBER(H55),H55*I55,"") | L55: =IF(ISNUMBER(I55),'Mois 1'!L57+(G55*H55),"")
I56: =IF(ISNUMBER(H56),IF(C56=1,4%,IF(C56=2,2%,"")), "") | J56: =IF(ISNUMBER(H56),H56*I56,"") | L56: =IF(ISNUMBER(I56),L55+(G56*H56),"")
A57: Sous-Total | J57: =SUM(J55:J56) -> 0 | L57: {=IFERROR(LOOKUP(2,1/(L55:L56<>""),L55:L56),'Mois 1'!L57)}
A58: MANDATAIRE 12
I59: =IF(ISNUMBER(H59),IF(C59=1,4%,IF(C59=2,2%,"")), "") | J59: =IF(ISNUMBER(H59),H59*I59,"") | L59: =IF(ISNUMBER(I59),'Mois 1'!L61+(G59*H59),"")
I60: =IF(ISNUMBER(H60),IF(C60=1,4%,IF(C60=2,2%,"")), "") | J60: =IF(ISNUMBER(H60),H60*I60,"") | L60: =IF(ISNUMBER(I60),L59+(G60*H60),"")
A61: Sous-Total | J61: =SUM(J59:J60) -> 0 | L61: {=IFERROR(LOOKUP(2,1/(L59:L60<>""),L59:L60),'Mois 1'!L61)}
A62: MANDATAIRE 13
I63: =IF(ISNUMBER(H63),IF(C63=1,4%,IF(C63=2,2%,"")), "") | J63: =IF(ISNUMBER(H63),H63*I63,"") | L63: =IF(ISNUMBER(I63),'Mois 1'!L65+(G63*H63),"")
I64: =IF(ISNUMBER(H64),IF(C64=1,4%,IF(C64=2,2%,"")), "") | J64: =IF(ISNUMBER(H64),H64*I64,"") | L64: =IF(ISNUMBER(I64),L63+(G64*H64),"")
A65: Sous-Total | J65: =SUM(J63:J64) -> 0 | L65: {=IFERROR(LOOKUP(2,1/(L63:L64<>""),L63:L64),'Mois 1'!L65)}
A66: MANDATAIRE 14
I67: =IF(ISNUMBER(H67),IF(C67=1,4%,IF(C67=2,2%,"")), "") | J67: =IF(ISNUMBER(H67),H67*I67,"") | L67: =IF(ISNUMBER(I67),'Mois 1'!L69+(G67*H67),"")
I68: =IF(ISNUMBER(H68),IF(C68=1,4%,IF(C68=2,2%,"")), "") | J68: =IF(ISNUMBER(H68),H68*I68,"") | L68: =IF(ISNUMBER(I68),L67+(G68*H68),"")
A69: Sous-Total | J69: =SUM(J67:J68) -> 0 | L69: {=IFERROR(LOOKUP(2,1/(L67:L68<>""),L67:L68),'Mois 1'!L69)}
A70: MANDATAIRE 15
I71: =IF(ISNUMBER(H71),IF(C71=1,4%,IF(C71=2,2%,"")), "") | J71: =IF(ISNUMBER(H71),H71*I71,"") | L71: =IF(ISNUMBER(I71),'Mois 1'!L73+(G71*H71),"")
I72: =IF(ISNUMBER(H72),IF(C72=1,4%,IF(C72=2,2%,"")), "") | J72: =IF(ISNUMBER(H72),H72*I72,"") | L72: =IF(ISNUMBER(I72),L71+(G72*H72),"")
A73: Sous-Total | J73: =SUM(J71:J72) -> 0 | L73: {=IFERROR(LOOKUP(2,1/(L71:L72<>""),L71:L72),'Mois 1'!L73)}
A74: MANDATAIRE 16
I75: =IF(ISNUMBER(H75),IF(C75=1,4%,IF(C75=2,2%,"")), "") | J75: =IF(ISNUMBER(H75),H75*I75,"") | L75: =IF(ISNUMBER(I75),'Mois 1'!L77+(G75*H75),"")
I76: =IF(ISNUMBER(H76),IF(C76=1,4%,IF(C76=2,2%,"")), "") | J76: =IF(ISNUMBER(H76),H76*I76,"") | L76: =IF(ISNUMBER(I76),L75+(G76*H76),"")
A77: Sous-Total | J77: =SUM(J75:J76) -> 0 | L77: {=IFERROR(LOOKUP(2,1/(L75:L76<>""),L75:L76),'Mois 1'!L77)}
A78: MANDATAIRE 17
I79: =IF(ISNUMBER(H79),IF(C79=1,4%,IF(C79=2,2%,"")), "") | J79: =IF(ISNUMBER(H79),H79*I79,"") | L79: =IF(ISNUMBER(I79),'Mois 1'!L81+(G79*H79),"")
I80: =IF(ISNUMBER(H80),IF(C80=1,4%,IF(C80=2,2%,"")), "") | J80: =IF(ISNUMBER(H80),H80*I80,"") | L80: =IF(ISNUMBER(I80),L79+(G80*H80),"")
A81: Sous-Total | J81: =SUM(J79:J80) -> 0 | L81: {=IFERROR(LOOKUP(2,1/(L79:L80<>""),L79:L80),'Mois 1'!L81)}
A82: MANDATAIRE 18
I83: =IF(ISNUMBER(H83),IF(C83=1,4%,IF(C83=2,2%,"")), "") | J83: =IF(ISNUMBER(H83),H83*I83,"") | L83: =IF(ISNUMBER(I83),'Mois 1'!L85+(G83*H83),"")
I84: =IF(ISNUMBER(H84),IF(C84=1,4%,IF(C84=2,2%,"")), "") | J84: =IF(ISNUMBER(H84),H84*I84,"") | L84: =IF(ISNUMBER(I84),L83+(G84*H84),"")
A85: Sous-Total | J85: =SUM(J83:J84) -> 0 | L85: {=IFERROR(LOOKUP(2,1/(L83:L84<>""),L83:L84),'Mois 1'!L85)}
A86: MANDATAIRE 19
I87: =IF(ISNUMBER(H87),IF(C87=1,4%,IF(C87=2,2%,"")), "") | J87: =IF(ISNUMBER(H87),H87*I87,"") | L87: =IF(ISNUMBER(I87),'Mois 1'!L89+(G87*H87),"")
I88: =IF(ISNUMBER(H88),IF(C88=1,4%,IF(C88=2,2%,"")), "") | J88: =IF(ISNUMBER(H88),H88*I88,"") | L88: =IF(ISNUMBER(I88),L87+(G88*H88),"")
A89: Sous-Total | J89: =SUM(J87:J88) -> 0 | L89: {=IFERROR(LOOKUP(2,1/(L87:L88<>""),L87:L88),'Mois 1'!L89)}
A90: MANDATAIRE 20
I91: =IF(ISNUMBER(H91),IF(C91=1,4%,IF(C91=2,2%,"")), "") | J91: =IF(ISNUMBER(H91),H91*I91,"") | L91: =IF(ISNUMBER(I91),'Mois 1'!L93+(G91*H91),"")
I92: =IF(ISNUMBER(H92),IF(C92=1,4%,IF(C92=2,2%,"")), "") | J92: =IF(ISNUMBER(H92),H92*I92,"") | L92: =IF(ISNUMBER(I92),L91+(G92*H92),"")
A93: Sous-Total | J93: =SUM(J91:J92) -> 0 | L93: {=IFERROR(LOOKUP(2,1/(L91:L92<>""),L91:L92),'Mois 1'!L93)}
A94: TOTAL MENSUEL | J94: =J17+J21+J25+J29+J33+J37+J41+J45+J49+J53+J57+J61+J65+J69+J73+J77+J81+J85+J89+J93 -> 600

Sheet Mois 3
A1: REMUNERATION
A2: 45778
A6: NOM DU MANDATAIRE : | B6: DUPONT Michel | G6: NOM DE L'AMBASSADEUR : | J6: YYYY yyyy
A7: N° MANDATAIRE : | B7: MA-aamm-0001
A8: DATE D'ENTRÉE : | B8: 44623
A11: PRODUCTION AMBASSADEUR
A12: Nom du Mandataire | B12: Date entrée | C12: Niveau Amb. | D12: N° de la Vente | E12: Signature Acte Authentique | F12: CA HT MaKaza | G12: % Mand. | H12: Base de Calcul CA HT Mand. | I12: % Rem | J12: Commissions | K12: Payé le | L12: Cumul CA HT pour % Rem.
A14: MANDATAIRE 1
A15: MARTIN Paul | B15: 45114 | C15: 1 | I15: =IF(ISNUMBER(H15),IF(C15=1,4%,IF(C15=2,2%,"")), "") | J15: =IF(ISNUMBER(H15),H15*I15,"") | L15: =IF(ISNUMBER(I15),'Mois 2'!L17+(G15*H15),"")
A16: MARTIN Paul | B16: 45114 | C16: 1 | I16: =IF(ISNUMBER(H16),IF(C16=1,4%,IF(C16=2,2%,"")), "") | J16: =IF(ISNUMBER(H16),H16*I16,"") | L16: =IF(ISNUMBER(I16),L15+(G16*H16),"")
A17: Sous-Total | J17: =SUM(J15:J16) -> 0 | L17: {=IFERROR(LOOKUP(2,1/(L15:L16<>""),L15:L16),'Mois 2'!L17)} -> 22000
A18: MANDATAIRE 2
A19: PALAT Louise | B19: 45324 | C19: 2 | I19: =IF(ISNUMBER(H19),IF(C19=1,4%,IF(C19=2,2%,"")), "") | J19: =IF(ISNUMBER(H19),H19*I19,"") | L19: =IF(ISNUMBER(I19),'Mois 2'!L21+(G19*H19),"")
A20: PALAT Louise | B20: 45324 | C20: 2 | I20: =IF(ISNUMBER(H20),IF(C20=1,4%,IF(C20=2,2%,"")), "") | J20: =IF(ISNUMBER(H20),H20*I20,"") | L20: =IF(ISNUMBER(I20),L19+(G20*H20),"")
A21: Sous-Total | J21: =SUM(J19:J20) -> 0 | L21: {=IFERROR(LOOKUP(2,1/(L19:L20<>""),L19:L20),'Mois 2'!L21)} -> 23000
A22: MANDATAIRE 3
A23: DUPONT Clarissz | B23: 45476 | C23: 1 | I23: =IF(ISNUMBER(H23),IF(C23=1,4%,IF(C23=2,2%,"")), "") | J23: =IF(ISNUMBER(H23),H23*I23,"") | L23: =IF(ISNUMBER(I23),'Mois 2'!L25+(G23*H23),"")
A24: DUPONT Clarissz | B24: 45476 | C24: 1 | I24: =IF(ISNUMBER(H24),IF(C24=1,4%,IF(C24=2,2%,"")), "") | J24: =IF(ISNUMBER(H24),H24*I24,"") | L24: =IF(ISNUMBER(I24),L23+(G24*H24),"")
A25: Sous-Total | J25: =SUM(J23:J24) -> 0 | L25: {=IFERROR(LOOKUP(2,1/(L23:L24<>""),L23:L24),'Mois 2'!L25)} -> 5000
A26: MANDATAIRE 4
A27: DEPAR Louise | B27: 45873 | C27: 1 | I27: =IF(ISNUMBER(H27),IF(C27=1,4%,IF(C27=2,2%,"")), "") | J27: =IF(ISNUMBER(H27),H27*I27,"") | L27: =IF(ISNUMBER(I27),'Mois 2'!L29+(G27*H27),"")
A28: DEPAR Louise | B28: 45873 | C28: 1 | I28: =IF(ISNUMBER(H28),IF(C28=1,4%,IF(C28=2,2%,"")), "") | J28: =IF(ISNUMBER(H28),H28*I28,"") | L28: =IF(ISNUMBER(I28),L27+(G28*H28),"")
A29: Sous-Total | J29: =SUM(J27:J28) -> 0 | L29: {=IFERROR(LOOKUP(2,1/(L27:L28<>""),L27:L28),'Mois 2'!L29)} -> 8000
A30: MANDATAIRE 5
I31: =IF(ISNUMBER(H31),IF(C31=1,4%,IF(C31=2,2%,"")), "") | J31: =IF(ISNUMBER(H31),H31*I31,"") | L31: =IF(ISNUMBER(I31),'Mois 2'!L33+(G31*H31),"")
I32: =IF(ISNUMBER(H32),IF(C32=1,4%,IF(C32=2,2%,"")), "") | J32: =IF(ISNUMBER(H32),H32*I32,"") | L32: =IF(ISNUMBER(I32),L31+(G32*H32),"")
A33: Sous-Total | J33: =SUM(J31:J32) -> 0 | L33: {=IFERROR(LOOKUP(2,1/(L31:L32<>""),L31:L32),'Mois 2'!L33)}
A34: MANDATAIRE 6
I35: =IF(ISNUMBER(H35),IF(C35=1,4%,IF(C35=2,2%,"")), "") | J35: =IF(ISNUMBER(H35),H35*I35,"") | L35: =IF(ISNUMBER(I35),'Mois 2'!L37+(G35*H35),"")
I36: =IF(ISNUMBER(H36),IF(C36=1,4%,IF(C36=2,2%,"")), "") | J36: =IF(ISNUMBER(H36),H36*I36,"") | L36: =IF(ISNUMBER(I36),L35+(G36*H36),"")
A37: Sous-Total | J37: =SUM(J35:J36) -> 0 | L37: {=IFERROR(LOOKUP(2,1/(L35:L36<>""),L35:L36),'Mois 2'!L37)}
A38: MANDATAIRE 7
J39: =IF(ISNUMBER(H39),H39*I39,"") | L39: =IF(ISNUMBER(I39),'Mois 2'!L41+(G39*H39),"")
I40: =IF(ISNUMBER(H40),IF(C40=1,4%,IF(C40=2,2%,"")), "") | J40: =IF(ISNUMBER(H40),H40*I40,"") | L40: =IF(ISNUMBER(I40),L39+(G40*H40),"")
A41: Sous-Total | J41: =SUM(J39:J40) -> 0 | L41: {=IFERROR(LOOKUP(2,1/(L39:L40<>""),L39:L40),'Mois 2'!L41)}
A42: MANDATAIRE 8
I43: =IF(ISNUMBER(H43),IF(C43=1,4%,IF(C43=2,2%,"")), "") | J43: =IF(ISNUMBER(H43),H43*I43,"") | L43: =IF(ISNUMBER(I43),'Mois 2'!L45+(G43*H43),"")
I44: =IF(ISNUMBER(H44),IF(C44=1,4%,IF(C44=2,2%,"")), "") | J44: =IF(ISNUMBER(H44),H44*I44,"") | L44: =IF(ISNUMBER(I44),L43+(G44*H44),"")
A45: Sous-Total | J45: =SUM(J43:J44) -> 0 | L45: {=IFERROR(LOOKUP(2,1/(L43:L44<>""),L43:L44),'Mois 2'!L45)}
A46: MANDATAIRE 9
I47: =IF(ISNUMBER(H47),IF(C47=1,4%,IF(C47=2,2%,"")), "") | J47: =IF(ISNUMBER(H47),H47*I47,"") | L47: =IF(ISNUMBER(I47),'Mois 2'!L49+(G47*H47),"")
I48: =IF(ISNUMBER(H48),IF(C48=1,4%,IF(C48=2,2%,"")), "") | J48: =IF(ISNUMBER(H48),H48*I48,"") | L48: =IF(ISNUMBER(I48),L47+(G48*H48),"")
A49: Sous-Total | J49: =SUM(J47:J48) -> 0 | L49: {=IFERROR(LOOKUP(2,1/(L47:L48<>""),L47:L48),'Mois 2'!L49)}
A50: MANDATAIRE 10
I51: =IF(ISNUMBER(H51),IF(C51=1,4%,IF(C51=2,2%,"")), "") | J51: =IF(ISNUMBER(H51),H51*I51,"") | L51: =IF(ISNUMBER(I51),'Mois 2'!L53+(G51*H51),"")
I52: =IF(ISNUMBER(H52),IF(C52=1,4%,IF(C52=2,2%,"")), "") | J52: =IF(ISNUMBER(H52),H52*I52,"") | L52: =IF(ISNUMBER(I52),L51+(G52*H52),"")
A53: Sous-Total | J53: =SUM(J51:J52) -> 0 | L53: {=IFERROR(LOOKUP(2,1/(L51:L52<>""),L51:L52),'Mois 2'!L53)}
A54: MANDATAIRE 11
I55: =IF(ISNUMBER(H55),IF(C55=1,4%,IF(C55=2,2%,"")), "") | J55: =IF(ISNUMBER(H55),H55*I55,"") | L55: =IF(ISNUMBER(I55),'Mois 2'!L57+(G55*H55),"")
I56: =IF(ISNUMBER(H56),IF(C56=1,4%,IF(C56=2,2%,"")), "") | J56: =IF(ISNUMBER(H56),H56*I56,"") | L56: =IF(ISNUMBER(I56),L55+(G56*H56),"")
A57: Sous-Total | J57: =SUM(J55:J56) -> 0 | L57: {=IFERROR(LOOKUP(2,1/(L55:L56<>""),L55:L56),'Mois 2'!L57)}
A58: MANDATAIRE 12
I59: =IF(ISNUMBER(H59),IF(C59=1,4%,IF(C59=2,2%,"")), "") | J59: =IF(ISNUMBER(H59),H59*I59,"") | L59: =IF(ISNUMBER(I59),'Mois 2'!L61+(G59*H59),"")
I60: =IF(ISNUMBER(H60),IF(C60=1,4%,IF(C60=2,2%,"")), "") | J60: =IF(ISNUMBER(H60),H60*I60,"") | L60: =IF(ISNUMBER(I60),L59+(G60*H60),"")
A61: Sous-Total | J61: =SUM(J59:J60) -> 0 | L61: {=IFERROR(LOOKUP(2,1/(L59:L60<>""),L59:L60),'Mois 2'!L61)}
A62: MANDATAIRE 13
I63: =IF(ISNUMBER(H63),IF(C63=1,4%,IF(C63=2,2%,"")), "") | J63: =IF(ISNUMBER(H63),H63*I63,"") | L63: =IF(ISNUMBER(I63),'Mois 2'!L65+(G63*H63),"")
I64: =IF(ISNUMBER(H64),IF(C64=1,4%,IF(C64=2,2%,"")), "") | J64: =IF(ISNUMBER(H64),H64*I64,"") | L64: =IF(ISNUMBER(I64),L63+(G64*H64),"")
A65: Sous-Total | J65: =SUM(J63:J64) -> 0 | L65: {=IFERROR(LOOKUP(2,1/(L63:L64<>""),L63:L64),'Mois 2'!L65)}
A66: MANDATAIRE 14
I67: =IF(ISNUMBER(H67),IF(C67=1,4%,IF(C67=2,2%,"")), "") | J67: =IF(ISNUMBER(H67),H67*I67,"") | L67: =IF(ISNUMBER(I67),'Mois 2'!L69+(G67*H67),"")
I68: =IF(ISNUMBER(H68),IF(C68=1,4%,IF(C68=2,2%,"")), "") | J68: =IF(ISNUMBER(H68),H68*I68,"") | L68: =IF(ISNUMBER(I68),L67+(G68*H68),"")
A69: Sous-Total | J69: =SUM(J67:J68) -> 0 | L69: {=IFERROR(LOOKUP(2,1/(L67:L68<>""),L67:L68),'Mois 2'!L69)}
A70: MANDATAIRE 15
I71: =IF(ISNUMBER(H71),IF(C71=1,4%,IF(C71=2,2%,"")), "") | J71: =IF(ISNUMBER(H71),H71*I71,"") | L71: =IF(ISNUMBER(I71),'Mois 2'!L73+(G71*H71),"")
I72: =IF(ISNUMBER(H72),IF(C72=1,4%,IF(C72=2,2%,"")), "") | J72: =IF(ISNUMBER(H72),H72*I72,"") | L72: =IF(ISNUMBER(I72),L71+(G72*H72),"")
A73: Sous-Total | J73: =SUM(J71:J72) -> 0 | L73: {=IFERROR(LOOKUP(2,1/(L71:L72<>""),L71:L72),'Mois 2'!L73)}
A74: MANDATAIRE 16
I75: =IF(ISNUMBER(H75),IF(C75=1,4%,IF(C75=2,2%,"")), "") | J75: =IF(ISNUMBER(H75),H75*I75,"") | L75: =IF(ISNUMBER(I75),'Mois 2'!L77+(G75*H75),"")
I76: =IF(ISNUMBER(H76),IF(C76=1,4%,IF(C76=2,2%,"")), "") | J76: =IF(ISNUMBER(H76),H76*I76,"") | L76: =IF(ISNUMBER(I76),L75+(G76*H76),"")
A77: Sous-Total | J77: =SUM(J75:J76) -> 0 | L77: {=IFERROR(LOOKUP(2,1/(L75:L76<>""),L75:L76),'Mois 2'!L77)}
A78: MANDATAIRE 17
I79: =IF(ISNUMBER(H79),IF(C79=1,4%,IF(C79=2,2%,"")), "") | J79: =IF(ISNUMBER(H79),H79*I79,"") | L79: =IF(ISNUMBER(I79),'Mois 2'!L81+(G79*H79),"")
I80: =IF(ISNUMBER(H80),IF(C80=1,4%,IF(C80=2,2%,"")), "") | J80: =IF(ISNUMBER(H80),H80*I80,"") | L80: =IF(ISNUMBER(I80),L79+(G80*H80),"")
A81: Sous-Total | J81: =SUM(J79:J80) -> 0 | L81: {=IFERROR(LOOKUP(2,1/(L79:L80<>""),L79:L80),'Mois 2'!L81)}
A82: MANDATAIRE 18
I83: =IF(ISNUMBER(H83),IF(C83=1,4%,IF(C83=2,2%,"")), "") | J83: =IF(ISNUMBER(H83),H83*I83,"") | L83: =IF(ISNUMBER(I83),'Mois 2'!L85+(G83*H83),"")
I84: =IF(ISNUMBER(H84),IF(C84=1,4%,IF(C84=2,2%,"")), "") | J84: =IF(ISNUMBER(H84),H84*I84,"") | L84: =IF(ISNUMBER(I84),L83+(G84*H84),"")
A85: Sous-Total | J85: =SUM(J83:J84) -> 0 | L85: {=IFERROR(LOOKUP(2,1/(L83:L84<>""),L83:L84),'Mois 2'!L85)}
A86: MANDATAIRE 19
I87: =IF(ISNUMBER(H87),IF(C87=1,4%,IF(C87=2,2%,"")), "") | J87: =IF(ISNUMBER(H87),H87*I87,"") | L87: =IF(ISNUMBER(I87),'Mois 2'!L89+(G87*H87),"")
I88: =IF(ISNUMBER(H88),IF(C88=1,4%,IF(C88=2,2%,"")), "") | J88: =IF(ISNUMBER(H88),H88*I88,"") | L88: =IF(ISNUMBER(I88),L87+(G88*H88),"")
A89: Sous-Total | J89: =SUM(J87:J88) -> 0 | L89: {=IFERROR(LOOKUP(2,1/(L87:L88<>""),L87:L88),'Mois 2'!L89)}
A90: MANDATAIRE 20
I91: =IF(ISNUMBER(H91),IF(C91=1,4%,IF(C91=2,2%,"")), "") | J91: =IF(ISNUMBER(H91),H91*I91,"") | L91: =IF(ISNUMBER(I91),'Mois 2'!L93+(G91*H91),"")
I92: =IF(ISNUMBER(H92),IF(C92=1,4%,IF(C92=2,2%,"")), "") | J92: =IF(ISNUMBER(H92),H92*I92,"") | L92: =IF(ISNUMBER(I92),L91+(G92*H92),"")
A93: Sous-Total | J93: =SUM(J91:J92) -> 0 | L93: {=IFERROR(LOOKUP(2,1/(L91:L92<>""),L91:L92),'Mois 2'!L93)}
A94: TOTAL MENSUEL | J94: =J17+J21+J25+J29+J33+J37+J41+J45+J49+J53+J57+J61+J65+J69+J73+J77+J81+J85+J89+J93 -> 0

Sheet Mois 4
A1: REMUNERATION
A2: 45809
A6: NOM DU MANDATAIRE : | B6: DUPONT Michel | G6: NOM DE L'AMBASSADEUR : | J6: YYYY yyyy
A7: N° MANDATAIRE : | B7: MA-aamm-0001
A8: DATE D'ENTRÉE : | B8: 44623
A11: PRODUCTION AMBASSADEUR
A12: Nom du Mandataire | B12: Date entrée | C12: Niveau Amb. | D12: N° de la Vente | E12: Signature Acte Authentique | F12: CA HT MaKaza | G12: % Mand. | H12: Base de Calcul CA HT Mand. | I12: % Rem | J12: Commissions | K12: Payé le | L12: Cumul CA HT pour % Rem.
A14: MANDATAIRE 1
A15: MARTIN Paul | B15: 45114 | C15: 1 | I15: =IF(ISNUMBER(H15),IF(C15=1,4%,IF(C15=2,2%,"")), "") | J15: =IF(ISNUMBER(H15),H15*I15,"") | L15: =IF(ISNUMBER(I15),'Mois 3'!L17+(G15*H15),"")
A16: MARTIN Paul | B16: 45114 | C16: 1 | I16: =IF(ISNUMBER(H16),IF(C16=1,4%,IF(C16=2,2%,"")), "") | J16: =IF(ISNUMBER(H16),H16*I16,"") | L16: =IF(ISNUMBER(I16),L15+(G16*H16),"")
A17: Sous-Total | J17: =SUM(J15:J16) -> 0 | L17: {=IFERROR(LOOKUP(2,1/(L15:L16<>""),L15:L16),'Mois 3'!L17)} -> 22000
A18: MANDATAIRE 2
A19: PALAT Louise | B19: 45324 | C19: 2 | I19: =IF(ISNUMBER(H19),IF(C19=1,4%,IF(C19=2,2%,"")), "") | J19: =IF(ISNUMBER(H19),H19*I19,"") | L19: =IF(ISNUMBER(I19),'Mois 3'!L21+(G19*H19),"")
A20: PALAT Louise | B20: 45324 | C20: 2 | I20: =IF(ISNUMBER(H20),IF(C20=1,4%,IF(C20=2,2%,"")), "") | J20: =IF(ISNUMBER(H20),H20*I20,"") | L20: =IF(ISNUMBER(I20),L19+(G20*H20),"")
A21: Sous-Total | J21: =SUM(J19:J20) -> 0 | L21: {=IFERROR(LOOKUP(2,1/(L19:L20<>""),L19:L20),'Mois 3'!L21)} -> 23000
A22: MANDATAIRE 3
A23: DUPONT Clarissz | B23: 45476 | C23: 1 | I23: =IF(ISNUMBER(H23),IF(C23=1,4%,IF(C23=2,2%,"")), "") | J23: =IF(ISNUMBER(H23),H23*I23,"") | L23: =IF(ISNUMBER(I23),'Mois 3'!L25+(G23*H23),"")
A24: DUPONT Clarissz | B24: 45476 | C24: 1 | I24: =IF(ISNUMBER(H24),IF(C24=1,4%,IF(C24=2,2%,"")), "") | J24: =IF(ISNUMBER(H24),H24*I24,"") | L24: =IF(ISNUMBER(I24),L23+(G24*H24),"")
A25: Sous-Total | J25: =SUM(J23:J24) -> 0 | L25: {=IFERROR(LOOKUP(2,1/(L23:L24<>""),L23:L24),'Mois 3'!L25)} -> 5000
A26: MANDATAIRE 4
A27: DEPAR Louise | B27: 45873 | C27: 1 | I27: =IF(ISNUMBER(H27),IF(C27=1,4%,IF(C27=2,2%,"")), "") | J27: =IF(ISNUMBER(H27),H27*I27,"") | L27: =IF(ISNUMBER(I27),'Mois 3'!L29+(G27*H27),"")
A28: DEPAR Louise | B28: 45873 | C28: 1 | I28: =IF(ISNUMBER(H28),IF(C28=1,4%,IF(C28=2,2%,"")), "") | J28: =IF(ISNUMBER(H28),H28*I28,"") | L28: =IF(ISNUMBER(I28),L27+(G28*H28),"")
A29: Sous-Total | J29: =SUM(J27:J28) -> 0 | L29: {=IFERROR(LOOKUP(2,1/(L27:L28<>""),L27:L28),'Mois 3'!L29)} -> 8000
A30: MANDATAIRE 5
I31: =IF(ISNUMBER(H31),IF(C31=1,4%,IF(C31=2,2%,"")), "") | J31: =IF(ISNUMBER(H31),H31*I31,"") | L31: =IF(ISNUMBER(I31),'Mois 3'!L33+(G31*H31),"")
I32: =IF(ISNUMBER(H32),IF(C32=1,4%,IF(C32=2,2%,"")), "") | J32: =IF(ISNUMBER(H32),H32*I32,"") | L32: =IF(ISNUMBER(I32),L31+(G32*H32),"")
A33: Sous-Total | J33: =SUM(J31:J32) -> 0 | L33: {=IFERROR(LOOKUP(2,1/(L31:L32<>""),L31:L32),'Mois 3'!L33)}
A34: MANDATAIRE 6
I35: =IF(ISNUMBER(H35),IF(C35=1,4%,IF(C35=2,2%,"")), "") | J35: =IF(ISNUMBER(H35),H35*I35,"") | L35: =IF(ISNUMBER(I35),'Mois 3'!L37+(G35*H35),"")
I36: =IF(ISNUMBER(H36),IF(C36=1,4%,IF(C36=2,2%,"")), "") | J36: =IF(ISNUMBER(H36),H36*I36,"") | L36: =IF(ISNUMBER(I36),L35+(G36*H36),"")
A37: Sous-Total | J37: =SUM(J35:J36) -> 0 | L37: {=IFERROR(LOOKUP(2,1/(L35:L36<>""),L35:L36),'Mois 3'!L37)}
A38: MANDATAIRE 7
J39: =IF(ISNUMBER(H39),H39*I39,"") | L39: =IF(ISNUMBER(I39),'Mois 3'!L41+(G39*H39),"")
I40: =IF(ISNUMBER(H40),IF(C40=1,4%,IF(C40=2,2%,"")), "") | J40: =IF(ISNUMBER(H40),H40*I40,"") | L40: =IF(ISNUMBER(I40),L39+(G40*H40),"")
A41: Sous-Total | J41: =SUM(J39:J40) -> 0 | L41: {=IFERROR(LOOKUP(2,1/(L39:L40<>""),L39:L40),'Mois 3'!L41)}
A42: MANDATAIRE 8
I43: =IF(ISNUMBER(H43),IF(C43=1,4%,IF(C43=2,2%,"")), "") | J43: =IF(ISNUMBER(H43),H43*I43,"") | L43: =IF(ISNUMBER(I43),'Mois 3'!L45+(G43*H43),"")
I44: =IF(ISNUMBER(H44),IF(C44=1,4%,IF(C44=2,2%,"")), "") | J44: =IF(ISNUMBER(H44),H44*I44,"") | L44: =IF(ISNUMBER(I44),L43+(G44*H44),"")
A45: Sous-Total | J45: =SUM(J43:J44) -> 0 | L45: {=IFERROR(LOOKUP(2,1/(L43:L44<>""),L43:L44),'Mois 3'!L45)}
A46: MANDATAIRE 9
I47: =IF(ISNUMBER(H47),IF(C47=1,4%,IF(C47=2,2%,"")), "") | J47: =IF(ISNUMBER(H47),H47*I47,"") | L47: =IF(ISNUMBER(I47),'Mois 3'!L49+(G47*H47),"")
I48: =IF(ISNUMBER(H48),IF(C48=1,4%,IF(C48=2,2%,"")), "") | J48: =IF(ISNUMBER(H48),H48*I48,"") | L48: =IF(ISNUMBER(I48),L47+(G48*H48),"")
A49: Sous-Total | J49: =SUM(J47:J48) -> 0 | L49: {=IFERROR(LOOKUP(2,1/(L47:L48<>""),L47:L48),'Mois 3'!L49)}
A50: MANDATAIRE 10
I51: =IF(ISNUMBER(H51),IF(C51=1,4%,IF(C51=2,2%,"")), "") | J51: =IF(ISNUMBER(H51),H51*I51,"") | L51: =IF(ISNUMBER(I51),'Mois 3'!L53+(G51*H51),"")
I52: =IF(ISNUMBER(H52),IF(C52=1,4%,IF(C52=2,2%,"")), "") | J52: =IF(ISNUMBER(H52),H52*I52,"") | L52: =IF(ISNUMBER(I52),L51+(G52*H52),"")
A53: Sous-Total | J53: =SUM(J51:J52) -> 0 | L53: {=IFERROR(LOOKUP(2,1/(L51:L52<>""),L51:L52),'Mois 3'!L53)}
A54: MANDATAIRE 11
I55: =IF(ISNUMBER(H55),IF(C55=1,4%,IF(C55=2,2%,"")), "") | J55: =IF(ISNUMBER(H55),H55*I55,"") | L55: =IF(ISNUMBER(I55),'Mois 3'!L57+(G55*H55),"")
I56: =IF(ISNUMBER(H56),IF(C56=1,4%,IF(C56=2,2%,"")), "") | J56: =IF(ISNUMBER(H56),H56*I56,"") | L56: =IF(ISNUMBER(I56),L55+(G56*H56),"")
A57: Sous-Total | J57: =SUM(J55:J56) -> 0 | L57: {=IFERROR(LOOKUP(2,1/(L55:L56<>""),L55:L56),'Mois 3'!L57)}
A58: MANDATAIRE 12
I59: =IF(ISNUMBER(H59),IF(C59=1,4%,IF(C59=2,2%,"")), "") | J59: =IF(ISNUMBER(H59),H59*I59,"") | L59: =IF(ISNUMBER(I59),'Mois 3'!L61+(G59*H59),"")
I60: =IF(ISNUMBER(H60),IF(C60=1,4%,IF(C60=2,2%,"")), "") | J60: =IF(ISNUMBER(H60),H60*I60,"") | L60: =IF(ISNUMBER(I60),L59+(G60*H60),"")
A61: Sous-Total | J61: =SUM(J59:J60) -> 0 | L61: {=IFERROR(LOOKUP(2,1/(L59:L60<>""),L59:L60),'Mois 3'!L61)}
A62: MANDATAIRE 13
I63: =IF(ISNUMBER(H63),IF(C63=1,4%,IF(C63=2,2%,"")), "") | J63: =IF(ISNUMBER(H63),H63*I63,"") | L63: =IF(ISNUMBER(I63),'Mois 3'!L65+(G63*H63),"")
I64: =IF(ISNUMBER(H64),IF(C64=1,4%,IF(C64=2,2%,"")), "") | J64: =IF(ISNUMBER(H64),H64*I64,"") | L64: =IF(ISNUMBER(I64),L63+(G64*H64),"")
A65: Sous-Total | J65: =SUM(J63:J64) -> 0 | L65: {=IFERROR(LOOKUP(2,1/(L63:L64<>""),L63:L64),'Mois 3'!L65)}
A66: MANDATAIRE 14
I67: =IF(ISNUMBER(H67),IF(C67=1,4%,IF(C67=2,2%,"")), "") | J67: =IF(ISNUMBER(H67),H67*I67,"") | L67: =IF(ISNUMBER(I67),'Mois 3'!L69+(G67*H67),"")
I68: =IF(ISNUMBER(H68),IF(C68=1,4%,IF(C68=2,2%,"")), "") | J68: =IF(ISNUMBER(H68),H68*I68,"") | L68: =IF(ISNUMBER(I68),L67+(G68*H68),"")
A69: Sous-Total | J69: =SUM(J67:J68) -> 0 | L69: {=IFERROR(LOOKUP(2,1/(L67:L68<>""),L67:L68),'Mois 3'!L69)}
A70: MANDATAIRE 15
I71: =IF(ISNUMBER(H71),IF(C71=1,4%,IF(C71=2,2%,"")), "") | J71: =IF(ISNUMBER(H71),H71*I71,"") | L71: =IF(ISNUMBER(I71),'Mois 3'!L73+(G71*H71),"")
I72: =IF(ISNUMBER(H72),IF(C72=1,4%,IF(C72=2,2%,"")), "") | J72: =IF(ISNUMBER(H72),H72*I72,"") | L72: =IF(ISNUMBER(I72),L71+(G72*H72),"")
A73: Sous-Total | J73: =SUM(J71:J72) -> 0 | L73: {=IFERROR(LOOKUP(2,1/(L71:L72<>""),L71:L72),'Mois 3'!L73)}
A74: MANDATAIRE 16
I75: =IF(ISNUMBER(H75),IF(C75=1,4%,IF(C75=2,2%,"")), "") | J75: =IF(ISNUMBER(H75),H75*I75,"") | L75: =IF(ISNUMBER(I75),'Mois 3'!L77+(G75*H75),"")
I76: =IF(ISNUMBER(H76),IF(C76=1,4%,IF(C76=2,2%,"")), "") | J76: =IF(ISNUMBER(H76),H76*I76,"") | L76: =IF(ISNUMBER(I76),L75+(G76*H76),"")
A77: Sous-Total | J77: =SUM(J75:J76) -> 0 | L77: {=IFERROR(LOOKUP(2,1/(L75:L76<>""),L75:L76),'Mois 3'!L77)}
A78: MANDATAIRE 17
I79: =IF(ISNUMBER(H79),IF(C79=1,4%,IF(C79=2,2%,"")), "") | J79: =IF(ISNUMBER(H79),H79*I79,"") | L79: =IF(ISNUMBER(I79),'Mois 3'!L81+(G79*H79),"")
I80: =IF(ISNUMBER(H80),IF(C80=1,4%,IF(C80=2,2%,"")), "") | J80: =IF(ISNUMBER(H80),H80*I80,"") | L80: =IF(ISNUMBER(I80),L79+(G80*H80),"")
A81: Sous-Total | J81: =SUM(J79:J80) -> 0 | L81: {=IFERROR(LOOKUP(2,1/(L79:L80<>""),L79:L80),'Mois 3'!L81)}
A82: MANDATAIRE 18
I83: =IF(ISNUMBER(H83),IF(C83=1,4%,IF(C83=2,2%,"")), "") | J83: =IF(ISNUMBER(H83),H83*I83,"") | L83: =IF(ISNUMBER(I83),'Mois 3'!L85+(G83*H83),"")
I84: =IF(ISNUMBER(H84),IF(C84=1,4%,IF(C84=2,2%,"")), "") | J84: =IF(ISNUMBER(H84),H84*I84,"") | L84: =IF(ISNUMBER(I84),L83+(G84*H84),"")
A85: Sous-Total | J85: =SUM(J83:J84) -> 0 | L85: {=IFERROR(LOOKUP(2,1/(L83:L84<>""),L83:L84),'Mois 3'!L85)}
A86: MANDATAIRE 19
I87: =IF(ISNUMBER(H87),IF(C87=1,4%,IF(C87=2,2%,"")), "") | J87: =IF(ISNUMBER(H87),H87*I87,"") | L87: =IF(ISNUMBER(I87),'Mois 3'!L89+(G87*H87),"")
I88: =IF(ISNUMBER(H88),IF(C88=1,4%,IF(C88=2,2%,"")), "") | J88: =IF(ISNUMBER(H88),H88*I88,"") | L88: =IF(ISNUMBER(I88),L87+(G88*H88),"")
A89: Sous-Total | J89: =SUM(J87:J88) -> 0 | L89: {=IFERROR(LOOKUP(2,1/(L87:L88<>""),L87:L88),'Mois 3'!L89)}
A90: MANDATAIRE 20
I91: =IF(ISNUMBER(H91),IF(C91=1,4%,IF(C91=2,2%,"")), "") | J91: =IF(ISNUMBER(H91),H91*I91,"") | L91: =IF(ISNUMBER(I91),'Mois 3'!L93+(G91*H91),"")
I92: =IF(ISNUMBER(H92),IF(C92=1,4%,IF(C92=2,2%,"")), "") | J92: =IF(ISNUMBER(H92),H92*I92,"") | L92: =IF(ISNUMBER(I92),L91+(G92*H92),"")
A93: Sous-Total | J93: =SUM(J91:J92) -> 0 | L93: {=IFERROR(LOOKUP(2,1/(L91:L92<>""),L91:L92),'Mois 3'!L93)}
A94: TOTAL MENSUEL | J94: =J17+J21+J25+J29+J33+J37+J41+J45+J49+J53+J57+J61+J65+J69+J73+J77+J81+J85+J89+J93 -> 0

Sheet Mois 5
A1: REMUNERATION
A2: 45839
A6: NOM DU MANDATAIRE : | B6: DUPONT Michel | G6: NOM DE L'AMBASSADEUR : | J6: YYYY yyyy
A7: N° MANDATAIRE : | B7: MA-aamm-0001
A8: DATE D'ENTRÉE : | B8: 44623
A11: PRODUCTION AMBASSADEUR
A12: Nom du Mandataire | B12: Date entrée | C12: Niveau Amb. | D12: N° de la Vente | E12: Signature Acte Authentique | F12: CA HT MaKaza | G12: % Mand. | H12: Base de Calcul CA HT Mand. | I12: % Rem | J12: Commissions | K12: Payé le | L12: Cumul CA HT pour % Rem.
A14: MANDATAIRE 1
A15: MARTIN Paul | B15: 45114 | C15: 1 | I15: =IF(ISNUMBER(H15),IF(C15=1,4%,IF(C15=2,2%,"")), "") | J15: =IF(ISNUMBER(H15),H15*I15,"") | L15: =IF(ISNUMBER(I15),'Mois 4'!L17+(G15*H15),"")
A16: MARTIN Paul | B16: 45114 | C16: 1 | I16: =IF(ISNUMBER(H16),IF(C16=1,4%,IF(C16=2,2%,"")), "") | J16: =IF(ISNUMBER(H16),H16*I16,"") | L16: =IF(ISNUMBER(I16),L15+(G16*H16),"")
A17: Sous-Total | J17: =SUM(J15:J16) -> 0 | L17: {=IFERROR(LOOKUP(2,1/(L15:L16<>""),L15:L16),'Mois 4'!L17)} -> 22000
A18: MANDATAIRE 2
A19: PALAT Louise | B19: 45324 | C19: 2 | I19: =IF(ISNUMBER(H19),IF(C19=1,4%,IF(C19=2,2%,"")), "") | J19: =IF(ISNUMBER(H19),H19*I19,"") | L19: =IF(ISNUMBER(I19),'Mois 4'!L21+(G19*H19),"")
A20: PALAT Louise | B20: 45324 | C20: 2 | I20: =IF(ISNUMBER(H20),IF(C20=1,4%,IF(C20=2,2%,"")), "") | J20: =IF(ISNUMBER(H20),H20*I20,"") | L20: =IF(ISNUMBER(I20),L19+(G20*H20),"")
A21: Sous-Total | J21: =SUM(J19:J20) -> 0 | L21: {=IFERROR(LOOKUP(2,1/(L19:L20<>""),L19:L20),'Mois 4'!L21)} -> 23000
A22: MANDATAIRE 3
A23: DUPONT Clarissz | B23: 45476 | C23: 1 | I23: =IF(ISNUMBER(H23),IF(C23=1,4%,IF(C23=2,2%,"")), "") | J23: =IF(ISNUMBER(H23),H23*I23,"") | L23: =IF(ISNUMBER(I23),'Mois 4'!L25+(G23*H23),"")
A24: DUPONT Clarissz | B24: 45476 | C24: 1 | I24: =IF(ISNUMBER(H24),IF(C24=1,4%,IF(C24=2,2%,"")), "") | J24: =IF(ISNUMBER(H24),H24*I24,"") | L24: =IF(ISNUMBER(I24),L23+(G24*H24),"")
A25: Sous-Total | J25: =SUM(J23:J24) -> 0 | L25: {=IFERROR(LOOKUP(2,1/(L23:L24<>""),L23:L24),'Mois 4'!L25)} -> 5000
A26: MANDATAIRE 4
A27: DEPAR Louise | B27: 45873 | C27: 1 | I27: =IF(ISNUMBER(H27),IF(C27=1,4%,IF(C27=2,2%,"")), "") | J27: =IF(ISNUMBER(H27),H27*I27,"") | L27: =IF(ISNUMBER(I27),'Mois 4'!L29+(G27*H27),"")
A28: DEPAR Louise | B28: 45873 | C28: 1 | I28: =IF(ISNUMBER(H28),IF(C28=1,4%,IF(C28=2,2%,"")), "") | J28: =IF(ISNUMBER(H28),H28*I28,"") | L28: =IF(ISNUMBER(I28),L27+(G28*H28),"")
A29: Sous-Total | J29: =SUM(J27:J28) -> 0 | L29: {=IFERROR(LOOKUP(2,1/(L27:L28<>""),L27:L28),'Mois 4'!L29)} -> 8000
A30: MANDATAIRE 5
I31: =IF(ISNUMBER(H31),IF(C31=1,4%,IF(C31=2,2%,"")), "") | J31: =IF(ISNUMBER(H31),H31*I31,"") | L31: =IF(ISNUMBER(I31),'Mois 4'!L33+(G31*H31),"")
I32: =IF(ISNUMBER(H32),IF(C32=1,4%,IF(C32=2,2%,"")), "") | J32: =IF(ISNUMBER(H32),H32*I32,"") | L32: =IF(ISNUMBER(I32),L31+(G32*H32),"")
A33: Sous-Total | J33: =SUM(J31:J32) -> 0 | L33: {=IFERROR(LOOKUP(2,1/(L31:L32<>""),L31:L32),'Mois 4'!L33)}
A34: MANDATAIRE 6
I35: =IF(ISNUMBER(H35),IF(C35=1,4%,IF(C35=2,2%,"")), "") | J35: =IF(ISNUMBER(H35),H35*I35,"") | L35: =IF(ISNUMBER(I35),'Mois 4'!L37+(G35*H35),"")
I36: =IF(ISNUMBER(H36),IF(C36=1,4%,IF(C36=2,2%,"")), "") | J36: =IF(ISNUMBER(H36),H36*I36,"") | L36: =IF(ISNUMBER(I36),L35+(G36*H36),"")
A37: Sous-Total | J37: =SUM(J35:J36) -> 0 | L37: {=IFERROR(LOOKUP(2,1/(L35:L36<>""),L35:L36),'Mois 4'!L37)}
A38: MANDATAIRE 7
J39: =IF(ISNUMBER(H39),H39*I39,"") | L39: =IF(ISNUMBER(I39),'Mois 4'!L41+(G39*H39),"")
I40: =IF(ISNUMBER(H40),IF(C40=1,4%,IF(C40=2,2%,"")), "") | J40: =IF(ISNUMBER(H40),H40*I40,"") | L40: =IF(ISNUMBER(I40),L39+(G40*H40),"")
A41: Sous-Total | J41: =SUM(J39:J40) -> 0 | L41: {=IFERROR(LOOKUP(2,1/(L39:L40<>""),L39:L40),'Mois 4'!L41)}
A42: MANDATAIRE 8
I43: =IF(ISNUMBER(H43),IF(C43=1,4%,IF(C43=2,2%,"")), "") | J43: =IF(ISNUMBER(H43),H43*I43,"") | L43: =IF(ISNUMBER(I43),'Mois 4'!L45+(G43*H43),"")
I44: =IF(ISNUMBER(H44),IF(C44=1,4%,IF(C44=2,2%,"")), "") | J44: =IF(ISNUMBER(H44),H44*I44,"") | L44: =IF(ISNUMBER(I44),L43+(G44*H44),"")
A45: Sous-Total | J45: =SUM(J43:J44) -> 0 | L45: {=IFERROR(LOOKUP(2,1/(L43:L44<>""),L43:L44),'Mois 4'!L45)}
A46: MANDATAIRE 9
I47: =IF(ISNUMBER(H47),IF(C47=1,4%,IF(C47=2,2%,"")), "") | J47: =IF(ISNUMBER(H47),H47*I47,"") | L47: =IF(ISNUMBER(I47),'Mois 4'!L49+(G47*H47),"")
I48: =IF(ISNUMBER(H48),IF(C48=1,4%,IF(C48=2,2%,"")), "") | J48: =IF(ISNUMBER(H48),H48*I48,"") | L48: =IF(ISNUMBER(I48),L47+(G48*H48),"")
A49: Sous-Total | J49: =SUM(J47:J48) -> 0 | L49: {=IFERROR(LOOKUP(2,1/(L47:L48<>""),L47:L48),'Mois 4'!L49)}
A50: MANDATAIRE 10
I51: =IF(ISNUMBER(H51),IF(C51=1,4%,IF(C51=2,2%,"")), "") | J51: =IF(ISNUMBER(H51),H51*I51,"") | L51: =IF(ISNUMBER(I51),'Mois 4'!L53+(G51*H51),"")
I52: =IF(ISNUMBER(H52),IF(C52=1,4%,IF(C52=2,2%,"")), "") | J52: =IF(ISNUMBER(H52),H52*I52,"") | L52: =IF(ISNUMBER(I52),L51+(G52*H52),"")
A53: Sous-Total | J53: =SUM(J51:J52) -> 0 | L53: {=IFERROR(LOOKUP(2,1/(L51:L52<>""),L51:L52),'Mois 4'!L53)}
A54: MANDATAIRE 11
I55: =IF(ISNUMBER(H55),IF(C55=1,4%,IF(C55=2,2%,"")), "") | J55: =IF(ISNUMBER(H55),H55*I55,"") | L55: =IF(ISNUMBER(I55),'Mois 4'!L57+(G55*H55),"")
I56: =IF(ISNUMBER(H56),IF(C56=1,4%,IF(C56=2,2%,"")), "") | J56: =IF(ISNUMBER(H56),H56*I56,"") | L56: =IF(ISNUMBER(I56),L55+(G56*H56),"")
A57: Sous-Total | J57: =SUM(J55:J56) -> 0 | L57: {=IFERROR(LOOKUP(2,1/(L55:L56<>""),L55:L56),'Mois 4'!L57)}
A58: MANDATAIRE 12
I59: =IF(ISNUMBER(H59),IF(C59=1,4%,IF(C59=2,2%,"")), "") | J59: =IF(ISNUMBER(H59),H59*I59,"") | L59: =IF(ISNUMBER(I59),'Mois 4'!L61+(G59*H59),"")
I60: =IF(ISNUMBER(H60),IF(C60=1,4%,IF(C60=2,2%,"")), "") | J60: =IF(ISNUMBER(H60),H60*I60,"") | L60: =IF(ISNUMBER(I60),L59+(G60*H60),"")
A61: Sous-Total | J61: =SUM(J59:J60) -> 0 | L61: {=IFERROR(LOOKUP(2,1/(L59:L60<>""),L59:L60),'Mois 4'!L61)}
A62: MANDATAIRE 13
I63: =IF(ISNUMBER(H63),IF(C63=1,4%,IF(C63=2,2%,"")), "") | J63: =IF(ISNUMBER(H63),H63*I63,"") | L63: =IF(ISNUMBER(I63),'Mois 4'!L65+(G63*H63),"")
I64: =IF(ISNUMBER(H64),IF(C64=1,4%,IF(C64=2,2%,"")), "") | J64: =IF(ISNUMBER(H64),H64*I64,"") | L64: =IF(ISNUMBER(I64),L63+(G64*H64),"")
A65: Sous-Total | J65: =SUM(J63:J64) -> 0 | L65: {=IFERROR(LOOKUP(2,1/(L63:L64<>""),L63:L64),'Mois 4'!L65)}
A66: MANDATAIRE 14
I67: =IF(ISNUMBER(H67),IF(C67=1,4%,IF(C67=2,2%,"")), "") | J67: =IF(ISNUMBER(H67),H67*I67,"") | L67: =IF(ISNUMBER(I67),'Mois 4'!L69+(G67*H67),"")
I68: =IF(ISNUMBER(H68),IF(C68=1,4%,IF(C68=2,2%,"")), "") | J68: =IF(ISNUMBER(H68),H68*I68,"") | L68: =IF(ISNUMBER(I68),L67+(G68*H68),"")
A69: Sous-Total | J69: =SUM(J67:J68) -> 0 | L69: {=IFERROR(LOOKUP(2,1/(L67:L68<>""),L67:L68),'Mois 4'!L69)}
A70: MANDATAIRE 15
I71: =IF(ISNUMBER(H71),IF(C71=1,4%,IF(C71=2,2%,"")), "") | J71: =IF(ISNUMBER(H71),H71*I71,"") | L71: =IF(ISNUMBER(I71),'Mois 4'!L73+(G71*H71),"")
I72: =IF(ISNUMBER(H72),IF(C72=1,4%,IF(C72=2,2%,"")), "") | J72: =IF(ISNUMBER(H72),H72*I72,"") | L72: =IF(ISNUMBER(I72),L71+(G72*H72),"")
A73: Sous-Total | J73: =SUM(J71:J72) -> 0 | L73: {=IFERROR(LOOKUP(2,1/(L71:L72<>""),L71:L72),'Mois 4'!L73)}
A74: MANDATAIRE 16
I75: =IF(ISNUMBER(H75),IF(C75=1,4%,IF(C75=2,2%,"")), "") | J75: =IF(ISNUMBER(H75),H75*I75,"") | L75: =IF(ISNUMBER(I75),'Mois 4'!L77+(G75*H75),"")
I76: =IF(ISNUMBER(H76),IF(C76=1,4%,IF(C76=2,2%,"")), "") | J76: =IF(ISNUMBER(H76),H76*I76,"") | L76: =IF(ISNUMBER(I76),L75+(G76*H76),"")
A77: Sous-Total | J77: =SUM(J75:J76) -> 0 | L77: {=IFERROR(LOOKUP(2,1/(L75:L76<>""),L75:L76),'Mois 4'!L77)}
A78: MANDATAIRE 17
I79: =IF(ISNUMBER(H79),IF(C79=1,4%,IF(C79=2,2%,"")), "") | J79: =IF(ISNUMBER(H79),H79*I79,"") | L79: =IF(ISNUMBER(I79),'Mois 4'!L81+(G79*H79),"")
I80: =IF(ISNUMBER(H80),IF(C80=1,4%,IF(C80=2,2%,"")), "") | J80: =IF(ISNUMBER(H80),H80*I80,"") | L80: =IF(ISNUMBER(I80),L79+(G80*H80),"")
A81: Sous-Total | J81: =SUM(J79:J80) -> 0 | L81: {=IFERROR(LOOKUP(2,1/(L79:L80<>""),L79:L80),'Mois 4'!L81)}
A82: MANDATAIRE 18
I83: =IF(ISNUMBER(H83),IF(C83=1,4%,IF(C83=2,2%,"")), "") | J83: =IF(ISNUMBER(H83),H83*I83,"") | L83: =IF(ISNUMBER(I83),'Mois 4'!L85+(G83*H83),"")
I84: =IF(ISNUMBER(H84),IF(C84=1,4%,IF(C84=2,2%,"")), "") | J84: =IF(ISNUMBER(H84),H84*I84,"") | L84: =IF(ISNUMBER(I84),L83+(G84*H84),"")
A85: Sous-Total | J85: =SUM(J83:J84) -> 0 | L85: {=IFERROR(LOOKUP(2,1/(L83:L84<>""),L83:L84),'Mois 4'!L85)}
A86: MANDATAIRE 19
I87: =IF(ISNUMBER(H87),IF(C87=1,4%,IF(C87=2,2%,"")), "") | J87: =IF(ISNUMBER(H87),H87*I87,"") | L87: =IF(ISNUMBER(I87),'Mois 4'!L89+(G87*H87),"")
I88: =IF(ISNUMBER(H88),IF(C88=1,4%,IF(C88=2,2%,"")), "") | J88: =IF(ISNUMBER(H88),H88*I88,"") | L88: =IF(ISNUMBER(I88),L87+(G88*H88),"")
A89: Sous-Total | J89: =SUM(J87:J88) -> 0 | L89: {=IFERROR(LOOKUP(2,1/(L87:L88<>""),L87:L88),'Mois 4'!L89)}
A90: MANDATAIRE 20
I91: =IF(ISNUMBER(H91),IF(C91=1,4%,IF(C91=2,2%,"")), "") | J91: =IF(ISNUMBER(H91),H91*I91,"") | L91: =IF(ISNUMBER(I91),'Mois 4'!L93+(G91*H91),"")
I92: =IF(ISNUMBER(H92),IF(C92=1,4%,IF(C92=2,2%,"")), "") | J92: =IF(ISNUMBER(H92),H92*I92,"") | L92: =IF(ISNUMBER(I92),L91+(G92*H92),"")
A93: Sous-Total | J93: =SUM(J91:J92) -> 0 | L93: {=IFERROR(LOOKUP(2,1/(L91:L92<>""),L91:L92),'Mois 4'!L93)}
A94: TOTAL MENSUEL | J94: =J17+J21+J25+J29+J33+J37+J41+J45+J49+J53+J57+J61+J65+J69+J73+J77+J81+J85+J89+J93 -> 0

Sheet Mois 6
A1: REMUNERATION
A2: 45870
A6: NOM DU MANDATAIRE : | B6: DUPONT Michel | G6: NOM DE L'AMBASSADEUR : | J6: YYYY yyyy
A7: N° MANDATAIRE : | B7: MA-aamm-0001
A8: DATE D'ENTRÉE : | B8: 44623
A11: PRODUCTION AMBASSADEUR
A12: Nom du Mandataire | B12: Date entrée | C12: Niveau Amb. | D12: N° de la Vente | E12: Signature Acte Authentique | F12: CA HT MaKaza | G12: % Mand. | H12: Base de Calcul CA HT Mand. | I12: % Rem | J12: Commissions | K12: Payé le | L12: Cumul CA HT pour % Rem.
A14: MANDATAIRE 1
A15: MARTIN Paul | B15: 45114 | C15: 1 | I15: =IF(ISNUMBER(H15),IF(C15=1,4%,IF(C15=2,2%,"")), "") | J15: =IF(ISNUMBER(H15),H15*I15,"") | L15: =IF(ISNUMBER(I15),'Mois 5'!L17+(G15*H15),"")
A16: MARTIN Paul | B16: 45114 | C16: 1 | I16: =IF(ISNUMBER(H16),IF(C16=1,4%,IF(C16=2,2%,"")), "") | J16: =IF(ISNUMBER(H16),H16*I16,"") | L16: =IF(ISNUMBER(I16),L15+(G16*H16),"")
A17: Sous-Total | J17: =SUM(J15:J16) -> 0 | L17: {=IFERROR(LOOKUP(2,1/(L15:L16<>""),L15:L16),'Mois 5'!L17)} -> 22000
A18: MANDATAIRE 2
A19: PALAT Louise | B19: 45324 | C19: 2 | I19: =IF(ISNUMBER(H19),IF(C19=1,4%,IF(C19=2,2%,"")), "") | J19: =IF(ISNUMBER(H19),H19*I19,"") | L19: =IF(ISNUMBER(I19),'Mois 5'!L21+(G19*H19),"")
A20: PALAT Louise | B20: 45324 | C20: 2 | I20: =IF(ISNUMBER(H20),IF(C20=1,4%,IF(C20=2,2%,"")), "") | J20: =IF(ISNUMBER(H20),H20*I20,"") | L20: =IF(ISNUMBER(I20),L19+(G20*H20),"")
A21: Sous-Total | J21: =SUM(J19:J20) -> 0 | L21: {=IFERROR(LOOKUP(2,1/(L19:L20<>""),L19:L20),'Mois 5'!L21)} -> 23000
A22: MANDATAIRE 3
A23: DUPONT Clarissz | B23: 45476 | C23: 1 | I23: =IF(ISNUMBER(H23),IF(C23=1,4%,IF(C23=2,2%,"")), "") | J23: =IF(ISNUMBER(H23),H23*I23,"") | L23: =IF(ISNUMBER(I23),'Mois 5'!L25+(G23*H23),"")
A24: DUPONT Clarissz | B24: 45476 | C24: 1 | I24: =IF(ISNUMBER(H24),IF(C24=1,4%,IF(C24=2,2%,"")), "") | J24: =IF(ISNUMBER(H24),H24*I24,"") | L24: =IF(ISNUMBER(I24),L23+(G24*H24),"")
A25: Sous-Total | J25: =SUM(J23:J24) -> 0 | L25: {=IFERROR(LOOKUP(2,1/(L23:L24<>""),L23:L24),'Mois 5'!L25)} -> 5000
A26: MANDATAIRE 4
A27: DEPAR Louise | B27: 45873 | C27: 1 | I27: =IF(ISNUMBER(H27),IF(C27=1,4%,IF(C27=2,2%,"")), "") | J27: =IF(ISNUMBER(H27),H27*I27,"") | L27: =IF(ISNUMBER(I27),'Mois 5'!L29+(G27*H27),"")
A28: DEPAR Louise | B28: 45873 | C28: 1 | I28: =IF(ISNUMBER(H28),IF(C28=1,4%,IF(C28=2,2%,"")), "") | J28: =IF(ISNUMBER(H28),H28*I28,"") | L28: =IF(ISNUMBER(I28),L27+(G28*H28),"")
A29: Sous-Total | J29: =SUM(J27:J28) -> 0 | L29: {=IFERROR(LOOKUP(2,1/(L27:L28<>""),L27:L28),'Mois 5'!L29)} -> 8000
A30: MANDATAIRE 5
I31: =IF(ISNUMBER(H31),IF(C31=1,4%,IF(C31=2,2%,"")), "") | J31: =IF(ISNUMBER(H31),H31*I31,"") | L31: =IF(ISNUMBER(I31),'Mois 5'!L33+(G31*H31),"")
I32: =IF(ISNUMBER(H32),IF(C32=1,4%,IF(C32=2,2%,"")), "") | J32: =IF(ISNUMBER(H32),H32*I32,"") | L32: =IF(ISNUMBER(I32),L31+(G32*H32),"")
A33: Sous-Total | J33: =SUM(J31:J32) -> 0 | L33: {=IFERROR(LOOKUP(2,1/(L31:L32<>""),L31:L32),'Mois 5'!L33)}
A34: MANDATAIRE 6
I35: =IF(ISNUMBER(H35),IF(C35=1,4%,IF(C35=2,2%,"")), "") | J35: =IF(ISNUMBER(H35),H35*I35,"") | L35: =IF(ISNUMBER(I35),'Mois 5'!L37+(G35*H35),"")
I36: =IF(ISNUMBER(H36),IF(C36=1,4%,IF(C36=2,2%,"")), "") | J36: =IF(ISNUMBER(H36),H36*I36,"") | L36: =IF(ISNUMBER(I36),L35+(G36*H36),"")
A37: Sous-Total | J37: =SUM(J35:J36) -> 0 | L37: {=IFERROR(LOOKUP(2,1/(L35:L36<>""),L35:L36),'Mois 5'!L37)}
A38: MANDATAIRE 7
J39: =IF(ISNUMBER(H39),H39*I39,"") | L39: =IF(ISNUMBER(I39),'Mois 5'!L41+(G39*H39),"")
I40: =IF(ISNUMBER(H40),IF(C40=1,4%,IF(C40=2,2%,"")), "") | J40: =IF(ISNUMBER(H40),H40*I40,"") | L40: =IF(ISNUMBER(I40),L39+(G40*H40),"")
A41: Sous-Total | J41: =SUM(J39:J40) -> 0 | L41: {=IFERROR(LOOKUP(2,1/(L39:L40<>""),L39:L40),'Mois 5'!L41)}
A42: MANDATAIRE 8
I43: =IF(ISNUMBER(H43),IF(C43=1,4%,IF(C43=2,2%,"")), "") | J43: =IF(ISNUMBER(H43),H43*I43,"") | L43: =IF(ISNUMBER(I43),'Mois 5'!L45+(G43*H43),"")
I44: =IF(ISNUMBER(H44),IF(C44=1,4%,IF(C44=2,2%,"")), "") | J44: =IF(ISNUMBER(H44),H44*I44,"") | L44: =IF(ISNUMBER(I44),L43+(G44*H44),"")
A45: Sous-Total | J45: =SUM(J43:J44) -> 0 | L45: {=IFERROR(LOOKUP(2,1/(L43:L44<>""),L43:L44),'Mois 5'!L45)}
A46: MANDATAIRE 9
I47: =IF(ISNUMBER(H47),IF(C47=1,4%,IF(C47=2,2%,"")), "") | J47: =IF(ISNUMBER(H47),H47*I47,"") | L47: =IF(ISNUMBER(I47),'Mois 5'!L49+(G47*H47),"")
I48: =IF(ISNUMBER(H48),IF(C48=1,4%,IF(C48=2,2%,"")), "") | J48: =IF(ISNUMBER(H48),H48*I48,"") | L48: =IF(ISNUMBER(I48),L47+(G48*H48),"")
A49: Sous-Total | J49: =SUM(J47:J48) -> 0 | L49: {=IFERROR(LOOKUP(2,1/(L47:L48<>""),L47:L48),'Mois 5'!L49)}
A50: MANDATAIRE 10
I51: =IF(ISNUMBER(H51),IF(C51=1,4%,IF(C51=2,2%,"")), "") | J51: =IF(ISNUMBER(H51),H51*I51,"") | L51: =IF(ISNUMBER(I51),'Mois 5'!L53+(G51*H51),"")
I52: =IF(ISNUMBER(H52),IF(C52=1,4%,IF(C52=2,2%,"")), "") | J52: =IF(ISNUMBER(H52),H52*I52,"") | L52: =IF(ISNUMBER(I52),L51+(G52*H52),"")
A53: Sous-Total | J53: =SUM(J51:J52) -> 0 | L53: {=IFERROR(LOOKUP(2,1/(L51:L52<>""),L51:L52),'Mois 5'!L53)}
A54: MANDATAIRE 11
I55: =IF(ISNUMBER(H55),IF(C55=1,4%,IF(C55=2,2%,"")), "") | J55: =IF(ISNUMBER(H55),H55*I55,"") | L55: =IF(ISNUMBER(I55),'Mois 5'!L57+(G55*H55),"")
I56: =IF(ISNUMBER(H56),IF(C56=1,4%,IF(C56=2,2%,"")), "") | J56: =IF(ISNUMBER(H56),H56*I56,"") | L56: =IF(ISNUMBER(I56),L55+(G56*H56),"")
A57: Sous-Total | J57: =SUM(J55:J56) -> 0 | L57: {=IFERROR(LOOKUP(2,1/(L55:L56<>""),L55:L56),'Mois 5'!L57)}
A58: MANDATAIRE 12
I59: =IF(ISNUMBER(H59),IF(C59=1,4%,IF(C59=2,2%,"")), "") | J59: =IF(ISNUMBER(H59),H59*I59,"") | L59: =IF(ISNUMBER(I59),'Mois 5'!L61+(G59*H59),"")
I60: =IF(ISNUMBER(H60),IF(C60=1,4%,IF(C60=2,2%,"")), "") | J60: =IF(ISNUMBER(H60),H60*I60,"") | L60: =IF(ISNUMBER(I60),L59+(G60*H60),"")
A61: Sous-Total | J61: =SUM(J59:J60) -> 0 | L61: {=IFERROR(LOOKUP(2,1/(L59:L60<>""),L59:L60),'Mois 5'!L61)}
A62: MANDATAIRE 13
I63: =IF(ISNUMBER(H63),IF(C63=1,4%,IF(C63=2,2%,"")), "") | J63: =IF(ISNUMBER(H63),H63*I63,"") | L63: =IF(ISNUMBER(I63),'Mois 5'!L65+(G63*H63),"")
I64: =IF(ISNUMBER(H64),IF(C64=1,4%,IF(C64=2,2%,"")), "") | J64: =IF(ISNUMBER(H64),H64*I64,"") | L64: =IF(ISNUMBER(I64),L63+(G64*H64),"")
A65: Sous-Total | J65: =SUM(J63:J64) -> 0 | L65: {=IFERROR(LOOKUP(2,1/(L63:L64<>""),L63:L64),'Mois 5'!L65)}
A66: MANDATAIRE 14
I67: =IF(ISNUMBER(H67),IF(C67=1,4%,IF(C67=2,2%,"")), "") | J67: =IF(ISNUMBER(H67),H67*I67,"") | L67: =IF(ISNUMBER(I67),'Mois 5'!L69+(G67*H67),"")
I68: =IF(ISNUMBER(H68),IF(C68=1,4%,IF(C68=2,2%,"")), "") | J68: =IF(ISNUMBER(H68),H68*I68,"") | L68: =IF(ISNUMBER(I68),L67+(G68*H68),"")
A69: Sous-Total | J69: =SUM(J67:J68) -> 0 | L69: {=IFERROR(LOOKUP(2,1/(L67:L68<>""),L67:L68),'Mois 5'!L69)}
A70: MANDATAIRE 15
I71: =IF(ISNUMBER(H71),IF(C71=1,4%,IF(C71=2,2%,"")), "") | J71: =IF(ISNUMBER(H71),H71*I71,"") | L71: =IF(ISNUMBER(I71),'Mois 5'!L73+(G71*H71),"")
I72: =IF(ISNUMBER(H72),IF(C72=1,4%,IF(C72=2,2%,"")), "") | J72: =IF(ISNUMBER(H72),H72*I72,"") | L72: =IF(ISNUMBER(I72),L71+(G72*H72),"")
A73: Sous-Total | J73: =SUM(J71:J72) -> 0 | L73: {=IFERROR(LOOKUP(2,1/(L71:L72<>""),L71:L72),'Mois 5'!L73)}
A74: MANDATAIRE 16
I75: =IF(ISNUMBER(H75),IF(C75=1,4%,IF(C75=2,2%,"")), "") | J75: =IF(ISNUMBER(H75),H75*I75,"") | L75: =IF(ISNUMBER(I75),'Mois 5'!L77+(G75*H75),"")
I76: =IF(ISNUMBER(H76),IF(C76=1,4%,IF(C76=2,2%,"")), "") | J76: =IF(ISNUMBER(H76),H76*I76,"") | L76: =IF(ISNUMBER(I76),L75+(G76*H76),"")
A77: Sous-Total | J77: =SUM(J75:J76) -> 0 | L77: {=IFERROR(LOOKUP(2,1/(L75:L76<>""),L75:L76),'Mois 5'!L77)}
A78: MANDATAIRE 17
I79: =IF(ISNUMBER(H79),IF(C79=1,4%,IF(C79=2,2%,"")), "") | J79: =IF(ISNUMBER(H79),H79*I79,"") | L79: =IF(ISNUMBER(I79),'Mois 5'!L81+(G79*H79),"")
I80: =IF(ISNUMBER(H80),IF(C80=1,4%,IF(C80=2,2%,"")), "") | J80: =IF(ISNUMBER(H80),H80*I80,"") | L80: =IF(ISNUMBER(I80),L79+(G80*H80),"")
A81: Sous-Total | J81: =SUM(J79:J80) -> 0 | L81: {=IFERROR(LOOKUP(2,1/(L79:L80<>""),L79:L80),'Mois 5'!L81)}
A82: MANDATAIRE 18
I83: =IF(ISNUMBER(H83),IF(C83=1,4%,IF(C83=2,2%,"")), "") | J83: =IF(ISNUMBER(H83),H83*I83,"") | L83: =IF(ISNUMBER(I83),'Mois 5'!L85+(G83*H83),"")
I84: =IF(ISNUMBER(H84),IF(C84=1,4%,IF(C84=2,2%,"")), "") | J84: =IF(ISNUMBER(H84),H84*I84,"") | L84: =IF(ISNUMBER(I84),L83+(G84*H84),"")
A85: Sous-Total | J85: =SUM(J83:J84) -> 0 | L85: {=IFERROR(LOOKUP(2,1/(L83:L84<>""),L83:L84),'Mois 5'!L85)}
A86: MANDATAIRE 19
I87: =IF(ISNUMBER(H87),IF(C87=1,4%,IF(C87=2,2%,"")), "") | J87: =IF(ISNUMBER(H87),H87*I87,"") | L87: =IF(ISNUMBER(I87),'Mois 5'!L89+(G87*H87),"")
I88: =IF(ISNUMBER(H88),IF(C88=1,4%,IF(C88=2,2%,"")), "") | J88: =IF(ISNUMBER(H88),H88*I88,"") | L88: =IF(ISNUMBER(I88),L87+(G88*H88),"")
A89: Sous-Total | J89: =SUM(J87:J88) -> 0 | L89: {=IFERROR(LOOKUP(2,1/(L87:L88<>""),L87:L88),'Mois 5'!L89)}
A90: MANDATAIRE 20
I91: =IF(ISNUMBER(H91),IF(C91=1,4%,IF(C91=2,2%,"")), "") | J91: =IF(ISNUMBER(H91),H91*I91,"") | L91: =IF(ISNUMBER(I91),'Mois 5'!L93+(G91*H91),"")
I92: =IF(ISNUMBER(H92),IF(C92=1,4%,IF(C92=2,2%,"")), "") | J92: =IF(ISNUMBER(H92),H92*I92,"") | L92: =IF(ISNUMBER(I92),L91+(G92*H92),"")
A93: Sous-Total | J93: =SUM(J91:J92) -> 0 | L93: {=IFERROR(LOOKUP(2,1/(L91:L92<>""),L91:L92),'Mois 5'!L93)}
A94: TOTAL MENSUEL | J94: =J17+J21+J25+J29+J33+J37+J41+J45+J49+J53+J57+J61+J65+J69+J73+J77+J81+J85+J89+J93 -> 0

Sheet Mois 7
A1: REMUNERATION
A2: 45901
A6: NOM DU MANDATAIRE : | B6: DUPONT Michel | G6: NOM DE L'AMBASSADEUR : | J6: YYYY yyyy
A7: N° MANDATAIRE : | B7: MA-aamm-0001
A8: DATE D'ENTRÉE : | B8: 44623
A11: PRODUCTION AMBASSADEUR
A12: Nom du Mandataire | B12: Date entrée | C12: Niveau Amb. | D12: N° de la Vente | E12: Signature Acte Authentique | F12: CA HT MaKaza | G12: % Mand. | H12: Base de Calcul CA HT Mand. | I12: % Rem | J12: Commissions | K12: Payé le | L12: Cumul CA HT pour % Rem.
A14: MANDATAIRE 1
A15: MARTIN Paul | B15: 45114 | C15: 1 | I15: =IF(ISNUMBER(H15),IF(C15=1,4%,IF(C15=2,2%,"")), "") | J15: =IF(ISNUMBER(H15),H15*I15,"") | L15: =IF(ISNUMBER(I15),'Mois 6'!L17+(G15*H15),"")
A16: MARTIN Paul | B16: 45114 | C16: 1 | I16: =IF(ISNUMBER(H16),IF(C16=1,4%,IF(C16=2,2%,"")), "") | J16: =IF(ISNUMBER(H16),H16*I16,"") | L16: =IF(ISNUMBER(I16),L15+(G16*H16),"")
A17: Sous-Total | J17: =SUM(J15:J16) -> 0 | L17: {=IFERROR(LOOKUP(2,1/(L15:L16<>""),L15:L16),'Mois 6'!L17)} -> 22000
A18: MANDATAIRE 2
A19: PALAT Louise | B19: 45324 | C19: 2 | I19: =IF(ISNUMBER(H19),IF(C19=1,4%,IF(C19=2,2%,"")), "") | J19: =IF(ISNUMBER(H19),H19*I19,"") | L19: =IF(ISNUMBER(I19),'Mois 6'!L21+(G19*H19),"")
A20: PALAT Louise | B20: 45324 | C20: 2 | I20: =IF(ISNUMBER(H20),IF(C20=1,4%,IF(C20=2,2%,"")), "") | J20: =IF(ISNUMBER(H20),H20*I20,"") | L20: =IF(ISNUMBER(I20),L19+(G20*H20),"")
A21: Sous-Total | J21: =SUM(J19:J20) -> 0 | L21: {=IFERROR(LOOKUP(2,1/(L19:L20<>""),L19:L20),'Mois 6'!L21)} -> 23000
A22: MANDATAIRE 3
A23: DUPONT Clarissz | B23: 45476 | C23: 1 | I23: =IF(ISNUMBER(H23),IF(C23=1,4%,IF(C23=2,2%,"")), "") | J23: =IF(ISNUMBER(H23),H23*I23,"") | L23: =IF(ISNUMBER(I23),'Mois 6'!L25+(G23*H23),"")
A24: DUPONT Clarissz | B24: 45476 | C24: 1 | I24: =IF(ISNUMBER(H24),IF(C24=1,4%,IF(C24=2,2%,"")), "") | J24: =IF(ISNUMBER(H24),H24*I24,"") | L24: =IF(ISNUMBER(I24),L23+(G24*H24),"")
A25: Sous-Total | J25: =SUM(J23:J24) -> 0 | L25: {=IFERROR(LOOKUP(2,1/(L23:L24<>""),L23:L24),'Mois 6'!L25)} -> 5000
A26: MANDATAIRE 4
A27: DEPAR Louise | B27: 45873 | C27: 1 | I27: =IF(ISNUMBER(H27),IF(C27=1,4%,IF(C27=2,2%,"")), "") | J27: =IF(ISNUMBER(H27),H27*I27,"") | L27: =IF(ISNUMBER(I27),'Mois 6'!L29+(G27*H27),"")
A28: DEPAR Louise | B28: 45873 | C28: 1 | I28: =IF(ISNUMBER(H28),IF(C28=1,4%,IF(C28=2,2%,"")), "") | J28: =IF(ISNUMBER(H28),H28*I28,"") | L28: =IF(ISNUMBER(I28),L27+(G28*H28),"")
A29: Sous-Total | J29: =SUM(J27:J28) -> 0 | L29: {=IFERROR(LOOKUP(2,1/(L27:L28<>""),L27:L28),'Mois 6'!L29)} -> 8000
A30: MANDATAIRE 5
I31: =IF(ISNUMBER(H31),IF(C31=1,4%,IF(C31=2,2%,"")), "") | J31: =IF(ISNUMBER(H31),H31*I31,"") | L31: =IF(ISNUMBER(I31),'Mois 6'!L33+(G31*H31),"")
I32: =IF(ISNUMBER(H32),IF(C32=1,4%,IF(C32=2,2%,"")), "") | J32: =IF(ISNUMBER(H32),H32*I32,"") | L32: =IF(ISNUMBER(I32),L31+(G32*H32),"")
A33: Sous-Total | J33: =SUM(J31:J32) -> 0 | L33: {=IFERROR(LOOKUP(2,1/(L31:L32<>""),L31:L32),'Mois 6'!L33)}
A34: MANDATAIRE 6
I35: =IF(ISNUMBER(H35),IF(C35=1,4%,IF(C35=2,2%,"")), "") | J35: =IF(ISNUMBER(H35),H35*I35,"") | L35: =IF(ISNUMBER(I35),'Mois 6'!L37+(G35*H35),"")
I36: =IF(ISNUMBER(H36),IF(C36=1,4%,IF(C36=2,2%,"")), "") | J36: =IF(ISNUMBER(H36),H36*I36,"") | L36: =IF(ISNUMBER(I36),L35+(G36*H36),"")
A37: Sous-Total | J37: =SUM(J35:J36) -> 0 | L37: {=IFERROR(LOOKUP(2,1/(L35:L36<>""),L35:L36),'Mois 6'!L37)}
A38: MANDATAIRE 7
J39: =IF(ISNUMBER(H39),H39*I39,"") | L39: =IF(ISNUMBER(I39),'Mois 6'!L41+(G39*H39),"")
I40: =IF(ISNUMBER(H40),IF(C40=1,4%,IF(C40=2,2%,"")), "") | J40: =IF(ISNUMBER(H40),H40*I40,"") | L40: =IF(ISNUMBER(I40),L39+(G40*H40),"")
A41: Sous-Total | J41: =SUM(J39:J40) -> 0 | L41: {=IFERROR(LOOKUP(2,1/(L39:L40<>""),L39:L40),'Mois 6'!L41)}
A42: MANDATAIRE 8
I43: =IF(ISNUMBER(H43),IF(C43=1,4%,IF(C43=2,2%,"")), "") | J43: =IF(ISNUMBER(H43),H43*I43,"") | L43: =IF(ISNUMBER(I43),'Mois 6'!L45+(G43*H43),"")
I44: =IF(ISNUMBER(H44),IF(C44=1,4%,IF(C44=2,2%,"")), "") | J44: =IF(ISNUMBER(H44),H44*I44,"") | L44: =IF(ISNUMBER(I44),L43+(G44*H44),"")
A45: Sous-Total | J45: =SUM(J43:J44) -> 0 | L45: {=IFERROR(LOOKUP(2,1/(L43:L44<>""),L43:L44),'Mois 6'!L45)}
A46: MANDATAIRE 9
I47: =IF(ISNUMBER(H47),IF(C47=1,4%,IF(C47=2,2%,"")), "") | J47: =IF(ISNUMBER(H47),H47*I47,"") | L47: =IF(ISNUMBER(I47),'Mois 6'!L49+(G47*H47),"")
I48: =IF(ISNUMBER(H48),IF(C48=1,4%,IF(C48=2,2%,"")), "") | J48: =IF(ISNUMBER(H48),H48*I48,"") | L48: =IF(ISNUMBER(I48),L47+(G48*H48),"")
A49: Sous-Total | J49: =SUM(J47:J48) -> 0 | L49: {=IFERROR(LOOKUP(2,1/(L47:L48<>""),L47:L48),'Mois 6'!L49)}
A50: MANDATAIRE 10
I51: =IF(ISNUMBER(H51),IF(C51=1,4%,IF(C51=2,2%,"")), "") | J51: =IF(ISNUMBER(H51),H51*I51,"") | L51: =IF(ISNUMBER(I51),'Mois 6'!L53+(G51*H51),"")
I52: =IF(ISNUMBER(H52),IF(C52=1,4%,IF(C52=2,2%,"")), "") | J52: =IF(ISNUMBER(H52),H52*I52,"") | L52: =IF(ISNUMBER(I52),L51+(G52*H52),"")
A53: Sous-Total | J53: =SUM(J51:J52) -> 0 | L53: {=IFERROR(LOOKUP(2,1/(L51:L52<>""),L51:L52),'Mois 6'!L53)}
A54: MANDATAIRE 11
I55: =IF(ISNUMBER(H55),IF(C55=1,4%,IF(C55=2,2%,"")), "") | J55: =IF(ISNUMBER(H55),H55*I55,"") | L55: =IF(ISNUMBER(I55),'Mois 6'!L57+(G55*H55),"")
I56: =IF(ISNUMBER(H56),IF(C56=1,4%,IF(C56=2,2%,"")), "") | J56: =IF(ISNUMBER(H56),H56*I56,"") | L56: =IF(ISNUMBER(I56),L55+(G56*H56),"")
A57: Sous-Total | J57: =SUM(J55:J56) -> 0 | L57: {=IFERROR(LOOKUP(2,1/(L55:L56<>""),L55:L56),'Mois 6'!L57)}
A58: MANDATAIRE 12
I59: =IF(ISNUMBER(H59),IF(C59=1,4%,IF(C59=2,2%,"")), "") | J59: =IF(ISNUMBER(H59),H59*I59,"") | L59: =IF(ISNUMBER(I59),'Mois 6'!L61+(G59*H59),"")
I60: =IF(ISNUMBER(H60),IF(C60=1,4%,IF(C60=2,2%,"")), "") | J60: =IF(ISNUMBER(H60),H60*I60,"") | L60: =IF(ISNUMBER(I60),L59+(G60*H60),"")
A61: Sous-Total | J61: =SUM(J59:J60) -> 0 | L61: {=IFERROR(LOOKUP(2,1/(L59:L60<>""),L59:L60),'Mois 6'!L61)}
A62: MANDATAIRE 13
I63: =IF(ISNUMBER(H63),IF(C63=1,4%,IF(C63=2,2%,"")), "") | J63: =IF(ISNUMBER(H63),H63*I63,"") | L63: =IF(ISNUMBER(I63),'Mois 6'!L65+(G63*H63),"")
I64: =IF(ISNUMBER(H64),IF(C64=1,4%,IF(C64=2,2%,"")), "") | J64: =IF(ISNUMBER(H64),H64*I64,"") | L64: =IF(ISNUMBER(I64),L63+(G64*H64),"")
A65: Sous-Total | J65: =SUM(J63:J64) -> 0 | L65: {=IFERROR(LOOKUP(2,1/(L63:L64<>""),L63:L64),'Mois 6'!L65)}
A66: MANDATAIRE 14
I67: =IF(ISNUMBER(H67),IF(C67=1,4%,IF(C67=2,2%,"")), "") | J67: =IF(ISNUMBER(H67),H67*I67,"") | L67: =IF(ISNUMBER(I67),'Mois 6'!L69+(G67*H67),"")
I68: =IF(ISNUMBER(H68),IF(C68=1,4%,IF(C68=2,2%,"")), "") | J68: =IF(ISNUMBER(H68),H68*I68,"") | L68: =IF(ISNUMBER(I68),L67+(G68*H68),"")
A69: Sous-Total | J69: =SUM(J67:J68) -> 0 | L69: {=IFERROR(LOOKUP(2,1/(L67:L68<>""),L67:L68),'Mois 6'!L69)}
A70: MANDATAIRE 15
I71: =IF(ISNUMBER(H71),IF(C71=1,4%,IF(C71=2,2%,"")), "") | J71: =IF(ISNUMBER(H71),H71*I71,"") | L71: =IF(ISNUMBER(I71),'Mois 6'!L73+(G71*H71),"")
I72: =IF(ISNUMBER(H72),IF(C72=1,4%,IF(C72=2,2%,"")), "") | J72: =IF(ISNUMBER(H72),H72*I72,"") | L72: =IF(ISNUMBER(I72),L71+(G72*H72),"")
A73: Sous-Total | J73: =SUM(J71:J72) -> 0 | L73: {=IFERROR(LOOKUP(2,1/(L71:L72<>""),L71:L72),'Mois 6'!L73)}
A74: MANDATAIRE 16
I75: =IF(ISNUMBER(H75),IF(C75=1,4%,IF(C75=2,2%,"")), "") | J75: =IF(ISNUMBER(H75),H75*I75,"") | L75: =IF(ISNUMBER(I75),'Mois 6'!L77+(G75*H75),"")
I76: =IF(ISNUMBER(H76),IF(C76=1,4%,IF(C76=2,2%,"")), "") | J76: =IF(ISNUMBER(H76),H76*I76,"") | L76: =IF(ISNUMBER(I76),L75+(G76*H76),"")
A77: Sous-Total | J77: =SUM(J75:J76) -> 0 | L77: {=IFERROR(LOOKUP(2,1/(L75:L76<>""),L75:L76),'Mois 6'!L77)}
A78: MANDATAIRE 17
I79: =IF(ISNUMBER(H79),IF(C79=1,4%,IF(C79=2,2%,"")), "") | J79: =IF(ISNUMBER(H79),H79*I79,"") | L79: =IF(ISNUMBER(I79),'Mois 6'!L81+(G79*H79),"")
I80: =IF(ISNUMBER(H80),IF(C80=1,4%,IF(C80=2,2%,"")), "") | J80: =IF(ISNUMBER(H80),H80*I80,"") | L80: =IF(ISNUMBER(I80),L79+(G80*H80),"")
A81: Sous-Total | J81: =SUM(J79:J80) -> 0 | L81: {=IFERROR(LOOKUP(2,1/(L79:L80<>""),L79:L80),'Mois 6'!L81)}
A82: MANDATAIRE 18
I83: =IF(ISNUMBER(H83),IF(C83=1,4%,IF(C83=2,2%,"")), "") | J83: =IF(ISNUMBER(H83),H83*I83,"") | L83: =IF(ISNUMBER(I83),'Mois 6'!L85+(G83*H83),"")
I84: =IF(ISNUMBER(H84),IF(C84=1,4%,IF(C84=2,2%,"")), "") | J84: =IF(ISNUMBER(H84),H84*I84,"") | L84: =IF(ISNUMBER(I84),L83+(G84*H84),"")
A85: Sous-Total | J85: =SUM(J83:J84) -> 0 | L85: {=IFERROR(LOOKUP(2,1/(L83:L84<>""),L83:L84),'Mois 6'!L85)}
A86: MANDATAIRE 19
I87: =IF(ISNUMBER(H87),IF(C87=1,4%,IF(C87=2,2%,"")), "") | J87: =IF(ISNUMBER(H87),H87*I87,"") | L87: =IF(ISNUMBER(I87),'Mois 6'!L89+(G87*H87),"")
I88: =IF(ISNUMBER(H88),IF(C88=1,4%,IF(C88=2,2%,"")), "") | J88: =IF(ISNUMBER(H88),H88*I88,"") | L88: =IF(ISNUMBER(I88),L87+(G88*H88),"")
A89: Sous-Total | J89: =SUM(J87:J88) -> 0 | L89: {=IFERROR(LOOKUP(2,1/(L87:L88<>""),L87:L88),'Mois 6'!L89)}
A90: MANDATAIRE 20
I91: =IF(ISNUMBER(H91),IF(C91=1,4%,IF(C91=2,2%,"")), "") | J91: =IF(ISNUMBER(H91),H91*I91,"") | L91: =IF(ISNUMBER(I91),'Mois 6'!L93+(G91*H91),"")
I92: =IF(ISNUMBER(H92),IF(C92=1,4%,IF(C92=2,2%,"")), "") | J92: =IF(ISNUMBER(H92),H92*I92,"") | L92: =IF(ISNUMBER(I92),L91+(G92*H92),"")
A93: Sous-Total | J93: =SUM(J91:J92) -> 0 | L93: {=IFERROR(LOOKUP(2,1/(L91:L92<>""),L91:L92),'Mois 6'!L93)}
A94: TOTAL MENSUEL | J94: =J17+J21+J25+J29+J33+J37+J41+J45+J49+J53+J57+J61+J65+J69+J73+J77+J81+J85+J89+J93 -> 0

Sheet Mois 8
A1: REMUNERATION
A2: 45931
A6: NOM DU MANDATAIRE : | B6: DUPONT Michel | G6: NOM DE L'AMBASSADEUR : | J6: YYYY yyyy
A7: N° MANDATAIRE : | B7: MA-aamm-0001
A8: DATE D'ENTRÉE : | B8: 44623
A11: PRODUCTION AMBASSADEUR
A12: Nom du Mandataire | B12: Date entrée | C12: Niveau Amb. | D12: N° de la Vente | E12: Signature Acte Authentique | F12: CA HT MaKaza | G12: % Mand. | H12: Base de Calcul CA HT Mand. | I12: % Rem | J12: Commissions | K12: Payé le | L12: Cumul CA HT pour % Rem.
A14: MANDATAIRE 1
A15: MARTIN Paul | B15: 45114 | C15: 1 | I15: =IF(ISNUMBER(H15),IF(C15=1,4%,IF(C15=2,2%,"")), "") | J15: =IF(ISNUMBER(H15),H15*I15,"") | L15: =IF(ISNUMBER(I15),'Mois 7'!L17+(G15*H15),"")
A16: MARTIN Paul | B16: 45114 | C16: 1 | I16: =IF(ISNUMBER(H16),IF(C16=1,4%,IF(C16=2,2%,"")), "") | J16: =IF(ISNUMBER(H16),H16*I16,"") | L16: =IF(ISNUMBER(I16),L15+(G16*H16),"")
A17: Sous-Total | J17: =SUM(J15:J16) -> 0 | L17: {=IFERROR(LOOKUP(2,1/(L15:L16<>""),L15:L16),'Mois 7'!L17)} -> 22000
A18: MANDATAIRE 2
A19: PALAT Louise | B19: 45324 | C19: 2 | I19: =IF(ISNUMBER(H19),IF(C19=1,4%,IF(C19=2,2%,"")), "") | J19: =IF(ISNUMBER(H19),H19*I19,"") | L19: =IF(ISNUMBER(I19),'Mois 7'!L21+(G19*H19),"")
A20: PALAT Louise | B20: 45324 | C20: 2 | I20: =IF(ISNUMBER(H20),IF(C20=1,4%,IF(C20=2,2%,"")), "") | J20: =IF(ISNUMBER(H20),H20*I20,"") | L20: =IF(ISNUMBER(I20),L19+(G20*H20),"")
A21: Sous-Total | J21: =SUM(J19:J20) -> 0 | L21: {=IFERROR(LOOKUP(2,1/(L19:L20<>""),L19:L20),'Mois 7'!L21)} -> 23000
A22: MANDATAIRE 3
A23: DUPONT Clarissz | B23: 45476 | C23: 1 | I23: =IF(ISNUMBER(H23),IF(C23=1,4%,IF(C23=2,2%,"")), "") | J23: =IF(ISNUMBER(H23),H23*I23,"") | L23: =IF(ISNUMBER(I23),'Mois 7'!L25+(G23*H23),"")
A24: DUPONT Clarissz | B24: 45476 | C24: 1 | I24: =IF(ISNUMBER(H24),IF(C24=1,4%,IF(C24=2,2%,"")), "") | J24: =IF(ISNUMBER(H24),H24*I24,"") | L24: =IF(ISNUMBER(I24),L23+(G24*H24),"")
A25: Sous-Total | J25: =SUM(J23:J24) -> 0 | L25: {=IFERROR(LOOKUP(2,1/(L23:L24<>""),L23:L24),'Mois 7'!L25)} -> 5000
A26: MANDATAIRE 4
A27: DEPAR Louise | B27: 45873 | C27: 1 | I27: =IF(ISNUMBER(H27),IF(C27=1,4%,IF(C27=2,2%,"")), "") | J27: =IF(ISNUMBER(H27),H27*I27,"") | L27: =IF(ISNUMBER(I27),'Mois 7'!L29+(G27*H27),"")
A28: DEPAR Louise | B28: 45873 | C28: 1 | I28: =IF(ISNUMBER(H28),IF(C28=1,4%,IF(C28=2,2%,"")), "") | J28: =IF(ISNUMBER(H28),H28*I28,"") | L28: =IF(ISNUMBER(I28),L27+(G28*H28),"")
A29: Sous-Total | J29: =SUM(J27:J28) -> 0 | L29: {=IFERROR(LOOKUP(2,1/(L27:L28<>""),L27:L28),'Mois 7'!L29)} -> 8000
A30: MANDATAIRE 5
I31: =IF(ISNUMBER(H31),IF(C31=1,4%,IF(C31=2,2%,"")), "") | J31: =IF(ISNUMBER(H31),H31*I31,"") | L31: =IF(ISNUMBER(I31),'Mois 7'!L33+(G31*H31),"")
I32: =IF(ISNUMBER(H32),IF(C32=1,4%,IF(C32=2,2%,"")), "") | J32: =IF(ISNUMBER(H32),H32*I32,"") | L32: =IF(ISNUMBER(I32),L31+(G32*H32),"")
A33: Sous-Total | J33: =SUM(J31:J32) -> 0 | L33: {=IFERROR(LOOKUP(2,1/(L31:L32<>""),L31:L32),'Mois 7'!L33)}
A34: MANDATAIRE 6
I35: =IF(ISNUMBER(H35),IF(C35=1,4%,IF(C35=2,2%,"")), "") | J35: =IF(ISNUMBER(H35),H35*I35,"") | L35: =IF(ISNUMBER(I35),'Mois 7'!L37+(G35*H35),"")
I36: =IF(ISNUMBER(H36),IF(C36=1,4%,IF(C36=2,2%,"")), "") | J36: =IF(ISNUMBER(H36),H36*I36,"") | L36: =IF(ISNUMBER(I36),L35+(G36*H36),"")
A37: Sous-Total | J37: =SUM(J35:J36) -> 0 | L37: {=IFERROR(LOOKUP(2,1/(L35:L36<>""),L35:L36),'Mois 7'!L37)}
A38: MANDATAIRE 7
J39: =IF(ISNUMBER(H39),H39*I39,"") | L39: =IF(ISNUMBER(I39),'Mois 7'!L41+(G39*H39),"")
I40: =IF(ISNUMBER(H40),IF(C40=1,4%,IF(C40=2,2%,"")), "") | J40: =IF(ISNUMBER(H40),H40*I40,"") | L40: =IF(ISNUMBER(I40),L39+(G40*H40),"")
A41: Sous-Total | J41: =SUM(J39:J40) -> 0 | L41: {=IFERROR(LOOKUP(2,1/(L39:L40<>""),L39:L40),'Mois 7'!L41)}
A42: MANDATAIRE 8
I43: =IF(ISNUMBER(H43),IF(C43=1,4%,IF(C43=2,2%,"")), "") | J43: =IF(ISNUMBER(H43),H43*I43,"") | L43: =IF(ISNUMBER(I43),'Mois 7'!L45+(G43*H43),"")
I44: =IF(ISNUMBER(H44),IF(C44=1,4%,IF(C44=2,2%,"")), "") | J44: =IF(ISNUMBER(H44),H44*I44,"") | L44: =IF(ISNUMBER(I44),L43+(G44*H44),"")
A45: Sous-Total | J45: =SUM(J43:J44) -> 0 | L45: {=IFERROR(LOOKUP(2,1/(L43:L44<>""),L43:L44),'Mois 7'!L45)}
A46: MANDATAIRE 9
I47: =IF(ISNUMBER(H47),IF(C47=1,4%,IF(C47=2,2%,"")), "") | J47: =IF(ISNUMBER(H47),H47*I47,"") | L47: =IF(ISNUMBER(I47),'Mois 7'!L49+(G47*H47),"")
I48: =IF(ISNUMBER(H48),IF(C48=1,4%,IF(C48=2,2%,"")), "") | J48: =IF(ISNUMBER(H48),H48*I48,"") | L48: =IF(ISNUMBER(I48),L47+(G48*H48),"")
A49: Sous-Total | J49: =SUM(J47:J48) -> 0 | L49: {=IFERROR(LOOKUP(2,1/(L47:L48<>""),L47:L48),'Mois 7'!L49)}
A50: MANDATAIRE 10
I51: =IF(ISNUMBER(H51),IF(C51=1,4%,IF(C51=2,2%,"")), "") | J51: =IF(ISNUMBER(H51),H51*I51,"") | L51: =IF(ISNUMBER(I51),'Mois 7'!L53+(G51*H51),"")
I52: =IF(ISNUMBER(H52),IF(C52=1,4%,IF(C52=2,2%,"")), "") | J52: =IF(ISNUMBER(H52),H52*I52,"") | L52: =IF(ISNUMBER(I52),L51+(G52*H52),"")
A53: Sous-Total | J53: =SUM(J51:J52) -> 0 | L53: {=IFERROR(LOOKUP(2,1/(L51:L52<>""),L51:L52),'Mois 7'!L53)}
A54: MANDATAIRE 11
I55: =IF(ISNUMBER(H55),IF(C55=1,4%,IF(C55=2,2%,"")), "") | J55: =IF(ISNUMBER(H55),H55*I55,"") | L55: =IF(ISNUMBER(I55),'Mois 7'!L57+(G55*H55),"")
I56: =IF(ISNUMBER(H56),IF(C56=1,4%,IF(C56=2,2%,"")), "") | J56: =IF(ISNUMBER(H56),H56*I56,"") | L56: =IF(ISNUMBER(I56),L55+(G56*H56),"")
A57: Sous-Total | J57: =SUM(J55:J56) -> 0 | L57: {=IFERROR(LOOKUP(2,1/(L55:L56<>""),L55:L56),'Mois 7'!L57)}
A58: MANDATAIRE 12
I59: =IF(ISNUMBER(H59),IF(C59=1,4%,IF(C59=2,2%,"")), "") | J59: =IF(ISNUMBER(H59),H59*I59,"") | L59: =IF(ISNUMBER(I59),'Mois 7'!L61+(G59*H59),"")
I60: =IF(ISNUMBER(H60),IF(C60=1,4%,IF(C60=2,2%,"")), "") | J60: =IF(ISNUMBER(H60),H60*I60,"") | L60: =IF(ISNUMBER(I60),L59+(G60*H60),"")
A61: Sous-Total | J61: =SUM(J59:J60) -> 0 | L61: {=IFERROR(LOOKUP(2,1/(L59:L60<>""),L59:L60),'Mois 7'!L61)}
A62: MANDATAIRE 13
I63: =IF(ISNUMBER(H63),IF(C63=1,4%,IF(C63=2,2%,"")), "") | J63: =IF(ISNUMBER(H63),H63*I63,"") | L63: =IF(ISNUMBER(I63),'Mois 7'!L65+(G63*H63),"")
I64: =IF(ISNUMBER(H64),IF(C64=1,4%,IF(C64=2,2%,"")), "") | J64: =IF(ISNUMBER(H64),H64*I64,"") | L64: =IF(ISNUMBER(I64),L63+(G64*H64),"")
A65: Sous-Total | J65: =SUM(J63:J64) -> 0 | L65: {=IFERROR(LOOKUP(2,1/(L63:L64<>""),L63:L64),'Mois 7'!L65)}
A66: MANDATAIRE 14
I67: =IF(ISNUMBER(H67),IF(C67=1,4%,IF(C67=2,2%,"")), "") | J67: =IF(ISNUMBER(H67),H67*I67,"") | L67: =IF(ISNUMBER(I67),'Mois 7'!L69+(G67*H67),"")
I68: =IF(ISNUMBER(H68),IF(C68=1,4%,IF(C68=2,2%,"")), "") | J68: =IF(ISNUMBER(H68),H68*I68,"") | L68: =IF(ISNUMBER(I68),L67+(G68*H68),"")
A69: Sous-Total | J69: =SUM(J67:J68) -> 0 | L69: {=IFERROR(LOOKUP(2,1/(L67:L68<>""),L67:L68),'Mois 7'!L69)}
A70: MANDATAIRE 15
I71: =IF(ISNUMBER(H71),IF(C71=1,4%,IF(C71=2,2%,"")), "") | J71: =IF(ISNUMBER(H71),H71*I71,"") | L71: =IF(ISNUMBER(I71),'Mois 7'!L73+(G71*H71),"")
I72: =IF(ISNUMBER(H72),IF(C72=1,4%,IF(C72=2,2%,"")), "") | J72: =IF(ISNUMBER(H72),H72*I72,"") | L72: =IF(ISNUMBER(I72),L71+(G72*H72),"")
A73: Sous-Total | J73: =SUM(J71:J72) -> 0 | L73: {=IFERROR(LOOKUP(2,1/(L71:L72<>""),L71:L72),'Mois 7'!L73)}
A74: MANDATAIRE 16
I75: =IF(ISNUMBER(H75),IF(C75=1,4%,IF(C75=2,2%,"")), "") | J75: =IF(ISNUMBER(H75),H75*I75,"") | L75: =IF(ISNUMBER(I75),'Mois 7'!L77+(G75*H75),"")
I76: =IF(ISNUMBER(H76),IF(C76=1,4%,IF(C76=2,2%,"")), "") | J76: =IF(ISNUMBER(H76),H76*I76,"") | L76: =IF(ISNUMBER(I76),L75+(G76*H76),"")
A77: Sous-Total | J77: =SUM(J75:J76) -> 0 | L77: {=IFERROR(LOOKUP(2,1/(L75:L76<>""),L75:L76),'Mois 7'!L77)}
A78: MANDATAIRE 17
I79: =IF(ISNUMBER(H79),IF(C79=1,4%,IF(C79=2,2%,"")), "") | J79: =IF(ISNUMBER(H79),H79*I79,"") | L79: =IF(ISNUMBER(I79),'Mois 7'!L81+(G79*H79),"")
I80: =IF(ISNUMBER(H80),IF(C80=1,4%,IF(C80=2,2%,"")), "") | J80: =IF(ISNUMBER(H80),H80*I80,"") | L80: =IF(ISNUMBER(I80),L79+(G80*H80),"")
A81: Sous-Total | J81: =SUM(J79:J80) -> 0 | L81: {=IFERROR(LOOKUP(2,1/(L79:L80<>""),L79:L80),'Mois 7'!L81)}
A82: MANDATAIRE 18
I83: =IF(ISNUMBER(H83),IF(C83=1,4%,IF(C83=2,2%,"")), "") | J83: =IF(ISNUMBER(H83),H83*I83,"") | L83: =IF(ISNUMBER(I83),'Mois 7'!L85+(G83*H83),"")
I84: =IF(ISNUMBER(H84),IF(C84=1,4%,IF(C84=2,2%,"")), "") | J84: =IF(ISNUMBER(H84),H84*I84,"") | L84: =IF(ISNUMBER(I84),L83+(G84*H84),"")
A85: Sous-Total | J85: =SUM(J83:J84) -> 0 | L85: {=IFERROR(LOOKUP(2,1/(L83:L84<>""),L83:L84),'Mois 7'!L85)}
A86: MANDATAIRE 19
I87: =IF(ISNUMBER(H87),IF(C87=1,4%,IF(C87=2,2%,"")), "") | J87: =IF(ISNUMBER(H87),H87*I87,"") | L87: =IF(ISNUMBER(I87),'Mois 7'!L89+(G87*H87),"")
I88: =IF(ISNUMBER(H88),IF(C88=1,4%,IF(C88=2,2%,"")), "") | J88: =IF(ISNUMBER(H88),H88*I88,"") | L88: =IF(ISNUMBER(I88),L87+(G88*H88),"")
A89: Sous-Total | J89: =SUM(J87:J88) -> 0 | L89: {=IFERROR(LOOKUP(2,1/(L87:L88<>""),L87:L88),'Mois 7'!L89)}
A90: MANDATAIRE 20
I91: =IF(ISNUMBER(H91),IF(C91=1,4%,IF(C91=2,2%,"")), "") | J91: =IF(ISNUMBER(H91),H91*I91,"") | L91: =IF(ISNUMBER(I91),'Mois 7'!L93+(G91*H91),"")
I92: =IF(ISNUMBER(H92),IF(C92=1,4%,IF(C92=2,2%,"")), "") | J92: =IF(ISNUMBER(H92),H92*I92,"") | L92: =IF(ISNUMBER(I92),L91+(G92*H92),"")
A93: Sous-Total | J93: =SUM(J91:J92) -> 0 | L93: {=IFERROR(LOOKUP(2,1/(L91:L92<>""),L91:L92),'Mois 7'!L93)}
A94: TOTAL MENSUEL | J94: =J17+J21+J25+J29+J33+J37+J41+J45+J49+J53+J57+J61+J65+J69+J73+J77+J81+J85+J89+J93 -> 0

Sheet Mois 9
A1: REMUNERATION
A2: 45962
A6: NOM DU MANDATAIRE : | B6: DUPONT Michel | G6: NOM DE L'AMBASSADEUR : | J6: YYYY yyyy
A7: N° MANDATAIRE : | B7: MA-aamm-0001
A8: DATE D'ENTRÉE : | B8: 44623
A11: PRODUCTION AMBASSADEUR
A12: Nom du Mandataire | B12: Date entrée | C12: Niveau Amb. | D12: N° de la Vente | E12: Signature Acte Authentique | F12: CA HT MaKaza | G12: % Mand. | H12: Base de Calcul CA HT Mand. | I12: % Rem | J12: Commissions | K12: Payé le | L12: Cumul CA HT pour % Rem.
A14: MANDATAIRE 1
A15: MARTIN Paul | B15: 45114 | C15: 1 | I15: =IF(ISNUMBER(H15),IF(C15=1,4%,IF(C15=2,2%,"")), "") | J15: =IF(ISNUMBER(H15),H15*I15,"") | L15: =IF(ISNUMBER(I15),'Mois 8'!L17+(G15*H15),"")
A16: MARTIN Paul | B16: 45114 | C16: 1 | I16: =IF(ISNUMBER(H16),IF(C16=1,4%,IF(C16=2,2%,"")), "") | J16: =IF(ISNUMBER(H16),H16*I16,"") | L16: =IF(ISNUMBER(I16),L15+(G16*H16),"")
A17: Sous-Total | J17: =SUM(J15:J16) -> 0 | L17: {=IFERROR(LOOKUP(2,1/(L15:L16<>""),L15:L16),'Mois 8'!L17)} -> 22000
A18: MANDATAIRE 2
A19: PALAT Louise | B19: 45324 | C19: 2 | I19: =IF(ISNUMBER(H19),IF(C19=1,4%,IF(C19=2,2%,"")), "") | J19: =IF(ISNUMBER(H19),H19*I19,"") | L19: =IF(ISNUMBER(I19),'Mois 8'!L21+(G19*H19),"")
A20: PALAT Louise | B20: 45324 | C20: 2 | I20: =IF(ISNUMBER(H20),IF(C20=1,4%,IF(C20=2,2%,"")), "") | J20: =IF(ISNUMBER(H20),H20*I20,"") | L20: =IF(ISNUMBER(I20),L19+(G20*H20),"")
A21: Sous-Total | J21: =SUM(J19:J20) -> 0 | L21: {=IFERROR(LOOKUP(2,1/(L19:L20<>""),L19:L20),'Mois 8'!L21)} -> 23000
A22: MANDATAIRE 3
A23: DUPONT Clarissz | B23: 45476 | C23: 1 | I23: =IF(ISNUMBER(H23),IF(C23=1,4%,IF(C23=2,2%,"")), "") | J23: =IF(ISNUMBER(H23),H23*I23,"") | L23: =IF(ISNUMBER(I23),'Mois 8'!L25+(G23*H23),"")
A24: DUPONT Clarissz | B24: 45476 | C24: 1 | I24: =IF(ISNUMBER(H24),IF(C24=1,4%,IF(C24=2,2%,"")), "") | J24: =IF(ISNUMBER(H24),H24*I24,"") | L24: =IF(ISNUMBER(I24),L23+(G24*H24),"")
A25: Sous-Total | J25: =SUM(J23:J24) -> 0 | L25: {=IFERROR(LOOKUP(2,1/(L23:L24<>""),L23:L24),'Mois 8'!L25)} -> 5000
A26: MANDATAIRE 4
A27: DEPAR Louise | B27: 45873 | C27: 1 | I27: =IF(ISNUMBER(H27),IF(C27=1,4%,IF(C27=2,2%,"")), "") | J27: =IF(ISNUMBER(H27),H27*I27,"") | L27: =IF(ISNUMBER(I27),'Mois 8'!L29+(G27*H27),"")
A28: DEPAR Louise | B28: 45873 | C28: 1 | I28: =IF(ISNUMBER(H28),IF(C28=1,4%,IF(C28=2,2%,"")), "") | J28: =IF(ISNUMBER(H28),H28*I28,"") | L28: =IF(ISNUMBER(I28),L27+(G28*H28),"")
A29: Sous-Total | J29: =SUM(J27:J28) -> 0 | L29: {=IFERROR(LOOKUP(2,1/(L27:L28<>""),L27:L28),'Mois 8'!L29)} -> 8000
A30: MANDATAIRE 5
I31: =IF(ISNUMBER(H31),IF(C31=1,4%,IF(C31=2,2%,"")), "") | J31: =IF(ISNUMBER(H31),H31*I31,"") | L31: =IF(ISNUMBER(I31),'Mois 8'!L33+(G31*H31),"")
I32: =IF(ISNUMBER(H32),IF(C32=1,4%,IF(C32=2,2%,"")), "") | J32: =IF(ISNUMBER(H32),H32*I32,"") | L32: =IF(ISNUMBER(I32),L31+(G32*H32),"")
A33: Sous-Total | J33: =SUM(J31:J32) -> 0 | L33: {=IFERROR(LOOKUP(2,1/(L31:L32<>""),L31:L32),'Mois 8'!L33)}
A34: MANDATAIRE 6
I35: =IF(ISNUMBER(H35),IF(C35=1,4%,IF(C35=2,2%,"")), "") | J35: =IF(ISNUMBER(H35),H35*I35,"") | L35: =IF(ISNUMBER(I35),'Mois 8'!L37+(G35*H35),"")
I36: =IF(ISNUMBER(H36),IF(C36=1,4%,IF(C36=2,2%,"")), "") | J36: =IF(ISNUMBER(H36),H36*I36,"") | L36: =IF(ISNUMBER(I36),L35+(G36*H36),"")
A37: Sous-Total | J37: =SUM(J35:J36) -> 0 | L37: {=IFERROR(LOOKUP(2,1/(L35:L36<>""),L35:L36),'Mois 8'!L37)}
A38: MANDATAIRE 7
J39: =IF(ISNUMBER(H39),H39*I39,"") | L39: =IF(ISNUMBER(I39),'Mois 8'!L41+(G39*H39),"")
I40: =IF(ISNUMBER(H40),IF(C40=1,4%,IF(C40=2,2%,"")), "") | J40: =IF(ISNUMBER(H40),H40*I40,"") | L40: =IF(ISNUMBER(I40),L39+(G40*H40),"")
A41: Sous-Total | J41: =SUM(J39:J40) -> 0 | L41: {=IFERROR(LOOKUP(2,1/(L39:L40<>""),L39:L40),'Mois 8'!L41)}
A42: MANDATAIRE 8
I43: =IF(ISNUMBER(H43),IF(C43=1,4%,IF(C43=2,2%,"")), "") | J43: =IF(ISNUMBER(H43),H43*I43,"") | L43: =IF(ISNUMBER(I43),'Mois 8'!L45+(G43*H43),"")
I44: =IF(ISNUMBER(H44),IF(C44=1,4%,IF(C44=2,2%,"")), "") | J44: =IF(ISNUMBER(H44),H44*I44,"") | L44: =IF(ISNUMBER(I44),L43+(G44*H44),"")
A45: Sous-Total | J45: =SUM(J43:J44) -> 0 | L45: {=IFERROR(LOOKUP(2,1/(L43:L44<>""),L43:L44),'Mois 8'!L45)}
A46: MANDATAIRE 9
I47: =IF(ISNUMBER(H47),IF(C47=1,4%,IF(C47=2,2%,"")), "") | J47: =IF(ISNUMBER(H47),H47*I47,"") | L47: =IF(ISNUMBER(I47),'Mois 8'!L49+(G47*H47),"")
I48: =IF(ISNUMBER(H48),IF(C48=1,4%,IF(C48=2,2%,"")), "") | J48: =IF(ISNUMBER(H48),H48*I48,"") | L48: =IF(ISNUMBER(I48),L47+(G48*H48),"")
A49: Sous-Total | J49: =SUM(J47:J48) -> 0 | L49: {=IFERROR(LOOKUP(2,1/(L47:L48<>""),L47:L48),'Mois 8'!L49)}
A50: MANDATAIRE 10
I51: =IF(ISNUMBER(H51),IF(C51=1,4%,IF(C51=2,2%,"")), "") | J51: =IF(ISNUMBER(H51),H51*I51,"") | L51: =IF(ISNUMBER(I51),'Mois 8'!L53+(G51*H51),"")
I52: =IF(ISNUMBER(H52),IF(C52=1,4%,IF(C52=2,2%,"")), "") | J52: =IF(ISNUMBER(H52),H52*I52,"") | L52: =IF(ISNUMBER(I52),L51+(G52*H52),"")
A53: Sous-Total | J53: =SUM(J51:J52) -> 0 | L53: {=IFERROR(LOOKUP(2,1/(L51:L52<>""),L51:L52),'Mois 8'!L53)}
A54: MANDATAIRE 11
I55: =IF(ISNUMBER(H55),IF(C55=1,4%,IF(C55=2,2%,"")), "") | J55: =IF(ISNUMBER(H55),H55*I55,"") | L55: =IF(ISNUMBER(I55),'Mois 8'!L57+(G55*H55),"")
I56: =IF(ISNUMBER(H56),IF(C56=1,4%,IF(C56=2,2%,"")), "") | J56: =IF(ISNUMBER(H56),H56*I56,"") | L56: =IF(ISNUMBER(I56),L55+(G56*H56),"")
A57: Sous-Total | J57: =SUM(J55:J56) -> 0 | L57: {=IFERROR(LOOKUP(2,1/(L55:L56<>""),L55:L56),'Mois 8'!L57)}
A58: MANDATAIRE 12
I59: =IF(ISNUMBER(H59),IF(C59=1,4%,IF(C59=2,2%,"")), "") | J59: =IF(ISNUMBER(H59),H59*I59,"") | L59: =IF(ISNUMBER(I59),'Mois 8'!L61+(G59*H59),"")
I60: =IF(ISNUMBER(H60),IF(C60=1,4%,IF(C60=2,2%,"")), "") | J60: =IF(ISNUMBER(H60),H60*I60,"") | L60: =IF(ISNUMBER(I60),L59+(G60*H60),"")
A61: Sous-Total | J61: =SUM(J59:J60) -> 0 | L61: {=IFERROR(LOOKUP(2,1/(L59:L60<>""),L59:L60),'Mois 8'!L61)}
A62: MANDATAIRE 13
I63: =IF(ISNUMBER(H63),IF(C63=1,4%,IF(C63=2,2%,"")), "") | J63: =IF(ISNUMBER(H63),H63*I63,"") | L63: =IF(ISNUMBER(I63),'Mois 8'!L65+(G63*H63),"")
I64: =IF(ISNUMBER(H64),IF(C64=1,4%,IF(C64=2,2%,"")), "") | J64: =IF(ISNUMBER(H64),H64*I64,"") | L64: =IF(ISNUMBER(I64),L63+(G64*H64),"")
A65: Sous-Total | J65: =SUM(J63:J64) -> 0 | L65: {=IFERROR(LOOKUP(2,1/(L63:L64<>""),L63:L64),'Mois 8'!L65)}
A66: MANDATAIRE 14
I67: =IF(ISNUMBER(H67),IF(C67=1,4%,IF(C67=2,2%,"")), "") | J67: =IF(ISNUMBER(H67),H67*I67,"") | L67: =IF(ISNUMBER(I67),'Mois 8'!L69+(G67*H67),"")
I68: =IF(ISNUMBER(H68),IF(C68=1,4%,IF(C68=2,2%,"")), "") | J68: =IF(ISNUMBER(H68),H68*I68,"") | L68: =IF(ISNUMBER(I68),L67+(G68*H68),"")
A69: Sous-Total | J69: =SUM(J67:J68) -> 0 | L69: {=IFERROR(LOOKUP(2,1/(L67:L68<>""),L67:L68),'Mois 8'!L69)}
A70: MANDATAIRE 15
I71: =IF(ISNUMBER(H71),IF(C71=1,4%,IF(C71=2,2%,"")), "") | J71: =IF(ISNUMBER(H71),H71*I71,"") | L71: =IF(ISNUMBER(I71),'Mois 8'!L73+(G71*H71),"")
I72: =IF(ISNUMBER(H72),IF(C72=1,4%,IF(C72=2,2%,"")), "") | J72: =IF(ISNUMBER(H72),H72*I72,"") | L72: =IF(ISNUMBER(I72),L71+(G72*H72),"")
A73: Sous-Total | J73: =SUM(J71:J72) -> 0 | L73: {=IFERROR(LOOKUP(2,1/(L71:L72<>""),L71:L72),'Mois 8'!L73)}
A74: MANDATAIRE 16
I75: =IF(ISNUMBER(H75),IF(C75=1,4%,IF(C75=2,2%,"")), "") | J75: =IF(ISNUMBER(H75),H75*I75,"") | L75: =IF(ISNUMBER(I75),'Mois 8'!L77+(G75*H75),"")
I76: =IF(ISNUMBER(H76),IF(C76=1,4%,IF(C76=2,2%,"")), "") | J76: =IF(ISNUMBER(H76),H76*I76,"") | L76: =IF(ISNUMBER(I76),L75+(G76*H76),"")
A77: Sous-Total | J77: =SUM(J75:J76) -> 0 | L77: {=IFERROR(LOOKUP(2,1/(L75:L76<>""),L75:L76),'Mois 8'!L77)}
A78: MANDATAIRE 17
I79: =IF(ISNUMBER(H79),IF(C79=1,4%,IF(C79=2,2%,"")), "") | J79: =IF(ISNUMBER(H79),H79*I79,"") | L79: =IF(ISNUMBER(I79),'Mois 8'!L81+(G79*H79),"")
I80: =IF(ISNUMBER(H80),IF(C80=1,4%,IF(C80=2,2%,"")), "") | J80: =IF(ISNUMBER(H80),H80*I80,"") | L80: =IF(ISNUMBER(I80),L79+(G80*H80),"")
A81: Sous-Total | J81: =SUM(J79:J80) -> 0 | L81: {=IFERROR(LOOKUP(2,1/(L79:L80<>""),L79:L80),'Mois 8'!L81)}
A82: MANDATAIRE 18
I83: =IF(ISNUMBER(H83),IF(C83=1,4%,IF(C83=2,2%,"")), "") | J83: =IF(ISNUMBER(H83),H83*I83,"") | L83: =IF(ISNUMBER(I83),'Mois 8'!L85+(G83*H83),"")
I84: =IF(ISNUMBER(H84),IF(C84=1,4%,IF(C84=2,2%,"")), "") | J84: =IF(ISNUMBER(H84),H84*I84,"") | L84: =IF(ISNUMBER(I84),L83+(G84*H84),"")
A85: Sous-Total | J85: =SUM(J83:J84) -> 0 | L85: {=IFERROR(LOOKUP(2,1/(L83:L84<>""),L83:L84),'Mois 8'!L85)}
A86: MANDATAIRE 19
I87: =IF(ISNUMBER(H87),IF(C87=1,4%,IF(C87=2,2%,"")), "") | J87: =IF(ISNUMBER(H87),H87*I87,"") | L87: =IF(ISNUMBER(I87),'Mois 8'!L89+(G87*H87),"")
I88: =IF(ISNUMBER(H88),IF(C88=1,4%,IF(C88=2,2%,"")), "") | J88: =IF(ISNUMBER(H88),H88*I88,"") | L88: =IF(ISNUMBER(I88),L87+(G88*H88),"")
A89: Sous-Total | J89: =SUM(J87:J88) -> 0 | L89: {=IFERROR(LOOKUP(2,1/(L87:L88<>""),L87:L88),'Mois 8'!L89)}
A90: MANDATAIRE 20
I91: =IF(ISNUMBER(H91),IF(C91=1,4%,IF(C91=2,2%,"")), "") | J91: =IF(ISNUMBER(H91),H91*I91,"") | L91: =IF(ISNUMBER(I91),'Mois 8'!L93+(G91*H91),"")
I92: =IF(ISNUMBER(H92),IF(C92=1,4%,IF(C92=2,2%,"")), "") | J92: =IF(ISNUMBER(H92),H92*I92,"") | L92: =IF(ISNUMBER(I92),L91+(G92*H92),"")
A93: Sous-Total | J93: =SUM(J91:J92) -> 0 | L93: {=IFERROR(LOOKUP(2,1/(L91:L92<>""),L91:L92),'Mois 8'!L93)}
A94: TOTAL MENSUEL | J94: =J17+J21+J25+J29+J33+J37+J41+J45+J49+J53+J57+J61+J65+J69+J73+J77+J81+J85+J89+J93 -> 0

Sheet Mois 10
A1: REMUNERATION
A2: 45992
A6: NOM DU MANDATAIRE : | B6: DUPONT Michel | G6: NOM DE L'AMBASSADEUR : | J6: YYYY yyyy
A7: N° MANDATAIRE : | B7: MA-aamm-0001
A8: DATE D'ENTRÉE : | B8: 44623
A11: PRODUCTION AMBASSADEUR
A12: Nom du Mandataire | B12: Date entrée | C12: Niveau Amb. | D12: N° de la Vente | E12: Signature Acte Authentique | F12: CA HT MaKaza | G12: % Mand. | H12: Base de Calcul CA HT Mand. | I12: % Rem | J12: Commissions | K12: Payé le | L12: Cumul CA HT pour % Rem.
A14: MANDATAIRE 1
A15: MARTIN Paul | B15: 45114 | C15: 1 | I15: =IF(ISNUMBER(H15),IF(C15=1,4%,IF(C15=2,2%,"")), "") | J15: =IF(ISNUMBER(H15),H15*I15,"") | L15: =IF(ISNUMBER(I15),'Mois 9'!L17+(G15*H15),"")
A16: MARTIN Paul | B16: 45114 | C16: 1 | I16: =IF(ISNUMBER(H16),IF(C16=1,4%,IF(C16=2,2%,"")), "") | J16: =IF(ISNUMBER(H16),H16*I16,"") | L16: =IF(ISNUMBER(I16),L15+(G16*H16),"")
A17: Sous-Total | J17: =SUM(J15:J16) -> 0 | L17: {=IFERROR(LOOKUP(2,1/(L15:L16<>""),L15:L16),'Mois 9'!L17)} -> 22000
A18: MANDATAIRE 2
A19: PALAT Louise | B19: 45324 | C19: 2 | I19: =IF(ISNUMBER(H19),IF(C19=1,4%,IF(C19=2,2%,"")), "") | J19: =IF(ISNUMBER(H19),H19*I19,"") | L19: =IF(ISNUMBER(I19),'Mois 9'!L21+(G19*H19),"")
A20: PALAT Louise | B20: 45324 | C20: 2 | I20: =IF(ISNUMBER(H20),IF(C20=1,4%,IF(C20=2,2%,"")), "") | J20: =IF(ISNUMBER(H20),H20*I20,"") | L20: =IF(ISNUMBER(I20),L19+(G20*H20),"")
A21: Sous-Total | J21: =SUM(J19:J20) -> 0 | L21: {=IFERROR(LOOKUP(2,1/(L19:L20<>""),L19:L20),'Mois 9'!L21)} -> 23000
A22: MANDATAIRE 3
A23: DUPONT Clarissz | B23: 45476 | C23: 1 | I23: =IF(ISNUMBER(H23),IF(C23=1,4%,IF(C23=2,2%,"")), "") | J23: =IF(ISNUMBER(H23),H23*I23,"") | L23: =IF(ISNUMBER(I23),'Mois 9'!L25+(G23*H23),"")
A24: DUPONT Clarissz | B24: 45476 | C24: 1 | I24: =IF(ISNUMBER(H24),IF(C24=1,4%,IF(C24=2,2%,"")), "") | J24: =IF(ISNUMBER(H24),H24*I24,"") | L24: =IF(ISNUMBER(I24),L23+(G24*H24),"")
A25: Sous-Total | J25: =SUM(J23:J24) -> 0 | L25: {=IFERROR(LOOKUP(2,1/(L23:L24<>""),L23:L24),'Mois 9'!L25)} -> 5000
A26: MANDATAIRE 4
A27: DEPAR Louise | B27: 45873 | C27: 1 | I27: =IF(ISNUMBER(H27),IF(C27=1,4%,IF(C27=2,2%,"")), "") | J27: =IF(ISNUMBER(H27),H27*I27,"") | L27: =IF(ISNUMBER(I27),'Mois 9'!L29+(G27*H27),"")
A28: DEPAR Louise | B28: 45873 | C28: 1 | I28: =IF(ISNUMBER(H28),IF(C28=1,4%,IF(C28=2,2%,"")), "") | J28: =IF(ISNUMBER(H28),H28*I28,"") | L28: =IF(ISNUMBER(I28),L27+(G28*H28),"")
A29: Sous-Total | J29: =SUM(J27:J28) -> 0 | L29: {=IFERROR(LOOKUP(2,1/(L27:L28<>""),L27:L28),'Mois 9'!L29)} -> 8000
A30: MANDATAIRE 5
I31: =IF(ISNUMBER(H31),IF(C31=1,4%,IF(C31=2,2%,"")), "") | J31: =IF(ISNUMBER(H31),H31*I31,"") | L31: =IF(ISNUMBER(I31),'Mois 9'!L33+(G31*H31),"")
I32: =IF(ISNUMBER(H32),IF(C32=1,4%,IF(C32=2,2%,"")), "") | J32: =IF(ISNUMBER(H32),H32*I32,"") | L32: =IF(ISNUMBER(I32),L31+(G32*H32),"")
A33: Sous-Total | J33: =SUM(J31:J32) -> 0 | L33: {=IFERROR(LOOKUP(2,1/(L31:L32<>""),L31:L32),'Mois 9'!L33)}
A34: MANDATAIRE 6
I35: =IF(ISNUMBER(H35),IF(C35=1,4%,IF(C35=2,2%,"")), "") | J35: =IF(ISNUMBER(H35),H35*I35,"") | L35: =IF(ISNUMBER(I35),'Mois 9'!L37+(G35*H35),"")
I36: =IF(ISNUMBER(H36),IF(C36=1,4%,IF(C36=2,2%,"")), "") | J36: =IF(ISNUMBER(H36),H36*I36,"") | L36: =IF(ISNUMBER(I36),L35+(G36*H36),"")
A37: Sous-Total | J37: =SUM(J35:J36) -> 0 | L37: {=IFERROR(LOOKUP(2,1/(L35:L36<>""),L35:L36),'Mois 9'!L37)}
A38: MANDATAIRE 7
J39: =IF(ISNUMBER(H39),H39*I39,"") | L39: =IF(ISNUMBER(I39),'Mois 9'!L41+(G39*H39),"")
I40: =IF(ISNUMBER(H40),IF(C40=1,4%,IF(C40=2,2%,"")), "") | J40: =IF(ISNUMBER(H40),H40*I40,"") | L40: =IF(ISNUMBER(I40),L39+(G40*H40),"")
A41: Sous-Total | J41: =SUM(J39:J40) -> 0 | L41: {=IFERROR(LOOKUP(2,1/(L39:L40<>""),L39:L40),'Mois 9'!L41)}
A42: MANDATAIRE 8
I43: =IF(ISNUMBER(H43),IF(C43=1,4%,IF(C43=2,2%,"")), "") | J43: =IF(ISNUMBER(H43),H43*I43,"") | L43: =IF(ISNUMBER(I43),'Mois 9'!L45+(G43*H43),"")
I44: =IF(ISNUMBER(H44),IF(C44=1,4%,IF(C44=2,2%,"")), "") | J44: =IF(ISNUMBER(H44),H44*I44,"") | L44: =IF(ISNUMBER(I44),L43+(G44*H44),"")
A45: Sous-Total | J45: =SUM(J43:J44) -> 0 | L45: {=IFERROR(LOOKUP(2,1/(L43:L44<>""),L43:L44),'Mois 9'!L45)}
A46: MANDATAIRE 9
I47: =IF(ISNUMBER(H47),IF(C47=1,4%,IF(C47=2,2%,"")), "") | J47: =IF(ISNUMBER(H47),H47*I47,"") | L47: =IF(ISNUMBER(I47),'Mois 9'!L49+(G47*H47),"")
I48: =IF(ISNUMBER(H48),IF(C48=1,4%,IF(C48=2,2%,"")), "") | J48: =IF(ISNUMBER(H48),H48*I48,"") | L48: =IF(ISNUMBER(I48),L47+(G48*H48),"")
A49: Sous-Total | J49: =SUM(J47:J48) -> 0 | L49: {=IFERROR(LOOKUP(2,1/(L47:L48<>""),L47:L48),'Mois 9'!L49)}
A50: MANDATAIRE 10
I51: =IF(ISNUMBER(H51),IF(C51=1,4%,IF(C51=2,2%,"")), "") | J51: =IF(ISNUMBER(H51),H51*I51,"") | L51: =IF(ISNUMBER(I51),'Mois 9'!L53+(G51*H51),"")
I52: =IF(ISNUMBER(H52),IF(C52=1,4%,IF(C52=2,2%,"")), "") | J52: =IF(ISNUMBER(H52),H52*I52,"") | L52: =IF(ISNUMBER(I52),L51+(G52*H52),"")
A53: Sous-Total | J53: =SUM(J51:J52) -> 0 | L53: {=IFERROR(LOOKUP(2,1/(L51:L52<>""),L51:L52),'Mois 9'!L53)}
A54: MANDATAIRE 11
I55: =IF(ISNUMBER(H55),IF(C55=1,4%,IF(C55=2,2%,"")), "") | J55: =IF(ISNUMBER(H55),H55*I55,"") | L55: =IF(ISNUMBER(I55),'Mois 9'!L57+(G55*H55),"")
I56: =IF(ISNUMBER(H56),IF(C56=1,4%,IF(C56=2,2%,"")), "") | J56: =IF(ISNUMBER(H56),H56*I56,"") | L56: =IF(ISNUMBER(I56),L55+(G56*H56),"")
A57: Sous-Total | J57: =SUM(J55:J56) -> 0 | L57: {=IFERROR(LOOKUP(2,1/(L55:L56<>""),L55:L56),'Mois 9'!L57)}
A58: MANDATAIRE 12
I59: =IF(ISNUMBER(H59),IF(C59=1,4%,IF(C59=2,2%,"")), "") | J59: =IF(ISNUMBER(H59),H59*I59,"") | L59: =IF(ISNUMBER(I59),'Mois 9'!L61+(G59*H59),"")
I60: =IF(ISNUMBER(H60),IF(C60=1,4%,IF(C60=2,2%,"")), "") | J60: =IF(ISNUMBER(H60),H60*I60,"") | L60: =IF(ISNUMBER(I60),L59+(G60*H60),"")
A61: Sous-Total | J61: =SUM(J59:J60) -> 0 | L61: {=IFERROR(LOOKUP(2,1/(L59:L60<>""),L59:L60),'Mois 9'!L61)}
A62: MANDATAIRE 13
I63: =IF(ISNUMBER(H63),IF(C63=1,4%,IF(C63=2,2%,"")), "") | J63: =IF(ISNUMBER(H63),H63*I63,"") | L63: =IF(ISNUMBER(I63),'Mois 9'!L65+(G63*H63),"")
I64: =IF(ISNUMBER(H64),IF(C64=1,4%,IF(C64=2,2%,"")), "") | J64: =IF(ISNUMBER(H64),H64*I64,"") | L64: =IF(ISNUMBER(I64),L63+(G64*H64),"")
A65: Sous-Total | J65: =SUM(J63:J64) -> 0 | L65: {=IFERROR(LOOKUP(2,1/(L63:L64<>""),L63:L64),'Mois 9'!L65)}
A66: MANDATAIRE 14
I67: =IF(ISNUMBER(H67),IF(C67=1,4%,IF(C67=2,2%,"")), "") | J67: =IF(ISNUMBER(H67),H67*I67,"") | L67: =IF(ISNUMBER(I67),'Mois 9'!L69+(G67*H67),"")
I68: =IF(ISNUMBER(H68),IF(C68=1,4%,IF(C68=2,2%,"")), "") | J68: =IF(ISNUMBER(H68),H68*I68,"") | L68: =IF(ISNUMBER(I68),L67+(G68*H68),"")
A69: Sous-Total | J69: =SUM(J67:J68) -> 0 | L69: {=IFERROR(LOOKUP(2,1/(L67:L68<>""),L67:L68),'Mois 9'!L69)}
A70: MANDATAIRE 15
I71: =IF(ISNUMBER(H71),IF(C71=1,4%,IF(C71=2,2%,"")), "") | J71: =IF(ISNUMBER(H71),H71*I71,"") | L71: =IF(ISNUMBER(I71),'Mois 9'!L73+(G71*H71),"")
I72: =IF(ISNUMBER(H72),IF(C72=1,4%,IF(C72=2,2%,"")), "") | J72: =IF(ISNUMBER(H72),H72*I72,"") | L72: =IF(ISNUMBER(I72),L71+(G72*H72),"")
A73: Sous-Total | J73: =SUM(J71:J72) -> 0 | L73: {=IFERROR(LOOKUP(2,1/(L71:L72<>""),L71:L72),'Mois 9'!L73)}
A74: MANDATAIRE 16
I75: =IF(ISNUMBER(H75),IF(C75=1,4%,IF(C75=2,2%,"")), "") | J75: =IF(ISNUMBER(H75),H75*I75,"") | L75: =IF(ISNUMBER(I75),'Mois 9'!L77+(G75*H75),"")
I76: =IF(ISNUMBER(H76),IF(C76=1,4%,IF(C76=2,2%,"")), "") | J76: =IF(ISNUMBER(H76),H76*I76,"") | L76: =IF(ISNUMBER(I76),L75+(G76*H76),"")
A77: Sous-Total | J77: =SUM(J75:J76) -> 0 | L77: {=IFERROR(LOOKUP(2,1/(L75:L76<>""),L75:L76),'Mois 9'!L77)}
A78: MANDATAIRE 17
I79: =IF(ISNUMBER(H79),IF(C79=1,4%,IF(C79=2,2%,"")), "") | J79: =IF(ISNUMBER(H79),H79*I79,"") | L79: =IF(ISNUMBER(I79),'Mois 9'!L81+(G79*H79),"")
I80: =IF(ISNUMBER(H80),IF(C80=1,4%,IF(C80=2,2%,"")), "") | J80: =IF(ISNUMBER(H80),H80*I80,"") | L80: =IF(ISNUMBER(I80),L79+(G80*H80),"")
A81: Sous-Total | J81: =SUM(J79:J80) -> 0 | L81: {=IFERROR(LOOKUP(2,1/(L79:L80<>""),L79:L80),'Mois 9'!L81)}
A82: MANDATAIRE 18
I83: =IF(ISNUMBER(H83),IF(C83=1,4%,IF(C83=2,2%,"")), "") | J83: =IF(ISNUMBER(H83),H83*I83,"") | L83: =IF(ISNUMBER(I83),'Mois 9'!L85+(G83*H83),"")
I84: =IF(ISNUMBER(H84),IF(C84=1,4%,IF(C84=2,2%,"")), "") | J84: =IF(ISNUMBER(H84),H84*I84,"") | L84: =IF(ISNUMBER(I84),L83+(G84*H84),"")
A85: Sous-Total | J85: =SUM(J83:J84) -> 0 | L85: {=IFERROR(LOOKUP(2,1/(L83:L84<>""),L83:L84),'Mois 9'!L85)}
A86: MANDATAIRE 19
I87: =IF(ISNUMBER(H87),IF(C87=1,4%,IF(C87=2,2%,"")), "") | J87: =IF(ISNUMBER(H87),H87*I87,"") | L87: =IF(ISNUMBER(I87),'Mois 9'!L89+(G87*H87),"")
I88: =IF(ISNUMBER(H88),IF(C88=1,4%,IF(C88=2,2%,"")), "") | J88: =IF(ISNUMBER(H88),H88*I88,"") | L88: =IF(ISNUMBER(I88),L87+(G88*H88),"")
A89: Sous-Total | J89: =SUM(J87:J88) -> 0 | L89: {=IFERROR(LOOKUP(2,1/(L87:L88<>""),L87:L88),'Mois 9'!L89)}
A90: MANDATAIRE 20
I91: =IF(ISNUMBER(H91),IF(C91=1,4%,IF(C91=2,2%,"")), "") | J91: =IF(ISNUMBER(H91),H91*I91,"") | L91: =IF(ISNUMBER(I91),'Mois 9'!L93+(G91*H91),"")
I92: =IF(ISNUMBER(H92),IF(C92=1,4%,IF(C92=2,2%,"")), "") | J92: =IF(ISNUMBER(H92),H92*I92,"") | L92: =IF(ISNUMBER(I92),L91+(G92*H92),"")
A93: Sous-Total | J93: =SUM(J91:J92) -> 0 | L93: {=IFERROR(LOOKUP(2,1/(L91:L92<>""),L91:L92),'Mois 9'!L93)}
A94: TOTAL MENSUEL | J94: =J17+J21+J25+J29+J33+J37+J41+J45+J49+J53+J57+J61+J65+J69+J73+J77+J81+J85+J89+J93 -> 0

Sheet Mois 11
A1: REMUNERATION
A2: 46023
A6: NOM DU MANDATAIRE : | B6: DUPONT Michel | G6: NOM DE L'AMBASSADEUR : | J6: YYYY yyyy
A7: N° MANDATAIRE : | B7: MA-aamm-0001
A8: DATE D'ENTRÉE : | B8: 44623
A11: PRODUCTION AMBASSADEUR
A12: Nom du Mandataire | B12: Date entrée | C12: Niveau Amb. | D12: N° de la Vente | E12: Signature Acte Authentique | F12: CA HT MaKaza | G12: % Mand. | H12: Base de Calcul CA HT Mand. | I12: % Rem | J12: Commissions | K12: Payé le | L12: Cumul CA HT pour % Rem.
A14: MANDATAIRE 1
A15: MARTIN Paul | B15: 45114 | C15: 1 | I15: =IF(ISNUMBER(H15),IF(C15=1,4%,IF(C15=2,2%,"")), "") | J15: =IF(ISNUMBER(H15),H15*I15,"") | L15: =IF(ISNUMBER(I15),'Mois 10'!L17+(G15*H15),"")
A16: MARTIN Paul | B16: 45114 | C16: 1 | I16: =IF(ISNUMBER(H16),IF(C16=1,4%,IF(C16=2,2%,"")), "") | J16: =IF(ISNUMBER(H16),H16*I16,"") | L16: =IF(ISNUMBER(I16),L15+(G16*H16),"")
A17: Sous-Total | J17: =SUM(J15:J16) -> 0 | L17: {=IFERROR(LOOKUP(2,1/(L15:L16<>""),L15:L16),'Mois 10'!L17)} -> 22000
A18: MANDATAIRE 2
A19: PALAT Louise | B19: 45324 | C19: 2 | I19: =IF(ISNUMBER(H19),IF(C19=1,4%,IF(C19=2,2%,"")), "") | J19: =IF(ISNUMBER(H19),H19*I19,"") | L19: =IF(ISNUMBER(I19),'Mois 10'!L21+(G19*H19),"")
A20: PALAT Louise | B20: 45324 | C20: 2 | I20: =IF(ISNUMBER(H20),IF(C20=1,4%,IF(C20=2,2%,"")), "") | J20: =IF(ISNUMBER(H20),H20*I20,"") | L20: =IF(ISNUMBER(I20),L19+(G20*H20),"")
A21: Sous-Total | J21: =SUM(J19:J20) -> 0 | L21: {=IFERROR(LOOKUP(2,1/(L19:L20<>""),L19:L20),'Mois 10'!L21)} -> 23000
A22: MANDATAIRE 3
A23: DUPONT Clarissz | B23: 45476 | C23: 1 | I23: =IF(ISNUMBER(H23),IF(C23=1,4%,IF(C23=2,2%,"")), "") | J23: =IF(ISNUMBER(H23),H23*I23,"") | L23: =IF(ISNUMBER(I23),'Mois 10'!L25+(G23*H23),"")
A24: DUPONT Clarissz | B24: 45476 | C24: 1 | I24: =IF(ISNUMBER(H24),IF(C24=1,4%,IF(C24=2,2%,"")), "") | J24: =IF(ISNUMBER(H24),H24*I24,"") | L24: =IF(ISNUMBER(I24),L23+(G24*H24),"")
A25: Sous-Total | J25: =SUM(J23:J24) -> 0 | L25: {=IFERROR(LOOKUP(2,1/(L23:L24<>""),L23:L24),'Mois 10'!L25)} -> 5000
A26: MANDATAIRE 4
A27: DEPAR Louise | B27: 45873 | C27: 1 | I27: =IF(ISNUMBER(H27),IF(C27=1,4%,IF(C27=2,2%,"")), "") | J27: =IF(ISNUMBER(H27),H27*I27,"") | L27: =IF(ISNUMBER(I27),'Mois 10'!L29+(G27*H27),"")
A28: DEPAR Louise | B28: 45873 | C28: 1 | I28: =IF(ISNUMBER(H28),IF(C28=1,4%,IF(C28=2,2%,"")), "") | J28: =IF(ISNUMBER(H28),H28*I28,"") | L28: =IF(ISNUMBER(I28),L27+(G28*H28),"")
A29: Sous-Total | J29: =SUM(J27:J28) -> 0 | L29: {=IFERROR(LOOKUP(2,1/(L27:L28<>""),L27:L28),'Mois 10'!L29)} -> 8000
A30: MANDATAIRE 5
I31: =IF(ISNUMBER(H31),IF(C31=1,4%,IF(C31=2,2%,"")), "") | J31: =IF(ISNUMBER(H31),H31*I31,"") | L31: =IF(ISNUMBER(I31),'Mois 10'!L33+(G31*H31),"")
I32: =IF(ISNUMBER(H32),IF(C32=1,4%,IF(C32=2,2%,"")), "") | J32: =IF(ISNUMBER(H32),H32*I32,"") | L32: =IF(ISNUMBER(I32),L31+(G32*H32),"")
A33: Sous-Total | J33: =SUM(J31:J32) -> 0 | L33: {=IFERROR(LOOKUP(2,1/(L31:L32<>""),L31:L32),'Mois 10'!L33)}
A34: MANDATAIRE 6
I35: =IF(ISNUMBER(H35),IF(C35=1,4%,IF(C35=2,2%,"")), "") | J35: =IF(ISNUMBER(H35),H35*I35,"") | L35: =IF(ISNUMBER(I35),'Mois 10'!L37+(G35*H35),"")
I36: =IF(ISNUMBER(H36),IF(C36=1,4%,IF(C36=2,2%,"")), "") | J36: =IF(ISNUMBER(H36),H36*I36,"") | L36: =IF(ISNUMBER(I36),L35+(G36*H36),"")
A37: Sous-Total | J37: =SUM(J35:J36) -> 0 | L37: {=IFERROR(LOOKUP(2,1/(L35:L36<>""),L35:L36),'Mois 10'!L37)}
A38: MANDATAIRE 7
J39: =IF(ISNUMBER(H39),H39*I39,"") | L39: =IF(ISNUMBER(I39),'Mois 10'!L41+(G39*H39),"")
I40: =IF(ISNUMBER(H40),IF(C40=1,4%,IF(C40=2,2%,"")), "") | J40: =IF(ISNUMBER(H40),H40*I40,"") | L40: =IF(ISNUMBER(I40),L39+(G40*H40),"")
A41: Sous-Total | J41: =SUM(J39:J40) -> 0 | L41: {=IFERROR(LOOKUP(2,1/(L39:L40<>""),L39:L40),'Mois 10'!L41)}
A42: MANDATAIRE 8
I43: =IF(ISNUMBER(H43),IF(C43=1,4%,IF(C43=2,2%,"")), "") | J43: =IF(ISNUMBER(H43),H43*I43,"") | L43: =IF(ISNUMBER(I43),'Mois 10'!L45+(G43*H43),"")
I44: =IF(ISNUMBER(H44),IF(C44=1,4%,IF(C44=2,2%,"")), "") | J44: =IF(ISNUMBER(H44),H44*I44,"") | L44: =IF(ISNUMBER(I44),L43+(G44*H44),"")
A45: Sous-Total | J45: =SUM(J43:J44) -> 0 | L45: {=IFERROR(LOOKUP(2,1/(L43:L44<>""),L43:L44),'Mois 10'!L45)}
A46: MANDATAIRE 9
I47: =IF(ISNUMBER(H47),IF(C47=1,4%,IF(C47=2,2%,"")), "") | J47: =IF(ISNUMBER(H47),H47*I47,"") | L47: =IF(ISNUMBER(I47),'Mois 10'!L49+(G47*H47),"")
I48: =IF(ISNUMBER(H48),IF(C48=1,4%,IF(C48=2,2%,"")), "") | J48: =IF(ISNUMBER(H48),H48*I48,"") | L48: =IF(ISNUMBER(I48),L47+(G48*H48),"")
A49: Sous-Total | J49: =SUM(J47:J48) -> 0 | L49: {=IFERROR(LOOKUP(2,1/(L47:L48<>""),L47:L48),'Mois 10'!L49)}
A50: MANDATAIRE 10
I51: =IF(ISNUMBER(H51),IF(C51=1,4%,IF(C51=2,2%,"")), "") | J51: =IF(ISNUMBER(H51),H51*I51,"") | L51: =IF(ISNUMBER(I51),'Mois 10'!L53+(G51*H51),"")
I52: =IF(ISNUMBER(H52),IF(C52=1,4%,IF(C52=2,2%,"")), "") | J52: =IF(ISNUMBER(H52),H52*I52,"") | L52: =IF(ISNUMBER(I52),L51+(G52*H52),"")
A53: Sous-Total | J53: =SUM(J51:J52) -> 0 | L53: {=IFERROR(LOOKUP(2,1/(L51:L52<>""),L51:L52),'Mois 10'!L53)}
A54: MANDATAIRE 11
I55: =IF(ISNUMBER(H55),IF(C55=1,4%,IF(C55=2,2%,"")), "") | J55: =IF(ISNUMBER(H55),H55*I55,"") | L55: =IF(ISNUMBER(I55),'Mois 10'!L57+(G55*H55),"")
I56: =IF(ISNUMBER(H56),IF(C56=1,4%,IF(C56=2,2%,"")), "") | J56: =IF(ISNUMBER(H56),H56*I56,"") | L56: =IF(ISNUMBER(I56),L55+(G56*H56),"")
A57: Sous-Total | J57: =SUM(J55:J56) -> 0 | L57: {=IFERROR(LOOKUP(2,1/(L55:L56<>""),L55:L56),'Mois 10'!L57)}
A58: MANDATAIRE 12
I59: =IF(ISNUMBER(H59),IF(C59=1,4%,IF(C59=2,2%,"")), "") | J59: =IF(ISNUMBER(H59),H59*I59,"") | L59: =IF(ISNUMBER(I59),'Mois 10'!L61+(G59*H59),"")
I60: =IF(ISNUMBER(H60),IF(C60=1,4%,IF(C60=2,2%,"")), "") | J60: =IF(ISNUMBER(H60),H60*I60,"") | L60: =IF(ISNUMBER(I60),L59+(G60*H60),"")
A61: Sous-Total | J61: =SUM(J59:J60) -> 0 | L61: {=IFERROR(LOOKUP(2,1/(L59:L60<>""),L59:L60),'Mois 10'!L61)}
A62: MANDATAIRE 13
I63: =IF(ISNUMBER(H63),IF(C63=1,4%,IF(C63=2,2%,"")), "") | J63: =IF(ISNUMBER(H63),H63*I63,"") | L63: =IF(ISNUMBER(I63),'Mois 10'!L65+(G63*H63),"")
I64: =IF(ISNUMBER(H64),IF(C64=1,4%,IF(C64=2,2%,"")), "") | J64: =IF(ISNUMBER(H64),H64*I64,"") | L64: =IF(ISNUMBER(I64),L63+(G64*H64),"")
A65: Sous-Total | J65: =SUM(J63:J64) -> 0 | L65: {=IFERROR(LOOKUP(2,1/(L63:L64<>""),L63:L64),'Mois 10'!L65)}
A66: MANDATAIRE 14
I67: =IF(ISNUMBER(H67),IF(C67=1,4%,IF(C67=2,2%,"")), "") | J67: =IF(ISNUMBER(H67),H67*I67,"") | L67: =IF(ISNUMBER(I67),'Mois 10'!L69+(G67*H67),"")
I68: =IF(ISNUMBER(H68),IF(C68=1,4%,IF(C68=2,2%,"")), "") | J68: =IF(ISNUMBER(H68),H68*I68,"") | L68: =IF(ISNUMBER(I68),L67+(G68*H68),"")
A69: Sous-Total | J69: =SUM(J67:J68) -> 0 | L69: {=IFERROR(LOOKUP(2,1/(L67:L68<>""),L67:L68),'Mois 10'!L69)}
A70: MANDATAIRE 15
I71: =IF(ISNUMBER(H71),IF(C71=1,4%,IF(C71=2,2%,"")), "") | J71: =IF(ISNUMBER(H71),H71*I71,"") | L71: =IF(ISNUMBER(I71),'Mois 10'!L73+(G71*H71),"")
I72: =IF(ISNUMBER(H72),IF(C72=1,4%,IF(C72=2,2%,"")), "") | J72: =IF(ISNUMBER(H72),H72*I72,"") | L72: =IF(ISNUMBER(I72),L71+(G72*H72),"")
A73: Sous-Total | J73: =SUM(J71:J72) -> 0 | L73: {=IFERROR(LOOKUP(2,1/(L71:L72<>""),L71:L72),'Mois 10'!L73)}
A74: MANDATAIRE 16
I75: =IF(ISNUMBER(H75),IF(C75=1,4%,IF(C75=2,2%,"")), "") | J75: =IF(ISNUMBER(H75),H75*I75,"") | L75: =IF(ISNUMBER(I75),'Mois 10'!L77+(G75*H75),"")
I76: =IF(ISNUMBER(H76),IF(C76=1,4%,IF(C76=2,2%,"")), "") | J76: =IF(ISNUMBER(H76),H76*I76,"") | L76: =IF(ISNUMBER(I76),L75+(G76*H76),"")
A77: Sous-Total | J77: =SUM(J75:J76) -> 0 | L77: {=IFERROR(LOOKUP(2,1/(L75:L76<>""),L75:L76),'Mois 10'!L77)}
A78: MANDATAIRE 17
I79: =IF(ISNUMBER(H79),IF(C79=1,4%,IF(C79=2,2%,"")), "") | J79: =IF(ISNUMBER(H79),H79*I79,"") | L79: =IF(ISNUMBER(I79),'Mois 10'!L81+(G79*H79),"")
I80: =IF(ISNUMBER(H80),IF(C80=1,4%,IF(C80=2,2%,"")), "") | J80: =IF(ISNUMBER(H80),H80*I80,"") | L80: =IF(ISNUMBER(I80),L79+(G80*H80),"")
A81: Sous-Total | J81: =SUM(J79:J80) -> 0 | L81: {=IFERROR(LOOKUP(2,1/(L79:L80<>""),L79:L80),'Mois 10'!L81)}
A82: MANDATAIRE 18
I83: =IF(ISNUMBER(H83),IF(C83=1,4%,IF(C83=2,2%,"")), "") | J83: =IF(ISNUMBER(H83),H83*I83,"") | L83: =IF(ISNUMBER(I83),'Mois 10'!L85+(G83*H83),"")
I84: =IF(ISNUMBER(H84),IF(C84=1,4%,IF(C84=2,2%,"")), "") | J84: =IF(ISNUMBER(H84),H84*I84,"") | L84: =IF(ISNUMBER(I84),L83+(G84*H84),"")
A85: Sous-Total | J85: =SUM(J83:J84) -> 0 | L85: {=IFERROR(LOOKUP(2,1/(L83:L84<>""),L83:L84),'Mois 10'!L85)}
A86: MANDATAIRE 19
I87: =IF(ISNUMBER(H87),IF(C87=1,4%,IF(C87=2,2%,"")), "") | J87: =IF(ISNUMBER(H87),H87*I87,"") | L87: =IF(ISNUMBER(I87),'Mois 10'!L89+(G87*H87),"")
I88: =IF(ISNUMBER(H88),IF(C88=1,4%,IF(C88=2,2%,"")), "") | J88: =IF(ISNUMBER(H88),H88*I88,"") | L88: =IF(ISNUMBER(I88),L87+(G88*H88),"")
A89: Sous-Total | J89: =SUM(J87:J88) -> 0 | L89: {=IFERROR(LOOKUP(2,1/(L87:L88<>""),L87:L88),'Mois 10'!L89)}
A90: MANDATAIRE 20
I91: =IF(ISNUMBER(H91),IF(C91=1,4%,IF(C91=2,2%,"")), "") | J91: =IF(ISNUMBER(H91),H91*I91,"") | L91: =IF(ISNUMBER(I91),'Mois 10'!L93+(G91*H91),"")
I92: =IF(ISNUMBER(H92),IF(C92=1,4%,IF(C92=2,2%,"")), "") | J92: =IF(ISNUMBER(H92),H92*I92,"") | L92: =IF(ISNUMBER(I92),L91+(G92*H92),"")
A93: Sous-Total | J93: =SUM(J91:J92) -> 0 | L93: {=IFERROR(LOOKUP(2,1/(L91:L92<>""),L91:L92),'Mois 10'!L93)}
A94: TOTAL MENSUEL | J94: =J17+J21+J25+J29+J33+J37+J41+J45+J49+J53+J57+J61+J65+J69+J73+J77+J81+J85+J89+J93 -> 0

Sheet Mois 12
A1: REMUNERATION
A2: 46054
A6: NOM DU MANDATAIRE : | B6: DUPONT Michel | G6: NOM DE L'AMBASSADEUR : | J6: YYYY yyyy
A7: N° MANDATAIRE : | B7: MA-aamm-0001
A8: DATE D'ENTRÉE : | B8: 44623
A11: PRODUCTION AMBASSADEUR
A12: Nom du Mandataire | B12: Date entrée | C12: Niveau Amb. | D12: N° de la Vente | E12: Signature Acte Authentique | F12: CA HT MaKaza | G12: % Mand. | H12: Base de Calcul CA HT Mand. | I12: % Rem | J12: Commissions | K12: Payé le | L12: Cumul CA HT pour % Rem. | M12: Cumul CA HT pour % Rem. sur 12 mois
A14: MANDATAIRE 1
A15: MARTIN Paul | B15: 45845 | C15: 1 | I15: =IF(ISNUMBER(H15),IF(C15=1,4%,IF(C15=2,2%,"")), "") | J15: =IF(ISNUMBER(H15),H15*I15,"") | L15: =IF(ISNUMBER(I15),'Mois 11'!L17+(G15*H15),"")
A16: MARTIN Paul | B16: 45114 | C16: 1 | I16: =IF(ISNUMBER(H16),IF(C16=1,4%,IF(C16=2,2%,"")), "") | J16: =IF(ISNUMBER(H16),H16*I16,"") | L16: =IF(ISNUMBER(I16),L15+(G16*H16),"")
A17: Sous-Total | J17: =SUM(J15:J16) -> 0 | L17: {=IFERROR(LOOKUP(2,1/(L15:L16<>""),L15:L16),'Mois 11'!L17)} -> 22000 | M17: =IF(B15>'Mois 1'!$A$2,L17/(MIN(12,DATEDIF(EOMONTH(B15,-1)+1,DATE(IF(MONTH(B15)>IF(MONTH($B$8)=1,12,MONTH($B$8)-1),YEAR(B15)+1,YEAR(B15)),IF(MONTH($B$8)=1,12,MONTH($B$8)-1),1),"m")+1))*12,L17) -> 33000
A18: MANDATAIRE 2
A19: PALAT Louise | B19: 45324 | C19: 2 | I19: =IF(ISNUMBER(H19),IF(C19=1,4%,IF(C19=2,2%,"")), "") | J19: =IF(ISNUMBER(H19),H19*I19,"") | L19: =IF(ISNUMBER(I19),'Mois 11'!L21+(G19*H19),"")
A20: PALAT Louise | B20: 45324 | C20: 2 | I20: =IF(ISNUMBER(H20),IF(C20=1,4%,IF(C20=2,2%,"")), "") | J20: =IF(ISNUMBER(H20),H20*I20,"") | L20: =IF(ISNUMBER(I20),L19+(G20*H20),"")
A21: Sous-Total | J21: =SUM(J19:J20) -> 0 | L21: {=IFERROR(LOOKUP(2,1/(L19:L20<>""),L19:L20),'Mois 11'!L21)} -> 23000 | M21: =IF(B19>'Mois 1'!$A$2,L21/(MIN(12,DATEDIF(EOMONTH(B19,-1)+1,DATE(IF(MONTH(B19)>IF(MONTH($B$8)=1,12,MONTH($B$8)-1),YEAR(B19)+1,YEAR(B19)),IF(MONTH($B$8)=1,12,MONTH($B$8)-1),1),"m")+1))*12,L21) -> 23000
A22: MANDATAIRE 3
A23: DUPONT Clarissz | B23: 45476 | C23: 1 | D23: 156 | E23: 46055 | F23: 10000 | G23: 1 | H23: 10000 | I23: =IF(ISNUMBER(H23),IF(C23=1,4%,IF(C23=2,2%,"")), "") -> 0.04 | J23: =IF(ISNUMBER(H23),H23*I23,"") -> 400 | L23: =IF(ISNUMBER(I23),'Mois 11'!L25+(G23*H23),"") -> 15000
A24: DUPONT Clarissz | B24: 45476 | C24: 1 | I24: =IF(ISNUMBER(H24),IF(C24=1,4%,IF(C24=2,2%,"")), "") | J24: =IF(ISNUMBER(H24),H24*I24,"") | L24: =IF(ISNUMBER(I24),L23+(G24*H24),"")
A25: Sous-Total | J25: =SUM(J23:J24) -> 400 | L25: {=IFERROR(LOOKUP(2,1/(L23:L24<>""),L23:L24),'Mois 11'!L25)} -> 15000 | M25: =IF(B23>'Mois 1'!$A$2,L25/(MIN(12,DATEDIF(EOMONTH(B23,-1)+1,DATE(IF(MONTH(B23)>IF(MONTH($B$8)=1,12,MONTH($B$8)-1),YEAR(B23)+1,YEAR(B23)),IF(MONTH($B$8)=1,12,MONTH($B$8)-1),1),"m")+1))*12,L25) -> 15000
A26: MANDATAIRE 4
A27: DEPAR Louise | B27: 45873 | C27: 1 | I27: =IF(ISNUMBER(H27),IF(C27=1,4%,IF(C27=2,2%,"")), "") | J27: =IF(ISNUMBER(H27),H27*I27,"") | L27: =IF(ISNUMBER(I27),'Mois 11'!L29+(G27*H27),"")
A28: DEPAR Louise | B28: 45873 | C28: 1 | I28: =IF(ISNUMBER(H28),IF(C28=1,4%,IF(C28=2,2%,"")), "") | J28: =IF(ISNUMBER(H28),H28*I28,"") | L28: =IF(ISNUMBER(I28),L27+(G28*H28),"")
A29: Sous-Total | J29: =SUM(J27:J28) -> 0 | L29: {=IFERROR(LOOKUP(2,1/(L27:L28<>""),L27:L28),'Mois 11'!L29)} -> 8000 | M29: =IF(B27>'Mois 1'!$A$2,L29/(MIN(12,DATEDIF(EOMONTH(B27,-1)+1,DATE(IF(MONTH(B27)>IF(MONTH($B$8)=1,12,MONTH($B$8)-1),YEAR(B27)+1,YEAR(B27)),IF(MONTH($B$8)=1,12,MONTH($B$8)-1),1),"m")+1))*12,L29) -> 13714.286
A30: MANDATAIRE 5
I31: =IF(ISNUMBER(H31),IF(C31=1,4%,IF(C31=2,2%,"")), "") | J31: =IF(ISNUMBER(H31),H31*I31,"") | L31: =IF(ISNUMBER(I31),'Mois 11'!L33+(G31*H31),"")
I32: =IF(ISNUMBER(H32),IF(C32=1,4%,IF(C32=2,2%,"")), "") | J32: =IF(ISNUMBER(H32),H32*I32,"") | L32: =IF(ISNUMBER(I32),L31+(G32*H32),"")
A33: Sous-Total | J33: =SUM(J31:J32) -> 0 | L33: {=IFERROR(LOOKUP(2,1/(L31:L32<>""),L31:L32),'Mois 11'!L33)} | M33: =IF(B31>'Mois 1'!$A$2,L33/(MIN(12,DATEDIF(EOMONTH(B31,-1)+1,DATE(IF(MONTH(B31)>IF(MONTH($B$8)=1,12,MONTH($B$8)-1),YEAR(B31)+1,YEAR(B31)),IF(MONTH($B$8)=1,12,MONTH($B$8)-1),1),"m")+1))*12,L33)
A34: MANDATAIRE 6
I35: =IF(ISNUMBER(H35),IF(C35=1,4%,IF(C35=2,2%,"")), "") | J35: =IF(ISNUMBER(H35),H35*I35,"") | L35: =IF(ISNUMBER(I35),'Mois 11'!L37+(G35*H35),"")
I36: =IF(ISNUMBER(H36),IF(C36=1,4%,IF(C36=2,2%,"")), "") | J36: =IF(ISNUMBER(H36),H36*I36,"") | L36: =IF(ISNUMBER(I36),L35+(G36*H36),"")
A37: Sous-Total | J37: =SUM(J35:J36) -> 0 | L37: {=IFERROR(LOOKUP(2,1/(L35:L36<>""),L35:L36),'Mois 11'!L37)} | M37: =IF(B35>'Mois 1'!$A$2,L37/(MIN(12,DATEDIF(EOMONTH(B35,-1)+1,DATE(IF(MONTH(B35)>IF(MONTH($B$8)=1,12,MONTH($B$8)-1),YEAR(B35)+1,YEAR(B35)),IF(MONTH($B$8)=1,12,MONTH($B$8)-1),1),"m")+1))*12,L37)
A38: MANDATAIRE 7
J39: =IF(ISNUMBER(H39),H39*I39,"") | L39: =IF(ISNUMBER(I39),'Mois 11'!L41+(G39*H39),"")
I40: =IF(ISNUMBER(H40),IF(C40=1,4%,IF(C40=2,2%,"")), "") | J40: =IF(ISNUMBER(H40),H40*I40,"") | L40: =IF(ISNUMBER(I40),L39+(G40*H40),"")
A41: Sous-Total | J41: =SUM(J39:J40) -> 0 | L41: {=IFERROR(LOOKUP(2,1/(L39:L40<>""),L39:L40),'Mois 11'!L41)} | M41: =IF(B39>'Mois 1'!$A$2,L41/(MIN(12,DATEDIF(EOMONTH(B39,-1)+1,DATE(IF(MONTH(B39)>IF(MONTH($B$8)=1,12,MONTH($B$8)-1),YEAR(B39)+1,YEAR(B39)),IF(MONTH($B$8)=1,12,MONTH($B$8)-1),1),"m")+1))*12,L41)
A42: MANDATAIRE 8
I43: =IF(ISNUMBER(H43),IF(C43=1,4%,IF(C43=2,2%,"")), "") | J43: =IF(ISNUMBER(H43),H43*I43,"") | L43: =IF(ISNUMBER(I43),'Mois 11'!L45+(G43*H43),"")
I44: =IF(ISNUMBER(H44),IF(C44=1,4%,IF(C44=2,2%,"")), "") | J44: =IF(ISNUMBER(H44),H44*I44,"") | L44: =IF(ISNUMBER(I44),L43+(G44*H44),"")
A45: Sous-Total | J45: =SUM(J43:J44) -> 0 | L45: {=IFERROR(LOOKUP(2,1/(L43:L44<>""),L43:L44),'Mois 11'!L45)} | M45: =IF(B43>'Mois 1'!$A$2,L45/(MIN(12,DATEDIF(EOMONTH(B43,-1)+1,DATE(IF(MONTH(B43)>IF(MONTH($B$8)=1,12,MONTH($B$8)-1),YEAR(B43)+1,YEAR(B43)),IF(MONTH($B$8)=1,12,MONTH($B$8)-1),1),"m")+1))*12,L45)
A46: MANDATAIRE 9
I47: =IF(ISNUMBER(H47),IF(C47=1,4%,IF(C47=2,2%,"")), "") | J47: =IF(ISNUMBER(H47),H47*I47,"") | L47: =IF(ISNUMBER(I47),'Mois 11'!L49+(G47*H47),"")
I48: =IF(ISNUMBER(H48),IF(C48=1,4%,IF(C48=2,2%,"")), "") | J48: =IF(ISNUMBER(H48),H48*I48,"") | L48: =IF(ISNUMBER(I48),L47+(G48*H48),"")
A49: Sous-Total | J49: =SUM(J47:J48) -> 0 | L49: {=IFERROR(LOOKUP(2,1/(L47:L48<>""),L47:L48),'Mois 11'!L49)} | M49: =IF(B47>'Mois 1'!$A$2,L49/(MIN(12,DATEDIF(EOMONTH(B47,-1)+1,DATE(IF(MONTH(B47)>IF(MONTH($B$8)=1,12,MONTH($B$8)-1),YEAR(B47)+1,YEAR(B47)),IF(MONTH($B$8)=1,12,MONTH($B$8)-1),1),"m")+1))*12,L49)
A50: MANDATAIRE 10
I51: =IF(ISNUMBER(H51),IF(C51=1,4%,IF(C51=2,2%,"")), "") | J51: =IF(ISNUMBER(H51),H51*I51,"") | L51: =IF(ISNUMBER(I51),'Mois 11'!L53+(G51*H51),"")
I52: =IF(ISNUMBER(H52),IF(C52=1,4%,IF(C52=2,2%,"")), "") | J52: =IF(ISNUMBER(H52),H52*I52,"") | L52: =IF(ISNUMBER(I52),L51+(G52*H52),"")
A53: Sous-Total | J53: =SUM(J51:J52) -> 0 | L53: {=IFERROR(LOOKUP(2,1/(L51:L52<>""),L51:L52),'Mois 11'!L53)} | M53: =IF(B51>'Mois 1'!$A$2,L53/(MIN(12,DATEDIF(EOMONTH(B51,-1)+1,DATE(IF(MONTH(B51)>IF(MONTH($B$8)=1,12,MONTH($B$8)-1),YEAR(B51)+1,YEAR(B51)),IF(MONTH($B$8)=1,12,MONTH($B$8)-1),1),"m")+1))*12,L53)
A54: MANDATAIRE 11
I55: =IF(ISNUMBER(H55),IF(C55=1,4%,IF(C55=2,2%,"")), "") | J55: =IF(ISNUMBER(H55),H55*I55,"") | L55: =IF(ISNUMBER(I55),'Mois 11'!L57+(G55*H55),"")
I56: =IF(ISNUMBER(H56),IF(C56=1,4%,IF(C56=2,2%,"")), "") | J56: =IF(ISNUMBER(H56),H56*I56,"") | L56: =IF(ISNUMBER(I56),L55+(G56*H56),"")
A57: Sous-Total | J57: =SUM(J55:J56) -> 0 | L57: {=IFERROR(LOOKUP(2,1/(L55:L56<>""),L55:L56),'Mois 11'!L57)} | M57: =IF(B55>'Mois 1'!$A$2,L57/(MIN(12,DATEDIF(EOMONTH(B55,-1)+1,DATE(IF(MONTH(B55)>IF(MONTH($B$8)=1,12,MONTH($B$8)-1),YEAR(B55)+1,YEAR(B55)),IF(MONTH($B$8)=1,12,MONTH($B$8)-1),1),"m")+1))*12,L57)
A58: MANDATAIRE 12
I59: =IF(ISNUMBER(H59),IF(C59=1,4%,IF(C59=2,2%,"")), "") | J59: =IF(ISNUMBER(H59),H59*I59,"") | L59: =IF(ISNUMBER(I59),'Mois 11'!L61+(G59*H59),"")
I60: =IF(ISNUMBER(H60),IF(C60=1,4%,IF(C60=2,2%,"")), "") | J60: =IF(ISNUMBER(H60),H60*I60,"") | L60: =IF(ISNUMBER(I60),L59+(G60*H60),"")
A61: Sous-Total | J61: =SUM(J59:J60) -> 0 | L61: {=IFERROR(LOOKUP(2,1/(L59:L60<>""),L59:L60),'Mois 11'!L61)} | M61: =IF(B59>'Mois 1'!$A$2,L61/(MIN(12,DATEDIF(EOMONTH(B59,-1)+1,DATE(IF(MONTH(B59)>IF(MONTH($B$8)=1,12,MONTH($B$8)-1),YEAR(B59)+1,YEAR(B59)),IF(MONTH($B$8)=1,12,MONTH($B$8)-1),1),"m")+1))*12,L61)
A62: MANDATAIRE 13
I63: =IF(ISNUMBER(H63),IF(C63=1,4%,IF(C63=2,2%,"")), "") | J63: =IF(ISNUMBER(H63),H63*I63,"") | L63: =IF(ISNUMBER(I63),'Mois 11'!L65+(G63*H63),"")
I64: =IF(ISNUMBER(H64),IF(C64=1,4%,IF(C64=2,2%,"")), "") | J64: =IF(ISNUMBER(H64),H64*I64,"") | L64: =IF(ISNUMBER(I64),L63+(G64*H64),"")
A65: Sous-Total | J65: =SUM(J63:J64) -> 0 | L65: {=IFERROR(LOOKUP(2,1/(L63:L64<>""),L63:L64),'Mois 11'!L65)} | M65: =IF(B63>'Mois 1'!$A$2,L65/(MIN(12,DATEDIF(EOMONTH(B63,-1)+1,DATE(IF(MONTH(B63)>IF(MONTH($B$8)=1,12,MONTH($B$8)-1),YEAR(B63)+1,YEAR(B63)),IF(MONTH($B$8)=1,12,MONTH($B$8)-1),1),"m")+1))*12,L65)
A66: MANDATAIRE 14
I67: =IF(ISNUMBER(H67),IF(C67=1,4%,IF(C67=2,2%,"")), "") | J67: =IF(ISNUMBER(H67),H67*I67,"") | L67: =IF(ISNUMBER(I67),'Mois 11'!L69+(G67*H67),"")
I68: =IF(ISNUMBER(H68),IF(C68=1,4%,IF(C68=2,2%,"")), "") | J68: =IF(ISNUMBER(H68),H68*I68,"") | L68: =IF(ISNUMBER(I68),L67+(G68*H68),"")
A69: Sous-Total | J69: =SUM(J67:J68) -> 0 | L69: {=IFERROR(LOOKUP(2,1/(L67:L68<>""),L67:L68),'Mois 11'!L69)} | M69: =IF(B67>'Mois 1'!$A$2,L69/(MIN(12,DATEDIF(EOMONTH(B67,-1)+1,DATE(IF(MONTH(B67)>IF(MONTH($B$8)=1,12,MONTH($B$8)-1),YEAR(B67)+1,YEAR(B67)),IF(MONTH($B$8)=1,12,MONTH($B$8)-1),1),"m")+1))*12,L69)
A70: MANDATAIRE 15
I71: =IF(ISNUMBER(H71),IF(C71=1,4%,IF(C71=2,2%,"")), "") | J71: =IF(ISNUMBER(H71),H71*I71,"") | L71: =IF(ISNUMBER(I71),'Mois 11'!L73+(G71*H71),"")
I72: =IF(ISNUMBER(H72),IF(C72=1,4%,IF(C72=2,2%,"")), "") | J72: =IF(ISNUMBER(H72),H72*I72,"") | L72: =IF(ISNUMBER(I72),L71+(G72*H72),"")
A73: Sous-Total | J73: =SUM(J71:J72) -> 0 | L73: {=IFERROR(LOOKUP(2,1/(L71:L72<>""),L71:L72),'Mois 11'!L73)} | M73: =IF(B71>'Mois 1'!$A$2,L73/(MIN(12,DATEDIF(EOMONTH(B71,-1)+1,DATE(IF(MONTH(B71)>IF(MONTH($B$8)=1,12,MONTH($B$8)-1),YEAR(B71)+1,YEAR(B71)),IF(MONTH($B$8)=1,12,MONTH($B$8)-1),1),"m")+1))*12,L73)
A74: MANDATAIRE 16
I75: =IF(ISNUMBER(H75),IF(C75=1,4%,IF(C75=2,2%,"")), "") | J75: =IF(ISNUMBER(H75),H75*I75,"") | L75: =IF(ISNUMBER(I75),'Mois 11'!L77+(G75*H75),"")
I76: =IF(ISNUMBER(H76),IF(C76=1,4%,IF(C76=2,2%,"")), "") | J76: =IF(ISNUMBER(H76),H76*I76,"") | L76: =IF(ISNUMBER(I76),L75+(G76*H76),"")
A77: Sous-Total | J77: =SUM(J75:J76) -> 0 | L77: {=IFERROR(LOOKUP(2,1/(L75:L76<>""),L75:L76),'Mois 11'!L77)} | M77: =IF(B75>'Mois 1'!$A$2,L77/(MIN(12,DATEDIF(EOMONTH(B75,-1)+1,DATE(IF(MONTH(B75)>IF(MONTH($B$8)=1,12,MONTH($B$8)-1),YEAR(B75)+1,YEAR(B75)),IF(MONTH($B$8)=1,12,MONTH($B$8)-1),1),"m")+1))*12,L77)
A78: MANDATAIRE 17
I79: =IF(ISNUMBER(H79),IF(C79=1,4%,IF(C79=2,2%,"")), "") | J79: =IF(ISNUMBER(H79),H79*I79,"") | L79: =IF(ISNUMBER(I79),'Mois 11'!L81+(G79*H79),"")
I80: =IF(ISNUMBER(H80),IF(C80=1,4%,IF(C80=2,2%,"")), "") | J80: =IF(ISNUMBER(H80),H80*I80,"") | L80: =IF(ISNUMBER(I80),L79+(G80*H80),"")
A81: Sous-Total | J81: =SUM(J79:J80) -> 0 | L81: {=IFERROR(LOOKUP(2,1/(L79:L80<>""),L79:L80),'Mois 11'!L81)} | M81: =IF(B79>'Mois 1'!$A$2,L81/(MIN(12,DATEDIF(EOMONTH(B79,-1)+1,DATE(IF(MONTH(B79)>IF(MONTH($B$8)=1,12,MONTH($B$8)-1),YEAR(B79)+1,YEAR(B79)),IF(MONTH($B$8)=1,12,MONTH($B$8)-1),1),"m")+1))*12,L81)
A82: MANDATAIRE 18
I83: =IF(ISNUMBER(H83),IF(C83=1,4%,IF(C83=2,2%,"")), "") | J83: =IF(ISNUMBER(H83),H83*I83,"") | L83: =IF(ISNUMBER(I83),'Mois 11'!L85+(G83*H83),"")
I84: =IF(ISNUMBER(H84),IF(C84=1,4%,IF(C84=2,2%,"")), "") | J84: =IF(ISNUMBER(H84),H84*I84,"") | L84: =IF(ISNUMBER(I84),L83+(G84*H84),"")
A85: Sous-Total | J85: =SUM(J83:J84) -> 0 | L85: {=IFERROR(LOOKUP(2,1/(L83:L84<>""),L83:L84),'Mois 11'!L85)} | M85: =IF(B83>'Mois 1'!$A$2,L85/(MIN(12,DATEDIF(EOMONTH(B83,-1)+1,DATE(IF(MONTH(B83)>IF(MONTH($B$8)=1,12,MONTH($B$8)-1),YEAR(B83)+1,YEAR(B83)),IF(MONTH($B$8)=1,12,MONTH($B$8)-1),1),"m")+1))*12,L85)
A86: MANDATAIRE 19
I87: =IF(ISNUMBER(H87),IF(C87=1,4%,IF(C87=2,2%,"")), "") | J87: =IF(ISNUMBER(H87),H87*I87,"") | L87: =IF(ISNUMBER(I87),'Mois 11'!L89+(G87*H87),"")
I88: =IF(ISNUMBER(H88),IF(C88=1,4%,IF(C88=2,2%,"")), "") | J88: =IF(ISNUMBER(H88),H88*I88,"") | L88: =IF(ISNUMBER(I88),L87+(G88*H88),"")
A89: Sous-Total | J89: =SUM(J87:J88) -> 0 | L89: {=IFERROR(LOOKUP(2,1/(L87:L88<>""),L87:L88),'Mois 11'!L89)} | M89: =IF(B87>'Mois 1'!$A$2,L89/(MIN(12,DATEDIF(EOMONTH(B87,-1)+1,DATE(IF(MONTH(B87)>IF(MONTH($B$8)=1,12,MONTH($B$8)-1),YEAR(B87)+1,YEAR(B87)),IF(MONTH($B$8)=1,12,MONTH($B$8)-1),1),"m")+1))*12,L89)
A90: MANDATAIRE 20
I91: =IF(ISNUMBER(H91),IF(C91=1,4%,IF(C91=2,2%,"")), "") | J91: =IF(ISNUMBER(H91),H91*I91,"") | L91: =IF(ISNUMBER(I91),'Mois 11'!L93+(G91*H91),"")
I92: =IF(ISNUMBER(H92),IF(C92=1,4%,IF(C92=2,2%,"")), "") | J92: =IF(ISNUMBER(H92),H92*I92,"") | L92: =IF(ISNUMBER(I92),L91+(G92*H92),"")
A93: Sous-Total | J93: =SUM(J91:J92) -> 0 | L93: {=IFERROR(LOOKUP(2,1/(L91:L92<>""),L91:L92),'Mois 11'!L93)} | M93: =IF(B91>'Mois 1'!$A$2,L93/(MIN(12,DATEDIF(EOMONTH(B91,-1)+1,DATE(IF(MONTH(B91)>IF(MONTH($B$8)=1,12,MONTH($B$8)-1),YEAR(B91)+1,YEAR(B91)),IF(MONTH($B$8)=1,12,MONTH($B$8)-1),1),"m")+1))*12,L93)
A94: TOTAL MENSUEL | J94: =J17+J21+J25+J29+J33+J37+J41+J45+J49+J53+J57+J61+J65+J69+J73+J77+J81+J85+J89+J93 -> 400
A95: % MANDATAIRE > 30 000 €
