Workbook

Sheet Dépenses
A1: DEPENSES 2021
A3: REPARTITION | B3: 44197 | C3: 44228 | D3: 44256 | E3: 44287 | F3: 44317 | G3: 44348 | H3: 44378 | I3: 44409 | J3: 44440 | K3: 44470 | L3: 44501 | M3: 44531 | O3: Total
A4: DON | B4: {=IF(ISTEXT($A4),SUM(SUMPRODUCT(([1]Janvier!$D$6:$D$500=$A4)*([1]Janvier!$H$6:$H$500>=B$3)*([1]Janvier!$H$6:$H$500<C$3)*([1]Janvier!$G$6:$G$500)),SUMPRODUCT(([1]Février!$D$6:$D$500=$A4)*([1]Février!$H$6:$H$500>=B$3)*([1]Février!$H$6:$H$500<C$3)*([1]Février!$G$6:$G$500)),SUMPRODUCT(([1]Mars!$D$6:$D$500=$A4)*([1]Mars!$H$6:$H$500>=B$3)*([1]Mars!$H$6:$H$500<C$3)*([1]Mars!$G$6:$G$500)),SUMPRODUCT(([1]Avril!$D$6:$D$500=$A4)*([1]Avril!$H$6:$H$500>=B$3)*([1]Avril!$H$6:$H$500<C$3)*([1]Avril!$G$6:$G$500)),SUMPRODUCT(([1]Mai!$D$6:$D$500=$A4)*([1]Mai!$H$6:$H$500>=B$3)*([1]Mai!$H$6:$H$500<C$3)*([1]Mai!$G$6:$G$500)),SUMPRODUCT(([1]Juin!$D$6:$D$500=$A4)*([1]Juin!$H$6:$H$500>=B$3)*([1]Juin!$H$6:$H$500<C$3)*([1]Juin!$G$6:$G$500)),SUMPRODUCT(([1]Juillet!$D$6:$D$500=$A4)*([1]Juillet!$H$6:$H$500>=B$3)*([1]Juillet!$H$6:$H$500<C$3)*([1]Juillet!$G$6:$G$500)),SUMPRODUCT(([1]Août!$D$6:$D$500=$A4)*([1]Août!$H$6:$H$500>=B$3)*([1]Août!$H$6:$H$500<C$3)*([1]Août!$G$6:$G$500)),SUMPRODUCT(([1]Septembre!$D$6:$D$500=$A4)*([1]Septembre!$H$6:$H$500>=B$3)*([1]Septembre!$H$6:$H$500<C$3)*([1]Septembre!$G$6:$G$500)),SUMPRODUCT(([1]Octobre!$D$6:$D$500=$A4)*([1]Octobre!$H$6:$H$500>=B$3)*([1]Octobre!$H$6:$H$500<C$3)*([1]Octobre!$G$6:$G$500)),SUMPRODUCT(([1]Novembre!$D$6:$D$500=$A4)*([1]Novembre!$H$6:$H$500>=B$3)*([1]Novembre!$H$6:$H$500<C$3)*([1]Novembre!$G$6:$G$500)),SUMPRODUCT(([1]Décembre!$D$6:$D$500=$A4)*([1]Décembre!$H$6:$H$500>=B$3)*([1]Décembre!$H$6:$H$500<C$3)*([1]Décembre!$G$6:$G$500))),"")} -> 0 | C4: {=IF(ISTEXT($A4),SUM(SUMPRODUCT(([1]Janvier!$D$6:$D$500=$A4)*([1]Janvier!$H$6:$H$500>=C$3)*([1]Janvier!$H$6:$H$500<D$3)*([1]Janvier!$G$6:$G$500)),SUMPRODUCT(([1]Février!$D$6:$D$500=$A4)*([1]Février!$H$6:$H$500>=C$3)*([1]Février!$H$6:$H$500<D$3)*([1]Février!$G$6:$G$500)),SUMPRODUCT(([1]Mars!$D$6:$D$500=$A4)*([1]Mars!$H$6:$H$500>=C$3)*([1]Mars!$H$6:$H$500<D$3)*([1]Mars!$G$6:$G$500)),SUMPRODUCT(([1]Avril!$D$6:$D$500=$A4)*([1]Avril!$H$6:$H$500>=C$3)*([1]Avril!$H$6:$H$500<D$3)*([1]Avril!$G$6:$G$500)),SUMPRODUCT(([1]Mai!$D$6:$D$500=$A4)*([1]Mai!$H$6:$H$500>=C$3)*([1]Mai!$H$6:$H$500<D$3)*([1]Mai!$G$6:$G$500)),SUMPRODUCT(([1]Juin!$D$6:$D$500=$A4)*([1]Juin!$H$6:$H$500>=C$3)*([1]Juin!$H$6:$H$500<D$3)*([1]Juin!$G$6:$G$500)),SUMPRODUCT(([1]Juillet!$D$6:$D$500=$A4)*([1]Juillet!$H$6:$H$500>=C$3)*([1]Juillet!$H$6:$H$500<D$3)*([1]Juillet!$G$6:$G$500)),SUMPRODUCT(([1]Août!$D$6:$D$500=$A4)*([1]Août!$H$6:$H$500>=C$3)*([1]Août!$H$6:$H$500<D$3)*([1]Août!$G$6:$G$500)),SUMPRODUCT(([1]Septembre!$D$6:$D$500=$A4)*([1]Septembre!$H$6:$H$500>=C$3)*([1]Septembre!$H$6:$H$500<D$3)*([1]Septembre!$G$6:$G$500)),SUMPRODUCT(([1]Octobre!$D$6:$D$500=$A4)*([1]Octobre!$H$6:$H$500>=C$3)*([1]Octobre!$H$6:$H$500<D$3)*([1]Octobre!$G$6:$G$500)),SUMPRODUCT(([1]Novembre!$D$6:$D$500=$A4)*([1]Novembre!$H$6:$H$500>=C$3)*([1]Novembre!$H$6:$H$500<D$3)*([1]Novembre!$G$6:$G$500)),SUMPRODUCT(([1]Décembre!$D$6:$D$500=$A4)*([1]Décembre!$H$6:$H$500>=C$3)*([1]Décembre!$H$6:$H$500<D$3)*([1]Décembre!$G$6:$G$500))),"")} -> 0 | D4: {=IF(ISTEXT($A4),SUM(SUMPRODUCT(([1]Janvier!$D$6:$D$500=$A4)*([1]Janvier!$H$6:$H$500>=D$3)*([1]Janvier!$H$6:$H$500<E$3)*([1]Janvier!$G$6:$G$500)),SUMPRODUCT(([1]Février!$D$6:$D$500=$A4)*([1]Février!$H$6:$H$500>=D$3)*([1]Février!$H$6:$H$500<E$3)*([1]Février!$G$6:$G$500)),SUMPRODUCT(([1]Mars!$D$6:$D$500=$A4)*([1]Mars!$H$6:$H$500>=D$3)*([1]Mars!$H$6:$H$500<E$3)*([1]Mars!$G$6:$G$500)),SUMPRODUCT(([1]Avril!$D$6:$D$500=$A4)*([1]Avril!$H$6:$H$500>=D$3)*([1]Avril!$H$6:$H$500<E$3)*([1]Avril!$G$6:$G$500)),SUMPRODUCT(([1]Mai!$D$6:$D$500=$A4)*([1]Mai!$H$6:$H$500>=D$3)*([1]Mai!$H$6:$H$500<E$3)*([1]Mai!$G$6:$G$500)),SUMPRODUCT(([1]Juin!$D$6:$D$500=$A4)*([1]Juin!$H$6:$H$500>=D$3)*([1]Juin!$H$6:$H$500<E$3)*([1]Juin!$G$6:$G$500)),SUMPRODUCT(([1]Juillet!$D$6:$D$500=$A4)*([1]Juillet!$H$6:$H$500>=D$3)*([1]Juillet!$H$6:$H$500<E$3)*([1]Juillet!$G$6:$G$500)),SUMPRODUCT(([1]Août!$D$6:$D$500=$A4)*([1]Août!$H$6:$H$500>=D$3)*([1]Août!$H$6:$H$500<E$3)*([1]Août!$G$6:$G$500)),SUMPRODUCT(([1]Septembre!$D$6:$D$500=$A4)*([1]Septembre!$H$6:$H$500>=D$3)*([1]Septembre!$H$6:$H$500<E$3)*([1]Septembre!$G$6:$G$500)),SUMPRODUCT(([1]Octobre!$D$6:$D$500=$A4)*([1]Octobre!$H$6:$H$500>=D$3)*([1]Octobre!$H$6:$H$500<E$3)*([1]Octobre!$G$6:$G$500)),SUMPRODUCT(([1]Novembre!$D$6:$D$500=$A4)*([1]Novembre!$H$6:$H$500>=D$3)*([1]Novembre!$H$6:$H$500<E$3)*([1]Novembre!$G$6:$G$500)),SUMPRODUCT(([1]Décembre!$D$6:$D$500=$A4)*([1]Décembre!$H$6:$H$500>=D$3)*([1]Décembre!$H$6:$H$500<E$3)*([1]Décembre!$G$6:$G$500))),"")} -> 0 | E4: {=IF(ISTEXT($A4),SUM(SUMPRODUCT(([1]Janvier!$D$6:$D$500=$A4)*([1]Janvier!$H$6:$H$500>=E$3)*([1]Janvier!$H$6:$H$500<F$3)*([1]Janvier!$G$6:$G$500)),SUMPRODUCT(([1]Février!$D$6:$D$500=$A4)*([1]Février!$H$6:$H$500>=E$3)*([1]Février!$H$6:$H$500<F$3)*([1]Février!$G$6:$G$500)),SUMPRODUCT(([1]Mars!$D$6:$D$500=$A4)*([1]Mars!$H$6:$H$500>=E$3)*([1]Mars!$H$6:$H$500<F$3)*([1]Mars!$G$6:$G$500)),SUMPRODUCT(([1]Avril!$D$6:$D$500=$A4)*([1]Avril!$H$6:$H$500>=E$3)*([1]Avril!$H$6:$H$500<F$3)*([1]Avril!$G$6:$G$500)),SUMPRODUCT(([1]Mai!$D$6:$D$500=$A4)*([1]Mai!$H$6:$H$500>=E$3)*([1]Mai!$H$6:$H$500<F$3)*([1]Mai!$G$6:$G$500)),SUMPRODUCT(([1]Juin!$D$6:$D$500=$A4)*([1]Juin!$H$6:$H$500>=E$3)*([1]Juin!$H$6:$H$500<F$3)*([1]Juin!$G$6:$G$500)),SUMPRODUCT(([1]Juillet!$D$6:$D$500=$A4)*([1]Juillet!$H$6:$H$500>=E$3)*([1]Juillet!$H$6:$H$500<F$3)*([1]Juillet!$G$6:$G$500)),SUMPRODUCT(([1]Août!$D$6:$D$500=$A4)*([1]Août!$H$6:$H$500>=E$3)*([1]Août!$H$6:$H$500<F$3)*([1]Août!$G$6:$G$500)),SUMPRODUCT(([1]Septembre!$D$6:$D$500=$A4)*([1]Septembre!$H$6:$H$500>=E$3)*([1]Septembre!$H$6:$H$500<F$3)*([1]Septembre!$G$6:$G$500)),SUMPRODUCT(([1]Octobre!$D$6:$D$500=$A4)*([1]Octobre!$H$6:$H$500>=E$3)*([1]Octobre!$H$6:$H$500<F$3)*([1]Octobre!$G$6:$G$500)),SUMPRODUCT(([1]Novembre!$D$6:$D$500=$A4)*([1]Novembre!$H$6:$H$500>=E$3)*([1]Novembre!$H$6:$H$500<F$3)*([1]Novembre!$G$6:$G$500)),SUMPRODUCT(([1]Décembre!$D$6:$D$500=$A4)*([1]Décembre!$H$6:$H$500>=E$3)*([1]Décembre!$H$6:$H$500<F$3)*([1]Décembre!$G$6:$G$500))),"")} -> 0 | F4: {=IF(ISTEXT($A4),SUM(SUMPRODUCT(([1]Janvier!$D$6:$D$500=$A4)*([1]Janvier!$H$6:$H$500>=F$3)*([1]Janvier!$H$6:$H$500<G$3)*([1]Janvier!$G$6:$G$500)),SUMPRODUCT(([1]Février!$D$6:$D$500=$A4)*([1]Février!$H$6:$H$500>=F$3)*([1]Février!$H$6:$H$500<G$3)*([1]Février!$G$6:$G$500)),SUMPRODUCT(([1]Mars!$D$6:$D$500=$A4)*([1]Mars!$H$6:$H$500>=F$3)*([1]Mars!$H$6:$H$500<G$3)*([1]Mars!$G$6:$G$500)),SUMPRODUCT(([1]Avril!$D$6:$D$500=$A4)*([1]Avril!$H$6:$H$500>=F$3)*([1]Avril!$H$6:$H$500<G$3)*([1]Avril!$G$6:$G$500)),SUMPRODUCT(([1]Mai!$D$6:$D$500=$A4)*([1]Mai!$H$6:$H$500>=F$3)*([1]Mai!$H$6:$H$500<G$3)*([1]Mai!$G$6:$G$500)),SUMPRODUCT(([1]Juin!$D$6:$D$500=$A4)*([1]Juin!$H$6:$H$500>=F$3)*([1]Juin!$H$6:$H$500<G$3)*([1]Juin!$G$6:$G$500)),SUMPRODUCT(([1]Juillet!$D$6:$D$500=$A4)*([1]Juillet!$H$6:$H$500>=F$3)*([1]Juillet!$H$6:$H$500<G$3)*([1]Juillet!$G$6:$G$500)),SUMPRODUCT(([1]Août!$D$6:$D$500=$A4)*([1]Août!$H$6:$H$500>=F$3)*([1]Août!$H$6:$H$500<G$3)*([1]Août!$G$6:$G$500)),SUMPRODUCT(([1]Septembre!$D$6:$D$500=$A4)*([1]Septembre!$H$6:$H$500>=F$3)*([1]Septembre!$H$6:$H$500<G$3)*([1]Septembre!$G$6:$G$500)),SUMPRODUCT(([1]Octobre!$D$6:$D$500=$A4)*([1]Octobre!$H$6:$H$500>=F$3)*([1]Octobre!$H$6:$H$500<G$3)*([1]Octobre!$G$6:$G$500)),SUMPRODUCT(([1]Novembre!$D$6:$D$500=$A4)*([1]Novembre!$H$6:$H$500>=F$3)*([1]Novembre!$H$6:$H$500<G$3)*([1]Novembre!$G$6:$G$500)),SUMPRODUCT(([1]Décembre!$D$6:$D$500=$A4)*([1]Décembre!$H$6:$H$500>=F$3)*([1]Décembre!$H$6:$H$500<G$3)*([1]Décembre!$G$6:$G$500))),"")} -> 0 | G4: {=IF(ISTEXT($A4),SUM(SUMPRODUCT(([1]Janvier!$D$6:$D$500=$A4)*([1]Janvier!$H$6:$H$500>=G$3)*([1]Janvier!$H$6:$H$500<H$3)*([1]Janvier!$G$6:$G$500)),SUMPRODUCT(([1]Février!$D$6:$D$500=$A4)*([1]Février!$H$6:$H$500>=G$3)*([1]Février!$H$6:$H$500<H$3)*([1]Février!$G$6:$G$500)),SUMPRODUCT(([1]Mars!$D$6:$D$500=$A4)*([1]Mars!$H$6:$H$500>=G$3)*([1]Mars!$H$6:$H$500<H$3)*([1]Mars!$G$6:$G$500)),SUMPRODUCT(([1]Avril!$D$6:$D$500=$A4)*([1]Avril!$H$6:$H$500>=G$3)*([1]Avril!$H$6:$H$500<H$3)*([1]Avril!$G$6:$G$500)),SUMPRODUCT(([1]Mai!$D$6:$D$500=$A4)*([1]Mai!$H$6:$H$500>=G$3)*([1]Mai!$H$6:$H$500<H$3)*([1]Mai!$G$6:$G$500)),SUMPRODUCT(([1]Juin!$D$6:$D$500=$A4)*([1]Juin!$H$6:$H$500>=G$3)*([1]Juin!$H$6:$H$500<H$3)*([1]Juin!$G$6:$G$500)),SUMPRODUCT(([1]Juillet!$D$6:$D$500=$A4)*([1]Juillet!$H$6:$H$500>=G$3)*([1]Juillet!$H$6:$H$500<H$3)*([1]Juillet!$G$6:$G$500)),SUMPRODUCT(([1]Août!$D$6:$D$500=$A4)*([1]Août!$H$6:$H$500>=G$3)*([1]Août!$H$6:$H$500<H$3)*([1]Août!$G$6:$G$500)),SUMPRODUCT(([1]Septembre!$D$6:$D$500=$A4)*([1]Septembre!$H$6:$H$500>=G$3)*([1]Septembre!$H$6:$H$500<H$3)*([1]Septembre!$G$6:$G$500)),SUMPRODUCT(([1]Octobre!$D$6:$D$500=$A4)*([1]Octobre!$H$6:$H$500>=G$3)*([1]Octobre!$H$6:$H$500<H$3)*([1]Octobre!$G$6:$G$500)),SUMPRODUCT(([1]Novembre!$D$6:$D$500=$A4)*([1]Novembre!$H$6:$H$500>=G$3)*([1]Novembre!$H$6:$H$500<H$3)*([1]Novembre!$G$6:$G$500)),SUMPRODUCT(([1]Décembre!$D$6:$D$500=$A4)*([1]Décembre!$H$6:$H$500>=G$3)*([1]Décembre!$H$6:$H$500<H$3)*([1]Décembre!$G$6:$G$500))),"")} -> 0 | H4: {=IF(ISTEXT($A4),SUM(SUMPRODUCT(([1]Janvier!$D$6:$D$500=$A4)*([1]Janvier!$H$6:$H$500>=H$3)*([1]Janvier!$H$6:$H$500<I$3)*([1]Janvier!$G$6:$G$500)),SUMPRODUCT(([1]Février!$D$6:$D$500=$A4)*([1]Février!$H$6:$H$500>=H$3)*([1]Février!$H$6:$H$500<I$3)*([1]Février!$G$6:$G$500)),SUMPRODUCT(([1]Mars!$D$6:$D$500=$A4)*([1]Mars!$H$6:$H$500>=H$3)*([1]Mars!$H$6:$H$500<I$3)*([1]Mars!$G$6:$G$500)),SUMPRODUCT(([1]Avril!$D$6:$D$500=$A4)*([1]Avril!$H$6:$H$500>=H$3)*([1]Avril!$H$6:$H$500<I$3)*([1]Avril!$G$6:$G$500)),SUMPRODUCT(([1]Mai!$D$6:$D$500=$A4)*([1]Mai!$H$6:$H$500>=H$3)*([1]Mai!$H$6:$H$500<I$3)*([1]Mai!$G$6:$G$500)),SUMPRODUCT(([1]Juin!$D$6:$D$500=$A4)*([1]Juin!$H$6:$H$500>=H$3)*([1]Juin!$H$6:$H$500<I$3)*([1]Juin!$G$6:$G$500)),SUMPRODUCT(([1]Juillet!$D$6:$D$500=$A4)*([1]Juillet!$H$6:$H$500>=H$3)*([1]Juillet!$H$6:$H$500<I$3)*([1]Juillet!$G$6:$G$500)),SUMPRODUCT(([1]Août!$D$6:$D$500=$A4)*([1]Août!$H$6:$H$500>=H$3)*([1]Août!$H$6:$H$500<I$3)*([1]Août!$G$6:$G$500)),SUMPRODUCT(([1]Septembre!$D$6:$D$500=$A4)*([1]Septembre!$H$6:$H$500>=H$3)*([1]Septembre!$H$6:$H$500<I$3)*([1]Septembre!$G$6:$G$500)),SUMPRODUCT(([1]Octobre!$D$6:$D$500=$A4)*([1]Octobre!$H$6:$H$500>=H$3)*([1]Octobre!$H$6:$H$500<I$3)*([1]Octobre!$G$6:$G$500)),SUMPRODUCT(([1]Novembre!$D$6:$D$500=$A4)*([1]Novembre!$H$6:$H$500>=H$3)*([1]Novembre!$H$6:$H$500<I$3)*([1]Novembre!$G$6:$G$500)),SUMPRODUCT(([1]Décembre!$D$6:$D$500=$A4)*([1]Décembre!$H$6:$H$500>=H$3)*([1]Décembre!$H$6:$H$500<I$3)*([1]Décembre!$G$6:$G$500))),"")} -> 0 | I4: {=IF(ISTEXT($A4),SUM(SUMPRODUCT(([1]Janvier!$D$6:$D$500=$A4)*([1]Janvier!$H$6:$H$500>=I$3)*([1]Janvier!$H$6:$H$500<J$3)*([1]Janvier!$G$6:$G$500)),SUMPRODUCT(([1]Février!$D$6:$D$500=$A4)*([1]Février!$H$6:$H$500>=I$3)*([1]Février!$H$6:$H$500<J$3)*([1]Février!$G$6:$G$500)),SUMPRODUCT(([1]Mars!$D$6:$D$500=$A4)*([1]Mars!$H$6:$H$500>=I$3)*([1]Mars!$H$6:$H$500<J$3)*([1]Mars!$G$6:$G$500)),SUMPRODUCT(([1]Avril!$D$6:$D$500=$A4)*([1]Avril!$H$6:$H$500>=I$3)*([1]Avril!$H$6:$H$500<J$3)*([1]Avril!$G$6:$G$500)),SUMPRODUCT(([1]Mai!$D$6:$D$500=$A4)*([1]Mai!$H$6:$H$500>=I$3)*([1]Mai!$H$6:$H$500<J$3)*([1]Mai!$G$6:$G$500)),SUMPRODUCT(([1]Juin!$D$6:$D$500=$A4)*([1]Juin!$H$6:$H$500>=I$3)*([1]Juin!$H$6:$H$500<J$3)*([1]Juin!$G$6:$G$500)),SUMPRODUCT(([1]Juillet!$D$6:$D$500=$A4)*([1]Juillet!$H$6:$H$500>=I$3)*([1]Juillet!$H$6:$H$500<J$3)*([1]Juillet!$G$6:$G$500)),SUMPRODUCT(([1]Août!$D$6:$D$500=$A4)*([1]Août!$H$6:$H$500>=I$3)*([1]Août!$H$6:$H$500<J$3)*([1]Août!$G$6:$G$500)),SUMPRODUCT(([1]Septembre!$D$6:$D$500=$A4)*([1]Septembre!$H$6:$H$500>=I$3)*([1]Septembre!$H$6:$H$500<J$3)*([1]Septembre!$G$6:$G$500)),SUMPRODUCT(([1]Octobre!$D$6:$D$500=$A4)*([1]Octobre!$H$6:$H$500>=I$3)*([1]Octobre!$H$6:$H$500<J$3)*([1]Octobre!$G$6:$G$500)),SUMPRODUCT(([1]Novembre!$D$6:$D$500=$A4)*([1]Novembre!$H$6:$H$500>=I$3)*([1]Novembre!$H$6:$H$500<J$3)*([1]Novembre!$G$6:$G$500)),SUMPRODUCT(([1]Décembre!$D$6:$D$500=$A4)*([1]Décembre!$H$6:$H$500>=I$3)*([1]Décembre!$H$6:$H$500<J$3)*([1]Décembre!$G$6:$G$500))),"")} -> 0 | ... M4: {=IF(ISTEXT($A4),SUM(SUMPRODUCT(([1]Janvier!$D$6:$D$500=$A4)*([1]Janvier!$H$6:$H$500>=M$3)*([1]Janvier!$H$6:$H$500<N$3)*([1]Janvier!$G$6:$G$500)),SUMPRODUCT(([1]Février!$D$6:$D$500=$A4)*([1]Février!$H$6:$H$500>=M$3)*([1]Février!$H$6:$H$500<N$3)*([1]Février!$G$6:$G$500)),SUMPRODUCT(([1]Mars!$D$6:$D$500=$A4)*([1]Mars!$H$6:$H$500>=M$3)*([1]Mars!$H$6:$H$500<N$3)*([1]Mars!$G$6:$G$500)),SUMPRODUCT(([1]Avril!$D$6:$D$500=$A4)*([1]Avril!$H$6:$H$500>=M$3)*([1]Avril!$H$6:$H$500<N$3)*([1]Avril!$G$6:$G$500)),SUMPRODUCT(([1]Mai!$D$6:$D$500=$A4)*([1]Mai!$H$6:$H$500>=M$3)*([1]Mai!$H$6:$H$500<N$3)*([1]Mai!$G$6:$G$500)),SUMPRODUCT(([1]Juin!$D$6:$D$500=$A4)*([1]Juin!$H$6:$H$500>=M$3)*([1]Juin!$H$6:$H$500<N$3)*([1]Juin!$G$6:$G$500)),SUMPRODUCT(([1]Juillet!$D$6:$D$500=$A4)*([1]Juillet!$H$6:$H$500>=M$3)*([1]Juillet!$H$6:$H$500<N$3)*([1]Juillet!$G$6:$G$500)),SUMPRODUCT(([1]Août!$D$6:$D$500=$A4)*([1]Août!$H$6:$H$500>=M$3)*([1]Août!$H$6:$H$500<N$3)*([1]Août!$G$6:$G$500)),SUMPRODUCT(([1]Septembre!$D$6:$D$500=$A4)*([1]Septembre!$H$6:$H$500>=M$3)*([1]Septembre!$H$6:$H$500<N$3)*([1]Septembre!$G$6:$G$500)),SUMPRODUCT(([1]Octobre!$D$6:$D$500=$A4)*([1]Octobre!$H$6:$H$500>=M$3)*([1]Octobre!$H$6:$H$500<N$3)*([1]Octobre!$G$6:$G$500)),SUMPRODUCT(([1]Novembre!$D$6:$D$500=$A4)*([1]Novembre!$H$6:$H$500>=M$3)*([1]Novembre!$H$6:$H$500<N$3)*([1]Novembre!$G$6:$G$500)),SUMPRODUCT(([1]Décembre!$D$6:$D$500=$A4)*([1]Décembre!$H$6:$H$500>=M$3)*([1]Décembre!$H$6:$H$500<N$3)*([1]Décembre!$G$6:$G$500))),"")} -> 0 | O4: =SUM(B4:M4) -> 0
A5: AUTO | B5: {=IF(ISTEXT($A5),SUM(SUMPRODUCT(([1]Janvier!$D$6:$D$500=$A5)*([1]Janvier!$H$6:$H$500>=B$3)*([1]Janvier!$H$6:$H$500<C$3)*([1]Janvier!$G$6:$G$500)),SUMPRODUCT(([1]Février!$D$6:$D$500=$A5)*([1]Février!$H$6:$H$500>=B$3)*([1]Février!$H$6:$H$500<C$3)*([1]Février!$G$6:$G$500)),SUMPRODUCT(([1]Mars!$D$6:$D$500=$A5)*([1]Mars!$H$6:$H$500>=B$3)*([1]Mars!$H$6:$H$500<C$3)*([1]Mars!$G$6:$G$500)),SUMPRODUCT(([1]Avril!$D$6:$D$500=$A5)*([1]Avril!$H$6:$H$500>=B$3)*([1]Avril!$H$6:$H$500<C$3)*([1]Avril!$G$6:$G$500)),SUMPRODUCT(([1]Mai!$D$6:$D$500=$A5)*([1]Mai!$H$6:$H$500>=B$3)*([1]Mai!$H$6:$H$500<C$3)*([1]Mai!$G$6:$G$500)),SUMPRODUCT(([1]Juin!$D$6:$D$500=$A5)*([1]Juin!$H$6:$H$500>=B$3)*([1]Juin!$H$6:$H$500<C$3)*([1]Juin!$G$6:$G$500)),SUMPRODUCT(([1]Juillet!$D$6:$D$500=$A5)*([1]Juillet!$H$6:$H$500>=B$3)*([1]Juillet!$H$6:$H$500<C$3)*([1]Juillet!$G$6:$G$500)),SUMPRODUCT(([1]Août!$D$6:$D$500=$A5)*([1]Août!$H$6:$H$500>=B$3)*([1]Août!$H$6:$H$500<C$3)*([1]Août!$G$6:$G$500)),SUMPRODUCT(([1]Septembre!$D$6:$D$500=$A5)*([1]Septembre!$H$6:$H$500>=B$3)*([1]Septembre!$H$6:$H$500<C$3)*([1]Septembre!$G$6:$G$500)),SUMPRODUCT(([1]Octobre!$D$6:$D$500=$A5)*([1]Octobre!$H$6:$H$500>=B$3)*([1]Octobre!$H$6:$H$500<C$3)*([1]Octobre!$G$6:$G$500)),SUMPRODUCT(([1]Novembre!$D$6:$D$500=$A5)*([1]Novembre!$H$6:$H$500>=B$3)*([1]Novembre!$H$6:$H$500<C$3)*([1]Novembre!$G$6:$G$500)),SUMPRODUCT(([1]Décembre!$D$6:$D$500=$A5)*([1]Décembre!$H$6:$H$500>=B$3)*([1]Décembre!$H$6:$H$500<C$3)*([1]Décembre!$G$6:$G$500))),"")} -> 0 | C5: {=IF(ISTEXT($A5),SUM(SUMPRODUCT(([1]Janvier!$D$6:$D$500=$A5)*([1]Janvier!$H$6:$H$500>=C$3)*([1]Janvier!$H$6:$H$500<D$3)*([1]Janvier!$G$6:$G$500)),SUMPRODUCT(([1]Février!$D$6:$D$500=$A5)*([1]Février!$H$6:$H$500>=C$3)*([1]Février!$H$6:$H$500<D$3)*([1]Février!$G$6:$G$500)),SUMPRODUCT(([1]Mars!$D$6:$D$500=$A5)*([1]Mars!$H$6:$H$500>=C$3)*([1]Mars!$H$6:$H$500<D$3)*([1]Mars!$G$6:$G$500)),SUMPRODUCT(([1]Avril!$D$6:$D$500=$A5)*([1]Avril!$H$6:$H$500>=C$3)*([1]Avril!$H$6:$H$500<D$3)*([1]Avril!$G$6:$G$500)),SUMPRODUCT(([1]Mai!$D$6:$D$500=$A5)*([1]Mai!$H$6:$H$500>=C$3)*([1]Mai!$H$6:$H$500<D$3)*([1]Mai!$G$6:$G$500)),SUMPRODUCT(([1]Juin!$D$6:$D$500=$A5)*([1]Juin!$H$6:$H$500>=C$3)*([1]Juin!$H$6:$H$500<D$3)*([1]Juin!$G$6:$G$500)),SUMPRODUCT(([1]Juillet!$D$6:$D$500=$A5)*([1]Juillet!$H$6:$H$500>=C$3)*([1]Juillet!$H$6:$H$500<D$3)*([1]Juillet!$G$6:$G$500)),SUMPRODUCT(([1]Août!$D$6:$D$500=$A5)*([1]Août!$H$6:$H$500>=C$3)*([1]Août!$H$6:$H$500<D$3)*([1]Août!$G$6:$G$500)),SUMPRODUCT(([1]Septembre!$D$6:$D$500=$A5)*([1]Septembre!$H$6:$H$500>=C$3)*([1]Septembre!$H$6:$H$500<D$3)*([1]Septembre!$G$6:$G$500)),SUMPRODUCT(([1]Octobre!$D$6:$D$500=$A5)*([1]Octobre!$H$6:$H$500>=C$3)*([1]Octobre!$H$6:$H$500<D$3)*([1]Octobre!$G$6:$G$500)),SUMPRODUCT(([1]Novembre!$D$6:$D$500=$A5)*([1]Novembre!$H$6:$H$500>=C$3)*([1]Novembre!$H$6:$H$500<D$3)*([1]Novembre!$G$6:$G$500)),SUMPRODUCT(([1]Décembre!$D$6:$D$500=$A5)*([1]Décembre!$H$6:$H$500>=C$3)*([1]Décembre!$H$6:$H$500<D$3)*([1]Décembre!$G$6:$G$500))),"")} -> 0 | D5: {=IF(ISTEXT($A5),SUM(SUMPRODUCT(([1]Janvier!$D$6:$D$500=$A5)*([1]Janvier!$H$6:$H$500>=D$3)*([1]Janvier!$H$6:$H$500<E$3)*([1]Janvier!$G$6:$G$500)),SUMPRODUCT(([1]Février!$D$6:$D$500=$A5)*([1]Février!$H$6:$H$500>=D$3)*([1]Février!$H$6:$H$500<E$3)*([1]Février!$G$6:$G$500)),SUMPRODUCT(([1]Mars!$D$6:$D$500=$A5)*([1]Mars!$H$6:$H$500>=D$3)*([1]Mars!$H$6:$H$500<E$3)*([1]Mars!$G$6:$G$500)),SUMPRODUCT(([1]Avril!$D$6:$D$500=$A5)*([1]Avril!$H$6:$H$500>=D$3)*([1]Avril!$H$6:$H$500<E$3)*([1]Avril!$G$6:$G$500)),SUMPRODUCT(([1]Mai!$D$6:$D$500=$A5)*([1]Mai!$H$6:$H$500>=D$3)*([1]Mai!$H$6:$H$500<E$3)*([1]Mai!$G$6:$G$500)),SUMPRODUCT(([1]Juin!$D$6:$D$500=$A5)*([1]Juin!$H$6:$H$500>=D$3)*([1]Juin!$H$6:$H$500<E$3)*([1]Juin!$G$6:$G$500)),SUMPRODUCT(([1]Juillet!$D$6:$D$500=$A5)*([1]Juillet!$H$6:$H$500>=D$3)*([1]Juillet!$H$6:$H$500<E$3)*([1]Juillet!$G$6:$G$500)),SUMPRODUCT(([1]Août!$D$6:$D$500=$A5)*([1]Août!$H$6:$H$500>=D$3)*([1]Août!$H$6:$H$500<E$3)*([1]Août!$G$6:$G$500)),SUMPRODUCT(([1]Septembre!$D$6:$D$500=$A5)*([1]Septembre!$H$6:$H$500>=D$3)*([1]Septembre!$H$6:$H$500<E$3)*([1]Septembre!$G$6:$G$500)),SUMPRODUCT(([1]Octobre!$D$6:$D$500=$A5)*([1]Octobre!$H$6:$H$500>=D$3)*([1]Octobre!$H$6:$H$500<E$3)*([1]Octobre!$G$6:$G$500)),SUMPRODUCT(([1]Novembre!$D$6:$D$500=$A5)*([1]Novembre!$H$6:$H$500>=D$3)*([1]Novembre!$H$6:$H$500<E$3)*([1]Novembre!$G$6:$G$500)),SUMPRODUCT(([1]Décembre!$D$6:$D$500=$A5)*([1]Décembre!$H$6:$H$500>=D$3)*([1]Décembre!$H$6:$H$500<E$3)*([1]Décembre!$G$6:$G$500))),"")} -> 0 | E5: {=IF(ISTEXT($A5),SUM(SUMPRODUCT(([1]Janvier!$D$6:$D$500=$A5)*([1]Janvier!$H$6:$H$500>=E$3)*([1]Janvier!$H$6:$H$500<F$3)*([1]Janvier!$G$6:$G$500)),SUMPRODUCT(([1]Février!$D$6:$D$500=$A5)*([1]Février!$H$6:$H$500>=E$3)*([1]Février!$H$6:$H$500<F$3)*([1]Février!$G$6:$G$500)),SUMPRODUCT(([1]Mars!$D$6:$D$500=$A5)*([1]Mars!$H$6:$H$500>=E$3)*([1]Mars!$H$6:$H$500<F$3)*([1]Mars!$G$6:$G$500)),SUMPRODUCT(([1]Avril!$D$6:$D$500=$A5)*([1]Avril!$H$6:$H$500>=E$3)*([1]Avril!$H$6:$H$500<F$3)*([1]Avril!$G$6:$G$500)),SUMPRODUCT(([1]Mai!$D$6:$D$500=$A5)*([1]Mai!$H$6:$H$500>=E$3)*([1]Mai!$H$6:$H$500<F$3)*([1]Mai!$G$6:$G$500)),SUMPRODUCT(([1]Juin!$D$6:$D$500=$A5)*([1]Juin!$H$6:$H$500>=E$3)*([1]Juin!$H$6:$H$500<F$3)*([1]Juin!$G$6:$G$500)),SUMPRODUCT(([1]Juillet!$D$6:$D$500=$A5)*([1]Juillet!$H$6:$H$500>=E$3)*([1]Juillet!$H$6:$H$500<F$3)*([1]Juillet!$G$6:$G$500)),SUMPRODUCT(([1]Août!$D$6:$D$500=$A5)*([1]Août!$H$6:$H$500>=E$3)*([1]Août!$H$6:$H$500<F$3)*([1]Août!$G$6:$G$500)),SUMPRODUCT(([1]Septembre!$D$6:$D$500=$A5)*([1]Septembre!$H$6:$H$500>=E$3)*([1]Septembre!$H$6:$H$500<F$3)*([1]Septembre!$G$6:$G$500)),SUMPRODUCT(([1]Octobre!$D$6:$D$500=$A5)*([1]Octobre!$H$6:$H$500>=E$3)*([1]Octobre!$H$6:$H$500<F$3)*([1]Octobre!$G$6:$G$500)),SUMPRODUCT(([1]Novembre!$D$6:$D$500=$A5)*([1]Novembre!$H$6:$H$500>=E$3)*([1]Novembre!$H$6:$H$500<F$3)*([1]Novembre!$G$6:$G$500)),SUMPRODUCT(([1]Décembre!$D$6:$D$500=$A5)*([1]Décembre!$H$6:$H$500>=E$3)*([1]Décembre!$H$6:$H$500<F$3)*([1]Décembre!$G$6:$G$500))),"")} -> 0 | F5: {=IF(ISTEXT($A5),SUM(SUMPRODUCT(([1]Janvier!$D$6:$D$500=$A5)*([1]Janvier!$H$6:$H$500>=F$3)*([1]Janvier!$H$6:$H$500<G$3)*([1]Janvier!$G$6:$G$500)),SUMPRODUCT(([1]Février!$D$6:$D$500=$A5)*([1]Février!$H$6:$H$500>=F$3)*([1]Février!$H$6:$H$500<G$3)*([1]Février!$G$6:$G$500)),SUMPRODUCT(([1]Mars!$D$6:$D$500=$A5)*([1]Mars!$H$6:$H$500>=F$3)*([1]Mars!$H$6:$H$500<G$3)*([1]Mars!$G$6:$G$500)),SUMPRODUCT(([1]Avril!$D$6:$D$500=$A5)*([1]Avril!$H$6:$H$500>=F$3)*([1]Avril!$H$6:$H$500<G$3)*([1]Avril!$G$6:$G$500)),SUMPRODUCT(([1]Mai!$D$6:$D$500=$A5)*([1]Mai!$H$6:$H$500>=F$3)*([1]Mai!$H$6:$H$500<G$3)*([1]Mai!$G$6:$G$500)),SUMPRODUCT(([1]Juin!$D$6:$D$500=$A5)*([1]Juin!$H$6:$H$500>=F$3)*([1]Juin!$H$6:$H$500<G$3)*([1]Juin!$G$6:$G$500)),SUMPRODUCT(([1]Juillet!$D$6:$D$500=$A5)*([1]Juillet!$H$6:$H$500>=F$3)*([1]Juillet!$H$6:$H$500<G$3)*([1]Juillet!$G$6:$G$500)),SUMPRODUCT(([1]Août!$D$6:$D$500=$A5)*([1]Août!$H$6:$H$500>=F$3)*([1]Août!$H$6:$H$500<G$3)*([1]Août!$G$6:$G$500)),SUMPRODUCT(([1]Septembre!$D$6:$D$500=$A5)*([1]Septembre!$H$6:$H$500>=F$3)*([1]Septembre!$H$6:$H$500<G$3)*([1]Septembre!$G$6:$G$500)),SUMPRODUCT(([1]Octobre!$D$6:$D$500=$A5)*([1]Octobre!$H$6:$H$500>=F$3)*([1]Octobre!$H$6:$H$500<G$3)*([1]Octobre!$G$6:$G$500)),SUMPRODUCT(([1]Novembre!$D$6:$D$500=$A5)*([1]Novembre!$H$6:$H$500>=F$3)*([1]Novembre!$H$6:$H$500<G$3)*([1]Novembre!$G$6:$G$500)),SUMPRODUCT(([1]Décembre!$D$6:$D$500=$A5)*([1]Décembre!$H$6:$H$500>=F$3)*([1]Décembre!$H$6:$H$500<G$3)*([1]Décembre!$G$6:$G$500))),"")} -> 0 | G5: {=IF(ISTEXT($A5),SUM(SUMPRODUCT(([1]Janvier!$D$6:$D$500=$A5)*([1]Janvier!$H$6:$H$500>=G$3)*([1]Janvier!$H$6:$H$500<H$3)*([1]Janvier!$G$6:$G$500)),SUMPRODUCT(([1]Février!$D$6:$D$500=$A5)*([1]Février!$H$6:$H$500>=G$3)*([1]Février!$H$6:$H$500<H$3)*([1]Février!$G$6:$G$500)),SUMPRODUCT(([1]Mars!$D$6:$D$500=$A5)*([1]Mars!$H$6:$H$500>=G$3)*([1]Mars!$H$6:$H$500<H$3)*([1]Mars!$G$6:$G$500)),SUMPRODUCT(([1]Avril!$D$6:$D$500=$A5)*([1]Avril!$H$6:$H$500>=G$3)*([1]Avril!$H$6:$H$500<H$3)*([1]Avril!$G$6:$G$500)),SUMPRODUCT(([1]Mai!$D$6:$D$500=$A5)*([1]Mai!$H$6:$H$500>=G$3)*([1]Mai!$H$6:$H$500<H$3)*([1]Mai!$G$6:$G$500)),SUMPRODUCT(([1]Juin!$D$6:$D$500=$A5)*([1]Juin!$H$6:$H$500>=G$3)*([1]Juin!$H$6:$H$500<H$3)*([1]Juin!$G$6:$G$500)),SUMPRODUCT(([1]Juillet!$D$6:$D$500=$A5)*([1]Juillet!$H$6:$H$500>=G$3)*([1]Juillet!$H$6:$H$500<H$3)*([1]Juillet!$G$6:$G$500)),SUMPRODUCT(([1]Août!$D$6:$D$500=$A5)*([1]Août!$H$6:$H$500>=G$3)*([1]Août!$H$6:$H$500<H$3)*([1]Août!$G$6:$G$500)),SUMPRODUCT(([1]Septembre!$D$6:$D$500=$A5)*([1]Septembre!$H$6:$H$500>=G$3)*([1]Septembre!$H$6:$H$500<H$3)*([1]Septembre!$G$6:$G$500)),SUMPRODUCT(([1]Octobre!$D$6:$D$500=$A5)*([1]Octobre!$H$6:$H$500>=G$3)*([1]Octobre!$H$6:$H$500<H$3)*([1]Octobre!$G$6:$G$500)),SUMPRODUCT(([1]Novembre!$D$6:$D$500=$A5)*([1]Novembre!$H$6:$H$500>=G$3)*([1]Novembre!$H$6:$H$500<H$3)*([1]Novembre!$G$6:$G$500)),SUMPRODUCT(([1]Décembre!$D$6:$D$500=$A5)*([1]Décembre!$H$6:$H$500>=G$3)*([1]Décembre!$H$6:$H$500<H$3)*([1]Décembre!$G$6:$G$500))),"")} -> 0 | H5: {=IF(ISTEXT($A5),SUM(SUMPRODUCT(([1]Janvier!$D$6:$D$500=$A5)*([1]Janvier!$H$6:$H$500>=H$3)*([1]Janvier!$H$6:$H$500<I$3)*([1]Janvier!$G$6:$G$500)),SUMPRODUCT(([1]Février!$D$6:$D$500=$A5)*([1]Février!$H$6:$H$500>=H$3)*([1]Février!$H$6:$H$500<I$3)*([1]Février!$G$6:$G$500)),SUMPRODUCT(([1]Mars!$D$6:$D$500=$A5)*([1]Mars!$H$6:$H$500>=H$3)*([1]Mars!$H$6:$H$500<I$3)*([1]Mars!$G$6:$G$500)),SUMPRODUCT(([1]Avril!$D$6:$D$500=$A5)*([1]Avril!$H$6:$H$500>=H$3)*([1]Avril!$H$6:$H$500<I$3)*([1]Avril!$G$6:$G$500)),SUMPRODUCT(([1]Mai!$D$6:$D$500=$A5)*([1]Mai!$H$6:$H$500>=H$3)*([1]Mai!$H$6:$H$500<I$3)*([1]Mai!$G$6:$G$500)),SUMPRODUCT(([1]Juin!$D$6:$D$500=$A5)*([1]Juin!$H$6:$H$500>=H$3)*([1]Juin!$H$6:$H$500<I$3)*([1]Juin!$G$6:$G$500)),SUMPRODUCT(([1]Juillet!$D$6:$D$500=$A5)*([1]Juillet!$H$6:$H$500>=H$3)*([1]Juillet!$H$6:$H$500<I$3)*([1]Juillet!$G$6:$G$500)),SUMPRODUCT(([1]Août!$D$6:$D$500=$A5)*([1]Août!$H$6:$H$500>=H$3)*([1]Août!$H$6:$H$500<I$3)*([1]Août!$G$6:$G$500)),SUMPRODUCT(([1]Septembre!$D$6:$D$500=$A5)*([1]Septembre!$H$6:$H$500>=H$3)*([1]Septembre!$H$6:$H$500<I$3)*([1]Septembre!$G$6:$G$500)),SUMPRODUCT(([1]Octobre!$D$6:$D$500=$A5)*([1]Octobre!$H$6:$H$500>=H$3)*([1]Octobre!$H$6:$H$500<I$3)*([1]Octobre!$G$6:$G$500)),SUMPRODUCT(([1]Novembre!$D$6:$D$500=$A5)*([1]Novembre!$H$6:$H$500>=H$3)*([1]Novembre!$H$6:$H$500<I$3)*([1]Novembre!$G$6:$G$500)),SUMPRODUCT(([1]Décembre!$D$6:$D$500=$A5)*([1]Décembre!$H$6:$H$500>=H$3)*([1]Décembre!$H$6:$H$500<I$3)*([1]Décembre!$G$6:$G$500))),"")} -> 0 | I5: {=IF(ISTEXT($A5),SUM(SUMPRODUCT(([1]Janvier!$D$6:$D$500=$A5)*([1]Janvier!$H$6:$H$500>=I$3)*([1]Janvier!$H$6:$H$500<J$3)*([1]Janvier!$G$6:$G$500)),SUMPRODUCT(([1]Février!$D$6:$D$500=$A5)*([1]Février!$H$6:$H$500>=I$3)*([1]Février!$H$6:$H$500<J$3)*([1]Février!$G$6:$G$500)),SUMPRODUCT(([1]Mars!$D$6:$D$500=$A5)*([1]Mars!$H$6:$H$500>=I$3)*([1]Mars!$H$6:$H$500<J$3)*([1]Mars!$G$6:$G$500)),SUMPRODUCT(([1]Avril!$D$6:$D$500=$A5)*([1]Avril!$H$6:$H$500>=I$3)*([1]Avril!$H$6:$H$500<J$3)*([1]Avril!$G$6:$G$500)),SUMPRODUCT(([1]Mai!$D$6:$D$500=$A5)*([1]Mai!$H$6:$H$500>=I$3)*([1]Mai!$H$6:$H$500<J$3)*([1]Mai!$G$6:$G$500)),SUMPRODUCT(([1]Juin!$D$6:$D$500=$A5)*([1]Juin!$H$6:$H$500>=I$3)*([1]Juin!$H$6:$H$500<J$3)*([1]Juin!$G$6:$G$500)),SUMPRODUCT(([1]Juillet!$D$6:$D$500=$A5)*([1]Juillet!$H$6:$H$500>=I$3)*([1]Juillet!$H$6:$H$500<J$3)*([1]Juillet!$G$6:$G$500)),SUMPRODUCT(([1]Août!$D$6:$D$500=$A5)*([1]Août!$H$6:$H$500>=I$3)*([1]Août!$H$6:$H$500<J$3)*([1]Août!$G$6:$G$500)),SUMPRODUCT(([1]Septembre!$D$6:$D$500=$A5)*([1]Septembre!$H$6:$H$500>=I$3)*([1]Septembre!$H$6:$H$500<J$3)*([1]Septembre!$G$6:$G$500)),SUMPRODUCT(([1]Octobre!$D$6:$D$500=$A5)*([1]Octobre!$H$6:$H$500>=I$3)*([1]Octobre!$H$6:$H$500<J$3)*([1]Octobre!$G$6:$G$500)),SUMPRODUCT(([1]Novembre!$D$6:$D$500=$A5)*([1]Novembre!$H$6:$H$500>=I$3)*([1]Novembre!$H$6:$H$500<J$3)*([1]Novembre!$G$6:$G$500)),SUMPRODUCT(([1]Décembre!$D$6:$D$500=$A5)*([1]Décembre!$H$6:$H$500>=I$3)*([1]Décembre!$H$6:$H$500<J$3)*([1]Décembre!$G$6:$G$500))),"")} -> 0 | ... M5: {=IF(ISTEXT($A5),SUM(SUMPRODUCT(([1]Janvier!$D$6:$D$500=$A5)*([1]Janvier!$H$6:$H$500>=M$3)*([1]Janvier!$H$6:$H$500<N$3)*([1]Janvier!$G$6:$G$500)),SUMPRODUCT(([1]Février!$D$6:$D$500=$A5)*([1]Février!$H$6:$H$500>=M$3)*([1]Février!$H$6:$H$500<N$3)*([1]Février!$G$6:$G$500)),SUMPRODUCT(([1]Mars!$D$6:$D$500=$A5)*([1]Mars!$H$6:$H$500>=M$3)*([1]Mars!$H$6:$H$500<N$3)*([1]Mars!$G$6:$G$500)),SUMPRODUCT(([1]Avril!$D$6:$D$500=$A5)*([1]Avril!$H$6:$H$500>=M$3)*([1]Avril!$H$6:$H$500<N$3)*([1]Avril!$G$6:$G$500)),SUMPRODUCT(([1]Mai!$D$6:$D$500=$A5)*([1]Mai!$H$6:$H$500>=M$3)*([1]Mai!$H$6:$H$500<N$3)*([1]Mai!$G$6:$G$500)),SUMPRODUCT(([1]Juin!$D$6:$D$500=$A5)*([1]Juin!$H$6:$H$500>=M$3)*([1]Juin!$H$6:$H$500<N$3)*([1]Juin!$G$6:$G$500)),SUMPRODUCT(([1]Juillet!$D$6:$D$500=$A5)*([1]Juillet!$H$6:$H$500>=M$3)*([1]Juillet!$H$6:$H$500<N$3)*([1]Juillet!$G$6:$G$500)),SUMPRODUCT(([1]Août!$D$6:$D$500=$A5)*([1]Août!$H$6:$H$500>=M$3)*([1]Août!$H$6:$H$500<N$3)*([1]Août!$G$6:$G$500)),SUMPRODUCT(([1]Septembre!$D$6:$D$500=$A5)*([1]Septembre!$H$6:$H$500>=M$3)*([1]Septembre!$H$6:$H$500<N$3)*([1]Septembre!$G$6:$G$500)),SUMPRODUCT(([1]Octobre!$D$6:$D$500=$A5)*([1]Octobre!$H$6:$H$500>=M$3)*([1]Octobre!$H$6:$H$500<N$3)*([1]Octobre!$G$6:$G$500)),SUMPRODUCT(([1]Novembre!$D$6:$D$500=$A5)*([1]Novembre!$H$6:$H$500>=M$3)*([1]Novembre!$H$6:$H$500<N$3)*([1]Novembre!$G$6:$G$500)),SUMPRODUCT(([1]Décembre!$D$6:$D$500=$A5)*([1]Décembre!$H$6:$H$500>=M$3)*([1]Décembre!$H$6:$H$500<N$3)*([1]Décembre!$G$6:$G$500))),"")} -> 0 | O5: =SUM(B5:M5) -> 77
A6: RESTO | B6: {=IF(ISTEXT($A6),SUM(SUMPRODUCT(([1]Janvier!$D$6:$D$500=$A6)*([1]Janvier!$H$6:$H$500>=B$3)*([1]Janvier!$H$6:$H$500<C$3)*([1]Janvier!$G$6:$G$500)),SUMPRODUCT(([1]Février!$D$6:$D$500=$A6)*([1]Février!$H$6:$H$500>=B$3)*([1]Février!$H$6:$H$500<C$3)*([1]Février!$G$6:$G$500)),SUMPRODUCT(([1]Mars!$D$6:$D$500=$A6)*([1]Mars!$H$6:$H$500>=B$3)*([1]Mars!$H$6:$H$500<C$3)*([1]Mars!$G$6:$G$500)),SUMPRODUCT(([1]Avril!$D$6:$D$500=$A6)*([1]Avril!$H$6:$H$500>=B$3)*([1]Avril!$H$6:$H$500<C$3)*([1]Avril!$G$6:$G$500)),SUMPRODUCT(([1]Mai!$D$6:$D$500=$A6)*([1]Mai!$H$6:$H$500>=B$3)*([1]Mai!$H$6:$H$500<C$3)*([1]Mai!$G$6:$G$500)),SUMPRODUCT(([1]Juin!$D$6:$D$500=$A6)*([1]Juin!$H$6:$H$500>=B$3)*([1]Juin!$H$6:$H$500<C$3)*([1]Juin!$G$6:$G$500)),SUMPRODUCT(([1]Juillet!$D$6:$D$500=$A6)*([1]Juillet!$H$6:$H$500>=B$3)*([1]Juillet!$H$6:$H$500<C$3)*([1]Juillet!$G$6:$G$500)),SUMPRODUCT(([1]Août!$D$6:$D$500=$A6)*([1]Août!$H$6:$H$500>=B$3)*([1]Août!$H$6:$H$500<C$3)*([1]Août!$G$6:$G$500)),SUMPRODUCT(([1]Septembre!$D$6:$D$500=$A6)*([1]Septembre!$H$6:$H$500>=B$3)*([1]Septembre!$H$6:$H$500<C$3)*([1]Septembre!$G$6:$G$500)),SUMPRODUCT(([1]Octobre!$D$6:$D$500=$A6)*([1]Octobre!$H$6:$H$500>=B$3)*([1]Octobre!$H$6:$H$500<C$3)*([1]Octobre!$G$6:$G$500)),SUMPRODUCT(([1]Novembre!$D$6:$D$500=$A6)*([1]Novembre!$H$6:$H$500>=B$3)*([1]Novembre!$H$6:$H$500<C$3)*([1]Novembre!$G$6:$G$500)),SUMPRODUCT(([1]Décembre!$D$6:$D$500=$A6)*([1]Décembre!$H$6:$H$500>=B$3)*([1]Décembre!$H$6:$H$500<C$3)*([1]Décembre!$G$6:$G$500))),"")} -> 0 | C6: {=IF(ISTEXT($A6),SUM(SUMPRODUCT(([1]Janvier!$D$6:$D$500=$A6)*([1]Janvier!$H$6:$H$500>=C$3)*([1]Janvier!$H$6:$H$500<D$3)*([1]Janvier!$G$6:$G$500)),SUMPRODUCT(([1]Février!$D$6:$D$500=$A6)*([1]Février!$H$6:$H$500>=C$3)*([1]Février!$H$6:$H$500<D$3)*([1]Février!$G$6:$G$500)),SUMPRODUCT(([1]Mars!$D$6:$D$500=$A6)*([1]Mars!$H$6:$H$500>=C$3)*([1]Mars!$H$6:$H$500<D$3)*([1]Mars!$G$6:$G$500)),SUMPRODUCT(([1]Avril!$D$6:$D$500=$A6)*([1]Avril!$H$6:$H$500>=C$3)*([1]Avril!$H$6:$H$500<D$3)*([1]Avril!$G$6:$G$500)),SUMPRODUCT(([1]Mai!$D$6:$D$500=$A6)*([1]Mai!$H$6:$H$500>=C$3)*([1]Mai!$H$6:$H$500<D$3)*([1]Mai!$G$6:$G$500)),SUMPRODUCT(([1]Juin!$D$6:$D$500=$A6)*([1]Juin!$H$6:$H$500>=C$3)*([1]Juin!$H$6:$H$500<D$3)*([1]Juin!$G$6:$G$500)),SUMPRODUCT(([1]Juillet!$D$6:$D$500=$A6)*([1]Juillet!$H$6:$H$500>=C$3)*([1]Juillet!$H$6:$H$500<D$3)*([1]Juillet!$G$6:$G$500)),SUMPRODUCT(([1]Août!$D$6:$D$500=$A6)*([1]Août!$H$6:$H$500>=C$3)*([1]Août!$H$6:$H$500<D$3)*([1]Août!$G$6:$G$500)),SUMPRODUCT(([1]Septembre!$D$6:$D$500=$A6)*([1]Septembre!$H$6:$H$500>=C$3)*([1]Septembre!$H$6:$H$500<D$3)*([1]Septembre!$G$6:$G$500)),SUMPRODUCT(([1]Octobre!$D$6:$D$500=$A6)*([1]Octobre!$H$6:$H$500>=C$3)*([1]Octobre!$H$6:$H$500<D$3)*([1]Octobre!$G$6:$G$500)),SUMPRODUCT(([1]Novembre!$D$6:$D$500=$A6)*([1]Novembre!$H$6:$H$500>=C$3)*([1]Novembre!$H$6:$H$500<D$3)*([1]Novembre!$G$6:$G$500)),SUMPRODUCT(([1]Décembre!$D$6:$D$500=$A6)*([1]Décembre!$H$6:$H$500>=C$3)*([1]Décembre!$H$6:$H$500<D$3)*([1]Décembre!$G$6:$G$500))),"")} -> 0 | D6: {=IF(ISTEXT($A6),SUM(SUMPRODUCT(([1]Janvier!$D$6:$D$500=$A6)*([1]Janvier!$H$6:$H$500>=D$3)*([1]Janvier!$H$6:$H$500<E$3)*([1]Janvier!$G$6:$G$500)),SUMPRODUCT(([1]Février!$D$6:$D$500=$A6)*([1]Février!$H$6:$H$500>=D$3)*([1]Février!$H$6:$H$500<E$3)*([1]Février!$G$6:$G$500)),SUMPRODUCT(([1]Mars!$D$6:$D$500=$A6)*([1]Mars!$H$6:$H$500>=D$3)*([1]Mars!$H$6:$H$500<E$3)*([1]Mars!$G$6:$G$500)),SUMPRODUCT(([1]Avril!$D$6:$D$500=$A6)*([1]Avril!$H$6:$H$500>=D$3)*([1]Avril!$H$6:$H$500<E$3)*([1]Avril!$G$6:$G$500)),SUMPRODUCT(([1]Mai!$D$6:$D$500=$A6)*([1]Mai!$H$6:$H$500>=D$3)*([1]Mai!$H$6:$H$500<E$3)*([1]Mai!$G$6:$G$500)),SUMPRODUCT(([1]Juin!$D$6:$D$500=$A6)*([1]Juin!$H$6:$H$500>=D$3)*([1]Juin!$H$6:$H$500<E$3)*([1]Juin!$G$6:$G$500)),SUMPRODUCT(([1]Juillet!$D$6:$D$500=$A6)*([1]Juillet!$H$6:$H$500>=D$3)*([1]Juillet!$H$6:$H$500<E$3)*([1]Juillet!$G$6:$G$500)),SUMPRODUCT(([1]Août!$D$6:$D$500=$A6)*([1]Août!$H$6:$H$500>=D$3)*([1]Août!$H$6:$H$500<E$3)*([1]Août!$G$6:$G$500)),SUMPRODUCT(([1]Septembre!$D$6:$D$500=$A6)*([1]Septembre!$H$6:$H$500>=D$3)*([1]Septembre!$H$6:$H$500<E$3)*([1]Septembre!$G$6:$G$500)),SUMPRODUCT(([1]Octobre!$D$6:$D$500=$A6)*([1]Octobre!$H$6:$H$500>=D$3)*([1]Octobre!$H$6:$H$500<E$3)*([1]Octobre!$G$6:$G$500)),SUMPRODUCT(([1]Novembre!$D$6:$D$500=$A6)*([1]Novembre!$H$6:$H$500>=D$3)*([1]Novembre!$H$6:$H$500<E$3)*([1]Novembre!$G$6:$G$500)),SUMPRODUCT(([1]Décembre!$D$6:$D$500=$A6)*([1]Décembre!$H$6:$H$500>=D$3)*([1]Décembre!$H$6:$H$500<E$3)*([1]Décembre!$G$6:$G$500))),"")} -> 0 | E6: {=IF(ISTEXT($A6),SUM(SUMPRODUCT(([1]Janvier!$D$6:$D$500=$A6)*([1]Janvier!$H$6:$H$500>=E$3)*([1]Janvier!$H$6:$H$500<F$3)*([1]Janvier!$G$6:$G$500)),SUMPRODUCT(([1]Février!$D$6:$D$500=$A6)*([1]Février!$H$6:$H$500>=E$3)*([1]Février!$H$6:$H$500<F$3)*([1]Février!$G$6:$G$500)),SUMPRODUCT(([1]Mars!$D$6:$D$500=$A6)*([1]Mars!$H$6:$H$500>=E$3)*([1]Mars!$H$6:$H$500<F$3)*([1]Mars!$G$6:$G$500)),SUMPRODUCT(([1]Avril!$D$6:$D$500=$A6)*([1]Avril!$H$6:$H$500>=E$3)*([1]Avril!$H$6:$H$500<F$3)*([1]Avril!$G$6:$G$500)),SUMPRODUCT(([1]Mai!$D$6:$D$500=$A6)*([1]Mai!$H$6:$H$500>=E$3)*([1]Mai!$H$6:$H$500<F$3)*([1]Mai!$G$6:$G$500)),SUMPRODUCT(([1]Juin!$D$6:$D$500=$A6)*([1]Juin!$H$6:$H$500>=E$3)*([1]Juin!$H$6:$H$500<F$3)*([1]Juin!$G$6:$G$500)),SUMPRODUCT(([1]Juillet!$D$6:$D$500=$A6)*([1]Juillet!$H$6:$H$500>=E$3)*([1]Juillet!$H$6:$H$500<F$3)*([1]Juillet!$G$6:$G$500)),SUMPRODUCT(([1]Août!$D$6:$D$500=$A6)*([1]Août!$H$6:$H$500>=E$3)*([1]Août!$H$6:$H$500<F$3)*([1]Août!$G$6:$G$500)),SUMPRODUCT(([1]Septembre!$D$6:$D$500=$A6)*([1]Septembre!$H$6:$H$500>=E$3)*([1]Septembre!$H$6:$H$500<F$3)*([1]Septembre!$G$6:$G$500)),SUMPRODUCT(([1]Octobre!$D$6:$D$500=$A6)*([1]Octobre!$H$6:$H$500>=E$3)*([1]Octobre!$H$6:$H$500<F$3)*([1]Octobre!$G$6:$G$500)),SUMPRODUCT(([1]Novembre!$D$6:$D$500=$A6)*([1]Novembre!$H$6:$H$500>=E$3)*([1]Novembre!$H$6:$H$500<F$3)*([1]Novembre!$G$6:$G$500)),SUMPRODUCT(([1]Décembre!$D$6:$D$500=$A6)*([1]Décembre!$H$6:$H$500>=E$3)*([1]Décembre!$H$6:$H$500<F$3)*([1]Décembre!$G$6:$G$500))),"")} -> 0 | F6: {=IF(ISTEXT($A6),SUM(SUMPRODUCT(([1]Janvier!$D$6:$D$500=$A6)*([1]Janvier!$H$6:$H$500>=F$3)*([1]Janvier!$H$6:$H$500<G$3)*([1]Janvier!$G$6:$G$500)),SUMPRODUCT(([1]Février!$D$6:$D$500=$A6)*([1]Février!$H$6:$H$500>=F$3)*([1]Février!$H$6:$H$500<G$3)*([1]Février!$G$6:$G$500)),SUMPRODUCT(([1]Mars!$D$6:$D$500=$A6)*([1]Mars!$H$6:$H$500>=F$3)*([1]Mars!$H$6:$H$500<G$3)*([1]Mars!$G$6:$G$500)),SUMPRODUCT(([1]Avril!$D$6:$D$500=$A6)*([1]Avril!$H$6:$H$500>=F$3)*([1]Avril!$H$6:$H$500<G$3)*([1]Avril!$G$6:$G$500)),SUMPRODUCT(([1]Mai!$D$6:$D$500=$A6)*([1]Mai!$H$6:$H$500>=F$3)*([1]Mai!$H$6:$H$500<G$3)*([1]Mai!$G$6:$G$500)),SUMPRODUCT(([1]Juin!$D$6:$D$500=$A6)*([1]Juin!$H$6:$H$500>=F$3)*([1]Juin!$H$6:$H$500<G$3)*([1]Juin!$G$6:$G$500)),SUMPRODUCT(([1]Juillet!$D$6:$D$500=$A6)*([1]Juillet!$H$6:$H$500>=F$3)*([1]Juillet!$H$6:$H$500<G$3)*([1]Juillet!$G$6:$G$500)),SUMPRODUCT(([1]Août!$D$6:$D$500=$A6)*([1]Août!$H$6:$H$500>=F$3)*([1]Août!$H$6:$H$500<G$3)*([1]Août!$G$6:$G$500)),SUMPRODUCT(([1]Septembre!$D$6:$D$500=$A6)*([1]Septembre!$H$6:$H$500>=F$3)*([1]Septembre!$H$6:$H$500<G$3)*([1]Septembre!$G$6:$G$500)),SUMPRODUCT(([1]Octobre!$D$6:$D$500=$A6)*([1]Octobre!$H$6:$H$500>=F$3)*([1]Octobre!$H$6:$H$500<G$3)*([1]Octobre!$G$6:$G$500)),SUMPRODUCT(([1]Novembre!$D$6:$D$500=$A6)*([1]Novembre!$H$6:$H$500>=F$3)*([1]Novembre!$H$6:$H$500<G$3)*([1]Novembre!$G$6:$G$500)),SUMPRODUCT(([1]Décembre!$D$6:$D$500=$A6)*([1]Décembre!$H$6:$H$500>=F$3)*([1]Décembre!$H$6:$H$500<G$3)*([1]Décembre!$G$6:$G$500))),"")} -> 0 | G6: {=IF(ISTEXT($A6),SUM(SUMPRODUCT(([1]Janvier!$D$6:$D$500=$A6)*([1]Janvier!$H$6:$H$500>=G$3)*([1]Janvier!$H$6:$H$500<H$3)*([1]Janvier!$G$6:$G$500)),SUMPRODUCT(([1]Février!$D$6:$D$500=$A6)*([1]Février!$H$6:$H$500>=G$3)*([1]Février!$H$6:$H$500<H$3)*([1]Février!$G$6:$G$500)),SUMPRODUCT(([1]Mars!$D$6:$D$500=$A6)*([1]Mars!$H$6:$H$500>=G$3)*([1]Mars!$H$6:$H$500<H$3)*([1]Mars!$G$6:$G$500)),SUMPRODUCT(([1]Avril!$D$6:$D$500=$A6)*([1]Avril!$H$6:$H$500>=G$3)*([1]Avril!$H$6:$H$500<H$3)*([1]Avril!$G$6:$G$500)),SUMPRODUCT(([1]Mai!$D$6:$D$500=$A6)*([1]Mai!$H$6:$H$500>=G$3)*([1]Mai!$H$6:$H$500<H$3)*([1]Mai!$G$6:$G$500)),SUMPRODUCT(([1]Juin!$D$6:$D$500=$A6)*([1]Juin!$H$6:$H$500>=G$3)*([1]Juin!$H$6:$H$500<H$3)*([1]Juin!$G$6:$G$500)),SUMPRODUCT(([1]Juillet!$D$6:$D$500=$A6)*([1]Juillet!$H$6:$H$500>=G$3)*([1]Juillet!$H$6:$H$500<H$3)*([1]Juillet!$G$6:$G$500)),SUMPRODUCT(([1]Août!$D$6:$D$500=$A6)*([1]Août!$H$6:$H$500>=G$3)*([1]Août!$H$6:$H$500<H$3)*([1]Août!$G$6:$G$500)),SUMPRODUCT(([1]Septembre!$D$6:$D$500=$A6)*([1]Septembre!$H$6:$H$500>=G$3)*([1]Septembre!$H$6:$H$500<H$3)*([1]Septembre!$G$6:$G$500)),SUMPRODUCT(([1]Octobre!$D$6:$D$500=$A6)*([1]Octobre!$H$6:$H$500>=G$3)*([1]Octobre!$H$6:$H$500<H$3)*([1]Octobre!$G$6:$G$500)),SUMPRODUCT(([1]Novembre!$D$6:$D$500=$A6)*([1]Novembre!$H$6:$H$500>=G$3)*([1]Novembre!$H$6:$H$500<H$3)*([1]Novembre!$G$6:$G$500)),SUMPRODUCT(([1]Décembre!$D$6:$D$500=$A6)*([1]Décembre!$H$6:$H$500>=G$3)*([1]Décembre!$H$6:$H$500<H$3)*([1]Décembre!$G$6:$G$500))),"")} -> 0 | H6: {=IF(ISTEXT($A6),SUM(SUMPRODUCT(([1]Janvier!$D$6:$D$500=$A6)*([1]Janvier!$H$6:$H$500>=H$3)*([1]Janvier!$H$6:$H$500<I$3)*([1]Janvier!$G$6:$G$500)),SUMPRODUCT(([1]Février!$D$6:$D$500=$A6)*([1]Février!$H$6:$H$500>=H$3)*([1]Février!$H$6:$H$500<I$3)*([1]Février!$G$6:$G$500)),SUMPRODUCT(([1]Mars!$D$6:$D$500=$A6)*([1]Mars!$H$6:$H$500>=H$3)*([1]Mars!$H$6:$H$500<I$3)*([1]Mars!$G$6:$G$500)),SUMPRODUCT(([1]Avril!$D$6:$D$500=$A6)*([1]Avril!$H$6:$H$500>=H$3)*([1]Avril!$H$6:$H$500<I$3)*([1]Avril!$G$6:$G$500)),SUMPRODUCT(([1]Mai!$D$6:$D$500=$A6)*([1]Mai!$H$6:$H$500>=H$3)*([1]Mai!$H$6:$H$500<I$3)*([1]Mai!$G$6:$G$500)),SUMPRODUCT(([1]Juin!$D$6:$D$500=$A6)*([1]Juin!$H$6:$H$500>=H$3)*([1]Juin!$H$6:$H$500<I$3)*([1]Juin!$G$6:$G$500)),SUMPRODUCT(([1]Juillet!$D$6:$D$500=$A6)*([1]Juillet!$H$6:$H$500>=H$3)*([1]Juillet!$H$6:$H$500<I$3)*([1]Juillet!$G$6:$G$500)),SUMPRODUCT(([1]Août!$D$6:$D$500=$A6)*([1]Août!$H$6:$H$500>=H$3)*([1]Août!$H$6:$H$500<I$3)*([1]Août!$G$6:$G$500)),SUMPRODUCT(([1]Septembre!$D$6:$D$500=$A6)*([1]Septembre!$H$6:$H$500>=H$3)*([1]Septembre!$H$6:$H$500<I$3)*([1]Septembre!$G$6:$G$500)),SUMPRODUCT(([1]Octobre!$D$6:$D$500=$A6)*([1]Octobre!$H$6:$H$500>=H$3)*([1]Octobre!$H$6:$H$500<I$3)*([1]Octobre!$G$6:$G$500)),SUMPRODUCT(([1]Novembre!$D$6:$D$500=$A6)*([1]Novembre!$H$6:$H$500>=H$3)*([1]Novembre!$H$6:$H$500<I$3)*([1]Novembre!$G$6:$G$500)),SUMPRODUCT(([1]Décembre!$D$6:$D$500=$A6)*([1]Décembre!$H$6:$H$500>=H$3)*([1]Décembre!$H$6:$H$500<I$3)*([1]Décembre!$G$6:$G$500))),"")} -> 0 | I6: {=IF(ISTEXT($A6),SUM(SUMPRODUCT(([1]Janvier!$D$6:$D$500=$A6)*([1]Janvier!$H$6:$H$500>=I$3)*([1]Janvier!$H$6:$H$500<J$3)*([1]Janvier!$G$6:$G$500)),SUMPRODUCT(([1]Février!$D$6:$D$500=$A6)*([1]Février!$H$6:$H$500>=I$3)*([1]Février!$H$6:$H$500<J$3)*([1]Février!$G$6:$G$500)),SUMPRODUCT(([1]Mars!$D$6:$D$500=$A6)*([1]Mars!$H$6:$H$500>=I$3)*([1]Mars!$H$6:$H$500<J$3)*([1]Mars!$G$6:$G$500)),SUMPRODUCT(([1]Avril!$D$6:$D$500=$A6)*([1]Avril!$H$6:$H$500>=I$3)*([1]Avril!$H$6:$H$500<J$3)*([1]Avril!$G$6:$G$500)),SUMPRODUCT(([1]Mai!$D$6:$D$500=$A6)*([1]Mai!$H$6:$H$500>=I$3)*([1]Mai!$H$6:$H$500<J$3)*([1]Mai!$G$6:$G$500)),SUMPRODUCT(([1]Juin!$D$6:$D$500=$A6)*([1]Juin!$H$6:$H$500>=I$3)*([1]Juin!$H$6:$H$500<J$3)*([1]Juin!$G$6:$G$500)),SUMPRODUCT(([1]Juillet!$D$6:$D$500=$A6)*([1]Juillet!$H$6:$H$500>=I$3)*([1]Juillet!$H$6:$H$500<J$3)*([1]Juillet!$G$6:$G$500)),SUMPRODUCT(([1]Août!$D$6:$D$500=$A6)*([1]Août!$H$6:$H$500>=I$3)*([1]Août!$H$6:$H$500<J$3)*([1]Août!$G$6:$G$500)),SUMPRODUCT(([1]Septembre!$D$6:$D$500=$A6)*([1]Septembre!$H$6:$H$500>=I$3)*([1]Septembre!$H$6:$H$500<J$3)*([1]Septembre!$G$6:$G$500)),SUMPRODUCT(([1]Octobre!$D$6:$D$500=$A6)*([1]Octobre!$H$6:$H$500>=I$3)*([1]Octobre!$H$6:$H$500<J$3)*([1]Octobre!$G$6:$G$500)),SUMPRODUCT(([1]Novembre!$D$6:$D$500=$A6)*([1]Novembre!$H$6:$H$500>=I$3)*([1]Novembre!$H$6:$H$500<J$3)*([1]Novembre!$G$6:$G$500)),SUMPRODUCT(([1]Décembre!$D$6:$D$500=$A6)*([1]Décembre!$H$6:$H$500>=I$3)*([1]Décembre!$H$6:$H$500<J$3)*([1]Décembre!$G$6:$G$500))),"")} -> 0 | ... M6: {=IF(ISTEXT($A6),SUM(SUMPRODUCT(([1]Janvier!$D$6:$D$500=$A6)*([1]Janvier!$H$6:$H$500>=M$3)*([1]Janvier!$H$6:$H$500<N$3)*([1]Janvier!$G$6:$G$500)),SUMPRODUCT(([1]Février!$D$6:$D$500=$A6)*([1]Février!$H$6:$H$500>=M$3)*([1]Février!$H$6:$H$500<N$3)*([1]Février!$G$6:$G$500)),SUMPRODUCT(([1]Mars!$D$6:$D$500=$A6)*([1]Mars!$H$6:$H$500>=M$3)*([1]Mars!$H$6:$H$500<N$3)*([1]Mars!$G$6:$G$500)),SUMPRODUCT(([1]Avril!$D$6:$D$500=$A6)*([1]Avril!$H$6:$H$500>=M$3)*([1]Avril!$H$6:$H$500<N$3)*([1]Avril!$G$6:$G$500)),SUMPRODUCT(([1]Mai!$D$6:$D$500=$A6)*([1]Mai!$H$6:$H$500>=M$3)*([1]Mai!$H$6:$H$500<N$3)*([1]Mai!$G$6:$G$500)),SUMPRODUCT(([1]Juin!$D$6:$D$500=$A6)*([1]Juin!$H$6:$H$500>=M$3)*([1]Juin!$H$6:$H$500<N$3)*([1]Juin!$G$6:$G$500)),SUMPRODUCT(([1]Juillet!$D$6:$D$500=$A6)*([1]Juillet!$H$6:$H$500>=M$3)*([1]Juillet!$H$6:$H$500<N$3)*([1]Juillet!$G$6:$G$500)),SUMPRODUCT(([1]Août!$D$6:$D$500=$A6)*([1]Août!$H$6:$H$500>=M$3)*([1]Août!$H$6:$H$500<N$3)*([1]Août!$G$6:$G$500)),SUMPRODUCT(([1]Septembre!$D$6:$D$500=$A6)*([1]Septembre!$H$6:$H$500>=M$3)*([1]Septembre!$H$6:$H$500<N$3)*([1]Septembre!$G$6:$G$500)),SUMPRODUCT(([1]Octobre!$D$6:$D$500=$A6)*([1]Octobre!$H$6:$H$500>=M$3)*([1]Octobre!$H$6:$H$500<N$3)*([1]Octobre!$G$6:$G$500)),SUMPRODUCT(([1]Novembre!$D$6:$D$500=$A6)*([1]Novembre!$H$6:$H$500>=M$3)*([1]Novembre!$H$6:$H$500<N$3)*([1]Novembre!$G$6:$G$500)),SUMPRODUCT(([1]Décembre!$D$6:$D$500=$A6)*([1]Décembre!$H$6:$H$500>=M$3)*([1]Décembre!$H$6:$H$500<N$3)*([1]Décembre!$G$6:$G$500))),"")} -> 0 | O6: =SUM(B6:M6) -> 0
A7: FOURN | B7: {=IF(ISTEXT($A7),SUM(SUMPRODUCT(([1]Janvier!$D$6:$D$500=$A7)*([1]Janvier!$H$6:$H$500>=B$3)*([1]Janvier!$H$6:$H$500<C$3)*([1]Janvier!$G$6:$G$500)),SUMPRODUCT(([1]Février!$D$6:$D$500=$A7)*([1]Février!$H$6:$H$500>=B$3)*([1]Février!$H$6:$H$500<C$3)*([1]Février!$G$6:$G$500)),SUMPRODUCT(([1]Mars!$D$6:$D$500=$A7)*([1]Mars!$H$6:$H$500>=B$3)*([1]Mars!$H$6:$H$500<C$3)*([1]Mars!$G$6:$G$500)),SUMPRODUCT(([1]Avril!$D$6:$D$500=$A7)*([1]Avril!$H$6:$H$500>=B$3)*([1]Avril!$H$6:$H$500<C$3)*([1]Avril!$G$6:$G$500)),SUMPRODUCT(([1]Mai!$D$6:$D$500=$A7)*([1]Mai!$H$6:$H$500>=B$3)*([1]Mai!$H$6:$H$500<C$3)*([1]Mai!$G$6:$G$500)),SUMPRODUCT(([1]Juin!$D$6:$D$500=$A7)*([1]Juin!$H$6:$H$500>=B$3)*([1]Juin!$H$6:$H$500<C$3)*([1]Juin!$G$6:$G$500)),SUMPRODUCT(([1]Juillet!$D$6:$D$500=$A7)*([1]Juillet!$H$6:$H$500>=B$3)*([1]Juillet!$H$6:$H$500<C$3)*([1]Juillet!$G$6:$G$500)),SUMPRODUCT(([1]Août!$D$6:$D$500=$A7)*([1]Août!$H$6:$H$500>=B$3)*([1]Août!$H$6:$H$500<C$3)*([1]Août!$G$6:$G$500)),SUMPRODUCT(([1]Septembre!$D$6:$D$500=$A7)*([1]Septembre!$H$6:$H$500>=B$3)*([1]Septembre!$H$6:$H$500<C$3)*([1]Septembre!$G$6:$G$500)),SUMPRODUCT(([1]Octobre!$D$6:$D$500=$A7)*([1]Octobre!$H$6:$H$500>=B$3)*([1]Octobre!$H$6:$H$500<C$3)*([1]Octobre!$G$6:$G$500)),SUMPRODUCT(([1]Novembre!$D$6:$D$500=$A7)*([1]Novembre!$H$6:$H$500>=B$3)*([1]Novembre!$H$6:$H$500<C$3)*([1]Novembre!$G$6:$G$500)),SUMPRODUCT(([1]Décembre!$D$6:$D$500=$A7)*([1]Décembre!$H$6:$H$500>=B$3)*([1]Décembre!$H$6:$H$500<C$3)*([1]Décembre!$G$6:$G$500))),"")} -> 0 | C7: {=IF(ISTEXT($A7),SUM(SUMPRODUCT(([1]Janvier!$D$6:$D$500=$A7)*([1]Janvier!$H$6:$H$500>=C$3)*([1]Janvier!$H$6:$H$500<D$3)*([1]Janvier!$G$6:$G$500)),SUMPRODUCT(([1]Février!$D$6:$D$500=$A7)*([1]Février!$H$6:$H$500>=C$3)*([1]Février!$H$6:$H$500<D$3)*([1]Février!$G$6:$G$500)),SUMPRODUCT(([1]Mars!$D$6:$D$500=$A7)*([1]Mars!$H$6:$H$500>=C$3)*([1]Mars!$H$6:$H$500<D$3)*([1]Mars!$G$6:$G$500)),SUMPRODUCT(([1]Avril!$D$6:$D$500=$A7)*([1]Avril!$H$6:$H$500>=C$3)*([1]Avril!$H$6:$H$500<D$3)*([1]Avril!$G$6:$G$500)),SUMPRODUCT(([1]Mai!$D$6:$D$500=$A7)*([1]Mai!$H$6:$H$500>=C$3)*([1]Mai!$H$6:$H$500<D$3)*([1]Mai!$G$6:$G$500)),SUMPRODUCT(([1]Juin!$D$6:$D$500=$A7)*([1]Juin!$H$6:$H$500>=C$3)*([1]Juin!$H$6:$H$500<D$3)*([1]Juin!$G$6:$G$500)),SUMPRODUCT(([1]Juillet!$D$6:$D$500=$A7)*([1]Juillet!$H$6:$H$500>=C$3)*([1]Juillet!$H$6:$H$500<D$3)*([1]Juillet!$G$6:$G$500)),SUMPRODUCT(([1]Août!$D$6:$D$500=$A7)*([1]Août!$H$6:$H$500>=C$3)*([1]Août!$H$6:$H$500<D$3)*([1]Août!$G$6:$G$500)),SUMPRODUCT(([1]Septembre!$D$6:$D$500=$A7)*([1]Septembre!$H$6:$H$500>=C$3)*([1]Septembre!$H$6:$H$500<D$3)*([1]Septembre!$G$6:$G$500)),SUMPRODUCT(([1]Octobre!$D$6:$D$500=$A7)*([1]Octobre!$H$6:$H$500>=C$3)*([1]Octobre!$H$6:$H$500<D$3)*([1]Octobre!$G$6:$G$500)),SUMPRODUCT(([1]Novembre!$D$6:$D$500=$A7)*([1]Novembre!$H$6:$H$500>=C$3)*([1]Novembre!$H$6:$H$500<D$3)*([1]Novembre!$G$6:$G$500)),SUMPRODUCT(([1]Décembre!$D$6:$D$500=$A7)*([1]Décembre!$H$6:$H$500>=C$3)*([1]Décembre!$H$6:$H$500<D$3)*([1]Décembre!$G$6:$G$500))),"")} -> 0 | D7: {=IF(ISTEXT($A7),SUM(SUMPRODUCT(([1]Janvier!$D$6:$D$500=$A7)*([1]Janvier!$H$6:$H$500>=D$3)*([1]Janvier!$H$6:$H$500<E$3)*([1]Janvier!$G$6:$G$500)),SUMPRODUCT(([1]Février!$D$6:$D$500=$A7)*([1]Février!$H$6:$H$500>=D$3)*([1]Février!$H$6:$H$500<E$3)*([1]Février!$G$6:$G$500)),SUMPRODUCT(([1]Mars!$D$6:$D$500=$A7)*([1]Mars!$H$6:$H$500>=D$3)*([1]Mars!$H$6:$H$500<E$3)*([1]Mars!$G$6:$G$500)),SUMPRODUCT(([1]Avril!$D$6:$D$500=$A7)*([1]Avril!$H$6:$H$500>=D$3)*([1]Avril!$H$6:$H$500<E$3)*([1]Avril!$G$6:$G$500)),SUMPRODUCT(([1]Mai!$D$6:$D$500=$A7)*([1]Mai!$H$6:$H$500>=D$3)*([1]Mai!$H$6:$H$500<E$3)*([1]Mai!$G$6:$G$500)),SUMPRODUCT(([1]Juin!$D$6:$D$500=$A7)*([1]Juin!$H$6:$H$500>=D$3)*([1]Juin!$H$6:$H$500<E$3)*([1]Juin!$G$6:$G$500)),SUMPRODUCT(([1]Juillet!$D$6:$D$500=$A7)*([1]Juillet!$H$6:$H$500>=D$3)*([1]Juillet!$H$6:$H$500<E$3)*([1]Juillet!$G$6:$G$500)),SUMPRODUCT(([1]Août!$D$6:$D$500=$A7)*([1]Août!$H$6:$H$500>=D$3)*([1]Août!$H$6:$H$500<E$3)*([1]Août!$G$6:$G$500)),SUMPRODUCT(([1]Septembre!$D$6:$D$500=$A7)*([1]Septembre!$H$6:$H$500>=D$3)*([1]Septembre!$H$6:$H$500<E$3)*([1]Septembre!$G$6:$G$500)),SUMPRODUCT(([1]Octobre!$D$6:$D$500=$A7)*([1]Octobre!$H$6:$H$500>=D$3)*([1]Octobre!$H$6:$H$500<E$3)*([1]Octobre!$G$6:$G$500)),SUMPRODUCT(([1]Novembre!$D$6:$D$500=$A7)*([1]Novembre!$H$6:$H$500>=D$3)*([1]Novembre!$H$6:$H$500<E$3)*([1]Novembre!$G$6:$G$500)),SUMPRODUCT(([1]Décembre!$D$6:$D$500=$A7)*([1]Décembre!$H$6:$H$500>=D$3)*([1]Décembre!$H$6:$H$500<E$3)*([1]Décembre!$G$6:$G$500))),"")} -> 0 | E7: {=IF(ISTEXT($A7),SUM(SUMPRODUCT(([1]Janvier!$D$6:$D$500=$A7)*([1]Janvier!$H$6:$H$500>=E$3)*([1]Janvier!$H$6:$H$500<F$3)*([1]Janvier!$G$6:$G$500)),SUMPRODUCT(([1]Février!$D$6:$D$500=$A7)*([1]Février!$H$6:$H$500>=E$3)*([1]Février!$H$6:$H$500<F$3)*([1]Février!$G$6:$G$500)),SUMPRODUCT(([1]Mars!$D$6:$D$500=$A7)*([1]Mars!$H$6:$H$500>=E$3)*([1]Mars!$H$6:$H$500<F$3)*([1]Mars!$G$6:$G$500)),SUMPRODUCT(([1]Avril!$D$6:$D$500=$A7)*([1]Avril!$H$6:$H$500>=E$3)*([1]Avril!$H$6:$H$500<F$3)*([1]Avril!$G$6:$G$500)),SUMPRODUCT(([1]Mai!$D$6:$D$500=$A7)*([1]Mai!$H$6:$H$500>=E$3)*([1]Mai!$H$6:$H$500<F$3)*([1]Mai!$G$6:$G$500)),SUMPRODUCT(([1]Juin!$D$6:$D$500=$A7)*([1]Juin!$H$6:$H$500>=E$3)*([1]Juin!$H$6:$H$500<F$3)*([1]Juin!$G$6:$G$500)),SUMPRODUCT(([1]Juillet!$D$6:$D$500=$A7)*([1]Juillet!$H$6:$H$500>=E$3)*([1]Juillet!$H$6:$H$500<F$3)*([1]Juillet!$G$6:$G$500)),SUMPRODUCT(([1]Août!$D$6:$D$500=$A7)*([1]Août!$H$6:$H$500>=E$3)*([1]Août!$H$6:$H$500<F$3)*([1]Août!$G$6:$G$500)),SUMPRODUCT(([1]Septembre!$D$6:$D$500=$A7)*([1]Septembre!$H$6:$H$500>=E$3)*([1]Septembre!$H$6:$H$500<F$3)*([1]Septembre!$G$6:$G$500)),SUMPRODUCT(([1]Octobre!$D$6:$D$500=$A7)*([1]Octobre!$H$6:$H$500>=E$3)*([1]Octobre!$H$6:$H$500<F$3)*([1]Octobre!$G$6:$G$500)),SUMPRODUCT(([1]Novembre!$D$6:$D$500=$A7)*([1]Novembre!$H$6:$H$500>=E$3)*([1]Novembre!$H$6:$H$500<F$3)*([1]Novembre!$G$6:$G$500)),SUMPRODUCT(([1]Décembre!$D$6:$D$500=$A7)*([1]Décembre!$H$6:$H$500>=E$3)*([1]Décembre!$H$6:$H$500<F$3)*([1]Décembre!$G$6:$G$500))),"")} -> 0 | F7: {=IF(ISTEXT($A7),SUM(SUMPRODUCT(([1]Janvier!$D$6:$D$500=$A7)*([1]Janvier!$H$6:$H$500>=F$3)*([1]Janvier!$H$6:$H$500<G$3)*([1]Janvier!$G$6:$G$500)),SUMPRODUCT(([1]Février!$D$6:$D$500=$A7)*([1]Février!$H$6:$H$500>=F$3)*([1]Février!$H$6:$H$500<G$3)*([1]Février!$G$6:$G$500)),SUMPRODUCT(([1]Mars!$D$6:$D$500=$A7)*([1]Mars!$H$6:$H$500>=F$3)*([1]Mars!$H$6:$H$500<G$3)*([1]Mars!$G$6:$G$500)),SUMPRODUCT(([1]Avril!$D$6:$D$500=$A7)*([1]Avril!$H$6:$H$500>=F$3)*([1]Avril!$H$6:$H$500<G$3)*([1]Avril!$G$6:$G$500)),SUMPRODUCT(([1]Mai!$D$6:$D$500=$A7)*([1]Mai!$H$6:$H$500>=F$3)*([1]Mai!$H$6:$H$500<G$3)*([1]Mai!$G$6:$G$500)),SUMPRODUCT(([1]Juin!$D$6:$D$500=$A7)*([1]Juin!$H$6:$H$500>=F$3)*([1]Juin!$H$6:$H$500<G$3)*([1]Juin!$G$6:$G$500)),SUMPRODUCT(([1]Juillet!$D$6:$D$500=$A7)*([1]Juillet!$H$6:$H$500>=F$3)*([1]Juillet!$H$6:$H$500<G$3)*([1]Juillet!$G$6:$G$500)),SUMPRODUCT(([1]Août!$D$6:$D$500=$A7)*([1]Août!$H$6:$H$500>=F$3)*([1]Août!$H$6:$H$500<G$3)*([1]Août!$G$6:$G$500)),SUMPRODUCT(([1]Septembre!$D$6:$D$500=$A7)*([1]Septembre!$H$6:$H$500>=F$3)*([1]Septembre!$H$6:$H$500<G$3)*([1]Septembre!$G$6:$G$500)),SUMPRODUCT(([1]Octobre!$D$6:$D$500=$A7)*([1]Octobre!$H$6:$H$500>=F$3)*([1]Octobre!$H$6:$H$500<G$3)*([1]Octobre!$G$6:$G$500)),SUMPRODUCT(([1]Novembre!$D$6:$D$500=$A7)*([1]Novembre!$H$6:$H$500>=F$3)*([1]Novembre!$H$6:$H$500<G$3)*([1]Novembre!$G$6:$G$500)),SUMPRODUCT(([1]Décembre!$D$6:$D$500=$A7)*([1]Décembre!$H$6:$H$500>=F$3)*([1]Décembre!$H$6:$H$500<G$3)*([1]Décembre!$G$6:$G$500))),"")} -> 0 | G7: {=IF(ISTEXT($A7),SUM(SUMPRODUCT(([1]Janvier!$D$6:$D$500=$A7)*([1]Janvier!$H$6:$H$500>=G$3)*([1]Janvier!$H$6:$H$500<H$3)*([1]Janvier!$G$6:$G$500)),SUMPRODUCT(([1]Février!$D$6:$D$500=$A7)*([1]Février!$H$6:$H$500>=G$3)*([1]Février!$H$6:$H$500<H$3)*([1]Février!$G$6:$G$500)),SUMPRODUCT(([1]Mars!$D$6:$D$500=$A7)*([1]Mars!$H$6:$H$500>=G$3)*([1]Mars!$H$6:$H$500<H$3)*([1]Mars!$G$6:$G$500)),SUMPRODUCT(([1]Avril!$D$6:$D$500=$A7)*([1]Avril!$H$6:$H$500>=G$3)*([1]Avril!$H$6:$H$500<H$3)*([1]Avril!$G$6:$G$500)),SUMPRODUCT(([1]Mai!$D$6:$D$500=$A7)*([1]Mai!$H$6:$H$500>=G$3)*([1]Mai!$H$6:$H$500<H$3)*([1]Mai!$G$6:$G$500)),SUMPRODUCT(([1]Juin!$D$6:$D$500=$A7)*([1]Juin!$H$6:$H$500>=G$3)*([1]Juin!$H$6:$H$500<H$3)*([1]Juin!$G$6:$G$500)),SUMPRODUCT(([1]Juillet!$D$6:$D$500=$A7)*([1]Juillet!$H$6:$H$500>=G$3)*([1]Juillet!$H$6:$H$500<H$3)*([1]Juillet!$G$6:$G$500)),SUMPRODUCT(([1]Août!$D$6:$D$500=$A7)*([1]Août!$H$6:$H$500>=G$3)*([1]Août!$H$6:$H$500<H$3)*([1]Août!$G$6:$G$500)),SUMPRODUCT(([1]Septembre!$D$6:$D$500=$A7)*([1]Septembre!$H$6:$H$500>=G$3)*([1]Septembre!$H$6:$H$500<H$3)*([1]Septembre!$G$6:$G$500)),SUMPRODUCT(([1]Octobre!$D$6:$D$500=$A7)*([1]Octobre!$H$6:$H$500>=G$3)*([1]Octobre!$H$6:$H$500<H$3)*([1]Octobre!$G$6:$G$500)),SUMPRODUCT(([1]Novembre!$D$6:$D$500=$A7)*([1]Novembre!$H$6:$H$500>=G$3)*([1]Novembre!$H$6:$H$500<H$3)*([1]Novembre!$G$6:$G$500)),SUMPRODUCT(([1]Décembre!$D$6:$D$500=$A7)*([1]Décembre!$H$6:$H$500>=G$3)*([1]Décembre!$H$6:$H$500<H$3)*([1]Décembre!$G$6:$G$500))),"")} -> 0 | H7: {=IF(ISTEXT($A7),SUM(SUMPRODUCT(([1]Janvier!$D$6:$D$500=$A7)*([1]Janvier!$H$6:$H$500>=H$3)*([1]Janvier!$H$6:$H$500<I$3)*([1]Janvier!$G$6:$G$500)),SUMPRODUCT(([1]Février!$D$6:$D$500=$A7)*([1]Février!$H$6:$H$500>=H$3)*([1]Février!$H$6:$H$500<I$3)*([1]Février!$G$6:$G$500)),SUMPRODUCT(([1]Mars!$D$6:$D$500=$A7)*([1]Mars!$H$6:$H$500>=H$3)*([1]Mars!$H$6:$H$500<I$3)*([1]Mars!$G$6:$G$500)),SUMPRODUCT(([1]Avril!$D$6:$D$500=$A7)*([1]Avril!$H$6:$H$500>=H$3)*([1]Avril!$H$6:$H$500<I$3)*([1]Avril!$G$6:$G$500)),SUMPRODUCT(([1]Mai!$D$6:$D$500=$A7)*([1]Mai!$H$6:$H$500>=H$3)*([1]Mai!$H$6:$H$500<I$3)*([1]Mai!$G$6:$G$500)),SUMPRODUCT(([1]Juin!$D$6:$D$500=$A7)*([1]Juin!$H$6:$H$500>=H$3)*([1]Juin!$H$6:$H$500<I$3)*([1]Juin!$G$6:$G$500)),SUMPRODUCT(([1]Juillet!$D$6:$D$500=$A7)*([1]Juillet!$H$6:$H$500>=H$3)*([1]Juillet!$H$6:$H$500<I$3)*([1]Juillet!$G$6:$G$500)),SUMPRODUCT(([1]Août!$D$6:$D$500=$A7)*([1]Août!$H$6:$H$500>=H$3)*([1]Août!$H$6:$H$500<I$3)*([1]Août!$G$6:$G$500)),SUMPRODUCT(([1]Septembre!$D$6:$D$500=$A7)*([1]Septembre!$H$6:$H$500>=H$3)*([1]Septembre!$H$6:$H$500<I$3)*([1]Septembre!$G$6:$G$500)),SUMPRODUCT(([1]Octobre!$D$6:$D$500=$A7)*([1]Octobre!$H$6:$H$500>=H$3)*([1]Octobre!$H$6:$H$500<I$3)*([1]Octobre!$G$6:$G$500)),SUMPRODUCT(([1]Novembre!$D$6:$D$500=$A7)*([1]Novembre!$H$6:$H$500>=H$3)*([1]Novembre!$H$6:$H$500<I$3)*([1]Novembre!$G$6:$G$500)),SUMPRODUCT(([1]Décembre!$D$6:$D$500=$A7)*([1]Décembre!$H$6:$H$500>=H$3)*([1]Décembre!$H$6:$H$500<I$3)*([1]Décembre!$G$6:$G$500))),"")} -> 0 | I7: {=IF(ISTEXT($A7),SUM(SUMPRODUCT(([1]Janvier!$D$6:$D$500=$A7)*([1]Janvier!$H$6:$H$500>=I$3)*([1]Janvier!$H$6:$H$500<J$3)*([1]Janvier!$G$6:$G$500)),SUMPRODUCT(([1]Février!$D$6:$D$500=$A7)*([1]Février!$H$6:$H$500>=I$3)*([1]Février!$H$6:$H$500<J$3)*([1]Février!$G$6:$G$500)),SUMPRODUCT(([1]Mars!$D$6:$D$500=$A7)*([1]Mars!$H$6:$H$500>=I$3)*([1]Mars!$H$6:$H$500<J$3)*([1]Mars!$G$6:$G$500)),SUMPRODUCT(([1]Avril!$D$6:$D$500=$A7)*([1]Avril!$H$6:$H$500>=I$3)*([1]Avril!$H$6:$H$500<J$3)*([1]Avril!$G$6:$G$500)),SUMPRODUCT(([1]Mai!$D$6:$D$500=$A7)*([1]Mai!$H$6:$H$500>=I$3)*([1]Mai!$H$6:$H$500<J$3)*([1]Mai!$G$6:$G$500)),SUMPRODUCT(([1]Juin!$D$6:$D$500=$A7)*([1]Juin!$H$6:$H$500>=I$3)*([1]Juin!$H$6:$H$500<J$3)*([1]Juin!$G$6:$G$500)),SUMPRODUCT(([1]Juillet!$D$6:$D$500=$A7)*([1]Juillet!$H$6:$H$500>=I$3)*([1]Juillet!$H$6:$H$500<J$3)*([1]Juillet!$G$6:$G$500)),SUMPRODUCT(([1]Août!$D$6:$D$500=$A7)*([1]Août!$H$6:$H$500>=I$3)*([1]Août!$H$6:$H$500<J$3)*([1]Août!$G$6:$G$500)),SUMPRODUCT(([1]Septembre!$D$6:$D$500=$A7)*([1]Septembre!$H$6:$H$500>=I$3)*([1]Septembre!$H$6:$H$500<J$3)*([1]Septembre!$G$6:$G$500)),SUMPRODUCT(([1]Octobre!$D$6:$D$500=$A7)*([1]Octobre!$H$6:$H$500>=I$3)*([1]Octobre!$H$6:$H$500<J$3)*([1]Octobre!$G$6:$G$500)),SUMPRODUCT(([1]Novembre!$D$6:$D$500=$A7)*([1]Novembre!$H$6:$H$500>=I$3)*([1]Novembre!$H$6:$H$500<J$3)*([1]Novembre!$G$6:$G$500)),SUMPRODUCT(([1]Décembre!$D$6:$D$500=$A7)*([1]Décembre!$H$6:$H$500>=I$3)*([1]Décembre!$H$6:$H$500<J$3)*([1]Décembre!$G$6:$G$500))),"")} -> 0 | ... M7: {=IF(ISTEXT($A7),SUM(SUMPRODUCT(([1]Janvier!$D$6:$D$500=$A7)*([1]Janvier!$H$6:$H$500>=M$3)*([1]Janvier!$H$6:$H$500<N$3)*([1]Janvier!$G$6:$G$500)),SUMPRODUCT(([1]Février!$D$6:$D$500=$A7)*([1]Février!$H$6:$H$500>=M$3)*([1]Février!$H$6:$H$500<N$3)*([1]Février!$G$6:$G$500)),SUMPRODUCT(([1]Mars!$D$6:$D$500=$A7)*([1]Mars!$H$6:$H$500>=M$3)*([1]Mars!$H$6:$H$500<N$3)*([1]Mars!$G$6:$G$500)),SUMPRODUCT(([1]Avril!$D$6:$D$500=$A7)*([1]Avril!$H$6:$H$500>=M$3)*([1]Avril!$H$6:$H$500<N$3)*([1]Avril!$G$6:$G$500)),SUMPRODUCT(([1]Mai!$D$6:$D$500=$A7)*([1]Mai!$H$6:$H$500>=M$3)*([1]Mai!$H$6:$H$500<N$3)*([1]Mai!$G$6:$G$500)),SUMPRODUCT(([1]Juin!$D$6:$D$500=$A7)*([1]Juin!$H$6:$H$500>=M$3)*([1]Juin!$H$6:$H$500<N$3)*([1]Juin!$G$6:$G$500)),SUMPRODUCT(([1]Juillet!$D$6:$D$500=$A7)*([1]Juillet!$H$6:$H$500>=M$3)*([1]Juillet!$H$6:$H$500<N$3)*([1]Juillet!$G$6:$G$500)),SUMPRODUCT(([1]Août!$D$6:$D$500=$A7)*([1]Août!$H$6:$H$500>=M$3)*([1]Août!$H$6:$H$500<N$3)*([1]Août!$G$6:$G$500)),SUMPRODUCT(([1]Septembre!$D$6:$D$500=$A7)*([1]Septembre!$H$6:$H$500>=M$3)*([1]Septembre!$H$6:$H$500<N$3)*([1]Septembre!$G$6:$G$500)),SUMPRODUCT(([1]Octobre!$D$6:$D$500=$A7)*([1]Octobre!$H$6:$H$500>=M$3)*([1]Octobre!$H$6:$H$500<N$3)*([1]Octobre!$G$6:$G$500)),SUMPRODUCT(([1]Novembre!$D$6:$D$500=$A7)*([1]Novembre!$H$6:$H$500>=M$3)*([1]Novembre!$H$6:$H$500<N$3)*([1]Novembre!$G$6:$G$500)),SUMPRODUCT(([1]Décembre!$D$6:$D$500=$A7)*([1]Décembre!$H$6:$H$500>=M$3)*([1]Décembre!$H$6:$H$500<N$3)*([1]Décembre!$G$6:$G$500))),"")} -> 0 | O7: =SUM(B7:M7) -> 43.13
