Workbook

Sheet Dépenses
A1: DEPENSES 2021
A3: REPARTITION | B3: 44197 | C3: 44228 | D3: 44256 | E3: 44287 | F3: 44317 | G3: 44348 | H3: 44378 | I3: 44409 | J3: 44440 | K3: 44470 | L3: 44501 | M3: 44531 | O3: Total
A4: DON | B4: {=IF(ISTEXT($A4),SUM(SUMPRODUCT(([1]Janvier!$D$6:$D$500=$A4)*([1]Janvier!$H$6:$H$500>=B$3)*([1]Janvier!$H$6:$H$500<C$3)*([1]Janvier!$G$6:$G$500)),SUMPRODUCT(([1]Février!$D$6:$D$500=$A4)*([1]Février!$H$6:$H$500>=B$3)*([1]Février!$H$6:$H$500<C$3)*([1]Février!$G$6:$G$500)),SUMPRODUCT(([1]Mars!$D$6:$D$500=$A4)*([1]Mars!$H$6:$H$500>=B$3)*([1]Mars!$H$6:$H$500<C$3)*([1]Mars!$G$6:$G$500)),SUMPRODUCT(([1]Avril!$D$6:$D$500=$A4)*([1]Avril!$H$6:$H$500>=B$3)*([1]Avril!$H$6:$H$500<C$3)*([1]Avril!$G$6:$G$500)),SUMPRODUCT(([1]Mai!$D$6:$D$500=$A4)*([1]Mai!$H$6:$H$500>=B$3)*([1]Mai!$H$6:$H$500<C$3)*([1]Mai!$G$6:$G$500)),SUMPRODUCT(([1]Juin!$D$6:$D$500=$A4)*([1]Juin!$H$6:$H$500>=B$3)*([1]Juin!$H$6:$H$500<C$3)*([1]Juin!$G$6:$G$500)),SUMPRODUCT(([1]Juillet!$D$6:$D$500=$A4)*([1]Juillet!$H$6:$H$500>=B$3)*([1]Juillet!$H$6:$H$500<C$3)*([1]Juillet!$G$6:$G$500)),SUMPRODUCT(([1]Août!$D$6:$D$500=$A4)*([1]Août!$H$6:$H$500>=B$3)*([1]Août!$H$6:$H$500<C$3)*([1]Août!$G$6:$G$500)),SUMPRODUCT(([1]Septembre!$D$6:$D$500=$A4)*([1]Septembre!$H$6:$H$500>=B$3)*([1]Septembre!$H$6:$H$500<C$3)*([1]Septembre!$G$6:$G$500)),SUMPRODUCT(([1]Octobre!$D$6:$D$500=$A4)*([1]Octobre!$H$6:$H$500>=B$3)*([1]Octobre!$H$6:$H$500<C$3)*([1]Octobre!$G$6:$G$500)),SUMPRODUCT(([1]Novembre!$D$6:$D$500=$A4)*([1]Novembre!$H$6:$H$500>=B$3)*([1]Novembre!$H$6:$H$500<C$3)*([1]Novembre!$G$6:$G$500)),SUMPRODUCT(([1]Décembre!$D$6:$D$500=$A4)*([1]Décembre!$H$6:$H$500>=B$3)*([1]Décembre!$H$6:$H$500<C$3)*([1]Décembre!$G$6:$G$500))),"")} -> 0 | C4: {=IF(ISTEXT($A4),SUM(SUMPRODUCT(([1]Janvier!$D$6:$D$500=$A4)*([1]Janvier!$H$6:$H$500>=C$3)*([1]Janvier!$H$6:$H$500<D$3)*([1]Janvier!$G$6:$G$500)),SUMPRODUCT(([1]Février!$D$6:$D$500=$A4)*([1]Février!$H$6:$H$500>=C$3)*([1]Février!$H$6:$H$500<D$3)*([1]Février!$G$6:$G$500)),SUMPRODUCT(([1]Mars!$D$6:$D$500=$A4)*([1]Mars!$H$6:$H$500>=C$3)*([1]Mars!$H$6:$H$500<D$3)*([1]Mars!$G$6:$G$500)),SUMPRODUCT(([1]Avril!$D$6:$D$500=$A4)*([1]Avril!$H$6:$H$500>=C$3)*([1]Avril!$H$6:$H$500<D$3)*([1]Avril!$G$6:$G$500)),SUMPRODUCT(([1]Mai!$D$6:$D$500=$A4)*([1]Mai!$H$6:$H$500>=C$3)*([1]Mai!$H$6:$H$500<D$3)*([1]Mai!$G$6:$G$500)),SUMPRODUCT(([1]Juin!$D$6:$D$500=$A4)*([1]Juin!$H$6:$H$500>=C$3)*([1]Juin!$H$6:$H$500<D$3)*([1]Juin!$G$6:$G$500)),SUMPRODUCT(([1]Juillet!$D$6:$D$500=$A4)*([1]Juillet!$H$6:$H$500>=C$3)*([1]Juillet!$H$6:$H$500<D$3)*([1]Juillet!$G$6:$G$500)),SUMPRODUCT(([1]Août!$D$6:$D$500=$A4)*([1]Août!$H$6:$H$500>=C$3)*([1]Août!$H$6:$H$500<D$3)*([1]Août!$G$6:$G$500)),SUMPRODUCT(([1]Septembre!$D$6:$D$500=$A4)*([1]Septembre!$H$6:$H$500>=C$3)*([1]Septembre!$H$6:$H$500<D$3)*([1]Septembre!$G$6:$G$500)),SUMPRODUCT(([1]Octobre!$D$6:$D$500=$A4)*([1]Octobre!$H$6:$H$500>=C$3)*([1]Octobre!$H$6:$H$500<D$3)*([1]Octobre!$G$6:$G$500)),SUMPRODUCT(([1]Novembre!$D$6:$D$500=$A4)*([1]Novembre!$H$6:$H$500>=C$3)*([1]Novembre!$H$6:$H$500<D$3)*([1]Novembre!$G$6:$G$500)),SUMPRODUCT(([1]Décembre!$D$6:$D$500=$A4)*([1]Décembre!$H$6:$H$500>=C$3)*([1]Décembre!$H$6:$H$500<D$3)*([1]Décembre!$G$6:$G$500))),"")} -> 0 | D4: {=IF(ISTEXT($A4),SUM(SUMPRODUCT(([1]Janvier!$D$6:$D$500=$A4)*([1]Janvier!$H$6:$H$500>=D$3)*([1]Janvier!$H$6:$H$500<E$3)*([1]Janvier!$G$6:$G$500)),SUMPRODUCT(([1]Février!$D$6:$D$500=$A4)*([1]Février!$H$6:$H$500>=D$3)*([1]Février!$H$6:$H$500<E$3)*([1]Février!$G$6:$G$500)),SUMPRODUCT(([1]Mars!$D$6:$D$500=$A4)*([1]Mars!$H$6:$H$500>=D$3)*([1]Mars!$H$6:$H$500<E$3)*([1]Mars!$G$6:$G$500)),SUMPRODUCT(([1]Avril!$D$6:$D$500=$A4)*([1]Avril!$H$6:$H$500>=D$3)*([1]Avril!$H$6:$H$500<E$3)*([1]Avril!$G$6:$G$500)),SUMPRODUCT(([1]Mai!$D$6:$D$500=$A4)*([1]Mai!$H$6:$H$500>=D$3)*([1]Mai!$H$6:$H$500<E$3)*([1]Mai!$G$6:$G$500)),SUMPRODUCT(([1]Juin!$D$6:$D$500=$A4)*([1]Juin!$H$6:$H$500>=D$3)*([1]Juin!$H$6:$H$500<E$3)*([1]Juin!$G$6:$G$500)),SUMPRODUCT(([1]Juillet!$D$6:$D$500=$A4)*([1]Juillet!$H$6:$H$500>=D$3)*([1]Juillet!$H$6:$H$500<E$3)*([1]Juillet!$G$6:$G$500)),SUMPRODUCT(([1]Août!$D$6:$D$500=$A4)*([1]Août!$H$6:$H$500>=D$3)*([1]Août!$H$6:$H$500<E$3)*([1]Août!$G$6:$G$500)),SUMPRODUCT(([1]Septembre!$D$6:$D$500=$A4)*([1]Septembre!$H$6:$H$500>=D$3)*([1]Septembre!$H$6:$H$500<E$3)*([1]Septembre!$G$6:$G$500)),SUMPRODUCT(([1]Octobre!$D$6:$D$500=$A4)*([1]Octobre!$H$6:$H$500>=D$3)*([1]Octobre!$H$6:$H$500<E$3)*([1]Octobre!$G$6:$G$500)),SUMPRODUCT(([1]Novembre!$D$6:$D$500=$A4)*([1]Novembre!$H$6:$H$500>=D$3)*([1]Novembre!$H$6:$H$500<E$3)*([1]Novembre!$G$6:$G$500)),SUMPRODUCT(([1]Décembre!$D$6:$D$500=$A4)*([1]Décembre!$H$6:$H$500>=D$3)*([1]Décembre!$H$6:$H$500<E$3)*([1]Décembre!$G$6:$G$500))),"")} -> 0 | E4: {=IF(ISTEXT($A4),SUM(SUMPRODUCT(([1]Janvier!$D$6:$D$500=$A4)*([1]Janvier!$H$6:$H$500>=E$3)*([1]Janvier!$H$6:$H$500<F$3)*([1]Janvier!$G$6:$G$500)),SUMPRODUCT(([1]Février!$D$6:$D$500=$A4)*([1]Février!$H$6:$H$500>=E$3)*([1]Février!$H$6:$H$500<F$3)*([1]Février!$G$6:$G$500)),SUMPRODUCT(([1]Mars!$D$6:$D$500=$A4)*([1]Mars!$H$6:$H$500>=E$3)*([1]Mars!$H$6:$H$500<F$3)*([1]Mars!$G$6:$G$500)),SUMPRODUCT(([1]Avril!$D$6:$D$500=$A4)*([1]Avril!$H$6:$H$500>=E$3)*([1]Avril!$H$6:$H$500<F$3)*([1]Avril!$G$6:$G$500)),SUMPRODUCT(([1]Mai!$D$6:$D$500=$A4)*([1]Mai!$H$6:$H$500>=E$3)*([1]Mai!$H$6:$H$500<F$3)*([1]Mai!$G$6:$G$500)),SUMPRODUCT(([1]Juin!$D$6:$D$500=$A4)*([1]Juin!$H$6:$H$500>=E$3)*([1]Juin!$H$6:$H$500<F$3)*([1]Juin!$G$6:$G$500)),SUMPRODUCT(([1]Juillet!$D$6:$D$500=$A4)*([1]Juillet!$H$6:$H$500>=E$3)*([1]Juillet!$H$6:$H$500<F$3)*([1]Juillet!$G$6:$G$500)),SUMPRODUCT(([1]Août!$D$6:$D$500=$A4)*([1]Août!$H$6:$H$500>=E$3)*([1]Août!$H$6:$H$500<F$3)*([1]Août!$G$6:$G$500)),SUMPRODUCT(([1]Septembre!$D$6:$D$500=$A4)*([1]Septembre!$H$6:$H$500>=E$3)*([1]Septembre!$H$6:$H$500<F$3)*([1]Septembre!$G$6:$G$500)),SUMPRODUCT(([1]Octobre!$D$6:$D$500=$A4)*([1]Octobre!$H$6:$H$500>=E$3)*([1]Octobre!$H$6:$H$500<F$3)*([1]Octobre!$G$6:$G$500)),SUMPRODUCT(([1]Novembre!$D$6:$D$500=$A4)*([1]Novembre!$H$6:$H$500>=E$3)*([1]Novembre!$H$6:$H$500<F$3)*([1]Novembre!$G$6:$G$500)),SUMPRODUCT(([1]Décembre!$D$6:$D$500=$A4)*([1]Décembre!$H$6:$H$500>=E$3)*([1]Décembre!$H$6:$H$500<F$3)*([1]Décembre!$G$6:$G$500))),"")} -> 0 | F4: {=IF(ISTEXT($A4),SUM(SUMPRODUCT(([1]Janvier!$D$6:$D$500=$A4)*([1]Janvier!$H$6:$H$500>=F$3)*([1]Janvier!$H$6:$H$500<G$3)*([1]Janvier!$G$6:$G$500)),SUMPRODUCT(([1]Février!$D$6:$D$500=$A4)*([1]Février!$H$6:$H$500>=F$3)*([1]Février!$H$6:$H$500<G$3)*([1]Février!$G$6:$G$500)),SUMPRODUCT(([1]Mars!$D$6:$D$500=$A4)*([1]Mars!$H$6:$H$500>=F$3)*([1]Mars!$H$6:$H$500<G$3)*([1]Mars!$G$6:$G$500)),SUMPRODUCT(([1]Avril!$D$6:$D$500=$A4)*([1]Avril!$H$6:$H$500>=F$3)*([1]Avril!$H$6:$H$500<G$3)*([1]Avril!$G$6:$G$500)),SUMPRODUCT(([1]Mai!$D$6:$D$500=$A4)*([1]Mai!$H$6:$H$500>=F$3)*([1]Mai!$H$6:$H$500<G$3)*([1]Mai!$G$6:$G$500)),SUMPRODUCT(([1]Juin!$D$6:$D$500=$A4)*([1]Juin!$H$6:$H$500>=F$3)*([1]Juin!$H$6:$H$500<G$3)*([1]Juin!$G$6:$G$500)),SUMPRODUCT(([1]Juillet!$D$6:$D$500=$A4)*([1]Juillet!$H$6:$H$500>=F$3)*([1]Juillet!$H$6:$H$500<G$3)*([1]Juillet!$G$6:$G$500)),SUMPRODUCT(([1]Août!$D$6:$D$500=$A4)*([1]Août!$H$6:$H$500>=F$3)*([1]Août!$H$6:$H$500<G$3)*([1]Août!$G$6:$G$500)),SUMPRODUCT(([1]Septembre!$D$6:$D$500=$A4)*([1]Septembre!$H$6:$H$500>=F$3)*([1]Septembre!$H$6:$H$500<G$3)*([1]Septembre!$G$6:$G$500)),SUMPRODUCT(([1]Octobre!$D$6:$D$500=$A4)*([1]Octobre!$H$6:$H$500>=F$3)*([1]Octobre!$H$6:$H$500<G$3)*([1]Octobre!$G$6:$G$500)),SUMPRODUCT(([1]Novembre!$D$6:$D$500=$A4)*([1]Novembre!$H$6:$H$500>=F$3)*([1]Novembre!$H$6:$H$500<G$3)*([1]Novembre!$G$6:$G$500)),SUMPRODUCT(([1]Décembre!$D$6:$D$500=$A4)*([1]Décembre!$H$6:$H$500>=F$3)*([1]Décembre!$H$6:$H$500<G$3)*([1]Décembre!$G$6:$G$500))),"")} -> 0 | G4: {=IF(ISTEXT($A4),SUM(SUMPRODUCT(([1]Janvier!$D$6:$D$500=$A4)*([1]Janvier!$H$6:$H$500>=G$3)*([1]Janvier!$H$6:$H$500<H$3)*([1]Janvier!$G$6:$G$500)),SUMPRODUCT(([1]Février!$D$6:$D$500=$A4)*([1]Février!$H$6:$H$500>=G$3)*([1]Février!$H$6:$H$500<H$3)*([1]Février!$G$6:$G$500)),SUMPRODUCT(([1]Mars!$D$6:$D$500=$A4)*([1]Mars!$H$6:$H$500>=G$3)*([1]Mars!$H$6:$H$500<H$3)*([1]Mars!$G$6:$G$500)),SUMPRODUCT(([1]Avril!$D$6:$D$500=$A4)*([1]Avril!$H$6:$H$500>=G$3)*([1]Avril!$H$6:$H$500<H$3)*([1]Avril!$G$6:$G$500)),SUMPRODUCT(([1]Mai!$D$6:$D$500=$A4)*([1]Mai!$H$6:$H$500>=G$3)*([1]Mai!$H$6:$H$500<H$3)*([1]Mai!$G$6:$G$500)),SUMPRODUCT(([1]Juin!$D$6:$D$500=$A4)*([1]Juin!$H$6:$H$500>=G$3)*([1]Juin!$H$6:$H$500<H$3)*([1]Juin!$G$6:$G$500)),SUMPRODUCT(([1]Juillet!$D$6:$D$500=$A4)*([1]Juillet!$H$6:$H$500>=G$3)*([1]Juillet!$H$6:$H$500<H$3)*([1]Juillet!$G$6:$G$500)),SUMPRODUCT(([1]Août!$D$6:$D$500=$A4)*([1]Août!$H$6:$H$500>=G$3)*([1]Août!$H$6:$H$500<H$3)*([1]Août!$G$6:$G$500)),SUMPRODUCT(([1]Septembre!$D$6:$D$500=$A4)*([1]Septembre!$H$6:$H$500>=G$3)*([1]Septembre!$H$6:$H$500<H$3)*([1]Septembre!$G$6:$G$500)),SUMPRODUCT(([1]Octobre!$D$6:$D$500=$A4)*([1]Octobre!$H$6:$H$500>=G$3)*([1]Octobre!$H$6:$H$500<H$3)*([1]Octobre!$G$6:$G$500)),SUMPRODUCT(([1]Novembre!$D$6:$D$500=$A4)*([1]Novembre!$H$6:$H$500>=G$3)*([1]Novembre!$H$6:$H$500<H$3)*([1]Novembre!$G$6:$G$500)),SUMPRODUCT(([1]Décembre!$D$6:$D$500=$A4)*([1]Décembre!$H$6:$H$500>=G$3)*([1]Décembre!$H$6:$H$500<H$3)*([1]Décembre!$G$6:$G$500))),"")} -> 0 | H4: {=IF(ISTEXT($A4),SUM(SUMPRODUCT(([1]Janvier!$D$6:$D$500=$A4)*([1]Janvier!$H$6:$H$500>=H$3)*([1]Janvier!$H$6:$H$500<I$3)*([1]Janvier!$G$6:$G$500)),SUMPRODUCT(([1]Février!$D$6:$D$500=$A4)*([1]Février!$H$6:$H$500>=H$3)*([1]Février!$H$6:$H$500<I$3)*([1]Février!$G$6:$G$500)),SUMPRODUCT(([1]Mars!$D$6:$D$500=$A4)*([1]Mars!$H$6:$H$500>=H$3)*([1]Mars!$H$6:$H$500<I$3)*([1]Mars!$G$6:$G$500)),SUMPRODUCT(([1]Avril!$D$6:$D$500=$A4)*([1]Avril!$H$6:$H$500>=H$3)*([1]Avril!$H$6:$H$500<I$3)*([1]Avril!$G$6:$G$500)),SUMPRODUCT(([1]Mai!$D$6:$D$500=$A4)*([1]Mai!$H$6:$H$500>=H$3)*([1]Mai!$H$6:$H$500<I$3)*([1]Mai!$G$6:$G$500)),SUMPRODUCT(([1]Juin!$D$6:$D$500=$A4)*([1]Juin!$H$6:$H$500>=H$3)*([1]Juin!$H$6:$H$500<I$3)*([1]Juin!$G$6:$G$500)),SUMPRODUCT(([1]Juillet!$D$6:$D$500=$A4)*([1]Juillet!$H$6:$H$500>=H$3)*([1]Juillet!$H$6:$H$500<I$3)*([1]Juillet!$G$6:$G$500)),SUMPRODUCT(([1]Août!$D$6:$D$500=$A4)*([1]Août!$H$6:$H$500>=H$3)*([1]Août!$H$6:$H$500<I$3)*([1]Août!$G$6:$G$500)),SUMPRODUCT(([1]Septembre!$D$6:$D$500=$A4)*([1]Septembre!$H$6:$H$500>=H$3)*([1]Septembre!$H$6:$H$500<I$3)*([1]Septembre!$G$6:$G$500)),SUMPRODUCT(([1]Octobre!$D$6:$D$500=$A4)*([1]Octobre!$H$6:$H$500>=H$3)*([1]Octobre!$H$6:$H$500<I$3)*([1]Octobre!$G$6:$G$500)),SUMPRODUCT(([1]Novembre!$D$6:$D$500=$A4)*([1]Novembre!$H$6:$H$500>=H$3)*([1]Novembre!$H$6:$H$500<I$3)*([1]Novembre!$G$6:$G$500)),SUMPRODUCT(([1]Décembre!$D$6:$D$500=$A4)*([1]Décembre!$H$6:$H$500>=H$3)*([1]Décembre!$H$6:$H$500<I$3)*([1]Décembre!$G$6:$G$500))),"")} -> 0 | I4: {=IF(ISTEXT($A4),SUM(SUMPRODUCT(([1]Janvier!$D$6:$D$500=$A4)*([1]Janvier!$H$6:$H$500>=I$3)*([1]Janvier!$H$6:$H$500<J$3)*([1]Janvier!$G$6:$G$500)),SUMPRODUCT(([1]Février!$D$6:$D$500=$A4)*([1]Février!$H$6:$H$500>=I$3)*([1]Février!$H$6:$H$500<J$3)*([1]Février!$G$6:$G$500)),SUMPRODUCT(([1]Mars!$D$6:$D$500=$A4)*([1]Mars!$H$6:$H$500>=I$3)*([1]Mars!$H$6:$H$500<J$3)*([1]Mars!$G$6:$G$500)),SUMPRODUCT(([1]Avril!$D$6:$D$500=$A4)*([1]Avril!$H$6:$H$500>=I$3)*([1]Avril!$H$6:$H$500<J$3)*([1]Avril!$G$6:$G$500)),SUMPRODUCT(([1]Mai!$D$6:$D$500=$A4)*([1]Mai!$H$6:$H$500>=I$3)*([1]Mai!$H$6:$H$500<J$3)*([1]Mai!$G$6:$G$500)),SUMPRODUCT(([1]Juin!$D$6:$D$500=$A4)*([1]Juin!$H$6:$H$500>=I$3)*([1]Juin!$H$6:$H$500<J$3)*([1]Juin!$G$6:$G$500)),SUMPRODUCT(([1]Juillet!$D$6:$D$500=$A4)*([1]Juillet!$H$6:$H$500>=I$3)*([1]Juillet!$H$6:$H$500<J$3)*([1]Juillet!$G$6:$G$500)),SUMPRODUCT(([1]Août!$D$6:$D$500=$A4)*([1]Août!$H$6:$H$500>=I$3)*([1]Août!$H$6:$H$500<J$3)*([1]Août!$G$6:$G$500)),SUMPRODUCT(([1]Septembre!$D$6:$D$500=$A4)*([1]Septembre!$H$6:$H$500>=I$3)*([1]Septembre!$H$6:$H$500<J$3)*([1]Septembre!$G$6:$G$500)),SUMPRODUCT(([1]Octobre!$D$6:$D$500=$A4)*([1]Octobre!$H$6:$H$500>=I$3)*([1]Octobre!$H$6:$H$500<J$3)*([1]Octobre!$G$6:$G$500)),SUMPRODUCT(([1]Novembre!$D$6:$D$500=$A4)*([1]Novembre!$H$6:$H$500>=I$3)*([1]Novembre!$H$6:$H$500<J$3)*([1]Novembre!$G$6:$G$500)),SUMPRODUCT(([1]Décembre!$D$6:$D$500=$A4)*([1]Décembre!$H$6:$H$500>=I$3)*([1]Décembre!$H$6:$H$500<J$3)*([1]Décembre!$G$6:$G$500))),"")} -> 0 | ... M4: {=IF(ISTEXT($A4),SUM(SUMPRODUCT(([1]Janvier!$D$6:$D$500=$A4)*([1]Janvier!$H$6:$H$500>=M$3)*([1]Janvier!$H$6:$H$500<N$3)*([1]Janvier!$G$6:$G$500)),SUMPRODUCT(([1]Février!$D$6:$D$500=$A4)*([1]Février!$H$6:$H$500>=M$3)*([1]Février!$H$6:$H$500<N$3)*([1]Février!$G$6:$G$500)),SUMPRODUCT(([1]Mars!$D$6:$D$500=$A4)*([1]Mars!$H$6:$H$500>=M$3)*([1]Mars!$H$6:$H$500<N$3)*([1]Mars!$G$6:$G$500)),SUMPRODUCT(([1]Avril!$D$6:$D$500=$A4)*([1]Avril!$H$6:$H$500>=M$3)*([1]Avril!$H$6:$H$500<N$3)*([1]Avril!$G$6:$G$500)),SUMPRODUCT(([1]Mai!$D$6:$D$500=$A4)*([1]Mai!$H$6:$H$500>=M$3)*([1]Mai!$H$6:$H$500<N$3)*([1]Mai!$G$6:$G$500)),SUMPRODUCT(([1]Juin!$D$6:$D$500=$A4)*([1]Juin!$H$6:$H$500>=M$3)*([1]Juin!$H$6:$H$500<N$3)*([1]Juin!$G$6:$G$500)),SUMPRODUCT(([1]Juillet!$D$6:$D$500=$A4)*([1]Juillet!$H$6:$H$500>=M$3)*([1]Juillet!$H$6:$H$500<N$3)*([1]Juillet!$G$6:$G$500)),SUMPRODUCT(([1]Août!$D$6:$D$500=$A4)*([1]Août!$H$6:$H$500>=M$3)*([1]Août!$H$6:$H$500<N$3)*([1]Août!$G$6:$G$500)),SUMPRODUCT(([1]Septembre!$D$6:$D$500=$A4)*([1]Septembre!$H$6:$H$500>=M$3)*([1]Septembre!$H$6:$H$500<N$3)*([1]Septembre!$G$6:$G$500)),SUMPRODUCT(([1]Octobre!$D$6:$D$500=$A4)*([1]Octobre!$H$6:$H$500>=M$3)*([1]Octobre!$H$6:$H$500<N$3)*([1]Octobre!$G$6:$G$500)),SUMPRODUCT(([1]Novembre!$D$6:$D$500=$A4)*([1]Novembre!$H$6:$H$500>=M$3)*([1]Novembre!$H$6:$H$500<N$3)*([1]Novembre!$G$6:$G$500)),SUMPRODUCT(([1]Décembre!$D$6:$D$500=$A4)*([1]Décembre!$H$6:$H$500>=M$3)*([1]Décembre!$H$6:$H$500<N$3)*([1]Décembre!$G$6:$G$500))),"")} -> 0 | O4: =SUM(B4:M4) -> 0
A5: AUTO | B5: {=IF(ISTEXT($A5),SUM(SUMPRODUCT(([1]Janvier!$D$6:$D$500=$A5)*([1]Janvier!$H$6:$H$500>=B$3)*([1]Janvier!$H$6:$H$500<C$3)*([1]Janvier!$G$6:$G$500)),SUMPRODUCT(([1]Février!$D$6:$D$500=$A5)*([1]Février!$H$6:$H$500>=B$3)*([1]Février!$H$6:$H$500<C$3)*([1]Février!$G$6:$G$500)),SUMPRODUCT(([1]Mars!$D$6:$D$500=$A5)*([1]Mars!$H$6:$H$500>=B$3)*([1]Mars!$H$6:$H$500<C$3)*([1]Mars!$G$6:$G$500)),SUMPRODUCT(([1]Avril!$D$6:$D$500=$A5)*([1]Avril!$H$6:$H$500>=B$3)*([1]Avril!$H$6:$H$500<C$3)*([1]Avril!$G$6:$G$500)),SUMPRODUCT(([1]Mai!$D$6:$D$500=$A5)*([1]Mai!$H$6:$H$500>=B$3)*([1]Mai!$H$6:$H$500<C$3)*([1]Mai!$G$6:$G$500)),SUMPRODUCT(([1]Juin!$D$6:$D$500=$A5)*([1]Juin!$H$6:$H$500>=B$3)*([1]Juin!$H$6:$H$500<C$3)*([1]Juin!$G$6:$G$500)),SUMPRODUCT(([1]Juillet!$D$6:$D$500=$A5)*([1]Juillet!$H$6:$H$500>=B$3)*([1]Juillet!$H$6:$H$500<C$3)*([1]Juillet!$G$6:$G$500)),SUMPRODUCT(([1]Août!$D$6:$D$500=$A5)*([1]Août!$H$6:$H$500>=B$3)*([1]Août!$H$6:$H$500<C$3)*([1]Août!$G$6:$G$500)),SUMPRODUCT(([1]Septembre!$D$6:$D$500=$A5)*([1]Septembre!$H$6:$H$500>=B$3)*([1]Septembre!$H$6:$H$500<C$3)*([1]Septembre!$G$6:$G$500)),SUMPRODUCT(([1]Octobre!$D$6:$D$500=$A5)*([1]Octobre!$H$6:$H$500>=B$3)*([1]Octobre!$H$6:$H$500<C$3)*([1]Octobre!$G$6:$G$500)),SUMPRODUCT(([1]Novembre!$D$6:$D$500=$A5)*([1]Novembre!$H$6:$H$500>=B$3)*([1]Novembre!$H$6:$H$500<C$3)*([1]Novembre!$G$6:$G$500)),SUMPRODUCT(([1]Décembre!$D$6:$D$500=$A5)*([1]Décembre!$H$6:$H$500>=B$3)*([1]Décembre!$H$6:$H$500<C$3)*([1]Décembre!$G$6:$G$500))),"")} -> 0 | C5: {=IF(ISTEXT($A5),SUM(SUMPRODUCT(([1]Janvier!$D$6:$D$500=$A5)*([1]Janvier!$H$6:$H$500>=C$3)*([1]Janvier!$H$6:$H$500<D$3)*([1]Janvier!$G$6:$G$500)),SUMPRODUCT(([1]Février!$D$6:$D$500=$A5)*([1]Février!$H$6:$H$500>=C$3)*([1]Février!$H$6:$H$500<D$3)*([1]Février!$G$6:$G$500)),SUMPRODUCT(([1]Mars!$D$6:$D$500=$A5)*([1]Mars!$H$6:$H$500>=C$3)*([1]Mars!$H$6:$H$500<D$3)*([1]Mars!$G$6:$G$500)),SUMPRODUCT(([1]Avril!$D$6:$D$500=$A5)*([1]Avril!$H$6:$H$500>=C$3)*([1]Avril!$H$6:$H$500<D$3)*([1]Avril!$G$6:$G$500)),SUMPRODUCT(([1]Mai!$D$6:$D$500=$A5)*([1]Mai!$H$6:$H$500>=C$3)*([1]Mai!$H$6:$H$500<D$3)*([1]Mai!$G$6:$G$500)),SUMPRODUCT(([1]Juin!$D$6:$D$500=$A5)*([1]Juin!$H$6:$H$500>=C$3)*([1]Juin!$H$6:$H$500<D$3)*([1]Juin!$G$6:$G$500)),SUMPRODUCT(([1]Juillet!$D$6:$D$500=$A5)*([1]Juillet!$H$6:$H$500>=C$3)*([1]Juillet!$H$6:$H$500<D$3)*([1]Juillet!$G$6:$G$500)),SUMPRODUCT(([1]Août!$D$6:$D$500=$A5)*([1]Août!$H$6:$H$500>=C$3)*([1]Août!$H$6:$H$500<D$3)*([1]Août!$G$6:$G$500)),SUMPRODUCT(([1]Septembre!$D$6:$D$500=$A5)*([1]Septembre!$H$6:$H$500>=C$3)*([1]Septembre!$H$6:$H$500<D$3)*([1]Septembre!$G$6:$G$500)),SUMPRODUCT(([1]Octobre!$D$6:$D$500=$A5)*([1]Octobre!$H$6:$H$500>=C$3)*([1]Octobre!$H$6:$H$500<D$3)*([1]Octobre!$G$6:$G$500)),SUMPRODUCT(([1]Novembre!$D$6:$D$500=$A5)*([1]Novembre!$H$6:$H$500>=C$3)*([1]Novembre!$H$6:$H$500<D$3)*([1]Novembre!$G$6:$G$500)),SUMPRODUCT(([1]Décembre!$D$6:$D$500=$A5)*([1]Décembre!$H$6:$H$500>=C$3)*([1]Décembre!$H$6:$H$500<D$3)*([1]Décembre!$G$6:$G$500))),"")} -> 0 | D5: {=IF(ISTEXT($A5),SUM(SUMPRODUCT(([1]Janvier!$D$6:$D$500=$A5)*([1]Janvier!$H$6:$H$500>=D$3)*([1]Janvier!$H$6:$H$500<E$3)*([1]Janvier!$G$6:$G$500)),SUMPRODUCT(([1]Février!$D$6:$D$500=$A5)*([1]Février!$H$6:$H$500>=D$3)*([1]Février!$H$6:$H$500<E$3)*([1]Février!$G$6:$G$500)),SUMPRODUCT(([1]Mars!$D$6:$D$500=$A5)*([1]Mars!$H$6:$H$500>=D$3)*([1]Mars!$H$6:$H$500<E$3)*([1]Mars!$G$6:$G$500)),SUMPRODUCT(([1]Avril!$D$6:$D$500=$A5)*([1]Avril!$H$6:$H$500>=D$3)*([1]Avril!$H$6:$H$500<E$3)*([1]Avril!$G$6:$G$500)),SUMPRODUCT(([1]Mai!$D$6:$D$500=$A5)*([1]Mai!$H$6:$H$500>=D$3)*([1]Mai!$H$6:$H$500<E$3)*([1]Mai!$G$6:$G$500)),SUMPRODUCT(([1]Juin!$D$6:$D$500=$A5)*([1]Juin!$H$6:$H$500>=D$3)*([1]Juin!$H$6:$H$500<E$3)*([1]Juin!$G$6:$G$500)),SUMPRODUCT(([1]Juillet!$D$6:$D$500=$A5)*([1]Juillet!$H$6:$H$500>=D$3)*([1]Juillet!$H$6:$H$500<E$3)*([1]Juillet!$G$6:$G$500)),SUMPRODUCT(([1]Août!$D$6:$D$500=$A5)*([1]Août!$H$6:$H$500>=D$3)*([1]Août!$H$6:$H$500<E$3)*([1]Août!$G$6:$G$500)),SUMPRODUCT(([1]Septembre!$D$6:$D$500=$A5)*([1]Septembre!$H$6:$H$500>=D$3)*([1]Septembre!$H$6:$H$500<E$3)*([1]Septembre!$G$6:$G$500)),SUMPRODUCT(([1]Octobre!$D$6:$D$500=$A5)*([1]Octobre!$H$6:$H$500>=D$3)*([1]Octobre!$H$6:$H$500<E$3)*([1]Octobre!$G$6:$G$500)),SUMPRODUCT(([1]Novembre!$D$6:$D$500=$A5)*([1]Novembre!$H$6:$H$500>=D$3)*([1]Novembre!$H$6:$H$500<E$3)*([1]Novembre!$G$6:$G$500)),SUMPRODUCT(([1]Décembre!$D$6:$D$500=$A5)*([1]Décembre!$H$6:$H$500>=D$3)*([1]Décembre!$H$6:$H$500<E$3)*([1]Décembre!$G$6:$G$500))),"")} -> 0 | E5: {=IF(ISTEXT($A5),SUM(SUMPRODUCT(([1]Janvier!$D$6:$D$500=$A5)*([1]Janvier!$H$6:$H$500>=E$3)*([1]Janvier!$H$6:$H$500<F$3)*([1]Janvier!$G$6:$G$500)),SUMPRODUCT(([1]Février!$D$6:$D$500=$A5)*([1]Février!$H$6:$H$500>=E$3)*([1]Février!$H$6:$H$500<F$3)*([1]Février!$G$6:$G$500)),SUMPRODUCT(([1]Mars!$D$6:$D$500=$A5)*([1]Mars!$H$6:$H$500>=E$3)*([1]Mars!$H$6:$H$500<F$3)*([1]Mars!$G$6:$G$500)),SUMPRODUCT(([1]Avril!$D$6:$D$500=$A5)*([1]Avril!$H$6:$H$500>=E$3)*([1]Avril!$H$6:$H$500<F$3)*([1]Avril!$G$6:$G$500)),SUMPRODUCT(([1]Mai!$D$6:$D$500=$A5)*([1]Mai!$H$6:$H$500>=E$3)*([1]Mai!$H$6:$H$500<F$3)*([1]Mai!$G$6:$G$500)),SUMPRODUCT(([1]Juin!$D$6:$D$500=$A5)*([1]Juin!$H$6:$H$500>=E$3)*([1]Juin!$H$6:$H$500<F$3)*([1]Juin!$G$6:$G$500)),SUMPRODUCT(([1]Juillet!$D$6:$D$500=$A5)*([1]Juillet!$H$6:$H$500>=E$3)*([1]Juillet!$H$6:$H$500<F$3)*([1]Juillet!$G$6:$G$500)),SUMPRODUCT(([1]Août!$D$6:$D$500=$A5)*([1]Août!$H$6:$H$500>=E$3)*([1]Août!$H$6:$H$500<F$3)*([1]Août!$G$6:$G$500)),SUMPRODUCT(([1]Septembre!$D$6:$D$500=$A5)*([1]Septembre!$H$6:$H$500>=E$3)*([1]Septembre!$H$6:$H$500<F$3)*([1]Septembre!$G$6:$G$500)),SUMPRODUCT(([1]Octobre!$D$6:$D$500=$A5)*([1]Octobre!$H$6:$H$500>=E$3)*([1]Octobre!$H$6:$H$500<F$3)*([1]Octobre!$G$6:$G$500)),SUMPRODUCT(([1]Novembre!$D$6:$D$500=$A5)*([1]Novembre!$H$6:$H$500>=E$3)*([1]Novembre!$H$6:$H$500<F$3)*([1]Novembre!$G$6:$G$500)),SUMPRODUCT(([1]Décembre!$D$6:$D$500=$A5)*([1]Décembre!$H$6:$H$500>=E$3)*([1]Décembre!$H$6:$H$500<F$3)*([1]Décembre!$G$6:$G$500))),"")} -> 0 | F5: {=IF(ISTEXT($A5),SUM(SUMPRODUCT(([1]Janvier!$D$6:$D$500=$A5)*([1]Janvier!$H$6:$H$500>=F$3)*([1]Janvier!$H$6:$H$500<G$3)*([1]Janvier!$G$6:$G$500)),SUMPRODUCT(([1]Février!$D$6:$D$500=$A5)*([1]Février!$H$6:$H$500>=F$3)*([1]Février!$H$6:$H$500<G$3)*([1]Février!$G$6:$G$500)),SUMPRODUCT(([1]Mars!$D$6:$D$500=$A5)*([1]Mars!$H$6:$H$500>=F$3)*([1]Mars!$H$6:$H$500<G$3)*([1]Mars!$G$6:$G$500)),SUMPRODUCT(([1]Avril!$D$6:$D$500=$A5)*([1]Avril!$H$6:$H$500>=F$3)*([1]Avril!$H$6:$H$500<G$3)*([1]Avril!$G$6:$G$500)),SUMPRODUCT(([1]Mai!$D$6:$D$500=$A5)*([1]Mai!$H$6:$H$500>=F$3)*([1]Mai!$H$6:$H$500<G$3)*([1]Mai!$G$6:$G$500)),SUMPRODUCT(([1]Juin!$D$6:$D$500=$A5)*([1]Juin!$H$6:$H$500>=F$3)*([1]Juin!$H$6:$H$500<G$3)*([1]Juin!$G$6:$G$500)),SUMPRODUCT(([1]Juillet!$D$6:$D$500=$A5)*([1]Juillet!$H$6:$H$500>=F$3)*([1]Juillet!$H$6:$H$500<G$3)*([1]Juillet!$G$6:$G$500)),SUMPRODUCT(([1]Août!$D$6:$D$500=$A5)*([1]Août!$H$6:$H$500>=F$3)*([1]Août!$H$6:$H$500<G$3)*([1]Août!$G$6:$G$500)),SUMPRODUCT(([1]Septembre!$D$6:$D$500=$A5)*([1]Septembre!$H$6:$H$500>=F$3)*([1]Septembre!$H$6:$H$500<G$3)*([1]Septembre!$G$6:$G$500)),SUMPRODUCT(([1]Octobre!$D$6:$D$500=$A5)*([1]Octobre!$H$6:$H$500>=F$3)*([1]Octobre!$H$6:$H$500<G$3)*([1]Octobre!$G$6:$G$500)),SUMPRODUCT(([1]Novembre!$D$6:$D$500=$A5)*([1]Novembre!$H$6:$H$500>=F$3)*([1]Novembre!$H$6:$H$500<G$3)*([1]Novembre!$G$6:$G$500)),SUMPRODUCT(([1]Décembre!$D$6:$D$500=$A5)*([1]Décembre!$H$6:$H$500>=F$3)*([1]Décembre!$H$6:$H$500<G$3)*([1]Décembre!$G$6:$G$500))),"")} -> 0 | G5: {=IF(ISTEXT($A5),SUM(SUMPRODUCT(([1]Janvier!$D$6:$D$500=$A5)*([1]Janvier!$H$6:$H$500>=G$3)*([1]Janvier!$H$6:$H$500<H$3)*([1]Janvier!$G$6:$G$500)),SUMPRODUCT(([1]Février!$D$6:$D$500=$A5)*([1]Février!$H$6:$H$500>=G$3)*([1]Février!$H$6:$H$500<H$3)*([1]Février!$G$6:$G$500)),SUMPRODUCT(([1]Mars!$D$6:$D$500=$A5)*([1]Mars!$H$6:$H$500>=G$3)*([1]Mars!$H$6:$H$500<H$3)*([1]Mars!$G$6:$G$500)),SUMPRODUCT(([1]Avril!$D$6:$D$500=$A5)*([1]Avril!$H$6:$H$500>=G$3)*([1]Avril!$H$6:$H$500<H$3)*([1]Avril!$G$6:$G$500)),SUMPRODUCT(([1]Mai!$D$6:$D$500=$A5)*([1]Mai!$H$6:$H$500>=G$3)*([1]Mai!$H$6:$H$500<H$3)*([1]Mai!$G$6:$G$500)),SUMPRODUCT(([1]Juin!$D$6:$D$500=$A5)*([1]Juin!$H$6:$H$500>=G$3)*([1]Juin!$H$6:$H$500<H$3)*([1]Juin!$G$6:$G$500)),SUMPRODUCT(([1]Juillet!$D$6:$D$500=$A5)*([1]Juillet!$H$6:$H$500>=G$3)*([1]Juillet!$H$6:$H$500<H$3)*([1]Juillet!$G$6:$G$500)),SUMPRODUCT(([1]Août!$D$6:$D$500=$A5)*([1]Août!$H$6:$H$500>=G$3)*([1]Août!$H$6:$H$500<H$3)*([1]Août!$G$6:$G$500)),SUMPRODUCT(([1]Septembre!$D$6:$D$500=$A5)*([1]Septembre!$H$6:$H$500>=G$3)*([1]Septembre!$H$6:$H$500<H$3)*([1]Septembre!$G$6:$G$500)),SUMPRODUCT(([1]Octobre!$D$6:$D$500=$A5)*([1]Octobre!$H$6:$H$500>=G$3)*([1]Octobre!$H$6:$H$500<H$3)*([1]Octobre!$G$6:$G$500)),SUMPRODUCT(([1]Novembre!$D$6:$D$500=$A5)*([1]Novembre!$H$6:$H$500>=G$3)*([1]Novembre!$H$6:$H$500<H$3)*([1]Novembre!$G$6:$G$500)),SUMPRODUCT(([1]Décembre!$D$6:$D$500=$A5)*([1]Décembre!$H$6:$H$500>=G$3)*([1]Décembre!$H$6:$H$500<H$3)*([1]Décembre!$G$6:$G$500))),"")} -> 0 | H5: {=IF(ISTEXT($A5),SUM(SUMPRODUCT(([1]Janvier!$D$6:$D$500=$A5)*([1]Janvier!$H$6:$H$500>=H$3)*([1]Janvier!$H$6:$H$500<I$3)*([1]Janvier!$G$6:$G$500)),SUMPRODUCT(([1]Février!$D$6:$D$500=$A5)*([1]Février!$H$6:$H$500>=H$3)*([1]Février!$H$6:$H$500<I$3)*([1]Février!$G$6:$G$500)),SUMPRODUCT(([1]Mars!$D$6:$D$500=$A5)*([1]Mars!$H$6:$H$500>=H$3)*([1]Mars!$H$6:$H$500<I$3)*([1]Mars!$G$6:$G$500)),SUMPRODUCT(([1]Avril!$D$6:$D$500=$A5)*([1]Avril!$H$6:$H$500>=H$3)*([1]Avril!$H$6:$H$500<I$3)*([1]Avril!$G$6:$G$500)),SUMPRODUCT(([1]Mai!$D$6:$D$500=$A5)*([1]Mai!$H$6:$H$500>=H$3)*([1]Mai!$H$6:$H$500<I$3)*([1]Mai!$G$6:$G$500)),SUMPRODUCT(([1]Juin!$D$6:$D$500=$A5)*([1]Juin!$H$6:$H$500>=H$3)*([1]Juin!$H$6:$H$500<I$3)*([1]Juin!$G$6:$G$500)),SUMPRODUCT(([1]Juillet!$D$6:$D$500=$A5)*([1]Juillet!$H$6:$H$500>=H$3)*([1]Juillet!$H$6:$H$500<I$3)*([1]Juillet!$G$6:$G$500)),SUMPRODUCT(([1]Août!$D$6:$D$500=$A5)*([1]Août!$H$6:$H$500>=H$3)*([1]Août!$H$6:$H$500<I$3)*([1]Août!$G$6:$G$500)),SUMPRODUCT(([1]Septembre!$D$6:$D$500=$A5)*([1]Septembre!$H$6:$H$500>=H$3)*([1]Septembre!$H$6:$H$500<I$3)*([1]Septembre!$G$6:$G$500)),SUMPRODUCT(([1]Octobre!$D$6:$D$500=$A5)*([1]Octobre!$H$6:$H$500>=H$3)*([1]Octobre!$H$6:$H$500<I$3)*([1]Octobre!$G$6:$G$500)),SUMPRODUCT(([1]Novembre!$D$6:$D$500=$A5)*([1]Novembre!$H$6:$H$500>=H$3)*([1]Novembre!$H$6:$H$500<I$3)*([1]Novembre!$G$6:$G$500)),SUMPRODUCT(([1]Décembre!$D$6:$D$500=$A5)*([1]Décembre!$H$6:$H$500>=H$3)*([1]Décembre!$H$6:$H$500<I$3)*([1]Décembre!$G$6:$G$500))),"")} -> 0 | I5: {=IF(ISTEXT($A5),SUM(SUMPRODUCT(([1]Janvier!$D$6:$D$500=$A5)*([1]Janvier!$H$6:$H$500>=I$3)*([1]Janvier!$H$6:$H$500<J$3)*([1]Janvier!$G$6:$G$500)),SUMPRODUCT(([1]Février!$D$6:$D$500=$A5)*([1]Février!$H$6:$H$500>=I$3)*([1]Février!$H$6:$H$500<J$3)*([1]Février!$G$6:$G$500)),SUMPRODUCT(([1]Mars!$D$6:$D$500=$A5)*([1]Mars!$H$6:$H$500>=I$3)*([1]Mars!$H$6:$H$500<J$3)*([1]Mars!$G$6:$G$500)),SUMPRODUCT(([1]Avril!$D$6:$D$500=$A5)*([1]Avril!$H$6:$H$500>=I$3)*([1]Avril!$H$6:$H$500<J$3)*([1]Avril!$G$6:$G$500)),SUMPRODUCT(([1]Mai!$D$6:$D$500=$A5)*([1]Mai!$H$6:$H$500>=I$3)*([1]Mai!$H$6:$H$500<J$3)*([1]Mai!$G$6:$G$500)),SUMPRODUCT(([1]Juin!$D$6:$D$500=$A5)*([1]Juin!$H$6:$H$500>=I$3)*([1]Juin!$H$6:$H$500<J$3)*([1]Juin!$G$6:$G$500)),SUMPRODUCT(([1]Juillet!$D$6:$D$500=$A5)*([1]Juillet!$H$6:$H$500>=I$3)*([1]Juillet!$H$6:$H$500<J$3)*([1]Juillet!$G$6:$G$500)),SUMPRODUCT(([1]Août!$D$6:$D$500=$A5)*([1]Août!$H$6:$H$500>=I$3)*([1]Août!$H$6:$H$500<J$3)*([1]Août!$G$6:$G$500)),SUMPRODUCT(([1]Septembre!$D$6:$D$500=$A5)*([1]Septembre!$H$6:$H$500>=I$3)*([1]Septembre!$H$6:$H$500<J$3)*([1]Septembre!$G$6:$G$500)),SUMPRODUCT(([1]Octobre!$D$6:$D$500=$A5)*([1]Octobre!$H$6:$H$500>=I$3)*([1]Octobre!$H$6:$H$500<J$3)*([1]Octobre!$G$6:$G$500)),SUMPRODUCT(([1]Novembre!$D$6:$D$500=$A5)*([1]Novembre!$H$6:$H$500>=I$3)*([1]Novembre!$H$6:$H$500<J$3)*([1]Novembre!$G$6:$G$500)),SUMPRODUCT(([1]Décembre!$D$6:$D$500=$A5)*([1]Décembre!$H$6:$H$500>=I$3)*([1]Décembre!$H$6:$H$500<J$3)*([1]Décembre!$G$6:$G$500))),"")} -> 0 | ... M5: {=IF(ISTEXT($A5),SUM(SUMPRODUCT(([1]Janvier!$D$6:$D$500=$A5)*([1]Janvier!$H$6:$H$500>=M$3)*([1]Janvier!$H$6:$H$500<N$3)*([1]Janvier!$G$6:$G$500)),SUMPRODUCT(([1]Février!$D$6:$D$500=$A5)*([1]Février!$H$6:$H$500>=M$3)*([1]Février!$H$6:$H$500<N$3)*([1]Février!$G$6:$G$500)),SUMPRODUCT(([1]Mars!$D$6:$D$500=$A5)*([1]Mars!$H$6:$H$500>=M$3)*([1]Mars!$H$6:$H$500<N$3)*([1]Mars!$G$6:$G$500)),SUMPRODUCT(([1]Avril!$D$6:$D$500=$A5)*([1]Avril!$H$6:$H$500>=M$3)*([1]Avril!$H$6:$H$500<N$3)*([1]Avril!$G$6:$G$500)),SUMPRODUCT(([1]Mai!$D$6:$D$500=$A5)*([1]Mai!$H$6:$H$500>=M$3)*([1]Mai!$H$6:$H$500<N$3)*([1]Mai!$G$6:$G$500)),SUMPRODUCT(([1]Juin!$D$6:$D$500=$A5)*([1]Juin!$H$6:$H$500>=M$3)*([1]Juin!$H$6:$H$500<N$3)*([1]Juin!$G$6:$G$500)),SUMPRODUCT(([1]Juillet!$D$6:$D$500=$A5)*([1]Juillet!$H$6:$H$500>=M$3)*([1]Juillet!$H$6:$H$500<N$3)*([1]Juillet!$G$6:$G$500)),SUMPRODUCT(([1]Août!$D$6:$D$500=$A5)*([1]Août!$H$6:$H$500>=M$3)*([1]Août!$H$6:$H$500<N$3)*([1]Août!$G$6:$G$500)),SUMPRODUCT(([1]Septembre!$D$6:$D$500=$A5)*([1]Septembre!$H$6:$H$500>=M$3)*([1]Septembre!$H$6:$H$500<N$3)*([1]Septembre!$G$6:$G$500)),SUMPRODUCT(([1]Octobre!$D$6:$D$500=$A5)*([1]Octobre!$H$6:$H$500>=M$3)*([1]Octobre!$H$6:$H$500<N$3)*([1]Octobre!$G$6:$G$500)),SUMPRODUCT(([1]Novembre!$D$6:$D$500=$A5)*([1]Novembre!$H$6:$H$500>=M$3)*([1]Novembre!$H$6:$H$500<N$3)*([1]Novembre!$G$6:$G$500)),SUMPRODUCT(([1]Décembre!$D$6:$D$500=$A5)*([1]Décembre!$H$6:$H$500>=M$3)*([1]Décembre!$H$6:$H$500<N$3)*([1]Décembre!$G$6:$G$500))),"")} -> 0 | O5: =SUM(B5:M5) -> 77
A6: RESTO | B6: {=IF(ISTEXT($A6),SUM(SUMPRODUCT(([1]Janvier!$D$6:$D$500=$A6)*([1]Janvier!$H$6:$H$500>=B$3)*([1]Janvier!$H$6:$H$500<C$3)*([1]Janvier!$G$6:$G$500)),SUMPRODUCT(([1]Février!$D$6:$D$500=$A6)*([1]Février!$H$6:$H$500>=B$3)*([1]Février!$H$6:$H$500<C$3)*([1]Février!$G$6:$G$500)),SUMPRODUCT(([1]Mars!$D$6:$D$500=$A6)*([1]Mars!$H$6:$H$500>=B$3)*([1]Mars!$H$6:$H$500<C$3)*([1]Mars!$G$6:$G$500)),SUMPRODUCT(([1]Avril!$D$6:$D$500=$A6)*([1]Avril!$H$6:$H$500>=B$3)*([1]Avril!$H$6:$H$500<C$3)*([1]Avril!$G$6:$G$500)),SUMPRODUCT(([1]Mai!$D$6:$D$500=$A6)*([1]Mai!$H$6:$H$500>=B$3)*([1]Mai!$H$6:$H$500<C$3)*([1]Mai!$G$6:$G$500)),SUMPRODUCT(([1]Juin!$D$6:$D$500=$A6)*([1]Juin!$H$6:$H$500>=B$3)*([1]Juin!$H$6:$H$500<C$3)*([1]Juin!$G$6:$G$500)),SUMPRODUCT(([1]Juillet!$D$6:$D$500=$A6)*([1]Juillet!$H$6:$H$500>=B$3)*([1]Juillet!$H$6:$H$500<C$3)*([1]Juillet!$G$6:$G$500)),SUMPRODUCT(([1]Août!$D$6:$D$500=$A6)*([1]Août!$H$6:$H$500>=B$3)*([1]Août!$H$6:$H$500<C$3)*([1]Août!$G$6:$G$500)),SUMPRODUCT(([1]Septembre!$D$6:$D$500=$A6)*([1]Septembre!$H$6:$H$500>=B$3)*([1]Septembre!$H$6:$H$500<C$3)*([1]Septembre!$G$6:$G$500)),SUMPRODUCT(([1]Octobre!$D$6:$D$500=$A6)*([1]Octobre!$H$6:$H$500>=B$3)*([1]Octobre!$H$6:$H$500<C$3)*([1]Octobre!$G$6:$G$500)),SUMPRODUCT(([1]Novembre!$D$6:$D$500=$A6)*([1]Novembre!$H$6:$H$500>=B$3)*([1]Novembre!$H$6:$H$500<C$3)*([1]Novembre!$G$6:$G$500)),SUMPRODUCT(([1]Décembre!$D$6:$D$500=$A6)*([1]Décembre!$H$6:$H$500>=B$3)*([1]Décembre!$H$6:$H$500<C$3)*([1]Décembre!$G$6:$G$500))),"")} -> 0 | C6: {=IF(ISTEXT($A6),SUM(SUMPRODUCT(([1]Janvier!$D$6:$D$500=$A6)*([1]Janvier!$H$6:$H$500>=C$3)*([1]Janvier!$H$6:$H$500<D$3)*([1]Janvier!$G$6:$G$500)),SUMPRODUCT(([1]Février!$D$6:$D$500=$A6)*([1]Février!$H$6:$H$500>=C$3)*([1]Février!$H$6:$H$500<D$3)*([1]Février!$G$6:$G$500)),SUMPRODUCT(([1]Mars!$D$6:$D$500=$A6)*([1]Mars!$H$6:$H$500>=C$3)*([1]Mars!$H$6:$H$500<D$3)*([1]Mars!$G$6:$G$500)),SUMPRODUCT(([1]Avril!$D$6:$D$500=$A6)*([1]Avril!$H$6:$H$500>=C$3)*([1]Avril!$H$6:$H$500<D$3)*([1]Avril!$G$6:$G$500)),SUMPRODUCT(([1]Mai!$D$6:$D$500=$A6)*([1]Mai!$H$6:$H$500>=C$3)*([1]Mai!$H$6:$H$500<D$3)*([1]Mai!$G$6:$G$500)),SUMPRODUCT(([1]Juin!$D$6:$D$500=$A6)*([1]Juin!$H$6:$H$500>=C$3)*([1]Juin!$H$6:$H$500<D$3)*([1]Juin!$G$6:$G$500)),SUMPRODUCT(([1]Juillet!$D$6:$D$500=$A6)*([1]Juillet!$H$6:$H$500>=C$3)*([1]Juillet!$H$6:$H$500<D$3)*([1]Juillet!$G$6:$G$500)),SUMPRODUCT(([1]Août!$D$6:$D$500=$A6)*([1]Août!$H$6:$H$500>=C$3)*([1]Août!$H$6:$H$500<D$3)*([1]Août!$G$6:$G$500)),SUMPRODUCT(([1]Septembre!$D$6:$D$500=$A6)*([1]Septembre!$H$6:$H$500>=C$3)*([1]Septembre!$H$6:$H$500<D$3)*([1]Septembre!$G$6:$G$500)),SUMPRODUCT(([1]Octobre!$D$6:$D$500=$A6)*([1]Octobre!$H$6:$H$500>=C$3)*([1]Octobre!$H$6:$H$500<D$3)*([1]Octobre!$G$6:$G$500)),SUMPRODUCT(([1]Novembre!$D$6:$D$500=$A6)*([1]Novembre!$H$6:$H$500>=C$3)*([1]Novembre!$H$6:$H$500<D$3)*([1]Novembre!$G$6:$G$500)),SUMPRODUCT(([1]Décembre!$D$6:$D$500=$A6)*([1]Décembre!$H$6:$H$500>=C$3)*([1]Décembre!$H$6:$H$500<D$3)*([1]Décembre!$G$6:$G$500))),"")} -> 0 | D6: {=IF(ISTEXT($A6),SUM(SUMPRODUCT(([1]Janvier!$D$6:$D$500=$A6)*([1]Janvier!$H$6:$H$500>=D$3)*([1]Janvier!$H$6:$H$500<E$3)*([1]Janvier!$G$6:$G$500)),SUMPRODUCT(([1]Février!$D$6:$D$500=$A6)*([1]Février!$H$6:$H$500>=D$3)*([1]Février!$H$6:$H$500<E$3)*([1]Février!$G$6:$G$500)),SUMPRODUCT(([1]Mars!$D$6:$D$500=$A6)*([1]Mars!$H$6:$H$500>=D$3)*([1]Mars!$H$6:$H$500<E$3)*([1]Mars!$G$6:$G$500)),SUMPRODUCT(([1]Avril!$D$6:$D$500=$A6)*([1]Avril!$H$6:$H$500>=D$3)*([1]Avril!$H$6:$H$500<E$3)*([1]Avril!$G$6:$G$500)),SUMPRODUCT(([1]Mai!$D$6:$D$500=$A6)*([1]Mai!$H$6:$H$500>=D$3)*([1]Mai!$H$6:$H$500<E$3)*([1]Mai!$G$6:$G$500)),SUMPRODUCT(([1]Juin!$D$6:$D$500=$A6)*([1]Juin!$H$6:$H$500>=D$3)*([1]Juin!$H$6:$H$500<E$3)*([1]Juin!$G$6:$G$500)),SUMPRODUCT(([1]Juillet!$D$6:$D$500=$A6)*([1]Juillet!$H$6:$H$500>=D$3)*([1]Juillet!$H$6:$H$500<E$3)*([1]Juillet!$G$6:$G$500)),SUMPRODUCT(([1]Août!$D$6:$D$500=$A6)*([1]Août!$H$6:$H$500>=D$3)*([1]Août!$H$6:$H$500<E$3)*([1]Août!$G$6:$G$500)),SUMPRODUCT(([1]Septembre!$D$6:$D$500=$A6)*([1]Septembre!$H$6:$H$500>=D$3)*([1]Septembre!$H$6:$H$500<E$3)*([1]Septembre!$G$6:$G$500)),SUMPRODUCT(([1]Octobre!$D$6:$D$500=$A6)*([1]Octobre!$H$6:$H$500>=D$3)*([1]Octobre!$H$6:$H$500<E$3)*([1]Octobre!$G$6:$G$500)),SUMPRODUCT(([1]Novembre!$D$6:$D$500=$A6)*([1]Novembre!$H$6:$H$500>=D$3)*([1]Novembre!$H$6:$H$500<E$3)*([1]Novembre!$G$6:$G$500)),SUMPRODUCT(([1]Décembre!$D$6:$D$500=$A6)*([1]Décembre!$H$6:$H$500>=D$3)*([1]Décembre!$H$6:$H$500<E$3)*([1]Décembre!$G$6:$G$500))),"")} -> 0 | E6: {=IF(ISTEXT($A6),SUM(SUMPRODUCT(([1]Janvier!$D$6:$D$500=$A6)*([1]Janvier!$H$6:$H$500>=E$3)*([1]Janvier!$H$6:$H$500<F$3)*([1]Janvier!$G$6:$G$500)),SUMPRODUCT(([1]Février!$D$6:$D$500=$A6)*([1]Février!$H$6:$H$500>=E$3)*([1]Février!$H$6:$H$500<F$3)*([1]Février!$G$6:$G$500)),SUMPRODUCT(([1]Mars!$D$6:$D$500=$A6)*([1]Mars!$H$6:$H$500>=E$3)*([1]Mars!$H$6:$H$500<F$3)*([1]Mars!$G$6:$G$500)),SUMPRODUCT(([1]Avril!$D$6:$D$500=$A6)*([1]Avril!$H$6:$H$500>=E$3)*([1]Avril!$H$6:$H$500<F$3)*([1]Avril!$G$6:$G$500)),SUMPRODUCT(([1]Mai!$D$6:$D$500=$A6)*([1]Mai!$H$6:$H$500>=E$3)*([1]Mai!$H$6:$H$500<F$3)*([1]Mai!$G$6:$G$500)),SUMPRODUCT(([1]Juin!$D$6:$D$500=$A6)*([1]Juin!$H$6:$H$500>=E$3)*([1]Juin!$H$6:$H$500<F$3)*([1]Juin!$G$6:$G$500)),SUMPRODUCT(([1]Juillet!$D$6:$D$500=$A6)*([1]Juillet!$H$6:$H$500>=E$3)*([1]Juillet!$H$6:$H$500<F$3)*([1]Juillet!$G$6:$G$500)),SUMPRODUCT(([1]Août!$D$6:$D$500=$A6)*([1]Août!$H$6:$H$500>=E$3)*([1]Août!$H$6:$H$500<F$3)*([1]Août!$G$6:$G$500)),SUMPRODUCT(([1]Septembre!$D$6:$D$500=$A6)*([1]Septembre!$H$6:$H$500>=E$3)*([1]Septembre!$H$6:$H$500<F$3)*([1]Septembre!$G$6:$G$500)),SUMPRODUCT(([1]Octobre!$D$6:$D$500=$A6)*([1]Octobre!$H$6:$H$500>=E$3)*([1]Octobre!$H$6:$H$500<F$3)*([1]Octobre!$G$6:$G$500)),SUMPRODUCT(([1]Novembre!$D$6:$D$500=$A6)*([1]Novembre!$H$6:$H$500>=E$3)*([1]Novembre!$H$6:$H$500<F$3)*([1]Novembre!$G$6:$G$500)),SUMPRODUCT(([1]Décembre!$D$6:$D$500=$A6)*([1]Décembre!$H$6:$H$500>=E$3)*([1]Décembre!$H$6:$H$500<F$3)*([1]Décembre!$G$6:$G$500))),"")} -> 0 | F6: {=IF(ISTEXT($A6),SUM(SUMPRODUCT(([1]Janvier!$D$6:$D$500=$A6)*([1]Janvier!$H$6:$H$500>=F$3)*([1]Janvier!$H$6:$H$500<G$3)*([1]Janvier!$G$6:$G$500)),SUMPRODUCT(([1]Février!$D$6:$D$500=$A6)*([1]Février!$H$6:$H$500>=F$3)*([1]Février!$H$6:$H$500<G$3)*([1]Février!$G$6:$G$500)),SUMPRODUCT(([1]Mars!$D$6:$D$500=$A6)*([1]Mars!$H$6:$H$500>=F$3)*([1]Mars!$H$6:$H$500<G$3)*([1]Mars!$G$6:$G$500)),SUMPRODUCT(([1]Avril!$D$6:$D$500=$A6)*([1]Avril!$H$6:$H$500>=F$3)*([1]Avril!$H$6:$H$500<G$3)*([1]Avril!$G$6:$G$500)),SUMPRODUCT(([1]Mai!$D$6:$D$500=$A6)*([1]Mai!$H$6:$H$500>=F$3)*([1]Mai!$H$6:$H$500<G$3)*([1]Mai!$G$6:$G$500)),SUMPRODUCT(([1]Juin!$D$6:$D$500=$A6)*([1]Juin!$H$6:$H$500>=F$3)*([1]Juin!$H$6:$H$500<G$3)*([1]Juin!$G$6:$G$500)),SUMPRODUCT(([1]Juillet!$D$6:$D$500=$A6)*([1]Juillet!$H$6:$H$500>=F$3)*([1]Juillet!$H$6:$H$500<G$3)*([1]Juillet!$G$6:$G$500)),SUMPRODUCT(([1]Août!$D$6:$D$500=$A6)*([1]Août!$H$6:$H$500>=F$3)*([1]Août!$H$6:$H$500<G$3)*([1]Août!$G$6:$G$500)),SUMPRODUCT(([1]Septembre!$D$6:$D$500=$A6)*([1]Septembre!$H$6:$H$500>=F$3)*([1]Septembre!$H$6:$H$500<G$3)*([1]Septembre!$G$6:$G$500)),SUMPRODUCT(([1]Octobre!$D$6:$D$500=$A6)*([1]Octobre!$H$6:$H$500>=F$3)*([1]Octobre!$H$6:$H$500<G$3)*([1]Octobre!$G$6:$G$500)),SUMPRODUCT(([1]Novembre!$D$6:$D$500=$A6)*([1]Novembre!$H$6:$H$500>=F$3)*([1]Novembre!$H$6:$H$500<G$3)*([1]Novembre!$G$6:$G$500)),SUMPRODUCT(([1]Décembre!$D$6:$D$500=$A6)*([1]Décembre!$H$6:$H$500>=F$3)*([1]Décembre!$H$6:$H$500<G$3)*([1]Décembre!$G$6:$G$500))),"")} -> 0 | G6: {=IF(ISTEXT($A6),SUM(SUMPRODUCT(([1]Janvier!$D$6:$D$500=$A6)*([1]Janvier!$H$6:$H$500>=G$3)*([1]Janvier!$H$6:$H$500<H$3)*([1]Janvier!$G$6:$G$500)),SUMPRODUCT(([1]Février!$D$6:$D$500=$A6)*([1]Février!$H$6:$H$500>=G$3)*([1]Février!$H$6:$H$500<H$3)*([1]Février!$G$6:$G$500)),SUMPRODUCT(([1]Mars!$D$6:$D$500=$A6)*([1]Mars!$H$6:$H$500>=G$3)*([1]Mars!$H$6:$H$500<H$3)*([1]Mars!$G$6:$G$500)),SUMPRODUCT(([1]Avril!$D$6:$D$500=$A6)*([1]Avril!$H$6:$H$500>=G$3)*([1]Avril!$H$6:$H$500<H$3)*([1]Avril!$G$6:$G$500)),SUMPRODUCT(([1]Mai!$D$6:$D$500=$A6)*([1]Mai!$H$6:$H$500>=G$3)*([1]Mai!$H$6:$H$500<H$3)*([1]Mai!$G$6:$G$500)),SUMPRODUCT(([1]Juin!$D$6:$D$500=$A6)*([1]Juin!$H$6:$H$500>=G$3)*([1]Juin!$H$6:$H$500<H$3)*([1]Juin!$G$6:$G$500)),SUMPRODUCT(([1]Juillet!$D$6:$D$500=$A6)*([1]Juillet!$H$6:$H$500>=G$3)*([1]Juillet!$H$6:$H$500<H$3)*([1]Juillet!$G$6:$G$500)),SUMPRODUCT(([1]Août!$D$6:$D$500=$A6)*([1]Août!$H$6:$H$500>=G$3)*([1]Août!$H$6:$H$500<H$3)*([1]Août!$G$6:$G$500)),SUMPRODUCT(([1]Septembre!$D$6:$D$500=$A6)*([1]Septembre!$H$6:$H$500>=G$3)*([1]Septembre!$H$6:$H$500<H$3)*([1]Septembre!$G$6:$G$500)),SUMPRODUCT(([1]Octobre!$D$6:$D$500=$A6)*([1]Octobre!$H$6:$H$500>=G$3)*([1]Octobre!$H$6:$H$500<H$3)*([1]Octobre!$G$6:$G$500)),SUMPRODUCT(([1]Novembre!$D$6:$D$500=$A6)*([1]Novembre!$H$6:$H$500>=G$3)*([1]Novembre!$H$6:$H$500<H$3)*([1]Novembre!$G$6:$G$500)),SUMPRODUCT(([1]Décembre!$D$6:$D$500=$A6)*([1]Décembre!$H$6:$H$500>=G$3)*([1]Décembre!$H$6:$H$500<H$3)*([1]Décembre!$G$6:$G$500))),"")} -> 0 | H6: {=IF(ISTEXT($A6),SUM(SUMPRODUCT(([1]Janvier!$D$6:$D$500=$A6)*([1]Janvier!$H$6:$H$500>=H$3)*([1]Janvier!$H$6:$H$500<I$3)*([1]Janvier!$G$6:$G$500)),SUMPRODUCT(([1]Février!$D$6:$D$500=$A6)*([1]Février!$H$6:$H$500>=H$3)*([1]Février!$H$6:$H$500<I$3)*([1]Février!$G$6:$G$500)),SUMPRODUCT(([1]Mars!$D$6:$D$500=$A6)*([1]Mars!$H$6:$H$500>=H$3)*([1]Mars!$H$6:$H$500<I$3)*([1]Mars!$G$6:$G$500)),SUMPRODUCT(([1]Avril!$D$6:$D$500=$A6)*([1]Avril!$H$6:$H$500>=H$3)*([1]Avril!$H$6:$H$500<I$3)*([1]Avril!$G$6:$G$500)),SUMPRODUCT(([1]Mai!$D$6:$D$500=$A6)*([1]Mai!$H$6:$H$500>=H$3)*([1]Mai!$H$6:$H$500<I$3)*([1]Mai!$G$6:$G$500)),SUMPRODUCT(([1]Juin!$D$6:$D$500=$A6)*([1]Juin!$H$6:$H$500>=H$3)*([1]Juin!$H$6:$H$500<I$3)*([1]Juin!$G$6:$G$500)),SUMPRODUCT(([1]Juillet!$D$6:$D$500=$A6)*([1]Juillet!$H$6:$H$500>=H$3)*([1]Juillet!$H$6:$H$500<I$3)*([1]Juillet!$G$6:$G$500)),SUMPRODUCT(([1]Août!$D$6:$D$500=$A6)*([1]Août!$H$6:$H$500>=H$3)*([1]Août!$H$6:$H$500<I$3)*([1]Août!$G$6:$G$500)),SUMPRODUCT(([1]Septembre!$D$6:$D$500=$A6)*([1]Septembre!$H$6:$H$500>=H$3)*([1]Septembre!$H$6:$H$500<I$3)*([1]Septembre!$G$6:$G$500)),SUMPRODUCT(([1]Octobre!$D$6:$D$500=$A6)*([1]Octobre!$H$6:$H$500>=H$3)*([1]Octobre!$H$6:$H$500<I$3)*([1]Octobre!$G$6:$G$500)),SUMPRODUCT(([1]Novembre!$D$6:$D$500=$A6)*([1]Novembre!$H$6:$H$500>=H$3)*([1]Novembre!$H$6:$H$500<I$3)*([1]Novembre!$G$6:$G$500)),SUMPRODUCT(([1]Décembre!$D$6:$D$500=$A6)*([1]Décembre!$H$6:$H$500>=H$3)*([1]Décembre!$H$6:$H$500<I$3)*([1]Décembre!$G$6:$G$500))),"")} -> 0 | I6: {=IF(ISTEXT($A6),SUM(SUMPRODUCT(([1]Janvier!$D$6:$D$500=$A6)*([1]Janvier!$H$6:$H$500>=I$3)*([1]Janvier!$H$6:$H$500<J$3)*([1]Janvier!$G$6:$G$500)),SUMPRODUCT(([1]Février!$D$6:$D$500=$A6)*([1]Février!$H$6:$H$500>=I$3)*([1]Février!$H$6:$H$500<J$3)*([1]Février!$G$6:$G$500)),SUMPRODUCT(([1]Mars!$D$6:$D$500=$A6)*([1]Mars!$H$6:$H$500>=I$3)*([1]Mars!$H$6:$H$500<J$3)*([1]Mars!$G$6:$G$500)),SUMPRODUCT(([1]Avril!$D$6:$D$500=$A6)*([1]Avril!$H$6:$H$500>=I$3)*([1]Avril!$H$6:$H$500<J$3)*([1]Avril!$G$6:$G$500)),SUMPRODUCT(([1]Mai!$D$6:$D$500=$A6)*([1]Mai!$H$6:$H$500>=I$3)*([1]Mai!$H$6:$H$500<J$3)*([1]Mai!$G$6:$G$500)),SUMPRODUCT(([1]Juin!$D$6:$D$500=$A6)*([1]Juin!$H$6:$H$500>=I$3)*([1]Juin!$H$6:$H$500<J$3)*([1]Juin!$G$6:$G$500)),SUMPRODUCT(([1]Juillet!$D$6:$D$500=$A6)*([1]Juillet!$H$6:$H$500>=I$3)*([1]Juillet!$H$6:$H$500<J$3)*([1]Juillet!$G$6:$G$500)),SUMPRODUCT(([1]Août!$D$6:$D$500=$A6)*([1]Août!$H$6:$H$500>=I$3)*([1]Août!$H$6:$H$500<J$3)*([1]Août!$G$6:$G$500)),SUMPRODUCT(([1]Septembre!$D$6:$D$500=$A6)*([1]Septembre!$H$6:$H$500>=I$3)*([1]Septembre!$H$6:$H$500<J$3)*([1]Septembre!$G$6:$G$500)),SUMPRODUCT(([1]Octobre!$D$6:$D$500=$A6)*([1]Octobre!$H$6:$H$500>=I$3)*([1]Octobre!$H$6:$H$500<J$3)*([1]Octobre!$G$6:$G$500)),SUMPRODUCT(([1]Novembre!$D$6:$D$500=$A6)*([1]Novembre!$H$6:$H$500>=I$3)*([1]Novembre!$H$6:$H$500<J$3)*([1]Novembre!$G$6:$G$500)),SUMPRODUCT(([1]Décembre!$D$6:$D$500=$A6)*([1]Décembre!$H$6:$H$500>=I$3)*([1]Décembre!$H$6:$H$500<J$3)*([1]Décembre!$G$6:$G$500))),"")} -> 0 | ... M6: {=IF(ISTEXT($A6),SUM(SUMPRODUCT(([1]Janvier!$D$6:$D$500=$A6)*([1]Janvier!$H$6:$H$500>=M$3)*([1]Janvier!$H$6:$H$500<N$3)*([1]Janvier!$G$6:$G$500)),SUMPRODUCT(([1]Février!$D$6:$D$500=$A6)*([1]Février!$H$6:$H$500>=M$3)*([1]Février!$H$6:$H$500<N$3)*([1]Février!$G$6:$G$500)),SUMPRODUCT(([1]Mars!$D$6:$D$500=$A6)*([1]Mars!$H$6:$H$500>=M$3)*([1]Mars!$H$6:$H$500<N$3)*([1]Mars!$G$6:$G$500)),SUMPRODUCT(([1]Avril!$D$6:$D$500=$A6)*([1]Avril!$H$6:$H$500>=M$3)*([1]Avril!$H$6:$H$500<N$3)*([1]Avril!$G$6:$G$500)),SUMPRODUCT(([1]Mai!$D$6:$D$500=$A6)*([1]Mai!$H$6:$H$500>=M$3)*([1]Mai!$H$6:$H$500<N$3)*([1]Mai!$G$6:$G$500)),SUMPRODUCT(([1]Juin!$D$6:$D$500=$A6)*([1]Juin!$H$6:$H$500>=M$3)*([1]Juin!$H$6:$H$500<N$3)*([1]Juin!$G$6:$G$500)),SUMPRODUCT(([1]Juillet!$D$6:$D$500=$A6)*([1]Juillet!$H$6:$H$500>=M$3)*([1]Juillet!$H$6:$H$500<N$3)*([1]Juillet!$G$6:$G$500)),SUMPRODUCT(([1]Août!$D$6:$D$500=$A6)*([1]Août!$H$6:$H$500>=M$3)*([1]Août!$H$6:$H$500<N$3)*([1]Août!$G$6:$G$500)),SUMPRODUCT(([1]Septembre!$D$6:$D$500=$A6)*([1]Septembre!$H$6:$H$500>=M$3)*([1]Septembre!$H$6:$H$500<N$3)*([1]Septembre!$G$6:$G$500)),SUMPRODUCT(([1]Octobre!$D$6:$D$500=$A6)*([1]Octobre!$H$6:$H$500>=M$3)*([1]Octobre!$H$6:$H$500<N$3)*([1]Octobre!$G$6:$G$500)),SUMPRODUCT(([1]Novembre!$D$6:$D$500=$A6)*([1]Novembre!$H$6:$H$500>=M$3)*([1]Novembre!$H$6:$H$500<N$3)*([1]Novembre!$G$6:$G$500)),SUMPRODUCT(([1]Décembre!$D$6:$D$500=$A6)*([1]Décembre!$H$6:$H$500>=M$3)*([1]Décembre!$H$6:$H$500<N$3)*([1]Décembre!$G$6:$G$500))),"")} -> 0 | O6: =SUM(B6:M6) -> 0
A7: FOURN | B7: {=IF(ISTEXT($A7),SUM(SUMPRODUCT(([1]Janvier!$D$6:$D$500=$A7)*([1]Janvier!$H$6:$H$500>=B$3)*([1]Janvier!$H$6:$H$500<C$3)*([1]Janvier!$G$6:$G$500)),SUMPRODUCT(([1]Février!$D$6:$D$500=$A7)*([1]Février!$H$6:$H$500>=B$3)*([1]Février!$H$6:$H$500<C$3)*([1]Février!$G$6:$G$500)),SUMPRODUCT(([1]Mars!$D$6:$D$500=$A7)*([1]Mars!$H$6:$H$500>=B$3)*([1]Mars!$H$6:$H$500<C$3)*([1]Mars!$G$6:$G$500)),SUMPRODUCT(([1]Avril!$D$6:$D$500=$A7)*([1]Avril!$H$6:$H$500>=B$3)*([1]Avril!$H$6:$H$500<C$3)*([1]Avril!$G$6:$G$500)),SUMPRODUCT(([1]Mai!$D$6:$D$500=$A7)*([1]Mai!$H$6:$H$500>=B$3)*([1]Mai!$H$6:$H$500<C$3)*([1]Mai!$G$6:$G$500)),SUMPRODUCT(([1]Juin!$D$6:$D$500=$A7)*([1]Juin!$H$6:$H$500>=B$3)*([1]Juin!$H$6:$H$500<C$3)*([1]Juin!$G$6:$G$500)),SUMPRODUCT(([1]Juillet!$D$6:$D$500=$A7)*([1]Juillet!$H$6:$H$500>=B$3)*([1]Juillet!$H$6:$H$500<C$3)*([1]Juillet!$G$6:$G$500)),SUMPRODUCT(([1]Août!$D$6:$D$500=$A7)*([1]Août!$H$6:$H$500>=B$3)*([1]Août!$H$6:$H$500<C$3)*([1]Août!$G$6:$G$500)),SUMPRODUCT(([1]Septembre!$D$6:$D$500=$A7)*([1]Septembre!$H$6:$H$500>=B$3)*([1]Septembre!$H$6:$H$500<C$3)*([1]Septembre!$G$6:$G$500)),SUMPRODUCT(([1]Octobre!$D$6:$D$500=$A7)*([1]Octobre!$H$6:$H$500>=B$3)*([1]Octobre!$H$6:$H$500<C$3)*([1]Octobre!$G$6:$G$500)),SUMPRODUCT(([1]Novembre!$D$6:$D$500=$A7)*([1]Novembre!$H$6:$H$500>=B$3)*([1]Novembre!$H$6:$H$500<C$3)*([1]Novembre!$G$6:$G$500)),SUMPRODUCT(([1]Décembre!$D$6:$D$500=$A7)*([1]Décembre!$H$6:$H$500>=B$3)*([1]Décembre!$H$6:$H$500<C$3)*([1]Décembre!$G$6:$G$500))),"")} -> 0 | C7: {=IF(ISTEXT($A7),SUM(SUMPRODUCT(([1]Janvier!$D$6:$D$500=$A7)*([1]Janvier!$H$6:$H$500>=C$3)*([1]Janvier!$H$6:$H$500<D$3)*([1]Janvier!$G$6:$G$500)),SUMPRODUCT(([1]Février!$D$6:$D$500=$A7)*([1]Février!$H$6:$H$500>=C$3)*([1]Février!$H$6:$H$500<D$3)*([1]Février!$G$6:$G$500)),SUMPRODUCT(([1]Mars!$D$6:$D$500=$A7)*([1]Mars!$H$6:$H$500>=C$3)*([1]Mars!$H$6:$H$500<D$3)*([1]Mars!$G$6:$G$500)),SUMPRODUCT(([1]Avril!$D$6:$D$500=$A7)*([1]Avril!$H$6:$H$500>=C$3)*([1]Avril!$H$6:$H$500<D$3)*([1]Avril!$G$6:$G$500)),SUMPRODUCT(([1]Mai!$D$6:$D$500=$A7)*([1]Mai!$H$6:$H$500>=C$3)*([1]Mai!$H$6:$H$500<D$3)*([1]Mai!$G$6:$G$500)),SUMPRODUCT(([1]Juin!$D$6:$D$500=$A7)*([1]Juin!$H$6:$H$500>=C$3)*([1]Juin!$H$6:$H$500<D$3)*([1]Juin!$G$6:$G$500)),SUMPRODUCT(([1]Juillet!$D$6:$D$500=$A7)*([1]Juillet!$H$6:$H$500>=C$3)*([1]Juillet!$H$6:$H$500<D$3)*([1]Juillet!$G$6:$G$500)),SUMPRODUCT(([1]Août!$D$6:$D$500=$A7)*([1]Août!$H$6:$H$500>=C$3)*([1]Août!$H$6:$H$500<D$3)*([1]Août!$G$6:$G$500)),SUMPRODUCT(([1]Septembre!$D$6:$D$500=$A7)*([1]Septembre!$H$6:$H$500>=C$3)*([1]Septembre!$H$6:$H$500<D$3)*([1]Septembre!$G$6:$G$500)),SUMPRODUCT(([1]Octobre!$D$6:$D$500=$A7)*([1]Octobre!$H$6:$H$500>=C$3)*([1]Octobre!$H$6:$H$500<D$3)*([1]Octobre!$G$6:$G$500)),SUMPRODUCT(([1]Novembre!$D$6:$D$500=$A7)*([1]Novembre!$H$6:$H$500>=C$3)*([1]Novembre!$H$6:$H$500<D$3)*([1]Novembre!$G$6:$G$500)),SUMPRODUCT(([1]Décembre!$D$6:$D$500=$A7)*([1]Décembre!$H$6:$H$500>=C$3)*([1]Décembre!$H$6:$H$500<D$3)*([1]Décembre!$G$6:$G$500))),"")} -> 0 | D7: {=IF(ISTEXT($A7),SUM(SUMPRODUCT(([1]Janvier!$D$6:$D$500=$A7)*([1]Janvier!$H$6:$H$500>=D$3)*([1]Janvier!$H$6:$H$500<E$3)*([1]Janvier!$G$6:$G$500)),SUMPRODUCT(([1]Février!$D$6:$D$500=$A7)*([1]Février!$H$6:$H$500>=D$3)*([1]Février!$H$6:$H$500<E$3)*([1]Février!$G$6:$G$500)),SUMPRODUCT(([1]Mars!$D$6:$D$500=$A7)*([1]Mars!$H$6:$H$500>=D$3)*([1]Mars!$H$6:$H$500<E$3)*([1]Mars!$G$6:$G$500)),SUMPRODUCT(([1]Avril!$D$6:$D$500=$A7)*([1]Avril!$H$6:$H$500>=D$3)*([1]Avril!$H$6:$H$500<E$3)*([1]Avril!$G$6:$G$500)),SUMPRODUCT(([1]Mai!$D$6:$D$500=$A7)*([1]Mai!$H$6:$H$500>=D$3)*([1]Mai!$H$6:$H$500<E$3)*([1]Mai!$G$6:$G$500)),SUMPRODUCT(([1]Juin!$D$6:$D$500=$A7)*([1]Juin!$H$6:$H$500>=D$3)*([1]Juin!$H$6:$H$500<E$3)*([1]Juin!$G$6:$G$500)),SUMPRODUCT(([1]Juillet!$D$6:$D$500=$A7)*([1]Juillet!$H$6:$H$500>=D$3)*([1]Juillet!$H$6:$H$500<E$3)*([1]Juillet!$G$6:$G$500)),SUMPRODUCT(([1]Août!$D$6:$D$500=$A7)*([1]Août!$H$6:$H$500>=D$3)*([1]Août!$H$6:$H$500<E$3)*([1]Août!$G$6:$G$500)),SUMPRODUCT(([1]Septembre!$D$6:$D$500=$A7)*([1]Septembre!$H$6:$H$500>=D$3)*([1]Septembre!$H$6:$H$500<E$3)*([1]Septembre!$G$6:$G$500)),SUMPRODUCT(([1]Octobre!$D$6:$D$500=$A7)*([1]Octobre!$H$6:$H$500>=D$3)*([1]Octobre!$H$6:$H$500<E$3)*([1]Octobre!$G$6:$G$500)),SUMPRODUCT(([1]Novembre!$D$6:$D$500=$A7)*([1]Novembre!$H$6:$H$500>=D$3)*([1]Novembre!$H$6:$H$500<E$3)*([1]Novembre!$G$6:$G$500)),SUMPRODUCT(([1]Décembre!$D$6:$D$500=$A7)*([1]Décembre!$H$6:$H$500>=D$3)*([1]Décembre!$H$6:$H$500<E$3)*([1]Décembre!$G$6:$G$500))),"")} -> 0 | E7: {=IF(ISTEXT($A7),SUM(SUMPRODUCT(([1]Janvier!$D$6:$D$500=$A7)*([1]Janvier!$H$6:$H$500>=E$3)*([1]Janvier!$H$6:$H$500<F$3)*([1]Janvier!$G$6:$G$500)),SUMPRODUCT(([1]Février!$D$6:$D$500=$A7)*([1]Février!$H$6:$H$500>=E$3)*([1]Février!$H$6:$H$500<F$3)*([1]Février!$G$6:$G$500)),SUMPRODUCT(([1]Mars!$D$6:$D$500=$A7)*([1]Mars!$H$6:$H$500>=E$3)*([1]Mars!$H$6:$H$500<F$3)*([1]Mars!$G$6:$G$500)),SUMPRODUCT(([1]Avril!$D$6:$D$500=$A7)*([1]Avril!$H$6:$H$500>=E$3)*([1]Avril!$H$6:$H$500<F$3)*([1]Avril!$G$6:$G$500)),SUMPRODUCT(([1]Mai!$D$6:$D$500=$A7)*([1]Mai!$H$6:$H$500>=E$3)*([1]Mai!$H$6:$H$500<F$3)*([1]Mai!$G$6:$G$500)),SUMPRODUCT(([1]Juin!$D$6:$D$500=$A7)*([1]Juin!$H$6:$H$500>=E$3)*([1]Juin!$H$6:$H$500<F$3)*([1]Juin!$G$6:$G$500)),SUMPRODUCT(([1]Juillet!$D$6:$D$500=$A7)*([1]Juillet!$H$6:$H$500>=E$3)*([1]Juillet!$H$6:$H$500<F$3)*([1]Juillet!$G$6:$G$500)),SUMPRODUCT(([1]Août!$D$6:$D$500=$A7)*([1]Août!$H$6:$H$500>=E$3)*([1]Août!$H$6:$H$500<F$3)*([1]Août!$G$6:$G$500)),SUMPRODUCT(([1]Septembre!$D$6:$D$500=$A7)*([1]Septembre!$H$6:$H$500>=E$3)*([1]Septembre!$H$6:$H$500<F$3)*([1]Septembre!$G$6:$G$500)),SUMPRODUCT(([1]Octobre!$D$6:$D$500=$A7)*([1]Octobre!$H$6:$H$500>=E$3)*([1]Octobre!$H$6:$H$500<F$3)*([1]Octobre!$G$6:$G$500)),SUMPRODUCT(([1]Novembre!$D$6:$D$500=$A7)*([1]Novembre!$H$6:$H$500>=E$3)*([1]Novembre!$H$6:$H$500<F$3)*([1]Novembre!$G$6:$G$500)),SUMPRODUCT(([1]Décembre!$D$6:$D$500=$A7)*([1]Décembre!$H$6:$H$500>=E$3)*([1]Décembre!$H$6:$H$500<F$3)*([1]Décembre!$G$6:$G$500))),"")} -> 0 | F7: {=IF(ISTEXT($A7),SUM(SUMPRODUCT(([1]Janvier!$D$6:$D$500=$A7)*([1]Janvier!$H$6:$H$500>=F$3)*([1]Janvier!$H$6:$H$500<G$3)*([1]Janvier!$G$6:$G$500)),SUMPRODUCT(([1]Février!$D$6:$D$500=$A7)*([1]Février!$H$6:$H$500>=F$3)*([1]Février!$H$6:$H$500<G$3)*([1]Février!$G$6:$G$500)),SUMPRODUCT(([1]Mars!$D$6:$D$500=$A7)*([1]Mars!$H$6:$H$500>=F$3)*([1]Mars!$H$6:$H$500<G$3)*([1]Mars!$G$6:$G$500)),SUMPRODUCT(([1]Avril!$D$6:$D$500=$A7)*([1]Avril!$H$6:$H$500>=F$3)*([1]Avril!$H$6:$H$500<G$3)*([1]Avril!$G$6:$G$500)),SUMPRODUCT(([1]Mai!$D$6:$D$500=$A7)*([1]Mai!$H$6:$H$500>=F$3)*([1]Mai!$H$6:$H$500<G$3)*([1]Mai!$G$6:$G$500)),SUMPRODUCT(([1]Juin!$D$6:$D$500=$A7)*([1]Juin!$H$6:$H$500>=F$3)*([1]Juin!$H$6:$H$500<G$3)*([1]Juin!$G$6:$G$500)),SUMPRODUCT(([1]Juillet!$D$6:$D$500=$A7)*([1]Juillet!$H$6:$H$500>=F$3)*([1]Juillet!$H$6:$H$500<G$3)*([1]Juillet!$G$6:$G$500)),SUMPRODUCT(([1]Août!$D$6:$D$500=$A7)*([1]Août!$H$6:$H$500>=F$3)*([1]Août!$H$6:$H$500<G$3)*([1]Août!$G$6:$G$500)),SUMPRODUCT(([1]Septembre!$D$6:$D$500=$A7)*([1]Septembre!$H$6:$H$500>=F$3)*([1]Septembre!$H$6:$H$500<G$3)*([1]Septembre!$G$6:$G$500)),SUMPRODUCT(([1]Octobre!$D$6:$D$500=$A7)*([1]Octobre!$H$6:$H$500>=F$3)*([1]Octobre!$H$6:$H$500<G$3)*([1]Octobre!$G$6:$G$500)),SUMPRODUCT(([1]Novembre!$D$6:$D$500=$A7)*([1]Novembre!$H$6:$H$500>=F$3)*([1]Novembre!$H$6:$H$500<G$3)*([1]Novembre!$G$6:$G$500)),SUMPRODUCT(([1]Décembre!$D$6:$D$500=$A7)*([1]Décembre!$H$6:$H$500>=F$3)*([1]Décembre!$H$6:$H$500<G$3)*([1]Décembre!$G$6:$G$500))),"")} -> 0 | G7: {=IF(ISTEXT($A7),SUM(SUMPRODUCT(([1]Janvier!$D$6:$D$500=$A7)*([1]Janvier!$H$6:$H$500>=G$3)*([1]Janvier!$H$6:$H$500<H$3)*([1]Janvier!$G$6:$G$500)),SUMPRODUCT(([1]Février!$D$6:$D$500=$A7)*([1]Février!$H$6:$H$500>=G$3)*([1]Février!$H$6:$H$500<H$3)*([1]Février!$G$6:$G$500)),SUMPRODUCT(([1]Mars!$D$6:$D$500=$A7)*([1]Mars!$H$6:$H$500>=G$3)*([1]Mars!$H$6:$H$500<H$3)*([1]Mars!$G$6:$G$500)),SUMPRODUCT(([1]Avril!$D$6:$D$500=$A7)*([1]Avril!$H$6:$H$500>=G$3)*([1]Avril!$H$6:$H$500<H$3)*([1]Avril!$G$6:$G$500)),SUMPRODUCT(([1]Mai!$D$6:$D$500=$A7)*([1]Mai!$H$6:$H$500>=G$3)*([1]Mai!$H$6:$H$500<H$3)*([1]Mai!$G$6:$G$500)),SUMPRODUCT(([1]Juin!$D$6:$D$500=$A7)*([1]Juin!$H$6:$H$500>=G$3)*([1]Juin!$H$6:$H$500<H$3)*([1]Juin!$G$6:$G$500)),SUMPRODUCT(([1]Juillet!$D$6:$D$500=$A7)*([1]Juillet!$H$6:$H$500>=G$3)*([1]Juillet!$H$6:$H$500<H$3)*([1]Juillet!$G$6:$G$500)),SUMPRODUCT(([1]Août!$D$6:$D$500=$A7)*([1]Août!$H$6:$H$500>=G$3)*([1]Août!$H$6:$H$500<H$3)*([1]Août!$G$6:$G$500)),SUMPRODUCT(([1]Septembre!$D$6:$D$500=$A7)*([1]Septembre!$H$6:$H$500>=G$3)*([1]Septembre!$H$6:$H$500<H$3)*([1]Septembre!$G$6:$G$500)),SUMPRODUCT(([1]Octobre!$D$6:$D$500=$A7)*([1]Octobre!$H$6:$H$500>=G$3)*([1]Octobre!$H$6:$H$500<H$3)*([1]Octobre!$G$6:$G$500)),SUMPRODUCT(([1]Novembre!$D$6:$D$500=$A7)*([1]Novembre!$H$6:$H$500>=G$3)*([1]Novembre!$H$6:$H$500<H$3)*([1]Novembre!$G$6:$G$500)),SUMPRODUCT(([1]Décembre!$D$6:$D$500=$A7)*([1]Décembre!$H$6:$H$500>=G$3)*([1]Décembre!$H$6:$H$500<H$3)*([1]Décembre!$G$6:$G$500))),"")} -> 0 | H7: {=IF(ISTEXT($A7),SUM(SUMPRODUCT(([1]Janvier!$D$6:$D$500=$A7)*([1]Janvier!$H$6:$H$500>=H$3)*([1]Janvier!$H$6:$H$500<I$3)*([1]Janvier!$G$6:$G$500)),SUMPRODUCT(([1]Février!$D$6:$D$500=$A7)*([1]Février!$H$6:$H$500>=H$3)*([1]Février!$H$6:$H$500<I$3)*([1]Février!$G$6:$G$500)),SUMPRODUCT(([1]Mars!$D$6:$D$500=$A7)*([1]Mars!$H$6:$H$500>=H$3)*([1]Mars!$H$6:$H$500<I$3)*([1]Mars!$G$6:$G$500)),SUMPRODUCT(([1]Avril!$D$6:$D$500=$A7)*([1]Avril!$H$6:$H$500>=H$3)*([1]Avril!$H$6:$H$500<I$3)*([1]Avril!$G$6:$G$500)),SUMPRODUCT(([1]Mai!$D$6:$D$500=$A7)*([1]Mai!$H$6:$H$500>=H$3)*([1]Mai!$H$6:$H$500<I$3)*([1]Mai!$G$6:$G$500)),SUMPRODUCT(([1]Juin!$D$6:$D$500=$A7)*([1]Juin!$H$6:$H$500>=H$3)*([1]Juin!$H$6:$H$500<I$3)*([1]Juin!$G$6:$G$500)),SUMPRODUCT(([1]Juillet!$D$6:$D$500=$A7)*([1]Juillet!$H$6:$H$500>=H$3)*([1]Juillet!$H$6:$H$500<I$3)*([1]Juillet!$G$6:$G$500)),SUMPRODUCT(([1]Août!$D$6:$D$500=$A7)*([1]Août!$H$6:$H$500>=H$3)*([1]Août!$H$6:$H$500<I$3)*([1]Août!$G$6:$G$500)),SUMPRODUCT(([1]Septembre!$D$6:$D$500=$A7)*([1]Septembre!$H$6:$H$500>=H$3)*([1]Septembre!$H$6:$H$500<I$3)*([1]Septembre!$G$6:$G$500)),SUMPRODUCT(([1]Octobre!$D$6:$D$500=$A7)*([1]Octobre!$H$6:$H$500>=H$3)*([1]Octobre!$H$6:$H$500<I$3)*([1]Octobre!$G$6:$G$500)),SUMPRODUCT(([1]Novembre!$D$6:$D$500=$A7)*([1]Novembre!$H$6:$H$500>=H$3)*([1]Novembre!$H$6:$H$500<I$3)*([1]Novembre!$G$6:$G$500)),SUMPRODUCT(([1]Décembre!$D$6:$D$500=$A7)*([1]Décembre!$H$6:$H$500>=H$3)*([1]Décembre!$H$6:$H$500<I$3)*([1]Décembre!$G$6:$G$500))),"")} -> 0 | I7: {=IF(ISTEXT($A7),SUM(SUMPRODUCT(([1]Janvier!$D$6:$D$500=$A7)*([1]Janvier!$H$6:$H$500>=I$3)*([1]Janvier!$H$6:$H$500<J$3)*([1]Janvier!$G$6:$G$500)),SUMPRODUCT(([1]Février!$D$6:$D$500=$A7)*([1]Février!$H$6:$H$500>=I$3)*([1]Février!$H$6:$H$500<J$3)*([1]Février!$G$6:$G$500)),SUMPRODUCT(([1]Mars!$D$6:$D$500=$A7)*([1]Mars!$H$6:$H$500>=I$3)*([1]Mars!$H$6:$H$500<J$3)*([1]Mars!$G$6:$G$500)),SUMPRODUCT(([1]Avril!$D$6:$D$500=$A7)*([1]Avril!$H$6:$H$500>=I$3)*([1]Avril!$H$6:$H$500<J$3)*([1]Avril!$G$6:$G$500)),SUMPRODUCT(([1]Mai!$D$6:$D$500=$A7)*([1]Mai!$H$6:$H$500>=I$3)*([1]Mai!$H$6:$H$500<J$3)*([1]Mai!$G$6:$G$500)),SUMPRODUCT(([1]Juin!$D$6:$D$500=$A7)*([1]Juin!$H$6:$H$500>=I$3)*([1]Juin!$H$6:$H$500<J$3)*([1]Juin!$G$6:$G$500)),SUMPRODUCT(([1]Juillet!$D$6:$D$500=$A7)*([1]Juillet!$H$6:$H$500>=I$3)*([1]Juillet!$H$6:$H$500<J$3)*([1]Juillet!$G$6:$G$500)),SUMPRODUCT(([1]Août!$D$6:$D$500=$A7)*([1]Août!$H$6:$H$500>=I$3)*([1]Août!$H$6:$H$500<J$3)*([1]Août!$G$6:$G$500)),SUMPRODUCT(([1]Septembre!$D$6:$D$500=$A7)*([1]Septembre!$H$6:$H$500>=I$3)*([1]Septembre!$H$6:$H$500<J$3)*([1]Septembre!$G$6:$G$500)),SUMPRODUCT(([1]Octobre!$D$6:$D$500=$A7)*([1]Octobre!$H$6:$H$500>=I$3)*([1]Octobre!$H$6:$H$500<J$3)*([1]Octobre!$G$6:$G$500)),SUMPRODUCT(([1]Novembre!$D$6:$D$500=$A7)*([1]Novembre!$H$6:$H$500>=I$3)*([1]Novembre!$H$6:$H$500<J$3)*([1]Novembre!$G$6:$G$500)),SUMPRODUCT(([1]Décembre!$D$6:$D$500=$A7)*([1]Décembre!$H$6:$H$500>=I$3)*([1]Décembre!$H$6:$H$500<J$3)*([1]Décembre!$G$6:$G$500))),"")} -> 0 | ... M7: {=IF(ISTEXT($A7),SUM(SUMPRODUCT(([1]Janvier!$D$6:$D$500=$A7)*([1]Janvier!$H$6:$H$500>=M$3)*([1]Janvier!$H$6:$H$500<N$3)*([1]Janvier!$G$6:$G$500)),SUMPRODUCT(([1]Février!$D$6:$D$500=$A7)*([1]Février!$H$6:$H$500>=M$3)*([1]Février!$H$6:$H$500<N$3)*([1]Février!$G$6:$G$500)),SUMPRODUCT(([1]Mars!$D$6:$D$500=$A7)*([1]Mars!$H$6:$H$500>=M$3)*([1]Mars!$H$6:$H$500<N$3)*([1]Mars!$G$6:$G$500)),SUMPRODUCT(([1]Avril!$D$6:$D$500=$A7)*([1]Avril!$H$6:$H$500>=M$3)*([1]Avril!$H$6:$H$500<N$3)*([1]Avril!$G$6:$G$500)),SUMPRODUCT(([1]Mai!$D$6:$D$500=$A7)*([1]Mai!$H$6:$H$500>=M$3)*([1]Mai!$H$6:$H$500<N$3)*([1]Mai!$G$6:$G$500)),SUMPRODUCT(([1]Juin!$D$6:$D$500=$A7)*([1]Juin!$H$6:$H$500>=M$3)*([1]Juin!$H$6:$H$500<N$3)*([1]Juin!$G$6:$G$500)),SUMPRODUCT(([1]Juillet!$D$6:$D$500=$A7)*([1]Juillet!$H$6:$H$500>=M$3)*([1]Juillet!$H$6:$H$500<N$3)*([1]Juillet!$G$6:$G$500)),SUMPRODUCT(([1]Août!$D$6:$D$500=$A7)*([1]Août!$H$6:$H$500>=M$3)*([1]Août!$H$6:$H$500<N$3)*([1]Août!$G$6:$G$500)),SUMPRODUCT(([1]Septembre!$D$6:$D$500=$A7)*([1]Septembre!$H$6:$H$500>=M$3)*([1]Septembre!$H$6:$H$500<N$3)*([1]Septembre!$G$6:$G$500)),SUMPRODUCT(([1]Octobre!$D$6:$D$500=$A7)*([1]Octobre!$H$6:$H$500>=M$3)*([1]Octobre!$H$6:$H$500<N$3)*([1]Octobre!$G$6:$G$500)),SUMPRODUCT(([1]Novembre!$D$6:$D$500=$A7)*([1]Novembre!$H$6:$H$500>=M$3)*([1]Novembre!$H$6:$H$500<N$3)*([1]Novembre!$G$6:$G$500)),SUMPRODUCT(([1]Décembre!$D$6:$D$500=$A7)*([1]Décembre!$H$6:$H$500>=M$3)*([1]Décembre!$H$6:$H$500<N$3)*([1]Décembre!$G$6:$G$500))),"")} -> 0 | O7: =SUM(B7:M7) -> 43.13
A8: ENTLOC | B8: {=IF(ISTEXT($A8),SUM(SUMPRODUCT(([1]Janvier!$D$6:$D$500=$A8)*([1]Janvier!$H$6:$H$500>=B$3)*([1]Janvier!$H$6:$H$500<C$3)*([1]Janvier!$G$6:$G$500)),SUMPRODUCT(([1]Février!$D$6:$D$500=$A8)*([1]Février!$H$6:$H$500>=B$3)*([1]Février!$H$6:$H$500<C$3)*([1]Février!$G$6:$G$500)),SUMPRODUCT(([1]Mars!$D$6:$D$500=$A8)*([1]Mars!$H$6:$H$500>=B$3)*([1]Mars!$H$6:$H$500<C$3)*([1]Mars!$G$6:$G$500)),SUMPRODUCT(([1]Avril!$D$6:$D$500=$A8)*([1]Avril!$H$6:$H$500>=B$3)*([1]Avril!$H$6:$H$500<C$3)*([1]Avril!$G$6:$G$500)),SUMPRODUCT(([1]Mai!$D$6:$D$500=$A8)*([1]Mai!$H$6:$H$500>=B$3)*([1]Mai!$H$6:$H$500<C$3)*([1]Mai!$G$6:$G$500)),SUMPRODUCT(([1]Juin!$D$6:$D$500=$A8)*([1]Juin!$H$6:$H$500>=B$3)*([1]Juin!$H$6:$H$500<C$3)*([1]Juin!$G$6:$G$500)),SUMPRODUCT(([1]Juillet!$D$6:$D$500=$A8)*([1]Juillet!$H$6:$H$500>=B$3)*([1]Juillet!$H$6:$H$500<C$3)*([1]Juillet!$G$6:$G$500)),SUMPRODUCT(([1]Août!$D$6:$D$500=$A8)*([1]Août!$H$6:$H$500>=B$3)*([1]Août!$H$6:$H$500<C$3)*([1]Août!$G$6:$G$500)),SUMPRODUCT(([1]Septembre!$D$6:$D$500=$A8)*([1]Septembre!$H$6:$H$500>=B$3)*([1]Septembre!$H$6:$H$500<C$3)*([1]Septembre!$G$6:$G$500)),SUMPRODUCT(([1]Octobre!$D$6:$D$500=$A8)*([1]Octobre!$H$6:$H$500>=B$3)*([1]Octobre!$H$6:$H$500<C$3)*([1]Octobre!$G$6:$G$500)),SUMPRODUCT(([1]Novembre!$D$6:$D$500=$A8)*([1]Novembre!$H$6:$H$500>=B$3)*([1]Novembre!$H$6:$H$500<C$3)*([1]Novembre!$G$6:$G$500)),SUMPRODUCT(([1]Décembre!$D$6:$D$500=$A8)*([1]Décembre!$H$6:$H$500>=B$3)*([1]Décembre!$H$6:$H$500<C$3)*([1]Décembre!$G$6:$G$500))),"")} -> 0 | C8: {=IF(ISTEXT($A8),SUM(SUMPRODUCT(([1]Janvier!$D$6:$D$500=$A8)*([1]Janvier!$H$6:$H$500>=C$3)*([1]Janvier!$H$6:$H$500<D$3)*([1]Janvier!$G$6:$G$500)),SUMPRODUCT(([1]Février!$D$6:$D$500=$A8)*([1]Février!$H$6:$H$500>=C$3)*([1]Février!$H$6:$H$500<D$3)*([1]Février!$G$6:$G$500)),SUMPRODUCT(([1]Mars!$D$6:$D$500=$A8)*([1]Mars!$H$6:$H$500>=C$3)*([1]Mars!$H$6:$H$500<D$3)*([1]Mars!$G$6:$G$500)),SUMPRODUCT(([1]Avril!$D$6:$D$500=$A8)*([1]Avril!$H$6:$H$500>=C$3)*([1]Avril!$H$6:$H$500<D$3)*([1]Avril!$G$6:$G$500)),SUMPRODUCT(([1]Mai!$D$6:$D$500=$A8)*([1]Mai!$H$6:$H$500>=C$3)*([1]Mai!$H$6:$H$500<D$3)*([1]Mai!$G$6:$G$500)),SUMPRODUCT(([1]Juin!$D$6:$D$500=$A8)*([1]Juin!$H$6:$H$500>=C$3)*([1]Juin!$H$6:$H$500<D$3)*([1]Juin!$G$6:$G$500)),SUMPRODUCT(([1]Juillet!$D$6:$D$500=$A8)*([1]Juillet!$H$6:$H$500>=C$3)*([1]Juillet!$H$6:$H$500<D$3)*([1]Juillet!$G$6:$G$500)),SUMPRODUCT(([1]Août!$D$6:$D$500=$A8)*([1]Août!$H$6:$H$500>=C$3)*([1]Août!$H$6:$H$500<D$3)*([1]Août!$G$6:$G$500)),SUMPRODUCT(([1]Septembre!$D$6:$D$500=$A8)*([1]Septembre!$H$6:$H$500>=C$3)*([1]Septembre!$H$6:$H$500<D$3)*([1]Septembre!$G$6:$G$500)),SUMPRODUCT(([1]Octobre!$D$6:$D$500=$A8)*([1]Octobre!$H$6:$H$500>=C$3)*([1]Octobre!$H$6:$H$500<D$3)*([1]Octobre!$G$6:$G$500)),SUMPRODUCT(([1]Novembre!$D$6:$D$500=$A8)*([1]Novembre!$H$6:$H$500>=C$3)*([1]Novembre!$H$6:$H$500<D$3)*([1]Novembre!$G$6:$G$500)),SUMPRODUCT(([1]Décembre!$D$6:$D$500=$A8)*([1]Décembre!$H$6:$H$500>=C$3)*([1]Décembre!$H$6:$H$500<D$3)*([1]Décembre!$G$6:$G$500))),"")} -> 0 | D8: {=IF(ISTEXT($A8),SUM(SUMPRODUCT(([1]Janvier!$D$6:$D$500=$A8)*([1]Janvier!$H$6:$H$500>=D$3)*([1]Janvier!$H$6:$H$500<E$3)*([1]Janvier!$G$6:$G$500)),SUMPRODUCT(([1]Février!$D$6:$D$500=$A8)*([1]Février!$H$6:$H$500>=D$3)*([1]Février!$H$6:$H$500<E$3)*([1]Février!$G$6:$G$500)),SUMPRODUCT(([1]Mars!$D$6:$D$500=$A8)*([1]Mars!$H$6:$H$500>=D$3)*([1]Mars!$H$6:$H$500<E$3)*([1]Mars!$G$6:$G$500)),SUMPRODUCT(([1]Avril!$D$6:$D$500=$A8)*([1]Avril!$H$6:$H$500>=D$3)*([1]Avril!$H$6:$H$500<E$3)*([1]Avril!$G$6:$G$500)),SUMPRODUCT(([1]Mai!$D$6:$D$500=$A8)*([1]Mai!$H$6:$H$500>=D$3)*([1]Mai!$H$6:$H$500<E$3)*([1]Mai!$G$6:$G$500)),SUMPRODUCT(([1]Juin!$D$6:$D$500=$A8)*([1]Juin!$H$6:$H$500>=D$3)*([1]Juin!$H$6:$H$500<E$3)*([1]Juin!$G$6:$G$500)),SUMPRODUCT(([1]Juillet!$D$6:$D$500=$A8)*([1]Juillet!$H$6:$H$500>=D$3)*([1]Juillet!$H$6:$H$500<E$3)*([1]Juillet!$G$6:$G$500)),SUMPRODUCT(([1]Août!$D$6:$D$500=$A8)*([1]Août!$H$6:$H$500>=D$3)*([1]Août!$H$6:$H$500<E$3)*([1]Août!$G$6:$G$500)),SUMPRODUCT(([1]Septembre!$D$6:$D$500=$A8)*([1]Septembre!$H$6:$H$500>=D$3)*([1]Septembre!$H$6:$H$500<E$3)*([1]Septembre!$G$6:$G$500)),SUMPRODUCT(([1]Octobre!$D$6:$D$500=$A8)*([1]Octobre!$H$6:$H$500>=D$3)*([1]Octobre!$H$6:$H$500<E$3)*([1]Octobre!$G$6:$G$500)),SUMPRODUCT(([1]Novembre!$D$6:$D$500=$A8)*([1]Novembre!$H$6:$H$500>=D$3)*([1]Novembre!$H$6:$H$500<E$3)*([1]Novembre!$G$6:$G$500)),SUMPRODUCT(([1]Décembre!$D$6:$D$500=$A8)*([1]Décembre!$H$6:$H$500>=D$3)*([1]Décembre!$H$6:$H$500<E$3)*([1]Décembre!$G$6:$G$500))),"")} -> 0 | E8: {=IF(ISTEXT($A8),SUM(SUMPRODUCT(([1]Janvier!$D$6:$D$500=$A8)*([1]Janvier!$H$6:$H$500>=E$3)*([1]Janvier!$H$6:$H$500<F$3)*([1]Janvier!$G$6:$G$500)),SUMPRODUCT(([1]Février!$D$6:$D$500=$A8)*([1]Février!$H$6:$H$500>=E$3)*([1]Février!$H$6:$H$500<F$3)*([1]Février!$G$6:$G$500)),SUMPRODUCT(([1]Mars!$D$6:$D$500=$A8)*([1]Mars!$H$6:$H$500>=E$3)*([1]Mars!$H$6:$H$500<F$3)*([1]Mars!$G$6:$G$500)),SUMPRODUCT(([1]Avril!$D$6:$D$500=$A8)*([1]Avril!$H$6:$H$500>=E$3)*([1]Avril!$H$6:$H$500<F$3)*([1]Avril!$G$6:$G$500)),SUMPRODUCT(([1]Mai!$D$6:$D$500=$A8)*([1]Mai!$H$6:$H$500>=E$3)*([1]Mai!$H$6:$H$500<F$3)*([1]Mai!$G$6:$G$500)),SUMPRODUCT(([1]Juin!$D$6:$D$500=$A8)*([1]Juin!$H$6:$H$500>=E$3)*([1]Juin!$H$6:$H$500<F$3)*([1]Juin!$G$6:$G$500)),SUMPRODUCT(([1]Juillet!$D$6:$D$500=$A8)*([1]Juillet!$H$6:$H$500>=E$3)*([1]Juillet!$H$6:$H$500<F$3)*([1]Juillet!$G$6:$G$500)),SUMPRODUCT(([1]Août!$D$6:$D$500=$A8)*([1]Août!$H$6:$H$500>=E$3)*([1]Août!$H$6:$H$500<F$3)*([1]Août!$G$6:$G$500)),SUMPRODUCT(([1]Septembre!$D$6:$D$500=$A8)*([1]Septembre!$H$6:$H$500>=E$3)*([1]Septembre!$H$6:$H$500<F$3)*([1]Septembre!$G$6:$G$500)),SUMPRODUCT(([1]Octobre!$D$6:$D$500=$A8)*([1]Octobre!$H$6:$H$500>=E$3)*([1]Octobre!$H$6:$H$500<F$3)*([1]Octobre!$G$6:$G$500)),SUMPRODUCT(([1]Novembre!$D$6:$D$500=$A8)*([1]Novembre!$H$6:$H$500>=E$3)*([1]Novembre!$H$6:$H$500<F$3)*([1]Novembre!$G$6:$G$500)),SUMPRODUCT(([1]Décembre!$D$6:$D$500=$A8)*([1]Décembre!$H$6:$H$500>=E$3)*([1]Décembre!$H$6:$H$500<F$3)*([1]Décembre!$G$6:$G$500))),"")} -> 0 | F8: {=IF(ISTEXT($A8),SUM(SUMPRODUCT(([1]Janvier!$D$6:$D$500=$A8)*([1]Janvier!$H$6:$H$500>=F$3)*([1]Janvier!$H$6:$H$500<G$3)*([1]Janvier!$G$6:$G$500)),SUMPRODUCT(([1]Février!$D$6:$D$500=$A8)*([1]Février!$H$6:$H$500>=F$3)*([1]Février!$H$6:$H$500<G$3)*([1]Février!$G$6:$G$500)),SUMPRODUCT(([1]Mars!$D$6:$D$500=$A8)*([1]Mars!$H$6:$H$500>=F$3)*([1]Mars!$H$6:$H$500<G$3)*([1]Mars!$G$6:$G$500)),SUMPRODUCT(([1]Avril!$D$6:$D$500=$A8)*([1]Avril!$H$6:$H$500>=F$3)*([1]Avril!$H$6:$H$500<G$3)*([1]Avril!$G$6:$G$500)),SUMPRODUCT(([1]Mai!$D$6:$D$500=$A8)*([1]Mai!$H$6:$H$500>=F$3)*([1]Mai!$H$6:$H$500<G$3)*([1]Mai!$G$6:$G$500)),SUMPRODUCT(([1]Juin!$D$6:$D$500=$A8)*([1]Juin!$H$6:$H$500>=F$3)*([1]Juin!$H$6:$H$500<G$3)*([1]Juin!$G$6:$G$500)),SUMPRODUCT(([1]Juillet!$D$6:$D$500=$A8)*([1]Juillet!$H$6:$H$500>=F$3)*([1]Juillet!$H$6:$H$500<G$3)*([1]Juillet!$G$6:$G$500)),SUMPRODUCT(([1]Août!$D$6:$D$500=$A8)*([1]Août!$H$6:$H$500>=F$3)*([1]Août!$H$6:$H$500<G$3)*([1]Août!$G$6:$G$500)),SUMPRODUCT(([1]Septembre!$D$6:$D$500=$A8)*([1]Septembre!$H$6:$H$500>=F$3)*([1]Septembre!$H$6:$H$500<G$3)*([1]Septembre!$G$6:$G$500)),SUMPRODUCT(([1]Octobre!$D$6:$D$500=$A8)*([1]Octobre!$H$6:$H$500>=F$3)*([1]Octobre!$H$6:$H$500<G$3)*([1]Octobre!$G$6:$G$500)),SUMPRODUCT(([1]Novembre!$D$6:$D$500=$A8)*([1]Novembre!$H$6:$H$500>=F$3)*([1]Novembre!$H$6:$H$500<G$3)*([1]Novembre!$G$6:$G$500)),SUMPRODUCT(([1]Décembre!$D$6:$D$500=$A8)*([1]Décembre!$H$6:$H$500>=F$3)*([1]Décembre!$H$6:$H$500<G$3)*([1]Décembre!$G$6:$G$500))),"")} -> 0 | G8: {=IF(ISTEXT($A8),SUM(SUMPRODUCT(([1]Janvier!$D$6:$D$500=$A8)*([1]Janvier!$H$6:$H$500>=G$3)*([1]Janvier!$H$6:$H$500<H$3)*([1]Janvier!$G$6:$G$500)),SUMPRODUCT(([1]Février!$D$6:$D$500=$A8)*([1]Février!$H$6:$H$500>=G$3)*([1]Février!$H$6:$H$500<H$3)*([1]Février!$G$6:$G$500)),SUMPRODUCT(([1]Mars!$D$6:$D$500=$A8)*([1]Mars!$H$6:$H$500>=G$3)*([1]Mars!$H$6:$H$500<H$3)*([1]Mars!$G$6:$G$500)),SUMPRODUCT(([1]Avril!$D$6:$D$500=$A8)*([1]Avril!$H$6:$H$500>=G$3)*([1]Avril!$H$6:$H$500<H$3)*([1]Avril!$G$6:$G$500)),SUMPRODUCT(([1]Mai!$D$6:$D$500=$A8)*([1]Mai!$H$6:$H$500>=G$3)*([1]Mai!$H$6:$H$500<H$3)*([1]Mai!$G$6:$G$500)),SUMPRODUCT(([1]Juin!$D$6:$D$500=$A8)*([1]Juin!$H$6:$H$500>=G$3)*([1]Juin!$H$6:$H$500<H$3)*([1]Juin!$G$6:$G$500)),SUMPRODUCT(([1]Juillet!$D$6:$D$500=$A8)*([1]Juillet!$H$6:$H$500>=G$3)*([1]Juillet!$H$6:$H$500<H$3)*([1]Juillet!$G$6:$G$500)),SUMPRODUCT(([1]Août!$D$6:$D$500=$A8)*([1]Août!$H$6:$H$500>=G$3)*([1]Août!$H$6:$H$500<H$3)*([1]Août!$G$6:$G$500)),SUMPRODUCT(([1]Septembre!$D$6:$D$500=$A8)*([1]Septembre!$H$6:$H$500>=G$3)*([1]Septembre!$H$6:$H$500<H$3)*([1]Septembre!$G$6:$G$500)),SUMPRODUCT(([1]Octobre!$D$6:$D$500=$A8)*([1]Octobre!$H$6:$H$500>=G$3)*([1]Octobre!$H$6:$H$500<H$3)*([1]Octobre!$G$6:$G$500)),SUMPRODUCT(([1]Novembre!$D$6:$D$500=$A8)*([1]Novembre!$H$6:$H$500>=G$3)*([1]Novembre!$H$6:$H$500<H$3)*([1]Novembre!$G$6:$G$500)),SUMPRODUCT(([1]Décembre!$D$6:$D$500=$A8)*([1]Décembre!$H$6:$H$500>=G$3)*([1]Décembre!$H$6:$H$500<H$3)*([1]Décembre!$G$6:$G$500))),"")} -> 0 | H8: {=IF(ISTEXT($A8),SUM(SUMPRODUCT(([1]Janvier!$D$6:$D$500=$A8)*([1]Janvier!$H$6:$H$500>=H$3)*([1]Janvier!$H$6:$H$500<I$3)*([1]Janvier!$G$6:$G$500)),SUMPRODUCT(([1]Février!$D$6:$D$500=$A8)*([1]Février!$H$6:$H$500>=H$3)*([1]Février!$H$6:$H$500<I$3)*([1]Février!$G$6:$G$500)),SUMPRODUCT(([1]Mars!$D$6:$D$500=$A8)*([1]Mars!$H$6:$H$500>=H$3)*([1]Mars!$H$6:$H$500<I$3)*([1]Mars!$G$6:$G$500)),SUMPRODUCT(([1]Avril!$D$6:$D$500=$A8)*([1]Avril!$H$6:$H$500>=H$3)*([1]Avril!$H$6:$H$500<I$3)*([1]Avril!$G$6:$G$500)),SUMPRODUCT(([1]Mai!$D$6:$D$500=$A8)*([1]Mai!$H$6:$H$500>=H$3)*([1]Mai!$H$6:$H$500<I$3)*([1]Mai!$G$6:$G$500)),SUMPRODUCT(([1]Juin!$D$6:$D$500=$A8)*([1]Juin!$H$6:$H$500>=H$3)*([1]Juin!$H$6:$H$500<I$3)*([1]Juin!$G$6:$G$500)),SUMPRODUCT(([1]Juillet!$D$6:$D$500=$A8)*([1]Juillet!$H$6:$H$500>=H$3)*([1]Juillet!$H$6:$H$500<I$3)*([1]Juillet!$G$6:$G$500)),SUMPRODUCT(([1]Août!$D$6:$D$500=$A8)*([1]Août!$H$6:$H$500>=H$3)*([1]Août!$H$6:$H$500<I$3)*([1]Août!$G$6:$G$500)),SUMPRODUCT(([1]Septembre!$D$6:$D$500=$A8)*([1]Septembre!$H$6:$H$500>=H$3)*([1]Septembre!$H$6:$H$500<I$3)*([1]Septembre!$G$6:$G$500)),SUMPRODUCT(([1]Octobre!$D$6:$D$500=$A8)*([1]Octobre!$H$6:$H$500>=H$3)*([1]Octobre!$H$6:$H$500<I$3)*([1]Octobre!$G$6:$G$500)),SUMPRODUCT(([1]Novembre!$D$6:$D$500=$A8)*([1]Novembre!$H$6:$H$500>=H$3)*([1]Novembre!$H$6:$H$500<I$3)*([1]Novembre!$G$6:$G$500)),SUMPRODUCT(([1]Décembre!$D$6:$D$500=$A8)*([1]Décembre!$H$6:$H$500>=H$3)*([1]Décembre!$H$6:$H$500<I$3)*([1]Décembre!$G$6:$G$500))),"")} -> 0 | I8: {=IF(ISTEXT($A8),SUM(SUMPRODUCT(([1]Janvier!$D$6:$D$500=$A8)*([1]Janvier!$H$6:$H$500>=I$3)*([1]Janvier!$H$6:$H$500<J$3)*([1]Janvier!$G$6:$G$500)),SUMPRODUCT(([1]Février!$D$6:$D$500=$A8)*([1]Février!$H$6:$H$500>=I$3)*([1]Février!$H$6:$H$500<J$3)*([1]Février!$G$6:$G$500)),SUMPRODUCT(([1]Mars!$D$6:$D$500=$A8)*([1]Mars!$H$6:$H$500>=I$3)*([1]Mars!$H$6:$H$500<J$3)*([1]Mars!$G$6:$G$500)),SUMPRODUCT(([1]Avril!$D$6:$D$500=$A8)*([1]Avril!$H$6:$H$500>=I$3)*([1]Avril!$H$6:$H$500<J$3)*([1]Avril!$G$6:$G$500)),SUMPRODUCT(([1]Mai!$D$6:$D$500=$A8)*([1]Mai!$H$6:$H$500>=I$3)*([1]Mai!$H$6:$H$500<J$3)*([1]Mai!$G$6:$G$500)),SUMPRODUCT(([1]Juin!$D$6:$D$500=$A8)*([1]Juin!$H$6:$H$500>=I$3)*([1]Juin!$H$6:$H$500<J$3)*([1]Juin!$G$6:$G$500)),SUMPRODUCT(([1]Juillet!$D$6:$D$500=$A8)*([1]Juillet!$H$6:$H$500>=I$3)*([1]Juillet!$H$6:$H$500<J$3)*([1]Juillet!$G$6:$G$500)),SUMPRODUCT(([1]Août!$D$6:$D$500=$A8)*([1]Août!$H$6:$H$500>=I$3)*([1]Août!$H$6:$H$500<J$3)*([1]Août!$G$6:$G$500)),SUMPRODUCT(([1]Septembre!$D$6:$D$500=$A8)*([1]Septembre!$H$6:$H$500>=I$3)*([1]Septembre!$H$6:$H$500<J$3)*([1]Septembre!$G$6:$G$500)),SUMPRODUCT(([1]Octobre!$D$6:$D$500=$A8)*([1]Octobre!$H$6:$H$500>=I$3)*([1]Octobre!$H$6:$H$500<J$3)*([1]Octobre!$G$6:$G$500)),SUMPRODUCT(([1]Novembre!$D$6:$D$500=$A8)*([1]Novembre!$H$6:$H$500>=I$3)*([1]Novembre!$H$6:$H$500<J$3)*([1]Novembre!$G$6:$G$500)),SUMPRODUCT(([1]Décembre!$D$6:$D$500=$A8)*([1]Décembre!$H$6:$H$500>=I$3)*([1]Décembre!$H$6:$H$500<J$3)*([1]Décembre!$G$6:$G$500))),"")} -> 139.18 | ... M8: {=IF(ISTEXT($A8),SUM(SUMPRODUCT(([1]Janvier!$D$6:$D$500=$A8)*([1]Janvier!$H$6:$H$500>=M$3)*([1]Janvier!$H$6:$H$500<N$3)*([1]Janvier!$G$6:$G$500)),SUMPRODUCT(([1]Février!$D$6:$D$500=$A8)*([1]Février!$H$6:$H$500>=M$3)*([1]Février!$H$6:$H$500<N$3)*([1]Février!$G$6:$G$500)),SUMPRODUCT(([1]Mars!$D$6:$D$500=$A8)*([1]Mars!$H$6:$H$500>=M$3)*([1]Mars!$H$6:$H$500<N$3)*([1]Mars!$G$6:$G$500)),SUMPRODUCT(([1]Avril!$D$6:$D$500=$A8)*([1]Avril!$H$6:$H$500>=M$3)*([1]Avril!$H$6:$H$500<N$3)*([1]Avril!$G$6:$G$500)),SUMPRODUCT(([1]Mai!$D$6:$D$500=$A8)*([1]Mai!$H$6:$H$500>=M$3)*([1]Mai!$H$6:$H$500<N$3)*([1]Mai!$G$6:$G$500)),SUMPRODUCT(([1]Juin!$D$6:$D$500=$A8)*([1]Juin!$H$6:$H$500>=M$3)*([1]Juin!$H$6:$H$500<N$3)*([1]Juin!$G$6:$G$500)),SUMPRODUCT(([1]Juillet!$D$6:$D$500=$A8)*([1]Juillet!$H$6:$H$500>=M$3)*([1]Juillet!$H$6:$H$500<N$3)*([1]Juillet!$G$6:$G$500)),SUMPRODUCT(([1]Août!$D$6:$D$500=$A8)*([1]Août!$H$6:$H$500>=M$3)*([1]Août!$H$6:$H$500<N$3)*([1]Août!$G$6:$G$500)),SUMPRODUCT(([1]Septembre!$D$6:$D$500=$A8)*([1]Septembre!$H$6:$H$500>=M$3)*([1]Septembre!$H$6:$H$500<N$3)*([1]Septembre!$G$6:$G$500)),SUMPRODUCT(([1]Octobre!$D$6:$D$500=$A8)*([1]Octobre!$H$6:$H$500>=M$3)*([1]Octobre!$H$6:$H$500<N$3)*([1]Octobre!$G$6:$G$500)),SUMPRODUCT(([1]Novembre!$D$6:$D$500=$A8)*([1]Novembre!$H$6:$H$500>=M$3)*([1]Novembre!$H$6:$H$500<N$3)*([1]Novembre!$G$6:$G$500)),SUMPRODUCT(([1]Décembre!$D$6:$D$500=$A8)*([1]Décembre!$H$6:$H$500>=M$3)*([1]Décembre!$H$6:$H$500<N$3)*([1]Décembre!$G$6:$G$500))),"")} -> 0 | O8: =SUM(B8:M8) -> 139.18
B9: {=IF(ISTEXT($A9),SUM(SUMPRODUCT(([1]Janvier!$D$6:$D$500=$A9)*([1]Janvier!$H$6:$H$500>=B$3)*([1]Janvier!$H$6:$H$500<C$3)*([1]Janvier!$G$6:$G$500)),SUMPRODUCT(([1]Février!$D$6:$D$500=$A9)*([1]Février!$H$6:$H$500>=B$3)*([1]Février!$H$6:$H$500<C$3)*([1]Février!$G$6:$G$500)),SUMPRODUCT(([1]Mars!$D$6:$D$500=$A9)*([1]Mars!$H$6:$H$500>=B$3)*([1]Mars!$H$6:$H$500<C$3)*([1]Mars!$G$6:$G$500)),SUMPRODUCT(([1]Avril!$D$6:$D$500=$A9)*([1]Avril!$H$6:$H$500>=B$3)*([1]Avril!$H$6:$H$500<C$3)*([1]Avril!$G$6:$G$500)),SUMPRODUCT(([1]Mai!$D$6:$D$500=$A9)*([1]Mai!$H$6:$H$500>=B$3)*([1]Mai!$H$6:$H$500<C$3)*([1]Mai!$G$6:$G$500)),SUMPRODUCT(([1]Juin!$D$6:$D$500=$A9)*([1]Juin!$H$6:$H$500>=B$3)*([1]Juin!$H$6:$H$500<C$3)*([1]Juin!$G$6:$G$500)),SUMPRODUCT(([1]Juillet!$D$6:$D$500=$A9)*([1]Juillet!$H$6:$H$500>=B$3)*([1]Juillet!$H$6:$H$500<C$3)*([1]Juillet!$G$6:$G$500)),SUMPRODUCT(([1]Août!$D$6:$D$500=$A9)*([1]Août!$H$6:$H$500>=B$3)*([1]Août!$H$6:$H$500<C$3)*([1]Août!$G$6:$G$500)),SUMPRODUCT(([1]Septembre!$D$6:$D$500=$A9)*([1]Septembre!$H$6:$H$500>=B$3)*([1]Septembre!$H$6:$H$500<C$3)*([1]Septembre!$G$6:$G$500)),SUMPRODUCT(([1]Octobre!$D$6:$D$500=$A9)*([1]Octobre!$H$6:$H$500>=B$3)*([1]Octobre!$H$6:$H$500<C$3)*([1]Octobre!$G$6:$G$500)),SUMPRODUCT(([1]Novembre!$D$6:$D$500=$A9)*([1]Novembre!$H$6:$H$500>=B$3)*([1]Novembre!$H$6:$H$500<C$3)*([1]Novembre!$G$6:$G$500)),SUMPRODUCT(([1]Décembre!$D$6:$D$500=$A9)*([1]Décembre!$H$6:$H$500>=B$3)*([1]Décembre!$H$6:$H$500<C$3)*([1]Décembre!$G$6:$G$500))),"")} | C9: {=IF(ISTEXT($A9),SUM(SUMPRODUCT(([1]Janvier!$D$6:$D$500=$A9)*([1]Janvier!$H$6:$H$500>=C$3)*([1]Janvier!$H$6:$H$500<D$3)*([1]Janvier!$G$6:$G$500)),SUMPRODUCT(([1]Février!$D$6:$D$500=$A9)*([1]Février!$H$6:$H$500>=C$3)*([1]Février!$H$6:$H$500<D$3)*([1]Février!$G$6:$G$500)),SUMPRODUCT(([1]Mars!$D$6:$D$500=$A9)*([1]Mars!$H$6:$H$500>=C$3)*([1]Mars!$H$6:$H$500<D$3)*([1]Mars!$G$6:$G$500)),SUMPRODUCT(([1]Avril!$D$6:$D$500=$A9)*([1]Avril!$H$6:$H$500>=C$3)*([1]Avril!$H$6:$H$500<D$3)*([1]Avril!$G$6:$G$500)),SUMPRODUCT(([1]Mai!$D$6:$D$500=$A9)*([1]Mai!$H$6:$H$500>=C$3)*([1]Mai!$H$6:$H$500<D$3)*([1]Mai!$G$6:$G$500)),SUMPRODUCT(([1]Juin!$D$6:$D$500=$A9)*([1]Juin!$H$6:$H$500>=C$3)*([1]Juin!$H$6:$H$500<D$3)*([1]Juin!$G$6:$G$500)),SUMPRODUCT(([1]Juillet!$D$6:$D$500=$A9)*([1]Juillet!$H$6:$H$500>=C$3)*([1]Juillet!$H$6:$H$500<D$3)*([1]Juillet!$G$6:$G$500)),SUMPRODUCT(([1]Août!$D$6:$D$500=$A9)*([1]Août!$H$6:$H$500>=C$3)*([1]Août!$H$6:$H$500<D$3)*([1]Août!$G$6:$G$500)),SUMPRODUCT(([1]Septembre!$D$6:$D$500=$A9)*([1]Septembre!$H$6:$H$500>=C$3)*([1]Septembre!$H$6:$H$500<D$3)*([1]Septembre!$G$6:$G$500)),SUMPRODUCT(([1]Octobre!$D$6:$D$500=$A9)*([1]Octobre!$H$6:$H$500>=C$3)*([1]Octobre!$H$6:$H$500<D$3)*([1]Octobre!$G$6:$G$500)),SUMPRODUCT(([1]Novembre!$D$6:$D$500=$A9)*([1]Novembre!$H$6:$H$500>=C$3)*([1]Novembre!$H$6:$H$500<D$3)*([1]Novembre!$G$6:$G$500)),SUMPRODUCT(([1]Décembre!$D$6:$D$500=$A9)*([1]Décembre!$H$6:$H$500>=C$3)*([1]Décembre!$H$6:$H$500<D$3)*([1]Décembre!$G$6:$G$500))),"")} | D9: {=IF(ISTEXT($A9),SUM(SUMPRODUCT(([1]Janvier!$D$6:$D$500=$A9)*([1]Janvier!$H$6:$H$500>=D$3)*([1]Janvier!$H$6:$H$500<E$3)*([1]Janvier!$G$6:$G$500)),SUMPRODUCT(([1]Février!$D$6:$D$500=$A9)*([1]Février!$H$6:$H$500>=D$3)*([1]Février!$H$6:$H$500<E$3)*([1]Février!$G$6:$G$500)),SUMPRODUCT(([1]Mars!$D$6:$D$500=$A9)*([1]Mars!$H$6:$H$500>=D$3)*([1]Mars!$H$6:$H$500<E$3)*([1]Mars!$G$6:$G$500)),SUMPRODUCT(([1]Avril!$D$6:$D$500=$A9)*([1]Avril!$H$6:$H$500>=D$3)*([1]Avril!$H$6:$H$500<E$3)*([1]Avril!$G$6:$G$500)),SUMPRODUCT(([1]Mai!$D$6:$D$500=$A9)*([1]Mai!$H$6:$H$500>=D$3)*([1]Mai!$H$6:$H$500<E$3)*([1]Mai!$G$6:$G$500)),SUMPRODUCT(([1]Juin!$D$6:$D$500=$A9)*([1]Juin!$H$6:$H$500>=D$3)*([1]Juin!$H$6:$H$500<E$3)*([1]Juin!$G$6:$G$500)),SUMPRODUCT(([1]Juillet!$D$6:$D$500=$A9)*([1]Juillet!$H$6:$H$500>=D$3)*([1]Juillet!$H$6:$H$500<E$3)*([1]Juillet!$G$6:$G$500)),SUMPRODUCT(([1]Août!$D$6:$D$500=$A9)*([1]Août!$H$6:$H$500>=D$3)*([1]Août!$H$6:$H$500<E$3)*([1]Août!$G$6:$G$500)),SUMPRODUCT(([1]Septembre!$D$6:$D$500=$A9)*([1]Septembre!$H$6:$H$500>=D$3)*([1]Septembre!$H$6:$H$500<E$3)*([1]Septembre!$G$6:$G$500)),SUMPRODUCT(([1]Octobre!$D$6:$D$500=$A9)*([1]Octobre!$H$6:$H$500>=D$3)*([1]Octobre!$H$6:$H$500<E$3)*([1]Octobre!$G$6:$G$500)),SUMPRODUCT(([1]Novembre!$D$6:$D$500=$A9)*([1]Novembre!$H$6:$H$500>=D$3)*([1]Novembre!$H$6:$H$500<E$3)*([1]Novembre!$G$6:$G$500)),SUMPRODUCT(([1]Décembre!$D$6:$D$500=$A9)*([1]Décembre!$H$6:$H$500>=D$3)*([1]Décembre!$H$6:$H$500<E$3)*([1]Décembre!$G$6:$G$500))),"")} | E9: {=IF(ISTEXT($A9),SUM(SUMPRODUCT(([1]Janvier!$D$6:$D$500=$A9)*([1]Janvier!$H$6:$H$500>=E$3)*([1]Janvier!$H$6:$H$500<F$3)*([1]Janvier!$G$6:$G$500)),SUMPRODUCT(([1]Février!$D$6:$D$500=$A9)*([1]Février!$H$6:$H$500>=E$3)*([1]Février!$H$6:$H$500<F$3)*([1]Février!$G$6:$G$500)),SUMPRODUCT(([1]Mars!$D$6:$D$500=$A9)*([1]Mars!$H$6:$H$500>=E$3)*([1]Mars!$H$6:$H$500<F$3)*([1]Mars!$G$6:$G$500)),SUMPRODUCT(([1]Avril!$D$6:$D$500=$A9)*([1]Avril!$H$6:$H$500>=E$3)*([1]Avril!$H$6:$H$500<F$3)*([1]Avril!$G$6:$G$500)),SUMPRODUCT(([1]Mai!$D$6:$D$500=$A9)*([1]Mai!$H$6:$H$500>=E$3)*([1]Mai!$H$6:$H$500<F$3)*([1]Mai!$G$6:$G$500)),SUMPRODUCT(([1]Juin!$D$6:$D$500=$A9)*([1]Juin!$H$6:$H$500>=E$3)*([1]Juin!$H$6:$H$500<F$3)*([1]Juin!$G$6:$G$500)),SUMPRODUCT(([1]Juillet!$D$6:$D$500=$A9)*([1]Juillet!$H$6:$H$500>=E$3)*([1]Juillet!$H$6:$H$500<F$3)*([1]Juillet!$G$6:$G$500)),SUMPRODUCT(([1]Août!$D$6:$D$500=$A9)*([1]Août!$H$6:$H$500>=E$3)*([1]Août!$H$6:$H$500<F$3)*([1]Août!$G$6:$G$500)),SUMPRODUCT(([1]Septembre!$D$6:$D$500=$A9)*([1]Septembre!$H$6:$H$500>=E$3)*([1]Septembre!$H$6:$H$500<F$3)*([1]Septembre!$G$6:$G$500)),SUMPRODUCT(([1]Octobre!$D$6:$D$500=$A9)*([1]Octobre!$H$6:$H$500>=E$3)*([1]Octobre!$H$6:$H$500<F$3)*([1]Octobre!$G$6:$G$500)),SUMPRODUCT(([1]Novembre!$D$6:$D$500=$A9)*([1]Novembre!$H$6:$H$500>=E$3)*([1]Novembre!$H$6:$H$500<F$3)*([1]Novembre!$G$6:$G$500)),SUMPRODUCT(([1]Décembre!$D$6:$D$500=$A9)*([1]Décembre!$H$6:$H$500>=E$3)*([1]Décembre!$H$6:$H$500<F$3)*([1]Décembre!$G$6:$G$500))),"")} | F9: {=IF(ISTEXT($A9),SUM(SUMPRODUCT(([1]Janvier!$D$6:$D$500=$A9)*([1]Janvier!$H$6:$H$500>=F$3)*([1]Janvier!$H$6:$H$500<G$3)*([1]Janvier!$G$6:$G$500)),SUMPRODUCT(([1]Février!$D$6:$D$500=$A9)*([1]Février!$H$6:$H$500>=F$3)*([1]Février!$H$6:$H$500<G$3)*([1]Février!$G$6:$G$500)),SUMPRODUCT(([1]Mars!$D$6:$D$500=$A9)*([1]Mars!$H$6:$H$500>=F$3)*([1]Mars!$H$6:$H$500<G$3)*([1]Mars!$G$6:$G$500)),SUMPRODUCT(([1]Avril!$D$6:$D$500=$A9)*([1]Avril!$H$6:$H$500>=F$3)*([1]Avril!$H$6:$H$500<G$3)*([1]Avril!$G$6:$G$500)),SUMPRODUCT(([1]Mai!$D$6:$D$500=$A9)*([1]Mai!$H$6:$H$500>=F$3)*([1]Mai!$H$6:$H$500<G$3)*([1]Mai!$G$6:$G$500)),SUMPRODUCT(([1]Juin!$D$6:$D$500=$A9)*([1]Juin!$H$6:$H$500>=F$3)*([1]Juin!$H$6:$H$500<G$3)*([1]Juin!$G$6:$G$500)),SUMPRODUCT(([1]Juillet!$D$6:$D$500=$A9)*([1]Juillet!$H$6:$H$500>=F$3)*([1]Juillet!$H$6:$H$500<G$3)*([1]Juillet!$G$6:$G$500)),SUMPRODUCT(([1]Août!$D$6:$D$500=$A9)*([1]Août!$H$6:$H$500>=F$3)*([1]Août!$H$6:$H$500<G$3)*([1]Août!$G$6:$G$500)),SUMPRODUCT(([1]Septembre!$D$6:$D$500=$A9)*([1]Septembre!$H$6:$H$500>=F$3)*([1]Septembre!$H$6:$H$500<G$3)*([1]Septembre!$G$6:$G$500)),SUMPRODUCT(([1]Octobre!$D$6:$D$500=$A9)*([1]Octobre!$H$6:$H$500>=F$3)*([1]Octobre!$H$6:$H$500<G$3)*([1]Octobre!$G$6:$G$500)),SUMPRODUCT(([1]Novembre!$D$6:$D$500=$A9)*([1]Novembre!$H$6:$H$500>=F$3)*([1]Novembre!$H$6:$H$500<G$3)*([1]Novembre!$G$6:$G$500)),SUMPRODUCT(([1]Décembre!$D$6:$D$500=$A9)*([1]Décembre!$H$6:$H$500>=F$3)*([1]Décembre!$H$6:$H$500<G$3)*([1]Décembre!$G$6:$G$500))),"")} | G9: {=IF(ISTEXT($A9),SUM(SUMPRODUCT(([1]Janvier!$D$6:$D$500=$A9)*([1]Janvier!$H$6:$H$500>=G$3)*([1]Janvier!$H$6:$H$500<H$3)*([1]Janvier!$G$6:$G$500)),SUMPRODUCT(([1]Février!$D$6:$D$500=$A9)*([1]Février!$H$6:$H$500>=G$3)*([1]Février!$H$6:$H$500<H$3)*([1]Février!$G$6:$G$500)),SUMPRODUCT(([1]Mars!$D$6:$D$500=$A9)*([1]Mars!$H$6:$H$500>=G$3)*([1]Mars!$H$6:$H$500<H$3)*([1]Mars!$G$6:$G$500)),SUMPRODUCT(([1]Avril!$D$6:$D$500=$A9)*([1]Avril!$H$6:$H$500>=G$3)*([1]Avril!$H$6:$H$500<H$3)*([1]Avril!$G$6:$G$500)),SUMPRODUCT(([1]Mai!$D$6:$D$500=$A9)*([1]Mai!$H$6:$H$500>=G$3)*([1]Mai!$H$6:$H$500<H$3)*([1]Mai!$G$6:$G$500)),SUMPRODUCT(([1]Juin!$D$6:$D$500=$A9)*([1]Juin!$H$6:$H$500>=G$3)*([1]Juin!$H$6:$H$500<H$3)*([1]Juin!$G$6:$G$500)),SUMPRODUCT(([1]Juillet!$D$6:$D$500=$A9)*([1]Juillet!$H$6:$H$500>=G$3)*([1]Juillet!$H$6:$H$500<H$3)*([1]Juillet!$G$6:$G$500)),SUMPRODUCT(([1]Août!$D$6:$D$500=$A9)*([1]Août!$H$6:$H$500>=G$3)*([1]Août!$H$6:$H$500<H$3)*([1]Août!$G$6:$G$500)),SUMPRODUCT(([1]Septembre!$D$6:$D$500=$A9)*([1]Septembre!$H$6:$H$500>=G$3)*([1]Septembre!$H$6:$H$500<H$3)*([1]Septembre!$G$6:$G$500)),SUMPRODUCT(([1]Octobre!$D$6:$D$500=$A9)*([1]Octobre!$H$6:$H$500>=G$3)*([1]Octobre!$H$6:$H$500<H$3)*([1]Octobre!$G$6:$G$500)),SUMPRODUCT(([1]Novembre!$D$6:$D$500=$A9)*([1]Novembre!$H$6:$H$500>=G$3)*([1]Novembre!$H$6:$H$500<H$3)*([1]Novembre!$G$6:$G$500)),SUMPRODUCT(([1]Décembre!$D$6:$D$500=$A9)*([1]Décembre!$H$6:$H$500>=G$3)*([1]Décembre!$H$6:$H$500<H$3)*([1]Décembre!$G$6:$G$500))),"")} | H9: {=IF(ISTEXT($A9),SUM(SUMPRODUCT(([1]Janvier!$D$6:$D$500=$A9)*([1]Janvier!$H$6:$H$500>=H$3)*([1]Janvier!$H$6:$H$500<I$3)*([1]Janvier!$G$6:$G$500)),SUMPRODUCT(([1]Février!$D$6:$D$500=$A9)*([1]Février!$H$6:$H$500>=H$3)*([1]Février!$H$6:$H$500<I$3)*([1]Février!$G$6:$G$500)),SUMPRODUCT(([1]Mars!$D$6:$D$500=$A9)*([1]Mars!$H$6:$H$500>=H$3)*([1]Mars!$H$6:$H$500<I$3)*([1]Mars!$G$6:$G$500)),SUMPRODUCT(([1]Avril!$D$6:$D$500=$A9)*([1]Avril!$H$6:$H$500>=H$3)*([1]Avril!$H$6:$H$500<I$3)*([1]Avril!$G$6:$G$500)),SUMPRODUCT(([1]Mai!$D$6:$D$500=$A9)*([1]Mai!$H$6:$H$500>=H$3)*([1]Mai!$H$6:$H$500<I$3)*([1]Mai!$G$6:$G$500)),SUMPRODUCT(([1]Juin!$D$6:$D$500=$A9)*([1]Juin!$H$6:$H$500>=H$3)*([1]Juin!$H$6:$H$500<I$3)*([1]Juin!$G$6:$G$500)),SUMPRODUCT(([1]Juillet!$D$6:$D$500=$A9)*([1]Juillet!$H$6:$H$500>=H$3)*([1]Juillet!$H$6:$H$500<I$3)*([1]Juillet!$G$6:$G$500)),SUMPRODUCT(([1]Août!$D$6:$D$500=$A9)*([1]Août!$H$6:$H$500>=H$3)*([1]Août!$H$6:$H$500<I$3)*([1]Août!$G$6:$G$500)),SUMPRODUCT(([1]Septembre!$D$6:$D$500=$A9)*([1]Septembre!$H$6:$H$500>=H$3)*([1]Septembre!$H$6:$H$500<I$3)*([1]Septembre!$G$6:$G$500)),SUMPRODUCT(([1]Octobre!$D$6:$D$500=$A9)*([1]Octobre!$H$6:$H$500>=H$3)*([1]Octobre!$H$6:$H$500<I$3)*([1]Octobre!$G$6:$G$500)),SUMPRODUCT(([1]Novembre!$D$6:$D$500=$A9)*([1]Novembre!$H$6:$H$500>=H$3)*([1]Novembre!$H$6:$H$500<I$3)*([1]Novembre!$G$6:$G$500)),SUMPRODUCT(([1]Décembre!$D$6:$D$500=$A9)*([1]Décembre!$H$6:$H$500>=H$3)*([1]Décembre!$H$6:$H$500<I$3)*([1]Décembre!$G$6:$G$500))),"")} | I9: {=IF(ISTEXT($A9),SUM(SUMPRODUCT(([1]Janvier!$D$6:$D$500=$A9)*([1]Janvier!$H$6:$H$500>=I$3)*([1]Janvier!$H$6:$H$500<J$3)*([1]Janvier!$G$6:$G$500)),SUMPRODUCT(([1]Février!$D$6:$D$500=$A9)*([1]Février!$H$6:$H$500>=I$3)*([1]Février!$H$6:$H$500<J$3)*([1]Février!$G$6:$G$500)),SUMPRODUCT(([1]Mars!$D$6:$D$500=$A9)*([1]Mars!$H$6:$H$500>=I$3)*([1]Mars!$H$6:$H$500<J$3)*([1]Mars!$G$6:$G$500)),SUMPRODUCT(([1]Avril!$D$6:$D$500=$A9)*([1]Avril!$H$6:$H$500>=I$3)*([1]Avril!$H$6:$H$500<J$3)*([1]Avril!$G$6:$G$500)),SUMPRODUCT(([1]Mai!$D$6:$D$500=$A9)*([1]Mai!$H$6:$H$500>=I$3)*([1]Mai!$H$6:$H$500<J$3)*([1]Mai!$G$6:$G$500)),SUMPRODUCT(([1]Juin!$D$6:$D$500=$A9)*([1]Juin!$H$6:$H$500>=I$3)*([1]Juin!$H$6:$H$500<J$3)*([1]Juin!$G$6:$G$500)),SUMPRODUCT(([1]Juillet!$D$6:$D$500=$A9)*([1]Juillet!$H$6:$H$500>=I$3)*([1]Juillet!$H$6:$H$500<J$3)*([1]Juillet!$G$6:$G$500)),SUMPRODUCT(([1]Août!$D$6:$D$500=$A9)*([1]Août!$H$6:$H$500>=I$3)*([1]Août!$H$6:$H$500<J$3)*([1]Août!$G$6:$G$500)),SUMPRODUCT(([1]Septembre!$D$6:$D$500=$A9)*([1]Septembre!$H$6:$H$500>=I$3)*([1]Septembre!$H$6:$H$500<J$3)*([1]Septembre!$G$6:$G$500)),SUMPRODUCT(([1]Octobre!$D$6:$D$500=$A9)*([1]Octobre!$H$6:$H$500>=I$3)*([1]Octobre!$H$6:$H$500<J$3)*([1]Octobre!$G$6:$G$500)),SUMPRODUCT(([1]Novembre!$D$6:$D$500=$A9)*([1]Novembre!$H$6:$H$500>=I$3)*([1]Novembre!$H$6:$H$500<J$3)*([1]Novembre!$G$6:$G$500)),SUMPRODUCT(([1]Décembre!$D$6:$D$500=$A9)*([1]Décembre!$H$6:$H$500>=I$3)*([1]Décembre!$H$6:$H$500<J$3)*([1]Décembre!$G$6:$G$500))),"")} | ... M9: {=IF(ISTEXT($A9),SUM(SUMPRODUCT(([1]Janvier!$D$6:$D$500=$A9)*([1]Janvier!$H$6:$H$500>=M$3)*([1]Janvier!$H$6:$H$500<N$3)*([1]Janvier!$G$6:$G$500)),SUMPRODUCT(([1]Février!$D$6:$D$500=$A9)*([1]Février!$H$6:$H$500>=M$3)*([1]Février!$H$6:$H$500<N$3)*([1]Février!$G$6:$G$500)),SUMPRODUCT(([1]Mars!$D$6:$D$500=$A9)*([1]Mars!$H$6:$H$500>=M$3)*([1]Mars!$H$6:$H$500<N$3)*([1]Mars!$G$6:$G$500)),SUMPRODUCT(([1]Avril!$D$6:$D$500=$A9)*([1]Avril!$H$6:$H$500>=M$3)*([1]Avril!$H$6:$H$500<N$3)*([1]Avril!$G$6:$G$500)),SUMPRODUCT(([1]Mai!$D$6:$D$500=$A9)*([1]Mai!$H$6:$H$500>=M$3)*([1]Mai!$H$6:$H$500<N$3)*([1]Mai!$G$6:$G$500)),SUMPRODUCT(([1]Juin!$D$6:$D$500=$A9)*([1]Juin!$H$6:$H$500>=M$3)*([1]Juin!$H$6:$H$500<N$3)*([1]Juin!$G$6:$G$500)),SUMPRODUCT(([1]Juillet!$D$6:$D$500=$A9)*([1]Juillet!$H$6:$H$500>=M$3)*([1]Juillet!$H$6:$H$500<N$3)*([1]Juillet!$G$6:$G$500)),SUMPRODUCT(([1]Août!$D$6:$D$500=$A9)*([1]Août!$H$6:$H$500>=M$3)*([1]Août!$H$6:$H$500<N$3)*([1]Août!$G$6:$G$500)),SUMPRODUCT(([1]Septembre!$D$6:$D$500=$A9)*([1]Septembre!$H$6:$H$500>=M$3)*([1]Septembre!$H$6:$H$500<N$3)*([1]Septembre!$G$6:$G$500)),SUMPRODUCT(([1]Octobre!$D$6:$D$500=$A9)*([1]Octobre!$H$6:$H$500>=M$3)*([1]Octobre!$H$6:$H$500<N$3)*([1]Octobre!$G$6:$G$500)),SUMPRODUCT(([1]Novembre!$D$6:$D$500=$A9)*([1]Novembre!$H$6:$H$500>=M$3)*([1]Novembre!$H$6:$H$500<N$3)*([1]Novembre!$G$6:$G$500)),SUMPRODUCT(([1]Décembre!$D$6:$D$500=$A9)*([1]Décembre!$H$6:$H$500>=M$3)*([1]Décembre!$H$6:$H$500<N$3)*([1]Décembre!$G$6:$G$500))),"")} | O9: =SUM(B9:M9) -> 0
B10: {=IF(ISTEXT($A10),SUM(SUMPRODUCT(([1]Janvier!$D$6:$D$500=$A10)*([1]Janvier!$H$6:$H$500>=B$3)*([1]Janvier!$H$6:$H$500<C$3)*([1]Janvier!$G$6:$G$500)),SUMPRODUCT(([1]Février!$D$6:$D$500=$A10)*([1]Février!$H$6:$H$500>=B$3)*([1]Février!$H$6:$H$500<C$3)*([1]Février!$G$6:$G$500)),SUMPRODUCT(([1]Mars!$D$6:$D$500=$A10)*([1]Mars!$H$6:$H$500>=B$3)*([1]Mars!$H$6:$H$500<C$3)*([1]Mars!$G$6:$G$500)),SUMPRODUCT(([1]Avril!$D$6:$D$500=$A10)*([1]Avril!$H$6:$H$500>=B$3)*([1]Avril!$H$6:$H$500<C$3)*([1]Avril!$G$6:$G$500)),SUMPRODUCT(([1]Mai!$D$6:$D$500=$A10)*([1]Mai!$H$6:$H$500>=B$3)*([1]Mai!$H$6:$H$500<C$3)*([1]Mai!$G$6:$G$500)),SUMPRODUCT(([1]Juin!$D$6:$D$500=$A10)*([1]Juin!$H$6:$H$500>=B$3)*([1]Juin!$H$6:$H$500<C$3)*([1]Juin!$G$6:$G$500)),SUMPRODUCT(([1]Juillet!$D$6:$D$500=$A10)*([1]Juillet!$H$6:$H$500>=B$3)*([1]Juillet!$H$6:$H$500<C$3)*([1]Juillet!$G$6:$G$500)),SUMPRODUCT(([1]Août!$D$6:$D$500=$A10)*([1]Août!$H$6:$H$500>=B$3)*([1]Août!$H$6:$H$500<C$3)*([1]Août!$G$6:$G$500)),SUMPRODUCT(([1]Septembre!$D$6:$D$500=$A10)*([1]Septembre!$H$6:$H$500>=B$3)*([1]Septembre!$H$6:$H$500<C$3)*([1]Septembre!$G$6:$G$500)),SUMPRODUCT(([1]Octobre!$D$6:$D$500=$A10)*([1]Octobre!$H$6:$H$500>=B$3)*([1]Octobre!$H$6:$H$500<C$3)*([1]Octobre!$G$6:$G$500)),SUMPRODUCT(([1]Novembre!$D$6:$D$500=$A10)*([1]Novembre!$H$6:$H$500>=B$3)*([1]Novembre!$H$6:$H$500<C$3)*([1]Novembre!$G$6:$G$500)),SUMPRODUCT(([1]Décembre!$D$6:$D$500=$A10)*([1]Décembre!$H$6:$H$500>=B$3)*([1]Décembre!$H$6:$H$500<C$3)*([1]Décembre!$G$6:$G$500))),"")} | C10: {=IF(ISTEXT($A10),SUM(SUMPRODUCT(([1]Janvier!$D$6:$D$500=$A10)*([1]Janvier!$H$6:$H$500>=C$3)*([1]Janvier!$H$6:$H$500<D$3)*([1]Janvier!$G$6:$G$500)),SUMPRODUCT(([1]Février!$D$6:$D$500=$A10)*([1]Février!$H$6:$H$500>=C$3)*([1]Février!$H$6:$H$500<D$3)*([1]Février!$G$6:$G$500)),SUMPRODUCT(([1]Mars!$D$6:$D$500=$A10)*([1]Mars!$H$6:$H$500>=C$3)*([1]Mars!$H$6:$H$500<D$3)*([1]Mars!$G$6:$G$500)),SUMPRODUCT(([1]Avril!$D$6:$D$500=$A10)*([1]Avril!$H$6:$H$500>=C$3)*([1]Avril!$H$6:$H$500<D$3)*([1]Avril!$G$6:$G$500)),SUMPRODUCT(([1]Mai!$D$6:$D$500=$A10)*([1]Mai!$H$6:$H$500>=C$3)*([1]Mai!$H$6:$H$500<D$3)*([1]Mai!$G$6:$G$500)),SUMPRODUCT(([1]Juin!$D$6:$D$500=$A10)*([1]Juin!$H$6:$H$500>=C$3)*([1]Juin!$H$6:$H$500<D$3)*([1]Juin!$G$6:$G$500)),SUMPRODUCT(([1]Juillet!$D$6:$D$500=$A10)*([1]Juillet!$H$6:$H$500>=C$3)*([1]Juillet!$H$6:$H$500<D$3)*([1]Juillet!$G$6:$G$500)),SUMPRODUCT(([1]Août!$D$6:$D$500=$A10)*([1]Août!$H$6:$H$500>=C$3)*([1]Août!$H$6:$H$500<D$3)*([1]Août!$G$6:$G$500)),SUMPRODUCT(([1]Septembre!$D$6:$D$500=$A10)*([1]Septembre!$H$6:$H$500>=C$3)*([1]Septembre!$H$6:$H$500<D$3)*([1]Septembre!$G$6:$G$500)),SUMPRODUCT(([1]Octobre!$D$6:$D$500=$A10)*([1]Octobre!$H$6:$H$500>=C$3)*([1]Octobre!$H$6:$H$500<D$3)*([1]Octobre!$G$6:$G$500)),SUMPRODUCT(([1]Novembre!$D$6:$D$500=$A10)*([1]Novembre!$H$6:$H$500>=C$3)*([1]Novembre!$H$6:$H$500<D$3)*([1]Novembre!$G$6:$G$500)),SUMPRODUCT(([1]Décembre!$D$6:$D$500=$A10)*([1]Décembre!$H$6:$H$500>=C$3)*([1]Décembre!$H$6:$H$500<D$3)*([1]Décembre!$G$6:$G$500))),"")} | D10: {=IF(ISTEXT($A10),SUM(SUMPRODUCT(([1]Janvier!$D$6:$D$500=$A10)*([1]Janvier!$H$6:$H$500>=D$3)*([1]Janvier!$H$6:$H$500<E$3)*([1]Janvier!$G$6:$G$500)),SUMPRODUCT(([1]Février!$D$6:$D$500=$A10)*([1]Février!$H$6:$H$500>=D$3)*([1]Février!$H$6:$H$500<E$3)*([1]Février!$G$6:$G$500)),SUMPRODUCT(([1]Mars!$D$6:$D$500=$A10)*([1]Mars!$H$6:$H$500>=D$3)*([1]Mars!$H$6:$H$500<E$3)*([1]Mars!$G$6:$G$500)),SUMPRODUCT(([1]Avril!$D$6:$D$500=$A10)*([1]Avril!$H$6:$H$500>=D$3)*([1]Avril!$H$6:$H$500<E$3)*([1]Avril!$G$6:$G$500)),SUMPRODUCT(([1]Mai!$D$6:$D$500=$A10)*([1]Mai!$H$6:$H$500>=D$3)*([1]Mai!$H$6:$H$500<E$3)*([1]Mai!$G$6:$G$500)),SUMPRODUCT(([1]Juin!$D$6:$D$500=$A10)*([1]Juin!$H$6:$H$500>=D$3)*([1]Juin!$H$6:$H$500<E$3)*([1]Juin!$G$6:$G$500)),SUMPRODUCT(([1]Juillet!$D$6:$D$500=$A10)*([1]Juillet!$H$6:$H$500>=D$3)*([1]Juillet!$H$6:$H$500<E$3)*([1]Juillet!$G$6:$G$500)),SUMPRODUCT(([1]Août!$D$6:$D$500=$A10)*([1]Août!$H$6:$H$500>=D$3)*([1]Août!$H$6:$H$500<E$3)*([1]Août!$G$6:$G$500)),SUMPRODUCT(([1]Septembre!$D$6:$D$500=$A10)*([1]Septembre!$H$6:$H$500>=D$3)*([1]Septembre!$H$6:$H$500<E$3)*([1]Septembre!$G$6:$G$500)),SUMPRODUCT(([1]Octobre!$D$6:$D$500=$A10)*([1]Octobre!$H$6:$H$500>=D$3)*([1]Octobre!$H$6:$H$500<E$3)*([1]Octobre!$G$6:$G$500)),SUMPRODUCT(([1]Novembre!$D$6:$D$500=$A10)*([1]Novembre!$H$6:$H$500>=D$3)*([1]Novembre!$H$6:$H$500<E$3)*([1]Novembre!$G$6:$G$500)),SUMPRODUCT(([1]Décembre!$D$6:$D$500=$A10)*([1]Décembre!$H$6:$H$500>=D$3)*([1]Décembre!$H$6:$H$500<E$3)*([1]Décembre!$G$6:$G$500))),"")} | E10: {=IF(ISTEXT($A10),SUM(SUMPRODUCT(([1]Janvier!$D$6:$D$500=$A10)*([1]Janvier!$H$6:$H$500>=E$3)*([1]Janvier!$H$6:$H$500<F$3)*([1]Janvier!$G$6:$G$500)),SUMPRODUCT(([1]Février!$D$6:$D$500=$A10)*([1]Février!$H$6:$H$500>=E$3)*([1]Février!$H$6:$H$500<F$3)*([1]Février!$G$6:$G$500)),SUMPRODUCT(([1]Mars!$D$6:$D$500=$A10)*([1]Mars!$H$6:$H$500>=E$3)*([1]Mars!$H$6:$H$500<F$3)*([1]Mars!$G$6:$G$500)),SUMPRODUCT(([1]Avril!$D$6:$D$500=$A10)*([1]Avril!$H$6:$H$500>=E$3)*([1]Avril!$H$6:$H$500<F$3)*([1]Avril!$G$6:$G$500)),SUMPRODUCT(([1]Mai!$D$6:$D$500=$A10)*([1]Mai!$H$6:$H$500>=E$3)*([1]Mai!$H$6:$H$500<F$3)*([1]Mai!$G$6:$G$500)),SUMPRODUCT(([1]Juin!$D$6:$D$500=$A10)*([1]Juin!$H$6:$H$500>=E$3)*([1]Juin!$H$6:$H$500<F$3)*([1]Juin!$G$6:$G$500)),SUMPRODUCT(([1]Juillet!$D$6:$D$500=$A10)*([1]Juillet!$H$6:$H$500>=E$3)*([1]Juillet!$H$6:$H$500<F$3)*([1]Juillet!$G$6:$G$500)),SUMPRODUCT(([1]Août!$D$6:$D$500=$A10)*([1]Août!$H$6:$H$500>=E$3)*([1]Août!$H$6:$H$500<F$3)*([1]Août!$G$6:$G$500)),SUMPRODUCT(([1]Septembre!$D$6:$D$500=$A10)*([1]Septembre!$H$6:$H$500>=E$3)*([1]Septembre!$H$6:$H$500<F$3)*([1]Septembre!$G$6:$G$500)),SUMPRODUCT(([1]Octobre!$D$6:$D$500=$A10)*([1]Octobre!$H$6:$H$500>=E$3)*([1]Octobre!$H$6:$H$500<F$3)*([1]Octobre!$G$6:$G$500)),SUMPRODUCT(([1]Novembre!$D$6:$D$500=$A10)*([1]Novembre!$H$6:$H$500>=E$3)*([1]Novembre!$H$6:$H$500<F$3)*([1]Novembre!$G$6:$G$500)),SUMPRODUCT(([1]Décembre!$D$6:$D$500=$A10)*([1]Décembre!$H$6:$H$500>=E$3)*([1]Décembre!$H$6:$H$500<F$3)*([1]Décembre!$G$6:$G$500))),"")} | F10: {=IF(ISTEXT($A10),SUM(SUMPRODUCT(([1]Janvier!$D$6:$D$500=$A10)*([1]Janvier!$H$6:$H$500>=F$3)*([1]Janvier!$H$6:$H$500<G$3)*([1]Janvier!$G$6:$G$500)),SUMPRODUCT(([1]Février!$D$6:$D$500=$A10)*([1]Février!$H$6:$H$500>=F$3)*([1]Février!$H$6:$H$500<G$3)*([1]Février!$G$6:$G$500)),SUMPRODUCT(([1]Mars!$D$6:$D$500=$A10)*([1]Mars!$H$6:$H$500>=F$3)*([1]Mars!$H$6:$H$500<G$3)*([1]Mars!$G$6:$G$500)),SUMPRODUCT(([1]Avril!$D$6:$D$500=$A10)*([1]Avril!$H$6:$H$500>=F$3)*([1]Avril!$H$6:$H$500<G$3)*([1]Avril!$G$6:$G$500)),SUMPRODUCT(([1]Mai!$D$6:$D$500=$A10)*([1]Mai!$H$6:$H$500>=F$3)*([1]Mai!$H$6:$H$500<G$3)*([1]Mai!$G$6:$G$500)),SUMPRODUCT(([1]Juin!$D$6:$D$500=$A10)*([1]Juin!$H$6:$H$500>=F$3)*([1]Juin!$H$6:$H$500<G$3)*([1]Juin!$G$6:$G$500)),SUMPRODUCT(([1]Juillet!$D$6:$D$500=$A10)*([1]Juillet!$H$6:$H$500>=F$3)*([1]Juillet!$H$6:$H$500<G$3)*([1]Juillet!$G$6:$G$500)),SUMPRODUCT(([1]Août!$D$6:$D$500=$A10)*([1]Août!$H$6:$H$500>=F$3)*([1]Août!$H$6:$H$500<G$3)*([1]Août!$G$6:$G$500)),SUMPRODUCT(([1]Septembre!$D$6:$D$500=$A10)*([1]Septembre!$H$6:$H$500>=F$3)*([1]Septembre!$H$6:$H$500<G$3)*([1]Septembre!$G$6:$G$500)),SUMPRODUCT(([1]Octobre!$D$6:$D$500=$A10)*([1]Octobre!$H$6:$H$500>=F$3)*([1]Octobre!$H$6:$H$500<G$3)*([1]Octobre!$G$6:$G$500)),SUMPRODUCT(([1]Novembre!$D$6:$D$500=$A10)*([1]Novembre!$H$6:$H$500>=F$3)*([1]Novembre!$H$6:$H$500<G$3)*([1]Novembre!$G$6:$G$500)),SUMPRODUCT(([1]Décembre!$D$6:$D$500=$A10)*([1]Décembre!$H$6:$H$500>=F$3)*([1]Décembre!$H$6:$H$500<G$3)*([1]Décembre!$G$6:$G$500))),"")} | G10: {=IF(ISTEXT($A10),SUM(SUMPRODUCT(([1]Janvier!$D$6:$D$500=$A10)*([1]Janvier!$H$6:$H$500>=G$3)*([1]Janvier!$H$6:$H$500<H$3)*([1]Janvier!$G$6:$G$500)),SUMPRODUCT(([1]Février!$D$6:$D$500=$A10)*([1]Février!$H$6:$H$500>=G$3)*([1]Février!$H$6:$H$500<H$3)*([1]Février!$G$6:$G$500)),SUMPRODUCT(([1]Mars!$D$6:$D$500=$A10)*([1]Mars!$H$6:$H$500>=G$3)*([1]Mars!$H$6:$H$500<H$3)*([1]Mars!$G$6:$G$500)),SUMPRODUCT(([1]Avril!$D$6:$D$500=$A10)*([1]Avril!$H$6:$H$500>=G$3)*([1]Avril!$H$6:$H$500<H$3)*([1]Avril!$G$6:$G$500)),SUMPRODUCT(([1]Mai!$D$6:$D$500=$A10)*([1]Mai!$H$6:$H$500>=G$3)*([1]Mai!$H$6:$H$500<H$3)*([1]Mai!$G$6:$G$500)),SUMPRODUCT(([1]Juin!$D$6:$D$500=$A10)*([1]Juin!$H$6:$H$500>=G$3)*([1]Juin!$H$6:$H$500<H$3)*([1]Juin!$G$6:$G$500)),SUMPRODUCT(([1]Juillet!$D$6:$D$500=$A10)*([1]Juillet!$H$6:$H$500>=G$3)*([1]Juillet!$H$6:$H$500<H$3)*([1]Juillet!$G$6:$G$500)),SUMPRODUCT(([1]Août!$D$6:$D$500=$A10)*([1]Août!$H$6:$H$500>=G$3)*([1]Août!$H$6:$H$500<H$3)*([1]Août!$G$6:$G$500)),SUMPRODUCT(([1]Septembre!$D$6:$D$500=$A10)*([1]Septembre!$H$6:$H$500>=G$3)*([1]Septembre!$H$6:$H$500<H$3)*([1]Septembre!$G$6:$G$500)),SUMPRODUCT(([1]Octobre!$D$6:$D$500=$A10)*([1]Octobre!$H$6:$H$500>=G$3)*([1]Octobre!$H$6:$H$500<H$3)*([1]Octobre!$G$6:$G$500)),SUMPRODUCT(([1]Novembre!$D$6:$D$500=$A10)*([1]Novembre!$H$6:$H$500>=G$3)*([1]Novembre!$H$6:$H$500<H$3)*([1]Novembre!$G$6:$G$500)),SUMPRODUCT(([1]Décembre!$D$6:$D$500=$A10)*([1]Décembre!$H$6:$H$500>=G$3)*([1]Décembre!$H$6:$H$500<H$3)*([1]Décembre!$G$6:$G$500))),"")} | H10: {=IF(ISTEXT($A10),SUM(SUMPRODUCT(([1]Janvier!$D$6:$D$500=$A10)*([1]Janvier!$H$6:$H$500>=H$3)*([1]Janvier!$H$6:$H$500<I$3)*([1]Janvier!$G$6:$G$500)),SUMPRODUCT(([1]Février!$D$6:$D$500=$A10)*([1]Février!$H$6:$H$500>=H$3)*([1]Février!$H$6:$H$500<I$3)*([1]Février!$G$6:$G$500)),SUMPRODUCT(([1]Mars!$D$6:$D$500=$A10)*([1]Mars!$H$6:$H$500>=H$3)*([1]Mars!$H$6:$H$500<I$3)*([1]Mars!$G$6:$G$500)),SUMPRODUCT(([1]Avril!$D$6:$D$500=$A10)*([1]Avril!$H$6:$H$500>=H$3)*([1]Avril!$H$6:$H$500<I$3)*([1]Avril!$G$6:$G$500)),SUMPRODUCT(([1]Mai!$D$6:$D$500=$A10)*([1]Mai!$H$6:$H$500>=H$3)*([1]Mai!$H$6:$H$500<I$3)*([1]Mai!$G$6:$G$500)),SUMPRODUCT(([1]Juin!$D$6:$D$500=$A10)*([1]Juin!$H$6:$H$500>=H$3)*([1]Juin!$H$6:$H$500<I$3)*([1]Juin!$G$6:$G$500)),SUMPRODUCT(([1]Juillet!$D$6:$D$500=$A10)*([1]Juillet!$H$6:$H$500>=H$3)*([1]Juillet!$H$6:$H$500<I$3)*([1]Juillet!$G$6:$G$500)),SUMPRODUCT(([1]Août!$D$6:$D$500=$A10)*([1]Août!$H$6:$H$500>=H$3)*([1]Août!$H$6:$H$500<I$3)*([1]Août!$G$6:$G$500)),SUMPRODUCT(([1]Septembre!$D$6:$D$500=$A10)*([1]Septembre!$H$6:$H$500>=H$3)*([1]Septembre!$H$6:$H$500<I$3)*([1]Septembre!$G$6:$G$500)),SUMPRODUCT(([1]Octobre!$D$6:$D$500=$A10)*([1]Octobre!$H$6:$H$500>=H$3)*([1]Octobre!$H$6:$H$500<I$3)*([1]Octobre!$G$6:$G$500)),SUMPRODUCT(([1]Novembre!$D$6:$D$500=$A10)*([1]Novembre!$H$6:$H$500>=H$3)*([1]Novembre!$H$6:$H$500<I$3)*([1]Novembre!$G$6:$G$500)),SUMPRODUCT(([1]Décembre!$D$6:$D$500=$A10)*([1]Décembre!$H$6:$H$500>=H$3)*([1]Décembre!$H$6:$H$500<I$3)*([1]Décembre!$G$6:$G$500))),"")} | I10: {=IF(ISTEXT($A10),SUM(SUMPRODUCT(([1]Janvier!$D$6:$D$500=$A10)*([1]Janvier!$H$6:$H$500>=I$3)*([1]Janvier!$H$6:$H$500<J$3)*([1]Janvier!$G$6:$G$500)),SUMPRODUCT(([1]Février!$D$6:$D$500=$A10)*([1]Février!$H$6:$H$500>=I$3)*([1]Février!$H$6:$H$500<J$3)*([1]Février!$G$6:$G$500)),SUMPRODUCT(([1]Mars!$D$6:$D$500=$A10)*([1]Mars!$H$6:$H$500>=I$3)*([1]Mars!$H$6:$H$500<J$3)*([1]Mars!$G$6:$G$500)),SUMPRODUCT(([1]Avril!$D$6:$D$500=$A10)*([1]Avril!$H$6:$H$500>=I$3)*([1]Avril!$H$6:$H$500<J$3)*([1]Avril!$G$6:$G$500)),SUMPRODUCT(([1]Mai!$D$6:$D$500=$A10)*([1]Mai!$H$6:$H$500>=I$3)*([1]Mai!$H$6:$H$500<J$3)*([1]Mai!$G$6:$G$500)),SUMPRODUCT(([1]Juin!$D$6:$D$500=$A10)*([1]Juin!$H$6:$H$500>=I$3)*([1]Juin!$H$6:$H$500<J$3)*([1]Juin!$G$6:$G$500)),SUMPRODUCT(([1]Juillet!$D$6:$D$500=$A10)*([1]Juillet!$H$6:$H$500>=I$3)*([1]Juillet!$H$6:$H$500<J$3)*([1]Juillet!$G$6:$G$500)),SUMPRODUCT(([1]Août!$D$6:$D$500=$A10)*([1]Août!$H$6:$H$500>=I$3)*([1]Août!$H$6:$H$500<J$3)*([1]Août!$G$6:$G$500)),SUMPRODUCT(([1]Septembre!$D$6:$D$500=$A10)*([1]Septembre!$H$6:$H$500>=I$3)*([1]Septembre!$H$6:$H$500<J$3)*([1]Septembre!$G$6:$G$500)),SUMPRODUCT(([1]Octobre!$D$6:$D$500=$A10)*([1]Octobre!$H$6:$H$500>=I$3)*([1]Octobre!$H$6:$H$500<J$3)*([1]Octobre!$G$6:$G$500)),SUMPRODUCT(([1]Novembre!$D$6:$D$500=$A10)*([1]Novembre!$H$6:$H$500>=I$3)*([1]Novembre!$H$6:$H$500<J$3)*([1]Novembre!$G$6:$G$500)),SUMPRODUCT(([1]Décembre!$D$6:$D$500=$A10)*([1]Décembre!$H$6:$H$500>=I$3)*([1]Décembre!$H$6:$H$500<J$3)*([1]Décembre!$G$6:$G$500))),"")} | ... M10: {=IF(ISTEXT($A10),SUM(SUMPRODUCT(([1]Janvier!$D$6:$D$500=$A10)*([1]Janvier!$H$6:$H$500>=M$3)*([1]Janvier!$H$6:$H$500<N$3)*([1]Janvier!$G$6:$G$500)),SUMPRODUCT(([1]Février!$D$6:$D$500=$A10)*([1]Février!$H$6:$H$500>=M$3)*([1]Février!$H$6:$H$500<N$3)*([1]Février!$G$6:$G$500)),SUMPRODUCT(([1]Mars!$D$6:$D$500=$A10)*([1]Mars!$H$6:$H$500>=M$3)*([1]Mars!$H$6:$H$500<N$3)*([1]Mars!$G$6:$G$500)),SUMPRODUCT(([1]Avril!$D$6:$D$500=$A10)*([1]Avril!$H$6:$H$500>=M$3)*([1]Avril!$H$6:$H$500<N$3)*([1]Avril!$G$6:$G$500)),SUMPRODUCT(([1]Mai!$D$6:$D$500=$A10)*([1]Mai!$H$6:$H$500>=M$3)*([1]Mai!$H$6:$H$500<N$3)*([1]Mai!$G$6:$G$500)),SUMPRODUCT(([1]Juin!$D$6:$D$500=$A10)*([1]Juin!$H$6:$H$500>=M$3)*([1]Juin!$H$6:$H$500<N$3)*([1]Juin!$G$6:$G$500)),SUMPRODUCT(([1]Juillet!$D$6:$D$500=$A10)*([1]Juillet!$H$6:$H$500>=M$3)*([1]Juillet!$H$6:$H$500<N$3)*([1]Juillet!$G$6:$G$500)),SUMPRODUCT(([1]Août!$D$6:$D$500=$A10)*([1]Août!$H$6:$H$500>=M$3)*([1]Août!$H$6:$H$500<N$3)*([1]Août!$G$6:$G$500)),SUMPRODUCT(([1]Septembre!$D$6:$D$500=$A10)*([1]Septembre!$H$6:$H$500>=M$3)*([1]Septembre!$H$6:$H$500<N$3)*([1]Septembre!$G$6:$G$500)),SUMPRODUCT(([1]Octobre!$D$6:$D$500=$A10)*([1]Octobre!$H$6:$H$500>=M$3)*([1]Octobre!$H$6:$H$500<N$3)*([1]Octobre!$G$6:$G$500)),SUMPRODUCT(([1]Novembre!$D$6:$D$500=$A10)*([1]Novembre!$H$6:$H$500>=M$3)*([1]Novembre!$H$6:$H$500<N$3)*([1]Novembre!$G$6:$G$500)),SUMPRODUCT(([1]Décembre!$D$6:$D$500=$A10)*([1]Décembre!$H$6:$H$500>=M$3)*([1]Décembre!$H$6:$H$500<N$3)*([1]Décembre!$G$6:$G$500))),"")} | O10: =SUM(B10:M10) -> 0
B11: {=IF(ISTEXT($A11),SUM(SUMPRODUCT(([1]Janvier!$D$6:$D$500=$A11)*([1]Janvier!$H$6:$H$500>=B$3)*([1]Janvier!$H$6:$H$500<C$3)*([1]Janvier!$G$6:$G$500)),SUMPRODUCT(([1]Février!$D$6:$D$500=$A11)*([1]Février!$H$6:$H$500>=B$3)*([1]Février!$H$6:$H$500<C$3)*([1]Février!$G$6:$G$500)),SUMPRODUCT(([1]Mars!$D$6:$D$500=$A11)*([1]Mars!$H$6:$H$500>=B$3)*([1]Mars!$H$6:$H$500<C$3)*([1]Mars!$G$6:$G$500)),SUMPRODUCT(([1]Avril!$D$6:$D$500=$A11)*([1]Avril!$H$6:$H$500>=B$3)*([1]Avril!$H$6:$H$500<C$3)*([1]Avril!$G$6:$G$500)),SUMPRODUCT(([1]Mai!$D$6:$D$500=$A11)*([1]Mai!$H$6:$H$500>=B$3)*([1]Mai!$H$6:$H$500<C$3)*([1]Mai!$G$6:$G$500)),SUMPRODUCT(([1]Juin!$D$6:$D$500=$A11)*([1]Juin!$H$6:$H$500>=B$3)*([1]Juin!$H$6:$H$500<C$3)*([1]Juin!$G$6:$G$500)),SUMPRODUCT(([1]Juillet!$D$6:$D$500=$A11)*([1]Juillet!$H$6:$H$500>=B$3)*([1]Juillet!$H$6:$H$500<C$3)*([1]Juillet!$G$6:$G$500)),SUMPRODUCT(([1]Août!$D$6:$D$500=$A11)*([1]Août!$H$6:$H$500>=B$3)*([1]Août!$H$6:$H$500<C$3)*([1]Août!$G$6:$G$500)),SUMPRODUCT(([1]Septembre!$D$6:$D$500=$A11)*([1]Septembre!$H$6:$H$500>=B$3)*([1]Septembre!$H$6:$H$500<C$3)*([1]Septembre!$G$6:$G$500)),SUMPRODUCT(([1]Octobre!$D$6:$D$500=$A11)*([1]Octobre!$H$6:$H$500>=B$3)*([1]Octobre!$H$6:$H$500<C$3)*([1]Octobre!$G$6:$G$500)),SUMPRODUCT(([1]Novembre!$D$6:$D$500=$A11)*([1]Novembre!$H$6:$H$500>=B$3)*([1]Novembre!$H$6:$H$500<C$3)*([1]Novembre!$G$6:$G$500)),SUMPRODUCT(([1]Décembre!$D$6:$D$500=$A11)*([1]Décembre!$H$6:$H$500>=B$3)*([1]Décembre!$H$6:$H$500<C$3)*([1]Décembre!$G$6:$G$500))),"")} | C11: {=IF(ISTEXT($A11),SUM(SUMPRODUCT(([1]Janvier!$D$6:$D$500=$A11)*([1]Janvier!$H$6:$H$500>=C$3)*([1]Janvier!$H$6:$H$500<D$3)*([1]Janvier!$G$6:$G$500)),SUMPRODUCT(([1]Février!$D$6:$D$500=$A11)*([1]Février!$H$6:$H$500>=C$3)*([1]Février!$H$6:$H$500<D$3)*([1]Février!$G$6:$G$500)),SUMPRODUCT(([1]Mars!$D$6:$D$500=$A11)*([1]Mars!$H$6:$H$500>=C$3)*([1]Mars!$H$6:$H$500<D$3)*([1]Mars!$G$6:$G$500)),SUMPRODUCT(([1]Avril!$D$6:$D$500=$A11)*([1]Avril!$H$6:$H$500>=C$3)*([1]Avril!$H$6:$H$500<D$3)*([1]Avril!$G$6:$G$500)),SUMPRODUCT(([1]Mai!$D$6:$D$500=$A11)*([1]Mai!$H$6:$H$500>=C$3)*([1]Mai!$H$6:$H$500<D$3)*([1]Mai!$G$6:$G$500)),SUMPRODUCT(([1]Juin!$D$6:$D$500=$A11)*([1]Juin!$H$6:$H$500>=C$3)*([1]Juin!$H$6:$H$500<D$3)*([1]Juin!$G$6:$G$500)),SUMPRODUCT(([1]Juillet!$D$6:$D$500=$A11)*([1]Juillet!$H$6:$H$500>=C$3)*([1]Juillet!$H$6:$H$500<D$3)*([1]Juillet!$G$6:$G$500)),SUMPRODUCT(([1]Août!$D$6:$D$500=$A11)*([1]Août!$H$6:$H$500>=C$3)*([1]Août!$H$6:$H$500<D$3)*([1]Août!$G$6:$G$500)),SUMPRODUCT(([1]Septembre!$D$6:$D$500=$A11)*([1]Septembre!$H$6:$H$500>=C$3)*([1]Septembre!$H$6:$H$500<D$3)*([1]Septembre!$G$6:$G$500)),SUMPRODUCT(([1]Octobre!$D$6:$D$500=$A11)*([1]Octobre!$H$6:$H$500>=C$3)*([1]Octobre!$H$6:$H$500<D$3)*([1]Octobre!$G$6:$G$500)),SUMPRODUCT(([1]Novembre!$D$6:$D$500=$A11)*([1]Novembre!$H$6:$H$500>=C$3)*([1]Novembre!$H$6:$H$500<D$3)*([1]Novembre!$G$6:$G$500)),SUMPRODUCT(([1]Décembre!$D$6:$D$500=$A11)*([1]Décembre!$H$6:$H$500>=C$3)*([1]Décembre!$H$6:$H$500<D$3)*([1]Décembre!$G$6:$G$500))),"")} | D11: {=IF(ISTEXT($A11),SUM(SUMPRODUCT(([1]Janvier!$D$6:$D$500=$A11)*([1]Janvier!$H$6:$H$500>=D$3)*([1]Janvier!$H$6:$H$500<E$3)*([1]Janvier!$G$6:$G$500)),SUMPRODUCT(([1]Février!$D$6:$D$500=$A11)*([1]Février!$H$6:$H$500>=D$3)*([1]Février!$H$6:$H$500<E$3)*([1]Février!$G$6:$G$500)),SUMPRODUCT(([1]Mars!$D$6:$D$500=$A11)*([1]Mars!$H$6:$H$500>=D$3)*([1]Mars!$H$6:$H$500<E$3)*([1]Mars!$G$6:$G$500)),SUMPRODUCT(([1]Avril!$D$6:$D$500=$A11)*([1]Avril!$H$6:$H$500>=D$3)*([1]Avril!$H$6:$H$500<E$3)*([1]Avril!$G$6:$G$500)),SUMPRODUCT(([1]Mai!$D$6:$D$500=$A11)*([1]Mai!$H$6:$H$500>=D$3)*([1]Mai!$H$6:$H$500<E$3)*([1]Mai!$G$6:$G$500)),SUMPRODUCT(([1]Juin!$D$6:$D$500=$A11)*([1]Juin!$H$6:$H$500>=D$3)*([1]Juin!$H$6:$H$500<E$3)*([1]Juin!$G$6:$G$500)),SUMPRODUCT(([1]Juillet!$D$6:$D$500=$A11)*([1]Juillet!$H$6:$H$500>=D$3)*([1]Juillet!$H$6:$H$500<E$3)*([1]Juillet!$G$6:$G$500)),SUMPRODUCT(([1]Août!$D$6:$D$500=$A11)*([1]Août!$H$6:$H$500>=D$3)*([1]Août!$H$6:$H$500<E$3)*([1]Août!$G$6:$G$500)),SUMPRODUCT(([1]Septembre!$D$6:$D$500=$A11)*([1]Septembre!$H$6:$H$500>=D$3)*([1]Septembre!$H$6:$H$500<E$3)*([1]Septembre!$G$6:$G$500)),SUMPRODUCT(([1]Octobre!$D$6:$D$500=$A11)*([1]Octobre!$H$6:$H$500>=D$3)*([1]Octobre!$H$6:$H$500<E$3)*([1]Octobre!$G$6:$G$500)),SUMPRODUCT(([1]Novembre!$D$6:$D$500=$A11)*([1]Novembre!$H$6:$H$500>=D$3)*([1]Novembre!$H$6:$H$500<E$3)*([1]Novembre!$G$6:$G$500)),SUMPRODUCT(([1]Décembre!$D$6:$D$500=$A11)*([1]Décembre!$H$6:$H$500>=D$3)*([1]Décembre!$H$6:$H$500<E$3)*([1]Décembre!$G$6:$G$500))),"")} | E11: {=IF(ISTEXT($A11),SUM(SUMPRODUCT(([1]Janvier!$D$6:$D$500=$A11)*([1]Janvier!$H$6:$H$500>=E$3)*([1]Janvier!$H$6:$H$500<F$3)*([1]Janvier!$G$6:$G$500)),SUMPRODUCT(([1]Février!$D$6:$D$500=$A11)*([1]Février!$H$6:$H$500>=E$3)*([1]Février!$H$6:$H$500<F$3)*([1]Février!$G$6:$G$500)),SUMPRODUCT(([1]Mars!$D$6:$D$500=$A11)*([1]Mars!$H$6:$H$500>=E$3)*([1]Mars!$H$6:$H$500<F$3)*([1]Mars!$G$6:$G$500)),SUMPRODUCT(([1]Avril!$D$6:$D$500=$A11)*([1]Avril!$H$6:$H$500>=E$3)*([1]Avril!$H$6:$H$500<F$3)*([1]Avril!$G$6:$G$500)),SUMPRODUCT(([1]Mai!$D$6:$D$500=$A11)*([1]Mai!$H$6:$H$500>=E$3)*([1]Mai!$H$6:$H$500<F$3)*([1]Mai!$G$6:$G$500)),SUMPRODUCT(([1]Juin!$D$6:$D$500=$A11)*([1]Juin!$H$6:$H$500>=E$3)*([1]Juin!$H$6:$H$500<F$3)*([1]Juin!$G$6:$G$500)),SUMPRODUCT(([1]Juillet!$D$6:$D$500=$A11)*([1]Juillet!$H$6:$H$500>=E$3)*([1]Juillet!$H$6:$H$500<F$3)*([1]Juillet!$G$6:$G$500)),SUMPRODUCT(([1]Août!$D$6:$D$500=$A11)*([1]Août!$H$6:$H$500>=E$3)*([1]Août!$H$6:$H$500<F$3)*([1]Août!$G$6:$G$500)),SUMPRODUCT(([1]Septembre!$D$6:$D$500=$A11)*([1]Septembre!$H$6:$H$500>=E$3)*([1]Septembre!$H$6:$H$500<F$3)*([1]Septembre!$G$6:$G$500)),SUMPRODUCT(([1]Octobre!$D$6:$D$500=$A11)*([1]Octobre!$H$6:$H$500>=E$3)*([1]Octobre!$H$6:$H$500<F$3)*([1]Octobre!$G$6:$G$500)),SUMPRODUCT(([1]Novembre!$D$6:$D$500=$A11)*([1]Novembre!$H$6:$H$500>=E$3)*([1]Novembre!$H$6:$H$500<F$3)*([1]Novembre!$G$6:$G$500)),SUMPRODUCT(([1]Décembre!$D$6:$D$500=$A11)*([1]Décembre!$H$6:$H$500>=E$3)*([1]Décembre!$H$6:$H$500<F$3)*([1]Décembre!$G$6:$G$500))),"")} | F11: {=IF(ISTEXT($A11),SUM(SUMPRODUCT(([1]Janvier!$D$6:$D$500=$A11)*([1]Janvier!$H$6:$H$500>=F$3)*([1]Janvier!$H$6:$H$500<G$3)*([1]Janvier!$G$6:$G$500)),SUMPRODUCT(([1]Février!$D$6:$D$500=$A11)*([1]Février!$H$6:$H$500>=F$3)*([1]Février!$H$6:$H$500<G$3)*([1]Février!$G$6:$G$500)),SUMPRODUCT(([1]Mars!$D$6:$D$500=$A11)*([1]Mars!$H$6:$H$500>=F$3)*([1]Mars!$H$6:$H$500<G$3)*([1]Mars!$G$6:$G$500)),SUMPRODUCT(([1]Avril!$D$6:$D$500=$A11)*([1]Avril!$H$6:$H$500>=F$3)*([1]Avril!$H$6:$H$500<G$3)*([1]Avril!$G$6:$G$500)),SUMPRODUCT(([1]Mai!$D$6:$D$500=$A11)*([1]Mai!$H$6:$H$500>=F$3)*([1]Mai!$H$6:$H$500<G$3)*([1]Mai!$G$6:$G$500)),SUMPRODUCT(([1]Juin!$D$6:$D$500=$A11)*([1]Juin!$H$6:$H$500>=F$3)*([1]Juin!$H$6:$H$500<G$3)*([1]Juin!$G$6:$G$500)),SUMPRODUCT(([1]Juillet!$D$6:$D$500=$A11)*([1]Juillet!$H$6:$H$500>=F$3)*([1]Juillet!$H$6:$H$500<G$3)*([1]Juillet!$G$6:$G$500)),SUMPRODUCT(([1]Août!$D$6:$D$500=$A11)*([1]Août!$H$6:$H$500>=F$3)*([1]Août!$H$6:$H$500<G$3)*([1]Août!$G$6:$G$500)),SUMPRODUCT(([1]Septembre!$D$6:$D$500=$A11)*([1]Septembre!$H$6:$H$500>=F$3)*([1]Septembre!$H$6:$H$500<G$3)*([1]Septembre!$G$6:$G$500)),SUMPRODUCT(([1]Octobre!$D$6:$D$500=$A11)*([1]Octobre!$H$6:$H$500>=F$3)*([1]Octobre!$H$6:$H$500<G$3)*([1]Octobre!$G$6:$G$500)),SUMPRODUCT(([1]Novembre!$D$6:$D$500=$A11)*([1]Novembre!$H$6:$H$500>=F$3)*([1]Novembre!$H$6:$H$500<G$3)*([1]Novembre!$G$6:$G$500)),SUMPRODUCT(([1]Décembre!$D$6:$D$500=$A11)*([1]Décembre!$H$6:$H$500>=F$3)*([1]Décembre!$H$6:$H$500<G$3)*([1]Décembre!$G$6:$G$500))),"")} | G11: {=IF(ISTEXT($A11),SUM(SUMPRODUCT(([1]Janvier!$D$6:$D$500=$A11)*([1]Janvier!$H$6:$H$500>=G$3)*([1]Janvier!$H$6:$H$500<H$3)*([1]Janvier!$G$6:$G$500)),SUMPRODUCT(([1]Février!$D$6:$D$500=$A11)*([1]Février!$H$6:$H$500>=G$3)*([1]Février!$H$6:$H$500<H$3)*([1]Février!$G$6:$G$500)),SUMPRODUCT(([1]Mars!$D$6:$D$500=$A11)*([1]Mars!$H$6:$H$500>=G$3)*([1]Mars!$H$6:$H$500<H$3)*([1]Mars!$G$6:$G$500)),SUMPRODUCT(([1]Avril!$D$6:$D$500=$A11)*([1]Avril!$H$6:$H$500>=G$3)*([1]Avril!$H$6:$H$500<H$3)*([1]Avril!$G$6:$G$500)),SUMPRODUCT(([1]Mai!$D$6:$D$500=$A11)*([1]Mai!$H$6:$H$500>=G$3)*([1]Mai!$H$6:$H$500<H$3)*([1]Mai!$G$6:$G$500)),SUMPRODUCT(([1]Juin!$D$6:$D$500=$A11)*([1]Juin!$H$6:$H$500>=G$3)*([1]Juin!$H$6:$H$500<H$3)*([1]Juin!$G$6:$G$500)),SUMPRODUCT(([1]Juillet!$D$6:$D$500=$A11)*([1]Juillet!$H$6:$H$500>=G$3)*([1]Juillet!$H$6:$H$500<H$3)*([1]Juillet!$G$6:$G$500)),SUMPRODUCT(([1]Août!$D$6:$D$500=$A11)*([1]Août!$H$6:$H$500>=G$3)*([1]Août!$H$6:$H$500<H$3)*([1]Août!$G$6:$G$500)),SUMPRODUCT(([1]Septembre!$D$6:$D$500=$A11)*([1]Septembre!$H$6:$H$500>=G$3)*([1]Septembre!$H$6:$H$500<H$3)*([1]Septembre!$G$6:$G$500)),SUMPRODUCT(([1]Octobre!$D$6:$D$500=$A11)*([1]Octobre!$H$6:$H$500>=G$3)*([1]Octobre!$H$6:$H$500<H$3)*([1]Octobre!$G$6:$G$500)),SUMPRODUCT(([1]Novembre!$D$6:$D$500=$A11)*([1]Novembre!$H$6:$H$500>=G$3)*([1]Novembre!$H$6:$H$500<H$3)*([1]Novembre!$G$6:$G$500)),SUMPRODUCT(([1]Décembre!$D$6:$D$500=$A11)*([1]Décembre!$H$6:$H$500>=G$3)*([1]Décembre!$H$6:$H$500<H$3)*([1]Décembre!$G$6:$G$500))),"")} | H11: {=IF(ISTEXT($A11),SUM(SUMPRODUCT(([1]Janvier!$D$6:$D$500=$A11)*([1]Janvier!$H$6:$H$500>=H$3)*([1]Janvier!$H$6:$H$500<I$3)*([1]Janvier!$G$6:$G$500)),SUMPRODUCT(([1]Février!$D$6:$D$500=$A11)*([1]Février!$H$6:$H$500>=H$3)*([1]Février!$H$6:$H$500<I$3)*([1]Février!$G$6:$G$500)),SUMPRODUCT(([1]Mars!$D$6:$D$500=$A11)*([1]Mars!$H$6:$H$500>=H$3)*([1]Mars!$H$6:$H$500<I$3)*([1]Mars!$G$6:$G$500)),SUMPRODUCT(([1]Avril!$D$6:$D$500=$A11)*([1]Avril!$H$6:$H$500>=H$3)*([1]Avril!$H$6:$H$500<I$3)*([1]Avril!$G$6:$G$500)),SUMPRODUCT(([1]Mai!$D$6:$D$500=$A11)*([1]Mai!$H$6:$H$500>=H$3)*([1]Mai!$H$6:$H$500<I$3)*([1]Mai!$G$6:$G$500)),SUMPRODUCT(([1]Juin!$D$6:$D$500=$A11)*([1]Juin!$H$6:$H$500>=H$3)*([1]Juin!$H$6:$H$500<I$3)*([1]Juin!$G$6:$G$500)),SUMPRODUCT(([1]Juillet!$D$6:$D$500=$A11)*([1]Juillet!$H$6:$H$500>=H$3)*([1]Juillet!$H$6:$H$500<I$3)*([1]Juillet!$G$6:$G$500)),SUMPRODUCT(([1]Août!$D$6:$D$500=$A11)*([1]Août!$H$6:$H$500>=H$3)*([1]Août!$H$6:$H$500<I$3)*([1]Août!$G$6:$G$500)),SUMPRODUCT(([1]Septembre!$D$6:$D$500=$A11)*([1]Septembre!$H$6:$H$500>=H$3)*([1]Septembre!$H$6:$H$500<I$3)*([1]Septembre!$G$6:$G$500)),SUMPRODUCT(([1]Octobre!$D$6:$D$500=$A11)*([1]Octobre!$H$6:$H$500>=H$3)*([1]Octobre!$H$6:$H$500<I$3)*([1]Octobre!$G$6:$G$500)),SUMPRODUCT(([1]Novembre!$D$6:$D$500=$A11)*([1]Novembre!$H$6:$H$500>=H$3)*([1]Novembre!$H$6:$H$500<I$3)*([1]Novembre!$G$6:$G$500)),SUMPRODUCT(([1]Décembre!$D$6:$D$500=$A11)*([1]Décembre!$H$6:$H$500>=H$3)*([1]Décembre!$H$6:$H$500<I$3)*([1]Décembre!$G$6:$G$500))),"")} | I11: {=IF(ISTEXT($A11),SUM(SUMPRODUCT(([1]Janvier!$D$6:$D$500=$A11)*([1]Janvier!$H$6:$H$500>=I$3)*([1]Janvier!$H$6:$H$500<J$3)*([1]Janvier!$G$6:$G$500)),SUMPRODUCT(([1]Février!$D$6:$D$500=$A11)*([1]Février!$H$6:$H$500>=I$3)*([1]Février!$H$6:$H$500<J$3)*([1]Février!$G$6:$G$500)),SUMPRODUCT(([1]Mars!$D$6:$D$500=$A11)*([1]Mars!$H$6:$H$500>=I$3)*([1]Mars!$H$6:$H$500<J$3)*([1]Mars!$G$6:$G$500)),SUMPRODUCT(([1]Avril!$D$6:$D$500=$A11)*([1]Avril!$H$6:$H$500>=I$3)*([1]Avril!$H$6:$H$500<J$3)*([1]Avril!$G$6:$G$500)),SUMPRODUCT(([1]Mai!$D$6:$D$500=$A11)*([1]Mai!$H$6:$H$500>=I$3)*([1]Mai!$H$6:$H$500<J$3)*([1]Mai!$G$6:$G$500)),SUMPRODUCT(([1]Juin!$D$6:$D$500=$A11)*([1]Juin!$H$6:$H$500>=I$3)*([1]Juin!$H$6:$H$500<J$3)*([1]Juin!$G$6:$G$500)),SUMPRODUCT(([1]Juillet!$D$6:$D$500=$A11)*([1]Juillet!$H$6:$H$500>=I$3)*([1]Juillet!$H$6:$H$500<J$3)*([1]Juillet!$G$6:$G$500)),SUMPRODUCT(([1]Août!$D$6:$D$500=$A11)*([1]Août!$H$6:$H$500>=I$3)*([1]Août!$H$6:$H$500<J$3)*([1]Août!$G$6:$G$500)),SUMPRODUCT(([1]Septembre!$D$6:$D$500=$A11)*([1]Septembre!$H$6:$H$500>=I$3)*([1]Septembre!$H$6:$H$500<J$3)*([1]Septembre!$G$6:$G$500)),SUMPRODUCT(([1]Octobre!$D$6:$D$500=$A11)*([1]Octobre!$H$6:$H$500>=I$3)*([1]Octobre!$H$6:$H$500<J$3)*([1]Octobre!$G$6:$G$500)),SUMPRODUCT(([1]Novembre!$D$6:$D$500=$A11)*([1]Novembre!$H$6:$H$500>=I$3)*([1]Novembre!$H$6:$H$500<J$3)*([1]Novembre!$G$6:$G$500)),SUMPRODUCT(([1]Décembre!$D$6:$D$500=$A11)*([1]Décembre!$H$6:$H$500>=I$3)*([1]Décembre!$H$6:$H$500<J$3)*([1]Décembre!$G$6:$G$500))),"")} | ... M11: {=IF(ISTEXT($A11),SUM(SUMPRODUCT(([1]Janvier!$D$6:$D$500=$A11)*([1]Janvier!$H$6:$H$500>=M$3)*([1]Janvier!$H$6:$H$500<N$3)*([1]Janvier!$G$6:$G$500)),SUMPRODUCT(([1]Février!$D$6:$D$500=$A11)*([1]Février!$H$6:$H$500>=M$3)*([1]Février!$H$6:$H$500<N$3)*([1]Février!$G$6:$G$500)),SUMPRODUCT(([1]Mars!$D$6:$D$500=$A11)*([1]Mars!$H$6:$H$500>=M$3)*([1]Mars!$H$6:$H$500<N$3)*([1]Mars!$G$6:$G$500)),SUMPRODUCT(([1]Avril!$D$6:$D$500=$A11)*([1]Avril!$H$6:$H$500>=M$3)*([1]Avril!$H$6:$H$500<N$3)*([1]Avril!$G$6:$G$500)),SUMPRODUCT(([1]Mai!$D$6:$D$500=$A11)*([1]Mai!$H$6:$H$500>=M$3)*([1]Mai!$H$6:$H$500<N$3)*([1]Mai!$G$6:$G$500)),SUMPRODUCT(([1]Juin!$D$6:$D$500=$A11)*([1]Juin!$H$6:$H$500>=M$3)*([1]Juin!$H$6:$H$500<N$3)*([1]Juin!$G$6:$G$500)),SUMPRODUCT(([1]Juillet!$D$6:$D$500=$A11)*([1]Juillet!$H$6:$H$500>=M$3)*([1]Juillet!$H$6:$H$500<N$3)*([1]Juillet!$G$6:$G$500)),SUMPRODUCT(([1]Août!$D$6:$D$500=$A11)*([1]Août!$H$6:$H$500>=M$3)*([1]Août!$H$6:$H$500<N$3)*([1]Août!$G$6:$G$500)),SUMPRODUCT(([1]Septembre!$D$6:$D$500=$A11)*([1]Septembre!$H$6:$H$500>=M$3)*([1]Septembre!$H$6:$H$500<N$3)*([1]Septembre!$G$6:$G$500)),SUMPRODUCT(([1]Octobre!$D$6:$D$500=$A11)*([1]Octobre!$H$6:$H$500>=M$3)*([1]Octobre!$H$6:$H$500<N$3)*([1]Octobre!$G$6:$G$500)),SUMPRODUCT(([1]Novembre!$D$6:$D$500=$A11)*([1]Novembre!$H$6:$H$500>=M$3)*([1]Novembre!$H$6:$H$500<N$3)*([1]Novembre!$G$6:$G$500)),SUMPRODUCT(([1]Décembre!$D$6:$D$500=$A11)*([1]Décembre!$H$6:$H$500>=M$3)*([1]Décembre!$H$6:$H$500<N$3)*([1]Décembre!$G$6:$G$500))),"")} | O11: =SUM(B11:M11) -> 0
B12: {=IF(ISTEXT($A12),SUM(SUMPRODUCT(([1]Janvier!$D$6:$D$500=$A12)*([1]Janvier!$H$6:$H$500>=B$3)*([1]Janvier!$H$6:$H$500<C$3)*([1]Janvier!$G$6:$G$500)),SUMPRODUCT(([1]Février!$D$6:$D$500=$A12)*([1]Février!$H$6:$H$500>=B$3)*([1]Février!$H$6:$H$500<C$3)*([1]Février!$G$6:$G$500)),SUMPRODUCT(([1]Mars!$D$6:$D$500=$A12)*([1]Mars!$H$6:$H$500>=B$3)*([1]Mars!$H$6:$H$500<C$3)*([1]Mars!$G$6:$G$500)),SUMPRODUCT(([1]Avril!$D$6:$D$500=$A12)*([1]Avril!$H$6:$H$500>=B$3)*([1]Avril!$H$6:$H$500<C$3)*([1]Avril!$G$6:$G$500)),SUMPRODUCT(([1]Mai!$D$6:$D$500=$A12)*([1]Mai!$H$6:$H$500>=B$3)*([1]Mai!$H$6:$H$500<C$3)*([1]Mai!$G$6:$G$500)),SUMPRODUCT(([1]Juin!$D$6:$D$500=$A12)*([1]Juin!$H$6:$H$500>=B$3)*([1]Juin!$H$6:$H$500<C$3)*([1]Juin!$G$6:$G$500)),SUMPRODUCT(([1]Juillet!$D$6:$D$500=$A12)*([1]Juillet!$H$6:$H$500>=B$3)*([1]Juillet!$H$6:$H$500<C$3)*([1]Juillet!$G$6:$G$500)),SUMPRODUCT(([1]Août!$D$6:$D$500=$A12)*([1]Août!$H$6:$H$500>=B$3)*([1]Août!$H$6:$H$500<C$3)*([1]Août!$G$6:$G$500)),SUMPRODUCT(([1]Septembre!$D$6:$D$500=$A12)*([1]Septembre!$H$6:$H$500>=B$3)*([1]Septembre!$H$6:$H$500<C$3)*([1]Septembre!$G$6:$G$500)),SUMPRODUCT(([1]Octobre!$D$6:$D$500=$A12)*([1]Octobre!$H$6:$H$500>=B$3)*([1]Octobre!$H$6:$H$500<C$3)*([1]Octobre!$G$6:$G$500)),SUMPRODUCT(([1]Novembre!$D$6:$D$500=$A12)*([1]Novembre!$H$6:$H$500>=B$3)*([1]Novembre!$H$6:$H$500<C$3)*([1]Novembre!$G$6:$G$500)),SUMPRODUCT(([1]Décembre!$D$6:$D$500=$A12)*([1]Décembre!$H$6:$H$500>=B$3)*([1]Décembre!$H$6:$H$500<C$3)*([1]Décembre!$G$6:$G$500))),"")} | C12: {=IF(ISTEXT($A12),SUM(SUMPRODUCT(([1]Janvier!$D$6:$D$500=$A12)*([1]Janvier!$H$6:$H$500>=C$3)*([1]Janvier!$H$6:$H$500<D$3)*([1]Janvier!$G$6:$G$500)),SUMPRODUCT(([1]Février!$D$6:$D$500=$A12)*([1]Février!$H$6:$H$500>=C$3)*([1]Février!$H$6:$H$500<D$3)*([1]Février!$G$6:$G$500)),SUMPRODUCT(([1]Mars!$D$6:$D$500=$A12)*([1]Mars!$H$6:$H$500>=C$3)*([1]Mars!$H$6:$H$500<D$3)*([1]Mars!$G$6:$G$500)),SUMPRODUCT(([1]Avril!$D$6:$D$500=$A12)*([1]Avril!$H$6:$H$500>=C$3)*([1]Avril!$H$6:$H$500<D$3)*([1]Avril!$G$6:$G$500)),SUMPRODUCT(([1]Mai!$D$6:$D$500=$A12)*([1]Mai!$H$6:$H$500>=C$3)*([1]Mai!$H$6:$H$500<D$3)*([1]Mai!$G$6:$G$500)),SUMPRODUCT(([1]Juin!$D$6:$D$500=$A12)*([1]Juin!$H$6:$H$500>=C$3)*([1]Juin!$H$6:$H$500<D$3)*([1]Juin!$G$6:$G$500)),SUMPRODUCT(([1]Juillet!$D$6:$D$500=$A12)*([1]Juillet!$H$6:$H$500>=C$3)*([1]Juillet!$H$6:$H$500<D$3)*([1]Juillet!$G$6:$G$500)),SUMPRODUCT(([1]Août!$D$6:$D$500=$A12)*([1]Août!$H$6:$H$500>=C$3)*([1]Août!$H$6:$H$500<D$3)*([1]Août!$G$6:$G$500)),SUMPRODUCT(([1]Septembre!$D$6:$D$500=$A12)*([1]Septembre!$H$6:$H$500>=C$3)*([1]Septembre!$H$6:$H$500<D$3)*([1]Septembre!$G$6:$G$500)),SUMPRODUCT(([1]Octobre!$D$6:$D$500=$A12)*([1]Octobre!$H$6:$H$500>=C$3)*([1]Octobre!$H$6:$H$500<D$3)*([1]Octobre!$G$6:$G$500)),SUMPRODUCT(([1]Novembre!$D$6:$D$500=$A12)*([1]Novembre!$H$6:$H$500>=C$3)*([1]Novembre!$H$6:$H$500<D$3)*([1]Novembre!$G$6:$G$500)),SUMPRODUCT(([1]Décembre!$D$6:$D$500=$A12)*([1]Décembre!$H$6:$H$500>=C$3)*([1]Décembre!$H$6:$H$500<D$3)*([1]Décembre!$G$6:$G$500))),"")} | D12: {=IF(ISTEXT($A12),SUM(SUMPRODUCT(([1]Janvier!$D$6:$D$500=$A12)*([1]Janvier!$H$6:$H$500>=D$3)*([1]Janvier!$H$6:$H$500<E$3)*([1]Janvier!$G$6:$G$500)),SUMPRODUCT(([1]Février!$D$6:$D$500=$A12)*([1]Février!$H$6:$H$500>=D$3)*([1]Février!$H$6:$H$500<E$3)*([1]Février!$G$6:$G$500)),SUMPRODUCT(([1]Mars!$D$6:$D$500=$A12)*([1]Mars!$H$6:$H$500>=D$3)*([1]Mars!$H$6:$H$500<E$3)*([1]Mars!$G$6:$G$500)),SUMPRODUCT(([1]Avril!$D$6:$D$500=$A12)*([1]Avril!$H$6:$H$500>=D$3)*([1]Avril!$H$6:$H$500<E$3)*([1]Avril!$G$6:$G$500)),SUMPRODUCT(([1]Mai!$D$6:$D$500=$A12)*([1]Mai!$H$6:$H$500>=D$3)*([1]Mai!$H$6:$H$500<E$3)*([1]Mai!$G$6:$G$500)),SUMPRODUCT(([1]Juin!$D$6:$D$500=$A12)*([1]Juin!$H$6:$H$500>=D$3)*([1]Juin!$H$6:$H$500<E$3)*([1]Juin!$G$6:$G$500)),SUMPRODUCT(([1]Juillet!$D$6:$D$500=$A12)*([1]Juillet!$H$6:$H$500>=D$3)*([1]Juillet!$H$6:$H$500<E$3)*([1]Juillet!$G$6:$G$500)),SUMPRODUCT(([1]Août!$D$6:$D$500=$A12)*([1]Août!$H$6:$H$500>=D$3)*([1]Août!$H$6:$H$500<E$3)*([1]Août!$G$6:$G$500)),SUMPRODUCT(([1]Septembre!$D$6:$D$500=$A12)*([1]Septembre!$H$6:$H$500>=D$3)*([1]Septembre!$H$6:$H$500<E$3)*([1]Septembre!$G$6:$G$500)),SUMPRODUCT(([1]Octobre!$D$6:$D$500=$A12)*([1]Octobre!$H$6:$H$500>=D$3)*([1]Octobre!$H$6:$H$500<E$3)*([1]Octobre!$G$6:$G$500)),SUMPRODUCT(([1]Novembre!$D$6:$D$500=$A12)*([1]Novembre!$H$6:$H$500>=D$3)*([1]Novembre!$H$6:$H$500<E$3)*([1]Novembre!$G$6:$G$500)),SUMPRODUCT(([1]Décembre!$D$6:$D$500=$A12)*([1]Décembre!$H$6:$H$500>=D$3)*([1]Décembre!$H$6:$H$500<E$3)*([1]Décembre!$G$6:$G$500))),"")} | E12: {=IF(ISTEXT($A12),SUM(SUMPRODUCT(([1]Janvier!$D$6:$D$500=$A12)*([1]Janvier!$H$6:$H$500>=E$3)*([1]Janvier!$H$6:$H$500<F$3)*([1]Janvier!$G$6:$G$500)),SUMPRODUCT(([1]Février!$D$6:$D$500=$A12)*([1]Février!$H$6:$H$500>=E$3)*([1]Février!$H$6:$H$500<F$3)*([1]Février!$G$6:$G$500)),SUMPRODUCT(([1]Mars!$D$6:$D$500=$A12)*([1]Mars!$H$6:$H$500>=E$3)*([1]Mars!$H$6:$H$500<F$3)*([1]Mars!$G$6:$G$500)),SUMPRODUCT(([1]Avril!$D$6:$D$500=$A12)*([1]Avril!$H$6:$H$500>=E$3)*([1]Avril!$H$6:$H$500<F$3)*([1]Avril!$G$6:$G$500)),SUMPRODUCT(([1]Mai!$D$6:$D$500=$A12)*([1]Mai!$H$6:$H$500>=E$3)*([1]Mai!$H$6:$H$500<F$3)*([1]Mai!$G$6:$G$500)),SUMPRODUCT(([1]Juin!$D$6:$D$500=$A12)*([1]Juin!$H$6:$H$500>=E$3)*([1]Juin!$H$6:$H$500<F$3)*([1]Juin!$G$6:$G$500)),SUMPRODUCT(([1]Juillet!$D$6:$D$500=$A12)*([1]Juillet!$H$6:$H$500>=E$3)*([1]Juillet!$H$6:$H$500<F$3)*([1]Juillet!$G$6:$G$500)),SUMPRODUCT(([1]Août!$D$6:$D$500=$A12)*([1]Août!$H$6:$H$500>=E$3)*([1]Août!$H$6:$H$500<F$3)*([1]Août!$G$6:$G$500)),SUMPRODUCT(([1]Septembre!$D$6:$D$500=$A12)*([1]Septembre!$H$6:$H$500>=E$3)*([1]Septembre!$H$6:$H$500<F$3)*([1]Septembre!$G$6:$G$500)),SUMPRODUCT(([1]Octobre!$D$6:$D$500=$A12)*([1]Octobre!$H$6:$H$500>=E$3)*([1]Octobre!$H$6:$H$500<F$3)*([1]Octobre!$G$6:$G$500)),SUMPRODUCT(([1]Novembre!$D$6:$D$500=$A12)*([1]Novembre!$H$6:$H$500>=E$3)*([1]Novembre!$H$6:$H$500<F$3)*([1]Novembre!$G$6:$G$500)),SUMPRODUCT(([1]Décembre!$D$6:$D$500=$A12)*([1]Décembre!$H$6:$H$500>=E$3)*([1]Décembre!$H$6:$H$500<F$3)*([1]Décembre!$G$6:$G$500))),"")} | F12: {=IF(ISTEXT($A12),SUM(SUMPRODUCT(([1]Janvier!$D$6:$D$500=$A12)*([1]Janvier!$H$6:$H$500>=F$3)*([1]Janvier!$H$6:$H$500<G$3)*([1]Janvier!$G$6:$G$500)),SUMPRODUCT(([1]Février!$D$6:$D$500=$A12)*([1]Février!$H$6:$H$500>=F$3)*([1]Février!$H$6:$H$500<G$3)*([1]Février!$G$6:$G$500)),SUMPRODUCT(([1]Mars!$D$6:$D$500=$A12)*([1]Mars!$H$6:$H$500>=F$3)*([1]Mars!$H$6:$H$500<G$3)*([1]Mars!$G$6:$G$500)),SUMPRODUCT(([1]Avril!$D$6:$D$500=$A12)*([1]Avril!$H$6:$H$500>=F$3)*([1]Avril!$H$6:$H$500<G$3)*([1]Avril!$G$6:$G$500)),SUMPRODUCT(([1]Mai!$D$6:$D$500=$A12)*([1]Mai!$H$6:$H$500>=F$3)*([1]Mai!$H$6:$H$500<G$3)*([1]Mai!$G$6:$G$500)),SUMPRODUCT(([1]Juin!$D$6:$D$500=$A12)*([1]Juin!$H$6:$H$500>=F$3)*([1]Juin!$H$6:$H$500<G$3)*([1]Juin!$G$6:$G$500)),SUMPRODUCT(([1]Juillet!$D$6:$D$500=$A12)*([1]Juillet!$H$6:$H$500>=F$3)*([1]Juillet!$H$6:$H$500<G$3)*([1]Juillet!$G$6:$G$500)),SUMPRODUCT(([1]Août!$D$6:$D$500=$A12)*([1]Août!$H$6:$H$500>=F$3)*([1]Août!$H$6:$H$500<G$3)*([1]Août!$G$6:$G$500)),SUMPRODUCT(([1]Septembre!$D$6:$D$500=$A12)*([1]Septembre!$H$6:$H$500>=F$3)*([1]Septembre!$H$6:$H$500<G$3)*([1]Septembre!$G$6:$G$500)),SUMPRODUCT(([1]Octobre!$D$6:$D$500=$A12)*([1]Octobre!$H$6:$H$500>=F$3)*([1]Octobre!$H$6:$H$500<G$3)*([1]Octobre!$G$6:$G$500)),SUMPRODUCT(([1]Novembre!$D$6:$D$500=$A12)*([1]Novembre!$H$6:$H$500>=F$3)*([1]Novembre!$H$6:$H$500<G$3)*([1]Novembre!$G$6:$G$500)),SUMPRODUCT(([1]Décembre!$D$6:$D$500=$A12)*([1]Décembre!$H$6:$H$500>=F$3)*([1]Décembre!$H$6:$H$500<G$3)*([1]Décembre!$G$6:$G$500))),"")} | G12: {=IF(ISTEXT($A12),SUM(SUMPRODUCT(([1]Janvier!$D$6:$D$500=$A12)*([1]Janvier!$H$6:$H$500>=G$3)*([1]Janvier!$H$6:$H$500<H$3)*([1]Janvier!$G$6:$G$500)),SUMPRODUCT(([1]Février!$D$6:$D$500=$A12)*([1]Février!$H$6:$H$500>=G$3)*([1]Février!$H$6:$H$500<H$3)*([1]Février!$G$6:$G$500)),SUMPRODUCT(([1]Mars!$D$6:$D$500=$A12)*([1]Mars!$H$6:$H$500>=G$3)*([1]Mars!$H$6:$H$500<H$3)*([1]Mars!$G$6:$G$500)),SUMPRODUCT(([1]Avril!$D$6:$D$500=$A12)*([1]Avril!$H$6:$H$500>=G$3)*([1]Avril!$H$6:$H$500<H$3)*([1]Avril!$G$6:$G$500)),SUMPRODUCT(([1]Mai!$D$6:$D$500=$A12)*([1]Mai!$H$6:$H$500>=G$3)*([1]Mai!$H$6:$H$500<H$3)*([1]Mai!$G$6:$G$500)),SUMPRODUCT(([1]Juin!$D$6:$D$500=$A12)*([1]Juin!$H$6:$H$500>=G$3)*([1]Juin!$H$6:$H$500<H$3)*([1]Juin!$G$6:$G$500)),SUMPRODUCT(([1]Juillet!$D$6:$D$500=$A12)*([1]Juillet!$H$6:$H$500>=G$3)*([1]Juillet!$H$6:$H$500<H$3)*([1]Juillet!$G$6:$G$500)),SUMPRODUCT(([1]Août!$D$6:$D$500=$A12)*([1]Août!$H$6:$H$500>=G$3)*([1]Août!$H$6:$H$500<H$3)*([1]Août!$G$6:$G$500)),SUMPRODUCT(([1]Septembre!$D$6:$D$500=$A12)*([1]Septembre!$H$6:$H$500>=G$3)*([1]Septembre!$H$6:$H$500<H$3)*([1]Septembre!$G$6:$G$500)),SUMPRODUCT(([1]Octobre!$D$6:$D$500=$A12)*([1]Octobre!$H$6:$H$500>=G$3)*([1]Octobre!$H$6:$H$500<H$3)*([1]Octobre!$G$6:$G$500)),SUMPRODUCT(([1]Novembre!$D$6:$D$500=$A12)*([1]Novembre!$H$6:$H$500>=G$3)*([1]Novembre!$H$6:$H$500<H$3)*([1]Novembre!$G$6:$G$500)),SUMPRODUCT(([1]Décembre!$D$6:$D$500=$A12)*([1]Décembre!$H$6:$H$500>=G$3)*([1]Décembre!$H$6:$H$500<H$3)*([1]Décembre!$G$6:$G$500))),"")} | H12: {=IF(ISTEXT($A12),SUM(SUMPRODUCT(([1]Janvier!$D$6:$D$500=$A12)*([1]Janvier!$H$6:$H$500>=H$3)*([1]Janvier!$H$6:$H$500<I$3)*([1]Janvier!$G$6:$G$500)),SUMPRODUCT(([1]Février!$D$6:$D$500=$A12)*([1]Février!$H$6:$H$500>=H$3)*([1]Février!$H$6:$H$500<I$3)*([1]Février!$G$6:$G$500)),SUMPRODUCT(([1]Mars!$D$6:$D$500=$A12)*([1]Mars!$H$6:$H$500>=H$3)*([1]Mars!$H$6:$H$500<I$3)*([1]Mars!$G$6:$G$500)),SUMPRODUCT(([1]Avril!$D$6:$D$500=$A12)*([1]Avril!$H$6:$H$500>=H$3)*([1]Avril!$H$6:$H$500<I$3)*([1]Avril!$G$6:$G$500)),SUMPRODUCT(([1]Mai!$D$6:$D$500=$A12)*([1]Mai!$H$6:$H$500>=H$3)*([1]Mai!$H$6:$H$500<I$3)*([1]Mai!$G$6:$G$500)),SUMPRODUCT(([1]Juin!$D$6:$D$500=$A12)*([1]Juin!$H$6:$H$500>=H$3)*([1]Juin!$H$6:$H$500<I$3)*([1]Juin!$G$6:$G$500)),SUMPRODUCT(([1]Juillet!$D$6:$D$500=$A12)*([1]Juillet!$H$6:$H$500>=H$3)*([1]Juillet!$H$6:$H$500<I$3)*([1]Juillet!$G$6:$G$500)),SUMPRODUCT(([1]Août!$D$6:$D$500=$A12)*([1]Août!$H$6:$H$500>=H$3)*([1]Août!$H$6:$H$500<I$3)*([1]Août!$G$6:$G$500)),SUMPRODUCT(([1]Septembre!$D$6:$D$500=$A12)*([1]Septembre!$H$6:$H$500>=H$3)*([1]Septembre!$H$6:$H$500<I$3)*([1]Septembre!$G$6:$G$500)),SUMPRODUCT(([1]Octobre!$D$6:$D$500=$A12)*([1]Octobre!$H$6:$H$500>=H$3)*([1]Octobre!$H$6:$H$500<I$3)*([1]Octobre!$G$6:$G$500)),SUMPRODUCT(([1]Novembre!$D$6:$D$500=$A12)*([1]Novembre!$H$6:$H$500>=H$3)*([1]Novembre!$H$6:$H$500<I$3)*([1]Novembre!$G$6:$G$500)),SUMPRODUCT(([1]Décembre!$D$6:$D$500=$A12)*([1]Décembre!$H$6:$H$500>=H$3)*([1]Décembre!$H$6:$H$500<I$3)*([1]Décembre!$G$6:$G$500))),"")} | I12: {=IF(ISTEXT($A12),SUM(SUMPRODUCT(([1]Janvier!$D$6:$D$500=$A12)*([1]Janvier!$H$6:$H$500>=I$3)*([1]Janvier!$H$6:$H$500<J$3)*([1]Janvier!$G$6:$G$500)),SUMPRODUCT(([1]Février!$D$6:$D$500=$A12)*([1]Février!$H$6:$H$500>=I$3)*([1]Février!$H$6:$H$500<J$3)*([1]Février!$G$6:$G$500)),SUMPRODUCT(([1]Mars!$D$6:$D$500=$A12)*([1]Mars!$H$6:$H$500>=I$3)*([1]Mars!$H$6:$H$500<J$3)*([1]Mars!$G$6:$G$500)),SUMPRODUCT(([1]Avril!$D$6:$D$500=$A12)*([1]Avril!$H$6:$H$500>=I$3)*([1]Avril!$H$6:$H$500<J$3)*([1]Avril!$G$6:$G$500)),SUMPRODUCT(([1]Mai!$D$6:$D$500=$A12)*([1]Mai!$H$6:$H$500>=I$3)*([1]Mai!$H$6:$H$500<J$3)*([1]Mai!$G$6:$G$500)),SUMPRODUCT(([1]Juin!$D$6:$D$500=$A12)*([1]Juin!$H$6:$H$500>=I$3)*([1]Juin!$H$6:$H$500<J$3)*([1]Juin!$G$6:$G$500)),SUMPRODUCT(([1]Juillet!$D$6:$D$500=$A12)*([1]Juillet!$H$6:$H$500>=I$3)*([1]Juillet!$H$6:$H$500<J$3)*([1]Juillet!$G$6:$G$500)),SUMPRODUCT(([1]Août!$D$6:$D$500=$A12)*([1]Août!$H$6:$H$500>=I$3)*([1]Août!$H$6:$H$500<J$3)*([1]Août!$G$6:$G$500)),SUMPRODUCT(([1]Septembre!$D$6:$D$500=$A12)*([1]Septembre!$H$6:$H$500>=I$3)*([1]Septembre!$H$6:$H$500<J$3)*([1]Septembre!$G$6:$G$500)),SUMPRODUCT(([1]Octobre!$D$6:$D$500=$A12)*([1]Octobre!$H$6:$H$500>=I$3)*([1]Octobre!$H$6:$H$500<J$3)*([1]Octobre!$G$6:$G$500)),SUMPRODUCT(([1]Novembre!$D$6:$D$500=$A12)*([1]Novembre!$H$6:$H$500>=I$3)*([1]Novembre!$H$6:$H$500<J$3)*([1]Novembre!$G$6:$G$500)),SUMPRODUCT(([1]Décembre!$D$6:$D$500=$A12)*([1]Décembre!$H$6:$H$500>=I$3)*([1]Décembre!$H$6:$H$500<J$3)*([1]Décembre!$G$6:$G$500))),"")} | ... M12: {=IF(ISTEXT($A12),SUM(SUMPRODUCT(([1]Janvier!$D$6:$D$500=$A12)*([1]Janvier!$H$6:$H$500>=M$3)*([1]Janvier!$H$6:$H$500<N$3)*([1]Janvier!$G$6:$G$500)),SUMPRODUCT(([1]Février!$D$6:$D$500=$A12)*([1]Février!$H$6:$H$500>=M$3)*([1]Février!$H$6:$H$500<N$3)*([1]Février!$G$6:$G$500)),SUMPRODUCT(([1]Mars!$D$6:$D$500=$A12)*([1]Mars!$H$6:$H$500>=M$3)*([1]Mars!$H$6:$H$500<N$3)*([1]Mars!$G$6:$G$500)),SUMPRODUCT(([1]Avril!$D$6:$D$500=$A12)*([1]Avril!$H$6:$H$500>=M$3)*([1]Avril!$H$6:$H$500<N$3)*([1]Avril!$G$6:$G$500)),SUMPRODUCT(([1]Mai!$D$6:$D$500=$A12)*([1]Mai!$H$6:$H$500>=M$3)*([1]Mai!$H$6:$H$500<N$3)*([1]Mai!$G$6:$G$500)),SUMPRODUCT(([1]Juin!$D$6:$D$500=$A12)*([1]Juin!$H$6:$H$500>=M$3)*([1]Juin!$H$6:$H$500<N$3)*([1]Juin!$G$6:$G$500)),SUMPRODUCT(([1]Juillet!$D$6:$D$500=$A12)*([1]Juillet!$H$6:$H$500>=M$3)*([1]Juillet!$H$6:$H$500<N$3)*([1]Juillet!$G$6:$G$500)),SUMPRODUCT(([1]Août!$D$6:$D$500=$A12)*([1]Août!$H$6:$H$500>=M$3)*([1]Août!$H$6:$H$500<N$3)*([1]Août!$G$6:$G$500)),SUMPRODUCT(([1]Septembre!$D$6:$D$500=$A12)*([1]Septembre!$H$6:$H$500>=M$3)*([1]Septembre!$H$6:$H$500<N$3)*([1]Septembre!$G$6:$G$500)),SUMPRODUCT(([1]Octobre!$D$6:$D$500=$A12)*([1]Octobre!$H$6:$H$500>=M$3)*([1]Octobre!$H$6:$H$500<N$3)*([1]Octobre!$G$6:$G$500)),SUMPRODUCT(([1]Novembre!$D$6:$D$500=$A12)*([1]Novembre!$H$6:$H$500>=M$3)*([1]Novembre!$H$6:$H$500<N$3)*([1]Novembre!$G$6:$G$500)),SUMPRODUCT(([1]Décembre!$D$6:$D$500=$A12)*([1]Décembre!$H$6:$H$500>=M$3)*([1]Décembre!$H$6:$H$500<N$3)*([1]Décembre!$G$6:$G$500))),"")} | O12: =SUM(B12:M12) -> 0
B13: {=IF(ISTEXT($A13),SUM(SUMPRODUCT(([1]Janvier!$D$6:$D$500=$A13)*([1]Janvier!$H$6:$H$500>=B$3)*([1]Janvier!$H$6:$H$500<C$3)*([1]Janvier!$G$6:$G$500)),SUMPRODUCT(([1]Février!$D$6:$D$500=$A13)*([1]Février!$H$6:$H$500>=B$3)*([1]Février!$H$6:$H$500<C$3)*([1]Février!$G$6:$G$500)),SUMPRODUCT(([1]Mars!$D$6:$D$500=$A13)*([1]Mars!$H$6:$H$500>=B$3)*([1]Mars!$H$6:$H$500<C$3)*([1]Mars!$G$6:$G$500)),SUMPRODUCT(([1]Avril!$D$6:$D$500=$A13)*([1]Avril!$H$6:$H$500>=B$3)*([1]Avril!$H$6:$H$500<C$3)*([1]Avril!$G$6:$G$500)),SUMPRODUCT(([1]Mai!$D$6:$D$500=$A13)*([1]Mai!$H$6:$H$500>=B$3)*([1]Mai!$H$6:$H$500<C$3)*([1]Mai!$G$6:$G$500)),SUMPRODUCT(([1]Juin!$D$6:$D$500=$A13)*([1]Juin!$H$6:$H$500>=B$3)*([1]Juin!$H$6:$H$500<C$3)*([1]Juin!$G$6:$G$500)),SUMPRODUCT(([1]Juillet!$D$6:$D$500=$A13)*([1]Juillet!$H$6:$H$500>=B$3)*([1]Juillet!$H$6:$H$500<C$3)*([1]Juillet!$G$6:$G$500)),SUMPRODUCT(([1]Août!$D$6:$D$500=$A13)*([1]Août!$H$6:$H$500>=B$3)*([1]Août!$H$6:$H$500<C$3)*([1]Août!$G$6:$G$500)),SUMPRODUCT(([1]Septembre!$D$6:$D$500=$A13)*([1]Septembre!$H$6:$H$500>=B$3)*([1]Septembre!$H$6:$H$500<C$3)*([1]Septembre!$G$6:$G$500)),SUMPRODUCT(([1]Octobre!$D$6:$D$500=$A13)*([1]Octobre!$H$6:$H$500>=B$3)*([1]Octobre!$H$6:$H$500<C$3)*([1]Octobre!$G$6:$G$500)),SUMPRODUCT(([1]Novembre!$D$6:$D$500=$A13)*([1]Novembre!$H$6:$H$500>=B$3)*([1]Novembre!$H$6:$H$500<C$3)*([1]Novembre!$G$6:$G$500)),SUMPRODUCT(([1]Décembre!$D$6:$D$500=$A13)*([1]Décembre!$H$6:$H$500>=B$3)*([1]Décembre!$H$6:$H$500<C$3)*([1]Décembre!$G$6:$G$500))),"")} | C13: {=IF(ISTEXT($A13),SUM(SUMPRODUCT(([1]Janvier!$D$6:$D$500=$A13)*([1]Janvier!$H$6:$H$500>=C$3)*([1]Janvier!$H$6:$H$500<D$3)*([1]Janvier!$G$6:$G$500)),SUMPRODUCT(([1]Février!$D$6:$D$500=$A13)*([1]Février!$H$6:$H$500>=C$3)*([1]Février!$H$6:$H$500<D$3)*([1]Février!$G$6:$G$500)),SUMPRODUCT(([1]Mars!$D$6:$D$500=$A13)*([1]Mars!$H$6:$H$500>=C$3)*([1]Mars!$H$6:$H$500<D$3)*([1]Mars!$G$6:$G$500)),SUMPRODUCT(([1]Avril!$D$6:$D$500=$A13)*([1]Avril!$H$6:$H$500>=C$3)*([1]Avril!$H$6:$H$500<D$3)*([1]Avril!$G$6:$G$500)),SUMPRODUCT(([1]Mai!$D$6:$D$500=$A13)*([1]Mai!$H$6:$H$500>=C$3)*([1]Mai!$H$6:$H$500<D$3)*([1]Mai!$G$6:$G$500)),SUMPRODUCT(([1]Juin!$D$6:$D$500=$A13)*([1]Juin!$H$6:$H$500>=C$3)*([1]Juin!$H$6:$H$500<D$3)*([1]Juin!$G$6:$G$500)),SUMPRODUCT(([1]Juillet!$D$6:$D$500=$A13)*([1]Juillet!$H$6:$H$500>=C$3)*([1]Juillet!$H$6:$H$500<D$3)*([1]Juillet!$G$6:$G$500)),SUMPRODUCT(([1]Août!$D$6:$D$500=$A13)*([1]Août!$H$6:$H$500>=C$3)*([1]Août!$H$6:$H$500<D$3)*([1]Août!$G$6:$G$500)),SUMPRODUCT(([1]Septembre!$D$6:$D$500=$A13)*([1]Septembre!$H$6:$H$500>=C$3)*([1]Septembre!$H$6:$H$500<D$3)*([1]Septembre!$G$6:$G$500)),SUMPRODUCT(([1]Octobre!$D$6:$D$500=$A13)*([1]Octobre!$H$6:$H$500>=C$3)*([1]Octobre!$H$6:$H$500<D$3)*([1]Octobre!$G$6:$G$500)),SUMPRODUCT(([1]Novembre!$D$6:$D$500=$A13)*([1]Novembre!$H$6:$H$500>=C$3)*([1]Novembre!$H$6:$H$500<D$3)*([1]Novembre!$G$6:$G$500)),SUMPRODUCT(([1]Décembre!$D$6:$D$500=$A13)*([1]Décembre!$H$6:$H$500>=C$3)*([1]Décembre!$H$6:$H$500<D$3)*([1]Décembre!$G$6:$G$500))),"")} | D13: {=IF(ISTEXT($A13),SUM(SUMPRODUCT(([1]Janvier!$D$6:$D$500=$A13)*([1]Janvier!$H$6:$H$500>=D$3)*([1]Janvier!$H$6:$H$500<E$3)*([1]Janvier!$G$6:$G$500)),SUMPRODUCT(([1]Février!$D$6:$D$500=$A13)*([1]Février!$H$6:$H$500>=D$3)*([1]Février!$H$6:$H$500<E$3)*([1]Février!$G$6:$G$500)),SUMPRODUCT(([1]Mars!$D$6:$D$500=$A13)*([1]Mars!$H$6:$H$500>=D$3)*([1]Mars!$H$6:$H$500<E$3)*([1]Mars!$G$6:$G$500)),SUMPRODUCT(([1]Avril!$D$6:$D$500=$A13)*([1]Avril!$H$6:$H$500>=D$3)*([1]Avril!$H$6:$H$500<E$3)*([1]Avril!$G$6:$G$500)),SUMPRODUCT(([1]Mai!$D$6:$D$500=$A13)*([1]Mai!$H$6:$H$500>=D$3)*([1]Mai!$H$6:$H$500<E$3)*([1]Mai!$G$6:$G$500)),SUMPRODUCT(([1]Juin!$D$6:$D$500=$A13)*([1]Juin!$H$6:$H$500>=D$3)*([1]Juin!$H$6:$H$500<E$3)*([1]Juin!$G$6:$G$500)),SUMPRODUCT(([1]Juillet!$D$6:$D$500=$A13)*([1]Juillet!$H$6:$H$500>=D$3)*([1]Juillet!$H$6:$H$500<E$3)*([1]Juillet!$G$6:$G$500)),SUMPRODUCT(([1]Août!$D$6:$D$500=$A13)*([1]Août!$H$6:$H$500>=D$3)*([1]Août!$H$6:$H$500<E$3)*([1]Août!$G$6:$G$500)),SUMPRODUCT(([1]Septembre!$D$6:$D$500=$A13)*([1]Septembre!$H$6:$H$500>=D$3)*([1]Septembre!$H$6:$H$500<E$3)*([1]Septembre!$G$6:$G$500)),SUMPRODUCT(([1]Octobre!$D$6:$D$500=$A13)*([1]Octobre!$H$6:$H$500>=D$3)*([1]Octobre!$H$6:$H$500<E$3)*([1]Octobre!$G$6:$G$500)),SUMPRODUCT(([1]Novembre!$D$6:$D$500=$A13)*([1]Novembre!$H$6:$H$500>=D$3)*([1]Novembre!$H$6:$H$500<E$3)*([1]Novembre!$G$6:$G$500)),SUMPRODUCT(([1]Décembre!$D$6:$D$500=$A13)*([1]Décembre!$H$6:$H$500>=D$3)*([1]Décembre!$H$6:$H$500<E$3)*([1]Décembre!$G$6:$G$500))),"")} | E13: {=IF(ISTEXT($A13),SUM(SUMPRODUCT(([1]Janvier!$D$6:$D$500=$A13)*([1]Janvier!$H$6:$H$500>=E$3)*([1]Janvier!$H$6:$H$500<F$3)*([1]Janvier!$G$6:$G$500)),SUMPRODUCT(([1]Février!$D$6:$D$500=$A13)*([1]Février!$H$6:$H$500>=E$3)*([1]Février!$H$6:$H$500<F$3)*([1]Février!$G$6:$G$500)),SUMPRODUCT(([1]Mars!$D$6:$D$500=$A13)*([1]Mars!$H$6:$H$500>=E$3)*([1]Mars!$H$6:$H$500<F$3)*([1]Mars!$G$6:$G$500)),SUMPRODUCT(([1]Avril!$D$6:$D$500=$A13)*([1]Avril!$H$6:$H$500>=E$3)*([1]Avril!$H$6:$H$500<F$3)*([1]Avril!$G$6:$G$500)),SUMPRODUCT(([1]Mai!$D$6:$D$500=$A13)*([1]Mai!$H$6:$H$500>=E$3)*([1]Mai!$H$6:$H$500<F$3)*([1]Mai!$G$6:$G$500)),SUMPRODUCT(([1]Juin!$D$6:$D$500=$A13)*([1]Juin!$H$6:$H$500>=E$3)*([1]Juin!$H$6:$H$500<F$3)*([1]Juin!$G$6:$G$500)),SUMPRODUCT(([1]Juillet!$D$6:$D$500=$A13)*([1]Juillet!$H$6:$H$500>=E$3)*([1]Juillet!$H$6:$H$500<F$3)*([1]Juillet!$G$6:$G$500)),SUMPRODUCT(([1]Août!$D$6:$D$500=$A13)*([1]Août!$H$6:$H$500>=E$3)*([1]Août!$H$6:$H$500<F$3)*([1]Août!$G$6:$G$500)),SUMPRODUCT(([1]Septembre!$D$6:$D$500=$A13)*([1]Septembre!$H$6:$H$500>=E$3)*([1]Septembre!$H$6:$H$500<F$3)*([1]Septembre!$G$6:$G$500)),SUMPRODUCT(([1]Octobre!$D$6:$D$500=$A13)*([1]Octobre!$H$6:$H$500>=E$3)*([1]Octobre!$H$6:$H$500<F$3)*([1]Octobre!$G$6:$G$500)),SUMPRODUCT(([1]Novembre!$D$6:$D$500=$A13)*([1]Novembre!$H$6:$H$500>=E$3)*([1]Novembre!$H$6:$H$500<F$3)*([1]Novembre!$G$6:$G$500)),SUMPRODUCT(([1]Décembre!$D$6:$D$500=$A13)*([1]Décembre!$H$6:$H$500>=E$3)*([1]Décembre!$H$6:$H$500<F$3)*([1]Décembre!$G$6:$G$500))),"")} | F13: {=IF(ISTEXT($A13),SUM(SUMPRODUCT(([1]Janvier!$D$6:$D$500=$A13)*([1]Janvier!$H$6:$H$500>=F$3)*([1]Janvier!$H$6:$H$500<G$3)*([1]Janvier!$G$6:$G$500)),SUMPRODUCT(([1]Février!$D$6:$D$500=$A13)*([1]Février!$H$6:$H$500>=F$3)*([1]Février!$H$6:$H$500<G$3)*([1]Février!$G$6:$G$500)),SUMPRODUCT(([1]Mars!$D$6:$D$500=$A13)*([1]Mars!$H$6:$H$500>=F$3)*([1]Mars!$H$6:$H$500<G$3)*([1]Mars!$G$6:$G$500)),SUMPRODUCT(([1]Avril!$D$6:$D$500=$A13)*([1]Avril!$H$6:$H$500>=F$3)*([1]Avril!$H$6:$H$500<G$3)*([1]Avril!$G$6:$G$500)),SUMPRODUCT(([1]Mai!$D$6:$D$500=$A13)*([1]Mai!$H$6:$H$500>=F$3)*([1]Mai!$H$6:$H$500<G$3)*([1]Mai!$G$6:$G$500)),SUMPRODUCT(([1]Juin!$D$6:$D$500=$A13)*([1]Juin!$H$6:$H$500>=F$3)*([1]Juin!$H$6:$H$500<G$3)*([1]Juin!$G$6:$G$500)),SUMPRODUCT(([1]Juillet!$D$6:$D$500=$A13)*([1]Juillet!$H$6:$H$500>=F$3)*([1]Juillet!$H$6:$H$500<G$3)*([1]Juillet!$G$6:$G$500)),SUMPRODUCT(([1]Août!$D$6:$D$500=$A13)*([1]Août!$H$6:$H$500>=F$3)*([1]Août!$H$6:$H$500<G$3)*([1]Août!$G$6:$G$500)),SUMPRODUCT(([1]Septembre!$D$6:$D$500=$A13)*([1]Septembre!$H$6:$H$500>=F$3)*([1]Septembre!$H$6:$H$500<G$3)*([1]Septembre!$G$6:$G$500)),SUMPRODUCT(([1]Octobre!$D$6:$D$500=$A13)*([1]Octobre!$H$6:$H$500>=F$3)*([1]Octobre!$H$6:$H$500<G$3)*([1]Octobre!$G$6:$G$500)),SUMPRODUCT(([1]Novembre!$D$6:$D$500=$A13)*([1]Novembre!$H$6:$H$500>=F$3)*([1]Novembre!$H$6:$H$500<G$3)*([1]Novembre!$G$6:$G$500)),SUMPRODUCT(([1]Décembre!$D$6:$D$500=$A13)*([1]Décembre!$H$6:$H$500>=F$3)*([1]Décembre!$H$6:$H$500<G$3)*([1]Décembre!$G$6:$G$500))),"")} | G13: {=IF(ISTEXT($A13),SUM(SUMPRODUCT(([1]Janvier!$D$6:$D$500=$A13)*([1]Janvier!$H$6:$H$500>=G$3)*([1]Janvier!$H$6:$H$500<H$3)*([1]Janvier!$G$6:$G$500)),SUMPRODUCT(([1]Février!$D$6:$D$500=$A13)*([1]Février!$H$6:$H$500>=G$3)*([1]Février!$H$6:$H$500<H$3)*([1]Février!$G$6:$G$500)),SUMPRODUCT(([1]Mars!$D$6:$D$500=$A13)*([1]Mars!$H$6:$H$500>=G$3)*([1]Mars!$H$6:$H$500<H$3)*([1]Mars!$G$6:$G$500)),SUMPRODUCT(([1]Avril!$D$6:$D$500=$A13)*([1]Avril!$H$6:$H$500>=G$3)*([1]Avril!$H$6:$H$500<H$3)*([1]Avril!$G$6:$G$500)),SUMPRODUCT(([1]Mai!$D$6:$D$500=$A13)*([1]Mai!$H$6:$H$500>=G$3)*([1]Mai!$H$6:$H$500<H$3)*([1]Mai!$G$6:$G$500)),SUMPRODUCT(([1]Juin!$D$6:$D$500=$A13)*([1]Juin!$H$6:$H$500>=G$3)*([1]Juin!$H$6:$H$500<H$3)*([1]Juin!$G$6:$G$500)),SUMPRODUCT(([1]Juillet!$D$6:$D$500=$A13)*([1]Juillet!$H$6:$H$500>=G$3)*([1]Juillet!$H$6:$H$500<H$3)*([1]Juillet!$G$6:$G$500)),SUMPRODUCT(([1]Août!$D$6:$D$500=$A13)*([1]Août!$H$6:$H$500>=G$3)*([1]Août!$H$6:$H$500<H$3)*([1]Août!$G$6:$G$500)),SUMPRODUCT(([1]Septembre!$D$6:$D$500=$A13)*([1]Septembre!$H$6:$H$500>=G$3)*([1]Septembre!$H$6:$H$500<H$3)*([1]Septembre!$G$6:$G$500)),SUMPRODUCT(([1]Octobre!$D$6:$D$500=$A13)*([1]Octobre!$H$6:$H$500>=G$3)*([1]Octobre!$H$6:$H$500<H$3)*([1]Octobre!$G$6:$G$500)),SUMPRODUCT(([1]Novembre!$D$6:$D$500=$A13)*([1]Novembre!$H$6:$H$500>=G$3)*([1]Novembre!$H$6:$H$500<H$3)*([1]Novembre!$G$6:$G$500)),SUMPRODUCT(([1]Décembre!$D$6:$D$500=$A13)*([1]Décembre!$H$6:$H$500>=G$3)*([1]Décembre!$H$6:$H$500<H$3)*([1]Décembre!$G$6:$G$500))),"")} | H13: {=IF(ISTEXT($A13),SUM(SUMPRODUCT(([1]Janvier!$D$6:$D$500=$A13)*([1]Janvier!$H$6:$H$500>=H$3)*([1]Janvier!$H$6:$H$500<I$3)*([1]Janvier!$G$6:$G$500)),SUMPRODUCT(([1]Février!$D$6:$D$500=$A13)*([1]Février!$H$6:$H$500>=H$3)*([1]Février!$H$6:$H$500<I$3)*([1]Février!$G$6:$G$500)),SUMPRODUCT(([1]Mars!$D$6:$D$500=$A13)*([1]Mars!$H$6:$H$500>=H$3)*([1]Mars!$H$6:$H$500<I$3)*([1]Mars!$G$6:$G$500)),SUMPRODUCT(([1]Avril!$D$6:$D$500=$A13)*([1]Avril!$H$6:$H$500>=H$3)*([1]Avril!$H$6:$H$500<I$3)*([1]Avril!$G$6:$G$500)),SUMPRODUCT(([1]Mai!$D$6:$D$500=$A13)*([1]Mai!$H$6:$H$500>=H$3)*([1]Mai!$H$6:$H$500<I$3)*([1]Mai!$G$6:$G$500)),SUMPRODUCT(([1]Juin!$D$6:$D$500=$A13)*([1]Juin!$H$6:$H$500>=H$3)*([1]Juin!$H$6:$H$500<I$3)*([1]Juin!$G$6:$G$500)),SUMPRODUCT(([1]Juillet!$D$6:$D$500=$A13)*([1]Juillet!$H$6:$H$500>=H$3)*([1]Juillet!$H$6:$H$500<I$3)*([1]Juillet!$G$6:$G$500)),SUMPRODUCT(([1]Août!$D$6:$D$500=$A13)*([1]Août!$H$6:$H$500>=H$3)*([1]Août!$H$6:$H$500<I$3)*([1]Août!$G$6:$G$500)),SUMPRODUCT(([1]Septembre!$D$6:$D$500=$A13)*([1]Septembre!$H$6:$H$500>=H$3)*([1]Septembre!$H$6:$H$500<I$3)*([1]Septembre!$G$6:$G$500)),SUMPRODUCT(([1]Octobre!$D$6:$D$500=$A13)*([1]Octobre!$H$6:$H$500>=H$3)*([1]Octobre!$H$6:$H$500<I$3)*([1]Octobre!$G$6:$G$500)),SUMPRODUCT(([1]Novembre!$D$6:$D$500=$A13)*([1]Novembre!$H$6:$H$500>=H$3)*([1]Novembre!$H$6:$H$500<I$3)*([1]Novembre!$G$6:$G$500)),SUMPRODUCT(([1]Décembre!$D$6:$D$500=$A13)*([1]Décembre!$H$6:$H$500>=H$3)*([1]Décembre!$H$6:$H$500<I$3)*([1]Décembre!$G$6:$G$500))),"")} | I13: {=IF(ISTEXT($A13),SUM(SUMPRODUCT(([1]Janvier!$D$6:$D$500=$A13)*([1]Janvier!$H$6:$H$500>=I$3)*([1]Janvier!$H$6:$H$500<J$3)*([1]Janvier!$G$6:$G$500)),SUMPRODUCT(([1]Février!$D$6:$D$500=$A13)*([1]Février!$H$6:$H$500>=I$3)*([1]Février!$H$6:$H$500<J$3)*([1]Février!$G$6:$G$500)),SUMPRODUCT(([1]Mars!$D$6:$D$500=$A13)*([1]Mars!$H$6:$H$500>=I$3)*([1]Mars!$H$6:$H$500<J$3)*([1]Mars!$G$6:$G$500)),SUMPRODUCT(([1]Avril!$D$6:$D$500=$A13)*([1]Avril!$H$6:$H$500>=I$3)*([1]Avril!$H$6:$H$500<J$3)*([1]Avril!$G$6:$G$500)),SUMPRODUCT(([1]Mai!$D$6:$D$500=$A13)*([1]Mai!$H$6:$H$500>=I$3)*([1]Mai!$H$6:$H$500<J$3)*([1]Mai!$G$6:$G$500)),SUMPRODUCT(([1]Juin!$D$6:$D$500=$A13)*([1]Juin!$H$6:$H$500>=I$3)*([1]Juin!$H$6:$H$500<J$3)*([1]Juin!$G$6:$G$500)),SUMPRODUCT(([1]Juillet!$D$6:$D$500=$A13)*([1]Juillet!$H$6:$H$500>=I$3)*([1]Juillet!$H$6:$H$500<J$3)*([1]Juillet!$G$6:$G$500)),SUMPRODUCT(([1]Août!$D$6:$D$500=$A13)*([1]Août!$H$6:$H$500>=I$3)*([1]Août!$H$6:$H$500<J$3)*([1]Août!$G$6:$G$500)),SUMPRODUCT(([1]Septembre!$D$6:$D$500=$A13)*([1]Septembre!$H$6:$H$500>=I$3)*([1]Septembre!$H$6:$H$500<J$3)*([1]Septembre!$G$6:$G$500)),SUMPRODUCT(([1]Octobre!$D$6:$D$500=$A13)*([1]Octobre!$H$6:$H$500>=I$3)*([1]Octobre!$H$6:$H$500<J$3)*([1]Octobre!$G$6:$G$500)),SUMPRODUCT(([1]Novembre!$D$6:$D$500=$A13)*([1]Novembre!$H$6:$H$500>=I$3)*([1]Novembre!$H$6:$H$500<J$3)*([1]Novembre!$G$6:$G$500)),SUMPRODUCT(([1]Décembre!$D$6:$D$500=$A13)*([1]Décembre!$H$6:$H$500>=I$3)*([1]Décembre!$H$6:$H$500<J$3)*([1]Décembre!$G$6:$G$500))),"")} | ... M13: {=IF(ISTEXT($A13),SUM(SUMPRODUCT(([1]Janvier!$D$6:$D$500=$A13)*([1]Janvier!$H$6:$H$500>=M$3)*([1]Janvier!$H$6:$H$500<N$3)*([1]Janvier!$G$6:$G$500)),SUMPRODUCT(([1]Février!$D$6:$D$500=$A13)*([1]Février!$H$6:$H$500>=M$3)*([1]Février!$H$6:$H$500<N$3)*([1]Février!$G$6:$G$500)),SUMPRODUCT(([1]Mars!$D$6:$D$500=$A13)*([1]Mars!$H$6:$H$500>=M$3)*([1]Mars!$H$6:$H$500<N$3)*([1]Mars!$G$6:$G$500)),SUMPRODUCT(([1]Avril!$D$6:$D$500=$A13)*([1]Avril!$H$6:$H$500>=M$3)*([1]Avril!$H$6:$H$500<N$3)*([1]Avril!$G$6:$G$500)),SUMPRODUCT(([1]Mai!$D$6:$D$500=$A13)*([1]Mai!$H$6:$H$500>=M$3)*([1]Mai!$H$6:$H$500<N$3)*([1]Mai!$G$6:$G$500)),SUMPRODUCT(([1]Juin!$D$6:$D$500=$A13)*([1]Juin!$H$6:$H$500>=M$3)*([1]Juin!$H$6:$H$500<N$3)*([1]Juin!$G$6:$G$500)),SUMPRODUCT(([1]Juillet!$D$6:$D$500=$A13)*([1]Juillet!$H$6:$H$500>=M$3)*([1]Juillet!$H$6:$H$500<N$3)*([1]Juillet!$G$6:$G$500)),SUMPRODUCT(([1]Août!$D$6:$D$500=$A13)*([1]Août!$H$6:$H$500>=M$3)*([1]Août!$H$6:$H$500<N$3)*([1]Août!$G$6:$G$500)),SUMPRODUCT(([1]Septembre!$D$6:$D$500=$A13)*([1]Septembre!$H$6:$H$500>=M$3)*([1]Septembre!$H$6:$H$500<N$3)*([1]Septembre!$G$6:$G$500)),SUMPRODUCT(([1]Octobre!$D$6:$D$500=$A13)*([1]Octobre!$H$6:$H$500>=M$3)*([1]Octobre!$H$6:$H$500<N$3)*([1]Octobre!$G$6:$G$500)),SUMPRODUCT(([1]Novembre!$D$6:$D$500=$A13)*([1]Novembre!$H$6:$H$500>=M$3)*([1]Novembre!$H$6:$H$500<N$3)*([1]Novembre!$G$6:$G$500)),SUMPRODUCT(([1]Décembre!$D$6:$D$500=$A13)*([1]Décembre!$H$6:$H$500>=M$3)*([1]Décembre!$H$6:$H$500<N$3)*([1]Décembre!$G$6:$G$500))),"")} | O13: =SUM(B13:M13) -> 0
B14: {=IF(ISTEXT($A14),SUM(SUMPRODUCT(([1]Janvier!$D$6:$D$500=$A14)*([1]Janvier!$H$6:$H$500>=B$3)*([1]Janvier!$H$6:$H$500<C$3)*([1]Janvier!$G$6:$G$500)),SUMPRODUCT(([1]Février!$D$6:$D$500=$A14)*([1]Février!$H$6:$H$500>=B$3)*([1]Février!$H$6:$H$500<C$3)*([1]Février!$G$6:$G$500)),SUMPRODUCT(([1]Mars!$D$6:$D$500=$A14)*([1]Mars!$H$6:$H$500>=B$3)*([1]Mars!$H$6:$H$500<C$3)*([1]Mars!$G$6:$G$500)),SUMPRODUCT(([1]Avril!$D$6:$D$500=$A14)*([1]Avril!$H$6:$H$500>=B$3)*([1]Avril!$H$6:$H$500<C$3)*([1]Avril!$G$6:$G$500)),SUMPRODUCT(([1]Mai!$D$6:$D$500=$A14)*([1]Mai!$H$6:$H$500>=B$3)*([1]Mai!$H$6:$H$500<C$3)*([1]Mai!$G$6:$G$500)),SUMPRODUCT(([1]Juin!$D$6:$D$500=$A14)*([1]Juin!$H$6:$H$500>=B$3)*([1]Juin!$H$6:$H$500<C$3)*([1]Juin!$G$6:$G$500)),SUMPRODUCT(([1]Juillet!$D$6:$D$500=$A14)*([1]Juillet!$H$6:$H$500>=B$3)*([1]Juillet!$H$6:$H$500<C$3)*([1]Juillet!$G$6:$G$500)),SUMPRODUCT(([1]Août!$D$6:$D$500=$A14)*([1]Août!$H$6:$H$500>=B$3)*([1]Août!$H$6:$H$500<C$3)*([1]Août!$G$6:$G$500)),SUMPRODUCT(([1]Septembre!$D$6:$D$500=$A14)*([1]Septembre!$H$6:$H$500>=B$3)*([1]Septembre!$H$6:$H$500<C$3)*([1]Septembre!$G$6:$G$500)),SUMPRODUCT(([1]Octobre!$D$6:$D$500=$A14)*([1]Octobre!$H$6:$H$500>=B$3)*([1]Octobre!$H$6:$H$500<C$3)*([1]Octobre!$G$6:$G$500)),SUMPRODUCT(([1]Novembre!$D$6:$D$500=$A14)*([1]Novembre!$H$6:$H$500>=B$3)*([1]Novembre!$H$6:$H$500<C$3)*([1]Novembre!$G$6:$G$500)),SUMPRODUCT(([1]Décembre!$D$6:$D$500=$A14)*([1]Décembre!$H$6:$H$500>=B$3)*([1]Décembre!$H$6:$H$500<C$3)*([1]Décembre!$G$6:$G$500))),"")} | C14: {=IF(ISTEXT($A14),SUM(SUMPRODUCT(([1]Janvier!$D$6:$D$500=$A14)*([1]Janvier!$H$6:$H$500>=C$3)*([1]Janvier!$H$6:$H$500<D$3)*([1]Janvier!$G$6:$G$500)),SUMPRODUCT(([1]Février!$D$6:$D$500=$A14)*([1]Février!$H$6:$H$500>=C$3)*([1]Février!$H$6:$H$500<D$3)*([1]Février!$G$6:$G$500)),SUMPRODUCT(([1]Mars!$D$6:$D$500=$A14)*([1]Mars!$H$6:$H$500>=C$3)*([1]Mars!$H$6:$H$500<D$3)*([1]Mars!$G$6:$G$500)),SUMPRODUCT(([1]Avril!$D$6:$D$500=$A14)*([1]Avril!$H$6:$H$500>=C$3)*([1]Avril!$H$6:$H$500<D$3)*([1]Avril!$G$6:$G$500)),SUMPRODUCT(([1]Mai!$D$6:$D$500=$A14)*([1]Mai!$H$6:$H$500>=C$3)*([1]Mai!$H$6:$H$500<D$3)*([1]Mai!$G$6:$G$500)),SUMPRODUCT(([1]Juin!$D$6:$D$500=$A14)*([1]Juin!$H$6:$H$500>=C$3)*([1]Juin!$H$6:$H$500<D$3)*([1]Juin!$G$6:$G$500)),SUMPRODUCT(([1]Juillet!$D$6:$D$500=$A14)*([1]Juillet!$H$6:$H$500>=C$3)*([1]Juillet!$H$6:$H$500<D$3)*([1]Juillet!$G$6:$G$500)),SUMPRODUCT(([1]Août!$D$6:$D$500=$A14)*([1]Août!$H$6:$H$500>=C$3)*([1]Août!$H$6:$H$500<D$3)*([1]Août!$G$6:$G$500)),SUMPRODUCT(([1]Septembre!$D$6:$D$500=$A14)*([1]Septembre!$H$6:$H$500>=C$3)*([1]Septembre!$H$6:$H$500<D$3)*([1]Septembre!$G$6:$G$500)),SUMPRODUCT(([1]Octobre!$D$6:$D$500=$A14)*([1]Octobre!$H$6:$H$500>=C$3)*([1]Octobre!$H$6:$H$500<D$3)*([1]Octobre!$G$6:$G$500)),SUMPRODUCT(([1]Novembre!$D$6:$D$500=$A14)*([1]Novembre!$H$6:$H$500>=C$3)*([1]Novembre!$H$6:$H$500<D$3)*([1]Novembre!$G$6:$G$500)),SUMPRODUCT(([1]Décembre!$D$6:$D$500=$A14)*([1]Décembre!$H$6:$H$500>=C$3)*([1]Décembre!$H$6:$H$500<D$3)*([1]Décembre!$G$6:$G$500))),"")} | D14: {=IF(ISTEXT($A14),SUM(SUMPRODUCT(([1]Janvier!$D$6:$D$500=$A14)*([1]Janvier!$H$6:$H$500>=D$3)*([1]Janvier!$H$6:$H$500<E$3)*([1]Janvier!$G$6:$G$500)),SUMPRODUCT(([1]Février!$D$6:$D$500=$A14)*([1]Février!$H$6:$H$500>=D$3)*([1]Février!$H$6:$H$500<E$3)*([1]Février!$G$6:$G$500)),SUMPRODUCT(([1]Mars!$D$6:$D$500=$A14)*([1]Mars!$H$6:$H$500>=D$3)*([1]Mars!$H$6:$H$500<E$3)*([1]Mars!$G$6:$G$500)),SUMPRODUCT(([1]Avril!$D$6:$D$500=$A14)*([1]Avril!$H$6:$H$500>=D$3)*([1]Avril!$H$6:$H$500<E$3)*([1]Avril!$G$6:$G$500)),SUMPRODUCT(([1]Mai!$D$6:$D$500=$A14)*([1]Mai!$H$6:$H$500>=D$3)*([1]Mai!$H$6:$H$500<E$3)*([1]Mai!$G$6:$G$500)),SUMPRODUCT(([1]Juin!$D$6:$D$500=$A14)*([1]Juin!$H$6:$H$500>=D$3)*([1]Juin!$H$6:$H$500<E$3)*([1]Juin!$G$6:$G$500)),SUMPRODUCT(([1]Juillet!$D$6:$D$500=$A14)*([1]Juillet!$H$6:$H$500>=D$3)*([1]Juillet!$H$6:$H$500<E$3)*([1]Juillet!$G$6:$G$500)),SUMPRODUCT(([1]Août!$D$6:$D$500=$A14)*([1]Août!$H$6:$H$500>=D$3)*([1]Août!$H$6:$H$500<E$3)*([1]Août!$G$6:$G$500)),SUMPRODUCT(([1]Septembre!$D$6:$D$500=$A14)*([1]Septembre!$H$6:$H$500>=D$3)*([1]Septembre!$H$6:$H$500<E$3)*([1]Septembre!$G$6:$G$500)),SUMPRODUCT(([1]Octobre!$D$6:$D$500=$A14)*([1]Octobre!$H$6:$H$500>=D$3)*([1]Octobre!$H$6:$H$500<E$3)*([1]Octobre!$G$6:$G$500)),SUMPRODUCT(([1]Novembre!$D$6:$D$500=$A14)*([1]Novembre!$H$6:$H$500>=D$3)*([1]Novembre!$H$6:$H$500<E$3)*([1]Novembre!$G$6:$G$500)),SUMPRODUCT(([1]Décembre!$D$6:$D$500=$A14)*([1]Décembre!$H$6:$H$500>=D$3)*([1]Décembre!$H$6:$H$500<E$3)*([1]Décembre!$G$6:$G$500))),"")} | E14: {=IF(ISTEXT($A14),SUM(SUMPRODUCT(([1]Janvier!$D$6:$D$500=$A14)*([1]Janvier!$H$6:$H$500>=E$3)*([1]Janvier!$H$6:$H$500<F$3)*([1]Janvier!$G$6:$G$500)),SUMPRODUCT(([1]Février!$D$6:$D$500=$A14)*([1]Février!$H$6:$H$500>=E$3)*([1]Février!$H$6:$H$500<F$3)*([1]Février!$G$6:$G$500)),SUMPRODUCT(([1]Mars!$D$6:$D$500=$A14)*([1]Mars!$H$6:$H$500>=E$3)*([1]Mars!$H$6:$H$500<F$3)*([1]Mars!$G$6:$G$500)),SUMPRODUCT(([1]Avril!$D$6:$D$500=$A14)*([1]Avril!$H$6:$H$500>=E$3)*([1]Avril!$H$6:$H$500<F$3)*([1]Avril!$G$6:$G$500)),SUMPRODUCT(([1]Mai!$D$6:$D$500=$A14)*([1]Mai!$H$6:$H$500>=E$3)*([1]Mai!$H$6:$H$500<F$3)*([1]Mai!$G$6:$G$500)),SUMPRODUCT(([1]Juin!$D$6:$D$500=$A14)*([1]Juin!$H$6:$H$500>=E$3)*([1]Juin!$H$6:$H$500<F$3)*([1]Juin!$G$6:$G$500)),SUMPRODUCT(([1]Juillet!$D$6:$D$500=$A14)*([1]Juillet!$H$6:$H$500>=E$3)*([1]Juillet!$H$6:$H$500<F$3)*([1]Juillet!$G$6:$G$500)),SUMPRODUCT(([1]Août!$D$6:$D$500=$A14)*([1]Août!$H$6:$H$500>=E$3)*([1]Août!$H$6:$H$500<F$3)*([1]Août!$G$6:$G$500)),SUMPRODUCT(([1]Septembre!$D$6:$D$500=$A14)*([1]Septembre!$H$6:$H$500>=E$3)*([1]Septembre!$H$6:$H$500<F$3)*([1]Septembre!$G$6:$G$500)),SUMPRODUCT(([1]Octobre!$D$6:$D$500=$A14)*([1]Octobre!$H$6:$H$500>=E$3)*([1]Octobre!$H$6:$H$500<F$3)*([1]Octobre!$G$6:$G$500)),SUMPRODUCT(([1]Novembre!$D$6:$D$500=$A14)*([1]Novembre!$H$6:$H$500>=E$3)*([1]Novembre!$H$6:$H$500<F$3)*([1]Novembre!$G$6:$G$500)),SUMPRODUCT(([1]Décembre!$D$6:$D$500=$A14)*([1]Décembre!$H$6:$H$500>=E$3)*([1]Décembre!$H$6:$H$500<F$3)*([1]Décembre!$G$6:$G$500))),"")} | F14: {=IF(ISTEXT($A14),SUM(SUMPRODUCT(([1]Janvier!$D$6:$D$500=$A14)*([1]Janvier!$H$6:$H$500>=F$3)*([1]Janvier!$H$6:$H$500<G$3)*([1]Janvier!$G$6:$G$500)),SUMPRODUCT(([1]Février!$D$6:$D$500=$A14)*([1]Février!$H$6:$H$500>=F$3)*([1]Février!$H$6:$H$500<G$3)*([1]Février!$G$6:$G$500)),SUMPRODUCT(([1]Mars!$D$6:$D$500=$A14)*([1]Mars!$H$6:$H$500>=F$3)*([1]Mars!$H$6:$H$500<G$3)*([1]Mars!$G$6:$G$500)),SUMPRODUCT(([1]Avril!$D$6:$D$500=$A14)*([1]Avril!$H$6:$H$500>=F$3)*([1]Avril!$H$6:$H$500<G$3)*([1]Avril!$G$6:$G$500)),SUMPRODUCT(([1]Mai!$D$6:$D$500=$A14)*([1]Mai!$H$6:$H$500>=F$3)*([1]Mai!$H$6:$H$500<G$3)*([1]Mai!$G$6:$G$500)),SUMPRODUCT(([1]Juin!$D$6:$D$500=$A14)*([1]Juin!$H$6:$H$500>=F$3)*([1]Juin!$H$6:$H$500<G$3)*([1]Juin!$G$6:$G$500)),SUMPRODUCT(([1]Juillet!$D$6:$D$500=$A14)*([1]Juillet!$H$6:$H$500>=F$3)*([1]Juillet!$H$6:$H$500<G$3)*([1]Juillet!$G$6:$G$500)),SUMPRODUCT(([1]Août!$D$6:$D$500=$A14)*([1]Août!$H$6:$H$500>=F$3)*([1]Août!$H$6:$H$500<G$3)*([1]Août!$G$6:$G$500)),SUMPRODUCT(([1]Septembre!$D$6:$D$500=$A14)*([1]Septembre!$H$6:$H$500>=F$3)*([1]Septembre!$H$6:$H$500<G$3)*([1]Septembre!$G$6:$G$500)),SUMPRODUCT(([1]Octobre!$D$6:$D$500=$A14)*([1]Octobre!$H$6:$H$500>=F$3)*([1]Octobre!$H$6:$H$500<G$3)*([1]Octobre!$G$6:$G$500)),SUMPRODUCT(([1]Novembre!$D$6:$D$500=$A14)*([1]Novembre!$H$6:$H$500>=F$3)*([1]Novembre!$H$6:$H$500<G$3)*([1]Novembre!$G$6:$G$500)),SUMPRODUCT(([1]Décembre!$D$6:$D$500=$A14)*([1]Décembre!$H$6:$H$500>=F$3)*([1]Décembre!$H$6:$H$500<G$3)*([1]Décembre!$G$6:$G$500))),"")} | G14: {=IF(ISTEXT($A14),SUM(SUMPRODUCT(([1]Janvier!$D$6:$D$500=$A14)*([1]Janvier!$H$6:$H$500>=G$3)*([1]Janvier!$H$6:$H$500<H$3)*([1]Janvier!$G$6:$G$500)),SUMPRODUCT(([1]Février!$D$6:$D$500=$A14)*([1]Février!$H$6:$H$500>=G$3)*([1]Février!$H$6:$H$500<H$3)*([1]Février!$G$6:$G$500)),SUMPRODUCT(([1]Mars!$D$6:$D$500=$A14)*([1]Mars!$H$6:$H$500>=G$3)*([1]Mars!$H$6:$H$500<H$3)*([1]Mars!$G$6:$G$500)),SUMPRODUCT(([1]Avril!$D$6:$D$500=$A14)*([1]Avril!$H$6:$H$500>=G$3)*([1]Avril!$H$6:$H$500<H$3)*([1]Avril!$G$6:$G$500)),SUMPRODUCT(([1]Mai!$D$6:$D$500=$A14)*([1]Mai!$H$6:$H$500>=G$3)*([1]Mai!$H$6:$H$500<H$3)*([1]Mai!$G$6:$G$500)),SUMPRODUCT(([1]Juin!$D$6:$D$500=$A14)*([1]Juin!$H$6:$H$500>=G$3)*([1]Juin!$H$6:$H$500<H$3)*([1]Juin!$G$6:$G$500)),SUMPRODUCT(([1]Juillet!$D$6:$D$500=$A14)*([1]Juillet!$H$6:$H$500>=G$3)*([1]Juillet!$H$6:$H$500<H$3)*([1]Juillet!$G$6:$G$500)),SUMPRODUCT(([1]Août!$D$6:$D$500=$A14)*([1]Août!$H$6:$H$500>=G$3)*([1]Août!$H$6:$H$500<H$3)*([1]Août!$G$6:$G$500)),SUMPRODUCT(([1]Septembre!$D$6:$D$500=$A14)*([1]Septembre!$H$6:$H$500>=G$3)*([1]Septembre!$H$6:$H$500<H$3)*([1]Septembre!$G$6:$G$500)),SUMPRODUCT(([1]Octobre!$D$6:$D$500=$A14)*([1]Octobre!$H$6:$H$500>=G$3)*([1]Octobre!$H$6:$H$500<H$3)*([1]Octobre!$G$6:$G$500)),SUMPRODUCT(([1]Novembre!$D$6:$D$500=$A14)*([1]Novembre!$H$6:$H$500>=G$3)*([1]Novembre!$H$6:$H$500<H$3)*([1]Novembre!$G$6:$G$500)),SUMPRODUCT(([1]Décembre!$D$6:$D$500=$A14)*([1]Décembre!$H$6:$H$500>=G$3)*([1]Décembre!$H$6:$H$500<H$3)*([1]Décembre!$G$6:$G$500))),"")} | H14: {=IF(ISTEXT($A14),SUM(SUMPRODUCT(([1]Janvier!$D$6:$D$500=$A14)*([1]Janvier!$H$6:$H$500>=H$3)*([1]Janvier!$H$6:$H$500<I$3)*([1]Janvier!$G$6:$G$500)),SUMPRODUCT(([1]Février!$D$6:$D$500=$A14)*([1]Février!$H$6:$H$500>=H$3)*([1]Février!$H$6:$H$500<I$3)*([1]Février!$G$6:$G$500)),SUMPRODUCT(([1]Mars!$D$6:$D$500=$A14)*([1]Mars!$H$6:$H$500>=H$3)*([1]Mars!$H$6:$H$500<I$3)*([1]Mars!$G$6:$G$500)),SUMPRODUCT(([1]Avril!$D$6:$D$500=$A14)*([1]Avril!$H$6:$H$500>=H$3)*([1]Avril!$H$6:$H$500<I$3)*([1]Avril!$G$6:$G$500)),SUMPRODUCT(([1]Mai!$D$6:$D$500=$A14)*([1]Mai!$H$6:$H$500>=H$3)*([1]Mai!$H$6:$H$500<I$3)*([1]Mai!$G$6:$G$500)),SUMPRODUCT(([1]Juin!$D$6:$D$500=$A14)*([1]Juin!$H$6:$H$500>=H$3)*([1]Juin!$H$6:$H$500<I$3)*([1]Juin!$G$6:$G$500)),SUMPRODUCT(([1]Juillet!$D$6:$D$500=$A14)*([1]Juillet!$H$6:$H$500>=H$3)*([1]Juillet!$H$6:$H$500<I$3)*([1]Juillet!$G$6:$G$500)),SUMPRODUCT(([1]Août!$D$6:$D$500=$A14)*([1]Août!$H$6:$H$500>=H$3)*([1]Août!$H$6:$H$500<I$3)*([1]Août!$G$6:$G$500)),SUMPRODUCT(([1]Septembre!$D$6:$D$500=$A14)*([1]Septembre!$H$6:$H$500>=H$3)*([1]Septembre!$H$6:$H$500<I$3)*([1]Septembre!$G$6:$G$500)),SUMPRODUCT(([1]Octobre!$D$6:$D$500=$A14)*([1]Octobre!$H$6:$H$500>=H$3)*([1]Octobre!$H$6:$H$500<I$3)*([1]Octobre!$G$6:$G$500)),SUMPRODUCT(([1]Novembre!$D$6:$D$500=$A14)*([1]Novembre!$H$6:$H$500>=H$3)*([1]Novembre!$H$6:$H$500<I$3)*([1]Novembre!$G$6:$G$500)),SUMPRODUCT(([1]Décembre!$D$6:$D$500=$A14)*([1]Décembre!$H$6:$H$500>=H$3)*([1]Décembre!$H$6:$H$500<I$3)*([1]Décembre!$G$6:$G$500))),"")} | I14: {=IF(ISTEXT($A14),SUM(SUMPRODUCT(([1]Janvier!$D$6:$D$500=$A14)*([1]Janvier!$H$6:$H$500>=I$3)*([1]Janvier!$H$6:$H$500<J$3)*([1]Janvier!$G$6:$G$500)),SUMPRODUCT(([1]Février!$D$6:$D$500=$A14)*([1]Février!$H$6:$H$500>=I$3)*([1]Février!$H$6:$H$500<J$3)*([1]Février!$G$6:$G$500)),SUMPRODUCT(([1]Mars!$D$6:$D$500=$A14)*([1]Mars!$H$6:$H$500>=I$3)*([1]Mars!$H$6:$H$500<J$3)*([1]Mars!$G$6:$G$500)),SUMPRODUCT(([1]Avril!$D$6:$D$500=$A14)*([1]Avril!$H$6:$H$500>=I$3)*([1]Avril!$H$6:$H$500<J$3)*([1]Avril!$G$6:$G$500)),SUMPRODUCT(([1]Mai!$D$6:$D$500=$A14)*([1]Mai!$H$6:$H$500>=I$3)*([1]Mai!$H$6:$H$500<J$3)*([1]Mai!$G$6:$G$500)),SUMPRODUCT(([1]Juin!$D$6:$D$500=$A14)*([1]Juin!$H$6:$H$500>=I$3)*([1]Juin!$H$6:$H$500<J$3)*([1]Juin!$G$6:$G$500)),SUMPRODUCT(([1]Juillet!$D$6:$D$500=$A14)*([1]Juillet!$H$6:$H$500>=I$3)*([1]Juillet!$H$6:$H$500<J$3)*([1]Juillet!$G$6:$G$500)),SUMPRODUCT(([1]Août!$D$6:$D$500=$A14)*([1]Août!$H$6:$H$500>=I$3)*([1]Août!$H$6:$H$500<J$3)*([1]Août!$G$6:$G$500)),SUMPRODUCT(([1]Septembre!$D$6:$D$500=$A14)*([1]Septembre!$H$6:$H$500>=I$3)*([1]Septembre!$H$6:$H$500<J$3)*([1]Septembre!$G$6:$G$500)),SUMPRODUCT(([1]Octobre!$D$6:$D$500=$A14)*([1]Octobre!$H$6:$H$500>=I$3)*([1]Octobre!$H$6:$H$500<J$3)*([1]Octobre!$G$6:$G$500)),SUMPRODUCT(([1]Novembre!$D$6:$D$500=$A14)*([1]Novembre!$H$6:$H$500>=I$3)*([1]Novembre!$H$6:$H$500<J$3)*([1]Novembre!$G$6:$G$500)),SUMPRODUCT(([1]Décembre!$D$6:$D$500=$A14)*([1]Décembre!$H$6:$H$500>=I$3)*([1]Décembre!$H$6:$H$500<J$3)*([1]Décembre!$G$6:$G$500))),"")} | ... M14: {=IF(ISTEXT($A14),SUM(SUMPRODUCT(([1]Janvier!$D$6:$D$500=$A14)*([1]Janvier!$H$6:$H$500>=M$3)*([1]Janvier!$H$6:$H$500<N$3)*([1]Janvier!$G$6:$G$500)),SUMPRODUCT(([1]Février!$D$6:$D$500=$A14)*([1]Février!$H$6:$H$500>=M$3)*([1]Février!$H$6:$H$500<N$3)*([1]Février!$G$6:$G$500)),SUMPRODUCT(([1]Mars!$D$6:$D$500=$A14)*([1]Mars!$H$6:$H$500>=M$3)*([1]Mars!$H$6:$H$500<N$3)*([1]Mars!$G$6:$G$500)),SUMPRODUCT(([1]Avril!$D$6:$D$500=$A14)*([1]Avril!$H$6:$H$500>=M$3)*([1]Avril!$H$6:$H$500<N$3)*([1]Avril!$G$6:$G$500)),SUMPRODUCT(([1]Mai!$D$6:$D$500=$A14)*([1]Mai!$H$6:$H$500>=M$3)*([1]Mai!$H$6:$H$500<N$3)*([1]Mai!$G$6:$G$500)),SUMPRODUCT(([1]Juin!$D$6:$D$500=$A14)*([1]Juin!$H$6:$H$500>=M$3)*([1]Juin!$H$6:$H$500<N$3)*([1]Juin!$G$6:$G$500)),SUMPRODUCT(([1]Juillet!$D$6:$D$500=$A14)*([1]Juillet!$H$6:$H$500>=M$3)*([1]Juillet!$H$6:$H$500<N$3)*([1]Juillet!$G$6:$G$500)),SUMPRODUCT(([1]Août!$D$6:$D$500=$A14)*([1]Août!$H$6:$H$500>=M$3)*([1]Août!$H$6:$H$500<N$3)*([1]Août!$G$6:$G$500)),SUMPRODUCT(([1]Septembre!$D$6:$D$500=$A14)*([1]Septembre!$H$6:$H$500>=M$3)*([1]Septembre!$H$6:$H$500<N$3)*([1]Septembre!$G$6:$G$500)),SUMPRODUCT(([1]Octobre!$D$6:$D$500=$A14)*([1]Octobre!$H$6:$H$500>=M$3)*([1]Octobre!$H$6:$H$500<N$3)*([1]Octobre!$G$6:$G$500)),SUMPRODUCT(([1]Novembre!$D$6:$D$500=$A14)*([1]Novembre!$H$6:$H$500>=M$3)*([1]Novembre!$H$6:$H$500<N$3)*([1]Novembre!$G$6:$G$500)),SUMPRODUCT(([1]Décembre!$D$6:$D$500=$A14)*([1]Décembre!$H$6:$H$500>=M$3)*([1]Décembre!$H$6:$H$500<N$3)*([1]Décembre!$G$6:$G$500))),"")} | O14: =SUM(B14:M14) -> 0
B15: {=IF(ISTEXT($A15),SUM(SUMPRODUCT(([1]Janvier!$D$6:$D$500=$A15)*([1]Janvier!$H$6:$H$500>=B$3)*([1]Janvier!$H$6:$H$500<C$3)*([1]Janvier!$G$6:$G$500)),SUMPRODUCT(([1]Février!$D$6:$D$500=$A15)*([1]Février!$H$6:$H$500>=B$3)*([1]Février!$H$6:$H$500<C$3)*([1]Février!$G$6:$G$500)),SUMPRODUCT(([1]Mars!$D$6:$D$500=$A15)*([1]Mars!$H$6:$H$500>=B$3)*([1]Mars!$H$6:$H$500<C$3)*([1]Mars!$G$6:$G$500)),SUMPRODUCT(([1]Avril!$D$6:$D$500=$A15)*([1]Avril!$H$6:$H$500>=B$3)*([1]Avril!$H$6:$H$500<C$3)*([1]Avril!$G$6:$G$500)),SUMPRODUCT(([1]Mai!$D$6:$D$500=$A15)*([1]Mai!$H$6:$H$500>=B$3)*([1]Mai!$H$6:$H$500<C$3)*([1]Mai!$G$6:$G$500)),SUMPRODUCT(([1]Juin!$D$6:$D$500=$A15)*([1]Juin!$H$6:$H$500>=B$3)*([1]Juin!$H$6:$H$500<C$3)*([1]Juin!$G$6:$G$500)),SUMPRODUCT(([1]Juillet!$D$6:$D$500=$A15)*([1]Juillet!$H$6:$H$500>=B$3)*([1]Juillet!$H$6:$H$500<C$3)*([1]Juillet!$G$6:$G$500)),SUMPRODUCT(([1]Août!$D$6:$D$500=$A15)*([1]Août!$H$6:$H$500>=B$3)*([1]Août!$H$6:$H$500<C$3)*([1]Août!$G$6:$G$500)),SUMPRODUCT(([1]Septembre!$D$6:$D$500=$A15)*([1]Septembre!$H$6:$H$500>=B$3)*([1]Septembre!$H$6:$H$500<C$3)*([1]Septembre!$G$6:$G$500)),SUMPRODUCT(([1]Octobre!$D$6:$D$500=$A15)*([1]Octobre!$H$6:$H$500>=B$3)*([1]Octobre!$H$6:$H$500<C$3)*([1]Octobre!$G$6:$G$500)),SUMPRODUCT(([1]Novembre!$D$6:$D$500=$A15)*([1]Novembre!$H$6:$H$500>=B$3)*([1]Novembre!$H$6:$H$500<C$3)*([1]Novembre!$G$6:$G$500)),SUMPRODUCT(([1]Décembre!$D$6:$D$500=$A15)*([1]Décembre!$H$6:$H$500>=B$3)*([1]Décembre!$H$6:$H$500<C$3)*([1]Décembre!$G$6:$G$500))),"")} | C15: {=IF(ISTEXT($A15),SUM(SUMPRODUCT(([1]Janvier!$D$6:$D$500=$A15)*([1]Janvier!$H$6:$H$500>=C$3)*([1]Janvier!$H$6:$H$500<D$3)*([1]Janvier!$G$6:$G$500)),SUMPRODUCT(([1]Février!$D$6:$D$500=$A15)*([1]Février!$H$6:$H$500>=C$3)*([1]Février!$H$6:$H$500<D$3)*([1]Février!$G$6:$G$500)),SUMPRODUCT(([1]Mars!$D$6:$D$500=$A15)*([1]Mars!$H$6:$H$500>=C$3)*([1]Mars!$H$6:$H$500<D$3)*([1]Mars!$G$6:$G$500)),SUMPRODUCT(([1]Avril!$D$6:$D$500=$A15)*([1]Avril!$H$6:$H$500>=C$3)*([1]Avril!$H$6:$H$500<D$3)*([1]Avril!$G$6:$G$500)),SUMPRODUCT(([1]Mai!$D$6:$D$500=$A15)*([1]Mai!$H$6:$H$500>=C$3)*([1]Mai!$H$6:$H$500<D$3)*([1]Mai!$G$6:$G$500)),SUMPRODUCT(([1]Juin!$D$6:$D$500=$A15)*([1]Juin!$H$6:$H$500>=C$3)*([1]Juin!$H$6:$H$500<D$3)*([1]Juin!$G$6:$G$500)),SUMPRODUCT(([1]Juillet!$D$6:$D$500=$A15)*([1]Juillet!$H$6:$H$500>=C$3)*([1]Juillet!$H$6:$H$500<D$3)*([1]Juillet!$G$6:$G$500)),SUMPRODUCT(([1]Août!$D$6:$D$500=$A15)*([1]Août!$H$6:$H$500>=C$3)*([1]Août!$H$6:$H$500<D$3)*([1]Août!$G$6:$G$500)),SUMPRODUCT(([1]Septembre!$D$6:$D$500=$A15)*([1]Septembre!$H$6:$H$500>=C$3)*([1]Septembre!$H$6:$H$500<D$3)*([1]Septembre!$G$6:$G$500)),SUMPRODUCT(([1]Octobre!$D$6:$D$500=$A15)*([1]Octobre!$H$6:$H$500>=C$3)*([1]Octobre!$H$6:$H$500<D$3)*([1]Octobre!$G$6:$G$500)),SUMPRODUCT(([1]Novembre!$D$6:$D$500=$A15)*([1]Novembre!$H$6:$H$500>=C$3)*([1]Novembre!$H$6:$H$500<D$3)*([1]Novembre!$G$6:$G$500)),SUMPRODUCT(([1]Décembre!$D$6:$D$500=$A15)*([1]Décembre!$H$6:$H$500>=C$3)*([1]Décembre!$H$6:$H$500<D$3)*([1]Décembre!$G$6:$G$500))),"")} | D15: {=IF(ISTEXT($A15),SUM(SUMPRODUCT(([1]Janvier!$D$6:$D$500=$A15)*([1]Janvier!$H$6:$H$500>=D$3)*([1]Janvier!$H$6:$H$500<E$3)*([1]Janvier!$G$6:$G$500)),SUMPRODUCT(([1]Février!$D$6:$D$500=$A15)*([1]Février!$H$6:$H$500>=D$3)*([1]Février!$H$6:$H$500<E$3)*([1]Février!$G$6:$G$500)),SUMPRODUCT(([1]Mars!$D$6:$D$500=$A15)*([1]Mars!$H$6:$H$500>=D$3)*([1]Mars!$H$6:$H$500<E$3)*([1]Mars!$G$6:$G$500)),SUMPRODUCT(([1]Avril!$D$6:$D$500=$A15)*([1]Avril!$H$6:$H$500>=D$3)*([1]Avril!$H$6:$H$500<E$3)*([1]Avril!$G$6:$G$500)),SUMPRODUCT(([1]Mai!$D$6:$D$500=$A15)*([1]Mai!$H$6:$H$500>=D$3)*([1]Mai!$H$6:$H$500<E$3)*([1]Mai!$G$6:$G$500)),SUMPRODUCT(([1]Juin!$D$6:$D$500=$A15)*([1]Juin!$H$6:$H$500>=D$3)*([1]Juin!$H$6:$H$500<E$3)*([1]Juin!$G$6:$G$500)),SUMPRODUCT(([1]Juillet!$D$6:$D$500=$A15)*([1]Juillet!$H$6:$H$500>=D$3)*([1]Juillet!$H$6:$H$500<E$3)*([1]Juillet!$G$6:$G$500)),SUMPRODUCT(([1]Août!$D$6:$D$500=$A15)*([1]Août!$H$6:$H$500>=D$3)*([1]Août!$H$6:$H$500<E$3)*([1]Août!$G$6:$G$500)),SUMPRODUCT(([1]Septembre!$D$6:$D$500=$A15)*([1]Septembre!$H$6:$H$500>=D$3)*([1]Septembre!$H$6:$H$500<E$3)*([1]Septembre!$G$6:$G$500)),SUMPRODUCT(([1]Octobre!$D$6:$D$500=$A15)*([1]Octobre!$H$6:$H$500>=D$3)*([1]Octobre!$H$6:$H$500<E$3)*([1]Octobre!$G$6:$G$500)),SUMPRODUCT(([1]Novembre!$D$6:$D$500=$A15)*([1]Novembre!$H$6:$H$500>=D$3)*([1]Novembre!$H$6:$H$500<E$3)*([1]Novembre!$G$6:$G$500)),SUMPRODUCT(([1]Décembre!$D$6:$D$500=$A15)*([1]Décembre!$H$6:$H$500>=D$3)*([1]Décembre!$H$6:$H$500<E$3)*([1]Décembre!$G$6:$G$500))),"")} | E15: {=IF(ISTEXT($A15),SUM(SUMPRODUCT(([1]Janvier!$D$6:$D$500=$A15)*([1]Janvier!$H$6:$H$500>=E$3)*([1]Janvier!$H$6:$H$500<F$3)*([1]Janvier!$G$6:$G$500)),SUMPRODUCT(([1]Février!$D$6:$D$500=$A15)*([1]Février!$H$6:$H$500>=E$3)*([1]Février!$H$6:$H$500<F$3)*([1]Février!$G$6:$G$500)),SUMPRODUCT(([1]Mars!$D$6:$D$500=$A15)*([1]Mars!$H$6:$H$500>=E$3)*([1]Mars!$H$6:$H$500<F$3)*([1]Mars!$G$6:$G$500)),SUMPRODUCT(([1]Avril!$D$6:$D$500=$A15)*([1]Avril!$H$6:$H$500>=E$3)*([1]Avril!$H$6:$H$500<F$3)*([1]Avril!$G$6:$G$500)),SUMPRODUCT(([1]Mai!$D$6:$D$500=$A15)*([1]Mai!$H$6:$H$500>=E$3)*([1]Mai!$H$6:$H$500<F$3)*([1]Mai!$G$6:$G$500)),SUMPRODUCT(([1]Juin!$D$6:$D$500=$A15)*([1]Juin!$H$6:$H$500>=E$3)*([1]Juin!$H$6:$H$500<F$3)*([1]Juin!$G$6:$G$500)),SUMPRODUCT(([1]Juillet!$D$6:$D$500=$A15)*([1]Juillet!$H$6:$H$500>=E$3)*([1]Juillet!$H$6:$H$500<F$3)*([1]Juillet!$G$6:$G$500)),SUMPRODUCT(([1]Août!$D$6:$D$500=$A15)*([1]Août!$H$6:$H$500>=E$3)*([1]Août!$H$6:$H$500<F$3)*([1]Août!$G$6:$G$500)),SUMPRODUCT(([1]Septembre!$D$6:$D$500=$A15)*([1]Septembre!$H$6:$H$500>=E$3)*([1]Septembre!$H$6:$H$500<F$3)*([1]Septembre!$G$6:$G$500)),SUMPRODUCT(([1]Octobre!$D$6:$D$500=$A15)*([1]Octobre!$H$6:$H$500>=E$3)*([1]Octobre!$H$6:$H$500<F$3)*([1]Octobre!$G$6:$G$500)),SUMPRODUCT(([1]Novembre!$D$6:$D$500=$A15)*([1]Novembre!$H$6:$H$500>=E$3)*([1]Novembre!$H$6:$H$500<F$3)*([1]Novembre!$G$6:$G$500)),SUMPRODUCT(([1]Décembre!$D$6:$D$500=$A15)*([1]Décembre!$H$6:$H$500>=E$3)*([1]Décembre!$H$6:$H$500<F$3)*([1]Décembre!$G$6:$G$500))),"")} | F15: {=IF(ISTEXT($A15),SUM(SUMPRODUCT(([1]Janvier!$D$6:$D$500=$A15)*([1]Janvier!$H$6:$H$500>=F$3)*([1]Janvier!$H$6:$H$500<G$3)*([1]Janvier!$G$6:$G$500)),SUMPRODUCT(([1]Février!$D$6:$D$500=$A15)*([1]Février!$H$6:$H$500>=F$3)*([1]Février!$H$6:$H$500<G$3)*([1]Février!$G$6:$G$500)),SUMPRODUCT(([1]Mars!$D$6:$D$500=$A15)*([1]Mars!$H$6:$H$500>=F$3)*([1]Mars!$H$6:$H$500<G$3)*([1]Mars!$G$6:$G$500)),SUMPRODUCT(([1]Avril!$D$6:$D$500=$A15)*([1]Avril!$H$6:$H$500>=F$3)*([1]Avril!$H$6:$H$500<G$3)*([1]Avril!$G$6:$G$500)),SUMPRODUCT(([1]Mai!$D$6:$D$500=$A15)*([1]Mai!$H$6:$H$500>=F$3)*([1]Mai!$H$6:$H$500<G$3)*([1]Mai!$G$6:$G$500)),SUMPRODUCT(([1]Juin!$D$6:$D$500=$A15)*([1]Juin!$H$6:$H$500>=F$3)*([1]Juin!$H$6:$H$500<G$3)*([1]Juin!$G$6:$G$500)),SUMPRODUCT(([1]Juillet!$D$6:$D$500=$A15)*([1]Juillet!$H$6:$H$500>=F$3)*([1]Juillet!$H$6:$H$500<G$3)*([1]Juillet!$G$6:$G$500)),SUMPRODUCT(([1]Août!$D$6:$D$500=$A15)*([1]Août!$H$6:$H$500>=F$3)*([1]Août!$H$6:$H$500<G$3)*([1]Août!$G$6:$G$500)),SUMPRODUCT(([1]Septembre!$D$6:$D$500=$A15)*([1]Septembre!$H$6:$H$500>=F$3)*([1]Septembre!$H$6:$H$500<G$3)*([1]Septembre!$G$6:$G$500)),SUMPRODUCT(([1]Octobre!$D$6:$D$500=$A15)*([1]Octobre!$H$6:$H$500>=F$3)*([1]Octobre!$H$6:$H$500<G$3)*([1]Octobre!$G$6:$G$500)),SUMPRODUCT(([1]Novembre!$D$6:$D$500=$A15)*([1]Novembre!$H$6:$H$500>=F$3)*([1]Novembre!$H$6:$H$500<G$3)*([1]Novembre!$G$6:$G$500)),SUMPRODUCT(([1]Décembre!$D$6:$D$500=$A15)*([1]Décembre!$H$6:$H$500>=F$3)*([1]Décembre!$H$6:$H$500<G$3)*([1]Décembre!$G$6:$G$500))),"")} | G15: {=IF(ISTEXT($A15),SUM(SUMPRODUCT(([1]Janvier!$D$6:$D$500=$A15)*([1]Janvier!$H$6:$H$500>=G$3)*([1]Janvier!$H$6:$H$500<H$3)*([1]Janvier!$G$6:$G$500)),SUMPRODUCT(([1]Février!$D$6:$D$500=$A15)*([1]Février!$H$6:$H$500>=G$3)*([1]Février!$H$6:$H$500<H$3)*([1]Février!$G$6:$G$500)),SUMPRODUCT(([1]Mars!$D$6:$D$500=$A15)*([1]Mars!$H$6:$H$500>=G$3)*([1]Mars!$H$6:$H$500<H$3)*([1]Mars!$G$6:$G$500)),SUMPRODUCT(([1]Avril!$D$6:$D$500=$A15)*([1]Avril!$H$6:$H$500>=G$3)*([1]Avril!$H$6:$H$500<H$3)*([1]Avril!$G$6:$G$500)),SUMPRODUCT(([1]Mai!$D$6:$D$500=$A15)*([1]Mai!$H$6:$H$500>=G$3)*([1]Mai!$H$6:$H$500<H$3)*([1]Mai!$G$6:$G$500)),SUMPRODUCT(([1]Juin!$D$6:$D$500=$A15)*([1]Juin!$H$6:$H$500>=G$3)*([1]Juin!$H$6:$H$500<H$3)*([1]Juin!$G$6:$G$500)),SUMPRODUCT(([1]Juillet!$D$6:$D$500=$A15)*([1]Juillet!$H$6:$H$500>=G$3)*([1]Juillet!$H$6:$H$500<H$3)*([1]Juillet!$G$6:$G$500)),SUMPRODUCT(([1]Août!$D$6:$D$500=$A15)*([1]Août!$H$6:$H$500>=G$3)*([1]Août!$H$6:$H$500<H$3)*([1]Août!$G$6:$G$500)),SUMPRODUCT(([1]Septembre!$D$6:$D$500=$A15)*([1]Septembre!$H$6:$H$500>=G$3)*([1]Septembre!$H$6:$H$500<H$3)*([1]Septembre!$G$6:$G$500)),SUMPRODUCT(([1]Octobre!$D$6:$D$500=$A15)*([1]Octobre!$H$6:$H$500>=G$3)*([1]Octobre!$H$6:$H$500<H$3)*([1]Octobre!$G$6:$G$500)),SUMPRODUCT(([1]Novembre!$D$6:$D$500=$A15)*([1]Novembre!$H$6:$H$500>=G$3)*([1]Novembre!$H$6:$H$500<H$3)*([1]Novembre!$G$6:$G$500)),SUMPRODUCT(([1]Décembre!$D$6:$D$500=$A15)*([1]Décembre!$H$6:$H$500>=G$3)*([1]Décembre!$H$6:$H$500<H$3)*([1]Décembre!$G$6:$G$500))),"")} | H15: {=IF(ISTEXT($A15),SUM(SUMPRODUCT(([1]Janvier!$D$6:$D$500=$A15)*([1]Janvier!$H$6:$H$500>=H$3)*([1]Janvier!$H$6:$H$500<I$3)*([1]Janvier!$G$6:$G$500)),SUMPRODUCT(([1]Février!$D$6:$D$500=$A15)*([1]Février!$H$6:$H$500>=H$3)*([1]Février!$H$6:$H$500<I$3)*([1]Février!$G$6:$G$500)),SUMPRODUCT(([1]Mars!$D$6:$D$500=$A15)*([1]Mars!$H$6:$H$500>=H$3)*([1]Mars!$H$6:$H$500<I$3)*([1]Mars!$G$6:$G$500)),SUMPRODUCT(([1]Avril!$D$6:$D$500=$A15)*([1]Avril!$H$6:$H$500>=H$3)*([1]Avril!$H$6:$H$500<I$3)*([1]Avril!$G$6:$G$500)),SUMPRODUCT(([1]Mai!$D$6:$D$500=$A15)*([1]Mai!$H$6:$H$500>=H$3)*([1]Mai!$H$6:$H$500<I$3)*([1]Mai!$G$6:$G$500)),SUMPRODUCT(([1]Juin!$D$6:$D$500=$A15)*([1]Juin!$H$6:$H$500>=H$3)*([1]Juin!$H$6:$H$500<I$3)*([1]Juin!$G$6:$G$500)),SUMPRODUCT(([1]Juillet!$D$6:$D$500=$A15)*([1]Juillet!$H$6:$H$500>=H$3)*([1]Juillet!$H$6:$H$500<I$3)*([1]Juillet!$G$6:$G$500)),SUMPRODUCT(([1]Août!$D$6:$D$500=$A15)*([1]Août!$H$6:$H$500>=H$3)*([1]Août!$H$6:$H$500<I$3)*([1]Août!$G$6:$G$500)),SUMPRODUCT(([1]Septembre!$D$6:$D$500=$A15)*([1]Septembre!$H$6:$H$500>=H$3)*([1]Septembre!$H$6:$H$500<I$3)*([1]Septembre!$G$6:$G$500)),SUMPRODUCT(([1]Octobre!$D$6:$D$500=$A15)*([1]Octobre!$H$6:$H$500>=H$3)*([1]Octobre!$H$6:$H$500<I$3)*([1]Octobre!$G$6:$G$500)),SUMPRODUCT(([1]Novembre!$D$6:$D$500=$A15)*([1]Novembre!$H$6:$H$500>=H$3)*([1]Novembre!$H$6:$H$500<I$3)*([1]Novembre!$G$6:$G$500)),SUMPRODUCT(([1]Décembre!$D$6:$D$500=$A15)*([1]Décembre!$H$6:$H$500>=H$3)*([1]Décembre!$H$6:$H$500<I$3)*([1]Décembre!$G$6:$G$500))),"")} | I15: {=IF(ISTEXT($A15),SUM(SUMPRODUCT(([1]Janvier!$D$6:$D$500=$A15)*([1]Janvier!$H$6:$H$500>=I$3)*([1]Janvier!$H$6:$H$500<J$3)*([1]Janvier!$G$6:$G$500)),SUMPRODUCT(([1]Février!$D$6:$D$500=$A15)*([1]Février!$H$6:$H$500>=I$3)*([1]Février!$H$6:$H$500<J$3)*([1]Février!$G$6:$G$500)),SUMPRODUCT(([1]Mars!$D$6:$D$500=$A15)*([1]Mars!$H$6:$H$500>=I$3)*([1]Mars!$H$6:$H$500<J$3)*([1]Mars!$G$6:$G$500)),SUMPRODUCT(([1]Avril!$D$6:$D$500=$A15)*([1]Avril!$H$6:$H$500>=I$3)*([1]Avril!$H$6:$H$500<J$3)*([1]Avril!$G$6:$G$500)),SUMPRODUCT(([1]Mai!$D$6:$D$500=$A15)*([1]Mai!$H$6:$H$500>=I$3)*([1]Mai!$H$6:$H$500<J$3)*([1]Mai!$G$6:$G$500)),SUMPRODUCT(([1]Juin!$D$6:$D$500=$A15)*([1]Juin!$H$6:$H$500>=I$3)*([1]Juin!$H$6:$H$500<J$3)*([1]Juin!$G$6:$G$500)),SUMPRODUCT(([1]Juillet!$D$6:$D$500=$A15)*([1]Juillet!$H$6:$H$500>=I$3)*([1]Juillet!$H$6:$H$500<J$3)*([1]Juillet!$G$6:$G$500)),SUMPRODUCT(([1]Août!$D$6:$D$500=$A15)*([1]Août!$H$6:$H$500>=I$3)*([1]Août!$H$6:$H$500<J$3)*([1]Août!$G$6:$G$500)),SUMPRODUCT(([1]Septembre!$D$6:$D$500=$A15)*([1]Septembre!$H$6:$H$500>=I$3)*([1]Septembre!$H$6:$H$500<J$3)*([1]Septembre!$G$6:$G$500)),SUMPRODUCT(([1]Octobre!$D$6:$D$500=$A15)*([1]Octobre!$H$6:$H$500>=I$3)*([1]Octobre!$H$6:$H$500<J$3)*([1]Octobre!$G$6:$G$500)),SUMPRODUCT(([1]Novembre!$D$6:$D$500=$A15)*([1]Novembre!$H$6:$H$500>=I$3)*([1]Novembre!$H$6:$H$500<J$3)*([1]Novembre!$G$6:$G$500)),SUMPRODUCT(([1]Décembre!$D$6:$D$500=$A15)*([1]Décembre!$H$6:$H$500>=I$3)*([1]Décembre!$H$6:$H$500<J$3)*([1]Décembre!$G$6:$G$500))),"")} | ... M15: {=IF(ISTEXT($A15),SUM(SUMPRODUCT(([1]Janvier!$D$6:$D$500=$A15)*([1]Janvier!$H$6:$H$500>=M$3)*([1]Janvier!$H$6:$H$500<N$3)*([1]Janvier!$G$6:$G$500)),SUMPRODUCT(([1]Février!$D$6:$D$500=$A15)*([1]Février!$H$6:$H$500>=M$3)*([1]Février!$H$6:$H$500<N$3)*([1]Février!$G$6:$G$500)),SUMPRODUCT(([1]Mars!$D$6:$D$500=$A15)*([1]Mars!$H$6:$H$500>=M$3)*([1]Mars!$H$6:$H$500<N$3)*([1]Mars!$G$6:$G$500)),SUMPRODUCT(([1]Avril!$D$6:$D$500=$A15)*([1]Avril!$H$6:$H$500>=M$3)*([1]Avril!$H$6:$H$500<N$3)*([1]Avril!$G$6:$G$500)),SUMPRODUCT(([1]Mai!$D$6:$D$500=$A15)*([1]Mai!$H$6:$H$500>=M$3)*([1]Mai!$H$6:$H$500<N$3)*([1]Mai!$G$6:$G$500)),SUMPRODUCT(([1]Juin!$D$6:$D$500=$A15)*([1]Juin!$H$6:$H$500>=M$3)*([1]Juin!$H$6:$H$500<N$3)*([1]Juin!$G$6:$G$500)),SUMPRODUCT(([1]Juillet!$D$6:$D$500=$A15)*([1]Juillet!$H$6:$H$500>=M$3)*([1]Juillet!$H$6:$H$500<N$3)*([1]Juillet!$G$6:$G$500)),SUMPRODUCT(([1]Août!$D$6:$D$500=$A15)*([1]Août!$H$6:$H$500>=M$3)*([1]Août!$H$6:$H$500<N$3)*([1]Août!$G$6:$G$500)),SUMPRODUCT(([1]Septembre!$D$6:$D$500=$A15)*([1]Septembre!$H$6:$H$500>=M$3)*([1]Septembre!$H$6:$H$500<N$3)*([1]Septembre!$G$6:$G$500)),SUMPRODUCT(([1]Octobre!$D$6:$D$500=$A15)*([1]Octobre!$H$6:$H$500>=M$3)*([1]Octobre!$H$6:$H$500<N$3)*([1]Octobre!$G$6:$G$500)),SUMPRODUCT(([1]Novembre!$D$6:$D$500=$A15)*([1]Novembre!$H$6:$H$500>=M$3)*([1]Novembre!$H$6:$H$500<N$3)*([1]Novembre!$G$6:$G$500)),SUMPRODUCT(([1]Décembre!$D$6:$D$500=$A15)*([1]Décembre!$H$6:$H$500>=M$3)*([1]Décembre!$H$6:$H$500<N$3)*([1]Décembre!$G$6:$G$500))),"")} | O15: =SUM(B15:M15) -> 0
B16: {=IF(ISTEXT($A16),SUM(SUMPRODUCT(([1]Janvier!$D$6:$D$500=$A16)*([1]Janvier!$H$6:$H$500>=B$3)*([1]Janvier!$H$6:$H$500<C$3)*([1]Janvier!$G$6:$G$500)),SUMPRODUCT(([1]Février!$D$6:$D$500=$A16)*([1]Février!$H$6:$H$500>=B$3)*([1]Février!$H$6:$H$500<C$3)*([1]Février!$G$6:$G$500)),SUMPRODUCT(([1]Mars!$D$6:$D$500=$A16)*([1]Mars!$H$6:$H$500>=B$3)*([1]Mars!$H$6:$H$500<C$3)*([1]Mars!$G$6:$G$500)),SUMPRODUCT(([1]Avril!$D$6:$D$500=$A16)*([1]Avril!$H$6:$H$500>=B$3)*([1]Avril!$H$6:$H$500<C$3)*([1]Avril!$G$6:$G$500)),SUMPRODUCT(([1]Mai!$D$6:$D$500=$A16)*([1]Mai!$H$6:$H$500>=B$3)*([1]Mai!$H$6:$H$500<C$3)*([1]Mai!$G$6:$G$500)),SUMPRODUCT(([1]Juin!$D$6:$D$500=$A16)*([1]Juin!$H$6:$H$500>=B$3)*([1]Juin!$H$6:$H$500<C$3)*([1]Juin!$G$6:$G$500)),SUMPRODUCT(([1]Juillet!$D$6:$D$500=$A16)*([1]Juillet!$H$6:$H$500>=B$3)*([1]Juillet!$H$6:$H$500<C$3)*([1]Juillet!$G$6:$G$500)),SUMPRODUCT(([1]Août!$D$6:$D$500=$A16)*([1]Août!$H$6:$H$500>=B$3)*([1]Août!$H$6:$H$500<C$3)*([1]Août!$G$6:$G$500)),SUMPRODUCT(([1]Septembre!$D$6:$D$500=$A16)*([1]Septembre!$H$6:$H$500>=B$3)*([1]Septembre!$H$6:$H$500<C$3)*([1]Septembre!$G$6:$G$500)),SUMPRODUCT(([1]Octobre!$D$6:$D$500=$A16)*([1]Octobre!$H$6:$H$500>=B$3)*([1]Octobre!$H$6:$H$500<C$3)*([1]Octobre!$G$6:$G$500)),SUMPRODUCT(([1]Novembre!$D$6:$D$500=$A16)*([1]Novembre!$H$6:$H$500>=B$3)*([1]Novembre!$H$6:$H$500<C$3)*([1]Novembre!$G$6:$G$500)),SUMPRODUCT(([1]Décembre!$D$6:$D$500=$A16)*([1]Décembre!$H$6:$H$500>=B$3)*([1]Décembre!$H$6:$H$500<C$3)*([1]Décembre!$G$6:$G$500))),"")} | C16: {=IF(ISTEXT($A16),SUM(SUMPRODUCT(([1]Janvier!$D$6:$D$500=$A16)*([1]Janvier!$H$6:$H$500>=C$3)*([1]Janvier!$H$6:$H$500<D$3)*([1]Janvier!$G$6:$G$500)),SUMPRODUCT(([1]Février!$D$6:$D$500=$A16)*([1]Février!$H$6:$H$500>=C$3)*([1]Février!$H$6:$H$500<D$3)*([1]Février!$G$6:$G$500)),SUMPRODUCT(([1]Mars!$D$6:$D$500=$A16)*([1]Mars!$H$6:$H$500>=C$3)*([1]Mars!$H$6:$H$500<D$3)*([1]Mars!$G$6:$G$500)),SUMPRODUCT(([1]Avril!$D$6:$D$500=$A16)*([1]Avril!$H$6:$H$500>=C$3)*([1]Avril!$H$6:$H$500<D$3)*([1]Avril!$G$6:$G$500)),SUMPRODUCT(([1]Mai!$D$6:$D$500=$A16)*([1]Mai!$H$6:$H$500>=C$3)*([1]Mai!$H$6:$H$500<D$3)*([1]Mai!$G$6:$G$500)),SUMPRODUCT(([1]Juin!$D$6:$D$500=$A16)*([1]Juin!$H$6:$H$500>=C$3)*([1]Juin!$H$6:$H$500<D$3)*([1]Juin!$G$6:$G$500)),SUMPRODUCT(([1]Juillet!$D$6:$D$500=$A16)*([1]Juillet!$H$6:$H$500>=C$3)*([1]Juillet!$H$6:$H$500<D$3)*([1]Juillet!$G$6:$G$500)),SUMPRODUCT(([1]Août!$D$6:$D$500=$A16)*([1]Août!$H$6:$H$500>=C$3)*([1]Août!$H$6:$H$500<D$3)*([1]Août!$G$6:$G$500)),SUMPRODUCT(([1]Septembre!$D$6:$D$500=$A16)*([1]Septembre!$H$6:$H$500>=C$3)*([1]Septembre!$H$6:$H$500<D$3)*([1]Septembre!$G$6:$G$500)),SUMPRODUCT(([1]Octobre!$D$6:$D$500=$A16)*([1]Octobre!$H$6:$H$500>=C$3)*([1]Octobre!$H$6:$H$500<D$3)*([1]Octobre!$G$6:$G$500)),SUMPRODUCT(([1]Novembre!$D$6:$D$500=$A16)*([1]Novembre!$H$6:$H$500>=C$3)*([1]Novembre!$H$6:$H$500<D$3)*([1]Novembre!$G$6:$G$500)),SUMPRODUCT(([1]Décembre!$D$6:$D$500=$A16)*([1]Décembre!$H$6:$H$500>=C$3)*([1]Décembre!$H$6:$H$500<D$3)*([1]Décembre!$G$6:$G$500))),"")} | D16: {=IF(ISTEXT($A16),SUM(SUMPRODUCT(([1]Janvier!$D$6:$D$500=$A16)*([1]Janvier!$H$6:$H$500>=D$3)*([1]Janvier!$H$6:$H$500<E$3)*([1]Janvier!$G$6:$G$500)),SUMPRODUCT(([1]Février!$D$6:$D$500=$A16)*([1]Février!$H$6:$H$500>=D$3)*([1]Février!$H$6:$H$500<E$3)*([1]Février!$G$6:$G$500)),SUMPRODUCT(([1]Mars!$D$6:$D$500=$A16)*([1]Mars!$H$6:$H$500>=D$3)*([1]Mars!$H$6:$H$500<E$3)*([1]Mars!$G$6:$G$500)),SUMPRODUCT(([1]Avril!$D$6:$D$500=$A16)*([1]Avril!$H$6:$H$500>=D$3)*([1]Avril!$H$6:$H$500<E$3)*([1]Avril!$G$6:$G$500)),SUMPRODUCT(([1]Mai!$D$6:$D$500=$A16)*([1]Mai!$H$6:$H$500>=D$3)*([1]Mai!$H$6:$H$500<E$3)*([1]Mai!$G$6:$G$500)),SUMPRODUCT(([1]Juin!$D$6:$D$500=$A16)*([1]Juin!$H$6:$H$500>=D$3)*([1]Juin!$H$6:$H$500<E$3)*([1]Juin!$G$6:$G$500)),SUMPRODUCT(([1]Juillet!$D$6:$D$500=$A16)*([1]Juillet!$H$6:$H$500>=D$3)*([1]Juillet!$H$6:$H$500<E$3)*([1]Juillet!$G$6:$G$500)),SUMPRODUCT(([1]Août!$D$6:$D$500=$A16)*([1]Août!$H$6:$H$500>=D$3)*([1]Août!$H$6:$H$500<E$3)*([1]Août!$G$6:$G$500)),SUMPRODUCT(([1]Septembre!$D$6:$D$500=$A16)*([1]Septembre!$H$6:$H$500>=D$3)*([1]Septembre!$H$6:$H$500<E$3)*([1]Septembre!$G$6:$G$500)),SUMPRODUCT(([1]Octobre!$D$6:$D$500=$A16)*([1]Octobre!$H$6:$H$500>=D$3)*([1]Octobre!$H$6:$H$500<E$3)*([1]Octobre!$G$6:$G$500)),SUMPRODUCT(([1]Novembre!$D$6:$D$500=$A16)*([1]Novembre!$H$6:$H$500>=D$3)*([1]Novembre!$H$6:$H$500<E$3)*([1]Novembre!$G$6:$G$500)),SUMPRODUCT(([1]Décembre!$D$6:$D$500=$A16)*([1]Décembre!$H$6:$H$500>=D$3)*([1]Décembre!$H$6:$H$500<E$3)*([1]Décembre!$G$6:$G$500))),"")} | E16: {=IF(ISTEXT($A16),SUM(SUMPRODUCT(([1]Janvier!$D$6:$D$500=$A16)*([1]Janvier!$H$6:$H$500>=E$3)*([1]Janvier!$H$6:$H$500<F$3)*([1]Janvier!$G$6:$G$500)),SUMPRODUCT(([1]Février!$D$6:$D$500=$A16)*([1]Février!$H$6:$H$500>=E$3)*([1]Février!$H$6:$H$500<F$3)*([1]Février!$G$6:$G$500)),SUMPRODUCT(([1]Mars!$D$6:$D$500=$A16)*([1]Mars!$H$6:$H$500>=E$3)*([1]Mars!$H$6:$H$500<F$3)*([1]Mars!$G$6:$G$500)),SUMPRODUCT(([1]Avril!$D$6:$D$500=$A16)*([1]Avril!$H$6:$H$500>=E$3)*([1]Avril!$H$6:$H$500<F$3)*([1]Avril!$G$6:$G$500)),SUMPRODUCT(([1]Mai!$D$6:$D$500=$A16)*([1]Mai!$H$6:$H$500>=E$3)*([1]Mai!$H$6:$H$500<F$3)*([1]Mai!$G$6:$G$500)),SUMPRODUCT(([1]Juin!$D$6:$D$500=$A16)*([1]Juin!$H$6:$H$500>=E$3)*([1]Juin!$H$6:$H$500<F$3)*([1]Juin!$G$6:$G$500)),SUMPRODUCT(([1]Juillet!$D$6:$D$500=$A16)*([1]Juillet!$H$6:$H$500>=E$3)*([1]Juillet!$H$6:$H$500<F$3)*([1]Juillet!$G$6:$G$500)),SUMPRODUCT(([1]Août!$D$6:$D$500=$A16)*([1]Août!$H$6:$H$500>=E$3)*([1]Août!$H$6:$H$500<F$3)*([1]Août!$G$6:$G$500)),SUMPRODUCT(([1]Septembre!$D$6:$D$500=$A16)*([1]Septembre!$H$6:$H$500>=E$3)*([1]Septembre!$H$6:$H$500<F$3)*([1]Septembre!$G$6:$G$500)),SUMPRODUCT(([1]Octobre!$D$6:$D$500=$A16)*([1]Octobre!$H$6:$H$500>=E$3)*([1]Octobre!$H$6:$H$500<F$3)*([1]Octobre!$G$6:$G$500)),SUMPRODUCT(([1]Novembre!$D$6:$D$500=$A16)*([1]Novembre!$H$6:$H$500>=E$3)*([1]Novembre!$H$6:$H$500<F$3)*([1]Novembre!$G$6:$G$500)),SUMPRODUCT(([1]Décembre!$D$6:$D$500=$A16)*([1]Décembre!$H$6:$H$500>=E$3)*([1]Décembre!$H$6:$H$500<F$3)*([1]Décembre!$G$6:$G$500))),"")} | F16: {=IF(ISTEXT($A16),SUM(SUMPRODUCT(([1]Janvier!$D$6:$D$500=$A16)*([1]Janvier!$H$6:$H$500>=F$3)*([1]Janvier!$H$6:$H$500<G$3)*([1]Janvier!$G$6:$G$500)),SUMPRODUCT(([1]Février!$D$6:$D$500=$A16)*([1]Février!$H$6:$H$500>=F$3)*([1]Février!$H$6:$H$500<G$3)*([1]Février!$G$6:$G$500)),SUMPRODUCT(([1]Mars!$D$6:$D$500=$A16)*([1]Mars!$H$6:$H$500>=F$3)*([1]Mars!$H$6:$H$500<G$3)*([1]Mars!$G$6:$G$500)),SUMPRODUCT(([1]Avril!$D$6:$D$500=$A16)*([1]Avril!$H$6:$H$500>=F$3)*([1]Avril!$H$6:$H$500<G$3)*([1]Avril!$G$6:$G$500)),SUMPRODUCT(([1]Mai!$D$6:$D$500=$A16)*([1]Mai!$H$6:$H$500>=F$3)*([1]Mai!$H$6:$H$500<G$3)*([1]Mai!$G$6:$G$500)),SUMPRODUCT(([1]Juin!$D$6:$D$500=$A16)*([1]Juin!$H$6:$H$500>=F$3)*([1]Juin!$H$6:$H$500<G$3)*([1]Juin!$G$6:$G$500)),SUMPRODUCT(([1]Juillet!$D$6:$D$500=$A16)*([1]Juillet!$H$6:$H$500>=F$3)*([1]Juillet!$H$6:$H$500<G$3)*([1]Juillet!$G$6:$G$500)),SUMPRODUCT(([1]Août!$D$6:$D$500=$A16)*([1]Août!$H$6:$H$500>=F$3)*([1]Août!$H$6:$H$500<G$3)*([1]Août!$G$6:$G$500)),SUMPRODUCT(([1]Septembre!$D$6:$D$500=$A16)*([1]Septembre!$H$6:$H$500>=F$3)*([1]Septembre!$H$6:$H$500<G$3)*([1]Septembre!$G$6:$G$500)),SUMPRODUCT(([1]Octobre!$D$6:$D$500=$A16)*([1]Octobre!$H$6:$H$500>=F$3)*([1]Octobre!$H$6:$H$500<G$3)*([1]Octobre!$G$6:$G$500)),SUMPRODUCT(([1]Novembre!$D$6:$D$500=$A16)*([1]Novembre!$H$6:$H$500>=F$3)*([1]Novembre!$H$6:$H$500<G$3)*([1]Novembre!$G$6:$G$500)),SUMPRODUCT(([1]Décembre!$D$6:$D$500=$A16)*([1]Décembre!$H$6:$H$500>=F$3)*([1]Décembre!$H$6:$H$500<G$3)*([1]Décembre!$G$6:$G$500))),"")} | G16: {=IF(ISTEXT($A16),SUM(SUMPRODUCT(([1]Janvier!$D$6:$D$500=$A16)*([1]Janvier!$H$6:$H$500>=G$3)*([1]Janvier!$H$6:$H$500<H$3)*([1]Janvier!$G$6:$G$500)),SUMPRODUCT(([1]Février!$D$6:$D$500=$A16)*([1]Février!$H$6:$H$500>=G$3)*([1]Février!$H$6:$H$500<H$3)*([1]Février!$G$6:$G$500)),SUMPRODUCT(([1]Mars!$D$6:$D$500=$A16)*([1]Mars!$H$6:$H$500>=G$3)*([1]Mars!$H$6:$H$500<H$3)*([1]Mars!$G$6:$G$500)),SUMPRODUCT(([1]Avril!$D$6:$D$500=$A16)*([1]Avril!$H$6:$H$500>=G$3)*([1]Avril!$H$6:$H$500<H$3)*([1]Avril!$G$6:$G$500)),SUMPRODUCT(([1]Mai!$D$6:$D$500=$A16)*([1]Mai!$H$6:$H$500>=G$3)*([1]Mai!$H$6:$H$500<H$3)*([1]Mai!$G$6:$G$500)),SUMPRODUCT(([1]Juin!$D$6:$D$500=$A16)*([1]Juin!$H$6:$H$500>=G$3)*([1]Juin!$H$6:$H$500<H$3)*([1]Juin!$G$6:$G$500)),SUMPRODUCT(([1]Juillet!$D$6:$D$500=$A16)*([1]Juillet!$H$6:$H$500>=G$3)*([1]Juillet!$H$6:$H$500<H$3)*([1]Juillet!$G$6:$G$500)),SUMPRODUCT(([1]Août!$D$6:$D$500=$A16)*([1]Août!$H$6:$H$500>=G$3)*([1]Août!$H$6:$H$500<H$3)*([1]Août!$G$6:$G$500)),SUMPRODUCT(([1]Septembre!$D$6:$D$500=$A16)*([1]Septembre!$H$6:$H$500>=G$3)*([1]Septembre!$H$6:$H$500<H$3)*([1]Septembre!$G$6:$G$500)),SUMPRODUCT(([1]Octobre!$D$6:$D$500=$A16)*([1]Octobre!$H$6:$H$500>=G$3)*([1]Octobre!$H$6:$H$500<H$3)*([1]Octobre!$G$6:$G$500)),SUMPRODUCT(([1]Novembre!$D$6:$D$500=$A16)*([1]Novembre!$H$6:$H$500>=G$3)*([1]Novembre!$H$6:$H$500<H$3)*([1]Novembre!$G$6:$G$500)),SUMPRODUCT(([1]Décembre!$D$6:$D$500=$A16)*([1]Décembre!$H$6:$H$500>=G$3)*([1]Décembre!$H$6:$H$500<H$3)*([1]Décembre!$G$6:$G$500))),"")} | H16: {=IF(ISTEXT($A16),SUM(SUMPRODUCT(([1]Janvier!$D$6:$D$500=$A16)*([1]Janvier!$H$6:$H$500>=H$3)*([1]Janvier!$H$6:$H$500<I$3)*([1]Janvier!$G$6:$G$500)),SUMPRODUCT(([1]Février!$D$6:$D$500=$A16)*([1]Février!$H$6:$H$500>=H$3)*([1]Février!$H$6:$H$500<I$3)*([1]Février!$G$6:$G$500)),SUMPRODUCT(([1]Mars!$D$6:$D$500=$A16)*([1]Mars!$H$6:$H$500>=H$3)*([1]Mars!$H$6:$H$500<I$3)*([1]Mars!$G$6:$G$500)),SUMPRODUCT(([1]Avril!$D$6:$D$500=$A16)*([1]Avril!$H$6:$H$500>=H$3)*([1]Avril!$H$6:$H$500<I$3)*([1]Avril!$G$6:$G$500)),SUMPRODUCT(([1]Mai!$D$6:$D$500=$A16)*([1]Mai!$H$6:$H$500>=H$3)*([1]Mai!$H$6:$H$500<I$3)*([1]Mai!$G$6:$G$500)),SUMPRODUCT(([1]Juin!$D$6:$D$500=$A16)*([1]Juin!$H$6:$H$500>=H$3)*([1]Juin!$H$6:$H$500<I$3)*([1]Juin!$G$6:$G$500)),SUMPRODUCT(([1]Juillet!$D$6:$D$500=$A16)*([1]Juillet!$H$6:$H$500>=H$3)*([1]Juillet!$H$6:$H$500<I$3)*([1]Juillet!$G$6:$G$500)),SUMPRODUCT(([1]Août!$D$6:$D$500=$A16)*([1]Août!$H$6:$H$500>=H$3)*([1]Août!$H$6:$H$500<I$3)*([1]Août!$G$6:$G$500)),SUMPRODUCT(([1]Septembre!$D$6:$D$500=$A16)*([1]Septembre!$H$6:$H$500>=H$3)*([1]Septembre!$H$6:$H$500<I$3)*([1]Septembre!$G$6:$G$500)),SUMPRODUCT(([1]Octobre!$D$6:$D$500=$A16)*([1]Octobre!$H$6:$H$500>=H$3)*([1]Octobre!$H$6:$H$500<I$3)*([1]Octobre!$G$6:$G$500)),SUMPRODUCT(([1]Novembre!$D$6:$D$500=$A16)*([1]Novembre!$H$6:$H$500>=H$3)*([1]Novembre!$H$6:$H$500<I$3)*([1]Novembre!$G$6:$G$500)),SUMPRODUCT(([1]Décembre!$D$6:$D$500=$A16)*([1]Décembre!$H$6:$H$500>=H$3)*([1]Décembre!$H$6:$H$500<I$3)*([1]Décembre!$G$6:$G$500))),"")} | I16: {=IF(ISTEXT($A16),SUM(SUMPRODUCT(([1]Janvier!$D$6:$D$500=$A16)*([1]Janvier!$H$6:$H$500>=I$3)*([1]Janvier!$H$6:$H$500<J$3)*([1]Janvier!$G$6:$G$500)),SUMPRODUCT(([1]Février!$D$6:$D$500=$A16)*([1]Février!$H$6:$H$500>=I$3)*([1]Février!$H$6:$H$500<J$3)*([1]Février!$G$6:$G$500)),SUMPRODUCT(([1]Mars!$D$6:$D$500=$A16)*([1]Mars!$H$6:$H$500>=I$3)*([1]Mars!$H$6:$H$500<J$3)*([1]Mars!$G$6:$G$500)),SUMPRODUCT(([1]Avril!$D$6:$D$500=$A16)*([1]Avril!$H$6:$H$500>=I$3)*([1]Avril!$H$6:$H$500<J$3)*([1]Avril!$G$6:$G$500)),SUMPRODUCT(([1]Mai!$D$6:$D$500=$A16)*([1]Mai!$H$6:$H$500>=I$3)*([1]Mai!$H$6:$H$500<J$3)*([1]Mai!$G$6:$G$500)),SUMPRODUCT(([1]Juin!$D$6:$D$500=$A16)*([1]Juin!$H$6:$H$500>=I$3)*([1]Juin!$H$6:$H$500<J$3)*([1]Juin!$G$6:$G$500)),SUMPRODUCT(([1]Juillet!$D$6:$D$500=$A16)*([1]Juillet!$H$6:$H$500>=I$3)*([1]Juillet!$H$6:$H$500<J$3)*([1]Juillet!$G$6:$G$500)),SUMPRODUCT(([1]Août!$D$6:$D$500=$A16)*([1]Août!$H$6:$H$500>=I$3)*([1]Août!$H$6:$H$500<J$3)*([1]Août!$G$6:$G$500)),SUMPRODUCT(([1]Septembre!$D$6:$D$500=$A16)*([1]Septembre!$H$6:$H$500>=I$3)*([1]Septembre!$H$6:$H$500<J$3)*([1]Septembre!$G$6:$G$500)),SUMPRODUCT(([1]Octobre!$D$6:$D$500=$A16)*([1]Octobre!$H$6:$H$500>=I$3)*([1]Octobre!$H$6:$H$500<J$3)*([1]Octobre!$G$6:$G$500)),SUMPRODUCT(([1]Novembre!$D$6:$D$500=$A16)*([1]Novembre!$H$6:$H$500>=I$3)*([1]Novembre!$H$6:$H$500<J$3)*([1]Novembre!$G$6:$G$500)),SUMPRODUCT(([1]Décembre!$D$6:$D$500=$A16)*([1]Décembre!$H$6:$H$500>=I$3)*([1]Décembre!$H$6:$H$500<J$3)*([1]Décembre!$G$6:$G$500))),"")} | ... M16: {=IF(ISTEXT($A16),SUM(SUMPRODUCT(([1]Janvier!$D$6:$D$500=$A16)*([1]Janvier!$H$6:$H$500>=M$3)*([1]Janvier!$H$6:$H$500<N$3)*([1]Janvier!$G$6:$G$500)),SUMPRODUCT(([1]Février!$D$6:$D$500=$A16)*([1]Février!$H$6:$H$500>=M$3)*([1]Février!$H$6:$H$500<N$3)*([1]Février!$G$6:$G$500)),SUMPRODUCT(([1]Mars!$D$6:$D$500=$A16)*([1]Mars!$H$6:$H$500>=M$3)*([1]Mars!$H$6:$H$500<N$3)*([1]Mars!$G$6:$G$500)),SUMPRODUCT(([1]Avril!$D$6:$D$500=$A16)*([1]Avril!$H$6:$H$500>=M$3)*([1]Avril!$H$6:$H$500<N$3)*([1]Avril!$G$6:$G$500)),SUMPRODUCT(([1]Mai!$D$6:$D$500=$A16)*([1]Mai!$H$6:$H$500>=M$3)*([1]Mai!$H$6:$H$500<N$3)*([1]Mai!$G$6:$G$500)),SUMPRODUCT(([1]Juin!$D$6:$D$500=$A16)*([1]Juin!$H$6:$H$500>=M$3)*([1]Juin!$H$6:$H$500<N$3)*([1]Juin!$G$6:$G$500)),SUMPRODUCT(([1]Juillet!$D$6:$D$500=$A16)*([1]Juillet!$H$6:$H$500>=M$3)*([1]Juillet!$H$6:$H$500<N$3)*([1]Juillet!$G$6:$G$500)),SUMPRODUCT(([1]Août!$D$6:$D$500=$A16)*([1]Août!$H$6:$H$500>=M$3)*([1]Août!$H$6:$H$500<N$3)*([1]Août!$G$6:$G$500)),SUMPRODUCT(([1]Septembre!$D$6:$D$500=$A16)*([1]Septembre!$H$6:$H$500>=M$3)*([1]Septembre!$H$6:$H$500<N$3)*([1]Septembre!$G$6:$G$500)),SUMPRODUCT(([1]Octobre!$D$6:$D$500=$A16)*([1]Octobre!$H$6:$H$500>=M$3)*([1]Octobre!$H$6:$H$500<N$3)*([1]Octobre!$G$6:$G$500)),SUMPRODUCT(([1]Novembre!$D$6:$D$500=$A16)*([1]Novembre!$H$6:$H$500>=M$3)*([1]Novembre!$H$6:$H$500<N$3)*([1]Novembre!$G$6:$G$500)),SUMPRODUCT(([1]Décembre!$D$6:$D$500=$A16)*([1]Décembre!$H$6:$H$500>=M$3)*([1]Décembre!$H$6:$H$500<N$3)*([1]Décembre!$G$6:$G$500))),"")} | O16: =SUM(B16:M16) -> 0
A17: TOTAL | B17: =SUM(B4:B16) -> 0 | C17: =SUM(C4:C16) -> 0 | D17: =SUM(D4:D16) -> 0 | E17: =SUM(E4:E16) -> 0 | F17: =SUM(F4:F16) -> 0 | G17: =SUM(G4:G16) -> 0 | H17: =SUM(H4:H16) -> 0 | I17: =SUM(I4:I16) -> 139.18 | ... M17: =SUM(M4:M16) -> 0 | O17: =SUM(O4:O16) -> 259.31

Sheet Recettes
A1: RECETTES 2021
A3: REPARTITION | B3: 44197 | C3: 44228 | D3: 44256 | E3: 44287 | F3: 44317 | G3: 44348 | H3: 44378 | I3: 44409 | J3: 44440 | K3: 44470 | L3: 44501 | M3: 44531 | O3: Total
O4: =SUM(B4:M4) -> 0
O5: =SUM(B5:M5) -> 0
O6: =SUM(B6:M6) -> 0
O7: =SUM(B7:M7) -> 0
O8: =SUM(B8:M8) -> 0
O9: =SUM(B9:M9) -> 0
O10: =SUM(B10:M10) -> 0
O11: =SUM(B11:M11) -> 0
O12: =SUM(B12:M12) -> 0
O13: =SUM(B13:M13) -> 0
O14: =SUM(B14:M14) -> 0
O15: =SUM(B15:M15) -> 0
O16: =SUM(B16:M16) -> 0
A17: TOTAL | B17: =SUM(B4:B16) -> 0 | C17: =SUM(C4:C16) -> 0 | D17: =SUM(D4:D16) -> 0 | E17: =SUM(E4:E16) -> 0 | F17: =SUM(F4:F16) -> 0 | G17: =SUM(G4:G16) -> 0 | H17: =SUM(H4:H16) -> 0 | I17: =SUM(I4:I16) -> 0 | ... M17: =SUM(M4:M16) -> 0 | O17: =SUM(O4:O16) -> 0
