Workbook
Name Coll: OFFSET(Paramètres!$B$3,0,0,COUNTIF(Paramètres!$B:$B,"><")-1)

Sheet PLANNING

Sheet rdv
A1: Index | B1: Colonne1 | C1: # item | D1: DATE | E1: hr debut rdv | F1: coll | G1: cli | H1: info | I1: # PRESTA
A2: =IF(TRDV[[#This Row],[DATE]]=TODAY()+1,rdv!$B2&COUNTIF($B$2:B2,B2),"") | B2: =IF(TRDV[[#This Row],[DATE]]=TODAY()+1,TRDV[[#This Row],[coll]],"") | C2: 1 | D2: 44313 | E2: 0.375 | F2: Philip | G2: Mme PION | H2: 1111111 | I2: 92 | M2: =TODAY()+1 -> 44311
A3: =IF(TRDV[[#This Row],[DATE]]=TODAY()+1,rdv!$B3&COUNTIF($B$2:B3,B3),"") | B3: =IF(TRDV[[#This Row],[DATE]]=TODAY()+1,TRDV[[#This Row],[coll]],"") | C3: 2 | D3: 44313 | E3: 0.375 | F3: Glory | G3: Mme PION | H3: 1111112 | I3: 20
A4: =IF(TRDV[[#This Row],[DATE]]=TODAY()+1,rdv!$B4&COUNTIF($B$2:B4,B4),"") | B4: =IF(TRDV[[#This Row],[DATE]]=TODAY()+1,TRDV[[#This Row],[coll]],"") | C4: 1 | D4: 44313 | E4: 0.375 | F4: Laure | G4: Mme MOKOSSO | H4: 1111113 | I4: 13
A5: =IF(TRDV[[#This Row],[DATE]]=TODAY()+1,rdv!$B5&COUNTIF($B$2:B5,B5),"") | B5: =IF(TRDV[[#This Row],[DATE]]=TODAY()+1,TRDV[[#This Row],[coll]],"") | C5: 1 | D5: 44313 | E5: 0.45833333 | F5: Philip | G5: Mme BINDZI Nathal | H5: 1111114 | I5: 13
A6: =IF(TRDV[[#This Row],[DATE]]=TODAY()+1,rdv!$B6&COUNTIF($B$2:B6,B6),"") | B6: =IF(TRDV[[#This Row],[DATE]]=TODAY()+1,TRDV[[#This Row],[coll]],"") | C6: 2 | D6: 44313 | E6: 0.45833333 | F6: Clovis | G6: Mme BINDZI Nathalie | H6: 1111115 | I6: 12
A7: =IF(TRDV[[#This Row],[DATE]]=TODAY()+1,rdv!$B7&COUNTIF($B$2:B7,B7),"") | B7: =IF(TRDV[[#This Row],[DATE]]=TODAY()+1,TRDV[[#This Row],[coll]],"") | C7: 1 | D7: 44313 | E7: 0.54166667 | F7: Laure | G7: Mme NGOMBA Clotilde | H7: 1111116 | I7: 13
A8: =IF(TRDV[[#This Row],[DATE]]=TODAY()+1,rdv!$B8&COUNTIF($B$2:B8,B8),"") | B8: =IF(TRDV[[#This Row],[DATE]]=TODAY()+1,TRDV[[#This Row],[coll]],"") | C8: 2 | D8: 44313 | E8: 0.54166667 | F8: Glory | G8: Mme NGOMBA Clotilde | H8: 1111117 | I8: 12
A9: =IF(TRDV[[#This Row],[DATE]]=TODAY()+1,rdv!$B9&COUNTIF($B$2:B9,B9),"") | B9: =IF(TRDV[[#This Row],[DATE]]=TODAY()+1,TRDV[[#This Row],[coll]],"") | C9: 1 | D9: 44313 | E9: 0.60416667 | F9: Philip | G9: Mme LUMA | H9: 1111118 | I9: 13
A10: =IF(TRDV[[#This Row],[DATE]]=TODAY()+1,rdv!$B10&COUNTIF($B$2:B10,B10),"") | B10: =IF(TRDV[[#This Row],[DATE]]=TODAY()+1,TRDV[[#This Row],[coll]],"") | C10: 2 | D10: 44313 | E10: 0.60416667 | F10: Olivier | G10: Mme LUMA | H10: 1111119 | I10: 23
A11: =IF(TRDV[[#This Row],[DATE]]=TODAY()+1,rdv!$B11&COUNTIF($B$2:B11,B11),"") | B11: =IF(TRDV[[#This Row],[DATE]]=TODAY()+1,TRDV[[#This Row],[coll]],"") | C11: 1 | D11: 44314 | E11: 0.375 | F11: Philip | G11: Mme BELOA | H11: 1111120 | I11: 13
A12: =IF(TRDV[[#This Row],[DATE]]=TODAY()+1,rdv!$B12&COUNTIF($B$2:B12,B12),"") | B12: =IF(TRDV[[#This Row],[DATE]]=TODAY()+1,TRDV[[#This Row],[coll]],"") | C12: 1 | D12: 44314 | E12: 0.375 | F12: Laure | G12: Mme Albertine Mbakope | H12: 1111121 | I12: 13
A13: =IF(TRDV[[#This Row],[DATE]]=TODAY()+1,rdv!$B13&COUNTIF($B$2:B13,B13),"") | B13: =IF(TRDV[[#This Row],[DATE]]=TODAY()+1,TRDV[[#This Row],[coll]],"") | C13: 2 | D13: 44314 | E13: 0.375 | F13: Carolle | G13: Mme Albertine Mbakope | H13: 1111122 | I13: 20
A14: =IF(TRDV[[#This Row],[DATE]]=TODAY()+1,rdv!$B14&COUNTIF($B$2:B14,B14),"") | B14: =IF(TRDV[[#This Row],[DATE]]=TODAY()+1,TRDV[[#This Row],[coll]],"") | C14: 1 | D14: 44314 | E14: 0.66666667 | F14: Laure | G14: Mme MVOGO Stephanie | H14: 1111123 | I14: 13
... A65: =IF(TRDV[[#This Row],[DATE]]=TODAY()+1,rdv!$B65&COUNTIF($B$2:B65,B65),"") | B65: =IF(TRDV[[#This Row],[DATE]]=TODAY()+1,TRDV[[#This Row],[coll]],"") | C65: 2 | D65: 44345 | E65: 0.64583333 | F65: Edith | G65: Mme MVONDO | H65: 1111174 | I65: 20

Sheet Philip
B1: coll
B2: Laure
B4: # item | C4: DATE | D4: hr debut rdv | E4: cli | F4: info | G4: # PRESTA
B5: =IFERROR(INDEX(INDIRECT("TRDV['"&B$4&"]"),MATCH($B$2&ROW($A1),TRDV[Index],0)),"") | C5: =IFERROR(INDEX(INDIRECT("TRDV['"&C$4&"]"),MATCH($B$2&ROW($A1),TRDV[Index],0)),"") | D5: =IFERROR(INDEX(INDIRECT("TRDV['"&D$4&"]"),MATCH($B$2&ROW($A1),TRDV[Index],0)),"") | E5: =IFERROR(INDEX(INDIRECT("TRDV['"&E$4&"]"),MATCH($B$2&ROW($A1),TRDV[Index],0)),"") | F5: =IFERROR(INDEX(INDIRECT("TRDV['"&F$4&"]"),MATCH($B$2&ROW($A1),TRDV[Index],0)),"") | G5: =IFERROR(INDEX(INDIRECT("TRDV['"&G$4&"]"),MATCH($B$2&ROW($A1),TRDV[Index],0)),"")
B6: =IFERROR(INDEX(INDIRECT("TRDV['"&$B$4&"]"),MATCH($B$2&ROW($A2),TRDV[Index],0)),"") | C6: =IFERROR(INDEX(INDIRECT("TRDV['"&C$4&"]"),MATCH($B$2&ROW($A2),TRDV[Index],0)),"") | D6: =IFERROR(INDEX(INDIRECT("TRDV['"&D$4&"]"),MATCH($B$2&ROW($A2),TRDV[Index],0)),"") | E6: =IFERROR(INDEX(INDIRECT("TRDV['"&E$4&"]"),MATCH($B$2&ROW($A2),TRDV[Index],0)),"") | F6: =IFERROR(INDEX(INDIRECT("TRDV['"&F$4&"]"),MATCH($B$2&ROW($A2),TRDV[Index],0)),"") | G6: =IFERROR(INDEX(INDIRECT("TRDV['"&G$4&"]"),MATCH($B$2&ROW($A2),TRDV[Index],0)),"")
B7: =IFERROR(INDEX(INDIRECT("TRDV['"&$B$4&"]"),MATCH($B$2&ROW($A3),TRDV[Index],0)),"") | C7: =IFERROR(INDEX(INDIRECT("TRDV['"&C$4&"]"),MATCH($B$2&ROW($A3),TRDV[Index],0)),"") | D7: =IFERROR(INDEX(INDIRECT("TRDV['"&D$4&"]"),MATCH($B$2&ROW($A3),TRDV[Index],0)),"") | E7: =IFERROR(INDEX(INDIRECT("TRDV['"&E$4&"]"),MATCH($B$2&ROW($A3),TRDV[Index],0)),"") | F7: =IFERROR(INDEX(INDIRECT("TRDV['"&F$4&"]"),MATCH($B$2&ROW($A3),TRDV[Index],0)),"") | G7: =IFERROR(INDEX(INDIRECT("TRDV['"&G$4&"]"),MATCH($B$2&ROW($A3),TRDV[Index],0)),"")
B8: =IFERROR(INDEX(INDIRECT("TRDV['"&$B$4&"]"),MATCH($B$2&ROW($A4),TRDV[Index],0)),"") | C8: =IFERROR(INDEX(INDIRECT("TRDV['"&C$4&"]"),MATCH($B$2&ROW($A4),TRDV[Index],0)),"") | D8: =IFERROR(INDEX(INDIRECT("TRDV['"&D$4&"]"),MATCH($B$2&ROW($A4),TRDV[Index],0)),"") | E8: =IFERROR(INDEX(INDIRECT("TRDV['"&E$4&"]"),MATCH($B$2&ROW($A4),TRDV[Index],0)),"") | F8: =IFERROR(INDEX(INDIRECT("TRDV['"&F$4&"]"),MATCH($B$2&ROW($A4),TRDV[Index],0)),"") | G8: =IFERROR(INDEX(INDIRECT("TRDV['"&G$4&"]"),MATCH($B$2&ROW($A4),TRDV[Index],0)),"")
B9: =IFERROR(INDEX(INDIRECT("TRDV['"&$B$4&"]"),MATCH($B$2&ROW($A5),TRDV[Index],0)),"") | C9: =IFERROR(INDEX(INDIRECT("TRDV['"&C$4&"]"),MATCH($B$2&ROW($A5),TRDV[Index],0)),"") | D9: =IFERROR(INDEX(INDIRECT("TRDV['"&D$4&"]"),MATCH($B$2&ROW($A5),TRDV[Index],0)),"") | E9: =IFERROR(INDEX(INDIRECT("TRDV['"&E$4&"]"),MATCH($B$2&ROW($A5),TRDV[Index],0)),"") | F9: =IFERROR(INDEX(INDIRECT("TRDV['"&F$4&"]"),MATCH($B$2&ROW($A5),TRDV[Index],0)),"") | G9: =IFERROR(INDEX(INDIRECT("TRDV['"&G$4&"]"),MATCH($B$2&ROW($A5),TRDV[Index],0)),"")
B10: =IFERROR(INDEX(INDIRECT("TRDV['"&$B$4&"]"),MATCH($B$2&ROW($A6),TRDV[Index],0)),"") | C10: =IFERROR(INDEX(INDIRECT("TRDV['"&C$4&"]"),MATCH($B$2&ROW($A6),TRDV[Index],0)),"") | D10: =IFERROR(INDEX(INDIRECT("TRDV['"&D$4&"]"),MATCH($B$2&ROW($A6),TRDV[Index],0)),"") | E10: =IFERROR(INDEX(INDIRECT("TRDV['"&E$4&"]"),MATCH($B$2&ROW($A6),TRDV[Index],0)),"") | F10: =IFERROR(INDEX(INDIRECT("TRDV['"&F$4&"]"),MATCH($B$2&ROW($A6),TRDV[Index],0)),"") | G10: =IFERROR(INDEX(INDIRECT("TRDV['"&G$4&"]"),MATCH($B$2&ROW($A6),TRDV[Index],0)),"")
B11: =IFERROR(INDEX(INDIRECT("TRDV['"&$B$4&"]"),MATCH($B$2&ROW($A7),TRDV[Index],0)),"") | C11: =IFERROR(INDEX(INDIRECT("TRDV['"&C$4&"]"),MATCH($B$2&ROW($A7),TRDV[Index],0)),"") | D11: =IFERROR(INDEX(INDIRECT("TRDV['"&D$4&"]"),MATCH($B$2&ROW($A7),TRDV[Index],0)),"") | E11: =IFERROR(INDEX(INDIRECT("TRDV['"&E$4&"]"),MATCH($B$2&ROW($A7),TRDV[Index],0)),"") | F11: =IFERROR(INDEX(INDIRECT("TRDV['"&F$4&"]"),MATCH($B$2&ROW($A7),TRDV[Index],0)),"") | G11: =IFERROR(INDEX(INDIRECT("TRDV['"&G$4&"]"),MATCH($B$2&ROW($A7),TRDV[Index],0)),"")
B12: =IFERROR(INDEX(INDIRECT("TRDV['"&$B$4&"]"),MATCH($B$2&ROW($A8),TRDV[Index],0)),"") | C12: =IFERROR(INDEX(INDIRECT("TRDV['"&C$4&"]"),MATCH($B$2&ROW($A8),TRDV[Index],0)),"") | D12: =IFERROR(INDEX(INDIRECT("TRDV['"&D$4&"]"),MATCH($B$2&ROW($A8),TRDV[Index],0)),"") | E12: =IFERROR(INDEX(INDIRECT("TRDV['"&E$4&"]"),MATCH($B$2&ROW($A8),TRDV[Index],0)),"") | F12: =IFERROR(INDEX(INDIRECT("TRDV['"&F$4&"]"),MATCH($B$2&ROW($A8),TRDV[Index],0)),"") | G12: =IFERROR(INDEX(INDIRECT("TRDV['"&G$4&"]"),MATCH($B$2&ROW($A8),TRDV[Index],0)),"")
B13: =IFERROR(INDEX(INDIRECT("TRDV['"&$B$4&"]"),MATCH($B$2&ROW($A9),TRDV[Index],0)),"") | C13: =IFERROR(INDEX(INDIRECT("TRDV['"&C$4&"]"),MATCH($B$2&ROW($A9),TRDV[Index],0)),"") | D13: =IFERROR(INDEX(INDIRECT("TRDV['"&D$4&"]"),MATCH($B$2&ROW($A9),TRDV[Index],0)),"") | E13: =IFERROR(INDEX(INDIRECT("TRDV['"&E$4&"]"),MATCH($B$2&ROW($A9),TRDV[Index],0)),"") | F13: =IFERROR(INDEX(INDIRECT("TRDV['"&F$4&"]"),MATCH($B$2&ROW($A9),TRDV[Index],0)),"") | G13: =IFERROR(INDEX(INDIRECT("TRDV['"&G$4&"]"),MATCH($B$2&ROW($A9),TRDV[Index],0)),"")
B14: =IFERROR(INDEX(INDIRECT("TRDV['"&$B$4&"]"),MATCH($B$2&ROW($A10),TRDV[Index],0)),"") | C14: =IFERROR(INDEX(INDIRECT("TRDV['"&C$4&"]"),MATCH($B$2&ROW($A10),TRDV[Index],0)),"") | D14: =IFERROR(INDEX(INDIRECT("TRDV['"&D$4&"]"),MATCH($B$2&ROW($A10),TRDV[Index],0)),"") | E14: =IFERROR(INDEX(INDIRECT("TRDV['"&E$4&"]"),MATCH($B$2&ROW($A10),TRDV[Index],0)),"") | F14: =IFERROR(INDEX(INDIRECT("TRDV['"&F$4&"]"),MATCH($B$2&ROW($A10),TRDV[Index],0)),"") | G14: =IFERROR(INDEX(INDIRECT("TRDV['"&G$4&"]"),MATCH($B$2&ROW($A10),TRDV[Index],0)),"")
B15: =IFERROR(INDEX(INDIRECT("TRDV['"&$B$4&"]"),MATCH($B$2&ROW($A11),TRDV[Index],0)),"") | C15: =IFERROR(INDEX(INDIRECT("TRDV['"&C$4&"]"),MATCH($B$2&ROW($A11),TRDV[Index],0)),"") | D15: =IFERROR(INDEX(INDIRECT("TRDV['"&D$4&"]"),MATCH($B$2&ROW($A11),TRDV[Index],0)),"") | E15: =IFERROR(INDEX(INDIRECT("TRDV['"&E$4&"]"),MATCH($B$2&ROW($A11),TRDV[Index],0)),"") | F15: =IFERROR(INDEX(INDIRECT("TRDV['"&F$4&"]"),MATCH($B$2&ROW($A11),TRDV[Index],0)),"") | G15: =IFERROR(INDEX(INDIRECT("TRDV['"&G$4&"]"),MATCH($B$2&ROW($A11),TRDV[Index],0)),"")
B16: =IFERROR(INDEX(INDIRECT("TRDV['"&$B$4&"]"),MATCH($B$2&ROW($A12),TRDV[Index],0)),"") | C16: =IFERROR(INDEX(INDIRECT("TRDV['"&C$4&"]"),MATCH($B$2&ROW($A12),TRDV[Index],0)),"") | D16: =IFERROR(INDEX(INDIRECT("TRDV['"&D$4&"]"),MATCH($B$2&ROW($A12),TRDV[Index],0)),"") | E16: =IFERROR(INDEX(INDIRECT("TRDV['"&E$4&"]"),MATCH($B$2&ROW($A12),TRDV[Index],0)),"") | F16: =IFERROR(INDEX(INDIRECT("TRDV['"&F$4&"]"),MATCH($B$2&ROW($A12),TRDV[Index],0)),"") | G16: =IFERROR(INDEX(INDIRECT("TRDV['"&G$4&"]"),MATCH($B$2&ROW($A12),TRDV[Index],0)),"")
B17: =IFERROR(INDEX(INDIRECT("TRDV['"&$B$4&"]"),MATCH($B$2&ROW($A13),TRDV[Index],0)),"") | C17: =IFERROR(INDEX(INDIRECT("TRDV['"&C$4&"]"),MATCH($B$2&ROW($A13),TRDV[Index],0)),"") | D17: =IFERROR(INDEX(INDIRECT("TRDV['"&D$4&"]"),MATCH($B$2&ROW($A13),TRDV[Index],0)),"") | E17: =IFERROR(INDEX(INDIRECT("TRDV['"&E$4&"]"),MATCH($B$2&ROW($A13),TRDV[Index],0)),"") | F17: =IFERROR(INDEX(INDIRECT("TRDV['"&F$4&"]"),MATCH($B$2&ROW($A13),TRDV[Index],0)),"") | G17: =IFERROR(INDEX(INDIRECT("TRDV['"&G$4&"]"),MATCH($B$2&ROW($A13),TRDV[Index],0)),"")
... B22: =IFERROR(INDEX(INDIRECT("TRDV['"&$B$4&"]"),MATCH($B$2&ROW($A18),TRDV[Index],0)),"") | C22: =IFERROR(INDEX(INDIRECT("TRDV['"&C$4&"]"),MATCH($B$2&ROW($A18),TRDV[Index],0)),"") | D22: =IFERROR(INDEX(INDIRECT("TRDV['"&D$4&"]"),MATCH($B$2&ROW($A18),TRDV[Index],0)),"") | E22: =IFERROR(INDEX(INDIRECT("TRDV['"&E$4&"]"),MATCH($B$2&ROW($A18),TRDV[Index],0)),"") | F22: =IFERROR(INDEX(INDIRECT("TRDV['"&F$4&"]"),MATCH($B$2&ROW($A18),TRDV[Index],0)),"") | G22: =IFERROR(INDEX(INDIRECT("TRDV['"&G$4&"]"),MATCH($B$2&ROW($A18),TRDV[Index],0)),"")

Sheet Audrey
B1: coll
B2: Audrey
B4: # item | C4: DATE | D4: hr debut rdv | E4: cli | F4: info | G4: # PRESTA
B5: =IFERROR(INDEX(INDIRECT("TRDV['"&B$4&"]"),MATCH($B$2&ROW($A1),TRDV[Index],0)),"") | C5: =IFERROR(INDEX(INDIRECT("TRDV['"&C$4&"]"),MATCH($B$2&ROW($A1),TRDV[Index],0)),"") | D5: =IFERROR(INDEX(INDIRECT("TRDV['"&D$4&"]"),MATCH($B$2&ROW($A1),TRDV[Index],0)),"") | E5: =IFERROR(INDEX(INDIRECT("TRDV['"&E$4&"]"),MATCH($B$2&ROW($A1),TRDV[Index],0)),"") | F5: =IFERROR(INDEX(INDIRECT("TRDV['"&F$4&"]"),MATCH($B$2&ROW($A1),TRDV[Index],0)),"") | G5: =IFERROR(INDEX(INDIRECT("TRDV['"&G$4&"]"),MATCH($B$2&ROW($A1),TRDV[Index],0)),"")
B6: =IFERROR(INDEX(INDIRECT("TRDV['"&$B$4&"]"),MATCH($B$2&ROW($A2),TRDV[Index],0)),"") | C6: =IFERROR(INDEX(INDIRECT("TRDV['"&C$4&"]"),MATCH($B$2&ROW($A2),TRDV[Index],0)),"") | D6: =IFERROR(INDEX(INDIRECT("TRDV['"&D$4&"]"),MATCH($B$2&ROW($A2),TRDV[Index],0)),"") | E6: =IFERROR(INDEX(INDIRECT("TRDV['"&E$4&"]"),MATCH($B$2&ROW($A2),TRDV[Index],0)),"") | F6: =IFERROR(INDEX(INDIRECT("TRDV['"&F$4&"]"),MATCH($B$2&ROW($A2),TRDV[Index],0)),"") | G6: =IFERROR(INDEX(INDIRECT("TRDV['"&G$4&"]"),MATCH($B$2&ROW($A2),TRDV[Index],0)),"")
B7: =IFERROR(INDEX(INDIRECT("TRDV['"&$B$4&"]"),MATCH($B$2&ROW($A3),TRDV[Index],0)),"") | C7: =IFERROR(INDEX(INDIRECT("TRDV['"&C$4&"]"),MATCH($B$2&ROW($A3),TRDV[Index],0)),"") | D7: =IFERROR(INDEX(INDIRECT("TRDV['"&D$4&"]"),MATCH($B$2&ROW($A3),TRDV[Index],0)),"") | E7: =IFERROR(INDEX(INDIRECT("TRDV['"&E$4&"]"),MATCH($B$2&ROW($A3),TRDV[Index],0)),"") | F7: =IFERROR(INDEX(INDIRECT("TRDV['"&F$4&"]"),MATCH($B$2&ROW($A3),TRDV[Index],0)),"") | G7: =IFERROR(INDEX(INDIRECT("TRDV['"&G$4&"]"),MATCH($B$2&ROW($A3),TRDV[Index],0)),"")
B8: =IFERROR(INDEX(INDIRECT("TRDV['"&$B$4&"]"),MATCH($B$2&ROW($A4),TRDV[Index],0)),"") | C8: =IFERROR(INDEX(INDIRECT("TRDV['"&C$4&"]"),MATCH($B$2&ROW($A4),TRDV[Index],0)),"") | D8: =IFERROR(INDEX(INDIRECT("TRDV['"&D$4&"]"),MATCH($B$2&ROW($A4),TRDV[Index],0)),"") | E8: =IFERROR(INDEX(INDIRECT("TRDV['"&E$4&"]"),MATCH($B$2&ROW($A4),TRDV[Index],0)),"") | F8: =IFERROR(INDEX(INDIRECT("TRDV['"&F$4&"]"),MATCH($B$2&ROW($A4),TRDV[Index],0)),"") | G8: =IFERROR(INDEX(INDIRECT("TRDV['"&G$4&"]"),MATCH($B$2&ROW($A4),TRDV[Index],0)),"")
B9: =IFERROR(INDEX(INDIRECT("TRDV['"&$B$4&"]"),MATCH($B$2&ROW($A5),TRDV[Index],0)),"") | C9: =IFERROR(INDEX(INDIRECT("TRDV['"&C$4&"]"),MATCH($B$2&ROW($A5),TRDV[Index],0)),"") | D9: =IFERROR(INDEX(INDIRECT("TRDV['"&D$4&"]"),MATCH($B$2&ROW($A5),TRDV[Index],0)),"") | E9: =IFERROR(INDEX(INDIRECT("TRDV['"&E$4&"]"),MATCH($B$2&ROW($A5),TRDV[Index],0)),"") | F9: =IFERROR(INDEX(INDIRECT("TRDV['"&F$4&"]"),MATCH($B$2&ROW($A5),TRDV[Index],0)),"") | G9: =IFERROR(INDEX(INDIRECT("TRDV['"&G$4&"]"),MATCH($B$2&ROW($A5),TRDV[Index],0)),"")
B10: =IFERROR(INDEX(INDIRECT("TRDV['"&$B$4&"]"),MATCH($B$2&ROW($A6),TRDV[Index],0)),"") | C10: =IFERROR(INDEX(INDIRECT("TRDV['"&C$4&"]"),MATCH($B$2&ROW($A6),TRDV[Index],0)),"") | D10: =IFERROR(INDEX(INDIRECT("TRDV['"&D$4&"]"),MATCH($B$2&ROW($A6),TRDV[Index],0)),"") | E10: =IFERROR(INDEX(INDIRECT("TRDV['"&E$4&"]"),MATCH($B$2&ROW($A6),TRDV[Index],0)),"") | F10: =IFERROR(INDEX(INDIRECT("TRDV['"&F$4&"]"),MATCH($B$2&ROW($A6),TRDV[Index],0)),"") | G10: =IFERROR(INDEX(INDIRECT("TRDV['"&G$4&"]"),MATCH($B$2&ROW($A6),TRDV[Index],0)),"")
B11: =IFERROR(INDEX(INDIRECT("TRDV['"&$B$4&"]"),MATCH($B$2&ROW($A7),TRDV[Index],0)),"") | C11: =IFERROR(INDEX(INDIRECT("TRDV['"&C$4&"]"),MATCH($B$2&ROW($A7),TRDV[Index],0)),"") | D11: =IFERROR(INDEX(INDIRECT("TRDV['"&D$4&"]"),MATCH($B$2&ROW($A7),TRDV[Index],0)),"") | E11: =IFERROR(INDEX(INDIRECT("TRDV['"&E$4&"]"),MATCH($B$2&ROW($A7),TRDV[Index],0)),"") | F11: =IFERROR(INDEX(INDIRECT("TRDV['"&F$4&"]"),MATCH($B$2&ROW($A7),TRDV[Index],0)),"") | G11: =IFERROR(INDEX(INDIRECT("TRDV['"&G$4&"]"),MATCH($B$2&ROW($A7),TRDV[Index],0)),"")
B12: =IFERROR(INDEX(INDIRECT("TRDV['"&$B$4&"]"),MATCH($B$2&ROW($A8),TRDV[Index],0)),"") | C12: =IFERROR(INDEX(INDIRECT("TRDV['"&C$4&"]"),MATCH($B$2&ROW($A8),TRDV[Index],0)),"") | D12: =IFERROR(INDEX(INDIRECT("TRDV['"&D$4&"]"),MATCH($B$2&ROW($A8),TRDV[Index],0)),"") | E12: =IFERROR(INDEX(INDIRECT("TRDV['"&E$4&"]"),MATCH($B$2&ROW($A8),TRDV[Index],0)),"") | F12: =IFERROR(INDEX(INDIRECT("TRDV['"&F$4&"]"),MATCH($B$2&ROW($A8),TRDV[Index],0)),"") | G12: =IFERROR(INDEX(INDIRECT("TRDV['"&G$4&"]"),MATCH($B$2&ROW($A8),TRDV[Index],0)),"")
B13: =IFERROR(INDEX(INDIRECT("TRDV['"&$B$4&"]"),MATCH($B$2&ROW($A9),TRDV[Index],0)),"") | C13: =IFERROR(INDEX(INDIRECT("TRDV['"&C$4&"]"),MATCH($B$2&ROW($A9),TRDV[Index],0)),"") | D13: =IFERROR(INDEX(INDIRECT("TRDV['"&D$4&"]"),MATCH($B$2&ROW($A9),TRDV[Index],0)),"") | E13: =IFERROR(INDEX(INDIRECT("TRDV['"&E$4&"]"),MATCH($B$2&ROW($A9),TRDV[Index],0)),"") | F13: =IFERROR(INDEX(INDIRECT("TRDV['"&F$4&"]"),MATCH($B$2&ROW($A9),TRDV[Index],0)),"") | G13: =IFERROR(INDEX(INDIRECT("TRDV['"&G$4&"]"),MATCH($B$2&ROW($A9),TRDV[Index],0)),"")
B14: =IFERROR(INDEX(INDIRECT("TRDV['"&$B$4&"]"),MATCH($B$2&ROW($A10),TRDV[Index],0)),"") | C14: =IFERROR(INDEX(INDIRECT("TRDV['"&C$4&"]"),MATCH($B$2&ROW($A10),TRDV[Index],0)),"") | D14: =IFERROR(INDEX(INDIRECT("TRDV['"&D$4&"]"),MATCH($B$2&ROW($A10),TRDV[Index],0)),"") | E14: =IFERROR(INDEX(INDIRECT("TRDV['"&E$4&"]"),MATCH($B$2&ROW($A10),TRDV[Index],0)),"") | F14: =IFERROR(INDEX(INDIRECT("TRDV['"&F$4&"]"),MATCH($B$2&ROW($A10),TRDV[Index],0)),"") | G14: =IFERROR(INDEX(INDIRECT("TRDV['"&G$4&"]"),MATCH($B$2&ROW($A10),TRDV[Index],0)),"")
B15: =IFERROR(INDEX(INDIRECT("TRDV['"&$B$4&"]"),MATCH($B$2&ROW($A11),TRDV[Index],0)),"") | C15: =IFERROR(INDEX(INDIRECT("TRDV['"&C$4&"]"),MATCH($B$2&ROW($A11),TRDV[Index],0)),"") | D15: =IFERROR(INDEX(INDIRECT("TRDV['"&D$4&"]"),MATCH($B$2&ROW($A11),TRDV[Index],0)),"") | E15: =IFERROR(INDEX(INDIRECT("TRDV['"&E$4&"]"),MATCH($B$2&ROW($A11),TRDV[Index],0)),"") | F15: =IFERROR(INDEX(INDIRECT("TRDV['"&F$4&"]"),MATCH($B$2&ROW($A11),TRDV[Index],0)),"") | G15: =IFERROR(INDEX(INDIRECT("TRDV['"&G$4&"]"),MATCH($B$2&ROW($A11),TRDV[Index],0)),"")
B16: =IFERROR(INDEX(INDIRECT("TRDV['"&$B$4&"]"),MATCH($B$2&ROW($A12),TRDV[Index],0)),"") | C16: =IFERROR(INDEX(INDIRECT("TRDV['"&C$4&"]"),MATCH($B$2&ROW($A12),TRDV[Index],0)),"") | D16: =IFERROR(INDEX(INDIRECT("TRDV['"&D$4&"]"),MATCH($B$2&ROW($A12),TRDV[Index],0)),"") | E16: =IFERROR(INDEX(INDIRECT("TRDV['"&E$4&"]"),MATCH($B$2&ROW($A12),TRDV[Index],0)),"") | F16: =IFERROR(INDEX(INDIRECT("TRDV['"&F$4&"]"),MATCH($B$2&ROW($A12),TRDV[Index],0)),"") | G16: =IFERROR(INDEX(INDIRECT("TRDV['"&G$4&"]"),MATCH($B$2&ROW($A12),TRDV[Index],0)),"")
B17: =IFERROR(INDEX(INDIRECT("TRDV['"&$B$4&"]"),MATCH($B$2&ROW($A13),TRDV[Index],0)),"") | C17: =IFERROR(INDEX(INDIRECT("TRDV['"&C$4&"]"),MATCH($B$2&ROW($A13),TRDV[Index],0)),"") | D17: =IFERROR(INDEX(INDIRECT("TRDV['"&D$4&"]"),MATCH($B$2&ROW($A13),TRDV[Index],0)),"") | E17: =IFERROR(INDEX(INDIRECT("TRDV['"&E$4&"]"),MATCH($B$2&ROW($A13),TRDV[Index],0)),"") | F17: =IFERROR(INDEX(INDIRECT("TRDV['"&F$4&"]"),MATCH($B$2&ROW($A13),TRDV[Index],0)),"") | G17: =IFERROR(INDEX(INDIRECT("TRDV['"&G$4&"]"),MATCH($B$2&ROW($A13),TRDV[Index],0)),"")
... B22: =IFERROR(INDEX(INDIRECT("TRDV['"&$B$4&"]"),MATCH($B$2&ROW($A18),TRDV[Index],0)),"") | C22: =IFERROR(INDEX(INDIRECT("TRDV['"&C$4&"]"),MATCH($B$2&ROW($A18),TRDV[Index],0)),"") | D22: =IFERROR(INDEX(INDIRECT("TRDV['"&D$4&"]"),MATCH($B$2&ROW($A18),TRDV[Index],0)),"") | E22: =IFERROR(INDEX(INDIRECT("TRDV['"&E$4&"]"),MATCH($B$2&ROW($A18),TRDV[Index],0)),"") | F22: =IFERROR(INDEX(INDIRECT("TRDV['"&F$4&"]"),MATCH($B$2&ROW($A18),TRDV[Index],0)),"") | G22: =IFERROR(INDEX(INDIRECT("TRDV['"&G$4&"]"),MATCH($B$2&ROW($A18),TRDV[Index],0)),"")

Sheet Carolle
B1: coll
B2: Carolle
B4: # item | C4: DATE | D4: hr debut rdv | E4: cli | F4: info | G4: # PRESTA
B5: =IFERROR(INDEX(INDIRECT("TRDV['"&B$4&"]"),MATCH($B$2&ROW($A1),TRDV[Index],0)),"") | C5: =IFERROR(INDEX(INDIRECT("TRDV['"&C$4&"]"),MATCH($B$2&ROW($A1),TRDV[Index],0)),"") | D5: =IFERROR(INDEX(INDIRECT("TRDV['"&D$4&"]"),MATCH($B$2&ROW($A1),TRDV[Index],0)),"") | E5: =IFERROR(INDEX(INDIRECT("TRDV['"&E$4&"]"),MATCH($B$2&ROW($A1),TRDV[Index],0)),"") | F5: =IFERROR(INDEX(INDIRECT("TRDV['"&F$4&"]"),MATCH($B$2&ROW($A1),TRDV[Index],0)),"") | G5: =IFERROR(INDEX(INDIRECT("TRDV['"&G$4&"]"),MATCH($B$2&ROW($A1),TRDV[Index],0)),"")
B6: =IFERROR(INDEX(INDIRECT("TRDV['"&$B$4&"]"),MATCH($B$2&ROW($A2),TRDV[Index],0)),"") | C6: =IFERROR(INDEX(INDIRECT("TRDV['"&C$4&"]"),MATCH($B$2&ROW($A2),TRDV[Index],0)),"") | D6: =IFERROR(INDEX(INDIRECT("TRDV['"&D$4&"]"),MATCH($B$2&ROW($A2),TRDV[Index],0)),"") | E6: =IFERROR(INDEX(INDIRECT("TRDV['"&E$4&"]"),MATCH($B$2&ROW($A2),TRDV[Index],0)),"") | F6: =IFERROR(INDEX(INDIRECT("TRDV['"&F$4&"]"),MATCH($B$2&ROW($A2),TRDV[Index],0)),"") | G6: =IFERROR(INDEX(INDIRECT("TRDV['"&G$4&"]"),MATCH($B$2&ROW($A2),TRDV[Index],0)),"")
B7: =IFERROR(INDEX(INDIRECT("TRDV['"&$B$4&"]"),MATCH($B$2&ROW($A3),TRDV[Index],0)),"") | C7: =IFERROR(INDEX(INDIRECT("TRDV['"&C$4&"]"),MATCH($B$2&ROW($A3),TRDV[Index],0)),"") | D7: =IFERROR(INDEX(INDIRECT("TRDV['"&D$4&"]"),MATCH($B$2&ROW($A3),TRDV[Index],0)),"") | E7: =IFERROR(INDEX(INDIRECT("TRDV['"&E$4&"]"),MATCH($B$2&ROW($A3),TRDV[Index],0)),"") | F7: =IFERROR(INDEX(INDIRECT("TRDV['"&F$4&"]"),MATCH($B$2&ROW($A3),TRDV[Index],0)),"") | G7: =IFERROR(INDEX(INDIRECT("TRDV['"&G$4&"]"),MATCH($B$2&ROW($A3),TRDV[Index],0)),"")
B8: =IFERROR(INDEX(INDIRECT("TRDV['"&$B$4&"]"),MATCH($B$2&ROW($A4),TRDV[Index],0)),"") | C8: =IFERROR(INDEX(INDIRECT("TRDV['"&C$4&"]"),MATCH($B$2&ROW($A4),TRDV[Index],0)),"") | D8: =IFERROR(INDEX(INDIRECT("TRDV['"&D$4&"]"),MATCH($B$2&ROW($A4),TRDV[Index],0)),"") | E8: =IFERROR(INDEX(INDIRECT("TRDV['"&E$4&"]"),MATCH($B$2&ROW($A4),TRDV[Index],0)),"") | F8: =IFERROR(INDEX(INDIRECT("TRDV['"&F$4&"]"),MATCH($B$2&ROW($A4),TRDV[Index],0)),"") | G8: =IFERROR(INDEX(INDIRECT("TRDV['"&G$4&"]"),MATCH($B$2&ROW($A4),TRDV[Index],0)),"")
B9: =IFERROR(INDEX(INDIRECT("TRDV['"&$B$4&"]"),MATCH($B$2&ROW($A5),TRDV[Index],0)),"") | C9: =IFERROR(INDEX(INDIRECT("TRDV['"&C$4&"]"),MATCH($B$2&ROW($A5),TRDV[Index],0)),"") | D9: =IFERROR(INDEX(INDIRECT("TRDV['"&D$4&"]"),MATCH($B$2&ROW($A5),TRDV[Index],0)),"") | E9: =IFERROR(INDEX(INDIRECT("TRDV['"&E$4&"]"),MATCH($B$2&ROW($A5),TRDV[Index],0)),"") | F9: =IFERROR(INDEX(INDIRECT("TRDV['"&F$4&"]"),MATCH($B$2&ROW($A5),TRDV[Index],0)),"") | G9: =IFERROR(INDEX(INDIRECT("TRDV['"&G$4&"]"),MATCH($B$2&ROW($A5),TRDV[Index],0)),"")
B10: =IFERROR(INDEX(INDIRECT("TRDV['"&$B$4&"]"),MATCH($B$2&ROW($A6),TRDV[Index],0)),"") | C10: =IFERROR(INDEX(INDIRECT("TRDV['"&C$4&"]"),MATCH($B$2&ROW($A6),TRDV[Index],0)),"") | D10: =IFERROR(INDEX(INDIRECT("TRDV['"&D$4&"]"),MATCH($B$2&ROW($A6),TRDV[Index],0)),"") | E10: =IFERROR(INDEX(INDIRECT("TRDV['"&E$4&"]"),MATCH($B$2&ROW($A6),TRDV[Index],0)),"") | F10: =IFERROR(INDEX(INDIRECT("TRDV['"&F$4&"]"),MATCH($B$2&ROW($A6),TRDV[Index],0)),"") | G10: =IFERROR(INDEX(INDIRECT("TRDV['"&G$4&"]"),MATCH($B$2&ROW($A6),TRDV[Index],0)),"")
B11: =IFERROR(INDEX(INDIRECT("TRDV['"&$B$4&"]"),MATCH($B$2&ROW($A7),TRDV[Index],0)),"") | C11: =IFERROR(INDEX(INDIRECT("TRDV['"&C$4&"]"),MATCH($B$2&ROW($A7),TRDV[Index],0)),"") | D11: =IFERROR(INDEX(INDIRECT("TRDV['"&D$4&"]"),MATCH($B$2&ROW($A7),TRDV[Index],0)),"") | E11: =IFERROR(INDEX(INDIRECT("TRDV['"&E$4&"]"),MATCH($B$2&ROW($A7),TRDV[Index],0)),"") | F11: =IFERROR(INDEX(INDIRECT("TRDV['"&F$4&"]"),MATCH($B$2&ROW($A7),TRDV[Index],0)),"") | G11: =IFERROR(INDEX(INDIRECT("TRDV['"&G$4&"]"),MATCH($B$2&ROW($A7),TRDV[Index],0)),"")
B12: =IFERROR(INDEX(INDIRECT("TRDV['"&$B$4&"]"),MATCH($B$2&ROW($A8),TRDV[Index],0)),"") | C12: =IFERROR(INDEX(INDIRECT("TRDV['"&C$4&"]"),MATCH($B$2&ROW($A8),TRDV[Index],0)),"") | D12: =IFERROR(INDEX(INDIRECT("TRDV['"&D$4&"]"),MATCH($B$2&ROW($A8),TRDV[Index],0)),"") | E12: =IFERROR(INDEX(INDIRECT("TRDV['"&E$4&"]"),MATCH($B$2&ROW($A8),TRDV[Index],0)),"") | F12: =IFERROR(INDEX(INDIRECT("TRDV['"&F$4&"]"),MATCH($B$2&ROW($A8),TRDV[Index],0)),"") | G12: =IFERROR(INDEX(INDIRECT("TRDV['"&G$4&"]"),MATCH($B$2&ROW($A8),TRDV[Index],0)),"")
B13: =IFERROR(INDEX(INDIRECT("TRDV['"&$B$4&"]"),MATCH($B$2&ROW($A9),TRDV[Index],0)),"") | C13: =IFERROR(INDEX(INDIRECT("TRDV['"&C$4&"]"),MATCH($B$2&ROW($A9),TRDV[Index],0)),"") | D13: =IFERROR(INDEX(INDIRECT("TRDV['"&D$4&"]"),MATCH($B$2&ROW($A9),TRDV[Index],0)),"") | E13: =IFERROR(INDEX(INDIRECT("TRDV['"&E$4&"]"),MATCH($B$2&ROW($A9),TRDV[Index],0)),"") | F13: =IFERROR(INDEX(INDIRECT("TRDV['"&F$4&"]"),MATCH($B$2&ROW($A9),TRDV[Index],0)),"") | G13: =IFERROR(INDEX(INDIRECT("TRDV['"&G$4&"]"),MATCH($B$2&ROW($A9),TRDV[Index],0)),"")
B14: =IFERROR(INDEX(INDIRECT("TRDV['"&$B$4&"]"),MATCH($B$2&ROW($A10),TRDV[Index],0)),"") | C14: =IFERROR(INDEX(INDIRECT("TRDV['"&C$4&"]"),MATCH($B$2&ROW($A10),TRDV[Index],0)),"") | D14: =IFERROR(INDEX(INDIRECT("TRDV['"&D$4&"]"),MATCH($B$2&ROW($A10),TRDV[Index],0)),"") | E14: =IFERROR(INDEX(INDIRECT("TRDV['"&E$4&"]"),MATCH($B$2&ROW($A10),TRDV[Index],0)),"") | F14: =IFERROR(INDEX(INDIRECT("TRDV['"&F$4&"]"),MATCH($B$2&ROW($A10),TRDV[Index],0)),"") | G14: =IFERROR(INDEX(INDIRECT("TRDV['"&G$4&"]"),MATCH($B$2&ROW($A10),TRDV[Index],0)),"")
B15: =IFERROR(INDEX(INDIRECT("TRDV['"&$B$4&"]"),MATCH($B$2&ROW($A11),TRDV[Index],0)),"") | C15: =IFERROR(INDEX(INDIRECT("TRDV['"&C$4&"]"),MATCH($B$2&ROW($A11),TRDV[Index],0)),"") | D15: =IFERROR(INDEX(INDIRECT("TRDV['"&D$4&"]"),MATCH($B$2&ROW($A11),TRDV[Index],0)),"") | E15: =IFERROR(INDEX(INDIRECT("TRDV['"&E$4&"]"),MATCH($B$2&ROW($A11),TRDV[Index],0)),"") | F15: =IFERROR(INDEX(INDIRECT("TRDV['"&F$4&"]"),MATCH($B$2&ROW($A11),TRDV[Index],0)),"") | G15: =IFERROR(INDEX(INDIRECT("TRDV['"&G$4&"]"),MATCH($B$2&ROW($A11),TRDV[Index],0)),"")
B16: =IFERROR(INDEX(INDIRECT("TRDV['"&$B$4&"]"),MATCH($B$2&ROW($A12),TRDV[Index],0)),"") | C16: =IFERROR(INDEX(INDIRECT("TRDV['"&C$4&"]"),MATCH($B$2&ROW($A12),TRDV[Index],0)),"") | D16: =IFERROR(INDEX(INDIRECT("TRDV['"&D$4&"]"),MATCH($B$2&ROW($A12),TRDV[Index],0)),"") | E16: =IFERROR(INDEX(INDIRECT("TRDV['"&E$4&"]"),MATCH($B$2&ROW($A12),TRDV[Index],0)),"") | F16: =IFERROR(INDEX(INDIRECT("TRDV['"&F$4&"]"),MATCH($B$2&ROW($A12),TRDV[Index],0)),"") | G16: =IFERROR(INDEX(INDIRECT("TRDV['"&G$4&"]"),MATCH($B$2&ROW($A12),TRDV[Index],0)),"")
B17: =IFERROR(INDEX(INDIRECT("TRDV['"&$B$4&"]"),MATCH($B$2&ROW($A13),TRDV[Index],0)),"") | C17: =IFERROR(INDEX(INDIRECT("TRDV['"&C$4&"]"),MATCH($B$2&ROW($A13),TRDV[Index],0)),"") | D17: =IFERROR(INDEX(INDIRECT("TRDV['"&D$4&"]"),MATCH($B$2&ROW($A13),TRDV[Index],0)),"") | E17: =IFERROR(INDEX(INDIRECT("TRDV['"&E$4&"]"),MATCH($B$2&ROW($A13),TRDV[Index],0)),"") | F17: =IFERROR(INDEX(INDIRECT("TRDV['"&F$4&"]"),MATCH($B$2&ROW($A13),TRDV[Index],0)),"") | G17: =IFERROR(INDEX(INDIRECT("TRDV['"&G$4&"]"),MATCH($B$2&ROW($A13),TRDV[Index],0)),"")
... B22: =IFERROR(INDEX(INDIRECT("TRDV['"&$B$4&"]"),MATCH($B$2&ROW($A18),TRDV[Index],0)),"") | C22: =IFERROR(INDEX(INDIRECT("TRDV['"&C$4&"]"),MATCH($B$2&ROW($A18),TRDV[Index],0)),"") | D22: =IFERROR(INDEX(INDIRECT("TRDV['"&D$4&"]"),MATCH($B$2&ROW($A18),TRDV[Index],0)),"") | E22: =IFERROR(INDEX(INDIRECT("TRDV['"&E$4&"]"),MATCH($B$2&ROW($A18),TRDV[Index],0)),"") | F22: =IFERROR(INDEX(INDIRECT("TRDV['"&F$4&"]"),MATCH($B$2&ROW($A18),TRDV[Index],0)),"") | G22: =IFERROR(INDEX(INDIRECT("TRDV['"&G$4&"]"),MATCH($B$2&ROW($A18),TRDV[Index],0)),"")

Sheet Olivier
B1: coll
B2: Philip
B4: # item | C4: DATE | D4: hr debut rdv | E4: cli | F4: info | G4: # PRESTA
B5: =IFERROR(INDEX(INDIRECT("TRDV['"&B$4&"]"),MATCH($B$2&ROW($A1),TRDV[Index],0)),"") | C5: =IFERROR(INDEX(INDIRECT("TRDV['"&C$4&"]"),MATCH($B$2&ROW($A1),TRDV[Index],0)),"") | D5: =IFERROR(INDEX(INDIRECT("TRDV['"&D$4&"]"),MATCH($B$2&ROW($A1),TRDV[Index],0)),"") | E5: =IFERROR(INDEX(INDIRECT("TRDV['"&E$4&"]"),MATCH($B$2&ROW($A1),TRDV[Index],0)),"") | F5: =IFERROR(INDEX(INDIRECT("TRDV['"&F$4&"]"),MATCH($B$2&ROW($A1),TRDV[Index],0)),"") | G5: =IFERROR(INDEX(INDIRECT("TRDV['"&G$4&"]"),MATCH($B$2&ROW($A1),TRDV[Index],0)),"")
B6: =IFERROR(INDEX(INDIRECT("TRDV['"&$B$4&"]"),MATCH($B$2&ROW($A2),TRDV[Index],0)),"") | C6: =IFERROR(INDEX(INDIRECT("TRDV['"&C$4&"]"),MATCH($B$2&ROW($A2),TRDV[Index],0)),"") | D6: =IFERROR(INDEX(INDIRECT("TRDV['"&D$4&"]"),MATCH($B$2&ROW($A2),TRDV[Index],0)),"") | E6: =IFERROR(INDEX(INDIRECT("TRDV['"&E$4&"]"),MATCH($B$2&ROW($A2),TRDV[Index],0)),"") | F6: =IFERROR(INDEX(INDIRECT("TRDV['"&F$4&"]"),MATCH($B$2&ROW($A2),TRDV[Index],0)),"") | G6: =IFERROR(INDEX(INDIRECT("TRDV['"&G$4&"]"),MATCH($B$2&ROW($A2),TRDV[Index],0)),"")
B7: =IFERROR(INDEX(INDIRECT("TRDV['"&$B$4&"]"),MATCH($B$2&ROW($A3),TRDV[Index],0)),"") | C7: =IFERROR(INDEX(INDIRECT("TRDV['"&C$4&"]"),MATCH($B$2&ROW($A3),TRDV[Index],0)),"") | D7: =IFERROR(INDEX(INDIRECT("TRDV['"&D$4&"]"),MATCH($B$2&ROW($A3),TRDV[Index],0)),"") | E7: =IFERROR(INDEX(INDIRECT("TRDV['"&E$4&"]"),MATCH($B$2&ROW($A3),TRDV[Index],0)),"") | F7: =IFERROR(INDEX(INDIRECT("TRDV['"&F$4&"]"),MATCH($B$2&ROW($A3),TRDV[Index],0)),"") | G7: =IFERROR(INDEX(INDIRECT("TRDV['"&G$4&"]"),MATCH($B$2&ROW($A3),TRDV[Index],0)),"")
B8: =IFERROR(INDEX(INDIRECT("TRDV['"&$B$4&"]"),MATCH($B$2&ROW($A4),TRDV[Index],0)),"") | C8: =IFERROR(INDEX(INDIRECT("TRDV['"&C$4&"]"),MATCH($B$2&ROW($A4),TRDV[Index],0)),"") | D8: =IFERROR(INDEX(INDIRECT("TRDV['"&D$4&"]"),MATCH($B$2&ROW($A4),TRDV[Index],0)),"") | E8: =IFERROR(INDEX(INDIRECT("TRDV['"&E$4&"]"),MATCH($B$2&ROW($A4),TRDV[Index],0)),"") | F8: =IFERROR(INDEX(INDIRECT("TRDV['"&F$4&"]"),MATCH($B$2&ROW($A4),TRDV[Index],0)),"") | G8: =IFERROR(INDEX(INDIRECT("TRDV['"&G$4&"]"),MATCH($B$2&ROW($A4),TRDV[Index],0)),"")
B9: =IFERROR(INDEX(INDIRECT("TRDV['"&$B$4&"]"),MATCH($B$2&ROW($A5),TRDV[Index],0)),"") | C9: =IFERROR(INDEX(INDIRECT("TRDV['"&C$4&"]"),MATCH($B$2&ROW($A5),TRDV[Index],0)),"") | D9: =IFERROR(INDEX(INDIRECT("TRDV['"&D$4&"]"),MATCH($B$2&ROW($A5),TRDV[Index],0)),"") | E9: =IFERROR(INDEX(INDIRECT("TRDV['"&E$4&"]"),MATCH($B$2&ROW($A5),TRDV[Index],0)),"") | F9: =IFERROR(INDEX(INDIRECT("TRDV['"&F$4&"]"),MATCH($B$2&ROW($A5),TRDV[Index],0)),"") | G9: =IFERROR(INDEX(INDIRECT("TRDV['"&G$4&"]"),MATCH($B$2&ROW($A5),TRDV[Index],0)),"")
B10: =IFERROR(INDEX(INDIRECT("TRDV['"&$B$4&"]"),MATCH($B$2&ROW($A6),TRDV[Index],0)),"") | C10: =IFERROR(INDEX(INDIRECT("TRDV['"&C$4&"]"),MATCH($B$2&ROW($A6),TRDV[Index],0)),"") | D10: =IFERROR(INDEX(INDIRECT("TRDV['"&D$4&"]"),MATCH($B$2&ROW($A6),TRDV[Index],0)),"") | E10: =IFERROR(INDEX(INDIRECT("TRDV['"&E$4&"]"),MATCH($B$2&ROW($A6),TRDV[Index],0)),"") | F10: =IFERROR(INDEX(INDIRECT("TRDV['"&F$4&"]"),MATCH($B$2&ROW($A6),TRDV[Index],0)),"") | G10: =IFERROR(INDEX(INDIRECT("TRDV['"&G$4&"]"),MATCH($B$2&ROW($A6),TRDV[Index],0)),"")
B11: =IFERROR(INDEX(INDIRECT("TRDV['"&$B$4&"]"),MATCH($B$2&ROW($A7),TRDV[Index],0)),"") | C11: =IFERROR(INDEX(INDIRECT("TRDV['"&C$4&"]"),MATCH($B$2&ROW($A7),TRDV[Index],0)),"") | D11: =IFERROR(INDEX(INDIRECT("TRDV['"&D$4&"]"),MATCH($B$2&ROW($A7),TRDV[Index],0)),"") | E11: =IFERROR(INDEX(INDIRECT("TRDV['"&E$4&"]"),MATCH($B$2&ROW($A7),TRDV[Index],0)),"") | F11: =IFERROR(INDEX(INDIRECT("TRDV['"&F$4&"]"),MATCH($B$2&ROW($A7),TRDV[Index],0)),"") | G11: =IFERROR(INDEX(INDIRECT("TRDV['"&G$4&"]"),MATCH($B$2&ROW($A7),TRDV[Index],0)),"")
B12: =IFERROR(INDEX(INDIRECT("TRDV['"&$B$4&"]"),MATCH($B$2&ROW($A8),TRDV[Index],0)),"") | C12: =IFERROR(INDEX(INDIRECT("TRDV['"&C$4&"]"),MATCH($B$2&ROW($A8),TRDV[Index],0)),"") | D12: =IFERROR(INDEX(INDIRECT("TRDV['"&D$4&"]"),MATCH($B$2&ROW($A8),TRDV[Index],0)),"") | E12: =IFERROR(INDEX(INDIRECT("TRDV['"&E$4&"]"),MATCH($B$2&ROW($A8),TRDV[Index],0)),"") | F12: =IFERROR(INDEX(INDIRECT("TRDV['"&F$4&"]"),MATCH($B$2&ROW($A8),TRDV[Index],0)),"") | G12: =IFERROR(INDEX(INDIRECT("TRDV['"&G$4&"]"),MATCH($B$2&ROW($A8),TRDV[Index],0)),"")
B13: =IFERROR(INDEX(INDIRECT("TRDV['"&$B$4&"]"),MATCH($B$2&ROW($A9),TRDV[Index],0)),"") | C13: =IFERROR(INDEX(INDIRECT("TRDV['"&C$4&"]"),MATCH($B$2&ROW($A9),TRDV[Index],0)),"") | D13: =IFERROR(INDEX(INDIRECT("TRDV['"&D$4&"]"),MATCH($B$2&ROW($A9),TRDV[Index],0)),"") | E13: =IFERROR(INDEX(INDIRECT("TRDV['"&E$4&"]"),MATCH($B$2&ROW($A9),TRDV[Index],0)),"") | F13: =IFERROR(INDEX(INDIRECT("TRDV['"&F$4&"]"),MATCH($B$2&ROW($A9),TRDV[Index],0)),"") | G13: =IFERROR(INDEX(INDIRECT("TRDV['"&G$4&"]"),MATCH($B$2&ROW($A9),TRDV[Index],0)),"")
B14: =IFERROR(INDEX(INDIRECT("TRDV['"&$B$4&"]"),MATCH($B$2&ROW($A10),TRDV[Index],0)),"") | C14: =IFERROR(INDEX(INDIRECT("TRDV['"&C$4&"]"),MATCH($B$2&ROW($A10),TRDV[Index],0)),"") | D14: =IFERROR(INDEX(INDIRECT("TRDV['"&D$4&"]"),MATCH($B$2&ROW($A10),TRDV[Index],0)),"") | E14: =IFERROR(INDEX(INDIRECT("TRDV['"&E$4&"]"),MATCH($B$2&ROW($A10),TRDV[Index],0)),"") | F14: =IFERROR(INDEX(INDIRECT("TRDV['"&F$4&"]"),MATCH($B$2&ROW($A10),TRDV[Index],0)),"") | G14: =IFERROR(INDEX(INDIRECT("TRDV['"&G$4&"]"),MATCH($B$2&ROW($A10),TRDV[Index],0)),"")
B15: =IFERROR(INDEX(INDIRECT("TRDV['"&$B$4&"]"),MATCH($B$2&ROW($A11),TRDV[Index],0)),"") | C15: =IFERROR(INDEX(INDIRECT("TRDV['"&C$4&"]"),MATCH($B$2&ROW($A11),TRDV[Index],0)),"") | D15: =IFERROR(INDEX(INDIRECT("TRDV['"&D$4&"]"),MATCH($B$2&ROW($A11),TRDV[Index],0)),"") | E15: =IFERROR(INDEX(INDIRECT("TRDV['"&E$4&"]"),MATCH($B$2&ROW($A11),TRDV[Index],0)),"") | F15: =IFERROR(INDEX(INDIRECT("TRDV['"&F$4&"]"),MATCH($B$2&ROW($A11),TRDV[Index],0)),"") | G15: =IFERROR(INDEX(INDIRECT("TRDV['"&G$4&"]"),MATCH($B$2&ROW($A11),TRDV[Index],0)),"")
B16: =IFERROR(INDEX(INDIRECT("TRDV['"&$B$4&"]"),MATCH($B$2&ROW($A12),TRDV[Index],0)),"") | C16: =IFERROR(INDEX(INDIRECT("TRDV['"&C$4&"]"),MATCH($B$2&ROW($A12),TRDV[Index],0)),"") | D16: =IFERROR(INDEX(INDIRECT("TRDV['"&D$4&"]"),MATCH($B$2&ROW($A12),TRDV[Index],0)),"") | E16: =IFERROR(INDEX(INDIRECT("TRDV['"&E$4&"]"),MATCH($B$2&ROW($A12),TRDV[Index],0)),"") | F16: =IFERROR(INDEX(INDIRECT("TRDV['"&F$4&"]"),MATCH($B$2&ROW($A12),TRDV[Index],0)),"") | G16: =IFERROR(INDEX(INDIRECT("TRDV['"&G$4&"]"),MATCH($B$2&ROW($A12),TRDV[Index],0)),"")
B17: =IFERROR(INDEX(INDIRECT("TRDV['"&$B$4&"]"),MATCH($B$2&ROW($A13),TRDV[Index],0)),"") | C17: =IFERROR(INDEX(INDIRECT("TRDV['"&C$4&"]"),MATCH($B$2&ROW($A13),TRDV[Index],0)),"") | D17: =IFERROR(INDEX(INDIRECT("TRDV['"&D$4&"]"),MATCH($B$2&ROW($A13),TRDV[Index],0)),"") | E17: =IFERROR(INDEX(INDIRECT("TRDV['"&E$4&"]"),MATCH($B$2&ROW($A13),TRDV[Index],0)),"") | F17: =IFERROR(INDEX(INDIRECT("TRDV['"&F$4&"]"),MATCH($B$2&ROW($A13),TRDV[Index],0)),"") | G17: =IFERROR(INDEX(INDIRECT("TRDV['"&G$4&"]"),MATCH($B$2&ROW($A13),TRDV[Index],0)),"")
... B22: =IFERROR(INDEX(INDIRECT("TRDV['"&$B$4&"]"),MATCH($B$2&ROW($A18),TRDV[Index],0)),"") | C22: =IFERROR(INDEX(INDIRECT("TRDV['"&C$4&"]"),MATCH($B$2&ROW($A18),TRDV[Index],0)),"") | D22: =IFERROR(INDEX(INDIRECT("TRDV['"&D$4&"]"),MATCH($B$2&ROW($A18),TRDV[Index],0)),"") | E22: =IFERROR(INDEX(INDIRECT("TRDV['"&E$4&"]"),MATCH($B$2&ROW($A18),TRDV[Index],0)),"") | F22: =IFERROR(INDEX(INDIRECT("TRDV['"&F$4&"]"),MATCH($B$2&ROW($A18),TRDV[Index],0)),"") | G22: =IFERROR(INDEX(INDIRECT("TRDV['"&G$4&"]"),MATCH($B$2&ROW($A18),TRDV[Index],0)),"")

Sheet Laure
B1: coll
B2: Laure
B4: # item | C4: DATE | D4: hr debut rdv | E4: cli | F4: info | G4: # PRESTA
B5: =IFERROR(INDEX(INDIRECT("TRDV['"&B$4&"]"),MATCH($B$2&ROW($A1),TRDV[Index],0)),"") | C5: =IFERROR(INDEX(INDIRECT("TRDV['"&C$4&"]"),MATCH($B$2&ROW($A1),TRDV[Index],0)),"") | D5: =IFERROR(INDEX(INDIRECT("TRDV['"&D$4&"]"),MATCH($B$2&ROW($A1),TRDV[Index],0)),"") | E5: =IFERROR(INDEX(INDIRECT("TRDV['"&E$4&"]"),MATCH($B$2&ROW($A1),TRDV[Index],0)),"") | F5: =IFERROR(INDEX(INDIRECT("TRDV['"&F$4&"]"),MATCH($B$2&ROW($A1),TRDV[Index],0)),"") | G5: =IFERROR(INDEX(INDIRECT("TRDV['"&G$4&"]"),MATCH($B$2&ROW($A1),TRDV[Index],0)),"")
B6: =IFERROR(INDEX(INDIRECT("TRDV['"&$B$4&"]"),MATCH($B$2&ROW($A2),TRDV[Index],0)),"") | C6: =IFERROR(INDEX(INDIRECT("TRDV['"&C$4&"]"),MATCH($B$2&ROW($A2),TRDV[Index],0)),"") | D6: =IFERROR(INDEX(INDIRECT("TRDV['"&D$4&"]"),MATCH($B$2&ROW($A2),TRDV[Index],0)),"") | E6: =IFERROR(INDEX(INDIRECT("TRDV['"&E$4&"]"),MATCH($B$2&ROW($A2),TRDV[Index],0)),"") | F6: =IFERROR(INDEX(INDIRECT("TRDV['"&F$4&"]"),MATCH($B$2&ROW($A2),TRDV[Index],0)),"") | G6: =IFERROR(INDEX(INDIRECT("TRDV['"&G$4&"]"),MATCH($B$2&ROW($A2),TRDV[Index],0)),"")
B7: =IFERROR(INDEX(INDIRECT("TRDV['"&$B$4&"]"),MATCH($B$2&ROW($A3),TRDV[Index],0)),"") | C7: =IFERROR(INDEX(INDIRECT("TRDV['"&C$4&"]"),MATCH($B$2&ROW($A3),TRDV[Index],0)),"") | D7: =IFERROR(INDEX(INDIRECT("TRDV['"&D$4&"]"),MATCH($B$2&ROW($A3),TRDV[Index],0)),"") | E7: =IFERROR(INDEX(INDIRECT("TRDV['"&E$4&"]"),MATCH($B$2&ROW($A3),TRDV[Index],0)),"") | F7: =IFERROR(INDEX(INDIRECT("TRDV['"&F$4&"]"),MATCH($B$2&ROW($A3),TRDV[Index],0)),"") | G7: =IFERROR(INDEX(INDIRECT("TRDV['"&G$4&"]"),MATCH($B$2&ROW($A3),TRDV[Index],0)),"")
B8: =IFERROR(INDEX(INDIRECT("TRDV['"&$B$4&"]"),MATCH($B$2&ROW($A4),TRDV[Index],0)),"") | C8: =IFERROR(INDEX(INDIRECT("TRDV['"&C$4&"]"),MATCH($B$2&ROW($A4),TRDV[Index],0)),"") | D8: =IFERROR(INDEX(INDIRECT("TRDV['"&D$4&"]"),MATCH($B$2&ROW($A4),TRDV[Index],0)),"") | E8: =IFERROR(INDEX(INDIRECT("TRDV['"&E$4&"]"),MATCH($B$2&ROW($A4),TRDV[Index],0)),"") | F8: =IFERROR(INDEX(INDIRECT("TRDV['"&F$4&"]"),MATCH($B$2&ROW($A4),TRDV[Index],0)),"") | G8: =IFERROR(INDEX(INDIRECT("TRDV['"&G$4&"]"),MATCH($B$2&ROW($A4),TRDV[Index],0)),"")
B9: =IFERROR(INDEX(INDIRECT("TRDV['"&$B$4&"]"),MATCH($B$2&ROW($A5),TRDV[Index],0)),"") | C9: =IFERROR(INDEX(INDIRECT("TRDV['"&C$4&"]"),MATCH($B$2&ROW($A5),TRDV[Index],0)),"") | D9: =IFERROR(INDEX(INDIRECT("TRDV['"&D$4&"]"),MATCH($B$2&ROW($A5),TRDV[Index],0)),"") | E9: =IFERROR(INDEX(INDIRECT("TRDV['"&E$4&"]"),MATCH($B$2&ROW($A5),TRDV[Index],0)),"") | F9: =IFERROR(INDEX(INDIRECT("TRDV['"&F$4&"]"),MATCH($B$2&ROW($A5),TRDV[Index],0)),"") | G9: =IFERROR(INDEX(INDIRECT("TRDV['"&G$4&"]"),MATCH($B$2&ROW($A5),TRDV[Index],0)),"")
B10: =IFERROR(INDEX(INDIRECT("TRDV['"&$B$4&"]"),MATCH($B$2&ROW($A6),TRDV[Index],0)),"") | C10: =IFERROR(INDEX(INDIRECT("TRDV['"&C$4&"]"),MATCH($B$2&ROW($A6),TRDV[Index],0)),"") | D10: =IFERROR(INDEX(INDIRECT("TRDV['"&D$4&"]"),MATCH($B$2&ROW($A6),TRDV[Index],0)),"") | E10: =IFERROR(INDEX(INDIRECT("TRDV['"&E$4&"]"),MATCH($B$2&ROW($A6),TRDV[Index],0)),"") | F10: =IFERROR(INDEX(INDIRECT("TRDV['"&F$4&"]"),MATCH($B$2&ROW($A6),TRDV[Index],0)),"") | G10: =IFERROR(INDEX(INDIRECT("TRDV['"&G$4&"]"),MATCH($B$2&ROW($A6),TRDV[Index],0)),"")
B11: =IFERROR(INDEX(INDIRECT("TRDV['"&$B$4&"]"),MATCH($B$2&ROW($A7),TRDV[Index],0)),"") | C11: =IFERROR(INDEX(INDIRECT("TRDV['"&C$4&"]"),MATCH($B$2&ROW($A7),TRDV[Index],0)),"") | D11: =IFERROR(INDEX(INDIRECT("TRDV['"&D$4&"]"),MATCH($B$2&ROW($A7),TRDV[Index],0)),"") | E11: =IFERROR(INDEX(INDIRECT("TRDV['"&E$4&"]"),MATCH($B$2&ROW($A7),TRDV[Index],0)),"") | F11: =IFERROR(INDEX(INDIRECT("TRDV['"&F$4&"]"),MATCH($B$2&ROW($A7),TRDV[Index],0)),"") | G11: =IFERROR(INDEX(INDIRECT("TRDV['"&G$4&"]"),MATCH($B$2&ROW($A7),TRDV[Index],0)),"")
B12: =IFERROR(INDEX(INDIRECT("TRDV['"&$B$4&"]"),MATCH($B$2&ROW($A8),TRDV[Index],0)),"") | C12: =IFERROR(INDEX(INDIRECT("TRDV['"&C$4&"]"),MATCH($B$2&ROW($A8),TRDV[Index],0)),"") | D12: =IFERROR(INDEX(INDIRECT("TRDV['"&D$4&"]"),MATCH($B$2&ROW($A8),TRDV[Index],0)),"") | E12: =IFERROR(INDEX(INDIRECT("TRDV['"&E$4&"]"),MATCH($B$2&ROW($A8),TRDV[Index],0)),"") | F12: =IFERROR(INDEX(INDIRECT("TRDV['"&F$4&"]"),MATCH($B$2&ROW($A8),TRDV[Index],0)),"") | G12: =IFERROR(INDEX(INDIRECT("TRDV['"&G$4&"]"),MATCH($B$2&ROW($A8),TRDV[Index],0)),"")
B13: =IFERROR(INDEX(INDIRECT("TRDV['"&$B$4&"]"),MATCH($B$2&ROW($A9),TRDV[Index],0)),"") | C13: =IFERROR(INDEX(INDIRECT("TRDV['"&C$4&"]"),MATCH($B$2&ROW($A9),TRDV[Index],0)),"") | D13: =IFERROR(INDEX(INDIRECT("TRDV['"&D$4&"]"),MATCH($B$2&ROW($A9),TRDV[Index],0)),"") | E13: =IFERROR(INDEX(INDIRECT("TRDV['"&E$4&"]"),MATCH($B$2&ROW($A9),TRDV[Index],0)),"") | F13: =IFERROR(INDEX(INDIRECT("TRDV['"&F$4&"]"),MATCH($B$2&ROW($A9),TRDV[Index],0)),"") | G13: =IFERROR(INDEX(INDIRECT("TRDV['"&G$4&"]"),MATCH($B$2&ROW($A9),TRDV[Index],0)),"")
B14: =IFERROR(INDEX(INDIRECT("TRDV['"&$B$4&"]"),MATCH($B$2&ROW($A10),TRDV[Index],0)),"") | C14: =IFERROR(INDEX(INDIRECT("TRDV['"&C$4&"]"),MATCH($B$2&ROW($A10),TRDV[Index],0)),"") | D14: =IFERROR(INDEX(INDIRECT("TRDV['"&D$4&"]"),MATCH($B$2&ROW($A10),TRDV[Index],0)),"") | E14: =IFERROR(INDEX(INDIRECT("TRDV['"&E$4&"]"),MATCH($B$2&ROW($A10),TRDV[Index],0)),"") | F14: =IFERROR(INDEX(INDIRECT("TRDV['"&F$4&"]"),MATCH($B$2&ROW($A10),TRDV[Index],0)),"") | G14: =IFERROR(INDEX(INDIRECT("TRDV['"&G$4&"]"),MATCH($B$2&ROW($A10),TRDV[Index],0)),"")
B15: =IFERROR(INDEX(INDIRECT("TRDV['"&$B$4&"]"),MATCH($B$2&ROW($A11),TRDV[Index],0)),"") | C15: =IFERROR(INDEX(INDIRECT("TRDV['"&C$4&"]"),MATCH($B$2&ROW($A11),TRDV[Index],0)),"") | D15: =IFERROR(INDEX(INDIRECT("TRDV['"&D$4&"]"),MATCH($B$2&ROW($A11),TRDV[Index],0)),"") | E15: =IFERROR(INDEX(INDIRECT("TRDV['"&E$4&"]"),MATCH($B$2&ROW($A11),TRDV[Index],0)),"") | F15: =IFERROR(INDEX(INDIRECT("TRDV['"&F$4&"]"),MATCH($B$2&ROW($A11),TRDV[Index],0)),"") | G15: =IFERROR(INDEX(INDIRECT("TRDV['"&G$4&"]"),MATCH($B$2&ROW($A11),TRDV[Index],0)),"")
B16: =IFERROR(INDEX(INDIRECT("TRDV['"&$B$4&"]"),MATCH($B$2&ROW($A12),TRDV[Index],0)),"") | C16: =IFERROR(INDEX(INDIRECT("TRDV['"&C$4&"]"),MATCH($B$2&ROW($A12),TRDV[Index],0)),"") | D16: =IFERROR(INDEX(INDIRECT("TRDV['"&D$4&"]"),MATCH($B$2&ROW($A12),TRDV[Index],0)),"") | E16: =IFERROR(INDEX(INDIRECT("TRDV['"&E$4&"]"),MATCH($B$2&ROW($A12),TRDV[Index],0)),"") | F16: =IFERROR(INDEX(INDIRECT("TRDV['"&F$4&"]"),MATCH($B$2&ROW($A12),TRDV[Index],0)),"") | G16: =IFERROR(INDEX(INDIRECT("TRDV['"&G$4&"]"),MATCH($B$2&ROW($A12),TRDV[Index],0)),"")
B17: =IFERROR(INDEX(INDIRECT("TRDV['"&$B$4&"]"),MATCH($B$2&ROW($A13),TRDV[Index],0)),"") | C17: =IFERROR(INDEX(INDIRECT("TRDV['"&C$4&"]"),MATCH($B$2&ROW($A13),TRDV[Index],0)),"") | D17: =IFERROR(INDEX(INDIRECT("TRDV['"&D$4&"]"),MATCH($B$2&ROW($A13),TRDV[Index],0)),"") | E17: =IFERROR(INDEX(INDIRECT("TRDV['"&E$4&"]"),MATCH($B$2&ROW($A13),TRDV[Index],0)),"") | F17: =IFERROR(INDEX(INDIRECT("TRDV['"&F$4&"]"),MATCH($B$2&ROW($A13),TRDV[Index],0)),"") | G17: =IFERROR(INDEX(INDIRECT("TRDV['"&G$4&"]"),MATCH($B$2&ROW($A13),TRDV[Index],0)),"")
... B22: =IFERROR(INDEX(INDIRECT("TRDV['"&$B$4&"]"),MATCH($B$2&ROW($A18),TRDV[Index],0)),"") | C22: =IFERROR(INDEX(INDIRECT("TRDV['"&C$4&"]"),MATCH($B$2&ROW($A18),TRDV[Index],0)),"") | D22: =IFERROR(INDEX(INDIRECT("TRDV['"&D$4&"]"),MATCH($B$2&ROW($A18),TRDV[Index],0)),"") | E22: =IFERROR(INDEX(INDIRECT("TRDV['"&E$4&"]"),MATCH($B$2&ROW($A18),TRDV[Index],0)),"") | F22: =IFERROR(INDEX(INDIRECT("TRDV['"&F$4&"]"),MATCH($B$2&ROW($A18),TRDV[Index],0)),"") | G22: =IFERROR(INDEX(INDIRECT("TRDV['"&G$4&"]"),MATCH($B$2&ROW($A18),TRDV[Index],0)),"")

Sheet Paramètres
B2: Coll
B3: {=IFERROR(INDEX(rdv!$F$2:$F$65,MATCH(0,COUNTIF(rdv!$F$2:$F$65,"<"&rdv!$F$2:$F$65)-SUM(COUNTIF($B$2:B2,rdv!$F$2:$F$65)),0)),"")} -> Abel
B4: {=IFERROR(INDEX(rdv!$F$2:$F$65,MATCH(0,COUNTIF(rdv!$F$2:$F$65,"<"&rdv!$F$2:$F$65)-SUM(COUNTIF($B$2:B3,rdv!$F$2:$F$65)),0)),"")} -> Audrey
B5: {=IFERROR(INDEX(rdv!$F$2:$F$28,MATCH(0,COUNTIF(rdv!$F$2:$F$28,"<"&rdv!$F$2:$F$28)-SUM(COUNTIF($B$2:B4,rdv!$F$2:$F$28)),0)),"")} -> Carolle
B6: {=IFERROR(INDEX(rdv!$F$2:$F$28,MATCH(0,COUNTIF(rdv!$F$2:$F$28,"<"&rdv!$F$2:$F$28)-SUM(COUNTIF($B$2:B5,rdv!$F$2:$F$28)),0)),"")} -> Clovis
B7: {=IFERROR(INDEX(rdv!$F$2:$F$28,MATCH(0,COUNTIF(rdv!$F$2:$F$28,"<"&rdv!$F$2:$F$28)-SUM(COUNTIF($B$2:B6,rdv!$F$2:$F$28)),0)),"")} -> Glory
B8: {=IFERROR(INDEX(rdv!$F$2:$F$28,MATCH(0,COUNTIF(rdv!$F$2:$F$28,"<"&rdv!$F$2:$F$28)-SUM(COUNTIF($B$2:B7,rdv!$F$2:$F$28)),0)),"")} -> Laure
B9: {=IFERROR(INDEX(rdv!$F$2:$F$28,MATCH(0,COUNTIF(rdv!$F$2:$F$28,"<"&rdv!$F$2:$F$28)-SUM(COUNTIF($B$2:B8,rdv!$F$2:$F$28)),0)),"")} -> Olivier
B10: {=IFERROR(INDEX(rdv!$F$2:$F$28,MATCH(0,COUNTIF(rdv!$F$2:$F$28,"<"&rdv!$F$2:$F$28)-SUM(COUNTIF($B$2:B9,rdv!$F$2:$F$28)),0)),"")} -> Philip
B11: {=IFERROR(INDEX(rdv!$F$2:$F$28,MATCH(0,COUNTIF(rdv!$F$2:$F$28,"<"&rdv!$F$2:$F$28)-SUM(COUNTIF($B$2:B10,rdv!$F$2:$F$28)),0)),"")}
B12: {=IFERROR(INDEX(rdv!$F$2:$F$28,MATCH(0,COUNTIF(rdv!$F$2:$F$28,"<"&rdv!$F$2:$F$28)-SUM(COUNTIF($B$2:B11,rdv!$F$2:$F$28)),0)),"")}
B13: {=IFERROR(INDEX(rdv!$F$2:$F$28,MATCH(0,COUNTIF(rdv!$F$2:$F$28,"<"&rdv!$F$2:$F$28)-SUM(COUNTIF($B$2:B12,rdv!$F$2:$F$28)),0)),"")}
B14: {=IFERROR(INDEX(rdv!$F$2:$F$28,MATCH(0,COUNTIF(rdv!$F$2:$F$28,"<"&rdv!$F$2:$F$28)-SUM(COUNTIF($B$2:B13,rdv!$F$2:$F$28)),0)),"")}
B15: {=IFERROR(INDEX(rdv!$F$2:$F$28,MATCH(0,COUNTIF(rdv!$F$2:$F$28,"<"&rdv!$F$2:$F$28)-SUM(COUNTIF($B$2:B14,rdv!$F$2:$F$28)),0)),"")}
B16: {=IFERROR(INDEX(rdv!$F$2:$F$28,MATCH(0,COUNTIF(rdv!$F$2:$F$28,"<"&rdv!$F$2:$F$28)-SUM(COUNTIF($B$2:B15,rdv!$F$2:$F$28)),0)),"")}
... B21: {=IFERROR(INDEX(rdv!$F$2:$F$28,MATCH(0,COUNTIF(rdv!$F$2:$F$28,"<"&rdv!$F$2:$F$28)-SUM(COUNTIF($B$2:B20,rdv!$F$2:$F$28)),0)),"")}

Sheet CLIENTS
C5: Mme FANG Lucy | D5: 1111
C6: Mme FANG Lucy | D6: 1112
C7: Mme MBIDA Reine | D7: 1113
C8: Mme GAELLE | D8: 1114
C9: Mme GAELLE | D9: 1115
C10: Mme PION | D10: 1111111
C11: Mme PION | D11: 1111112
C12: Mme MOKOSSO | D12: 1111113
C13: Mme BINDZI Nathal | D13: 1111114
C14: Mme BINDZI Nathalie | D14: 1111115
C15: Mme NGOMBA Clotilde | D15: 1111116
C16: Mme NGOMBA Clotilde | D16: 1111117
... C73: Mme MVONDO | D73: 1111174
