Workbook

Sheet rdv
A1: # item | B1: DATE | C1: hr debut rdv | D1: coll | E1: cli | F1: info | G1: # PRESTA
A2: 1 | B2: 44304 | C2: 0.54166667 | D2: Laure | E2: Mme OMGBA Simone | F2: 1111111 | G2: 13
A3: 1 | B3: 44304 | C3: 0.75 | D3: Laure | E3: Mme MEBA | F3: 1111111 | G3: 13
A4: 1 | B4: 44305 | C4: 0.66666667 | D4: Philip | E4: Mme TATCHOU Carine | F4: 1111111 | G4: 13
A5: 2 | B5: 44305 | C5: 0.66666667 | D5: Clovis | E5: Mme TATCHOU Carine | F5: 1111111 | G5: 12
A6: 1 | B6: 44306 | C6: 0.66666667 | D6: Audrey | E6: Mme CHOUKER Yasmine | F6: 1111111 | G6: 13
A7: 1 | B7: 44307 | C7: 0.375 | D7: Philip | E7: Mme KPODAR | F7: 1111111 | G7: 13
A8: 2 | B8: 44307 | C8: 0.375 | D8: Carolle | E8: Mme KPODAR | F8: 1111111 | G8: 20
A9: 1 | B9: 44307 | C9: 0.45833333 | D9: Philip | E9: Mme LUMA | F9: 1111111 | G9: 13
A10: 2 | B10: 44307 | C10: 0.45833333 | D10: Olivier | E10: Mme LUMA | F10: 1111111 | G10: 23
A11: 1 | B11: 44307 | C11: 0.66666667 | D11: Philip | E11: Mme EKANGA Julie | F11: 1111111 | G11: 13
A12: 1 | B12: 44308 | C12: 0.375 | D12: Philip | E12: Mme NGOMA Yasmine | F12: 1111111 | G12: 13
A13: 2 | B13: 44308 | C13: 0.375 | D13: Olivier | E13: Mme NGOMA Yasmine | F13: 1111111 | G13: 12
... A28: 1 | B28: 44312 | C28: 0.45833333 | D28: Philip | E28: Mme MVOM Ornella | F28: 1111111 | G28: 13

Sheet Philip
A1: # item | B1: DATE | C1: hr debut rdv | D1: coll | E1: cli | F1: info | G1: # PRESTA | K1: Philip | M1: =TODAY() -> 44304 | N1: =M1+1 -> 44305
A2: =INDEX(rdv!A$2:G$28,MATCH(K$1,rdv!D$2:D28,0),1) -> 1 | B2: =INDEX(rdv!A2:G28,MATCH(K$1,rdv!D$2:D$28,0),2) -> 44305 | C2: =INDEX(rdv!A2:G28,MATCH(K$1,rdv!D$2:D$28,0),3) -> 0.66666667 | E2: =INDEX(rdv!A2:G28,MATCH(K$1,rdv!D$2:D$28,0),5) -> Mme TATCHOU Carine | F2: =INDEX(rdv!A2:G28,MATCH(K$1,rdv!D$2:D$28,0),6) -> 1111111 | G2: =INDEX(rdv!A2:G28,MATCH(K$1,rdv!D$2:D$28,0),7) -> 13
A3: =INDEX(rdv!A$2:G$28,MATCH(K$1,rdv!D$2:D29,0),1) -> 1 | B3: =INDEX(rdv!A3:G29,MATCH(K$1,rdv!D$2:D$28,0),2) -> 44305 | C3: =INDEX(rdv!A3:G29,MATCH(K$1,rdv!D$2:D$28,0),3) -> 0.66666667 | E3: =INDEX(rdv!A3:G29,MATCH(K$1,rdv!D$2:D$28,0),5) -> Mme TATCHOU Carine | F3: =INDEX(rdv!A3:G29,MATCH(K$1,rdv!D$2:D$28,0),6) -> 1111111 | G3: =INDEX(rdv!A3:G29,MATCH(K$1,rdv!D$2:D$28,0),7) -> 12
A4: =INDEX(rdv!A$2:G$28,MATCH(K$1,rdv!D$2:D30,0),1) -> 1 | B4: =INDEX(rdv!A4:G30,MATCH(K$1,rdv!D$2:D$28,0),2) -> 44306 | C4: =INDEX(rdv!A4:G30,MATCH(K$1,rdv!D$2:D$28,0),3) -> 0.66666667 | E4: =INDEX(rdv!A4:G30,MATCH(K$1,rdv!D$2:D$28,0),5) -> Mme CHOUKER Yasmine | F4: =INDEX(rdv!A4:G30,MATCH(K$1,rdv!D$2:D$28,0),6) -> 1111111 | G4: =INDEX(rdv!A4:G30,MATCH(K$1,rdv!D$2:D$28,0),7) -> 13 | R4: Philip
A5: =INDEX(rdv!A$2:G$28,MATCH(K$1,rdv!D$2:D31,0),1) -> 1 | B5: =INDEX(rdv!A5:G31,MATCH(K$1,rdv!D$2:D$28,0),2) -> 44307 | C5: =INDEX(rdv!A5:G31,MATCH(K$1,rdv!D$2:D$28,0),3) -> 0.375 | E5: =INDEX(rdv!A5:G31,MATCH(K$1,rdv!D$2:D$28,0),5) -> Mme KPODAR | F5: =INDEX(rdv!A5:G31,MATCH(K$1,rdv!D$2:D$28,0),6) -> 1111111 | G5: =INDEX(rdv!A5:G31,MATCH(K$1,rdv!D$2:D$28,0),7) -> 13 | R5: Laure
A6: =INDEX(rdv!A$2:G$28,MATCH(K$1,rdv!D$2:D32,0),1) -> 1 | B6: =INDEX(rdv!A6:G32,MATCH(K$1,rdv!D$2:D$28,0),2) -> 44307 | C6: =INDEX(rdv!A6:G32,MATCH(K$1,rdv!D$2:D$28,0),3) -> 0.375 | E6: =INDEX(rdv!A6:G32,MATCH(K$1,rdv!D$2:D$28,0),5) -> Mme KPODAR | F6: =INDEX(rdv!A6:G32,MATCH(K$1,rdv!D$2:D$28,0),6) -> 1111111 | G6: =INDEX(rdv!A6:G32,MATCH(K$1,rdv!D$2:D$28,0),7) -> 20
A7: =INDEX(rdv!A$2:G$28,MATCH(K$1,rdv!D$2:D33,0),1) -> 1 | B7: =INDEX(rdv!A7:G33,MATCH(K$1,rdv!D$2:D$28,0),2) -> 44307 | C7: =INDEX(rdv!A7:G33,MATCH(K$1,rdv!D$2:D$28,0),3) -> 0.45833333 | E7: =INDEX(rdv!A7:G33,MATCH(K$1,rdv!D$2:D$28,0),5) -> Mme LUMA | F7: =INDEX(rdv!A7:G33,MATCH(K$1,rdv!D$2:D$28,0),6) -> 1111111 | G7: =INDEX(rdv!A7:G33,MATCH(K$1,rdv!D$2:D$28,0),7) -> 13
A8: =INDEX(rdv!A$2:G$28,MATCH(K$1,rdv!D$2:D34,0),1) -> 1 | B8: =INDEX(rdv!A8:G34,MATCH(K$1,rdv!D$2:D$28,0),2) -> 44307 | C8: =INDEX(rdv!A8:G34,MATCH(K$1,rdv!D$2:D$28,0),3) -> 0.45833333 | E8: =INDEX(rdv!A8:G34,MATCH(K$1,rdv!D$2:D$28,0),5) -> Mme LUMA | F8: =INDEX(rdv!A8:G34,MATCH(K$1,rdv!D$2:D$28,0),6) -> 1111111 | G8: =INDEX(rdv!A8:G34,MATCH(K$1,rdv!D$2:D$28,0),7) -> 23
A9: =INDEX(rdv!A$2:G$28,MATCH(K$1,rdv!D$2:D35,0),1) -> 1 | B9: =INDEX(rdv!A9:G35,MATCH(K$1,rdv!D$2:D$28,0),2) -> 44307 | C9: =INDEX(rdv!A9:G35,MATCH(K$1,rdv!D$2:D$28,0),3) -> 0.66666667 | E9: =INDEX(rdv!A9:G35,MATCH(K$1,rdv!D$2:D$28,0),5) -> Mme EKANGA Julie | F9: =INDEX(rdv!A9:G35,MATCH(K$1,rdv!D$2:D$28,0),6) -> 1111111 | G9: =INDEX(rdv!A9:G35,MATCH(K$1,rdv!D$2:D$28,0),7) -> 13
A10: =INDEX(rdv!A$2:G$28,MATCH(K$1,rdv!D$2:D36,0),1) -> 1 | B10: =INDEX(rdv!A10:G36,MATCH(K$1,rdv!D$2:D$28,0),2) -> 44308 | C10: =INDEX(rdv!A10:G36,MATCH(K$1,rdv!D$2:D$28,0),3) -> 0.375 | E10: =INDEX(rdv!A10:G36,MATCH(K$1,rdv!D$2:D$28,0),5) -> Mme NGOMA Yasmine | F10: =INDEX(rdv!A10:G36,MATCH(K$1,rdv!D$2:D$28,0),6) -> 1111111 | G10: =INDEX(rdv!A10:G36,MATCH(K$1,rdv!D$2:D$28,0),7) -> 13
A11: =INDEX(rdv!A$2:G$28,MATCH(K$1,rdv!D$2:D37,0),1) -> 1 | B11: =INDEX(rdv!A11:G37,MATCH(K$1,rdv!D$2:D$28,0),2) -> 44308 | C11: =INDEX(rdv!A11:G37,MATCH(K$1,rdv!D$2:D$28,0),3) -> 0.375 | E11: =INDEX(rdv!A11:G37,MATCH(K$1,rdv!D$2:D$28,0),5) -> Mme NGOMA Yasmine | F11: =INDEX(rdv!A11:G37,MATCH(K$1,rdv!D$2:D$28,0),6) -> 1111111 | G11: =INDEX(rdv!A11:G37,MATCH(K$1,rdv!D$2:D$28,0),7) -> 12
A12: =INDEX(rdv!A$2:G$28,MATCH(K$1,rdv!D$2:D38,0),1) -> 1 | B12: =INDEX(rdv!A12:G38,MATCH(K$1,rdv!D$2:D$28,0),2) -> 44308 | C12: =INDEX(rdv!A12:G38,MATCH(K$1,rdv!D$2:D$28,0),3) -> 0.54166667 | E12: =INDEX(rdv!A12:G38,MATCH(K$1,rdv!D$2:D$28,0),5) -> Mme CALISTA | F12: =INDEX(rdv!A12:G38,MATCH(K$1,rdv!D$2:D$28,0),6) -> 1111111 | G12: =INDEX(rdv!A12:G38,MATCH(K$1,rdv!D$2:D$28,0),7) -> 13
A13: =INDEX(rdv!A$2:G$28,MATCH(K$1,rdv!D$2:D39,0),1) -> 1 | B13: =INDEX(rdv!A13:G39,MATCH(K$1,rdv!D$2:D$28,0),2) -> 44308 | C13: =INDEX(rdv!A13:G39,MATCH(K$1,rdv!D$2:D$28,0),3) -> 0.54166667 | E13: =INDEX(rdv!A13:G39,MATCH(K$1,rdv!D$2:D$28,0),5) -> Mme CALISTA | F13: =INDEX(rdv!A13:G39,MATCH(K$1,rdv!D$2:D$28,0),6) -> 1111111 | G13: =INDEX(rdv!A13:G39,MATCH(K$1,rdv!D$2:D$28,0),7) -> 12
A14: =INDEX(rdv!A$2:G$28,MATCH(K$1,rdv!D$2:D40,0),1) -> 1 | B14: =INDEX(rdv!A14:G40,MATCH(K$1,rdv!D$2:D$28,0),2) -> 44309 | C14: =INDEX(rdv!A14:G40,MATCH(K$1,rdv!D$2:D$28,0),3) -> 0.3125 | E14: =INDEX(rdv!A14:G40,MATCH(K$1,rdv!D$2:D$28,0),5) -> Mme TEKOUTOU | F14: =INDEX(rdv!A14:G40,MATCH(K$1,rdv!D$2:D$28,0),6) -> 1111111 | G14: =INDEX(rdv!A14:G40,MATCH(K$1,rdv!D$2:D$28,0),7) -> 13
A15: =INDEX(rdv!A$2:G$28,MATCH(K$1,rdv!D$2:D41,0),1) -> 1 | B15: =INDEX(rdv!A15:G41,MATCH(K$1,rdv!D$2:D$28,0),2) -> 44309 | C15: =INDEX(rdv!A15:G41,MATCH(K$1,rdv!D$2:D$28,0),3) -> 0.3125 | E15: =INDEX(rdv!A15:G41,MATCH(K$1,rdv!D$2:D$28,0),5) -> Mme TEKOUTOU | F15: =INDEX(rdv!A15:G41,MATCH(K$1,rdv!D$2:D$28,0),6) -> 1111111 | G15: =INDEX(rdv!A15:G41,MATCH(K$1,rdv!D$2:D$28,0),7) -> 12
A16: =INDEX(rdv!A$2:G$28,MATCH(K$1,rdv!D$2:D42,0),1) -> 1 | B16: =INDEX(rdv!A16:G42,MATCH(K$1,rdv!D$2:D$28,0),2) -> 44309 | C16: =INDEX(rdv!A16:G42,MATCH(K$1,rdv!D$2:D$28,0),3) -> 0.375 | E16: =INDEX(rdv!A16:G42,MATCH(K$1,rdv!D$2:D$28,0),5) -> Mme BEMBE | F16: =INDEX(rdv!A16:G42,MATCH(K$1,rdv!D$2:D$28,0),6) -> 1111111 | G16: =INDEX(rdv!A16:G42,MATCH(K$1,rdv!D$2:D$28,0),7) -> 13
A17: =INDEX(rdv!A$2:G$28,MATCH(K$1,rdv!D$2:D43,0),1) -> 1 | B17: =INDEX(rdv!A17:G43,MATCH(K$1,rdv!D$2:D$28,0),2) -> 44309 | C17: =INDEX(rdv!A17:G43,MATCH(K$1,rdv!D$2:D$28,0),3) -> 0.54166667 | E17: =INDEX(rdv!A17:G43,MATCH(K$1,rdv!D$2:D$28,0),5) -> Mme PEREM Patricia | F17: =INDEX(rdv!A17:G43,MATCH(K$1,rdv!D$2:D$28,0),6) -> 1111111 | G17: =INDEX(rdv!A17:G43,MATCH(K$1,rdv!D$2:D$28,0),7) -> 13
... A34: =INDEX(rdv!A$2:G$28,MATCH(K$1,rdv!D$2:D60,0),1) -> 1 | B34: =INDEX(rdv!A34:G60,MATCH(K$1,rdv!D$2:D$28,0),2) -> 0 | C34: =INDEX(rdv!A34:G60,MATCH(K$1,rdv!D$2:D$28,0),3) -> 0 | E34: =INDEX(rdv!A34:G60,MATCH(K$1,rdv!D$2:D$28,0),5) -> 0 | F34: =INDEX(rdv!A34:G60,MATCH(K$1,rdv!D$2:D$28,0),6) -> 0 | G34: =INDEX(rdv!A34:G60,MATCH(K$1,rdv!D$2:D$28,0),7) -> 0
F35: =INDEX(rdv!A35:G61,MATCH(K$1,rdv!D$2:D$28,0),6) -> 0

Sheet Laure
A1: # item | B1: DATE | C1: hr debut rdv | D1: coll | E1: cli | F1: info | G1: # PRESTA
